{"text_format":"1","workbook":"xlsx","n_sheets":34,"sheets":["SlowestTime+5SecPenaltyType","Time Entry Sheet","Competitors","Print_Test 1","Print_Test 2","Print_Test 3","Print_Test 4","Print_Test 5","Print_Test 6","Print_Test 7","Print_Test 8","Print_Test 9","Print_Test 10","Print_Test 11","Print_Test 12","Print_Test 13","Print_Test 14","Print_Test 15","Test 1","Test 2","Test 3","Test 4","Test 5","Test 6","Test 7","Test 8","Test 9","Test 10","Test 11","Test 12","Test 13","Test 14","Test 15","Pivots"],"not_rendered":{"charts":0,"images":7,"macros":1,"external_links":0,"defined_names":62,"comments":0,"pivot_tables":15},"unopened":[],"bounds":{"document_bytes":16777216,"sheet_cells":100000,"rows_first":2000,"rows_last":500,"rows_between":2000,"halvings":0,"cell_chars":16384,"cell_head_chars":4096},"cells_cut":0,"cells_raw":0,"read":"whole","date_system":"1900"}

{"sheet":"SlowestTime+5SecPenaltyType","index":0,"n_rows":8,"n_cols":1,"rows_kept":8,"cut":false,"hidden":false,"merged":[]}
["Crossing of finish line other than between the 2 front markers of the finish garage (unless ≥1 flag displaced)"]
["Wrong direction, any procedure other than that specified as the correct procedure for completing that course "]
["Failure to complete a test "]
["Running out of order without the prior approval of the Clerk of the Course"]
["Reversing after crossing the designated finish line"]
["Failing to stop at a mid course garage "]
["Failing to stop completely at the finish of a course "]
["Finishing a course with the car stopped but completely outside the garage "]

{"sheet":"Time Entry Sheet","index":1,"n_rows":499,"n_cols":9,"rows_kept":499,"cut":false,"hidden":false,"merged":[[0,3,0,5]]}
[null,null,null,"Time Taken"]
["Unique ID","Test Number","Car No","Min","Sec.00","wd","Slowest time + 5 sec penalty type","No of flags or finish partly out of garage (5 sec penalty)","Stage Time (min:sec)"]
[{"$f":"B3&\"_\"&C3","v":"1_11"},1,11,null,53.95,null,null,1,{"$f":"IF(B3=\"\",\"\",IF(F3=\"wd\",\"wd\",(IF(D3=\"\",0,D3)&\":\"&TEXT(E3,\"#0.00\"))))","v":"0:53.95"}]
[{"$f":"B4&\"_\"&C4","v":"1_15"},1,15,null,59.02,null,null,null,{"$f":"IF(B4=\"\",\"\",IF(F4=\"wd\",\"wd\",(IF(D4=\"\",0,D4)&\":\"&TEXT(E4,\"#0.00\"))))","v":"0:59.02"}]
["1_8",1,8,1,3.68,null,null,null,"1:3.68"]
["1_3",1,3,null,53.84,null,null,null,"0:53.84"]
["1_6",1,6,1,3.65,null,null,null,"1:3.65"]
["1_19",1,19,null,53.62,null,null,null,"0:53.62"]
["1_20",1,20,null,55.91,null,null,null,"0:55.91"]
["1_2",1,2,null,49.83,null,null,1,"0:49.83"]
["1_16",1,16,null,49.85,null,null,1,"0:49.85"]
["1_14",1,14,null,53.48,null,null,null,"0:53.48"]
["1_5",1,5,null,59.3,null,null,null,"0:59.30"]
["1_10",1,10,null,57.14,null,null,null,"0:57.14"]
["1_17",1,17,null,49.62,null,null,null,"0:49.62"]
["1_13",1,13,1,24.04,null,null,null,"1:24.04"]
["1_18",1,18,1,6.62,null,null,null,"1:6.62"]
["1_4",1,4,1,10.9,null,null,null,"1:10.90"]
["1_1",1,1,null,50.78,null,null,null,"0:50.78"]
["1_9",1,9,null,54.44,null,null,null,"0:54.44"]
["1_12",1,12,null,54.97,null,null,null,"0:54.97"]
["2_11",2,11,null,59.3,null,null,1,"0:59.30"]
["2_15",2,15,null,47.8,null,null,null,"0:47.80"]
["2_8",2,8,null,48.1,null,null,null,"0:48.10"]
["2_3",2,3,null,51.1,null,null,null,"0:51.10"]
["2_6",2,6,null,null,"wd","Wrong direction, any procedure other than that specified as the correct procedure for completing that course ",null,"wd"]
["2_19",2,19,null,48.5,null,null,null,"0:48.50"]
["2_20",2,20,null,47,null,null,null,"0:47.00"]
["2_2",2,2,null,45.7,null,null,null,"0:45.70"]
["2_16",2,16,null,null,"WD","Wrong direction, any procedure other than that specified as the correct procedure for completing that course ",null,"wd"]
["2_14",2,14,null,46.6,null,null,null,"0:46.60"]
["2_5",2,5,null,48.4,null,null,null,"0:48.40"]
["2_10",2,10,null,54.1,null,null,null,"0:54.10"]
["2_17",2,17,null,43.7,null,null,null,"0:43.70"]
["2_13",2,13,null,54.5,null,null,null,"0:54.50"]
["2_18",2,18,null,51.3,null,null,null,"0:51.30"]
["2_4",2,4,null,54.7,null,null,null,"0:54.70"]
["2_1",2,1,null,44.9,null,null,null,"0:44.90"]
["2_9",2,9,null,45,null,null,null,"0:45.00"]
["2_12",2,12,null,49.5,null,null,1,"0:49.50"]
["3_12",3,12,null,54,null,null,null,"0:54.00"]
["3_3",3,3,null,null,"WD","Wrong direction, any procedure other than that specified as the correct procedure for completing that course ",null,"wd"]
["3_10",3,10,null,null,"WD","Wrong direction, any procedure other than that specified as the correct procedure for completing that course ",null,"wd"]
["3_6",3,6,1,2.1,null,null,null,"1:2.10"]
["3_15",3,15,null,52.1,null,null,null,"0:52.10"]
["3_17",3,17,null,48.5,null,null,null,"0:48.50"]
["3_5",3,5,null,53.8,null,null,null,"0:53.80"]
["3_19",3,19,null,56.1,null,null,null,"0:56.10"]
["3_8",3,8,null,53.9,null,null,null,"0:53.90"]
["3_2",3,2,null,54.8,null,null,null,"0:54.80"]
["3_20",3,20,null,52.2,null,null,null,"0:52.20"]
["3_16",3,16,null,48.6,null,null,null,"0:48.60"]
["3_13",3,13,null,53.8,null,null,null,"0:53.80"]
["3_4",3,4,null,59.6,null,null,1,"0:59.60"]
["3_14",3,14,null,52,null,null,null,"0:52.00"]
["3_18",3,18,null,null,"WD","Wrong direction, any procedure other than that specified as the correct procedure for completing that course ",null,"wd"]
["3_11",3,11,null,53.5,null,null,null,"0:53.50"]
["3_9",3,9,null,49.1,null,null,null,"0:49.10"]
["3_1",3,1,null,48.4,null,null,null,"0:48.40"]
["4_12",4,12,null,54.47,null,null,null,"0:54.47"]
["4_3",4,3,null,55.02,null,null,null,"0:55.02"]
["4_10",4,10,null,55.08,null,null,null,"0:55.08"]
["4_6",4,6,1,6.74,null,null,null,"1:6.74"]
["4_15",4,15,null,55.86,null,null,null,"0:55.86"]
["4_17",4,17,null,47.44,null,null,null,"0:47.44"]
["4_5",4,5,null,55.28,null,null,null,"0:55.28"]
["4_19",4,19,null,54.66,null,null,null,"0:54.66"]
[{"$f":"B68&\"_\"&C68","v":"4_8"},4,8,null,59.08,null,null,null,{"$f":"IF(B68=\"\",\"\",IF(F68=\"wd\",\"wd\",(IF(D68=\"\",0,D68)&\":\"&TEXT(E68,\"#0.00\"))))","v":"0:59.08"}]
["4_2",4,2,null,49.74,null,null,null,"0:49.74"]
["4_20",4,20,null,58.98,null,null,null,"0:58.98"]
["4_16",4,16,null,48.65,null,null,1,"0:48.65"]
["4_13",4,13,null,58.48,null,null,1,"0:58.48"]
["4_4",4,4,1,5.67,null,null,null,"1:5.67"]
["4_14",4,14,null,52.27,null,null,null,"0:52.27"]
["4_11",4,11,null,55.4,null,null,null,"0:55.40"]
["4_9",4,9,null,50.81,null,null,null,"0:50.81"]
["4_1",4,1,null,52.27,null,null,1,"0:52.27"]
["4_18",4,18,1,2.92,null,null,null,"1:2.92"]
["5_1",5,1,null,46.94,null,null,null,"0:46.94"]
["5_3",5,3,null,52.99,null,null,null,"0:52.99"]
["5_15",5,15,null,52.94,null,null,null,"0:52.94"]
["5_6",5,6,null,57.23,null,null,null,"0:57.23"]
["5_19",5,19,null,48.65,null,null,null,"0:48.65"]
["5_10",5,10,null,52.38,null,null,null,"0:52.38"]
["5_5",5,5,null,52.49,null,null,null,"0:52.49"]
["5_13",5,13,null,59.44,null,null,null,"0:59.44"]
["5_2",5,2,null,47.81,null,null,null,"0:47.81"]
["5_14",5,14,null,48.37,null,null,null,"0:48.37"]
["5_20",5,20,null,51.79,null,null,null,"0:51.79"]
["5_8",5,8,null,53.44,null,null,null,"0:53.44"]
["5_4",5,4,1,3.85,null,null,null,"1:3.85"]
["5_9",5,9,null,48.39,null,null,null,"0:48.39"]
["5_16",5,16,null,48.03,null,null,1,"0:48.03"]
["5_17",5,17,null,45.24,null,null,null,"0:45.24"]
["5_18",5,18,null,58.55,null,null,null,"0:58.55"]
["5_12",5,12,null,52.91,null,null,null,"0:52.91"]
["5_11",5,11,null,53.2,null,null,null,"0:53.20"]
["6_1",6,1,null,56.77,null,null,null,"0:56.77"]
["6_3",6,3,null,null,"WD","Wrong direction, any procedure other than that specified as the correct procedure for completing that course ",null,"wd"]
["6_15",6,15,null,null,"WD","Wrong direction, any procedure other than that specified as the correct procedure for completing that course ",null,"wd"]
["6_6",6,6,1,0.48,null,null,null,"1:0.48"]
["6_19",6,19,1,1.9,null,null,null,"1:1.90"]
["6_10",6,10,1,1.45,null,null,null,"1:1.45"]
["6_5",6,5,1,3.65,null,null,null,"1:3.65"]
["6_13",6,13,1,1.95,null,null,1,"1:1.95"]
["6_2",6,2,null,null,"WD","Wrong direction, any procedure other than that specified as the correct procedure for completing that course ",null,"wd"]
["6_14",6,14,1,0.15,null,null,null,"1:0.15"]
["6_20",6,20,1,0.98,null,null,null,"1:0.98"]
["6_8",6,8,1,2.88,null,null,null,"1:2.88"]
["6_4",6,4,1,5.44,null,null,null,"1:5.44"]
["6_9",6,9,null,56.06,null,null,null,"0:56.06"]
["6_16",6,16,null,55.96,null,null,null,"0:55.96"]
["6_17",6,17,null,53.76,null,null,null,"0:53.76"]
["6_18",6,18,null,null,"WD","Wrong direction, any procedure other than that specified as the correct procedure for completing that course ",null,"wd"]
["6_12",6,12,1,7.98,null,null,null,"1:7.98"]
["6_11",6,11,1,4.63,null,null,null,"1:4.63"]
["7_12",7,12,null,41.91,null,null,null,"0:41.91"]
["7_3",7,3,null,38.880000000000003,null,null,null,"0:38.88"]
["7_11",7,11,null,39.56,null,null,null,"0:39.56"]
["7_15",7,15,null,40.18,null,null,null,"0:40.18"]
["7_8",7,8,null,39.6,null,null,null,"0:39.60"]
["7_6",7,6,null,38.130000000000003,null,null,null,"0:38.13"]
["7_5",7,5,null,38.42,null,null,null,"0:38.42"]
["7_1",7,1,null,35.25,null,null,null,"0:35.25"]
["7_2",7,2,null,36.69,null,null,null,"0:36.69"]
["7_14",7,14,null,35.94,null,null,null,"0:35.94"]
["7_10",7,10,null,45.75,null,null,null,"0:45.75"]
["7_16",7,16,null,36.79,null,null,null,"0:36.79"]
["7_4",7,4,null,41.25,null,null,null,"0:41.25"]
["7_20",7,20,null,38.93,null,null,null,"0:38.93"]
["7_13",7,13,null,42.26,null,null,null,"0:42.26"]
[{"$f":"B132&\"_\"&C132","v":"7_18"},7,18,null,39.68,null,null,null,{"$f":"IF(B132=\"\",\"\",IF(F132=\"wd\",\"wd\",(IF(D132=\"\",0,D132)&\":\"&TEXT(E132,\"#0.00\"))))","v":"0:39.68"}]
["7_17",7,17,null,34.31,null,null,null,"0:34.31"]
["7_9",7,9,null,37.409999999999997,null,null,null,"0:37.41"]
["7_19",7,19,null,null,"WD","Wrong direction, any procedure other than that specified as the correct procedure for completing that course ",null,"wd"]
["8_12",8,12,null,52.08,null,null,3,"0:52.08"]
["8_3",8,3,null,50.12,null,null,null,"0:50.12"]
["8_11",8,11,null,52.85,null,null,null,"0:52.85"]
["8_15",8,15,null,51.82,null,null,null,"0:51.82"]
["8_8",8,8,null,53.77,null,null,null,"0:53.77"]
["8_6",8,6,null,54.28,null,null,null,"0:54.28"]
["8_5",8,5,null,52.14,null,null,null,"0:52.14"]
["8_1",8,1,null,45.89,null,null,null,"0:45.89"]
["8_2",8,2,null,46.65,null,null,null,"0:46.65"]
["8_14",8,14,null,47.48,null,null,null,"0:47.48"]
["8_10",8,10,null,50.16,null,null,null,"0:50.16"]
["8_16",8,16,null,49.29,null,null,null,"0:49.29"]
["8_4",8,4,null,57.17,null,null,1,"0:57.17"]
["8_20",8,20,null,49.41,null,null,null,"0:49.41"]
["8_13",8,13,null,53.55,null,null,null,"0:53.55"]
["8_18",8,18,null,53.95,null,null,null,"0:53.95"]
["8_17",8,17,null,53.28,null,null,null,"0:53.28"]
["8_9",8,9,null,47.93,null,null,null,"0:47.93"]
["8_19",8,19,null,54.31,null,null,null,"0:54.31"]
["9_17",9,17,null,44.91,null,null,null,"0:44.91"]
["9_3",9,3,null,49.03,null,null,null,"0:49.03"]
["9_15",9,15,null,50.05,null,null,null,"0:50.05"]
["9_10",9,10,null,49.2,null,null,1,"0:49.20"]
["9_6",9,6,null,53.13,null,null,null,"0:53.13"]
["9_16",9,16,null,44.25,null,null,null,"0:44.25"]
["9_19",9,19,null,51.25,null,null,null,"0:51.25"]
["9_5",9,5,null,49.05,null,null,null,"0:49.05"]
["9_14",9,14,null,47.82,null,null,null,"0:47.82"]
["9_8",9,8,null,53.51,null,null,null,"0:53.51"]
["9_20",9,20,null,48.72,null,null,null,"0:48.72"]
["9_2",9,2,null,46.75,null,null,null,"0:46.75"]
["9_13",9,13,null,51.98,null,null,null,"0:51.98"]
["9_4",9,4,null,56.57,null,null,null,"0:56.57"]
["9_18",9,18,null,53.34,null,null,null,"0:53.34"]
["9_9",9,9,null,46.74,null,null,null,"0:46.74"]
["9_1",9,1,null,45.52,null,null,null,"0:45.52"]
["9_12",9,12,null,50.44,null,null,null,"0:50.44"]
["10_17",10,17,null,52.87,null,null,null,"0:52.87"]
["10_3",10,3,null,57.95,null,null,null,"0:57.95"]
["10_15",10,15,null,58.68,null,null,null,"0:58.68"]
["10_10",10,10,null,58.29,null,null,null,"0:58.29"]
["10_6",10,6,null,null,"WD","Wrong direction, any procedure other than that specified as the correct procedure for completing that course ",null,"wd"]
["10_16",10,16,null,null,"WD","Wrong direction, any procedure other than that specified as the correct procedure for completing that course ",null,"wd"]
["10_19",10,19,null,58.56,null,null,null,"0:58.56"]
["10_5",10,5,null,56.5,null,null,null,"0:56.50"]
["10_14",10,14,null,55.55,null,null,null,"0:55.55"]
["10_8",10,8,null,58.26,null,null,null,"0:58.26"]
["10_20",10,20,null,56.33,null,null,null,"0:56.33"]
["10_2",10,2,null,54.11,null,null,null,"0:54.11"]
["10_13",10,13,null,55.85,null,null,null,"0:55.85"]
["10_4",10,4,1,1.93,null,null,null,"1:1.93"]
["10_18",10,18,null,null,"WD","Wrong direction, any procedure other than that specified as the correct procedure for completing that course ",null,"wd"]
["10_9",10,9,null,53.48,null,null,null,"0:53.48"]
["10_1",10,1,null,52.55,null,null,null,"0:52.55"]
["10_12",10,12,1,19.05,null,null,null,"1:19.05"]
["11_12",11,12,1,55.09,null,null,null,"1:55.09"]
["11_3",11,3,1,46.01,null,null,null,"1:46.01"]
["11_19",11,19,1,42.43,null,null,null,"1:42.43"]
["11_17",11,17,1,31.59,null,null,null,"1:31.59"]
["11_15",11,15,1,44.63,null,null,null,"1:44.63"]
[{"$f":"B196&\"_\"&C196","v":"11_8"},11,8,1,50.06,null,null,null,{"$f":"IF(B196=\"\",\"\",IF(F196=\"wd\",\"wd\",(IF(D196=\"\",0,D196)&\":\"&TEXT(E196,\"#0.00\"))))","v":"1:50.06"}]
["11_6",11,6,1,49.1,null,null,null,"1:49.10"]
["11_5",11,5,1,47.13,null,null,null,"1:47.13"]
["11_2",11,2,1,32.86,null,null,null,"1:32.86"]
["11_14",11,14,1,40.19,null,null,null,"1:40.19"]
["11_18",11,18,1,47.42,null,null,null,"1:47.42"]
["11_20",11,20,1,44.26,null,null,null,"1:44.26"]
["11_10",11,10,1,49.3,null,null,null,"1:49.30"]
["11_13",11,13,1,44.67,null,null,null,"1:44.67"]
["11_4",11,4,2,0.95,null,null,null,"2:0.95"]
["11_16",11,16,1,35.119999999999997,null,null,null,"1:35.12"]
["11_1",11,1,1,35.04,null,null,null,"1:35.04"]
["11_9",11,9,1,36.01,null,null,null,"1:36.01"]
["12_12",12,12,1,4.88,null,null,null,"1:4.88"]
["12_3",12,3,null,null,"WD","Wrong direction, any procedure other than that specified as the correct procedure for completing that course ",null,"wd"]
["12_19",12,19,null,null,"WD","Wrong direction, any procedure other than that specified as the correct procedure for completing that course ",null,"wd"]
["12_17",12,17,null,55.08,null,null,null,"0:55.08"]
["12_15",12,15,null,null,"WD","Wrong direction, any procedure other than that specified as the correct procedure for completing that course ",null,"wd"]
["12_8",12,8,null,null,"WD","Wrong direction, any procedure other than that specified as the correct procedure for completing that course ",null,"wd"]
["12_6",12,6,1,1.76,null,null,null,"1:1.76"]
["12_5",12,5,null,null,"WD","Wrong direction, any procedure other than that specified as the correct procedure for completing that course ",null,"wd"]
["12_2",12,2,null,54.23,null,null,null,"0:54.23"]
["12_14",12,14,null,57.5,null,null,null,"0:57.50"]
["12_18",12,18,null,null,"WD","Wrong direction, any procedure other than that specified as the correct procedure for completing that course ",null,"wd"]
["12_20",12,20,null,58.6,null,null,null,"0:58.60"]
["12_10",12,10,1,0.17,null,null,null,"1:0.17"]
["12_13",12,13,null,57.4,null,null,null,"0:57.40"]
["12_4",12,4,1,6.19,null,null,null,"1:6.19"]
["12_16",12,16,1,5.9,null,null,null,"1:5.90"]
["12_1",12,1,null,57.05,null,null,null,"0:57.05"]
["12_9",12,9,null,54.9,null,null,null,"0:54.90"]
["_",null,null,null,null,null,null,null,""]
["_",null,null,null,null,null,null,null,""]
["_",null,null,null,null,null,null,null,""]
["_",null,null,null,null,null,null,null,""]
["_",null,null,null,null,null,null,null,""]
["_",null,null,null,null,null,null,null,""]
["_",null,null,null,null,null,null,null,""]
["_",null,null,null,null,null,null,null,""]
["_",null,null,null,null,null,null,null,""]
["_",null,null,null,null,null,null,null,""]
["_",null,null,null,null,null,null,null,""]
["_",null,null,null,null,null,null,null,""]
["_",null,null,null,null,null,null,null,""]
["_",null,null,null,null,null,null,null,""]
["_",null,null,null,null,null,null,null,""]
["_",null,null,null,null,null,null,null,""]
["_",null,null,null,null,null,null,null,""]
["_",null,null,null,null,null,null,null,""]
["_",null,null,null,null,null,null,null,""]
["_",null,null,null,null,null,null,null,""]
["_",null,null,null,null,null,null,null,""]
["_",null,null,null,null,null,null,null,""]
["_",null,null,null,null,null,null,null,""]
["_",null,null,null,null,null,null,null,""]
["_",null,null,null,null,null,null,null,""]
["_",null,null,null,null,null,null,null,""]
["_",null,null,null,null,null,null,null,""]
["_",null,null,null,null,null,null,null,""]
["_",null,null,null,null,null,null,null,""]
["_",null,null,null,null,null,null,null,""]
["_",null,null,null,null,null,null,null,""]
["_",null,null,null,null,null,null,null,""]
["_",null,null,null,null,null,null,null,{"$f":"IF(B259=\"\",\"\",IF(F259=\"wd\",\"wd\",(IF(D259=\"\",0,D259)&\":\"&TEXT(E259,\"#0.00\"))))","v":""}]
[{"$f":"B260&\"_\"&C260","v":"_"},null,null,null,null,null,null,null,""]
["_",null,null,null,null,null,null,null,""]
["_",null,null,null,null,null,null,null,""]
["_",null,null,null,null,null,null,null,""]
["_",null,null,null,null,null,null,null,""]
["_",null,null,null,null,null,null,null,""]
["_",null,null,null,null,null,null,null,""]
["_",null,null,null,null,null,null,null,""]
["_",null,null,null,null,null,null,null,""]
["_",null,null,null,null,null,null,null,""]
["_",null,null,null,null,null,null,null,""]
["_",null,null,null,null,null,null,null,""]
["_",null,null,null,null,null,null,null,""]
["_",null,null,null,null,null,null,null,""]
["_",null,null,null,null,null,null,null,""]
["_",null,null,null,null,null,null,null,""]
["_",null,null,null,null,null,null,null,""]
["_",null,null,null,null,null,null,null,""]
["_",null,null,null,null,null,null,null,""]
["_",null,null,null,null,null,null,null,""]
["_",null,null,null,null,null,null,null,""]
["_",null,null,null,null,null,null,null,""]
["_",null,null,null,null,null,null,null,""]
["_",null,null,null,null,null,null,null,""]
["_",null,null,null,null,null,null,null,""]
["_",null,null,null,null,null,null,null,""]
["_",null,null,null,null,null,null,null,""]
["_",null,null,null,null,null,null,null,""]
["_",null,null,null,null,null,null,null,""]
["_",null,null,null,null,null,null,null,""]
["_",null,null,null,null,null,null,null,""]
["_",null,null,null,null,null,null,null,""]
["_",null,null,null,null,null,null,null,""]
["_",null,null,null,null,null,null,null,""]
["_",null,null,null,null,null,null,null,""]
["_",null,null,null,null,null,null,null,""]
["_",null,null,null,null,null,null,null,""]
["_",null,null,null,null,null,null,null,""]
["_",null,null,null,null,null,null,null,""]
["_",null,null,null,null,null,null,null,""]
["_",null,null,null,null,null,null,null,""]
["_",null,null,null,null,null,null,null,""]
["_",null,null,null,null,null,null,null,""]
["_",null,null,null,null,null,null,null,""]
["_",null,null,null,null,null,null,null,""]
["_",null,null,null,null,null,null,null,""]
["_",null,null,null,null,null,null,null,""]
["_",null,null,null,null,null,null,null,""]
["_",null,null,null,null,null,null,null,""]
["_",null,null,null,null,null,null,null,""]
["_",null,null,null,null,null,null,null,""]
["_",null,null,null,null,null,null,null,""]
["_",null,null,null,null,null,null,null,""]
["_",null,null,null,null,null,null,null,""]
["_",null,null,null,null,null,null,null,""]
["_",null,null,null,null,null,null,null,""]
["_",null,null,null,null,null,null,null,""]
["_",null,null,null,null,null,null,null,""]
["_",null,null,null,null,null,null,null,""]
["_",null,null,null,null,null,null,null,""]
["_",null,null,null,null,null,null,null,""]
["_",null,null,null,null,null,null,null,""]
["_",null,null,null,null,null,null,null,""]
["_",null,null,null,null,null,null,null,{"$f":"IF(B323=\"\",\"\",IF(F323=\"wd\",\"wd\",(IF(D323=\"\",0,D323)&\":\"&TEXT(E323,\"#0.00\"))))","v":""}]
[{"$f":"B324&\"_\"&C324","v":"_"},null,null,null,null,null,null,null,""]
["_",null,null,null,null,null,null,null,""]
["_",null,null,null,null,null,null,null,""]
["_",null,null,null,null,null,null,null,""]
["_",null,null,null,null,null,null,null,""]
["_",null,null,null,null,null,null,null,""]
["_",null,null,null,null,null,null,null,""]
["_",null,null,null,null,null,null,null,""]
["_",null,null,null,null,null,null,null,""]
["_",null,null,null,null,null,null,null,""]
["_",null,null,null,null,null,null,null,""]
["_",null,null,null,null,null,null,null,""]
["_",null,null,null,null,null,null,null,""]
["_",null,null,null,null,null,null,null,""]
["_",null,null,null,null,null,null,null,""]
["_",null,null,null,null,null,null,null,""]
["_",null,null,null,null,null,null,null,""]
["_",null,null,null,null,null,null,null,""]
["_",null,null,null,null,null,null,null,""]
["_",null,null,null,null,null,null,null,""]
["_",null,null,null,null,null,null,null,""]
["_",null,null,null,null,null,null,null,""]
["_",null,null,null,null,null,null,null,""]
["_",null,null,null,null,null,null,null,""]
["_",null,null,null,null,null,null,null,""]
["_",null,null,null,null,null,null,null,""]
["_",null,null,null,null,null,null,null,""]
["_",null,null,null,null,null,null,null,""]
["_",null,null,null,null,null,null,null,""]
["_",null,null,null,null,null,null,null,""]
["_",null,null,null,null,null,null,null,""]
["_",null,null,null,null,null,null,null,""]
["_",null,null,null,null,null,null,null,""]
["_",null,null,null,null,null,null,null,""]
["_",null,null,null,null,null,null,null,""]
["_",null,null,null,null,null,null,null,""]
["_",null,null,null,null,null,null,null,""]
["_",null,null,null,null,null,null,null,""]
["_",null,null,null,null,null,null,null,""]
["_",null,null,null,null,null,null,null,""]
["_",null,null,null,null,null,null,null,""]
["_",null,null,null,null,null,null,null,""]
["_",null,null,null,null,null,null,null,""]
["_",null,null,null,null,null,null,null,""]
["_",null,null,null,null,null,null,null,""]
["_",null,null,null,null,null,null,null,""]
["_",null,null,null,null,null,null,null,""]
["_",null,null,null,null,null,null,null,""]
["_",null,null,null,null,null,null,null,""]
["_",null,null,null,null,null,null,null,""]
["_",null,null,null,null,null,null,null,""]
["_",null,null,null,null,null,null,null,""]
["_",null,null,null,null,null,null,null,""]
["_",null,null,null,null,null,null,null,""]
["_",null,null,null,null,null,null,null,""]
["_",null,null,null,null,null,null,null,""]
["_",null,null,null,null,null,null,null,""]
["_",null,null,null,null,null,null,null,""]
["_",null,null,null,null,null,null,null,""]
["_",null,null,null,null,null,null,null,""]
["_",null,null,null,null,null,null,null,""]
["_",null,null,null,null,null,null,null,""]
["_",null,null,null,null,null,null,null,""]
["_",null,null,null,null,null,null,null,{"$f":"IF(B387=\"\",\"\",IF(F387=\"wd\",\"wd\",(IF(D387=\"\",0,D387)&\":\"&TEXT(E387,\"#0.00\"))))","v":""}]
[{"$f":"B388&\"_\"&C388","v":"_"},null,null,null,null,null,null,null,""]
["_",null,null,null,null,null,null,null,""]
["_",null,null,null,null,null,null,null,""]
["_",null,null,null,null,null,null,null,""]
["_",null,null,null,null,null,null,null,""]
["_",null,null,null,null,null,null,null,""]
["_",null,null,null,null,null,null,null,""]
["_",null,null,null,null,null,null,null,""]
["_",null,null,null,null,null,null,null,""]
["_",null,null,null,null,null,null,null,""]
["_",null,null,null,null,null,null,null,""]
["_",null,null,null,null,null,null,null,""]
["_",null,null,null,null,null,null,null,""]
["_",null,null,null,null,null,null,null,""]
["_",null,null,null,null,null,null,null,""]
["_",null,null,null,null,null,null,null,""]
["_",null,null,null,null,null,null,null,""]
["_",null,null,null,null,null,null,null,""]
["_",null,null,null,null,null,null,null,""]
["_",null,null,null,null,null,null,null,""]
["_",null,null,null,null,null,null,null,""]
["_",null,null,null,null,null,null,null,""]
["_",null,null,null,null,null,null,null,""]
["_",null,null,null,null,null,null,null,""]
["_",null,null,null,null,null,null,null,""]
["_",null,null,null,null,null,null,null,""]
["_",null,null,null,null,null,null,null,""]
["_",null,null,null,null,null,null,null,""]
["_",null,null,null,null,null,null,null,""]
["_",null,null,null,null,null,null,null,""]
["_",null,null,null,null,null,null,null,""]
["_",null,null,null,null,null,null,null,""]
["_",null,null,null,null,null,null,null,""]
["_",null,null,null,null,null,null,null,""]
["_",null,null,null,null,null,null,null,""]
["_",null,null,null,null,null,null,null,""]
["_",null,null,null,null,null,null,null,""]
["_",null,null,null,null,null,null,null,""]
["_",null,null,null,null,null,null,null,""]
["_",null,null,null,null,null,null,null,""]
["_",null,null,null,null,null,null,null,""]
["_",null,null,null,null,null,null,null,""]
["_",null,null,null,null,null,null,null,""]
["_",null,null,null,null,null,null,null,""]
["_",null,null,null,null,null,null,null,""]
["_",null,null,null,null,null,null,null,""]
["_",null,null,null,null,null,null,null,""]
["_",null,null,null,null,null,null,null,""]
["_",null,null,null,null,null,null,null,""]
["_",null,null,null,null,null,null,null,""]
["_",null,null,null,null,null,null,null,""]
["_",null,null,null,null,null,null,null,""]
["_",null,null,null,null,null,null,null,""]
["_",null,null,null,null,null,null,null,""]
["_",null,null,null,null,null,null,null,""]
["_",null,null,null,null,null,null,null,""]
["_",null,null,null,null,null,null,null,""]
["_",null,null,null,null,null,null,null,""]
["_",null,null,null,null,null,null,null,""]
["_",null,null,null,null,null,null,null,""]
["_",null,null,null,null,null,null,null,""]
["_",null,null,null,null,null,null,null,""]
["_",null,null,null,null,null,null,null,""]
["_",null,null,null,null,null,null,null,{"$f":"IF(B451=\"\",\"\",IF(F451=\"wd\",\"wd\",(IF(D451=\"\",0,D451)&\":\"&TEXT(E451,\"#0.00\"))))","v":""}]
[{"$f":"B452&\"_\"&C452","v":"_"},null,null,null,null,null,null,null,""]
["_",null,null,null,null,null,null,null,""]
["_",null,null,null,null,null,null,null,""]
["_",null,null,null,null,null,null,null,""]
["_",null,null,null,null,null,null,null,""]
["_",null,null,null,null,null,null,null,""]
["_",null,null,null,null,null,null,null,""]
["_",null,null,null,null,null,null,null,""]
["_",null,null,null,null,null,null,null,""]
["_",null,null,null,null,null,null,null,""]
["_",null,null,null,null,null,null,null,""]
["_",null,null,null,null,null,null,null,""]
["_",null,null,null,null,null,null,null,""]
["_",null,null,null,null,null,null,null,""]
["_",null,null,null,null,null,null,null,""]
["_",null,null,null,null,null,null,null,""]
["_",null,null,null,null,null,null,null,""]
["_",null,null,null,null,null,null,null,""]
["_",null,null,null,null,null,null,null,""]
["_",null,null,null,null,null,null,null,""]
["_",null,null,null,null,null,null,null,""]
["_",null,null,null,null,null,null,null,""]
["_",null,null,null,null,null,null,null,""]
["_",null,null,null,null,null,null,null,""]
["_",null,null,null,null,null,null,null,""]
["_",null,null,null,null,null,null,null,""]
["_",null,null,null,null,null,null,null,""]
["_",null,null,null,null,null,null,null,""]
["_",null,null,null,null,null,null,null,""]
["_",null,null,null,null,null,null,null,""]
["_",null,null,null,null,null,null,null,""]
["_",null,null,null,null,null,null,null,""]
["_",null,null,null,null,null,null,null,""]
["_",null,null,null,null,null,null,null,""]
["_",null,null,null,null,null,null,null,""]
["_",null,null,null,null,null,null,null,""]
["_",null,null,null,null,null,null,null,""]
["_",null,null,null,null,null,null,null,""]
["_",null,null,null,null,null,null,null,""]
["_",null,null,null,null,null,null,null,""]
["_",null,null,null,null,null,null,null,""]
["_",null,null,null,null,null,null,null,""]
["_",null,null,null,null,null,null,null,""]
["_",null,null,null,null,null,null,null,""]
["_",null,null,null,null,null,null,null,""]
["_",null,null,null,null,null,null,null,""]
["_",null,null,null,null,null,null,null,""]
["_",null,null,null,null,null,null,null,""]

{"sheet":"Competitors","index":2,"n_rows":42,"n_cols":8,"rows_kept":42,"cut":false,"hidden":false,"merged":[]}
["Car Number","Driver","Car","Category","Female","Age Category\n(Senior/ Junior)","Rookie","Senior with Passenger? (write \"Passenger\")"]
[1,"Paul Dunn","Excel",null,null,"senior"]
[2,"Stephen Thorne",null,null,null,"senior"]
[3,"David Ballard",null,null,null,"senior"]
[4,"Michaela Ballard",null,null,"female","senior","rookie"]
[5,"Janelle Ballard",null,null,"female","senior"]
[6,"Issac Wishart",null,null,null,"senior","rookie"]
[7,null,null,null,null,"senior"]
[8,"Jim Taylor",null,null,null,"senior"]
[9,"Brad Firman",null,null,null,"senior"]
[10,"Scott Taylor",null,null,null,"senior"]
[11,"Russel McKinley",null,null,null,"senior"]
[12,"Mat Boorman",null,null,null,"senior"]
[13,"Aaron Wishart",null,null,null,"senior"]
[14,"Bob Fulthorpe",null,null,null,"senior"]
[15,"Khi Fulthorpe",null,null,null,"senior"]
[16,"Nathan Senior",null,null,null,"senior"]
[17,"Reece McIntosh",null,null,null,"senior"]
[18,"Jack Stanley",null,null,null,"senior","rookie"]
[19,"Christopher Northey",null,null,null,"senior"]
[20,"Ray Lampl",null,null,null,"senior"]
[21,null,null,null,null,"senior"]
[22,null,null,null,null,"senior"]
[23,null,null,null,null,"senior"]
[24,null,null,null,null,"senior"]
[25,null,null,null,null,"senior"]
[26,null,null,null,null,"senior"]
[27,null,null,null,null,"senior"]
[28,null,null,null,null,"senior"]
[29,null,null,null,null,"senior"]
[30,null,null,null,null,"senior"]
[31,null,null,null,null,"senior"]
[32,null,null,null,null,"senior"]
[33,null,null,null,null,"senior"]
[34,null,null,null,null,"senior"]
[35,null,null,null,null,"senior"]
[36,null,null,null,null,"senior"]
[37,null,null,null,null,"senior"]
[38,null,null,null,null,"senior"]
[39,null,null,null,null,"senior"]
[40,null,null,null,null,"senior"]
[null,null,null,null,"write female","write senior or junior","write rookie","write passenger"]

{"sheet":"Print_Test 1","index":3,"n_rows":53,"n_cols":10,"rows_kept":53,"cut":false,"hidden":false,"merged":[[11,6,12,6],[11,7,12,7],[8,3,8,5],[9,3,9,5],[11,0,12,0],[11,1,12,1],[11,2,12,2],[11,3,12,3],[11,4,12,4],[11,5,12,5]]}
[]
[]
[]
[]
[]
[]
[]
[]
[null,null,null,"Provisional Results"]
[null,null,null,"Test 1"]
[]
["Outright Position","Test Position","Car Number","Driver","Class","Rookie?","Female?","Junior?","Test Time","Cumulative Time"]
[null,null,null,null,null,null,null,null,"(mm:ss.00)","(mm:ss.00)"]
[{"$f":"IF(Pivots!I5=\"(Blank)\",\"\",Pivots!I5)","v":0},{"$f":"VLOOKUP($C14,'Test 1'!$A$12:$Q$51,15,FALSE)","v":1},{"$f":"IF(Pivots!J5=\"(Blank)\",\"\",Pivots!J5)","v":17},{"$f":"VLOOKUP($C14,'Test 1'!$A$12:$Q$51,2,FALSE)","v":"Reece McIntosh"},{"$f":"VLOOKUP($C14,'Test 1'!$A$12:$Q$51,7,FALSE)","v":""},{"$f":"VLOOKUP($C14,'Test 1'!$A$12:$Q$51,3,FALSE)","v":""},{"$f":"VLOOKUP($C14,'Test 1'!$A$12:$Q$51,4,FALSE)","v":""},{"$f":"VLOOKUP($C14,'Test 1'!$A$12:$Q$51,5,FALSE)","v":"senior"},{"$f":"VLOOKUP($C14,'Test 1'!$A$12:$Q$51,13,FALSE)","v":"00:00:49.620"},{"$f":"VLOOKUP($C14,'Test 1'!$A$12:$Q$51,16,FALSE)","v":"00:00:49.620"}]
[{"$f":"IF(Pivots!I6=\"(Blank)\",\"\",Pivots!I6)","v":0},{"$f":"VLOOKUP($C15,'Test 1'!$A$12:$Q$51,15,FALSE)","v":2},{"$f":"IF(Pivots!J6=\"(Blank)\",\"\",Pivots!J6)","v":1},{"$f":"VLOOKUP($C15,'Test 1'!$A$12:$Q$51,2,FALSE)","v":"Paul Dunn"},{"$f":"VLOOKUP($C15,'Test 1'!$A$12:$Q$51,7,FALSE)","v":""},{"$f":"VLOOKUP($C15,'Test 1'!$A$12:$Q$51,3,FALSE)","v":""},{"$f":"VLOOKUP($C15,'Test 1'!$A$12:$Q$51,4,FALSE)","v":""},{"$f":"VLOOKUP($C15,'Test 1'!$A$12:$Q$51,5,FALSE)","v":"senior"},{"$f":"VLOOKUP($C15,'Test 1'!$A$12:$Q$51,13,FALSE)","v":"00:00:50.780"},{"$f":"VLOOKUP($C15,'Test 1'!$A$12:$Q$51,16,FALSE)","v":"00:00:50.780"}]
[{"$f":"IF(Pivots!I7=\"(Blank)\",\"\",Pivots!I7)","v":0},{"$f":"VLOOKUP($C16,'Test 1'!$A$12:$Q$51,15,FALSE)","v":3},{"$f":"IF(Pivots!J7=\"(Blank)\",\"\",Pivots!J7)","v":14},{"$f":"VLOOKUP($C16,'Test 1'!$A$12:$Q$51,2,FALSE)","v":"Bob Fulthorpe"},{"$f":"VLOOKUP($C16,'Test 1'!$A$12:$Q$51,7,FALSE)","v":""},{"$f":"VLOOKUP($C16,'Test 1'!$A$12:$Q$51,3,FALSE)","v":""},{"$f":"VLOOKUP($C16,'Test 1'!$A$12:$Q$51,4,FALSE)","v":""},{"$f":"VLOOKUP($C16,'Test 1'!$A$12:$Q$51,5,FALSE)","v":"senior"},{"$f":"VLOOKUP($C16,'Test 1'!$A$12:$Q$51,13,FALSE)","v":"00:00:53.480"},{"$f":"VLOOKUP($C16,'Test 1'!$A$12:$Q$51,16,FALSE)","v":"00:00:53.480"}]
[{"$f":"IF(Pivots!I8=\"(Blank)\",\"\",Pivots!I8)","v":0},{"$f":"VLOOKUP($C17,'Test 1'!$A$12:$Q$51,15,FALSE)","v":4},{"$f":"IF(Pivots!J8=\"(Blank)\",\"\",Pivots!J8)","v":19},{"$f":"VLOOKUP($C17,'Test 1'!$A$12:$Q$51,2,FALSE)","v":"Christopher Northey"},{"$f":"VLOOKUP($C17,'Test 1'!$A$12:$Q$51,7,FALSE)","v":""},{"$f":"VLOOKUP($C17,'Test 1'!$A$12:$Q$51,3,FALSE)","v":""},{"$f":"VLOOKUP($C17,'Test 1'!$A$12:$Q$51,4,FALSE)","v":""},{"$f":"VLOOKUP($C17,'Test 1'!$A$12:$Q$51,5,FALSE)","v":"senior"},{"$f":"VLOOKUP($C17,'Test 1'!$A$12:$Q$51,13,FALSE)","v":"00:00:53.620"},{"$f":"VLOOKUP($C17,'Test 1'!$A$12:$Q$51,16,FALSE)","v":"00:00:53.620"}]
[{"$f":"IF(Pivots!I9=\"(Blank)\",\"\",Pivots!I9)","v":0},{"$f":"VLOOKUP($C18,'Test 1'!$A$12:$Q$51,15,FALSE)","v":5},{"$f":"IF(Pivots!J9=\"(Blank)\",\"\",Pivots!J9)","v":3},{"$f":"VLOOKUP($C18,'Test 1'!$A$12:$Q$51,2,FALSE)","v":"David Ballard"},{"$f":"VLOOKUP($C18,'Test 1'!$A$12:$Q$51,7,FALSE)","v":""},{"$f":"VLOOKUP($C18,'Test 1'!$A$12:$Q$51,3,FALSE)","v":""},{"$f":"VLOOKUP($C18,'Test 1'!$A$12:$Q$51,4,FALSE)","v":""},{"$f":"VLOOKUP($C18,'Test 1'!$A$12:$Q$51,5,FALSE)","v":"senior"},{"$f":"VLOOKUP($C18,'Test 1'!$A$12:$Q$51,13,FALSE)","v":"00:00:53.840"},{"$f":"VLOOKUP($C18,'Test 1'!$A$12:$Q$51,16,FALSE)","v":"00:00:53.840"}]
[{"$f":"IF(Pivots!I10=\"(Blank)\",\"\",Pivots!I10)","v":0},{"$f":"VLOOKUP($C19,'Test 1'!$A$12:$Q$51,15,FALSE)","v":6},{"$f":"IF(Pivots!J10=\"(Blank)\",\"\",Pivots!J10)","v":9},{"$f":"VLOOKUP($C19,'Test 1'!$A$12:$Q$51,2,FALSE)","v":"Brad Firman"},{"$f":"VLOOKUP($C19,'Test 1'!$A$12:$Q$51,7,FALSE)","v":""},{"$f":"VLOOKUP($C19,'Test 1'!$A$12:$Q$51,3,FALSE)","v":""},{"$f":"VLOOKUP($C19,'Test 1'!$A$12:$Q$51,4,FALSE)","v":""},{"$f":"VLOOKUP($C19,'Test 1'!$A$12:$Q$51,5,FALSE)","v":"senior"},{"$f":"VLOOKUP($C19,'Test 1'!$A$12:$Q$51,13,FALSE)","v":"00:00:54.440"},{"$f":"VLOOKUP($C19,'Test 1'!$A$12:$Q$51,16,FALSE)","v":"00:00:54.440"}]
[{"$f":"IF(Pivots!I11=\"(Blank)\",\"\",Pivots!I11)","v":0},{"$f":"VLOOKUP($C20,'Test 1'!$A$12:$Q$51,15,FALSE)","v":7},{"$f":"IF(Pivots!J11=\"(Blank)\",\"\",Pivots!J11)","v":2},{"$f":"VLOOKUP($C20,'Test 1'!$A$12:$Q$51,2,FALSE)","v":"Stephen Thorne"},{"$f":"VLOOKUP($C20,'Test 1'!$A$12:$Q$51,7,FALSE)","v":""},{"$f":"VLOOKUP($C20,'Test 1'!$A$12:$Q$51,3,FALSE)","v":""},{"$f":"VLOOKUP($C20,'Test 1'!$A$12:$Q$51,4,FALSE)","v":""},{"$f":"VLOOKUP($C20,'Test 1'!$A$12:$Q$51,5,FALSE)","v":"senior"},{"$f":"VLOOKUP($C20,'Test 1'!$A$12:$Q$51,13,FALSE)","v":"00:00:54.830"},{"$f":"VLOOKUP($C20,'Test 1'!$A$12:$Q$51,16,FALSE)","v":"00:00:54.830"}]
[{"$f":"IF(Pivots!I12=\"(Blank)\",\"\",Pivots!I12)","v":0},{"$f":"VLOOKUP($C21,'Test 1'!$A$12:$Q$51,15,FALSE)","v":8},{"$f":"IF(Pivots!J12=\"(Blank)\",\"\",Pivots!J12)","v":16},{"$f":"VLOOKUP($C21,'Test 1'!$A$12:$Q$51,2,FALSE)","v":"Nathan Senior"},{"$f":"VLOOKUP($C21,'Test 1'!$A$12:$Q$51,7,FALSE)","v":""},{"$f":"VLOOKUP($C21,'Test 1'!$A$12:$Q$51,3,FALSE)","v":""},{"$f":"VLOOKUP($C21,'Test 1'!$A$12:$Q$51,4,FALSE)","v":""},{"$f":"VLOOKUP($C21,'Test 1'!$A$12:$Q$51,5,FALSE)","v":"senior"},{"$f":"VLOOKUP($C21,'Test 1'!$A$12:$Q$51,13,FALSE)","v":"00:00:54.850"},{"$f":"VLOOKUP($C21,'Test 1'!$A$12:$Q$51,16,FALSE)","v":"00:00:54.850"}]
[{"$f":"IF(Pivots!I13=\"(Blank)\",\"\",Pivots!I13)","v":0},{"$f":"VLOOKUP($C22,'Test 1'!$A$12:$Q$51,15,FALSE)","v":9},{"$f":"IF(Pivots!J13=\"(Blank)\",\"\",Pivots!J13)","v":12},{"$f":"VLOOKUP($C22,'Test 1'!$A$12:$Q$51,2,FALSE)","v":"Mat Boorman"},{"$f":"VLOOKUP($C22,'Test 1'!$A$12:$Q$51,7,FALSE)","v":""},{"$f":"VLOOKUP($C22,'Test 1'!$A$12:$Q$51,3,FALSE)","v":""},{"$f":"VLOOKUP($C22,'Test 1'!$A$12:$Q$51,4,FALSE)","v":""},{"$f":"VLOOKUP($C22,'Test 1'!$A$12:$Q$51,5,FALSE)","v":"senior"},{"$f":"VLOOKUP($C22,'Test 1'!$A$12:$Q$51,13,FALSE)","v":"00:00:54.970"},{"$f":"VLOOKUP($C22,'Test 1'!$A$12:$Q$51,16,FALSE)","v":"00:00:54.970"}]
[{"$f":"IF(Pivots!I14=\"(Blank)\",\"\",Pivots!I14)","v":0},{"$f":"VLOOKUP($C23,'Test 1'!$A$12:$Q$51,15,FALSE)","v":10},{"$f":"IF(Pivots!J14=\"(Blank)\",\"\",Pivots!J14)","v":20},{"$f":"VLOOKUP($C23,'Test 1'!$A$12:$Q$51,2,FALSE)","v":"Ray Lampl"},{"$f":"VLOOKUP($C23,'Test 1'!$A$12:$Q$51,7,FALSE)","v":""},{"$f":"VLOOKUP($C23,'Test 1'!$A$12:$Q$51,3,FALSE)","v":""},{"$f":"VLOOKUP($C23,'Test 1'!$A$12:$Q$51,4,FALSE)","v":""},{"$f":"VLOOKUP($C23,'Test 1'!$A$12:$Q$51,5,FALSE)","v":"senior"},{"$f":"VLOOKUP($C23,'Test 1'!$A$12:$Q$51,13,FALSE)","v":"00:00:55.910"},{"$f":"VLOOKUP($C23,'Test 1'!$A$12:$Q$51,16,FALSE)","v":"00:00:55.910"}]
[{"$f":"IF(Pivots!I15=\"(Blank)\",\"\",Pivots!I15)","v":0},{"$f":"VLOOKUP($C24,'Test 1'!$A$12:$Q$51,15,FALSE)","v":11},{"$f":"IF(Pivots!J15=\"(Blank)\",\"\",Pivots!J15)","v":10},{"$f":"VLOOKUP($C24,'Test 1'!$A$12:$Q$51,2,FALSE)","v":"Scott Taylor"},{"$f":"VLOOKUP($C24,'Test 1'!$A$12:$Q$51,7,FALSE)","v":""},{"$f":"VLOOKUP($C24,'Test 1'!$A$12:$Q$51,3,FALSE)","v":""},{"$f":"VLOOKUP($C24,'Test 1'!$A$12:$Q$51,4,FALSE)","v":""},{"$f":"VLOOKUP($C24,'Test 1'!$A$12:$Q$51,5,FALSE)","v":"senior"},{"$f":"VLOOKUP($C24,'Test 1'!$A$12:$Q$51,13,FALSE)","v":"00:00:57.140"},{"$f":"VLOOKUP($C24,'Test 1'!$A$12:$Q$51,16,FALSE)","v":"00:00:57.140"}]
[{"$f":"IF(Pivots!I16=\"(Blank)\",\"\",Pivots!I16)","v":0},{"$f":"VLOOKUP($C25,'Test 1'!$A$12:$Q$51,15,FALSE)","v":12},{"$f":"IF(Pivots!J16=\"(Blank)\",\"\",Pivots!J16)","v":11},{"$f":"VLOOKUP($C25,'Test 1'!$A$12:$Q$51,2,FALSE)","v":"Russel McKinley"},{"$f":"VLOOKUP($C25,'Test 1'!$A$12:$Q$51,7,FALSE)","v":""},{"$f":"VLOOKUP($C25,'Test 1'!$A$12:$Q$51,3,FALSE)","v":""},{"$f":"VLOOKUP($C25,'Test 1'!$A$12:$Q$51,4,FALSE)","v":""},{"$f":"VLOOKUP($C25,'Test 1'!$A$12:$Q$51,5,FALSE)","v":"senior"},{"$f":"VLOOKUP($C25,'Test 1'!$A$12:$Q$51,13,FALSE)","v":"00:00:58.950"},{"$f":"VLOOKUP($C25,'Test 1'!$A$12:$Q$51,16,FALSE)","v":"00:00:58.950"}]
[{"$f":"IF(Pivots!I17=\"(Blank)\",\"\",Pivots!I17)","v":0},{"$f":"VLOOKUP($C26,'Test 1'!$A$12:$Q$51,15,FALSE)","v":13},{"$f":"IF(Pivots!J17=\"(Blank)\",\"\",Pivots!J17)","v":15},{"$f":"VLOOKUP($C26,'Test 1'!$A$12:$Q$51,2,FALSE)","v":"Khi Fulthorpe"},{"$f":"VLOOKUP($C26,'Test 1'!$A$12:$Q$51,7,FALSE)","v":""},{"$f":"VLOOKUP($C26,'Test 1'!$A$12:$Q$51,3,FALSE)","v":""},{"$f":"VLOOKUP($C26,'Test 1'!$A$12:$Q$51,4,FALSE)","v":""},{"$f":"VLOOKUP($C26,'Test 1'!$A$12:$Q$51,5,FALSE)","v":"senior"},{"$f":"VLOOKUP($C26,'Test 1'!$A$12:$Q$51,13,FALSE)","v":"00:00:59.020"},{"$f":"VLOOKUP($C26,'Test 1'!$A$12:$Q$51,16,FALSE)","v":"00:00:59.020"}]
[{"$f":"IF(Pivots!I18=\"(Blank)\",\"\",Pivots!I18)","v":0},{"$f":"VLOOKUP($C27,'Test 1'!$A$12:$Q$51,15,FALSE)","v":14},{"$f":"IF(Pivots!J18=\"(Blank)\",\"\",Pivots!J18)","v":5},{"$f":"VLOOKUP($C27,'Test 1'!$A$12:$Q$51,2,FALSE)","v":"Janelle Ballard"},{"$f":"VLOOKUP($C27,'Test 1'!$A$12:$Q$51,7,FALSE)","v":""},{"$f":"VLOOKUP($C27,'Test 1'!$A$12:$Q$51,3,FALSE)","v":""},{"$f":"VLOOKUP($C27,'Test 1'!$A$12:$Q$51,4,FALSE)","v":"female"},{"$f":"VLOOKUP($C27,'Test 1'!$A$12:$Q$51,5,FALSE)","v":"senior"},{"$f":"VLOOKUP($C27,'Test 1'!$A$12:$Q$51,13,FALSE)","v":"00:00:59.300"},{"$f":"VLOOKUP($C27,'Test 1'!$A$12:$Q$51,16,FALSE)","v":"00:00:59.300"}]
[{"$f":"IF(Pivots!I19=\"(Blank)\",\"\",Pivots!I19)","v":0},{"$f":"VLOOKUP($C28,'Test 1'!$A$12:$Q$51,15,FALSE)","v":15},{"$f":"IF(Pivots!J19=\"(Blank)\",\"\",Pivots!J19)","v":6},{"$f":"VLOOKUP($C28,'Test 1'!$A$12:$Q$51,2,FALSE)","v":"Issac Wishart"},{"$f":"VLOOKUP($C28,'Test 1'!$A$12:$Q$51,7,FALSE)","v":""},{"$f":"VLOOKUP($C28,'Test 1'!$A$12:$Q$51,3,FALSE)","v":"rookie"},{"$f":"VLOOKUP($C28,'Test 1'!$A$12:$Q$51,4,FALSE)","v":""},{"$f":"VLOOKUP($C28,'Test 1'!$A$12:$Q$51,5,FALSE)","v":"senior"},{"$f":"VLOOKUP($C28,'Test 1'!$A$12:$Q$51,13,FALSE)","v":"00:01:03.650"},{"$f":"VLOOKUP($C28,'Test 1'!$A$12:$Q$51,16,FALSE)","v":"00:01:03.650"}]
[{"$f":"IF(Pivots!I20=\"(Blank)\",\"\",Pivots!I20)","v":0},{"$f":"VLOOKUP($C29,'Test 1'!$A$12:$Q$51,15,FALSE)","v":16},{"$f":"IF(Pivots!J20=\"(Blank)\",\"\",Pivots!J20)","v":8},{"$f":"VLOOKUP($C29,'Test 1'!$A$12:$Q$51,2,FALSE)","v":"Jim Taylor"},{"$f":"VLOOKUP($C29,'Test 1'!$A$12:$Q$51,7,FALSE)","v":""},{"$f":"VLOOKUP($C29,'Test 1'!$A$12:$Q$51,3,FALSE)","v":""},{"$f":"VLOOKUP($C29,'Test 1'!$A$12:$Q$51,4,FALSE)","v":""},{"$f":"VLOOKUP($C29,'Test 1'!$A$12:$Q$51,5,FALSE)","v":"senior"},{"$f":"VLOOKUP($C29,'Test 1'!$A$12:$Q$51,13,FALSE)","v":"00:01:03.680"},{"$f":"VLOOKUP($C29,'Test 1'!$A$12:$Q$51,16,FALSE)","v":"00:01:03.680"}]
[{"$f":"IF(Pivots!I21=\"(Blank)\",\"\",Pivots!I21)","v":0},{"$f":"VLOOKUP($C30,'Test 1'!$A$12:$Q$51,15,FALSE)","v":17},{"$f":"IF(Pivots!J21=\"(Blank)\",\"\",Pivots!J21)","v":18},{"$f":"VLOOKUP($C30,'Test 1'!$A$12:$Q$51,2,FALSE)","v":"Jack Stanley"},{"$f":"VLOOKUP($C30,'Test 1'!$A$12:$Q$51,7,FALSE)","v":""},{"$f":"VLOOKUP($C30,'Test 1'!$A$12:$Q$51,3,FALSE)","v":"rookie"},{"$f":"VLOOKUP($C30,'Test 1'!$A$12:$Q$51,4,FALSE)","v":""},{"$f":"VLOOKUP($C30,'Test 1'!$A$12:$Q$51,5,FALSE)","v":"senior"},{"$f":"VLOOKUP($C30,'Test 1'!$A$12:$Q$51,13,FALSE)","v":"00:01:06.620"},{"$f":"VLOOKUP($C30,'Test 1'!$A$12:$Q$51,16,FALSE)","v":"00:01:06.620"}]
[{"$f":"IF(Pivots!I22=\"(Blank)\",\"\",Pivots!I22)","v":0},{"$f":"VLOOKUP($C31,'Test 1'!$A$12:$Q$51,15,FALSE)","v":18},{"$f":"IF(Pivots!J22=\"(Blank)\",\"\",Pivots!J22)","v":4},{"$f":"VLOOKUP($C31,'Test 1'!$A$12:$Q$51,2,FALSE)","v":"Michaela Ballard"},{"$f":"VLOOKUP($C31,'Test 1'!$A$12:$Q$51,7,FALSE)","v":""},{"$f":"VLOOKUP($C31,'Test 1'!$A$12:$Q$51,3,FALSE)","v":"rookie"},{"$f":"VLOOKUP($C31,'Test 1'!$A$12:$Q$51,4,FALSE)","v":"female"},{"$f":"VLOOKUP($C31,'Test 1'!$A$12:$Q$51,5,FALSE)","v":"senior"},{"$f":"VLOOKUP($C31,'Test 1'!$A$12:$Q$51,13,FALSE)","v":"00:01:10.900"},{"$f":"VLOOKUP($C31,'Test 1'!$A$12:$Q$51,16,FALSE)","v":"00:01:10.900"}]
[{"$f":"IF(Pivots!I23=\"(Blank)\",\"\",Pivots!I23)","v":0},{"$f":"VLOOKUP($C32,'Test 1'!$A$12:$Q$51,15,FALSE)","v":19},{"$f":"IF(Pivots!J23=\"(Blank)\",\"\",Pivots!J23)","v":13},{"$f":"VLOOKUP($C32,'Test 1'!$A$12:$Q$51,2,FALSE)","v":"Aaron Wishart"},{"$f":"VLOOKUP($C32,'Test 1'!$A$12:$Q$51,7,FALSE)","v":""},{"$f":"VLOOKUP($C32,'Test 1'!$A$12:$Q$51,3,FALSE)","v":""},{"$f":"VLOOKUP($C32,'Test 1'!$A$12:$Q$51,4,FALSE)","v":""},{"$f":"VLOOKUP($C32,'Test 1'!$A$12:$Q$51,5,FALSE)","v":"senior"},{"$f":"VLOOKUP($C32,'Test 1'!$A$12:$Q$51,13,FALSE)","v":"00:01:24.040"},{"$f":"VLOOKUP($C32,'Test 1'!$A$12:$Q$51,16,FALSE)","v":"00:01:24.040"}]
[{"$f":"IF(Pivots!I24=\"(Blank)\",\"\",Pivots!I24)","v":0},{"$f":"VLOOKUP($C33,'Test 1'!$A$12:$Q$51,15,FALSE)","v":20},{"$f":"IF(Pivots!J24=\"(Blank)\",\"\",Pivots!J24)","v":7},{"$f":"VLOOKUP($C33,'Test 1'!$A$12:$Q$51,2,FALSE)","v":""},{"$f":"VLOOKUP($C33,'Test 1'!$A$12:$Q$51,7,FALSE)","v":""},{"$f":"VLOOKUP($C33,'Test 1'!$A$12:$Q$51,3,FALSE)","v":""},{"$f":"VLOOKUP($C33,'Test 1'!$A$12:$Q$51,4,FALSE)","v":""},{"$f":"VLOOKUP($C33,'Test 1'!$A$12:$Q$51,5,FALSE)","v":"senior"},{"$f":"VLOOKUP($C33,'Test 1'!$A$12:$Q$51,13,FALSE)","v":"00:01:34.040"},{"$f":"VLOOKUP($C33,'Test 1'!$A$12:$Q$51,16,FALSE)","v":"00:01:34.040"}]
[{"$f":"IF(Pivots!I25=\"(Blank)\",\"\",Pivots!I25)","v":0},{"$f":"VLOOKUP($C34,'Test 1'!$A$12:$Q$51,15,FALSE)","v":20},{"$f":"IF(Pivots!J25=\"(Blank)\",\"\",Pivots!J25)","v":21},{"$f":"VLOOKUP($C34,'Test 1'!$A$12:$Q$51,2,FALSE)","v":""},{"$f":"VLOOKUP($C34,'Test 1'!$A$12:$Q$51,7,FALSE)","v":""},{"$f":"VLOOKUP($C34,'Test 1'!$A$12:$Q$51,3,FALSE)","v":""},{"$f":"VLOOKUP($C34,'Test 1'!$A$12:$Q$51,4,FALSE)","v":""},{"$f":"VLOOKUP($C34,'Test 1'!$A$12:$Q$51,5,FALSE)","v":"senior"},{"$f":"VLOOKUP($C34,'Test 1'!$A$12:$Q$51,13,FALSE)","v":"00:01:34.040"},{"$f":"VLOOKUP($C34,'Test 1'!$A$12:$Q$51,16,FALSE)","v":"00:01:34.040"}]
[{"$f":"IF(Pivots!I26=\"(Blank)\",\"\",Pivots!I26)","v":0},{"$f":"VLOOKUP($C35,'Test 1'!$A$12:$Q$51,15,FALSE)","v":20},{"$f":"IF(Pivots!J26=\"(Blank)\",\"\",Pivots!J26)","v":22},{"$f":"VLOOKUP($C35,'Test 1'!$A$12:$Q$51,2,FALSE)","v":""},{"$f":"VLOOKUP($C35,'Test 1'!$A$12:$Q$51,7,FALSE)","v":""},{"$f":"VLOOKUP($C35,'Test 1'!$A$12:$Q$51,3,FALSE)","v":""},{"$f":"VLOOKUP($C35,'Test 1'!$A$12:$Q$51,4,FALSE)","v":""},{"$f":"VLOOKUP($C35,'Test 1'!$A$12:$Q$51,5,FALSE)","v":"senior"},{"$f":"VLOOKUP($C35,'Test 1'!$A$12:$Q$51,13,FALSE)","v":"00:01:34.040"},{"$f":"VLOOKUP($C35,'Test 1'!$A$12:$Q$51,16,FALSE)","v":"00:01:34.040"}]
[{"$f":"IF(Pivots!I27=\"(Blank)\",\"\",Pivots!I27)","v":0},{"$f":"VLOOKUP($C36,'Test 1'!$A$12:$Q$51,15,FALSE)","v":20},{"$f":"IF(Pivots!J27=\"(Blank)\",\"\",Pivots!J27)","v":23},{"$f":"VLOOKUP($C36,'Test 1'!$A$12:$Q$51,2,FALSE)","v":""},{"$f":"VLOOKUP($C36,'Test 1'!$A$12:$Q$51,7,FALSE)","v":""},{"$f":"VLOOKUP($C36,'Test 1'!$A$12:$Q$51,3,FALSE)","v":""},{"$f":"VLOOKUP($C36,'Test 1'!$A$12:$Q$51,4,FALSE)","v":""},{"$f":"VLOOKUP($C36,'Test 1'!$A$12:$Q$51,5,FALSE)","v":"senior"},{"$f":"VLOOKUP($C36,'Test 1'!$A$12:$Q$51,13,FALSE)","v":"00:01:34.040"},{"$f":"VLOOKUP($C36,'Test 1'!$A$12:$Q$51,16,FALSE)","v":"00:01:34.040"}]
[{"$f":"IF(Pivots!I28=\"(Blank)\",\"\",Pivots!I28)","v":0},{"$f":"VLOOKUP($C37,'Test 1'!$A$12:$Q$51,15,FALSE)","v":20},{"$f":"IF(Pivots!J28=\"(Blank)\",\"\",Pivots!J28)","v":24},{"$f":"VLOOKUP($C37,'Test 1'!$A$12:$Q$51,2,FALSE)","v":""},{"$f":"VLOOKUP($C37,'Test 1'!$A$12:$Q$51,7,FALSE)","v":""},{"$f":"VLOOKUP($C37,'Test 1'!$A$12:$Q$51,3,FALSE)","v":""},{"$f":"VLOOKUP($C37,'Test 1'!$A$12:$Q$51,4,FALSE)","v":""},{"$f":"VLOOKUP($C37,'Test 1'!$A$12:$Q$51,5,FALSE)","v":"senior"},{"$f":"VLOOKUP($C37,'Test 1'!$A$12:$Q$51,13,FALSE)","v":"00:01:34.040"},{"$f":"VLOOKUP($C37,'Test 1'!$A$12:$Q$51,16,FALSE)","v":"00:01:34.040"}]
[{"$f":"IF(Pivots!I29=\"(Blank)\",\"\",Pivots!I29)","v":0},{"$f":"VLOOKUP($C38,'Test 1'!$A$12:$Q$51,15,FALSE)","v":20},{"$f":"IF(Pivots!J29=\"(Blank)\",\"\",Pivots!J29)","v":25},{"$f":"VLOOKUP($C38,'Test 1'!$A$12:$Q$51,2,FALSE)","v":""},{"$f":"VLOOKUP($C38,'Test 1'!$A$12:$Q$51,7,FALSE)","v":""},{"$f":"VLOOKUP($C38,'Test 1'!$A$12:$Q$51,3,FALSE)","v":""},{"$f":"VLOOKUP($C38,'Test 1'!$A$12:$Q$51,4,FALSE)","v":""},{"$f":"VLOOKUP($C38,'Test 1'!$A$12:$Q$51,5,FALSE)","v":"senior"},{"$f":"VLOOKUP($C38,'Test 1'!$A$12:$Q$51,13,FALSE)","v":"00:01:34.040"},{"$f":"VLOOKUP($C38,'Test 1'!$A$12:$Q$51,16,FALSE)","v":"00:01:34.040"}]
[{"$f":"IF(Pivots!I30=\"(Blank)\",\"\",Pivots!I30)","v":0},{"$f":"VLOOKUP($C39,'Test 1'!$A$12:$Q$51,15,FALSE)","v":20},{"$f":"IF(Pivots!J30=\"(Blank)\",\"\",Pivots!J30)","v":26},{"$f":"VLOOKUP($C39,'Test 1'!$A$12:$Q$51,2,FALSE)","v":""},{"$f":"VLOOKUP($C39,'Test 1'!$A$12:$Q$51,7,FALSE)","v":""},{"$f":"VLOOKUP($C39,'Test 1'!$A$12:$Q$51,3,FALSE)","v":""},{"$f":"VLOOKUP($C39,'Test 1'!$A$12:$Q$51,4,FALSE)","v":""},{"$f":"VLOOKUP($C39,'Test 1'!$A$12:$Q$51,5,FALSE)","v":"senior"},{"$f":"VLOOKUP($C39,'Test 1'!$A$12:$Q$51,13,FALSE)","v":"00:01:34.040"},{"$f":"VLOOKUP($C39,'Test 1'!$A$12:$Q$51,16,FALSE)","v":"00:01:34.040"}]
[{"$f":"IF(Pivots!I31=\"(Blank)\",\"\",Pivots!I31)","v":0},{"$f":"VLOOKUP($C40,'Test 1'!$A$12:$Q$51,15,FALSE)","v":20},{"$f":"IF(Pivots!J31=\"(Blank)\",\"\",Pivots!J31)","v":27},{"$f":"VLOOKUP($C40,'Test 1'!$A$12:$Q$51,2,FALSE)","v":""},{"$f":"VLOOKUP($C40,'Test 1'!$A$12:$Q$51,7,FALSE)","v":""},{"$f":"VLOOKUP($C40,'Test 1'!$A$12:$Q$51,3,FALSE)","v":""},{"$f":"VLOOKUP($C40,'Test 1'!$A$12:$Q$51,4,FALSE)","v":""},{"$f":"VLOOKUP($C40,'Test 1'!$A$12:$Q$51,5,FALSE)","v":"senior"},{"$f":"VLOOKUP($C40,'Test 1'!$A$12:$Q$51,13,FALSE)","v":"00:01:34.040"},{"$f":"VLOOKUP($C40,'Test 1'!$A$12:$Q$51,16,FALSE)","v":"00:01:34.040"}]
[{"$f":"IF(Pivots!I32=\"(Blank)\",\"\",Pivots!I32)","v":0},{"$f":"VLOOKUP($C41,'Test 1'!$A$12:$Q$51,15,FALSE)","v":20},{"$f":"IF(Pivots!J32=\"(Blank)\",\"\",Pivots!J32)","v":28},{"$f":"VLOOKUP($C41,'Test 1'!$A$12:$Q$51,2,FALSE)","v":""},{"$f":"VLOOKUP($C41,'Test 1'!$A$12:$Q$51,7,FALSE)","v":""},{"$f":"VLOOKUP($C41,'Test 1'!$A$12:$Q$51,3,FALSE)","v":""},{"$f":"VLOOKUP($C41,'Test 1'!$A$12:$Q$51,4,FALSE)","v":""},{"$f":"VLOOKUP($C41,'Test 1'!$A$12:$Q$51,5,FALSE)","v":"senior"},{"$f":"VLOOKUP($C41,'Test 1'!$A$12:$Q$51,13,FALSE)","v":"00:01:34.040"},{"$f":"VLOOKUP($C41,'Test 1'!$A$12:$Q$51,16,FALSE)","v":"00:01:34.040"}]
[{"$f":"IF(Pivots!I33=\"(Blank)\",\"\",Pivots!I33)","v":0},{"$f":"VLOOKUP($C42,'Test 1'!$A$12:$Q$51,15,FALSE)","v":20},{"$f":"IF(Pivots!J33=\"(Blank)\",\"\",Pivots!J33)","v":29},{"$f":"VLOOKUP($C42,'Test 1'!$A$12:$Q$51,2,FALSE)","v":""},{"$f":"VLOOKUP($C42,'Test 1'!$A$12:$Q$51,7,FALSE)","v":""},{"$f":"VLOOKUP($C42,'Test 1'!$A$12:$Q$51,3,FALSE)","v":""},{"$f":"VLOOKUP($C42,'Test 1'!$A$12:$Q$51,4,FALSE)","v":""},{"$f":"VLOOKUP($C42,'Test 1'!$A$12:$Q$51,5,FALSE)","v":"senior"},{"$f":"VLOOKUP($C42,'Test 1'!$A$12:$Q$51,13,FALSE)","v":"00:01:34.040"},{"$f":"VLOOKUP($C42,'Test 1'!$A$12:$Q$51,16,FALSE)","v":"00:01:34.040"}]
[{"$f":"IF(Pivots!I34=\"(Blank)\",\"\",Pivots!I34)","v":0},{"$f":"VLOOKUP($C43,'Test 1'!$A$12:$Q$51,15,FALSE)","v":20},{"$f":"IF(Pivots!J34=\"(Blank)\",\"\",Pivots!J34)","v":30},{"$f":"VLOOKUP($C43,'Test 1'!$A$12:$Q$51,2,FALSE)","v":""},{"$f":"VLOOKUP($C43,'Test 1'!$A$12:$Q$51,7,FALSE)","v":""},{"$f":"VLOOKUP($C43,'Test 1'!$A$12:$Q$51,3,FALSE)","v":""},{"$f":"VLOOKUP($C43,'Test 1'!$A$12:$Q$51,4,FALSE)","v":""},{"$f":"VLOOKUP($C43,'Test 1'!$A$12:$Q$51,5,FALSE)","v":"senior"},{"$f":"VLOOKUP($C43,'Test 1'!$A$12:$Q$51,13,FALSE)","v":"00:01:34.040"},{"$f":"VLOOKUP($C43,'Test 1'!$A$12:$Q$51,16,FALSE)","v":"00:01:34.040"}]
[{"$f":"IF(Pivots!I35=\"(Blank)\",\"\",Pivots!I35)","v":0},{"$f":"VLOOKUP($C44,'Test 1'!$A$12:$Q$51,15,FALSE)","v":20},{"$f":"IF(Pivots!J35=\"(Blank)\",\"\",Pivots!J35)","v":31},{"$f":"VLOOKUP($C44,'Test 1'!$A$12:$Q$51,2,FALSE)","v":""},{"$f":"VLOOKUP($C44,'Test 1'!$A$12:$Q$51,7,FALSE)","v":""},{"$f":"VLOOKUP($C44,'Test 1'!$A$12:$Q$51,3,FALSE)","v":""},{"$f":"VLOOKUP($C44,'Test 1'!$A$12:$Q$51,4,FALSE)","v":""},{"$f":"VLOOKUP($C44,'Test 1'!$A$12:$Q$51,5,FALSE)","v":"senior"},{"$f":"VLOOKUP($C44,'Test 1'!$A$12:$Q$51,13,FALSE)","v":"00:01:34.040"},{"$f":"VLOOKUP($C44,'Test 1'!$A$12:$Q$51,16,FALSE)","v":"00:01:34.040"}]
[{"$f":"IF(Pivots!I36=\"(Blank)\",\"\",Pivots!I36)","v":0},{"$f":"VLOOKUP($C45,'Test 1'!$A$12:$Q$51,15,FALSE)","v":20},{"$f":"IF(Pivots!J36=\"(Blank)\",\"\",Pivots!J36)","v":32},{"$f":"VLOOKUP($C45,'Test 1'!$A$12:$Q$51,2,FALSE)","v":""},{"$f":"VLOOKUP($C45,'Test 1'!$A$12:$Q$51,7,FALSE)","v":""},{"$f":"VLOOKUP($C45,'Test 1'!$A$12:$Q$51,3,FALSE)","v":""},{"$f":"VLOOKUP($C45,'Test 1'!$A$12:$Q$51,4,FALSE)","v":""},{"$f":"VLOOKUP($C45,'Test 1'!$A$12:$Q$51,5,FALSE)","v":"senior"},{"$f":"VLOOKUP($C45,'Test 1'!$A$12:$Q$51,13,FALSE)","v":"00:01:34.040"},{"$f":"VLOOKUP($C45,'Test 1'!$A$12:$Q$51,16,FALSE)","v":"00:01:34.040"}]
[{"$f":"IF(Pivots!I37=\"(Blank)\",\"\",Pivots!I37)","v":0},{"$f":"VLOOKUP($C46,'Test 1'!$A$12:$Q$51,15,FALSE)","v":20},{"$f":"IF(Pivots!J37=\"(Blank)\",\"\",Pivots!J37)","v":33},{"$f":"VLOOKUP($C46,'Test 1'!$A$12:$Q$51,2,FALSE)","v":""},{"$f":"VLOOKUP($C46,'Test 1'!$A$12:$Q$51,7,FALSE)","v":""},{"$f":"VLOOKUP($C46,'Test 1'!$A$12:$Q$51,3,FALSE)","v":""},{"$f":"VLOOKUP($C46,'Test 1'!$A$12:$Q$51,4,FALSE)","v":""},{"$f":"VLOOKUP($C46,'Test 1'!$A$12:$Q$51,5,FALSE)","v":"senior"},{"$f":"VLOOKUP($C46,'Test 1'!$A$12:$Q$51,13,FALSE)","v":"00:01:34.040"},{"$f":"VLOOKUP($C46,'Test 1'!$A$12:$Q$51,16,FALSE)","v":"00:01:34.040"}]
[{"$f":"IF(Pivots!I38=\"(Blank)\",\"\",Pivots!I38)","v":0},{"$f":"VLOOKUP($C47,'Test 1'!$A$12:$Q$51,15,FALSE)","v":20},{"$f":"IF(Pivots!J38=\"(Blank)\",\"\",Pivots!J38)","v":34},{"$f":"VLOOKUP($C47,'Test 1'!$A$12:$Q$51,2,FALSE)","v":""},{"$f":"VLOOKUP($C47,'Test 1'!$A$12:$Q$51,7,FALSE)","v":""},{"$f":"VLOOKUP($C47,'Test 1'!$A$12:$Q$51,3,FALSE)","v":""},{"$f":"VLOOKUP($C47,'Test 1'!$A$12:$Q$51,4,FALSE)","v":""},{"$f":"VLOOKUP($C47,'Test 1'!$A$12:$Q$51,5,FALSE)","v":"senior"},{"$f":"VLOOKUP($C47,'Test 1'!$A$12:$Q$51,13,FALSE)","v":"00:01:34.040"},{"$f":"VLOOKUP($C47,'Test 1'!$A$12:$Q$51,16,FALSE)","v":"00:01:34.040"}]
[{"$f":"IF(Pivots!I39=\"(Blank)\",\"\",Pivots!I39)","v":0},{"$f":"VLOOKUP($C48,'Test 1'!$A$12:$Q$51,15,FALSE)","v":20},{"$f":"IF(Pivots!J39=\"(Blank)\",\"\",Pivots!J39)","v":35},{"$f":"VLOOKUP($C48,'Test 1'!$A$12:$Q$51,2,FALSE)","v":""},{"$f":"VLOOKUP($C48,'Test 1'!$A$12:$Q$51,7,FALSE)","v":""},{"$f":"VLOOKUP($C48,'Test 1'!$A$12:$Q$51,3,FALSE)","v":""},{"$f":"VLOOKUP($C48,'Test 1'!$A$12:$Q$51,4,FALSE)","v":""},{"$f":"VLOOKUP($C48,'Test 1'!$A$12:$Q$51,5,FALSE)","v":"senior"},{"$f":"VLOOKUP($C48,'Test 1'!$A$12:$Q$51,13,FALSE)","v":"00:01:34.040"},{"$f":"VLOOKUP($C48,'Test 1'!$A$12:$Q$51,16,FALSE)","v":"00:01:34.040"}]
[{"$f":"IF(Pivots!I40=\"(Blank)\",\"\",Pivots!I40)","v":0},{"$f":"VLOOKUP($C49,'Test 1'!$A$12:$Q$51,15,FALSE)","v":20},{"$f":"IF(Pivots!J40=\"(Blank)\",\"\",Pivots!J40)","v":36},{"$f":"VLOOKUP($C49,'Test 1'!$A$12:$Q$51,2,FALSE)","v":""},{"$f":"VLOOKUP($C49,'Test 1'!$A$12:$Q$51,7,FALSE)","v":""},{"$f":"VLOOKUP($C49,'Test 1'!$A$12:$Q$51,3,FALSE)","v":""},{"$f":"VLOOKUP($C49,'Test 1'!$A$12:$Q$51,4,FALSE)","v":""},{"$f":"VLOOKUP($C49,'Test 1'!$A$12:$Q$51,5,FALSE)","v":"senior"},{"$f":"VLOOKUP($C49,'Test 1'!$A$12:$Q$51,13,FALSE)","v":"00:01:34.040"},{"$f":"VLOOKUP($C49,'Test 1'!$A$12:$Q$51,16,FALSE)","v":"00:01:34.040"}]
[{"$f":"IF(Pivots!I41=\"(Blank)\",\"\",Pivots!I41)","v":0},{"$f":"VLOOKUP($C50,'Test 1'!$A$12:$Q$51,15,FALSE)","v":20},{"$f":"IF(Pivots!J41=\"(Blank)\",\"\",Pivots!J41)","v":37},{"$f":"VLOOKUP($C50,'Test 1'!$A$12:$Q$51,2,FALSE)","v":""},{"$f":"VLOOKUP($C50,'Test 1'!$A$12:$Q$51,7,FALSE)","v":""},{"$f":"VLOOKUP($C50,'Test 1'!$A$12:$Q$51,3,FALSE)","v":""},{"$f":"VLOOKUP($C50,'Test 1'!$A$12:$Q$51,4,FALSE)","v":""},{"$f":"VLOOKUP($C50,'Test 1'!$A$12:$Q$51,5,FALSE)","v":"senior"},{"$f":"VLOOKUP($C50,'Test 1'!$A$12:$Q$51,13,FALSE)","v":"00:01:34.040"},{"$f":"VLOOKUP($C50,'Test 1'!$A$12:$Q$51,16,FALSE)","v":"00:01:34.040"}]
[{"$f":"IF(Pivots!I42=\"(Blank)\",\"\",Pivots!I42)","v":0},{"$f":"VLOOKUP($C51,'Test 1'!$A$12:$Q$51,15,FALSE)","v":20},{"$f":"IF(Pivots!J42=\"(Blank)\",\"\",Pivots!J42)","v":38},{"$f":"VLOOKUP($C51,'Test 1'!$A$12:$Q$51,2,FALSE)","v":""},{"$f":"VLOOKUP($C51,'Test 1'!$A$12:$Q$51,7,FALSE)","v":""},{"$f":"VLOOKUP($C51,'Test 1'!$A$12:$Q$51,3,FALSE)","v":""},{"$f":"VLOOKUP($C51,'Test 1'!$A$12:$Q$51,4,FALSE)","v":""},{"$f":"VLOOKUP($C51,'Test 1'!$A$12:$Q$51,5,FALSE)","v":"senior"},{"$f":"VLOOKUP($C51,'Test 1'!$A$12:$Q$51,13,FALSE)","v":"00:01:34.040"},{"$f":"VLOOKUP($C51,'Test 1'!$A$12:$Q$51,16,FALSE)","v":"00:01:34.040"}]
[{"$f":"IF(Pivots!I43=\"(Blank)\",\"\",Pivots!I43)","v":0},{"$f":"VLOOKUP($C52,'Test 1'!$A$12:$Q$51,15,FALSE)","v":20},{"$f":"IF(Pivots!J43=\"(Blank)\",\"\",Pivots!J43)","v":39},{"$f":"VLOOKUP($C52,'Test 1'!$A$12:$Q$51,2,FALSE)","v":""},{"$f":"VLOOKUP($C52,'Test 1'!$A$12:$Q$51,7,FALSE)","v":""},{"$f":"VLOOKUP($C52,'Test 1'!$A$12:$Q$51,3,FALSE)","v":""},{"$f":"VLOOKUP($C52,'Test 1'!$A$12:$Q$51,4,FALSE)","v":""},{"$f":"VLOOKUP($C52,'Test 1'!$A$12:$Q$51,5,FALSE)","v":"senior"},{"$f":"VLOOKUP($C52,'Test 1'!$A$12:$Q$51,13,FALSE)","v":"00:01:34.040"},{"$f":"VLOOKUP($C52,'Test 1'!$A$12:$Q$51,16,FALSE)","v":"00:01:34.040"}]
[{"$f":"IF(Pivots!I44=\"(Blank)\",\"\",Pivots!I44)","v":0},{"$f":"VLOOKUP($C53,'Test 1'!$A$12:$Q$51,15,FALSE)","v":20},{"$f":"IF(Pivots!J44=\"(Blank)\",\"\",Pivots!J44)","v":40},{"$f":"VLOOKUP($C53,'Test 1'!$A$12:$Q$51,2,FALSE)","v":""},{"$f":"VLOOKUP($C53,'Test 1'!$A$12:$Q$51,7,FALSE)","v":""},{"$f":"VLOOKUP($C53,'Test 1'!$A$12:$Q$51,3,FALSE)","v":""},{"$f":"VLOOKUP($C53,'Test 1'!$A$12:$Q$51,4,FALSE)","v":""},{"$f":"VLOOKUP($C53,'Test 1'!$A$12:$Q$51,5,FALSE)","v":"senior"},{"$f":"VLOOKUP($C53,'Test 1'!$A$12:$Q$51,13,FALSE)","v":"00:01:34.040"},{"$f":"VLOOKUP($C53,'Test 1'!$A$12:$Q$51,16,FALSE)","v":"00:01:34.040"}]

{"sheet":"Print_Test 2","index":4,"n_rows":53,"n_cols":10,"rows_kept":53,"cut":false,"hidden":false,"merged":[[11,6,12,6],[11,7,12,7],[8,3,8,5],[9,3,9,5],[11,0,12,0],[11,1,12,1],[11,2,12,2],[11,3,12,3],[11,4,12,4],[11,5,12,5]]}
[]
[]
[]
[]
[]
[]
[]
[]
[null,null,null,"Provisional Results"]
[null,null,null,"Test 2"]
[]
["Outright Position","Test Position","Car Number","Driver","Class","Rookie?","Female?","Junior?","Test Time","Cumulative Time"]
[null,null,null,null,null,null,null,null,"(mm:ss.00)","(mm:ss.00)"]
[{"$f":"IF(Pivots!T5=\"(Blank)\",\"\",Pivots!T5)","v":0},{"$f":"VLOOKUP($C14,'Test 2'!$A$12:$Q$51,15,FALSE)","v":1},{"$f":"IF(Pivots!U5=\"(Blank)\",\"\",Pivots!U5)","v":17},{"$f":"VLOOKUP($C14,'Test 2'!$A$12:$Q$51,2,FALSE)","v":"Reece McIntosh"},{"$f":"VLOOKUP($C14,'Test 2'!$A$12:$Q$51,7,FALSE)","v":""},{"$f":"VLOOKUP($C14,'Test 2'!$A$12:$Q$51,3,FALSE)","v":""},{"$f":"VLOOKUP($C14,'Test 2'!$A$12:$Q$51,4,FALSE)","v":""},{"$f":"VLOOKUP($C14,'Test 2'!$A$12:$Q$51,5,FALSE)","v":"senior"},{"$f":"VLOOKUP($C14,'Test 2'!$A$12:$Q$51,13,FALSE)","v":"00:00:43.700"},{"$f":"VLOOKUP($C14,'Test 2'!$A$12:$Q$51,16,FALSE)","v":"00:01:33.320"}]
[{"$f":"IF(Pivots!T6=\"(Blank)\",\"\",Pivots!T6)","v":0},{"$f":"VLOOKUP($C15,'Test 2'!$A$12:$Q$51,15,FALSE)","v":2},{"$f":"IF(Pivots!U6=\"(Blank)\",\"\",Pivots!U6)","v":1},{"$f":"VLOOKUP($C15,'Test 2'!$A$12:$Q$51,2,FALSE)","v":"Paul Dunn"},{"$f":"VLOOKUP($C15,'Test 2'!$A$12:$Q$51,7,FALSE)","v":""},{"$f":"VLOOKUP($C15,'Test 2'!$A$12:$Q$51,3,FALSE)","v":""},{"$f":"VLOOKUP($C15,'Test 2'!$A$12:$Q$51,4,FALSE)","v":""},{"$f":"VLOOKUP($C15,'Test 2'!$A$12:$Q$51,5,FALSE)","v":"senior"},{"$f":"VLOOKUP($C15,'Test 2'!$A$12:$Q$51,13,FALSE)","v":"00:00:44.900"},{"$f":"VLOOKUP($C15,'Test 2'!$A$12:$Q$51,16,FALSE)","v":"00:01:35.680"}]
[{"$f":"IF(Pivots!T7=\"(Blank)\",\"\",Pivots!T7)","v":0},{"$f":"VLOOKUP($C16,'Test 2'!$A$12:$Q$51,15,FALSE)","v":3},{"$f":"IF(Pivots!U7=\"(Blank)\",\"\",Pivots!U7)","v":9},{"$f":"VLOOKUP($C16,'Test 2'!$A$12:$Q$51,2,FALSE)","v":"Brad Firman"},{"$f":"VLOOKUP($C16,'Test 2'!$A$12:$Q$51,7,FALSE)","v":""},{"$f":"VLOOKUP($C16,'Test 2'!$A$12:$Q$51,3,FALSE)","v":""},{"$f":"VLOOKUP($C16,'Test 2'!$A$12:$Q$51,4,FALSE)","v":""},{"$f":"VLOOKUP($C16,'Test 2'!$A$12:$Q$51,5,FALSE)","v":"senior"},{"$f":"VLOOKUP($C16,'Test 2'!$A$12:$Q$51,13,FALSE)","v":"00:00:45"},{"$f":"VLOOKUP($C16,'Test 2'!$A$12:$Q$51,16,FALSE)","v":"00:01:39.440"}]
[{"$f":"IF(Pivots!T8=\"(Blank)\",\"\",Pivots!T8)","v":0},{"$f":"VLOOKUP($C17,'Test 2'!$A$12:$Q$51,15,FALSE)","v":5},{"$f":"IF(Pivots!U8=\"(Blank)\",\"\",Pivots!U8)","v":14},{"$f":"VLOOKUP($C17,'Test 2'!$A$12:$Q$51,2,FALSE)","v":"Bob Fulthorpe"},{"$f":"VLOOKUP($C17,'Test 2'!$A$12:$Q$51,7,FALSE)","v":""},{"$f":"VLOOKUP($C17,'Test 2'!$A$12:$Q$51,3,FALSE)","v":""},{"$f":"VLOOKUP($C17,'Test 2'!$A$12:$Q$51,4,FALSE)","v":""},{"$f":"VLOOKUP($C17,'Test 2'!$A$12:$Q$51,5,FALSE)","v":"senior"},{"$f":"VLOOKUP($C17,'Test 2'!$A$12:$Q$51,13,FALSE)","v":"00:00:46.600"},{"$f":"VLOOKUP($C17,'Test 2'!$A$12:$Q$51,16,FALSE)","v":"00:01:40.080"}]
[{"$f":"IF(Pivots!T9=\"(Blank)\",\"\",Pivots!T9)","v":0},{"$f":"VLOOKUP($C18,'Test 2'!$A$12:$Q$51,15,FALSE)","v":4},{"$f":"IF(Pivots!U9=\"(Blank)\",\"\",Pivots!U9)","v":2},{"$f":"VLOOKUP($C18,'Test 2'!$A$12:$Q$51,2,FALSE)","v":"Stephen Thorne"},{"$f":"VLOOKUP($C18,'Test 2'!$A$12:$Q$51,7,FALSE)","v":""},{"$f":"VLOOKUP($C18,'Test 2'!$A$12:$Q$51,3,FALSE)","v":""},{"$f":"VLOOKUP($C18,'Test 2'!$A$12:$Q$51,4,FALSE)","v":""},{"$f":"VLOOKUP($C18,'Test 2'!$A$12:$Q$51,5,FALSE)","v":"senior"},{"$f":"VLOOKUP($C18,'Test 2'!$A$12:$Q$51,13,FALSE)","v":"00:00:45.700"},{"$f":"VLOOKUP($C18,'Test 2'!$A$12:$Q$51,16,FALSE)","v":"00:01:40.530"}]
[{"$f":"IF(Pivots!T10=\"(Blank)\",\"\",Pivots!T10)","v":0},{"$f":"VLOOKUP($C19,'Test 2'!$A$12:$Q$51,15,FALSE)","v":10},{"$f":"IF(Pivots!U10=\"(Blank)\",\"\",Pivots!U10)","v":19},{"$f":"VLOOKUP($C19,'Test 2'!$A$12:$Q$51,2,FALSE)","v":"Christopher Northey"},{"$f":"VLOOKUP($C19,'Test 2'!$A$12:$Q$51,7,FALSE)","v":""},{"$f":"VLOOKUP($C19,'Test 2'!$A$12:$Q$51,3,FALSE)","v":""},{"$f":"VLOOKUP($C19,'Test 2'!$A$12:$Q$51,4,FALSE)","v":""},{"$f":"VLOOKUP($C19,'Test 2'!$A$12:$Q$51,5,FALSE)","v":"senior"},{"$f":"VLOOKUP($C19,'Test 2'!$A$12:$Q$51,13,FALSE)","v":"00:00:48.500"},{"$f":"VLOOKUP($C19,'Test 2'!$A$12:$Q$51,16,FALSE)","v":"00:01:42.120"}]
[{"$f":"IF(Pivots!T11=\"(Blank)\",\"\",Pivots!T11)","v":0},{"$f":"VLOOKUP($C20,'Test 2'!$A$12:$Q$51,15,FALSE)","v":6},{"$f":"IF(Pivots!U11=\"(Blank)\",\"\",Pivots!U11)","v":20},{"$f":"VLOOKUP($C20,'Test 2'!$A$12:$Q$51,2,FALSE)","v":"Ray Lampl"},{"$f":"VLOOKUP($C20,'Test 2'!$A$12:$Q$51,7,FALSE)","v":""},{"$f":"VLOOKUP($C20,'Test 2'!$A$12:$Q$51,3,FALSE)","v":""},{"$f":"VLOOKUP($C20,'Test 2'!$A$12:$Q$51,4,FALSE)","v":""},{"$f":"VLOOKUP($C20,'Test 2'!$A$12:$Q$51,5,FALSE)","v":"senior"},{"$f":"VLOOKUP($C20,'Test 2'!$A$12:$Q$51,13,FALSE)","v":"00:00:47"},{"$f":"VLOOKUP($C20,'Test 2'!$A$12:$Q$51,16,FALSE)","v":"00:01:42.910"}]
[{"$f":"IF(Pivots!T12=\"(Blank)\",\"\",Pivots!T12)","v":0},{"$f":"VLOOKUP($C21,'Test 2'!$A$12:$Q$51,15,FALSE)","v":11},{"$f":"IF(Pivots!U12=\"(Blank)\",\"\",Pivots!U12)","v":3},{"$f":"VLOOKUP($C21,'Test 2'!$A$12:$Q$51,2,FALSE)","v":"David Ballard"},{"$f":"VLOOKUP($C21,'Test 2'!$A$12:$Q$51,7,FALSE)","v":""},{"$f":"VLOOKUP($C21,'Test 2'!$A$12:$Q$51,3,FALSE)","v":""},{"$f":"VLOOKUP($C21,'Test 2'!$A$12:$Q$51,4,FALSE)","v":""},{"$f":"VLOOKUP($C21,'Test 2'!$A$12:$Q$51,5,FALSE)","v":"senior"},{"$f":"VLOOKUP($C21,'Test 2'!$A$12:$Q$51,13,FALSE)","v":"00:00:51.100"},{"$f":"VLOOKUP($C21,'Test 2'!$A$12:$Q$51,16,FALSE)","v":"00:01:44.940"}]
[{"$f":"IF(Pivots!T13=\"(Blank)\",\"\",Pivots!T13)","v":0},{"$f":"VLOOKUP($C22,'Test 2'!$A$12:$Q$51,15,FALSE)","v":7},{"$f":"IF(Pivots!U13=\"(Blank)\",\"\",Pivots!U13)","v":15},{"$f":"VLOOKUP($C22,'Test 2'!$A$12:$Q$51,2,FALSE)","v":"Khi Fulthorpe"},{"$f":"VLOOKUP($C22,'Test 2'!$A$12:$Q$51,7,FALSE)","v":""},{"$f":"VLOOKUP($C22,'Test 2'!$A$12:$Q$51,3,FALSE)","v":""},{"$f":"VLOOKUP($C22,'Test 2'!$A$12:$Q$51,4,FALSE)","v":""},{"$f":"VLOOKUP($C22,'Test 2'!$A$12:$Q$51,5,FALSE)","v":"senior"},{"$f":"VLOOKUP($C22,'Test 2'!$A$12:$Q$51,13,FALSE)","v":"00:00:47.800"},{"$f":"VLOOKUP($C22,'Test 2'!$A$12:$Q$51,16,FALSE)","v":"00:01:46.820"}]
[{"$f":"IF(Pivots!T14=\"(Blank)\",\"\",Pivots!T14)","v":0},{"$f":"VLOOKUP($C23,'Test 2'!$A$12:$Q$51,15,FALSE)","v":9},{"$f":"IF(Pivots!U14=\"(Blank)\",\"\",Pivots!U14)","v":5},{"$f":"VLOOKUP($C23,'Test 2'!$A$12:$Q$51,2,FALSE)","v":"Janelle Ballard"},{"$f":"VLOOKUP($C23,'Test 2'!$A$12:$Q$51,7,FALSE)","v":""},{"$f":"VLOOKUP($C23,'Test 2'!$A$12:$Q$51,3,FALSE)","v":""},{"$f":"VLOOKUP($C23,'Test 2'!$A$12:$Q$51,4,FALSE)","v":"female"},{"$f":"VLOOKUP($C23,'Test 2'!$A$12:$Q$51,5,FALSE)","v":"senior"},{"$f":"VLOOKUP($C23,'Test 2'!$A$12:$Q$51,13,FALSE)","v":"00:00:48.400"},{"$f":"VLOOKUP($C23,'Test 2'!$A$12:$Q$51,16,FALSE)","v":"00:01:47.700"}]
[{"$f":"IF(Pivots!T15=\"(Blank)\",\"\",Pivots!T15)","v":0},{"$f":"VLOOKUP($C24,'Test 2'!$A$12:$Q$51,15,FALSE)","v":14},{"$f":"IF(Pivots!U15=\"(Blank)\",\"\",Pivots!U15)","v":12},{"$f":"VLOOKUP($C24,'Test 2'!$A$12:$Q$51,2,FALSE)","v":"Mat Boorman"},{"$f":"VLOOKUP($C24,'Test 2'!$A$12:$Q$51,7,FALSE)","v":""},{"$f":"VLOOKUP($C24,'Test 2'!$A$12:$Q$51,3,FALSE)","v":""},{"$f":"VLOOKUP($C24,'Test 2'!$A$12:$Q$51,4,FALSE)","v":""},{"$f":"VLOOKUP($C24,'Test 2'!$A$12:$Q$51,5,FALSE)","v":"senior"},{"$f":"VLOOKUP($C24,'Test 2'!$A$12:$Q$51,13,FALSE)","v":"00:00:54.500"},{"$f":"VLOOKUP($C24,'Test 2'!$A$12:$Q$51,16,FALSE)","v":"00:01:49.470"}]
[{"$f":"IF(Pivots!T16=\"(Blank)\",\"\",Pivots!T16)","v":0},{"$f":"VLOOKUP($C25,'Test 2'!$A$12:$Q$51,15,FALSE)","v":13},{"$f":"IF(Pivots!U16=\"(Blank)\",\"\",Pivots!U16)","v":10},{"$f":"VLOOKUP($C25,'Test 2'!$A$12:$Q$51,2,FALSE)","v":"Scott Taylor"},{"$f":"VLOOKUP($C25,'Test 2'!$A$12:$Q$51,7,FALSE)","v":""},{"$f":"VLOOKUP($C25,'Test 2'!$A$12:$Q$51,3,FALSE)","v":""},{"$f":"VLOOKUP($C25,'Test 2'!$A$12:$Q$51,4,FALSE)","v":""},{"$f":"VLOOKUP($C25,'Test 2'!$A$12:$Q$51,5,FALSE)","v":"senior"},{"$f":"VLOOKUP($C25,'Test 2'!$A$12:$Q$51,13,FALSE)","v":"00:00:54.100"},{"$f":"VLOOKUP($C25,'Test 2'!$A$12:$Q$51,16,FALSE)","v":"00:01:51.240"}]
[{"$f":"IF(Pivots!T17=\"(Blank)\",\"\",Pivots!T17)","v":0},{"$f":"VLOOKUP($C26,'Test 2'!$A$12:$Q$51,15,FALSE)","v":8},{"$f":"IF(Pivots!U17=\"(Blank)\",\"\",Pivots!U17)","v":8},{"$f":"VLOOKUP($C26,'Test 2'!$A$12:$Q$51,2,FALSE)","v":"Jim Taylor"},{"$f":"VLOOKUP($C26,'Test 2'!$A$12:$Q$51,7,FALSE)","v":""},{"$f":"VLOOKUP($C26,'Test 2'!$A$12:$Q$51,3,FALSE)","v":""},{"$f":"VLOOKUP($C26,'Test 2'!$A$12:$Q$51,4,FALSE)","v":""},{"$f":"VLOOKUP($C26,'Test 2'!$A$12:$Q$51,5,FALSE)","v":"senior"},{"$f":"VLOOKUP($C26,'Test 2'!$A$12:$Q$51,13,FALSE)","v":"00:00:48.100"},{"$f":"VLOOKUP($C26,'Test 2'!$A$12:$Q$51,16,FALSE)","v":"00:01:51.780"}]
[{"$f":"IF(Pivots!T18=\"(Blank)\",\"\",Pivots!T18)","v":0},{"$f":"VLOOKUP($C27,'Test 2'!$A$12:$Q$51,15,FALSE)","v":17},{"$f":"IF(Pivots!U18=\"(Blank)\",\"\",Pivots!U18)","v":16},{"$f":"VLOOKUP($C27,'Test 2'!$A$12:$Q$51,2,FALSE)","v":"Nathan Senior"},{"$f":"VLOOKUP($C27,'Test 2'!$A$12:$Q$51,7,FALSE)","v":""},{"$f":"VLOOKUP($C27,'Test 2'!$A$12:$Q$51,3,FALSE)","v":""},{"$f":"VLOOKUP($C27,'Test 2'!$A$12:$Q$51,4,FALSE)","v":""},{"$f":"VLOOKUP($C27,'Test 2'!$A$12:$Q$51,5,FALSE)","v":"senior"},{"$f":"VLOOKUP($C27,'Test 2'!$A$12:$Q$51,13,FALSE)","v":"00:00:59.700"},{"$f":"VLOOKUP($C27,'Test 2'!$A$12:$Q$51,16,FALSE)","v":"00:01:54.550"}]
[{"$f":"IF(Pivots!T19=\"(Blank)\",\"\",Pivots!T19)","v":0},{"$f":"VLOOKUP($C28,'Test 2'!$A$12:$Q$51,15,FALSE)","v":12},{"$f":"IF(Pivots!U19=\"(Blank)\",\"\",Pivots!U19)","v":18},{"$f":"VLOOKUP($C28,'Test 2'!$A$12:$Q$51,2,FALSE)","v":"Jack Stanley"},{"$f":"VLOOKUP($C28,'Test 2'!$A$12:$Q$51,7,FALSE)","v":""},{"$f":"VLOOKUP($C28,'Test 2'!$A$12:$Q$51,3,FALSE)","v":"rookie"},{"$f":"VLOOKUP($C28,'Test 2'!$A$12:$Q$51,4,FALSE)","v":""},{"$f":"VLOOKUP($C28,'Test 2'!$A$12:$Q$51,5,FALSE)","v":"senior"},{"$f":"VLOOKUP($C28,'Test 2'!$A$12:$Q$51,13,FALSE)","v":"00:00:51.300"},{"$f":"VLOOKUP($C28,'Test 2'!$A$12:$Q$51,16,FALSE)","v":"00:01:57.920"}]
[{"$f":"IF(Pivots!T20=\"(Blank)\",\"\",Pivots!T20)","v":0},{"$f":"VLOOKUP($C29,'Test 2'!$A$12:$Q$51,15,FALSE)","v":19},{"$f":"IF(Pivots!U20=\"(Blank)\",\"\",Pivots!U20)","v":11},{"$f":"VLOOKUP($C29,'Test 2'!$A$12:$Q$51,2,FALSE)","v":"Russel McKinley"},{"$f":"VLOOKUP($C29,'Test 2'!$A$12:$Q$51,7,FALSE)","v":""},{"$f":"VLOOKUP($C29,'Test 2'!$A$12:$Q$51,3,FALSE)","v":""},{"$f":"VLOOKUP($C29,'Test 2'!$A$12:$Q$51,4,FALSE)","v":""},{"$f":"VLOOKUP($C29,'Test 2'!$A$12:$Q$51,5,FALSE)","v":"senior"},{"$f":"VLOOKUP($C29,'Test 2'!$A$12:$Q$51,13,FALSE)","v":"00:01:04.300"},{"$f":"VLOOKUP($C29,'Test 2'!$A$12:$Q$51,16,FALSE)","v":"00:02:03.250"}]
[{"$f":"IF(Pivots!T21=\"(Blank)\",\"\",Pivots!T21)","v":0},{"$f":"VLOOKUP($C30,'Test 2'!$A$12:$Q$51,15,FALSE)","v":17},{"$f":"IF(Pivots!U21=\"(Blank)\",\"\",Pivots!U21)","v":6},{"$f":"VLOOKUP($C30,'Test 2'!$A$12:$Q$51,2,FALSE)","v":"Issac Wishart"},{"$f":"VLOOKUP($C30,'Test 2'!$A$12:$Q$51,7,FALSE)","v":""},{"$f":"VLOOKUP($C30,'Test 2'!$A$12:$Q$51,3,FALSE)","v":"rookie"},{"$f":"VLOOKUP($C30,'Test 2'!$A$12:$Q$51,4,FALSE)","v":""},{"$f":"VLOOKUP($C30,'Test 2'!$A$12:$Q$51,5,FALSE)","v":"senior"},{"$f":"VLOOKUP($C30,'Test 2'!$A$12:$Q$51,13,FALSE)","v":"00:00:59.700"},{"$f":"VLOOKUP($C30,'Test 2'!$A$12:$Q$51,16,FALSE)","v":"00:02:03.350"}]
[{"$f":"IF(Pivots!T22=\"(Blank)\",\"\",Pivots!T22)","v":0},{"$f":"VLOOKUP($C31,'Test 2'!$A$12:$Q$51,15,FALSE)","v":16},{"$f":"IF(Pivots!U22=\"(Blank)\",\"\",Pivots!U22)","v":4},{"$f":"VLOOKUP($C31,'Test 2'!$A$12:$Q$51,2,FALSE)","v":"Michaela Ballard"},{"$f":"VLOOKUP($C31,'Test 2'!$A$12:$Q$51,7,FALSE)","v":""},{"$f":"VLOOKUP($C31,'Test 2'!$A$12:$Q$51,3,FALSE)","v":"rookie"},{"$f":"VLOOKUP($C31,'Test 2'!$A$12:$Q$51,4,FALSE)","v":"female"},{"$f":"VLOOKUP($C31,'Test 2'!$A$12:$Q$51,5,FALSE)","v":"senior"},{"$f":"VLOOKUP($C31,'Test 2'!$A$12:$Q$51,13,FALSE)","v":"00:00:54.700"},{"$f":"VLOOKUP($C31,'Test 2'!$A$12:$Q$51,16,FALSE)","v":"00:02:05.600"}]
[{"$f":"IF(Pivots!T23=\"(Blank)\",\"\",Pivots!T23)","v":0},{"$f":"VLOOKUP($C32,'Test 2'!$A$12:$Q$51,15,FALSE)","v":14},{"$f":"IF(Pivots!U23=\"(Blank)\",\"\",Pivots!U23)","v":13},{"$f":"VLOOKUP($C32,'Test 2'!$A$12:$Q$51,2,FALSE)","v":"Aaron Wishart"},{"$f":"VLOOKUP($C32,'Test 2'!$A$12:$Q$51,7,FALSE)","v":""},{"$f":"VLOOKUP($C32,'Test 2'!$A$12:$Q$51,3,FALSE)","v":""},{"$f":"VLOOKUP($C32,'Test 2'!$A$12:$Q$51,4,FALSE)","v":""},{"$f":"VLOOKUP($C32,'Test 2'!$A$12:$Q$51,5,FALSE)","v":"senior"},{"$f":"VLOOKUP($C32,'Test 2'!$A$12:$Q$51,13,FALSE)","v":"00:00:54.500"},{"$f":"VLOOKUP($C32,'Test 2'!$A$12:$Q$51,16,FALSE)","v":"00:02:18.540"}]
[{"$f":"IF(Pivots!T24=\"(Blank)\",\"\",Pivots!T24)","v":0},{"$f":"VLOOKUP($C33,'Test 2'!$A$12:$Q$51,15,FALSE)","v":20},{"$f":"IF(Pivots!U24=\"(Blank)\",\"\",Pivots!U24)","v":7},{"$f":"VLOOKUP($C33,'Test 2'!$A$12:$Q$51,2,FALSE)","v":""},{"$f":"VLOOKUP($C33,'Test 2'!$A$12:$Q$51,7,FALSE)","v":""},{"$f":"VLOOKUP($C33,'Test 2'!$A$12:$Q$51,3,FALSE)","v":""},{"$f":"VLOOKUP($C33,'Test 2'!$A$12:$Q$51,4,FALSE)","v":""},{"$f":"VLOOKUP($C33,'Test 2'!$A$12:$Q$51,5,FALSE)","v":"senior"},{"$f":"VLOOKUP($C33,'Test 2'!$A$12:$Q$51,13,FALSE)","v":"00:01:04.700"},{"$f":"VLOOKUP($C33,'Test 2'!$A$12:$Q$51,16,FALSE)","v":"00:02:38.740"}]
[{"$f":"IF(Pivots!T25=\"(Blank)\",\"\",Pivots!T25)","v":0},{"$f":"VLOOKUP($C34,'Test 2'!$A$12:$Q$51,15,FALSE)","v":20},{"$f":"IF(Pivots!U25=\"(Blank)\",\"\",Pivots!U25)","v":21},{"$f":"VLOOKUP($C34,'Test 2'!$A$12:$Q$51,2,FALSE)","v":""},{"$f":"VLOOKUP($C34,'Test 2'!$A$12:$Q$51,7,FALSE)","v":""},{"$f":"VLOOKUP($C34,'Test 2'!$A$12:$Q$51,3,FALSE)","v":""},{"$f":"VLOOKUP($C34,'Test 2'!$A$12:$Q$51,4,FALSE)","v":""},{"$f":"VLOOKUP($C34,'Test 2'!$A$12:$Q$51,5,FALSE)","v":"senior"},{"$f":"VLOOKUP($C34,'Test 2'!$A$12:$Q$51,13,FALSE)","v":"00:01:04.700"},{"$f":"VLOOKUP($C34,'Test 2'!$A$12:$Q$51,16,FALSE)","v":"00:02:38.740"}]
[{"$f":"IF(Pivots!T26=\"(Blank)\",\"\",Pivots!T26)","v":0},{"$f":"VLOOKUP($C35,'Test 2'!$A$12:$Q$51,15,FALSE)","v":20},{"$f":"IF(Pivots!U26=\"(Blank)\",\"\",Pivots!U26)","v":22},{"$f":"VLOOKUP($C35,'Test 2'!$A$12:$Q$51,2,FALSE)","v":""},{"$f":"VLOOKUP($C35,'Test 2'!$A$12:$Q$51,7,FALSE)","v":""},{"$f":"VLOOKUP($C35,'Test 2'!$A$12:$Q$51,3,FALSE)","v":""},{"$f":"VLOOKUP($C35,'Test 2'!$A$12:$Q$51,4,FALSE)","v":""},{"$f":"VLOOKUP($C35,'Test 2'!$A$12:$Q$51,5,FALSE)","v":"senior"},{"$f":"VLOOKUP($C35,'Test 2'!$A$12:$Q$51,13,FALSE)","v":"00:01:04.700"},{"$f":"VLOOKUP($C35,'Test 2'!$A$12:$Q$51,16,FALSE)","v":"00:02:38.740"}]
[{"$f":"IF(Pivots!T27=\"(Blank)\",\"\",Pivots!T27)","v":0},{"$f":"VLOOKUP($C36,'Test 2'!$A$12:$Q$51,15,FALSE)","v":20},{"$f":"IF(Pivots!U27=\"(Blank)\",\"\",Pivots!U27)","v":23},{"$f":"VLOOKUP($C36,'Test 2'!$A$12:$Q$51,2,FALSE)","v":""},{"$f":"VLOOKUP($C36,'Test 2'!$A$12:$Q$51,7,FALSE)","v":""},{"$f":"VLOOKUP($C36,'Test 2'!$A$12:$Q$51,3,FALSE)","v":""},{"$f":"VLOOKUP($C36,'Test 2'!$A$12:$Q$51,4,FALSE)","v":""},{"$f":"VLOOKUP($C36,'Test 2'!$A$12:$Q$51,5,FALSE)","v":"senior"},{"$f":"VLOOKUP($C36,'Test 2'!$A$12:$Q$51,13,FALSE)","v":"00:01:04.700"},{"$f":"VLOOKUP($C36,'Test 2'!$A$12:$Q$51,16,FALSE)","v":"00:02:38.740"}]
[{"$f":"IF(Pivots!T28=\"(Blank)\",\"\",Pivots!T28)","v":0},{"$f":"VLOOKUP($C37,'Test 2'!$A$12:$Q$51,15,FALSE)","v":20},{"$f":"IF(Pivots!U28=\"(Blank)\",\"\",Pivots!U28)","v":24},{"$f":"VLOOKUP($C37,'Test 2'!$A$12:$Q$51,2,FALSE)","v":""},{"$f":"VLOOKUP($C37,'Test 2'!$A$12:$Q$51,7,FALSE)","v":""},{"$f":"VLOOKUP($C37,'Test 2'!$A$12:$Q$51,3,FALSE)","v":""},{"$f":"VLOOKUP($C37,'Test 2'!$A$12:$Q$51,4,FALSE)","v":""},{"$f":"VLOOKUP($C37,'Test 2'!$A$12:$Q$51,5,FALSE)","v":"senior"},{"$f":"VLOOKUP($C37,'Test 2'!$A$12:$Q$51,13,FALSE)","v":"00:01:04.700"},{"$f":"VLOOKUP($C37,'Test 2'!$A$12:$Q$51,16,FALSE)","v":"00:02:38.740"}]
[{"$f":"IF(Pivots!T29=\"(Blank)\",\"\",Pivots!T29)","v":0},{"$f":"VLOOKUP($C38,'Test 2'!$A$12:$Q$51,15,FALSE)","v":20},{"$f":"IF(Pivots!U29=\"(Blank)\",\"\",Pivots!U29)","v":25},{"$f":"VLOOKUP($C38,'Test 2'!$A$12:$Q$51,2,FALSE)","v":""},{"$f":"VLOOKUP($C38,'Test 2'!$A$12:$Q$51,7,FALSE)","v":""},{"$f":"VLOOKUP($C38,'Test 2'!$A$12:$Q$51,3,FALSE)","v":""},{"$f":"VLOOKUP($C38,'Test 2'!$A$12:$Q$51,4,FALSE)","v":""},{"$f":"VLOOKUP($C38,'Test 2'!$A$12:$Q$51,5,FALSE)","v":"senior"},{"$f":"VLOOKUP($C38,'Test 2'!$A$12:$Q$51,13,FALSE)","v":"00:01:04.700"},{"$f":"VLOOKUP($C38,'Test 2'!$A$12:$Q$51,16,FALSE)","v":"00:02:38.740"}]
[{"$f":"IF(Pivots!T30=\"(Blank)\",\"\",Pivots!T30)","v":0},{"$f":"VLOOKUP($C39,'Test 2'!$A$12:$Q$51,15,FALSE)","v":20},{"$f":"IF(Pivots!U30=\"(Blank)\",\"\",Pivots!U30)","v":26},{"$f":"VLOOKUP($C39,'Test 2'!$A$12:$Q$51,2,FALSE)","v":""},{"$f":"VLOOKUP($C39,'Test 2'!$A$12:$Q$51,7,FALSE)","v":""},{"$f":"VLOOKUP($C39,'Test 2'!$A$12:$Q$51,3,FALSE)","v":""},{"$f":"VLOOKUP($C39,'Test 2'!$A$12:$Q$51,4,FALSE)","v":""},{"$f":"VLOOKUP($C39,'Test 2'!$A$12:$Q$51,5,FALSE)","v":"senior"},{"$f":"VLOOKUP($C39,'Test 2'!$A$12:$Q$51,13,FALSE)","v":"00:01:04.700"},{"$f":"VLOOKUP($C39,'Test 2'!$A$12:$Q$51,16,FALSE)","v":"00:02:38.740"}]
[{"$f":"IF(Pivots!T31=\"(Blank)\",\"\",Pivots!T31)","v":0},{"$f":"VLOOKUP($C40,'Test 2'!$A$12:$Q$51,15,FALSE)","v":20},{"$f":"IF(Pivots!U31=\"(Blank)\",\"\",Pivots!U31)","v":27},{"$f":"VLOOKUP($C40,'Test 2'!$A$12:$Q$51,2,FALSE)","v":""},{"$f":"VLOOKUP($C40,'Test 2'!$A$12:$Q$51,7,FALSE)","v":""},{"$f":"VLOOKUP($C40,'Test 2'!$A$12:$Q$51,3,FALSE)","v":""},{"$f":"VLOOKUP($C40,'Test 2'!$A$12:$Q$51,4,FALSE)","v":""},{"$f":"VLOOKUP($C40,'Test 2'!$A$12:$Q$51,5,FALSE)","v":"senior"},{"$f":"VLOOKUP($C40,'Test 2'!$A$12:$Q$51,13,FALSE)","v":"00:01:04.700"},{"$f":"VLOOKUP($C40,'Test 2'!$A$12:$Q$51,16,FALSE)","v":"00:02:38.740"}]
[{"$f":"IF(Pivots!T32=\"(Blank)\",\"\",Pivots!T32)","v":0},{"$f":"VLOOKUP($C41,'Test 2'!$A$12:$Q$51,15,FALSE)","v":20},{"$f":"IF(Pivots!U32=\"(Blank)\",\"\",Pivots!U32)","v":28},{"$f":"VLOOKUP($C41,'Test 2'!$A$12:$Q$51,2,FALSE)","v":""},{"$f":"VLOOKUP($C41,'Test 2'!$A$12:$Q$51,7,FALSE)","v":""},{"$f":"VLOOKUP($C41,'Test 2'!$A$12:$Q$51,3,FALSE)","v":""},{"$f":"VLOOKUP($C41,'Test 2'!$A$12:$Q$51,4,FALSE)","v":""},{"$f":"VLOOKUP($C41,'Test 2'!$A$12:$Q$51,5,FALSE)","v":"senior"},{"$f":"VLOOKUP($C41,'Test 2'!$A$12:$Q$51,13,FALSE)","v":"00:01:04.700"},{"$f":"VLOOKUP($C41,'Test 2'!$A$12:$Q$51,16,FALSE)","v":"00:02:38.740"}]
[{"$f":"IF(Pivots!T33=\"(Blank)\",\"\",Pivots!T33)","v":0},{"$f":"VLOOKUP($C42,'Test 2'!$A$12:$Q$51,15,FALSE)","v":20},{"$f":"IF(Pivots!U33=\"(Blank)\",\"\",Pivots!U33)","v":29},{"$f":"VLOOKUP($C42,'Test 2'!$A$12:$Q$51,2,FALSE)","v":""},{"$f":"VLOOKUP($C42,'Test 2'!$A$12:$Q$51,7,FALSE)","v":""},{"$f":"VLOOKUP($C42,'Test 2'!$A$12:$Q$51,3,FALSE)","v":""},{"$f":"VLOOKUP($C42,'Test 2'!$A$12:$Q$51,4,FALSE)","v":""},{"$f":"VLOOKUP($C42,'Test 2'!$A$12:$Q$51,5,FALSE)","v":"senior"},{"$f":"VLOOKUP($C42,'Test 2'!$A$12:$Q$51,13,FALSE)","v":"00:01:04.700"},{"$f":"VLOOKUP($C42,'Test 2'!$A$12:$Q$51,16,FALSE)","v":"00:02:38.740"}]
[{"$f":"IF(Pivots!T34=\"(Blank)\",\"\",Pivots!T34)","v":0},{"$f":"VLOOKUP($C43,'Test 2'!$A$12:$Q$51,15,FALSE)","v":20},{"$f":"IF(Pivots!U34=\"(Blank)\",\"\",Pivots!U34)","v":30},{"$f":"VLOOKUP($C43,'Test 2'!$A$12:$Q$51,2,FALSE)","v":""},{"$f":"VLOOKUP($C43,'Test 2'!$A$12:$Q$51,7,FALSE)","v":""},{"$f":"VLOOKUP($C43,'Test 2'!$A$12:$Q$51,3,FALSE)","v":""},{"$f":"VLOOKUP($C43,'Test 2'!$A$12:$Q$51,4,FALSE)","v":""},{"$f":"VLOOKUP($C43,'Test 2'!$A$12:$Q$51,5,FALSE)","v":"senior"},{"$f":"VLOOKUP($C43,'Test 2'!$A$12:$Q$51,13,FALSE)","v":"00:01:04.700"},{"$f":"VLOOKUP($C43,'Test 2'!$A$12:$Q$51,16,FALSE)","v":"00:02:38.740"}]
[{"$f":"IF(Pivots!T35=\"(Blank)\",\"\",Pivots!T35)","v":0},{"$f":"VLOOKUP($C44,'Test 2'!$A$12:$Q$51,15,FALSE)","v":20},{"$f":"IF(Pivots!U35=\"(Blank)\",\"\",Pivots!U35)","v":31},{"$f":"VLOOKUP($C44,'Test 2'!$A$12:$Q$51,2,FALSE)","v":""},{"$f":"VLOOKUP($C44,'Test 2'!$A$12:$Q$51,7,FALSE)","v":""},{"$f":"VLOOKUP($C44,'Test 2'!$A$12:$Q$51,3,FALSE)","v":""},{"$f":"VLOOKUP($C44,'Test 2'!$A$12:$Q$51,4,FALSE)","v":""},{"$f":"VLOOKUP($C44,'Test 2'!$A$12:$Q$51,5,FALSE)","v":"senior"},{"$f":"VLOOKUP($C44,'Test 2'!$A$12:$Q$51,13,FALSE)","v":"00:01:04.700"},{"$f":"VLOOKUP($C44,'Test 2'!$A$12:$Q$51,16,FALSE)","v":"00:02:38.740"}]
[{"$f":"IF(Pivots!T36=\"(Blank)\",\"\",Pivots!T36)","v":0},{"$f":"VLOOKUP($C45,'Test 2'!$A$12:$Q$51,15,FALSE)","v":20},{"$f":"IF(Pivots!U36=\"(Blank)\",\"\",Pivots!U36)","v":32},{"$f":"VLOOKUP($C45,'Test 2'!$A$12:$Q$51,2,FALSE)","v":""},{"$f":"VLOOKUP($C45,'Test 2'!$A$12:$Q$51,7,FALSE)","v":""},{"$f":"VLOOKUP($C45,'Test 2'!$A$12:$Q$51,3,FALSE)","v":""},{"$f":"VLOOKUP($C45,'Test 2'!$A$12:$Q$51,4,FALSE)","v":""},{"$f":"VLOOKUP($C45,'Test 2'!$A$12:$Q$51,5,FALSE)","v":"senior"},{"$f":"VLOOKUP($C45,'Test 2'!$A$12:$Q$51,13,FALSE)","v":"00:01:04.700"},{"$f":"VLOOKUP($C45,'Test 2'!$A$12:$Q$51,16,FALSE)","v":"00:02:38.740"}]
[{"$f":"IF(Pivots!T37=\"(Blank)\",\"\",Pivots!T37)","v":0},{"$f":"VLOOKUP($C46,'Test 2'!$A$12:$Q$51,15,FALSE)","v":20},{"$f":"IF(Pivots!U37=\"(Blank)\",\"\",Pivots!U37)","v":33},{"$f":"VLOOKUP($C46,'Test 2'!$A$12:$Q$51,2,FALSE)","v":""},{"$f":"VLOOKUP($C46,'Test 2'!$A$12:$Q$51,7,FALSE)","v":""},{"$f":"VLOOKUP($C46,'Test 2'!$A$12:$Q$51,3,FALSE)","v":""},{"$f":"VLOOKUP($C46,'Test 2'!$A$12:$Q$51,4,FALSE)","v":""},{"$f":"VLOOKUP($C46,'Test 2'!$A$12:$Q$51,5,FALSE)","v":"senior"},{"$f":"VLOOKUP($C46,'Test 2'!$A$12:$Q$51,13,FALSE)","v":"00:01:04.700"},{"$f":"VLOOKUP($C46,'Test 2'!$A$12:$Q$51,16,FALSE)","v":"00:02:38.740"}]
[{"$f":"IF(Pivots!T38=\"(Blank)\",\"\",Pivots!T38)","v":0},{"$f":"VLOOKUP($C47,'Test 2'!$A$12:$Q$51,15,FALSE)","v":20},{"$f":"IF(Pivots!U38=\"(Blank)\",\"\",Pivots!U38)","v":34},{"$f":"VLOOKUP($C47,'Test 2'!$A$12:$Q$51,2,FALSE)","v":""},{"$f":"VLOOKUP($C47,'Test 2'!$A$12:$Q$51,7,FALSE)","v":""},{"$f":"VLOOKUP($C47,'Test 2'!$A$12:$Q$51,3,FALSE)","v":""},{"$f":"VLOOKUP($C47,'Test 2'!$A$12:$Q$51,4,FALSE)","v":""},{"$f":"VLOOKUP($C47,'Test 2'!$A$12:$Q$51,5,FALSE)","v":"senior"},{"$f":"VLOOKUP($C47,'Test 2'!$A$12:$Q$51,13,FALSE)","v":"00:01:04.700"},{"$f":"VLOOKUP($C47,'Test 2'!$A$12:$Q$51,16,FALSE)","v":"00:02:38.740"}]
[{"$f":"IF(Pivots!T39=\"(Blank)\",\"\",Pivots!T39)","v":0},{"$f":"VLOOKUP($C48,'Test 2'!$A$12:$Q$51,15,FALSE)","v":20},{"$f":"IF(Pivots!U39=\"(Blank)\",\"\",Pivots!U39)","v":35},{"$f":"VLOOKUP($C48,'Test 2'!$A$12:$Q$51,2,FALSE)","v":""},{"$f":"VLOOKUP($C48,'Test 2'!$A$12:$Q$51,7,FALSE)","v":""},{"$f":"VLOOKUP($C48,'Test 2'!$A$12:$Q$51,3,FALSE)","v":""},{"$f":"VLOOKUP($C48,'Test 2'!$A$12:$Q$51,4,FALSE)","v":""},{"$f":"VLOOKUP($C48,'Test 2'!$A$12:$Q$51,5,FALSE)","v":"senior"},{"$f":"VLOOKUP($C48,'Test 2'!$A$12:$Q$51,13,FALSE)","v":"00:01:04.700"},{"$f":"VLOOKUP($C48,'Test 2'!$A$12:$Q$51,16,FALSE)","v":"00:02:38.740"}]
[{"$f":"IF(Pivots!T40=\"(Blank)\",\"\",Pivots!T40)","v":0},{"$f":"VLOOKUP($C49,'Test 2'!$A$12:$Q$51,15,FALSE)","v":20},{"$f":"IF(Pivots!U40=\"(Blank)\",\"\",Pivots!U40)","v":36},{"$f":"VLOOKUP($C49,'Test 2'!$A$12:$Q$51,2,FALSE)","v":""},{"$f":"VLOOKUP($C49,'Test 2'!$A$12:$Q$51,7,FALSE)","v":""},{"$f":"VLOOKUP($C49,'Test 2'!$A$12:$Q$51,3,FALSE)","v":""},{"$f":"VLOOKUP($C49,'Test 2'!$A$12:$Q$51,4,FALSE)","v":""},{"$f":"VLOOKUP($C49,'Test 2'!$A$12:$Q$51,5,FALSE)","v":"senior"},{"$f":"VLOOKUP($C49,'Test 2'!$A$12:$Q$51,13,FALSE)","v":"00:01:04.700"},{"$f":"VLOOKUP($C49,'Test 2'!$A$12:$Q$51,16,FALSE)","v":"00:02:38.740"}]
[{"$f":"IF(Pivots!T41=\"(Blank)\",\"\",Pivots!T41)","v":0},{"$f":"VLOOKUP($C50,'Test 2'!$A$12:$Q$51,15,FALSE)","v":20},{"$f":"IF(Pivots!U41=\"(Blank)\",\"\",Pivots!U41)","v":37},{"$f":"VLOOKUP($C50,'Test 2'!$A$12:$Q$51,2,FALSE)","v":""},{"$f":"VLOOKUP($C50,'Test 2'!$A$12:$Q$51,7,FALSE)","v":""},{"$f":"VLOOKUP($C50,'Test 2'!$A$12:$Q$51,3,FALSE)","v":""},{"$f":"VLOOKUP($C50,'Test 2'!$A$12:$Q$51,4,FALSE)","v":""},{"$f":"VLOOKUP($C50,'Test 2'!$A$12:$Q$51,5,FALSE)","v":"senior"},{"$f":"VLOOKUP($C50,'Test 2'!$A$12:$Q$51,13,FALSE)","v":"00:01:04.700"},{"$f":"VLOOKUP($C50,'Test 2'!$A$12:$Q$51,16,FALSE)","v":"00:02:38.740"}]
[{"$f":"IF(Pivots!T42=\"(Blank)\",\"\",Pivots!T42)","v":0},{"$f":"VLOOKUP($C51,'Test 2'!$A$12:$Q$51,15,FALSE)","v":20},{"$f":"IF(Pivots!U42=\"(Blank)\",\"\",Pivots!U42)","v":38},{"$f":"VLOOKUP($C51,'Test 2'!$A$12:$Q$51,2,FALSE)","v":""},{"$f":"VLOOKUP($C51,'Test 2'!$A$12:$Q$51,7,FALSE)","v":""},{"$f":"VLOOKUP($C51,'Test 2'!$A$12:$Q$51,3,FALSE)","v":""},{"$f":"VLOOKUP($C51,'Test 2'!$A$12:$Q$51,4,FALSE)","v":""},{"$f":"VLOOKUP($C51,'Test 2'!$A$12:$Q$51,5,FALSE)","v":"senior"},{"$f":"VLOOKUP($C51,'Test 2'!$A$12:$Q$51,13,FALSE)","v":"00:01:04.700"},{"$f":"VLOOKUP($C51,'Test 2'!$A$12:$Q$51,16,FALSE)","v":"00:02:38.740"}]
[{"$f":"IF(Pivots!T43=\"(Blank)\",\"\",Pivots!T43)","v":0},{"$f":"VLOOKUP($C52,'Test 2'!$A$12:$Q$51,15,FALSE)","v":20},{"$f":"IF(Pivots!U43=\"(Blank)\",\"\",Pivots!U43)","v":39},{"$f":"VLOOKUP($C52,'Test 2'!$A$12:$Q$51,2,FALSE)","v":""},{"$f":"VLOOKUP($C52,'Test 2'!$A$12:$Q$51,7,FALSE)","v":""},{"$f":"VLOOKUP($C52,'Test 2'!$A$12:$Q$51,3,FALSE)","v":""},{"$f":"VLOOKUP($C52,'Test 2'!$A$12:$Q$51,4,FALSE)","v":""},{"$f":"VLOOKUP($C52,'Test 2'!$A$12:$Q$51,5,FALSE)","v":"senior"},{"$f":"VLOOKUP($C52,'Test 2'!$A$12:$Q$51,13,FALSE)","v":"00:01:04.700"},{"$f":"VLOOKUP($C52,'Test 2'!$A$12:$Q$51,16,FALSE)","v":"00:02:38.740"}]
[{"$f":"IF(Pivots!T44=\"(Blank)\",\"\",Pivots!T44)","v":0},{"$f":"VLOOKUP($C53,'Test 2'!$A$12:$Q$51,15,FALSE)","v":20},{"$f":"IF(Pivots!U44=\"(Blank)\",\"\",Pivots!U44)","v":40},{"$f":"VLOOKUP($C53,'Test 2'!$A$12:$Q$51,2,FALSE)","v":""},{"$f":"VLOOKUP($C53,'Test 2'!$A$12:$Q$51,7,FALSE)","v":""},{"$f":"VLOOKUP($C53,'Test 2'!$A$12:$Q$51,3,FALSE)","v":""},{"$f":"VLOOKUP($C53,'Test 2'!$A$12:$Q$51,4,FALSE)","v":""},{"$f":"VLOOKUP($C53,'Test 2'!$A$12:$Q$51,5,FALSE)","v":"senior"},{"$f":"VLOOKUP($C53,'Test 2'!$A$12:$Q$51,13,FALSE)","v":"00:01:04.700"},{"$f":"VLOOKUP($C53,'Test 2'!$A$12:$Q$51,16,FALSE)","v":"00:02:38.740"}]

{"sheet":"Print_Test 3","index":5,"n_rows":53,"n_cols":10,"rows_kept":53,"cut":false,"hidden":false,"merged":[[11,6,12,6],[11,7,12,7],[8,3,8,5],[9,3,9,5],[11,0,12,0],[11,1,12,1],[11,2,12,2],[11,3,12,3],[11,4,12,4],[11,5,12,5]]}
[]
[]
[]
[]
[]
[]
[]
[]
[null,null,null,"Provisional Results"]
[null,null,null,"Test 3"]
[]
["Outright Position","Test Position","Car Number","Driver","Class","Rookie?","Female?","Junior?","Test Time","Cumulative Time"]
[null,null,null,null,null,null,null,null,"(mm:ss.00)","(mm:ss.00)"]
[{"$f":"IF(Pivots!AE5=\"(Blank)\",\"\",Pivots!AE5)","v":0},{"$f":"VLOOKUP($C14,'Test 3'!$A$12:$Q$51,15,FALSE)","v":2},{"$f":"IF(Pivots!AF5=\"(Blank)\",\"\",Pivots!AF5)","v":17},{"$f":"VLOOKUP($C14,'Test 3'!$A$12:$Q$51,2,FALSE)","v":"Reece McIntosh"},{"$f":"VLOOKUP($C14,'Test 3'!$A$12:$Q$51,7,FALSE)","v":""},{"$f":"VLOOKUP($C14,'Test 3'!$A$12:$Q$51,3,FALSE)","v":""},{"$f":"VLOOKUP($C14,'Test 3'!$A$12:$Q$51,4,FALSE)","v":""},{"$f":"VLOOKUP($C14,'Test 3'!$A$12:$Q$51,5,FALSE)","v":"senior"},{"$f":"VLOOKUP($C14,'Test 3'!$A$12:$Q$51,13,FALSE)","v":"00:00:48.500"},{"$f":"VLOOKUP($C14,'Test 3'!$A$12:$Q$51,16,FALSE)","v":"00:02:21.820"}]
[{"$f":"IF(Pivots!AE6=\"(Blank)\",\"\",Pivots!AE6)","v":0},{"$f":"VLOOKUP($C15,'Test 3'!$A$12:$Q$51,15,FALSE)","v":1},{"$f":"IF(Pivots!AF6=\"(Blank)\",\"\",Pivots!AF6)","v":1},{"$f":"VLOOKUP($C15,'Test 3'!$A$12:$Q$51,2,FALSE)","v":"Paul Dunn"},{"$f":"VLOOKUP($C15,'Test 3'!$A$12:$Q$51,7,FALSE)","v":""},{"$f":"VLOOKUP($C15,'Test 3'!$A$12:$Q$51,3,FALSE)","v":""},{"$f":"VLOOKUP($C15,'Test 3'!$A$12:$Q$51,4,FALSE)","v":""},{"$f":"VLOOKUP($C15,'Test 3'!$A$12:$Q$51,5,FALSE)","v":"senior"},{"$f":"VLOOKUP($C15,'Test 3'!$A$12:$Q$51,13,FALSE)","v":"00:00:48.400"},{"$f":"VLOOKUP($C15,'Test 3'!$A$12:$Q$51,16,FALSE)","v":"00:02:24.080"}]
[{"$f":"IF(Pivots!AE7=\"(Blank)\",\"\",Pivots!AE7)","v":0},{"$f":"VLOOKUP($C16,'Test 3'!$A$12:$Q$51,15,FALSE)","v":4},{"$f":"IF(Pivots!AF7=\"(Blank)\",\"\",Pivots!AF7)","v":9},{"$f":"VLOOKUP($C16,'Test 3'!$A$12:$Q$51,2,FALSE)","v":"Brad Firman"},{"$f":"VLOOKUP($C16,'Test 3'!$A$12:$Q$51,7,FALSE)","v":""},{"$f":"VLOOKUP($C16,'Test 3'!$A$12:$Q$51,3,FALSE)","v":""},{"$f":"VLOOKUP($C16,'Test 3'!$A$12:$Q$51,4,FALSE)","v":""},{"$f":"VLOOKUP($C16,'Test 3'!$A$12:$Q$51,5,FALSE)","v":"senior"},{"$f":"VLOOKUP($C16,'Test 3'!$A$12:$Q$51,13,FALSE)","v":"00:00:49.100"},{"$f":"VLOOKUP($C16,'Test 3'!$A$12:$Q$51,16,FALSE)","v":"00:02:28.540"}]
[{"$f":"IF(Pivots!AE8=\"(Blank)\",\"\",Pivots!AE8)","v":0},{"$f":"VLOOKUP($C17,'Test 3'!$A$12:$Q$51,15,FALSE)","v":5},{"$f":"IF(Pivots!AF8=\"(Blank)\",\"\",Pivots!AF8)","v":14},{"$f":"VLOOKUP($C17,'Test 3'!$A$12:$Q$51,2,FALSE)","v":"Bob Fulthorpe"},{"$f":"VLOOKUP($C17,'Test 3'!$A$12:$Q$51,7,FALSE)","v":""},{"$f":"VLOOKUP($C17,'Test 3'!$A$12:$Q$51,3,FALSE)","v":""},{"$f":"VLOOKUP($C17,'Test 3'!$A$12:$Q$51,4,FALSE)","v":""},{"$f":"VLOOKUP($C17,'Test 3'!$A$12:$Q$51,5,FALSE)","v":"senior"},{"$f":"VLOOKUP($C17,'Test 3'!$A$12:$Q$51,13,FALSE)","v":"00:00:52"},{"$f":"VLOOKUP($C17,'Test 3'!$A$12:$Q$51,16,FALSE)","v":"00:02:32.080"}]
[{"$f":"IF(Pivots!AE9=\"(Blank)\",\"\",Pivots!AE9)","v":0},{"$f":"VLOOKUP($C18,'Test 3'!$A$12:$Q$51,15,FALSE)","v":7},{"$f":"IF(Pivots!AF9=\"(Blank)\",\"\",Pivots!AF9)","v":20},{"$f":"VLOOKUP($C18,'Test 3'!$A$12:$Q$51,2,FALSE)","v":"Ray Lampl"},{"$f":"VLOOKUP($C18,'Test 3'!$A$12:$Q$51,7,FALSE)","v":""},{"$f":"VLOOKUP($C18,'Test 3'!$A$12:$Q$51,3,FALSE)","v":""},{"$f":"VLOOKUP($C18,'Test 3'!$A$12:$Q$51,4,FALSE)","v":""},{"$f":"VLOOKUP($C18,'Test 3'!$A$12:$Q$51,5,FALSE)","v":"senior"},{"$f":"VLOOKUP($C18,'Test 3'!$A$12:$Q$51,13,FALSE)","v":"00:00:52.200"},{"$f":"VLOOKUP($C18,'Test 3'!$A$12:$Q$51,16,FALSE)","v":"00:02:35.110"}]
[{"$f":"IF(Pivots!AE10=\"(Blank)\",\"\",Pivots!AE10)","v":0},{"$f":"VLOOKUP($C19,'Test 3'!$A$12:$Q$51,15,FALSE)","v":13},{"$f":"IF(Pivots!AF10=\"(Blank)\",\"\",Pivots!AF10)","v":2},{"$f":"VLOOKUP($C19,'Test 3'!$A$12:$Q$51,2,FALSE)","v":"Stephen Thorne"},{"$f":"VLOOKUP($C19,'Test 3'!$A$12:$Q$51,7,FALSE)","v":""},{"$f":"VLOOKUP($C19,'Test 3'!$A$12:$Q$51,3,FALSE)","v":""},{"$f":"VLOOKUP($C19,'Test 3'!$A$12:$Q$51,4,FALSE)","v":""},{"$f":"VLOOKUP($C19,'Test 3'!$A$12:$Q$51,5,FALSE)","v":"senior"},{"$f":"VLOOKUP($C19,'Test 3'!$A$12:$Q$51,13,FALSE)","v":"00:00:54.800"},{"$f":"VLOOKUP($C19,'Test 3'!$A$12:$Q$51,16,FALSE)","v":"00:02:35.330"}]
[{"$f":"IF(Pivots!AE11=\"(Blank)\",\"\",Pivots!AE11)","v":0},{"$f":"VLOOKUP($C20,'Test 3'!$A$12:$Q$51,15,FALSE)","v":14},{"$f":"IF(Pivots!AF11=\"(Blank)\",\"\",Pivots!AF11)","v":19},{"$f":"VLOOKUP($C20,'Test 3'!$A$12:$Q$51,2,FALSE)","v":"Christopher Northey"},{"$f":"VLOOKUP($C20,'Test 3'!$A$12:$Q$51,7,FALSE)","v":""},{"$f":"VLOOKUP($C20,'Test 3'!$A$12:$Q$51,3,FALSE)","v":""},{"$f":"VLOOKUP($C20,'Test 3'!$A$12:$Q$51,4,FALSE)","v":""},{"$f":"VLOOKUP($C20,'Test 3'!$A$12:$Q$51,5,FALSE)","v":"senior"},{"$f":"VLOOKUP($C20,'Test 3'!$A$12:$Q$51,13,FALSE)","v":"00:00:56.100"},{"$f":"VLOOKUP($C20,'Test 3'!$A$12:$Q$51,16,FALSE)","v":"00:02:38.220"}]
[{"$f":"IF(Pivots!AE12=\"(Blank)\",\"\",Pivots!AE12)","v":0},{"$f":"VLOOKUP($C21,'Test 3'!$A$12:$Q$51,15,FALSE)","v":6},{"$f":"IF(Pivots!AF12=\"(Blank)\",\"\",Pivots!AF12)","v":15},{"$f":"VLOOKUP($C21,'Test 3'!$A$12:$Q$51,2,FALSE)","v":"Khi Fulthorpe"},{"$f":"VLOOKUP($C21,'Test 3'!$A$12:$Q$51,7,FALSE)","v":""},{"$f":"VLOOKUP($C21,'Test 3'!$A$12:$Q$51,3,FALSE)","v":""},{"$f":"VLOOKUP($C21,'Test 3'!$A$12:$Q$51,4,FALSE)","v":""},{"$f":"VLOOKUP($C21,'Test 3'!$A$12:$Q$51,5,FALSE)","v":"senior"},{"$f":"VLOOKUP($C21,'Test 3'!$A$12:$Q$51,13,FALSE)","v":"00:00:52.100"},{"$f":"VLOOKUP($C21,'Test 3'!$A$12:$Q$51,16,FALSE)","v":"00:02:38.920"}]
[{"$f":"IF(Pivots!AE13=\"(Blank)\",\"\",Pivots!AE13)","v":0},{"$f":"VLOOKUP($C22,'Test 3'!$A$12:$Q$51,15,FALSE)","v":9},{"$f":"IF(Pivots!AF13=\"(Blank)\",\"\",Pivots!AF13)","v":5},{"$f":"VLOOKUP($C22,'Test 3'!$A$12:$Q$51,2,FALSE)","v":"Janelle Ballard"},{"$f":"VLOOKUP($C22,'Test 3'!$A$12:$Q$51,7,FALSE)","v":""},{"$f":"VLOOKUP($C22,'Test 3'!$A$12:$Q$51,3,FALSE)","v":""},{"$f":"VLOOKUP($C22,'Test 3'!$A$12:$Q$51,4,FALSE)","v":"female"},{"$f":"VLOOKUP($C22,'Test 3'!$A$12:$Q$51,5,FALSE)","v":"senior"},{"$f":"VLOOKUP($C22,'Test 3'!$A$12:$Q$51,13,FALSE)","v":"00:00:53.800"},{"$f":"VLOOKUP($C22,'Test 3'!$A$12:$Q$51,16,FALSE)","v":"00:02:41.500"}]
[{"$f":"IF(Pivots!AE14=\"(Blank)\",\"\",Pivots!AE14)","v":0},{"$f":"VLOOKUP($C23,'Test 3'!$A$12:$Q$51,15,FALSE)","v":3},{"$f":"IF(Pivots!AF14=\"(Blank)\",\"\",Pivots!AF14)","v":16},{"$f":"VLOOKUP($C23,'Test 3'!$A$12:$Q$51,2,FALSE)","v":"Nathan Senior"},{"$f":"VLOOKUP($C23,'Test 3'!$A$12:$Q$51,7,FALSE)","v":""},{"$f":"VLOOKUP($C23,'Test 3'!$A$12:$Q$51,3,FALSE)","v":""},{"$f":"VLOOKUP($C23,'Test 3'!$A$12:$Q$51,4,FALSE)","v":""},{"$f":"VLOOKUP($C23,'Test 3'!$A$12:$Q$51,5,FALSE)","v":"senior"},{"$f":"VLOOKUP($C23,'Test 3'!$A$12:$Q$51,13,FALSE)","v":"00:00:48.600"},{"$f":"VLOOKUP($C23,'Test 3'!$A$12:$Q$51,16,FALSE)","v":"00:02:43.150"}]
[{"$f":"IF(Pivots!AE15=\"(Blank)\",\"\",Pivots!AE15)","v":0},{"$f":"VLOOKUP($C24,'Test 3'!$A$12:$Q$51,15,FALSE)","v":12},{"$f":"IF(Pivots!AF15=\"(Blank)\",\"\",Pivots!AF15)","v":12},{"$f":"VLOOKUP($C24,'Test 3'!$A$12:$Q$51,2,FALSE)","v":"Mat Boorman"},{"$f":"VLOOKUP($C24,'Test 3'!$A$12:$Q$51,7,FALSE)","v":""},{"$f":"VLOOKUP($C24,'Test 3'!$A$12:$Q$51,3,FALSE)","v":""},{"$f":"VLOOKUP($C24,'Test 3'!$A$12:$Q$51,4,FALSE)","v":""},{"$f":"VLOOKUP($C24,'Test 3'!$A$12:$Q$51,5,FALSE)","v":"senior"},{"$f":"VLOOKUP($C24,'Test 3'!$A$12:$Q$51,13,FALSE)","v":"00:00:54"},{"$f":"VLOOKUP($C24,'Test 3'!$A$12:$Q$51,16,FALSE)","v":"00:02:43.470"}]
[{"$f":"IF(Pivots!AE16=\"(Blank)\",\"\",Pivots!AE16)","v":0},{"$f":"VLOOKUP($C25,'Test 3'!$A$12:$Q$51,15,FALSE)","v":11},{"$f":"IF(Pivots!AF16=\"(Blank)\",\"\",Pivots!AF16)","v":8},{"$f":"VLOOKUP($C25,'Test 3'!$A$12:$Q$51,2,FALSE)","v":"Jim Taylor"},{"$f":"VLOOKUP($C25,'Test 3'!$A$12:$Q$51,7,FALSE)","v":""},{"$f":"VLOOKUP($C25,'Test 3'!$A$12:$Q$51,3,FALSE)","v":""},{"$f":"VLOOKUP($C25,'Test 3'!$A$12:$Q$51,4,FALSE)","v":""},{"$f":"VLOOKUP($C25,'Test 3'!$A$12:$Q$51,5,FALSE)","v":"senior"},{"$f":"VLOOKUP($C25,'Test 3'!$A$12:$Q$51,13,FALSE)","v":"00:00:53.900"},{"$f":"VLOOKUP($C25,'Test 3'!$A$12:$Q$51,16,FALSE)","v":"00:02:45.680"}]
[{"$f":"IF(Pivots!AE17=\"(Blank)\",\"\",Pivots!AE17)","v":0},{"$f":"VLOOKUP($C26,'Test 3'!$A$12:$Q$51,15,FALSE)","v":17},{"$f":"IF(Pivots!AF17=\"(Blank)\",\"\",Pivots!AF17)","v":3},{"$f":"VLOOKUP($C26,'Test 3'!$A$12:$Q$51,2,FALSE)","v":"David Ballard"},{"$f":"VLOOKUP($C26,'Test 3'!$A$12:$Q$51,7,FALSE)","v":""},{"$f":"VLOOKUP($C26,'Test 3'!$A$12:$Q$51,3,FALSE)","v":""},{"$f":"VLOOKUP($C26,'Test 3'!$A$12:$Q$51,4,FALSE)","v":""},{"$f":"VLOOKUP($C26,'Test 3'!$A$12:$Q$51,5,FALSE)","v":"senior"},{"$f":"VLOOKUP($C26,'Test 3'!$A$12:$Q$51,13,FALSE)","v":"00:01:07.100"},{"$f":"VLOOKUP($C26,'Test 3'!$A$12:$Q$51,16,FALSE)","v":"00:02:52.040"}]
[{"$f":"IF(Pivots!AE18=\"(Blank)\",\"\",Pivots!AE18)","v":0},{"$f":"VLOOKUP($C27,'Test 3'!$A$12:$Q$51,15,FALSE)","v":8},{"$f":"IF(Pivots!AF18=\"(Blank)\",\"\",Pivots!AF18)","v":11},{"$f":"VLOOKUP($C27,'Test 3'!$A$12:$Q$51,2,FALSE)","v":"Russel McKinley"},{"$f":"VLOOKUP($C27,'Test 3'!$A$12:$Q$51,7,FALSE)","v":""},{"$f":"VLOOKUP($C27,'Test 3'!$A$12:$Q$51,3,FALSE)","v":""},{"$f":"VLOOKUP($C27,'Test 3'!$A$12:$Q$51,4,FALSE)","v":""},{"$f":"VLOOKUP($C27,'Test 3'!$A$12:$Q$51,5,FALSE)","v":"senior"},{"$f":"VLOOKUP($C27,'Test 3'!$A$12:$Q$51,13,FALSE)","v":"00:00:53.500"},{"$f":"VLOOKUP($C27,'Test 3'!$A$12:$Q$51,16,FALSE)","v":"00:02:56.750"}]
[{"$f":"IF(Pivots!AE19=\"(Blank)\",\"\",Pivots!AE19)","v":0},{"$f":"VLOOKUP($C28,'Test 3'!$A$12:$Q$51,15,FALSE)","v":17},{"$f":"IF(Pivots!AF19=\"(Blank)\",\"\",Pivots!AF19)","v":10},{"$f":"VLOOKUP($C28,'Test 3'!$A$12:$Q$51,2,FALSE)","v":"Scott Taylor"},{"$f":"VLOOKUP($C28,'Test 3'!$A$12:$Q$51,7,FALSE)","v":""},{"$f":"VLOOKUP($C28,'Test 3'!$A$12:$Q$51,3,FALSE)","v":""},{"$f":"VLOOKUP($C28,'Test 3'!$A$12:$Q$51,4,FALSE)","v":""},{"$f":"VLOOKUP($C28,'Test 3'!$A$12:$Q$51,5,FALSE)","v":"senior"},{"$f":"VLOOKUP($C28,'Test 3'!$A$12:$Q$51,13,FALSE)","v":"00:01:07.100"},{"$f":"VLOOKUP($C28,'Test 3'!$A$12:$Q$51,16,FALSE)","v":"00:02:58.340"}]
[{"$f":"IF(Pivots!AE20=\"(Blank)\",\"\",Pivots!AE20)","v":0},{"$f":"VLOOKUP($C29,'Test 3'!$A$12:$Q$51,15,FALSE)","v":17},{"$f":"IF(Pivots!AF20=\"(Blank)\",\"\",Pivots!AF20)","v":18},{"$f":"VLOOKUP($C29,'Test 3'!$A$12:$Q$51,2,FALSE)","v":"Jack Stanley"},{"$f":"VLOOKUP($C29,'Test 3'!$A$12:$Q$51,7,FALSE)","v":""},{"$f":"VLOOKUP($C29,'Test 3'!$A$12:$Q$51,3,FALSE)","v":"rookie"},{"$f":"VLOOKUP($C29,'Test 3'!$A$12:$Q$51,4,FALSE)","v":""},{"$f":"VLOOKUP($C29,'Test 3'!$A$12:$Q$51,5,FALSE)","v":"senior"},{"$f":"VLOOKUP($C29,'Test 3'!$A$12:$Q$51,13,FALSE)","v":"00:01:07.100"},{"$f":"VLOOKUP($C29,'Test 3'!$A$12:$Q$51,16,FALSE)","v":"00:03:05.020"}]
[{"$f":"IF(Pivots!AE21=\"(Blank)\",\"\",Pivots!AE21)","v":0},{"$f":"VLOOKUP($C30,'Test 3'!$A$12:$Q$51,15,FALSE)","v":15},{"$f":"IF(Pivots!AF21=\"(Blank)\",\"\",Pivots!AF21)","v":6},{"$f":"VLOOKUP($C30,'Test 3'!$A$12:$Q$51,2,FALSE)","v":"Issac Wishart"},{"$f":"VLOOKUP($C30,'Test 3'!$A$12:$Q$51,7,FALSE)","v":""},{"$f":"VLOOKUP($C30,'Test 3'!$A$12:$Q$51,3,FALSE)","v":"rookie"},{"$f":"VLOOKUP($C30,'Test 3'!$A$12:$Q$51,4,FALSE)","v":""},{"$f":"VLOOKUP($C30,'Test 3'!$A$12:$Q$51,5,FALSE)","v":"senior"},{"$f":"VLOOKUP($C30,'Test 3'!$A$12:$Q$51,13,FALSE)","v":"00:01:02.100"},{"$f":"VLOOKUP($C30,'Test 3'!$A$12:$Q$51,16,FALSE)","v":"00:03:05.450"}]
[{"$f":"IF(Pivots!AE22=\"(Blank)\",\"\",Pivots!AE22)","v":0},{"$f":"VLOOKUP($C31,'Test 3'!$A$12:$Q$51,15,FALSE)","v":16},{"$f":"IF(Pivots!AF22=\"(Blank)\",\"\",Pivots!AF22)","v":4},{"$f":"VLOOKUP($C31,'Test 3'!$A$12:$Q$51,2,FALSE)","v":"Michaela Ballard"},{"$f":"VLOOKUP($C31,'Test 3'!$A$12:$Q$51,7,FALSE)","v":""},{"$f":"VLOOKUP($C31,'Test 3'!$A$12:$Q$51,3,FALSE)","v":"rookie"},{"$f":"VLOOKUP($C31,'Test 3'!$A$12:$Q$51,4,FALSE)","v":"female"},{"$f":"VLOOKUP($C31,'Test 3'!$A$12:$Q$51,5,FALSE)","v":"senior"},{"$f":"VLOOKUP($C31,'Test 3'!$A$12:$Q$51,13,FALSE)","v":"00:01:04.600"},{"$f":"VLOOKUP($C31,'Test 3'!$A$12:$Q$51,16,FALSE)","v":"00:03:10.200"}]
[{"$f":"IF(Pivots!AE23=\"(Blank)\",\"\",Pivots!AE23)","v":0},{"$f":"VLOOKUP($C32,'Test 3'!$A$12:$Q$51,15,FALSE)","v":9},{"$f":"IF(Pivots!AF23=\"(Blank)\",\"\",Pivots!AF23)","v":13},{"$f":"VLOOKUP($C32,'Test 3'!$A$12:$Q$51,2,FALSE)","v":"Aaron Wishart"},{"$f":"VLOOKUP($C32,'Test 3'!$A$12:$Q$51,7,FALSE)","v":""},{"$f":"VLOOKUP($C32,'Test 3'!$A$12:$Q$51,3,FALSE)","v":""},{"$f":"VLOOKUP($C32,'Test 3'!$A$12:$Q$51,4,FALSE)","v":""},{"$f":"VLOOKUP($C32,'Test 3'!$A$12:$Q$51,5,FALSE)","v":"senior"},{"$f":"VLOOKUP($C32,'Test 3'!$A$12:$Q$51,13,FALSE)","v":"00:00:53.800"},{"$f":"VLOOKUP($C32,'Test 3'!$A$12:$Q$51,16,FALSE)","v":"00:03:12.340"}]
[{"$f":"IF(Pivots!AE24=\"(Blank)\",\"\",Pivots!AE24)","v":0},{"$f":"VLOOKUP($C33,'Test 3'!$A$12:$Q$51,15,FALSE)","v":20},{"$f":"IF(Pivots!AF24=\"(Blank)\",\"\",Pivots!AF24)","v":7},{"$f":"VLOOKUP($C33,'Test 3'!$A$12:$Q$51,2,FALSE)","v":""},{"$f":"VLOOKUP($C33,'Test 3'!$A$12:$Q$51,7,FALSE)","v":""},{"$f":"VLOOKUP($C33,'Test 3'!$A$12:$Q$51,3,FALSE)","v":""},{"$f":"VLOOKUP($C33,'Test 3'!$A$12:$Q$51,4,FALSE)","v":""},{"$f":"VLOOKUP($C33,'Test 3'!$A$12:$Q$51,5,FALSE)","v":"senior"},{"$f":"VLOOKUP($C33,'Test 3'!$A$12:$Q$51,13,FALSE)","v":"00:01:12.100"},{"$f":"VLOOKUP($C33,'Test 3'!$A$12:$Q$51,16,FALSE)","v":"00:03:50.840"}]
[{"$f":"IF(Pivots!AE25=\"(Blank)\",\"\",Pivots!AE25)","v":0},{"$f":"VLOOKUP($C34,'Test 3'!$A$12:$Q$51,15,FALSE)","v":20},{"$f":"IF(Pivots!AF25=\"(Blank)\",\"\",Pivots!AF25)","v":22},{"$f":"VLOOKUP($C34,'Test 3'!$A$12:$Q$51,2,FALSE)","v":""},{"$f":"VLOOKUP($C34,'Test 3'!$A$12:$Q$51,7,FALSE)","v":""},{"$f":"VLOOKUP($C34,'Test 3'!$A$12:$Q$51,3,FALSE)","v":""},{"$f":"VLOOKUP($C34,'Test 3'!$A$12:$Q$51,4,FALSE)","v":""},{"$f":"VLOOKUP($C34,'Test 3'!$A$12:$Q$51,5,FALSE)","v":"senior"},{"$f":"VLOOKUP($C34,'Test 3'!$A$12:$Q$51,13,FALSE)","v":"00:01:12.100"},{"$f":"VLOOKUP($C34,'Test 3'!$A$12:$Q$51,16,FALSE)","v":"00:03:50.840"}]
[{"$f":"IF(Pivots!AE26=\"(Blank)\",\"\",Pivots!AE26)","v":0},{"$f":"VLOOKUP($C35,'Test 3'!$A$12:$Q$51,15,FALSE)","v":20},{"$f":"IF(Pivots!AF26=\"(Blank)\",\"\",Pivots!AF26)","v":23},{"$f":"VLOOKUP($C35,'Test 3'!$A$12:$Q$51,2,FALSE)","v":""},{"$f":"VLOOKUP($C35,'Test 3'!$A$12:$Q$51,7,FALSE)","v":""},{"$f":"VLOOKUP($C35,'Test 3'!$A$12:$Q$51,3,FALSE)","v":""},{"$f":"VLOOKUP($C35,'Test 3'!$A$12:$Q$51,4,FALSE)","v":""},{"$f":"VLOOKUP($C35,'Test 3'!$A$12:$Q$51,5,FALSE)","v":"senior"},{"$f":"VLOOKUP($C35,'Test 3'!$A$12:$Q$51,13,FALSE)","v":"00:01:12.100"},{"$f":"VLOOKUP($C35,'Test 3'!$A$12:$Q$51,16,FALSE)","v":"00:03:50.840"}]
[{"$f":"IF(Pivots!AE27=\"(Blank)\",\"\",Pivots!AE27)","v":0},{"$f":"VLOOKUP($C36,'Test 3'!$A$12:$Q$51,15,FALSE)","v":20},{"$f":"IF(Pivots!AF27=\"(Blank)\",\"\",Pivots!AF27)","v":24},{"$f":"VLOOKUP($C36,'Test 3'!$A$12:$Q$51,2,FALSE)","v":""},{"$f":"VLOOKUP($C36,'Test 3'!$A$12:$Q$51,7,FALSE)","v":""},{"$f":"VLOOKUP($C36,'Test 3'!$A$12:$Q$51,3,FALSE)","v":""},{"$f":"VLOOKUP($C36,'Test 3'!$A$12:$Q$51,4,FALSE)","v":""},{"$f":"VLOOKUP($C36,'Test 3'!$A$12:$Q$51,5,FALSE)","v":"senior"},{"$f":"VLOOKUP($C36,'Test 3'!$A$12:$Q$51,13,FALSE)","v":"00:01:12.100"},{"$f":"VLOOKUP($C36,'Test 3'!$A$12:$Q$51,16,FALSE)","v":"00:03:50.840"}]
[{"$f":"IF(Pivots!AE28=\"(Blank)\",\"\",Pivots!AE28)","v":0},{"$f":"VLOOKUP($C37,'Test 3'!$A$12:$Q$51,15,FALSE)","v":20},{"$f":"IF(Pivots!AF28=\"(Blank)\",\"\",Pivots!AF28)","v":21},{"$f":"VLOOKUP($C37,'Test 3'!$A$12:$Q$51,2,FALSE)","v":""},{"$f":"VLOOKUP($C37,'Test 3'!$A$12:$Q$51,7,FALSE)","v":""},{"$f":"VLOOKUP($C37,'Test 3'!$A$12:$Q$51,3,FALSE)","v":""},{"$f":"VLOOKUP($C37,'Test 3'!$A$12:$Q$51,4,FALSE)","v":""},{"$f":"VLOOKUP($C37,'Test 3'!$A$12:$Q$51,5,FALSE)","v":"senior"},{"$f":"VLOOKUP($C37,'Test 3'!$A$12:$Q$51,13,FALSE)","v":"00:01:12.100"},{"$f":"VLOOKUP($C37,'Test 3'!$A$12:$Q$51,16,FALSE)","v":"00:03:50.840"}]
[{"$f":"IF(Pivots!AE29=\"(Blank)\",\"\",Pivots!AE29)","v":0},{"$f":"VLOOKUP($C38,'Test 3'!$A$12:$Q$51,15,FALSE)","v":20},{"$f":"IF(Pivots!AF29=\"(Blank)\",\"\",Pivots!AF29)","v":25},{"$f":"VLOOKUP($C38,'Test 3'!$A$12:$Q$51,2,FALSE)","v":""},{"$f":"VLOOKUP($C38,'Test 3'!$A$12:$Q$51,7,FALSE)","v":""},{"$f":"VLOOKUP($C38,'Test 3'!$A$12:$Q$51,3,FALSE)","v":""},{"$f":"VLOOKUP($C38,'Test 3'!$A$12:$Q$51,4,FALSE)","v":""},{"$f":"VLOOKUP($C38,'Test 3'!$A$12:$Q$51,5,FALSE)","v":"senior"},{"$f":"VLOOKUP($C38,'Test 3'!$A$12:$Q$51,13,FALSE)","v":"00:01:12.100"},{"$f":"VLOOKUP($C38,'Test 3'!$A$12:$Q$51,16,FALSE)","v":"00:03:50.840"}]
[{"$f":"IF(Pivots!AE30=\"(Blank)\",\"\",Pivots!AE30)","v":0},{"$f":"VLOOKUP($C39,'Test 3'!$A$12:$Q$51,15,FALSE)","v":20},{"$f":"IF(Pivots!AF30=\"(Blank)\",\"\",Pivots!AF30)","v":26},{"$f":"VLOOKUP($C39,'Test 3'!$A$12:$Q$51,2,FALSE)","v":""},{"$f":"VLOOKUP($C39,'Test 3'!$A$12:$Q$51,7,FALSE)","v":""},{"$f":"VLOOKUP($C39,'Test 3'!$A$12:$Q$51,3,FALSE)","v":""},{"$f":"VLOOKUP($C39,'Test 3'!$A$12:$Q$51,4,FALSE)","v":""},{"$f":"VLOOKUP($C39,'Test 3'!$A$12:$Q$51,5,FALSE)","v":"senior"},{"$f":"VLOOKUP($C39,'Test 3'!$A$12:$Q$51,13,FALSE)","v":"00:01:12.100"},{"$f":"VLOOKUP($C39,'Test 3'!$A$12:$Q$51,16,FALSE)","v":"00:03:50.840"}]
[{"$f":"IF(Pivots!AE31=\"(Blank)\",\"\",Pivots!AE31)","v":0},{"$f":"VLOOKUP($C40,'Test 3'!$A$12:$Q$51,15,FALSE)","v":20},{"$f":"IF(Pivots!AF31=\"(Blank)\",\"\",Pivots!AF31)","v":27},{"$f":"VLOOKUP($C40,'Test 3'!$A$12:$Q$51,2,FALSE)","v":""},{"$f":"VLOOKUP($C40,'Test 3'!$A$12:$Q$51,7,FALSE)","v":""},{"$f":"VLOOKUP($C40,'Test 3'!$A$12:$Q$51,3,FALSE)","v":""},{"$f":"VLOOKUP($C40,'Test 3'!$A$12:$Q$51,4,FALSE)","v":""},{"$f":"VLOOKUP($C40,'Test 3'!$A$12:$Q$51,5,FALSE)","v":"senior"},{"$f":"VLOOKUP($C40,'Test 3'!$A$12:$Q$51,13,FALSE)","v":"00:01:12.100"},{"$f":"VLOOKUP($C40,'Test 3'!$A$12:$Q$51,16,FALSE)","v":"00:03:50.840"}]
[{"$f":"IF(Pivots!AE32=\"(Blank)\",\"\",Pivots!AE32)","v":0},{"$f":"VLOOKUP($C41,'Test 3'!$A$12:$Q$51,15,FALSE)","v":20},{"$f":"IF(Pivots!AF32=\"(Blank)\",\"\",Pivots!AF32)","v":28},{"$f":"VLOOKUP($C41,'Test 3'!$A$12:$Q$51,2,FALSE)","v":""},{"$f":"VLOOKUP($C41,'Test 3'!$A$12:$Q$51,7,FALSE)","v":""},{"$f":"VLOOKUP($C41,'Test 3'!$A$12:$Q$51,3,FALSE)","v":""},{"$f":"VLOOKUP($C41,'Test 3'!$A$12:$Q$51,4,FALSE)","v":""},{"$f":"VLOOKUP($C41,'Test 3'!$A$12:$Q$51,5,FALSE)","v":"senior"},{"$f":"VLOOKUP($C41,'Test 3'!$A$12:$Q$51,13,FALSE)","v":"00:01:12.100"},{"$f":"VLOOKUP($C41,'Test 3'!$A$12:$Q$51,16,FALSE)","v":"00:03:50.840"}]
[{"$f":"IF(Pivots!AE33=\"(Blank)\",\"\",Pivots!AE33)","v":0},{"$f":"VLOOKUP($C42,'Test 3'!$A$12:$Q$51,15,FALSE)","v":20},{"$f":"IF(Pivots!AF33=\"(Blank)\",\"\",Pivots!AF33)","v":29},{"$f":"VLOOKUP($C42,'Test 3'!$A$12:$Q$51,2,FALSE)","v":""},{"$f":"VLOOKUP($C42,'Test 3'!$A$12:$Q$51,7,FALSE)","v":""},{"$f":"VLOOKUP($C42,'Test 3'!$A$12:$Q$51,3,FALSE)","v":""},{"$f":"VLOOKUP($C42,'Test 3'!$A$12:$Q$51,4,FALSE)","v":""},{"$f":"VLOOKUP($C42,'Test 3'!$A$12:$Q$51,5,FALSE)","v":"senior"},{"$f":"VLOOKUP($C42,'Test 3'!$A$12:$Q$51,13,FALSE)","v":"00:01:12.100"},{"$f":"VLOOKUP($C42,'Test 3'!$A$12:$Q$51,16,FALSE)","v":"00:03:50.840"}]
[{"$f":"IF(Pivots!AE34=\"(Blank)\",\"\",Pivots!AE34)","v":0},{"$f":"VLOOKUP($C43,'Test 3'!$A$12:$Q$51,15,FALSE)","v":20},{"$f":"IF(Pivots!AF34=\"(Blank)\",\"\",Pivots!AF34)","v":30},{"$f":"VLOOKUP($C43,'Test 3'!$A$12:$Q$51,2,FALSE)","v":""},{"$f":"VLOOKUP($C43,'Test 3'!$A$12:$Q$51,7,FALSE)","v":""},{"$f":"VLOOKUP($C43,'Test 3'!$A$12:$Q$51,3,FALSE)","v":""},{"$f":"VLOOKUP($C43,'Test 3'!$A$12:$Q$51,4,FALSE)","v":""},{"$f":"VLOOKUP($C43,'Test 3'!$A$12:$Q$51,5,FALSE)","v":"senior"},{"$f":"VLOOKUP($C43,'Test 3'!$A$12:$Q$51,13,FALSE)","v":"00:01:12.100"},{"$f":"VLOOKUP($C43,'Test 3'!$A$12:$Q$51,16,FALSE)","v":"00:03:50.840"}]
[{"$f":"IF(Pivots!AE35=\"(Blank)\",\"\",Pivots!AE35)","v":0},{"$f":"VLOOKUP($C44,'Test 3'!$A$12:$Q$51,15,FALSE)","v":20},{"$f":"IF(Pivots!AF35=\"(Blank)\",\"\",Pivots!AF35)","v":31},{"$f":"VLOOKUP($C44,'Test 3'!$A$12:$Q$51,2,FALSE)","v":""},{"$f":"VLOOKUP($C44,'Test 3'!$A$12:$Q$51,7,FALSE)","v":""},{"$f":"VLOOKUP($C44,'Test 3'!$A$12:$Q$51,3,FALSE)","v":""},{"$f":"VLOOKUP($C44,'Test 3'!$A$12:$Q$51,4,FALSE)","v":""},{"$f":"VLOOKUP($C44,'Test 3'!$A$12:$Q$51,5,FALSE)","v":"senior"},{"$f":"VLOOKUP($C44,'Test 3'!$A$12:$Q$51,13,FALSE)","v":"00:01:12.100"},{"$f":"VLOOKUP($C44,'Test 3'!$A$12:$Q$51,16,FALSE)","v":"00:03:50.840"}]
[{"$f":"IF(Pivots!AE36=\"(Blank)\",\"\",Pivots!AE36)","v":0},{"$f":"VLOOKUP($C45,'Test 3'!$A$12:$Q$51,15,FALSE)","v":20},{"$f":"IF(Pivots!AF36=\"(Blank)\",\"\",Pivots!AF36)","v":32},{"$f":"VLOOKUP($C45,'Test 3'!$A$12:$Q$51,2,FALSE)","v":""},{"$f":"VLOOKUP($C45,'Test 3'!$A$12:$Q$51,7,FALSE)","v":""},{"$f":"VLOOKUP($C45,'Test 3'!$A$12:$Q$51,3,FALSE)","v":""},{"$f":"VLOOKUP($C45,'Test 3'!$A$12:$Q$51,4,FALSE)","v":""},{"$f":"VLOOKUP($C45,'Test 3'!$A$12:$Q$51,5,FALSE)","v":"senior"},{"$f":"VLOOKUP($C45,'Test 3'!$A$12:$Q$51,13,FALSE)","v":"00:01:12.100"},{"$f":"VLOOKUP($C45,'Test 3'!$A$12:$Q$51,16,FALSE)","v":"00:03:50.840"}]
[{"$f":"IF(Pivots!AE37=\"(Blank)\",\"\",Pivots!AE37)","v":0},{"$f":"VLOOKUP($C46,'Test 3'!$A$12:$Q$51,15,FALSE)","v":20},{"$f":"IF(Pivots!AF37=\"(Blank)\",\"\",Pivots!AF37)","v":33},{"$f":"VLOOKUP($C46,'Test 3'!$A$12:$Q$51,2,FALSE)","v":""},{"$f":"VLOOKUP($C46,'Test 3'!$A$12:$Q$51,7,FALSE)","v":""},{"$f":"VLOOKUP($C46,'Test 3'!$A$12:$Q$51,3,FALSE)","v":""},{"$f":"VLOOKUP($C46,'Test 3'!$A$12:$Q$51,4,FALSE)","v":""},{"$f":"VLOOKUP($C46,'Test 3'!$A$12:$Q$51,5,FALSE)","v":"senior"},{"$f":"VLOOKUP($C46,'Test 3'!$A$12:$Q$51,13,FALSE)","v":"00:01:12.100"},{"$f":"VLOOKUP($C46,'Test 3'!$A$12:$Q$51,16,FALSE)","v":"00:03:50.840"}]
[{"$f":"IF(Pivots!AE38=\"(Blank)\",\"\",Pivots!AE38)","v":0},{"$f":"VLOOKUP($C47,'Test 3'!$A$12:$Q$51,15,FALSE)","v":20},{"$f":"IF(Pivots!AF38=\"(Blank)\",\"\",Pivots!AF38)","v":34},{"$f":"VLOOKUP($C47,'Test 3'!$A$12:$Q$51,2,FALSE)","v":""},{"$f":"VLOOKUP($C47,'Test 3'!$A$12:$Q$51,7,FALSE)","v":""},{"$f":"VLOOKUP($C47,'Test 3'!$A$12:$Q$51,3,FALSE)","v":""},{"$f":"VLOOKUP($C47,'Test 3'!$A$12:$Q$51,4,FALSE)","v":""},{"$f":"VLOOKUP($C47,'Test 3'!$A$12:$Q$51,5,FALSE)","v":"senior"},{"$f":"VLOOKUP($C47,'Test 3'!$A$12:$Q$51,13,FALSE)","v":"00:01:12.100"},{"$f":"VLOOKUP($C47,'Test 3'!$A$12:$Q$51,16,FALSE)","v":"00:03:50.840"}]
[{"$f":"IF(Pivots!AE39=\"(Blank)\",\"\",Pivots!AE39)","v":0},{"$f":"VLOOKUP($C48,'Test 3'!$A$12:$Q$51,15,FALSE)","v":20},{"$f":"IF(Pivots!AF39=\"(Blank)\",\"\",Pivots!AF39)","v":35},{"$f":"VLOOKUP($C48,'Test 3'!$A$12:$Q$51,2,FALSE)","v":""},{"$f":"VLOOKUP($C48,'Test 3'!$A$12:$Q$51,7,FALSE)","v":""},{"$f":"VLOOKUP($C48,'Test 3'!$A$12:$Q$51,3,FALSE)","v":""},{"$f":"VLOOKUP($C48,'Test 3'!$A$12:$Q$51,4,FALSE)","v":""},{"$f":"VLOOKUP($C48,'Test 3'!$A$12:$Q$51,5,FALSE)","v":"senior"},{"$f":"VLOOKUP($C48,'Test 3'!$A$12:$Q$51,13,FALSE)","v":"00:01:12.100"},{"$f":"VLOOKUP($C48,'Test 3'!$A$12:$Q$51,16,FALSE)","v":"00:03:50.840"}]
[{"$f":"IF(Pivots!AE40=\"(Blank)\",\"\",Pivots!AE40)","v":0},{"$f":"VLOOKUP($C49,'Test 3'!$A$12:$Q$51,15,FALSE)","v":20},{"$f":"IF(Pivots!AF40=\"(Blank)\",\"\",Pivots!AF40)","v":36},{"$f":"VLOOKUP($C49,'Test 3'!$A$12:$Q$51,2,FALSE)","v":""},{"$f":"VLOOKUP($C49,'Test 3'!$A$12:$Q$51,7,FALSE)","v":""},{"$f":"VLOOKUP($C49,'Test 3'!$A$12:$Q$51,3,FALSE)","v":""},{"$f":"VLOOKUP($C49,'Test 3'!$A$12:$Q$51,4,FALSE)","v":""},{"$f":"VLOOKUP($C49,'Test 3'!$A$12:$Q$51,5,FALSE)","v":"senior"},{"$f":"VLOOKUP($C49,'Test 3'!$A$12:$Q$51,13,FALSE)","v":"00:01:12.100"},{"$f":"VLOOKUP($C49,'Test 3'!$A$12:$Q$51,16,FALSE)","v":"00:03:50.840"}]
[{"$f":"IF(Pivots!AE41=\"(Blank)\",\"\",Pivots!AE41)","v":0},{"$f":"VLOOKUP($C50,'Test 3'!$A$12:$Q$51,15,FALSE)","v":20},{"$f":"IF(Pivots!AF41=\"(Blank)\",\"\",Pivots!AF41)","v":37},{"$f":"VLOOKUP($C50,'Test 3'!$A$12:$Q$51,2,FALSE)","v":""},{"$f":"VLOOKUP($C50,'Test 3'!$A$12:$Q$51,7,FALSE)","v":""},{"$f":"VLOOKUP($C50,'Test 3'!$A$12:$Q$51,3,FALSE)","v":""},{"$f":"VLOOKUP($C50,'Test 3'!$A$12:$Q$51,4,FALSE)","v":""},{"$f":"VLOOKUP($C50,'Test 3'!$A$12:$Q$51,5,FALSE)","v":"senior"},{"$f":"VLOOKUP($C50,'Test 3'!$A$12:$Q$51,13,FALSE)","v":"00:01:12.100"},{"$f":"VLOOKUP($C50,'Test 3'!$A$12:$Q$51,16,FALSE)","v":"00:03:50.840"}]
[{"$f":"IF(Pivots!AE42=\"(Blank)\",\"\",Pivots!AE42)","v":0},{"$f":"VLOOKUP($C51,'Test 3'!$A$12:$Q$51,15,FALSE)","v":20},{"$f":"IF(Pivots!AF42=\"(Blank)\",\"\",Pivots!AF42)","v":38},{"$f":"VLOOKUP($C51,'Test 3'!$A$12:$Q$51,2,FALSE)","v":""},{"$f":"VLOOKUP($C51,'Test 3'!$A$12:$Q$51,7,FALSE)","v":""},{"$f":"VLOOKUP($C51,'Test 3'!$A$12:$Q$51,3,FALSE)","v":""},{"$f":"VLOOKUP($C51,'Test 3'!$A$12:$Q$51,4,FALSE)","v":""},{"$f":"VLOOKUP($C51,'Test 3'!$A$12:$Q$51,5,FALSE)","v":"senior"},{"$f":"VLOOKUP($C51,'Test 3'!$A$12:$Q$51,13,FALSE)","v":"00:01:12.100"},{"$f":"VLOOKUP($C51,'Test 3'!$A$12:$Q$51,16,FALSE)","v":"00:03:50.840"}]
[{"$f":"IF(Pivots!AE43=\"(Blank)\",\"\",Pivots!AE43)","v":0},{"$f":"VLOOKUP($C52,'Test 3'!$A$12:$Q$51,15,FALSE)","v":20},{"$f":"IF(Pivots!AF43=\"(Blank)\",\"\",Pivots!AF43)","v":39},{"$f":"VLOOKUP($C52,'Test 3'!$A$12:$Q$51,2,FALSE)","v":""},{"$f":"VLOOKUP($C52,'Test 3'!$A$12:$Q$51,7,FALSE)","v":""},{"$f":"VLOOKUP($C52,'Test 3'!$A$12:$Q$51,3,FALSE)","v":""},{"$f":"VLOOKUP($C52,'Test 3'!$A$12:$Q$51,4,FALSE)","v":""},{"$f":"VLOOKUP($C52,'Test 3'!$A$12:$Q$51,5,FALSE)","v":"senior"},{"$f":"VLOOKUP($C52,'Test 3'!$A$12:$Q$51,13,FALSE)","v":"00:01:12.100"},{"$f":"VLOOKUP($C52,'Test 3'!$A$12:$Q$51,16,FALSE)","v":"00:03:50.840"}]
[{"$f":"IF(Pivots!AE44=\"(Blank)\",\"\",Pivots!AE44)","v":0},{"$f":"VLOOKUP($C53,'Test 3'!$A$12:$Q$51,15,FALSE)","v":20},{"$f":"IF(Pivots!AF44=\"(Blank)\",\"\",Pivots!AF44)","v":40},{"$f":"VLOOKUP($C53,'Test 3'!$A$12:$Q$51,2,FALSE)","v":""},{"$f":"VLOOKUP($C53,'Test 3'!$A$12:$Q$51,7,FALSE)","v":""},{"$f":"VLOOKUP($C53,'Test 3'!$A$12:$Q$51,3,FALSE)","v":""},{"$f":"VLOOKUP($C53,'Test 3'!$A$12:$Q$51,4,FALSE)","v":""},{"$f":"VLOOKUP($C53,'Test 3'!$A$12:$Q$51,5,FALSE)","v":"senior"},{"$f":"VLOOKUP($C53,'Test 3'!$A$12:$Q$51,13,FALSE)","v":"00:01:12.100"},{"$f":"VLOOKUP($C53,'Test 3'!$A$12:$Q$51,16,FALSE)","v":"00:03:50.840"}]

{"sheet":"Print_Test 4","index":6,"n_rows":53,"n_cols":10,"rows_kept":53,"cut":false,"hidden":false,"merged":[[11,6,12,6],[11,7,12,7],[8,3,8,5],[9,3,9,5],[11,0,12,0],[11,1,12,1],[11,2,12,2],[11,3,12,3],[11,4,12,4],[11,5,12,5]]}
[]
[]
[]
[]
[]
[]
[]
[]
[null,null,null,"Provisional Results"]
[null,null,null,"Test 4"]
[]
["Outright Position","Test Position","Car Number","Driver","Class","Rookie?","Female?","Junior?","Test Time","Cumulative Time"]
[null,null,null,null,null,null,null,null,"(mm:ss.00)","(mm:ss.00)"]
[{"$f":"IF(Pivots!AP5=\"(Blank)\",\"\",Pivots!AP5)","v":0},{"$f":"VLOOKUP($C14,'Test 4'!$A$12:$Q$51,15,FALSE)","v":1},{"$f":"IF(Pivots!AQ5=\"(Blank)\",\"\",Pivots!AQ5)","v":17},{"$f":"VLOOKUP($C14,'Test 4'!$A$12:$Q$51,2,FALSE)","v":"Reece McIntosh"},{"$f":"VLOOKUP($C14,'Test 4'!$A$12:$Q$51,7,FALSE)","v":""},{"$f":"VLOOKUP($C14,'Test 4'!$A$12:$Q$51,3,FALSE)","v":""},{"$f":"VLOOKUP($C14,'Test 4'!$A$12:$Q$51,4,FALSE)","v":""},{"$f":"VLOOKUP($C14,'Test 4'!$A$12:$Q$51,5,FALSE)","v":"senior"},{"$f":"VLOOKUP($C14,'Test 4'!$A$12:$Q$51,13,FALSE)","v":"00:00:47.440"},{"$f":"VLOOKUP($C14,'Test 4'!$A$12:$Q$51,16,FALSE)","v":"00:03:09.260"}]
[{"$f":"IF(Pivots!AP6=\"(Blank)\",\"\",Pivots!AP6)","v":0},{"$f":"VLOOKUP($C15,'Test 4'!$A$12:$Q$51,15,FALSE)","v":3},{"$f":"IF(Pivots!AQ6=\"(Blank)\",\"\",Pivots!AQ6)","v":9},{"$f":"VLOOKUP($C15,'Test 4'!$A$12:$Q$51,2,FALSE)","v":"Brad Firman"},{"$f":"VLOOKUP($C15,'Test 4'!$A$12:$Q$51,7,FALSE)","v":""},{"$f":"VLOOKUP($C15,'Test 4'!$A$12:$Q$51,3,FALSE)","v":""},{"$f":"VLOOKUP($C15,'Test 4'!$A$12:$Q$51,4,FALSE)","v":""},{"$f":"VLOOKUP($C15,'Test 4'!$A$12:$Q$51,5,FALSE)","v":"senior"},{"$f":"VLOOKUP($C15,'Test 4'!$A$12:$Q$51,13,FALSE)","v":"00:00:50.810"},{"$f":"VLOOKUP($C15,'Test 4'!$A$12:$Q$51,16,FALSE)","v":"00:03:19.350"}]
[{"$f":"IF(Pivots!AP7=\"(Blank)\",\"\",Pivots!AP7)","v":0},{"$f":"VLOOKUP($C16,'Test 4'!$A$12:$Q$51,15,FALSE)","v":13},{"$f":"IF(Pivots!AQ7=\"(Blank)\",\"\",Pivots!AQ7)","v":1},{"$f":"VLOOKUP($C16,'Test 4'!$A$12:$Q$51,2,FALSE)","v":"Paul Dunn"},{"$f":"VLOOKUP($C16,'Test 4'!$A$12:$Q$51,7,FALSE)","v":""},{"$f":"VLOOKUP($C16,'Test 4'!$A$12:$Q$51,3,FALSE)","v":""},{"$f":"VLOOKUP($C16,'Test 4'!$A$12:$Q$51,4,FALSE)","v":""},{"$f":"VLOOKUP($C16,'Test 4'!$A$12:$Q$51,5,FALSE)","v":"senior"},{"$f":"VLOOKUP($C16,'Test 4'!$A$12:$Q$51,13,FALSE)","v":"00:00:57.270"},{"$f":"VLOOKUP($C16,'Test 4'!$A$12:$Q$51,16,FALSE)","v":"00:03:21.350"}]
[{"$f":"IF(Pivots!AP8=\"(Blank)\",\"\",Pivots!AP8)","v":0},{"$f":"VLOOKUP($C17,'Test 4'!$A$12:$Q$51,15,FALSE)","v":4},{"$f":"IF(Pivots!AQ8=\"(Blank)\",\"\",Pivots!AQ8)","v":14},{"$f":"VLOOKUP($C17,'Test 4'!$A$12:$Q$51,2,FALSE)","v":"Bob Fulthorpe"},{"$f":"VLOOKUP($C17,'Test 4'!$A$12:$Q$51,7,FALSE)","v":""},{"$f":"VLOOKUP($C17,'Test 4'!$A$12:$Q$51,3,FALSE)","v":""},{"$f":"VLOOKUP($C17,'Test 4'!$A$12:$Q$51,4,FALSE)","v":""},{"$f":"VLOOKUP($C17,'Test 4'!$A$12:$Q$51,5,FALSE)","v":"senior"},{"$f":"VLOOKUP($C17,'Test 4'!$A$12:$Q$51,13,FALSE)","v":"00:00:52.270"},{"$f":"VLOOKUP($C17,'Test 4'!$A$12:$Q$51,16,FALSE)","v":"00:03:24.350"}]
[{"$f":"IF(Pivots!AP9=\"(Blank)\",\"\",Pivots!AP9)","v":0},{"$f":"VLOOKUP($C18,'Test 4'!$A$12:$Q$51,15,FALSE)","v":2},{"$f":"IF(Pivots!AQ9=\"(Blank)\",\"\",Pivots!AQ9)","v":2},{"$f":"VLOOKUP($C18,'Test 4'!$A$12:$Q$51,2,FALSE)","v":"Stephen Thorne"},{"$f":"VLOOKUP($C18,'Test 4'!$A$12:$Q$51,7,FALSE)","v":""},{"$f":"VLOOKUP($C18,'Test 4'!$A$12:$Q$51,3,FALSE)","v":""},{"$f":"VLOOKUP($C18,'Test 4'!$A$12:$Q$51,4,FALSE)","v":""},{"$f":"VLOOKUP($C18,'Test 4'!$A$12:$Q$51,5,FALSE)","v":"senior"},{"$f":"VLOOKUP($C18,'Test 4'!$A$12:$Q$51,13,FALSE)","v":"00:00:49.740"},{"$f":"VLOOKUP($C18,'Test 4'!$A$12:$Q$51,16,FALSE)","v":"00:03:25.070"}]
[{"$f":"IF(Pivots!AP10=\"(Blank)\",\"\",Pivots!AP10)","v":0},{"$f":"VLOOKUP($C19,'Test 4'!$A$12:$Q$51,15,FALSE)","v":7},{"$f":"IF(Pivots!AQ10=\"(Blank)\",\"\",Pivots!AQ10)","v":19},{"$f":"VLOOKUP($C19,'Test 4'!$A$12:$Q$51,2,FALSE)","v":"Christopher Northey"},{"$f":"VLOOKUP($C19,'Test 4'!$A$12:$Q$51,7,FALSE)","v":""},{"$f":"VLOOKUP($C19,'Test 4'!$A$12:$Q$51,3,FALSE)","v":""},{"$f":"VLOOKUP($C19,'Test 4'!$A$12:$Q$51,4,FALSE)","v":""},{"$f":"VLOOKUP($C19,'Test 4'!$A$12:$Q$51,5,FALSE)","v":"senior"},{"$f":"VLOOKUP($C19,'Test 4'!$A$12:$Q$51,13,FALSE)","v":"00:00:54.660"},{"$f":"VLOOKUP($C19,'Test 4'!$A$12:$Q$51,16,FALSE)","v":"00:03:32.880"}]
[{"$f":"IF(Pivots!AP11=\"(Blank)\",\"\",Pivots!AP11)","v":0},{"$f":"VLOOKUP($C20,'Test 4'!$A$12:$Q$51,15,FALSE)","v":14},{"$f":"IF(Pivots!AQ11=\"(Blank)\",\"\",Pivots!AQ11)","v":20},{"$f":"VLOOKUP($C20,'Test 4'!$A$12:$Q$51,2,FALSE)","v":"Ray Lampl"},{"$f":"VLOOKUP($C20,'Test 4'!$A$12:$Q$51,7,FALSE)","v":""},{"$f":"VLOOKUP($C20,'Test 4'!$A$12:$Q$51,3,FALSE)","v":""},{"$f":"VLOOKUP($C20,'Test 4'!$A$12:$Q$51,4,FALSE)","v":""},{"$f":"VLOOKUP($C20,'Test 4'!$A$12:$Q$51,5,FALSE)","v":"senior"},{"$f":"VLOOKUP($C20,'Test 4'!$A$12:$Q$51,13,FALSE)","v":"00:00:58.980"},{"$f":"VLOOKUP($C20,'Test 4'!$A$12:$Q$51,16,FALSE)","v":"00:03:34.090"}]
[{"$f":"IF(Pivots!AP12=\"(Blank)\",\"\",Pivots!AP12)","v":0},{"$f":"VLOOKUP($C21,'Test 4'!$A$12:$Q$51,15,FALSE)","v":12},{"$f":"IF(Pivots!AQ12=\"(Blank)\",\"\",Pivots!AQ12)","v":15},{"$f":"VLOOKUP($C21,'Test 4'!$A$12:$Q$51,2,FALSE)","v":"Khi Fulthorpe"},{"$f":"VLOOKUP($C21,'Test 4'!$A$12:$Q$51,7,FALSE)","v":""},{"$f":"VLOOKUP($C21,'Test 4'!$A$12:$Q$51,3,FALSE)","v":""},{"$f":"VLOOKUP($C21,'Test 4'!$A$12:$Q$51,4,FALSE)","v":""},{"$f":"VLOOKUP($C21,'Test 4'!$A$12:$Q$51,5,FALSE)","v":"senior"},{"$f":"VLOOKUP($C21,'Test 4'!$A$12:$Q$51,13,FALSE)","v":"00:00:55.860"},{"$f":"VLOOKUP($C21,'Test 4'!$A$12:$Q$51,16,FALSE)","v":"00:03:34.780"}]
[{"$f":"IF(Pivots!AP13=\"(Blank)\",\"\",Pivots!AP13)","v":0},{"$f":"VLOOKUP($C22,'Test 4'!$A$12:$Q$51,15,FALSE)","v":10},{"$f":"IF(Pivots!AQ13=\"(Blank)\",\"\",Pivots!AQ13)","v":5},{"$f":"VLOOKUP($C22,'Test 4'!$A$12:$Q$51,2,FALSE)","v":"Janelle Ballard"},{"$f":"VLOOKUP($C22,'Test 4'!$A$12:$Q$51,7,FALSE)","v":""},{"$f":"VLOOKUP($C22,'Test 4'!$A$12:$Q$51,3,FALSE)","v":""},{"$f":"VLOOKUP($C22,'Test 4'!$A$12:$Q$51,4,FALSE)","v":"female"},{"$f":"VLOOKUP($C22,'Test 4'!$A$12:$Q$51,5,FALSE)","v":"senior"},{"$f":"VLOOKUP($C22,'Test 4'!$A$12:$Q$51,13,FALSE)","v":"00:00:55.280"},{"$f":"VLOOKUP($C22,'Test 4'!$A$12:$Q$51,16,FALSE)","v":"00:03:36.780"}]
[{"$f":"IF(Pivots!AP14=\"(Blank)\",\"\",Pivots!AP14)","v":0},{"$f":"VLOOKUP($C23,'Test 4'!$A$12:$Q$51,15,FALSE)","v":5},{"$f":"IF(Pivots!AQ14=\"(Blank)\",\"\",Pivots!AQ14)","v":16},{"$f":"VLOOKUP($C23,'Test 4'!$A$12:$Q$51,2,FALSE)","v":"Nathan Senior"},{"$f":"VLOOKUP($C23,'Test 4'!$A$12:$Q$51,7,FALSE)","v":""},{"$f":"VLOOKUP($C23,'Test 4'!$A$12:$Q$51,3,FALSE)","v":""},{"$f":"VLOOKUP($C23,'Test 4'!$A$12:$Q$51,4,FALSE)","v":""},{"$f":"VLOOKUP($C23,'Test 4'!$A$12:$Q$51,5,FALSE)","v":"senior"},{"$f":"VLOOKUP($C23,'Test 4'!$A$12:$Q$51,13,FALSE)","v":"00:00:53.650"},{"$f":"VLOOKUP($C23,'Test 4'!$A$12:$Q$51,16,FALSE)","v":"00:03:36.800"}]
[{"$f":"IF(Pivots!AP15=\"(Blank)\",\"\",Pivots!AP15)","v":0},{"$f":"VLOOKUP($C24,'Test 4'!$A$12:$Q$51,15,FALSE)","v":6},{"$f":"IF(Pivots!AQ15=\"(Blank)\",\"\",Pivots!AQ15)","v":12},{"$f":"VLOOKUP($C24,'Test 4'!$A$12:$Q$51,2,FALSE)","v":"Mat Boorman"},{"$f":"VLOOKUP($C24,'Test 4'!$A$12:$Q$51,7,FALSE)","v":""},{"$f":"VLOOKUP($C24,'Test 4'!$A$12:$Q$51,3,FALSE)","v":""},{"$f":"VLOOKUP($C24,'Test 4'!$A$12:$Q$51,4,FALSE)","v":""},{"$f":"VLOOKUP($C24,'Test 4'!$A$12:$Q$51,5,FALSE)","v":"senior"},{"$f":"VLOOKUP($C24,'Test 4'!$A$12:$Q$51,13,FALSE)","v":"00:00:54.470"},{"$f":"VLOOKUP($C24,'Test 4'!$A$12:$Q$51,16,FALSE)","v":"00:03:37.940"}]
[{"$f":"IF(Pivots!AP16=\"(Blank)\",\"\",Pivots!AP16)","v":0},{"$f":"VLOOKUP($C25,'Test 4'!$A$12:$Q$51,15,FALSE)","v":15},{"$f":"IF(Pivots!AQ16=\"(Blank)\",\"\",Pivots!AQ16)","v":8},{"$f":"VLOOKUP($C25,'Test 4'!$A$12:$Q$51,2,FALSE)","v":"Jim Taylor"},{"$f":"VLOOKUP($C25,'Test 4'!$A$12:$Q$51,7,FALSE)","v":""},{"$f":"VLOOKUP($C25,'Test 4'!$A$12:$Q$51,3,FALSE)","v":""},{"$f":"VLOOKUP($C25,'Test 4'!$A$12:$Q$51,4,FALSE)","v":""},{"$f":"VLOOKUP($C25,'Test 4'!$A$12:$Q$51,5,FALSE)","v":"senior"},{"$f":"VLOOKUP($C25,'Test 4'!$A$12:$Q$51,13,FALSE)","v":"00:00:59.080"},{"$f":"VLOOKUP($C25,'Test 4'!$A$12:$Q$51,16,FALSE)","v":"00:03:44.760"}]
[{"$f":"IF(Pivots!AP17=\"(Blank)\",\"\",Pivots!AP17)","v":0},{"$f":"VLOOKUP($C26,'Test 4'!$A$12:$Q$51,15,FALSE)","v":8},{"$f":"IF(Pivots!AQ17=\"(Blank)\",\"\",Pivots!AQ17)","v":3},{"$f":"VLOOKUP($C26,'Test 4'!$A$12:$Q$51,2,FALSE)","v":"David Ballard"},{"$f":"VLOOKUP($C26,'Test 4'!$A$12:$Q$51,7,FALSE)","v":""},{"$f":"VLOOKUP($C26,'Test 4'!$A$12:$Q$51,3,FALSE)","v":""},{"$f":"VLOOKUP($C26,'Test 4'!$A$12:$Q$51,4,FALSE)","v":""},{"$f":"VLOOKUP($C26,'Test 4'!$A$12:$Q$51,5,FALSE)","v":"senior"},{"$f":"VLOOKUP($C26,'Test 4'!$A$12:$Q$51,13,FALSE)","v":"00:00:55.020"},{"$f":"VLOOKUP($C26,'Test 4'!$A$12:$Q$51,16,FALSE)","v":"00:03:47.060"}]
[{"$f":"IF(Pivots!AP18=\"(Blank)\",\"\",Pivots!AP18)","v":0},{"$f":"VLOOKUP($C27,'Test 4'!$A$12:$Q$51,15,FALSE)","v":11},{"$f":"IF(Pivots!AQ18=\"(Blank)\",\"\",Pivots!AQ18)","v":11},{"$f":"VLOOKUP($C27,'Test 4'!$A$12:$Q$51,2,FALSE)","v":"Russel McKinley"},{"$f":"VLOOKUP($C27,'Test 4'!$A$12:$Q$51,7,FALSE)","v":""},{"$f":"VLOOKUP($C27,'Test 4'!$A$12:$Q$51,3,FALSE)","v":""},{"$f":"VLOOKUP($C27,'Test 4'!$A$12:$Q$51,4,FALSE)","v":""},{"$f":"VLOOKUP($C27,'Test 4'!$A$12:$Q$51,5,FALSE)","v":"senior"},{"$f":"VLOOKUP($C27,'Test 4'!$A$12:$Q$51,13,FALSE)","v":"00:00:55.400"},{"$f":"VLOOKUP($C27,'Test 4'!$A$12:$Q$51,16,FALSE)","v":"00:03:52.150"}]
[{"$f":"IF(Pivots!AP19=\"(Blank)\",\"\",Pivots!AP19)","v":0},{"$f":"VLOOKUP($C28,'Test 4'!$A$12:$Q$51,15,FALSE)","v":9},{"$f":"IF(Pivots!AQ19=\"(Blank)\",\"\",Pivots!AQ19)","v":10},{"$f":"VLOOKUP($C28,'Test 4'!$A$12:$Q$51,2,FALSE)","v":"Scott Taylor"},{"$f":"VLOOKUP($C28,'Test 4'!$A$12:$Q$51,7,FALSE)","v":""},{"$f":"VLOOKUP($C28,'Test 4'!$A$12:$Q$51,3,FALSE)","v":""},{"$f":"VLOOKUP($C28,'Test 4'!$A$12:$Q$51,4,FALSE)","v":""},{"$f":"VLOOKUP($C28,'Test 4'!$A$12:$Q$51,5,FALSE)","v":"senior"},{"$f":"VLOOKUP($C28,'Test 4'!$A$12:$Q$51,13,FALSE)","v":"00:00:55.080"},{"$f":"VLOOKUP($C28,'Test 4'!$A$12:$Q$51,16,FALSE)","v":"00:03:53.420"}]
[{"$f":"IF(Pivots!AP20=\"(Blank)\",\"\",Pivots!AP20)","v":0},{"$f":"VLOOKUP($C29,'Test 4'!$A$12:$Q$51,15,FALSE)","v":16},{"$f":"IF(Pivots!AQ20=\"(Blank)\",\"\",Pivots!AQ20)","v":18},{"$f":"VLOOKUP($C29,'Test 4'!$A$12:$Q$51,2,FALSE)","v":"Jack Stanley"},{"$f":"VLOOKUP($C29,'Test 4'!$A$12:$Q$51,7,FALSE)","v":""},{"$f":"VLOOKUP($C29,'Test 4'!$A$12:$Q$51,3,FALSE)","v":"rookie"},{"$f":"VLOOKUP($C29,'Test 4'!$A$12:$Q$51,4,FALSE)","v":""},{"$f":"VLOOKUP($C29,'Test 4'!$A$12:$Q$51,5,FALSE)","v":"senior"},{"$f":"VLOOKUP($C29,'Test 4'!$A$12:$Q$51,13,FALSE)","v":"00:01:02.920"},{"$f":"VLOOKUP($C29,'Test 4'!$A$12:$Q$51,16,FALSE)","v":"00:04:07.940"}]
[{"$f":"IF(Pivots!AP21=\"(Blank)\",\"\",Pivots!AP21)","v":0},{"$f":"VLOOKUP($C30,'Test 4'!$A$12:$Q$51,15,FALSE)","v":19},{"$f":"IF(Pivots!AQ21=\"(Blank)\",\"\",Pivots!AQ21)","v":6},{"$f":"VLOOKUP($C30,'Test 4'!$A$12:$Q$51,2,FALSE)","v":"Issac Wishart"},{"$f":"VLOOKUP($C30,'Test 4'!$A$12:$Q$51,7,FALSE)","v":""},{"$f":"VLOOKUP($C30,'Test 4'!$A$12:$Q$51,3,FALSE)","v":"rookie"},{"$f":"VLOOKUP($C30,'Test 4'!$A$12:$Q$51,4,FALSE)","v":""},{"$f":"VLOOKUP($C30,'Test 4'!$A$12:$Q$51,5,FALSE)","v":"senior"},{"$f":"VLOOKUP($C30,'Test 4'!$A$12:$Q$51,13,FALSE)","v":"00:01:06.740"},{"$f":"VLOOKUP($C30,'Test 4'!$A$12:$Q$51,16,FALSE)","v":"00:04:12.190"}]
[{"$f":"IF(Pivots!AP22=\"(Blank)\",\"\",Pivots!AP22)","v":0},{"$f":"VLOOKUP($C31,'Test 4'!$A$12:$Q$51,15,FALSE)","v":17},{"$f":"IF(Pivots!AQ22=\"(Blank)\",\"\",Pivots!AQ22)","v":13},{"$f":"VLOOKUP($C31,'Test 4'!$A$12:$Q$51,2,FALSE)","v":"Aaron Wishart"},{"$f":"VLOOKUP($C31,'Test 4'!$A$12:$Q$51,7,FALSE)","v":""},{"$f":"VLOOKUP($C31,'Test 4'!$A$12:$Q$51,3,FALSE)","v":""},{"$f":"VLOOKUP($C31,'Test 4'!$A$12:$Q$51,4,FALSE)","v":""},{"$f":"VLOOKUP($C31,'Test 4'!$A$12:$Q$51,5,FALSE)","v":"senior"},{"$f":"VLOOKUP($C31,'Test 4'!$A$12:$Q$51,13,FALSE)","v":"00:01:03.480"},{"$f":"VLOOKUP($C31,'Test 4'!$A$12:$Q$51,16,FALSE)","v":"00:04:15.820"}]
[{"$f":"IF(Pivots!AP23=\"(Blank)\",\"\",Pivots!AP23)","v":0},{"$f":"VLOOKUP($C32,'Test 4'!$A$12:$Q$51,15,FALSE)","v":18},{"$f":"IF(Pivots!AQ23=\"(Blank)\",\"\",Pivots!AQ23)","v":4},{"$f":"VLOOKUP($C32,'Test 4'!$A$12:$Q$51,2,FALSE)","v":"Michaela Ballard"},{"$f":"VLOOKUP($C32,'Test 4'!$A$12:$Q$51,7,FALSE)","v":""},{"$f":"VLOOKUP($C32,'Test 4'!$A$12:$Q$51,3,FALSE)","v":"rookie"},{"$f":"VLOOKUP($C32,'Test 4'!$A$12:$Q$51,4,FALSE)","v":"female"},{"$f":"VLOOKUP($C32,'Test 4'!$A$12:$Q$51,5,FALSE)","v":"senior"},{"$f":"VLOOKUP($C32,'Test 4'!$A$12:$Q$51,13,FALSE)","v":"00:01:05.670"},{"$f":"VLOOKUP($C32,'Test 4'!$A$12:$Q$51,16,FALSE)","v":"00:04:15.870"}]
[{"$f":"IF(Pivots!AP24=\"(Blank)\",\"\",Pivots!AP24)","v":0},{"$f":"VLOOKUP($C33,'Test 4'!$A$12:$Q$51,15,FALSE)","v":20},{"$f":"IF(Pivots!AQ24=\"(Blank)\",\"\",Pivots!AQ24)","v":7},{"$f":"VLOOKUP($C33,'Test 4'!$A$12:$Q$51,2,FALSE)","v":""},{"$f":"VLOOKUP($C33,'Test 4'!$A$12:$Q$51,7,FALSE)","v":""},{"$f":"VLOOKUP($C33,'Test 4'!$A$12:$Q$51,3,FALSE)","v":""},{"$f":"VLOOKUP($C33,'Test 4'!$A$12:$Q$51,4,FALSE)","v":""},{"$f":"VLOOKUP($C33,'Test 4'!$A$12:$Q$51,5,FALSE)","v":"senior"},{"$f":"VLOOKUP($C33,'Test 4'!$A$12:$Q$51,13,FALSE)","v":"00:01:16.740"},{"$f":"VLOOKUP($C33,'Test 4'!$A$12:$Q$51,16,FALSE)","v":"00:05:07.580"}]
[{"$f":"IF(Pivots!AP25=\"(Blank)\",\"\",Pivots!AP25)","v":0},{"$f":"VLOOKUP($C34,'Test 4'!$A$12:$Q$51,15,FALSE)","v":20},{"$f":"IF(Pivots!AQ25=\"(Blank)\",\"\",Pivots!AQ25)","v":22},{"$f":"VLOOKUP($C34,'Test 4'!$A$12:$Q$51,2,FALSE)","v":""},{"$f":"VLOOKUP($C34,'Test 4'!$A$12:$Q$51,7,FALSE)","v":""},{"$f":"VLOOKUP($C34,'Test 4'!$A$12:$Q$51,3,FALSE)","v":""},{"$f":"VLOOKUP($C34,'Test 4'!$A$12:$Q$51,4,FALSE)","v":""},{"$f":"VLOOKUP($C34,'Test 4'!$A$12:$Q$51,5,FALSE)","v":"senior"},{"$f":"VLOOKUP($C34,'Test 4'!$A$12:$Q$51,13,FALSE)","v":"00:01:16.740"},{"$f":"VLOOKUP($C34,'Test 4'!$A$12:$Q$51,16,FALSE)","v":"00:05:07.580"}]
[{"$f":"IF(Pivots!AP26=\"(Blank)\",\"\",Pivots!AP26)","v":0},{"$f":"VLOOKUP($C35,'Test 4'!$A$12:$Q$51,15,FALSE)","v":20},{"$f":"IF(Pivots!AQ26=\"(Blank)\",\"\",Pivots!AQ26)","v":23},{"$f":"VLOOKUP($C35,'Test 4'!$A$12:$Q$51,2,FALSE)","v":""},{"$f":"VLOOKUP($C35,'Test 4'!$A$12:$Q$51,7,FALSE)","v":""},{"$f":"VLOOKUP($C35,'Test 4'!$A$12:$Q$51,3,FALSE)","v":""},{"$f":"VLOOKUP($C35,'Test 4'!$A$12:$Q$51,4,FALSE)","v":""},{"$f":"VLOOKUP($C35,'Test 4'!$A$12:$Q$51,5,FALSE)","v":"senior"},{"$f":"VLOOKUP($C35,'Test 4'!$A$12:$Q$51,13,FALSE)","v":"00:01:16.740"},{"$f":"VLOOKUP($C35,'Test 4'!$A$12:$Q$51,16,FALSE)","v":"00:05:07.580"}]
[{"$f":"IF(Pivots!AP27=\"(Blank)\",\"\",Pivots!AP27)","v":0},{"$f":"VLOOKUP($C36,'Test 4'!$A$12:$Q$51,15,FALSE)","v":20},{"$f":"IF(Pivots!AQ27=\"(Blank)\",\"\",Pivots!AQ27)","v":24},{"$f":"VLOOKUP($C36,'Test 4'!$A$12:$Q$51,2,FALSE)","v":""},{"$f":"VLOOKUP($C36,'Test 4'!$A$12:$Q$51,7,FALSE)","v":""},{"$f":"VLOOKUP($C36,'Test 4'!$A$12:$Q$51,3,FALSE)","v":""},{"$f":"VLOOKUP($C36,'Test 4'!$A$12:$Q$51,4,FALSE)","v":""},{"$f":"VLOOKUP($C36,'Test 4'!$A$12:$Q$51,5,FALSE)","v":"senior"},{"$f":"VLOOKUP($C36,'Test 4'!$A$12:$Q$51,13,FALSE)","v":"00:01:16.740"},{"$f":"VLOOKUP($C36,'Test 4'!$A$12:$Q$51,16,FALSE)","v":"00:05:07.580"}]
[{"$f":"IF(Pivots!AP28=\"(Blank)\",\"\",Pivots!AP28)","v":0},{"$f":"VLOOKUP($C37,'Test 4'!$A$12:$Q$51,15,FALSE)","v":20},{"$f":"IF(Pivots!AQ28=\"(Blank)\",\"\",Pivots!AQ28)","v":21},{"$f":"VLOOKUP($C37,'Test 4'!$A$12:$Q$51,2,FALSE)","v":""},{"$f":"VLOOKUP($C37,'Test 4'!$A$12:$Q$51,7,FALSE)","v":""},{"$f":"VLOOKUP($C37,'Test 4'!$A$12:$Q$51,3,FALSE)","v":""},{"$f":"VLOOKUP($C37,'Test 4'!$A$12:$Q$51,4,FALSE)","v":""},{"$f":"VLOOKUP($C37,'Test 4'!$A$12:$Q$51,5,FALSE)","v":"senior"},{"$f":"VLOOKUP($C37,'Test 4'!$A$12:$Q$51,13,FALSE)","v":"00:01:16.740"},{"$f":"VLOOKUP($C37,'Test 4'!$A$12:$Q$51,16,FALSE)","v":"00:05:07.580"}]
[{"$f":"IF(Pivots!AP29=\"(Blank)\",\"\",Pivots!AP29)","v":0},{"$f":"VLOOKUP($C38,'Test 4'!$A$12:$Q$51,15,FALSE)","v":20},{"$f":"IF(Pivots!AQ29=\"(Blank)\",\"\",Pivots!AQ29)","v":25},{"$f":"VLOOKUP($C38,'Test 4'!$A$12:$Q$51,2,FALSE)","v":""},{"$f":"VLOOKUP($C38,'Test 4'!$A$12:$Q$51,7,FALSE)","v":""},{"$f":"VLOOKUP($C38,'Test 4'!$A$12:$Q$51,3,FALSE)","v":""},{"$f":"VLOOKUP($C38,'Test 4'!$A$12:$Q$51,4,FALSE)","v":""},{"$f":"VLOOKUP($C38,'Test 4'!$A$12:$Q$51,5,FALSE)","v":"senior"},{"$f":"VLOOKUP($C38,'Test 4'!$A$12:$Q$51,13,FALSE)","v":"00:01:16.740"},{"$f":"VLOOKUP($C38,'Test 4'!$A$12:$Q$51,16,FALSE)","v":"00:05:07.580"}]
[{"$f":"IF(Pivots!AP30=\"(Blank)\",\"\",Pivots!AP30)","v":0},{"$f":"VLOOKUP($C39,'Test 4'!$A$12:$Q$51,15,FALSE)","v":20},{"$f":"IF(Pivots!AQ30=\"(Blank)\",\"\",Pivots!AQ30)","v":26},{"$f":"VLOOKUP($C39,'Test 4'!$A$12:$Q$51,2,FALSE)","v":""},{"$f":"VLOOKUP($C39,'Test 4'!$A$12:$Q$51,7,FALSE)","v":""},{"$f":"VLOOKUP($C39,'Test 4'!$A$12:$Q$51,3,FALSE)","v":""},{"$f":"VLOOKUP($C39,'Test 4'!$A$12:$Q$51,4,FALSE)","v":""},{"$f":"VLOOKUP($C39,'Test 4'!$A$12:$Q$51,5,FALSE)","v":"senior"},{"$f":"VLOOKUP($C39,'Test 4'!$A$12:$Q$51,13,FALSE)","v":"00:01:16.740"},{"$f":"VLOOKUP($C39,'Test 4'!$A$12:$Q$51,16,FALSE)","v":"00:05:07.580"}]
[{"$f":"IF(Pivots!AP31=\"(Blank)\",\"\",Pivots!AP31)","v":0},{"$f":"VLOOKUP($C40,'Test 4'!$A$12:$Q$51,15,FALSE)","v":20},{"$f":"IF(Pivots!AQ31=\"(Blank)\",\"\",Pivots!AQ31)","v":27},{"$f":"VLOOKUP($C40,'Test 4'!$A$12:$Q$51,2,FALSE)","v":""},{"$f":"VLOOKUP($C40,'Test 4'!$A$12:$Q$51,7,FALSE)","v":""},{"$f":"VLOOKUP($C40,'Test 4'!$A$12:$Q$51,3,FALSE)","v":""},{"$f":"VLOOKUP($C40,'Test 4'!$A$12:$Q$51,4,FALSE)","v":""},{"$f":"VLOOKUP($C40,'Test 4'!$A$12:$Q$51,5,FALSE)","v":"senior"},{"$f":"VLOOKUP($C40,'Test 4'!$A$12:$Q$51,13,FALSE)","v":"00:01:16.740"},{"$f":"VLOOKUP($C40,'Test 4'!$A$12:$Q$51,16,FALSE)","v":"00:05:07.580"}]
[{"$f":"IF(Pivots!AP32=\"(Blank)\",\"\",Pivots!AP32)","v":0},{"$f":"VLOOKUP($C41,'Test 4'!$A$12:$Q$51,15,FALSE)","v":20},{"$f":"IF(Pivots!AQ32=\"(Blank)\",\"\",Pivots!AQ32)","v":28},{"$f":"VLOOKUP($C41,'Test 4'!$A$12:$Q$51,2,FALSE)","v":""},{"$f":"VLOOKUP($C41,'Test 4'!$A$12:$Q$51,7,FALSE)","v":""},{"$f":"VLOOKUP($C41,'Test 4'!$A$12:$Q$51,3,FALSE)","v":""},{"$f":"VLOOKUP($C41,'Test 4'!$A$12:$Q$51,4,FALSE)","v":""},{"$f":"VLOOKUP($C41,'Test 4'!$A$12:$Q$51,5,FALSE)","v":"senior"},{"$f":"VLOOKUP($C41,'Test 4'!$A$12:$Q$51,13,FALSE)","v":"00:01:16.740"},{"$f":"VLOOKUP($C41,'Test 4'!$A$12:$Q$51,16,FALSE)","v":"00:05:07.580"}]
[{"$f":"IF(Pivots!AP33=\"(Blank)\",\"\",Pivots!AP33)","v":0},{"$f":"VLOOKUP($C42,'Test 4'!$A$12:$Q$51,15,FALSE)","v":20},{"$f":"IF(Pivots!AQ33=\"(Blank)\",\"\",Pivots!AQ33)","v":29},{"$f":"VLOOKUP($C42,'Test 4'!$A$12:$Q$51,2,FALSE)","v":""},{"$f":"VLOOKUP($C42,'Test 4'!$A$12:$Q$51,7,FALSE)","v":""},{"$f":"VLOOKUP($C42,'Test 4'!$A$12:$Q$51,3,FALSE)","v":""},{"$f":"VLOOKUP($C42,'Test 4'!$A$12:$Q$51,4,FALSE)","v":""},{"$f":"VLOOKUP($C42,'Test 4'!$A$12:$Q$51,5,FALSE)","v":"senior"},{"$f":"VLOOKUP($C42,'Test 4'!$A$12:$Q$51,13,FALSE)","v":"00:01:16.740"},{"$f":"VLOOKUP($C42,'Test 4'!$A$12:$Q$51,16,FALSE)","v":"00:05:07.580"}]
[{"$f":"IF(Pivots!AP34=\"(Blank)\",\"\",Pivots!AP34)","v":0},{"$f":"VLOOKUP($C43,'Test 4'!$A$12:$Q$51,15,FALSE)","v":20},{"$f":"IF(Pivots!AQ34=\"(Blank)\",\"\",Pivots!AQ34)","v":30},{"$f":"VLOOKUP($C43,'Test 4'!$A$12:$Q$51,2,FALSE)","v":""},{"$f":"VLOOKUP($C43,'Test 4'!$A$12:$Q$51,7,FALSE)","v":""},{"$f":"VLOOKUP($C43,'Test 4'!$A$12:$Q$51,3,FALSE)","v":""},{"$f":"VLOOKUP($C43,'Test 4'!$A$12:$Q$51,4,FALSE)","v":""},{"$f":"VLOOKUP($C43,'Test 4'!$A$12:$Q$51,5,FALSE)","v":"senior"},{"$f":"VLOOKUP($C43,'Test 4'!$A$12:$Q$51,13,FALSE)","v":"00:01:16.740"},{"$f":"VLOOKUP($C43,'Test 4'!$A$12:$Q$51,16,FALSE)","v":"00:05:07.580"}]
[null,{"$f":"VLOOKUP($C44,'Test 4'!$A$12:$Q$51,15,FALSE)","v":{"$error":"#N/A"}}]
[null,{"$f":"VLOOKUP($C45,'Test 4'!$A$12:$Q$51,15,FALSE)","v":{"$error":"#N/A"}}]
[null,{"$f":"VLOOKUP($C46,'Test 4'!$A$12:$Q$51,15,FALSE)","v":{"$error":"#N/A"}}]
[null,{"$f":"VLOOKUP($C47,'Test 4'!$A$12:$Q$51,15,FALSE)","v":{"$error":"#N/A"}}]
[null,{"$f":"VLOOKUP($C48,'Test 4'!$A$12:$Q$51,15,FALSE)","v":{"$error":"#N/A"}}]
[null,{"$f":"VLOOKUP($C49,'Test 4'!$A$12:$Q$51,15,FALSE)","v":{"$error":"#N/A"}}]
[null,{"$f":"VLOOKUP($C50,'Test 4'!$A$12:$Q$51,15,FALSE)","v":{"$error":"#N/A"}}]
[null,{"$f":"VLOOKUP($C51,'Test 4'!$A$12:$Q$51,15,FALSE)","v":{"$error":"#N/A"}}]
[null,{"$f":"VLOOKUP($C52,'Test 4'!$A$12:$Q$51,15,FALSE)","v":{"$error":"#N/A"}}]
[null,{"$f":"VLOOKUP($C53,'Test 4'!$A$12:$Q$51,15,FALSE)","v":{"$error":"#N/A"}}]

{"sheet":"Print_Test 5","index":7,"n_rows":53,"n_cols":10,"rows_kept":53,"cut":false,"hidden":false,"merged":[[11,6,12,6],[11,7,12,7],[8,3,8,5],[9,3,9,5],[11,0,12,0],[11,1,12,1],[11,2,12,2],[11,3,12,3],[11,4,12,4],[11,5,12,5]]}
[]
[]
[]
[]
[]
[]
[]
[]
[null,null,null,"Provisional Results"]
[null,null,null,"Test 5"]
[]
["Outright Position","Test Position","Car Number","Driver","Class","Rookie?","Female?","Junior?","Test Time","Cumulative Time"]
[null,null,null,null,null,null,null,null,"(mm:ss.00)","(mm:ss.00)"]
[{"$f":"IF(Pivots!BA5=\"(Blank)\",\"\",Pivots!BA5)","v":0},{"$f":"VLOOKUP($C14,'Test 5'!$A$12:$Q$51,15,FALSE)","v":1},{"$f":"IF(Pivots!BB5=\"(Blank)\",\"\",Pivots!BB5)","v":17},{"$f":"VLOOKUP($C14,'Test 5'!$A$12:$Q$51,2,FALSE)","v":"Reece McIntosh"},{"$f":"VLOOKUP($C14,'Test 5'!$A$12:$Q$51,7,FALSE)","v":""},{"$f":"VLOOKUP($C14,'Test 5'!$A$12:$Q$51,3,FALSE)","v":""},{"$f":"VLOOKUP($C14,'Test 5'!$A$12:$Q$51,4,FALSE)","v":""},{"$f":"VLOOKUP($C14,'Test 5'!$A$12:$Q$51,5,FALSE)","v":"senior"},{"$f":"VLOOKUP($C14,'Test 5'!$A$12:$Q$51,13,FALSE)","v":"00:00:45.240"},{"$f":"VLOOKUP($C14,'Test 5'!$A$12:$Q$51,16,FALSE)","v":"00:03:54.500"}]
[{"$f":"IF(Pivots!BA6=\"(Blank)\",\"\",Pivots!BA6)","v":0},{"$f":"VLOOKUP($C15,'Test 5'!$A$12:$Q$51,15,FALSE)","v":5},{"$f":"IF(Pivots!BB6=\"(Blank)\",\"\",Pivots!BB6)","v":9},{"$f":"VLOOKUP($C15,'Test 5'!$A$12:$Q$51,2,FALSE)","v":"Brad Firman"},{"$f":"VLOOKUP($C15,'Test 5'!$A$12:$Q$51,7,FALSE)","v":""},{"$f":"VLOOKUP($C15,'Test 5'!$A$12:$Q$51,3,FALSE)","v":""},{"$f":"VLOOKUP($C15,'Test 5'!$A$12:$Q$51,4,FALSE)","v":""},{"$f":"VLOOKUP($C15,'Test 5'!$A$12:$Q$51,5,FALSE)","v":"senior"},{"$f":"VLOOKUP($C15,'Test 5'!$A$12:$Q$51,13,FALSE)","v":"00:00:48.390"},{"$f":"VLOOKUP($C15,'Test 5'!$A$12:$Q$51,16,FALSE)","v":"00:04:07.740"}]
[{"$f":"IF(Pivots!BA7=\"(Blank)\",\"\",Pivots!BA7)","v":0},{"$f":"VLOOKUP($C16,'Test 5'!$A$12:$Q$51,15,FALSE)","v":2},{"$f":"IF(Pivots!BB7=\"(Blank)\",\"\",Pivots!BB7)","v":1},{"$f":"VLOOKUP($C16,'Test 5'!$A$12:$Q$51,2,FALSE)","v":"Paul Dunn"},{"$f":"VLOOKUP($C16,'Test 5'!$A$12:$Q$51,7,FALSE)","v":""},{"$f":"VLOOKUP($C16,'Test 5'!$A$12:$Q$51,3,FALSE)","v":""},{"$f":"VLOOKUP($C16,'Test 5'!$A$12:$Q$51,4,FALSE)","v":""},{"$f":"VLOOKUP($C16,'Test 5'!$A$12:$Q$51,5,FALSE)","v":"senior"},{"$f":"VLOOKUP($C16,'Test 5'!$A$12:$Q$51,13,FALSE)","v":"00:00:46.940"},{"$f":"VLOOKUP($C16,'Test 5'!$A$12:$Q$51,16,FALSE)","v":"00:04:08.290"}]
[{"$f":"IF(Pivots!BA8=\"(Blank)\",\"\",Pivots!BA8)","v":0},{"$f":"VLOOKUP($C17,'Test 5'!$A$12:$Q$51,15,FALSE)","v":4},{"$f":"IF(Pivots!BB8=\"(Blank)\",\"\",Pivots!BB8)","v":14},{"$f":"VLOOKUP($C17,'Test 5'!$A$12:$Q$51,2,FALSE)","v":"Bob Fulthorpe"},{"$f":"VLOOKUP($C17,'Test 5'!$A$12:$Q$51,7,FALSE)","v":""},{"$f":"VLOOKUP($C17,'Test 5'!$A$12:$Q$51,3,FALSE)","v":""},{"$f":"VLOOKUP($C17,'Test 5'!$A$12:$Q$51,4,FALSE)","v":""},{"$f":"VLOOKUP($C17,'Test 5'!$A$12:$Q$51,5,FALSE)","v":"senior"},{"$f":"VLOOKUP($C17,'Test 5'!$A$12:$Q$51,13,FALSE)","v":"00:00:48.370"},{"$f":"VLOOKUP($C17,'Test 5'!$A$12:$Q$51,16,FALSE)","v":"00:04:12.720"}]
[{"$f":"IF(Pivots!BA9=\"(Blank)\",\"\",Pivots!BA9)","v":0},{"$f":"VLOOKUP($C18,'Test 5'!$A$12:$Q$51,15,FALSE)","v":3},{"$f":"IF(Pivots!BB9=\"(Blank)\",\"\",Pivots!BB9)","v":2},{"$f":"VLOOKUP($C18,'Test 5'!$A$12:$Q$51,2,FALSE)","v":"Stephen Thorne"},{"$f":"VLOOKUP($C18,'Test 5'!$A$12:$Q$51,7,FALSE)","v":""},{"$f":"VLOOKUP($C18,'Test 5'!$A$12:$Q$51,3,FALSE)","v":""},{"$f":"VLOOKUP($C18,'Test 5'!$A$12:$Q$51,4,FALSE)","v":""},{"$f":"VLOOKUP($C18,'Test 5'!$A$12:$Q$51,5,FALSE)","v":"senior"},{"$f":"VLOOKUP($C18,'Test 5'!$A$12:$Q$51,13,FALSE)","v":"00:00:47.810"},{"$f":"VLOOKUP($C18,'Test 5'!$A$12:$Q$51,16,FALSE)","v":"00:04:12.880"}]
[{"$f":"IF(Pivots!BA10=\"(Blank)\",\"\",Pivots!BA10)","v":0},{"$f":"VLOOKUP($C19,'Test 5'!$A$12:$Q$51,15,FALSE)","v":6},{"$f":"IF(Pivots!BB10=\"(Blank)\",\"\",Pivots!BB10)","v":19},{"$f":"VLOOKUP($C19,'Test 5'!$A$12:$Q$51,2,FALSE)","v":"Christopher Northey"},{"$f":"VLOOKUP($C19,'Test 5'!$A$12:$Q$51,7,FALSE)","v":""},{"$f":"VLOOKUP($C19,'Test 5'!$A$12:$Q$51,3,FALSE)","v":""},{"$f":"VLOOKUP($C19,'Test 5'!$A$12:$Q$51,4,FALSE)","v":""},{"$f":"VLOOKUP($C19,'Test 5'!$A$12:$Q$51,5,FALSE)","v":"senior"},{"$f":"VLOOKUP($C19,'Test 5'!$A$12:$Q$51,13,FALSE)","v":"00:00:48.650"},{"$f":"VLOOKUP($C19,'Test 5'!$A$12:$Q$51,16,FALSE)","v":"00:04:21.530"}]
[{"$f":"IF(Pivots!BA11=\"(Blank)\",\"\",Pivots!BA11)","v":0},{"$f":"VLOOKUP($C20,'Test 5'!$A$12:$Q$51,15,FALSE)","v":7},{"$f":"IF(Pivots!BB11=\"(Blank)\",\"\",Pivots!BB11)","v":20},{"$f":"VLOOKUP($C20,'Test 5'!$A$12:$Q$51,2,FALSE)","v":"Ray Lampl"},{"$f":"VLOOKUP($C20,'Test 5'!$A$12:$Q$51,7,FALSE)","v":""},{"$f":"VLOOKUP($C20,'Test 5'!$A$12:$Q$51,3,FALSE)","v":""},{"$f":"VLOOKUP($C20,'Test 5'!$A$12:$Q$51,4,FALSE)","v":""},{"$f":"VLOOKUP($C20,'Test 5'!$A$12:$Q$51,5,FALSE)","v":"senior"},{"$f":"VLOOKUP($C20,'Test 5'!$A$12:$Q$51,13,FALSE)","v":"00:00:51.790"},{"$f":"VLOOKUP($C20,'Test 5'!$A$12:$Q$51,16,FALSE)","v":"00:04:25.880"}]
[{"$f":"IF(Pivots!BA12=\"(Blank)\",\"\",Pivots!BA12)","v":0},{"$f":"VLOOKUP($C21,'Test 5'!$A$12:$Q$51,15,FALSE)","v":11},{"$f":"IF(Pivots!BB12=\"(Blank)\",\"\",Pivots!BB12)","v":15},{"$f":"VLOOKUP($C21,'Test 5'!$A$12:$Q$51,2,FALSE)","v":"Khi Fulthorpe"},{"$f":"VLOOKUP($C21,'Test 5'!$A$12:$Q$51,7,FALSE)","v":""},{"$f":"VLOOKUP($C21,'Test 5'!$A$12:$Q$51,3,FALSE)","v":""},{"$f":"VLOOKUP($C21,'Test 5'!$A$12:$Q$51,4,FALSE)","v":""},{"$f":"VLOOKUP($C21,'Test 5'!$A$12:$Q$51,5,FALSE)","v":"senior"},{"$f":"VLOOKUP($C21,'Test 5'!$A$12:$Q$51,13,FALSE)","v":"00:00:52.940"},{"$f":"VLOOKUP($C21,'Test 5'!$A$12:$Q$51,16,FALSE)","v":"00:04:27.720"}]
[{"$f":"IF(Pivots!BA13=\"(Blank)\",\"\",Pivots!BA13)","v":0},{"$f":"VLOOKUP($C22,'Test 5'!$A$12:$Q$51,15,FALSE)","v":9},{"$f":"IF(Pivots!BB13=\"(Blank)\",\"\",Pivots!BB13)","v":5},{"$f":"VLOOKUP($C22,'Test 5'!$A$12:$Q$51,2,FALSE)","v":"Janelle Ballard"},{"$f":"VLOOKUP($C22,'Test 5'!$A$12:$Q$51,7,FALSE)","v":""},{"$f":"VLOOKUP($C22,'Test 5'!$A$12:$Q$51,3,FALSE)","v":""},{"$f":"VLOOKUP($C22,'Test 5'!$A$12:$Q$51,4,FALSE)","v":"female"},{"$f":"VLOOKUP($C22,'Test 5'!$A$12:$Q$51,5,FALSE)","v":"senior"},{"$f":"VLOOKUP($C22,'Test 5'!$A$12:$Q$51,13,FALSE)","v":"00:00:52.490"},{"$f":"VLOOKUP($C22,'Test 5'!$A$12:$Q$51,16,FALSE)","v":"00:04:29.270"}]
[{"$f":"IF(Pivots!BA14=\"(Blank)\",\"\",Pivots!BA14)","v":0},{"$f":"VLOOKUP($C23,'Test 5'!$A$12:$Q$51,15,FALSE)","v":13},{"$f":"IF(Pivots!BB14=\"(Blank)\",\"\",Pivots!BB14)","v":16},{"$f":"VLOOKUP($C23,'Test 5'!$A$12:$Q$51,2,FALSE)","v":"Nathan Senior"},{"$f":"VLOOKUP($C23,'Test 5'!$A$12:$Q$51,7,FALSE)","v":""},{"$f":"VLOOKUP($C23,'Test 5'!$A$12:$Q$51,3,FALSE)","v":""},{"$f":"VLOOKUP($C23,'Test 5'!$A$12:$Q$51,4,FALSE)","v":""},{"$f":"VLOOKUP($C23,'Test 5'!$A$12:$Q$51,5,FALSE)","v":"senior"},{"$f":"VLOOKUP($C23,'Test 5'!$A$12:$Q$51,13,FALSE)","v":"00:00:53.030"},{"$f":"VLOOKUP($C23,'Test 5'!$A$12:$Q$51,16,FALSE)","v":"00:04:29.830"}]
[{"$f":"IF(Pivots!BA15=\"(Blank)\",\"\",Pivots!BA15)","v":0},{"$f":"VLOOKUP($C24,'Test 5'!$A$12:$Q$51,15,FALSE)","v":10},{"$f":"IF(Pivots!BB15=\"(Blank)\",\"\",Pivots!BB15)","v":12},{"$f":"VLOOKUP($C24,'Test 5'!$A$12:$Q$51,2,FALSE)","v":"Mat Boorman"},{"$f":"VLOOKUP($C24,'Test 5'!$A$12:$Q$51,7,FALSE)","v":""},{"$f":"VLOOKUP($C24,'Test 5'!$A$12:$Q$51,3,FALSE)","v":""},{"$f":"VLOOKUP($C24,'Test 5'!$A$12:$Q$51,4,FALSE)","v":""},{"$f":"VLOOKUP($C24,'Test 5'!$A$12:$Q$51,5,FALSE)","v":"senior"},{"$f":"VLOOKUP($C24,'Test 5'!$A$12:$Q$51,13,FALSE)","v":"00:00:52.910"},{"$f":"VLOOKUP($C24,'Test 5'!$A$12:$Q$51,16,FALSE)","v":"00:04:30.850"}]
[{"$f":"IF(Pivots!BA16=\"(Blank)\",\"\",Pivots!BA16)","v":0},{"$f":"VLOOKUP($C25,'Test 5'!$A$12:$Q$51,15,FALSE)","v":15},{"$f":"IF(Pivots!BB16=\"(Blank)\",\"\",Pivots!BB16)","v":8},{"$f":"VLOOKUP($C25,'Test 5'!$A$12:$Q$51,2,FALSE)","v":"Jim Taylor"},{"$f":"VLOOKUP($C25,'Test 5'!$A$12:$Q$51,7,FALSE)","v":""},{"$f":"VLOOKUP($C25,'Test 5'!$A$12:$Q$51,3,FALSE)","v":""},{"$f":"VLOOKUP($C25,'Test 5'!$A$12:$Q$51,4,FALSE)","v":""},{"$f":"VLOOKUP($C25,'Test 5'!$A$12:$Q$51,5,FALSE)","v":"senior"},{"$f":"VLOOKUP($C25,'Test 5'!$A$12:$Q$51,13,FALSE)","v":"00:00:53.440"},{"$f":"VLOOKUP($C25,'Test 5'!$A$12:$Q$51,16,FALSE)","v":"00:04:38.200"}]
[{"$f":"IF(Pivots!BA17=\"(Blank)\",\"\",Pivots!BA17)","v":0},{"$f":"VLOOKUP($C26,'Test 5'!$A$12:$Q$51,15,FALSE)","v":12},{"$f":"IF(Pivots!BB17=\"(Blank)\",\"\",Pivots!BB17)","v":3},{"$f":"VLOOKUP($C26,'Test 5'!$A$12:$Q$51,2,FALSE)","v":"David Ballard"},{"$f":"VLOOKUP($C26,'Test 5'!$A$12:$Q$51,7,FALSE)","v":""},{"$f":"VLOOKUP($C26,'Test 5'!$A$12:$Q$51,3,FALSE)","v":""},{"$f":"VLOOKUP($C26,'Test 5'!$A$12:$Q$51,4,FALSE)","v":""},{"$f":"VLOOKUP($C26,'Test 5'!$A$12:$Q$51,5,FALSE)","v":"senior"},{"$f":"VLOOKUP($C26,'Test 5'!$A$12:$Q$51,13,FALSE)","v":"00:00:52.990"},{"$f":"VLOOKUP($C26,'Test 5'!$A$12:$Q$51,16,FALSE)","v":"00:04:40.050"}]
[{"$f":"IF(Pivots!BA18=\"(Blank)\",\"\",Pivots!BA18)","v":0},{"$f":"VLOOKUP($C27,'Test 5'!$A$12:$Q$51,15,FALSE)","v":14},{"$f":"IF(Pivots!BB18=\"(Blank)\",\"\",Pivots!BB18)","v":11},{"$f":"VLOOKUP($C27,'Test 5'!$A$12:$Q$51,2,FALSE)","v":"Russel McKinley"},{"$f":"VLOOKUP($C27,'Test 5'!$A$12:$Q$51,7,FALSE)","v":""},{"$f":"VLOOKUP($C27,'Test 5'!$A$12:$Q$51,3,FALSE)","v":""},{"$f":"VLOOKUP($C27,'Test 5'!$A$12:$Q$51,4,FALSE)","v":""},{"$f":"VLOOKUP($C27,'Test 5'!$A$12:$Q$51,5,FALSE)","v":"senior"},{"$f":"VLOOKUP($C27,'Test 5'!$A$12:$Q$51,13,FALSE)","v":"00:00:53.200"},{"$f":"VLOOKUP($C27,'Test 5'!$A$12:$Q$51,16,FALSE)","v":"00:04:45.350"}]
[{"$f":"IF(Pivots!BA19=\"(Blank)\",\"\",Pivots!BA19)","v":0},{"$f":"VLOOKUP($C28,'Test 5'!$A$12:$Q$51,15,FALSE)","v":8},{"$f":"IF(Pivots!BB19=\"(Blank)\",\"\",Pivots!BB19)","v":10},{"$f":"VLOOKUP($C28,'Test 5'!$A$12:$Q$51,2,FALSE)","v":"Scott Taylor"},{"$f":"VLOOKUP($C28,'Test 5'!$A$12:$Q$51,7,FALSE)","v":""},{"$f":"VLOOKUP($C28,'Test 5'!$A$12:$Q$51,3,FALSE)","v":""},{"$f":"VLOOKUP($C28,'Test 5'!$A$12:$Q$51,4,FALSE)","v":""},{"$f":"VLOOKUP($C28,'Test 5'!$A$12:$Q$51,5,FALSE)","v":"senior"},{"$f":"VLOOKUP($C28,'Test 5'!$A$12:$Q$51,13,FALSE)","v":"00:00:52.380"},{"$f":"VLOOKUP($C28,'Test 5'!$A$12:$Q$51,16,FALSE)","v":"00:04:45.800"}]
[{"$f":"IF(Pivots!BA20=\"(Blank)\",\"\",Pivots!BA20)","v":0},{"$f":"VLOOKUP($C29,'Test 5'!$A$12:$Q$51,15,FALSE)","v":17},{"$f":"IF(Pivots!BB20=\"(Blank)\",\"\",Pivots!BB20)","v":18},{"$f":"VLOOKUP($C29,'Test 5'!$A$12:$Q$51,2,FALSE)","v":"Jack Stanley"},{"$f":"VLOOKUP($C29,'Test 5'!$A$12:$Q$51,7,FALSE)","v":""},{"$f":"VLOOKUP($C29,'Test 5'!$A$12:$Q$51,3,FALSE)","v":"rookie"},{"$f":"VLOOKUP($C29,'Test 5'!$A$12:$Q$51,4,FALSE)","v":""},{"$f":"VLOOKUP($C29,'Test 5'!$A$12:$Q$51,5,FALSE)","v":"senior"},{"$f":"VLOOKUP($C29,'Test 5'!$A$12:$Q$51,13,FALSE)","v":"00:00:58.550"},{"$f":"VLOOKUP($C29,'Test 5'!$A$12:$Q$51,16,FALSE)","v":"00:05:06.490"}]
[{"$f":"IF(Pivots!BA21=\"(Blank)\",\"\",Pivots!BA21)","v":0},{"$f":"VLOOKUP($C30,'Test 5'!$A$12:$Q$51,15,FALSE)","v":16},{"$f":"IF(Pivots!BB21=\"(Blank)\",\"\",Pivots!BB21)","v":6},{"$f":"VLOOKUP($C30,'Test 5'!$A$12:$Q$51,2,FALSE)","v":"Issac Wishart"},{"$f":"VLOOKUP($C30,'Test 5'!$A$12:$Q$51,7,FALSE)","v":""},{"$f":"VLOOKUP($C30,'Test 5'!$A$12:$Q$51,3,FALSE)","v":"rookie"},{"$f":"VLOOKUP($C30,'Test 5'!$A$12:$Q$51,4,FALSE)","v":""},{"$f":"VLOOKUP($C30,'Test 5'!$A$12:$Q$51,5,FALSE)","v":"senior"},{"$f":"VLOOKUP($C30,'Test 5'!$A$12:$Q$51,13,FALSE)","v":"00:00:57.230"},{"$f":"VLOOKUP($C30,'Test 5'!$A$12:$Q$51,16,FALSE)","v":"00:05:09.420"}]
[{"$f":"IF(Pivots!BA22=\"(Blank)\",\"\",Pivots!BA22)","v":0},{"$f":"VLOOKUP($C31,'Test 5'!$A$12:$Q$51,15,FALSE)","v":18},{"$f":"IF(Pivots!BB22=\"(Blank)\",\"\",Pivots!BB22)","v":13},{"$f":"VLOOKUP($C31,'Test 5'!$A$12:$Q$51,2,FALSE)","v":"Aaron Wishart"},{"$f":"VLOOKUP($C31,'Test 5'!$A$12:$Q$51,7,FALSE)","v":""},{"$f":"VLOOKUP($C31,'Test 5'!$A$12:$Q$51,3,FALSE)","v":""},{"$f":"VLOOKUP($C31,'Test 5'!$A$12:$Q$51,4,FALSE)","v":""},{"$f":"VLOOKUP($C31,'Test 5'!$A$12:$Q$51,5,FALSE)","v":"senior"},{"$f":"VLOOKUP($C31,'Test 5'!$A$12:$Q$51,13,FALSE)","v":"00:00:59.440"},{"$f":"VLOOKUP($C31,'Test 5'!$A$12:$Q$51,16,FALSE)","v":"00:05:15.260"}]
[{"$f":"IF(Pivots!BA23=\"(Blank)\",\"\",Pivots!BA23)","v":0},{"$f":"VLOOKUP($C32,'Test 5'!$A$12:$Q$51,15,FALSE)","v":19},{"$f":"IF(Pivots!BB23=\"(Blank)\",\"\",Pivots!BB23)","v":4},{"$f":"VLOOKUP($C32,'Test 5'!$A$12:$Q$51,2,FALSE)","v":"Michaela Ballard"},{"$f":"VLOOKUP($C32,'Test 5'!$A$12:$Q$51,7,FALSE)","v":""},{"$f":"VLOOKUP($C32,'Test 5'!$A$12:$Q$51,3,FALSE)","v":"rookie"},{"$f":"VLOOKUP($C32,'Test 5'!$A$12:$Q$51,4,FALSE)","v":"female"},{"$f":"VLOOKUP($C32,'Test 5'!$A$12:$Q$51,5,FALSE)","v":"senior"},{"$f":"VLOOKUP($C32,'Test 5'!$A$12:$Q$51,13,FALSE)","v":"00:01:03.850"},{"$f":"VLOOKUP($C32,'Test 5'!$A$12:$Q$51,16,FALSE)","v":"00:05:19.720"}]
[{"$f":"IF(Pivots!BA24=\"(Blank)\",\"\",Pivots!BA24)","v":0},{"$f":"VLOOKUP($C33,'Test 5'!$A$12:$Q$51,15,FALSE)","v":20},{"$f":"IF(Pivots!BB24=\"(Blank)\",\"\",Pivots!BB24)","v":7},{"$f":"VLOOKUP($C33,'Test 5'!$A$12:$Q$51,2,FALSE)","v":""},{"$f":"VLOOKUP($C33,'Test 5'!$A$12:$Q$51,7,FALSE)","v":""},{"$f":"VLOOKUP($C33,'Test 5'!$A$12:$Q$51,3,FALSE)","v":""},{"$f":"VLOOKUP($C33,'Test 5'!$A$12:$Q$51,4,FALSE)","v":""},{"$f":"VLOOKUP($C33,'Test 5'!$A$12:$Q$51,5,FALSE)","v":"senior"},{"$f":"VLOOKUP($C33,'Test 5'!$A$12:$Q$51,13,FALSE)","v":"00:01:13.850"},{"$f":"VLOOKUP($C33,'Test 5'!$A$12:$Q$51,16,FALSE)","v":"00:06:21.430"}]
[{"$f":"IF(Pivots!BA25=\"(Blank)\",\"\",Pivots!BA25)","v":0},{"$f":"VLOOKUP($C34,'Test 5'!$A$12:$Q$51,15,FALSE)","v":20},{"$f":"IF(Pivots!BB25=\"(Blank)\",\"\",Pivots!BB25)","v":22},{"$f":"VLOOKUP($C34,'Test 5'!$A$12:$Q$51,2,FALSE)","v":""},{"$f":"VLOOKUP($C34,'Test 5'!$A$12:$Q$51,7,FALSE)","v":""},{"$f":"VLOOKUP($C34,'Test 5'!$A$12:$Q$51,3,FALSE)","v":""},{"$f":"VLOOKUP($C34,'Test 5'!$A$12:$Q$51,4,FALSE)","v":""},{"$f":"VLOOKUP($C34,'Test 5'!$A$12:$Q$51,5,FALSE)","v":"senior"},{"$f":"VLOOKUP($C34,'Test 5'!$A$12:$Q$51,13,FALSE)","v":"00:01:13.850"},{"$f":"VLOOKUP($C34,'Test 5'!$A$12:$Q$51,16,FALSE)","v":"00:06:21.430"}]
[{"$f":"IF(Pivots!BA26=\"(Blank)\",\"\",Pivots!BA26)","v":0},{"$f":"VLOOKUP($C35,'Test 5'!$A$12:$Q$51,15,FALSE)","v":20},{"$f":"IF(Pivots!BB26=\"(Blank)\",\"\",Pivots!BB26)","v":23},{"$f":"VLOOKUP($C35,'Test 5'!$A$12:$Q$51,2,FALSE)","v":""},{"$f":"VLOOKUP($C35,'Test 5'!$A$12:$Q$51,7,FALSE)","v":""},{"$f":"VLOOKUP($C35,'Test 5'!$A$12:$Q$51,3,FALSE)","v":""},{"$f":"VLOOKUP($C35,'Test 5'!$A$12:$Q$51,4,FALSE)","v":""},{"$f":"VLOOKUP($C35,'Test 5'!$A$12:$Q$51,5,FALSE)","v":"senior"},{"$f":"VLOOKUP($C35,'Test 5'!$A$12:$Q$51,13,FALSE)","v":"00:01:13.850"},{"$f":"VLOOKUP($C35,'Test 5'!$A$12:$Q$51,16,FALSE)","v":"00:06:21.430"}]
[{"$f":"IF(Pivots!BA27=\"(Blank)\",\"\",Pivots!BA27)","v":0},{"$f":"VLOOKUP($C36,'Test 5'!$A$12:$Q$51,15,FALSE)","v":20},{"$f":"IF(Pivots!BB27=\"(Blank)\",\"\",Pivots!BB27)","v":24},{"$f":"VLOOKUP($C36,'Test 5'!$A$12:$Q$51,2,FALSE)","v":""},{"$f":"VLOOKUP($C36,'Test 5'!$A$12:$Q$51,7,FALSE)","v":""},{"$f":"VLOOKUP($C36,'Test 5'!$A$12:$Q$51,3,FALSE)","v":""},{"$f":"VLOOKUP($C36,'Test 5'!$A$12:$Q$51,4,FALSE)","v":""},{"$f":"VLOOKUP($C36,'Test 5'!$A$12:$Q$51,5,FALSE)","v":"senior"},{"$f":"VLOOKUP($C36,'Test 5'!$A$12:$Q$51,13,FALSE)","v":"00:01:13.850"},{"$f":"VLOOKUP($C36,'Test 5'!$A$12:$Q$51,16,FALSE)","v":"00:06:21.430"}]
[{"$f":"IF(Pivots!BA28=\"(Blank)\",\"\",Pivots!BA28)","v":0},{"$f":"VLOOKUP($C37,'Test 5'!$A$12:$Q$51,15,FALSE)","v":20},{"$f":"IF(Pivots!BB28=\"(Blank)\",\"\",Pivots!BB28)","v":21},{"$f":"VLOOKUP($C37,'Test 5'!$A$12:$Q$51,2,FALSE)","v":""},{"$f":"VLOOKUP($C37,'Test 5'!$A$12:$Q$51,7,FALSE)","v":""},{"$f":"VLOOKUP($C37,'Test 5'!$A$12:$Q$51,3,FALSE)","v":""},{"$f":"VLOOKUP($C37,'Test 5'!$A$12:$Q$51,4,FALSE)","v":""},{"$f":"VLOOKUP($C37,'Test 5'!$A$12:$Q$51,5,FALSE)","v":"senior"},{"$f":"VLOOKUP($C37,'Test 5'!$A$12:$Q$51,13,FALSE)","v":"00:01:13.850"},{"$f":"VLOOKUP($C37,'Test 5'!$A$12:$Q$51,16,FALSE)","v":"00:06:21.430"}]
[{"$f":"IF(Pivots!BA29=\"(Blank)\",\"\",Pivots!BA29)","v":0},{"$f":"VLOOKUP($C38,'Test 5'!$A$12:$Q$51,15,FALSE)","v":20},{"$f":"IF(Pivots!BB29=\"(Blank)\",\"\",Pivots!BB29)","v":25},{"$f":"VLOOKUP($C38,'Test 5'!$A$12:$Q$51,2,FALSE)","v":""},{"$f":"VLOOKUP($C38,'Test 5'!$A$12:$Q$51,7,FALSE)","v":""},{"$f":"VLOOKUP($C38,'Test 5'!$A$12:$Q$51,3,FALSE)","v":""},{"$f":"VLOOKUP($C38,'Test 5'!$A$12:$Q$51,4,FALSE)","v":""},{"$f":"VLOOKUP($C38,'Test 5'!$A$12:$Q$51,5,FALSE)","v":"senior"},{"$f":"VLOOKUP($C38,'Test 5'!$A$12:$Q$51,13,FALSE)","v":"00:01:13.850"},{"$f":"VLOOKUP($C38,'Test 5'!$A$12:$Q$51,16,FALSE)","v":"00:06:21.430"}]
[{"$f":"IF(Pivots!BA30=\"(Blank)\",\"\",Pivots!BA30)","v":0},{"$f":"VLOOKUP($C39,'Test 5'!$A$12:$Q$51,15,FALSE)","v":20},{"$f":"IF(Pivots!BB30=\"(Blank)\",\"\",Pivots!BB30)","v":26},{"$f":"VLOOKUP($C39,'Test 5'!$A$12:$Q$51,2,FALSE)","v":""},{"$f":"VLOOKUP($C39,'Test 5'!$A$12:$Q$51,7,FALSE)","v":""},{"$f":"VLOOKUP($C39,'Test 5'!$A$12:$Q$51,3,FALSE)","v":""},{"$f":"VLOOKUP($C39,'Test 5'!$A$12:$Q$51,4,FALSE)","v":""},{"$f":"VLOOKUP($C39,'Test 5'!$A$12:$Q$51,5,FALSE)","v":"senior"},{"$f":"VLOOKUP($C39,'Test 5'!$A$12:$Q$51,13,FALSE)","v":"00:01:13.850"},{"$f":"VLOOKUP($C39,'Test 5'!$A$12:$Q$51,16,FALSE)","v":"00:06:21.430"}]
[{"$f":"IF(Pivots!BA31=\"(Blank)\",\"\",Pivots!BA31)","v":0},{"$f":"VLOOKUP($C40,'Test 5'!$A$12:$Q$51,15,FALSE)","v":20},{"$f":"IF(Pivots!BB31=\"(Blank)\",\"\",Pivots!BB31)","v":27},{"$f":"VLOOKUP($C40,'Test 5'!$A$12:$Q$51,2,FALSE)","v":""},{"$f":"VLOOKUP($C40,'Test 5'!$A$12:$Q$51,7,FALSE)","v":""},{"$f":"VLOOKUP($C40,'Test 5'!$A$12:$Q$51,3,FALSE)","v":""},{"$f":"VLOOKUP($C40,'Test 5'!$A$12:$Q$51,4,FALSE)","v":""},{"$f":"VLOOKUP($C40,'Test 5'!$A$12:$Q$51,5,FALSE)","v":"senior"},{"$f":"VLOOKUP($C40,'Test 5'!$A$12:$Q$51,13,FALSE)","v":"00:01:13.850"},{"$f":"VLOOKUP($C40,'Test 5'!$A$12:$Q$51,16,FALSE)","v":"00:06:21.430"}]
[{"$f":"IF(Pivots!BA32=\"(Blank)\",\"\",Pivots!BA32)","v":0},{"$f":"VLOOKUP($C41,'Test 5'!$A$12:$Q$51,15,FALSE)","v":20},{"$f":"IF(Pivots!BB32=\"(Blank)\",\"\",Pivots!BB32)","v":28},{"$f":"VLOOKUP($C41,'Test 5'!$A$12:$Q$51,2,FALSE)","v":""},{"$f":"VLOOKUP($C41,'Test 5'!$A$12:$Q$51,7,FALSE)","v":""},{"$f":"VLOOKUP($C41,'Test 5'!$A$12:$Q$51,3,FALSE)","v":""},{"$f":"VLOOKUP($C41,'Test 5'!$A$12:$Q$51,4,FALSE)","v":""},{"$f":"VLOOKUP($C41,'Test 5'!$A$12:$Q$51,5,FALSE)","v":"senior"},{"$f":"VLOOKUP($C41,'Test 5'!$A$12:$Q$51,13,FALSE)","v":"00:01:13.850"},{"$f":"VLOOKUP($C41,'Test 5'!$A$12:$Q$51,16,FALSE)","v":"00:06:21.430"}]
[{"$f":"IF(Pivots!BA33=\"(Blank)\",\"\",Pivots!BA33)","v":0},{"$f":"VLOOKUP($C42,'Test 5'!$A$12:$Q$51,15,FALSE)","v":20},{"$f":"IF(Pivots!BB33=\"(Blank)\",\"\",Pivots!BB33)","v":29},{"$f":"VLOOKUP($C42,'Test 5'!$A$12:$Q$51,2,FALSE)","v":""},{"$f":"VLOOKUP($C42,'Test 5'!$A$12:$Q$51,7,FALSE)","v":""},{"$f":"VLOOKUP($C42,'Test 5'!$A$12:$Q$51,3,FALSE)","v":""},{"$f":"VLOOKUP($C42,'Test 5'!$A$12:$Q$51,4,FALSE)","v":""},{"$f":"VLOOKUP($C42,'Test 5'!$A$12:$Q$51,5,FALSE)","v":"senior"},{"$f":"VLOOKUP($C42,'Test 5'!$A$12:$Q$51,13,FALSE)","v":"00:01:13.850"},{"$f":"VLOOKUP($C42,'Test 5'!$A$12:$Q$51,16,FALSE)","v":"00:06:21.430"}]
[{"$f":"IF(Pivots!BA34=\"(Blank)\",\"\",Pivots!BA34)","v":0},{"$f":"VLOOKUP($C43,'Test 5'!$A$12:$Q$51,15,FALSE)","v":20},{"$f":"IF(Pivots!BB34=\"(Blank)\",\"\",Pivots!BB34)","v":30},{"$f":"VLOOKUP($C43,'Test 5'!$A$12:$Q$51,2,FALSE)","v":""},{"$f":"VLOOKUP($C43,'Test 5'!$A$12:$Q$51,7,FALSE)","v":""},{"$f":"VLOOKUP($C43,'Test 5'!$A$12:$Q$51,3,FALSE)","v":""},{"$f":"VLOOKUP($C43,'Test 5'!$A$12:$Q$51,4,FALSE)","v":""},{"$f":"VLOOKUP($C43,'Test 5'!$A$12:$Q$51,5,FALSE)","v":"senior"},{"$f":"VLOOKUP($C43,'Test 5'!$A$12:$Q$51,13,FALSE)","v":"00:01:13.850"},{"$f":"VLOOKUP($C43,'Test 5'!$A$12:$Q$51,16,FALSE)","v":"00:06:21.430"}]
[{"$f":"IF(Pivots!BA35=\"(Blank)\",\"\",Pivots!BA35)","v":0},{"$f":"VLOOKUP($C44,'Test 5'!$A$12:$Q$51,15,FALSE)","v":20},{"$f":"IF(Pivots!BB35=\"(Blank)\",\"\",Pivots!BB35)","v":31},{"$f":"VLOOKUP($C44,'Test 5'!$A$12:$Q$51,2,FALSE)","v":""},{"$f":"VLOOKUP($C44,'Test 5'!$A$12:$Q$51,7,FALSE)","v":""},{"$f":"VLOOKUP($C44,'Test 5'!$A$12:$Q$51,3,FALSE)","v":""},{"$f":"VLOOKUP($C44,'Test 5'!$A$12:$Q$51,4,FALSE)","v":""},{"$f":"VLOOKUP($C44,'Test 5'!$A$12:$Q$51,5,FALSE)","v":"senior"},{"$f":"VLOOKUP($C44,'Test 5'!$A$12:$Q$51,13,FALSE)","v":"00:01:13.850"},{"$f":"VLOOKUP($C44,'Test 5'!$A$12:$Q$51,16,FALSE)","v":"00:06:21.430"}]
[{"$f":"IF(Pivots!BA36=\"(Blank)\",\"\",Pivots!BA36)","v":0},{"$f":"VLOOKUP($C45,'Test 5'!$A$12:$Q$51,15,FALSE)","v":20},{"$f":"IF(Pivots!BB36=\"(Blank)\",\"\",Pivots!BB36)","v":32},{"$f":"VLOOKUP($C45,'Test 5'!$A$12:$Q$51,2,FALSE)","v":""},{"$f":"VLOOKUP($C45,'Test 5'!$A$12:$Q$51,7,FALSE)","v":""},{"$f":"VLOOKUP($C45,'Test 5'!$A$12:$Q$51,3,FALSE)","v":""},{"$f":"VLOOKUP($C45,'Test 5'!$A$12:$Q$51,4,FALSE)","v":""},{"$f":"VLOOKUP($C45,'Test 5'!$A$12:$Q$51,5,FALSE)","v":"senior"},{"$f":"VLOOKUP($C45,'Test 5'!$A$12:$Q$51,13,FALSE)","v":"00:01:13.850"},{"$f":"VLOOKUP($C45,'Test 5'!$A$12:$Q$51,16,FALSE)","v":"00:06:21.430"}]
[{"$f":"IF(Pivots!BA37=\"(Blank)\",\"\",Pivots!BA37)","v":0},{"$f":"VLOOKUP($C46,'Test 5'!$A$12:$Q$51,15,FALSE)","v":20},{"$f":"IF(Pivots!BB37=\"(Blank)\",\"\",Pivots!BB37)","v":33},{"$f":"VLOOKUP($C46,'Test 5'!$A$12:$Q$51,2,FALSE)","v":""},{"$f":"VLOOKUP($C46,'Test 5'!$A$12:$Q$51,7,FALSE)","v":""},{"$f":"VLOOKUP($C46,'Test 5'!$A$12:$Q$51,3,FALSE)","v":""},{"$f":"VLOOKUP($C46,'Test 5'!$A$12:$Q$51,4,FALSE)","v":""},{"$f":"VLOOKUP($C46,'Test 5'!$A$12:$Q$51,5,FALSE)","v":"senior"},{"$f":"VLOOKUP($C46,'Test 5'!$A$12:$Q$51,13,FALSE)","v":"00:01:13.850"},{"$f":"VLOOKUP($C46,'Test 5'!$A$12:$Q$51,16,FALSE)","v":"00:06:21.430"}]
[{"$f":"IF(Pivots!BA38=\"(Blank)\",\"\",Pivots!BA38)","v":0},{"$f":"VLOOKUP($C47,'Test 5'!$A$12:$Q$51,15,FALSE)","v":20},{"$f":"IF(Pivots!BB38=\"(Blank)\",\"\",Pivots!BB38)","v":34},{"$f":"VLOOKUP($C47,'Test 5'!$A$12:$Q$51,2,FALSE)","v":""},{"$f":"VLOOKUP($C47,'Test 5'!$A$12:$Q$51,7,FALSE)","v":""},{"$f":"VLOOKUP($C47,'Test 5'!$A$12:$Q$51,3,FALSE)","v":""},{"$f":"VLOOKUP($C47,'Test 5'!$A$12:$Q$51,4,FALSE)","v":""},{"$f":"VLOOKUP($C47,'Test 5'!$A$12:$Q$51,5,FALSE)","v":"senior"},{"$f":"VLOOKUP($C47,'Test 5'!$A$12:$Q$51,13,FALSE)","v":"00:01:13.850"},{"$f":"VLOOKUP($C47,'Test 5'!$A$12:$Q$51,16,FALSE)","v":"00:06:21.430"}]
[{"$f":"IF(Pivots!BA39=\"(Blank)\",\"\",Pivots!BA39)","v":0},{"$f":"VLOOKUP($C48,'Test 5'!$A$12:$Q$51,15,FALSE)","v":20},{"$f":"IF(Pivots!BB39=\"(Blank)\",\"\",Pivots!BB39)","v":35},{"$f":"VLOOKUP($C48,'Test 5'!$A$12:$Q$51,2,FALSE)","v":""},{"$f":"VLOOKUP($C48,'Test 5'!$A$12:$Q$51,7,FALSE)","v":""},{"$f":"VLOOKUP($C48,'Test 5'!$A$12:$Q$51,3,FALSE)","v":""},{"$f":"VLOOKUP($C48,'Test 5'!$A$12:$Q$51,4,FALSE)","v":""},{"$f":"VLOOKUP($C48,'Test 5'!$A$12:$Q$51,5,FALSE)","v":"senior"},{"$f":"VLOOKUP($C48,'Test 5'!$A$12:$Q$51,13,FALSE)","v":"00:01:13.850"},{"$f":"VLOOKUP($C48,'Test 5'!$A$12:$Q$51,16,FALSE)","v":"00:06:21.430"}]
[{"$f":"IF(Pivots!BA40=\"(Blank)\",\"\",Pivots!BA40)","v":0},{"$f":"VLOOKUP($C49,'Test 5'!$A$12:$Q$51,15,FALSE)","v":20},{"$f":"IF(Pivots!BB40=\"(Blank)\",\"\",Pivots!BB40)","v":36},{"$f":"VLOOKUP($C49,'Test 5'!$A$12:$Q$51,2,FALSE)","v":""},{"$f":"VLOOKUP($C49,'Test 5'!$A$12:$Q$51,7,FALSE)","v":""},{"$f":"VLOOKUP($C49,'Test 5'!$A$12:$Q$51,3,FALSE)","v":""},{"$f":"VLOOKUP($C49,'Test 5'!$A$12:$Q$51,4,FALSE)","v":""},{"$f":"VLOOKUP($C49,'Test 5'!$A$12:$Q$51,5,FALSE)","v":"senior"},{"$f":"VLOOKUP($C49,'Test 5'!$A$12:$Q$51,13,FALSE)","v":"00:01:13.850"},{"$f":"VLOOKUP($C49,'Test 5'!$A$12:$Q$51,16,FALSE)","v":"00:06:21.430"}]
[{"$f":"IF(Pivots!BA41=\"(Blank)\",\"\",Pivots!BA41)","v":0},{"$f":"VLOOKUP($C50,'Test 5'!$A$12:$Q$51,15,FALSE)","v":20},{"$f":"IF(Pivots!BB41=\"(Blank)\",\"\",Pivots!BB41)","v":37},{"$f":"VLOOKUP($C50,'Test 5'!$A$12:$Q$51,2,FALSE)","v":""},{"$f":"VLOOKUP($C50,'Test 5'!$A$12:$Q$51,7,FALSE)","v":""},{"$f":"VLOOKUP($C50,'Test 5'!$A$12:$Q$51,3,FALSE)","v":""},{"$f":"VLOOKUP($C50,'Test 5'!$A$12:$Q$51,4,FALSE)","v":""},{"$f":"VLOOKUP($C50,'Test 5'!$A$12:$Q$51,5,FALSE)","v":"senior"},{"$f":"VLOOKUP($C50,'Test 5'!$A$12:$Q$51,13,FALSE)","v":"00:01:13.850"},{"$f":"VLOOKUP($C50,'Test 5'!$A$12:$Q$51,16,FALSE)","v":"00:06:21.430"}]
[{"$f":"IF(Pivots!BA42=\"(Blank)\",\"\",Pivots!BA42)","v":0},{"$f":"VLOOKUP($C51,'Test 5'!$A$12:$Q$51,15,FALSE)","v":20},{"$f":"IF(Pivots!BB42=\"(Blank)\",\"\",Pivots!BB42)","v":38},{"$f":"VLOOKUP($C51,'Test 5'!$A$12:$Q$51,2,FALSE)","v":""},{"$f":"VLOOKUP($C51,'Test 5'!$A$12:$Q$51,7,FALSE)","v":""},{"$f":"VLOOKUP($C51,'Test 5'!$A$12:$Q$51,3,FALSE)","v":""},{"$f":"VLOOKUP($C51,'Test 5'!$A$12:$Q$51,4,FALSE)","v":""},{"$f":"VLOOKUP($C51,'Test 5'!$A$12:$Q$51,5,FALSE)","v":"senior"},{"$f":"VLOOKUP($C51,'Test 5'!$A$12:$Q$51,13,FALSE)","v":"00:01:13.850"},{"$f":"VLOOKUP($C51,'Test 5'!$A$12:$Q$51,16,FALSE)","v":"00:06:21.430"}]
[{"$f":"IF(Pivots!BA43=\"(Blank)\",\"\",Pivots!BA43)","v":0},{"$f":"VLOOKUP($C52,'Test 5'!$A$12:$Q$51,15,FALSE)","v":20},{"$f":"IF(Pivots!BB43=\"(Blank)\",\"\",Pivots!BB43)","v":39},{"$f":"VLOOKUP($C52,'Test 5'!$A$12:$Q$51,2,FALSE)","v":""},{"$f":"VLOOKUP($C52,'Test 5'!$A$12:$Q$51,7,FALSE)","v":""},{"$f":"VLOOKUP($C52,'Test 5'!$A$12:$Q$51,3,FALSE)","v":""},{"$f":"VLOOKUP($C52,'Test 5'!$A$12:$Q$51,4,FALSE)","v":""},{"$f":"VLOOKUP($C52,'Test 5'!$A$12:$Q$51,5,FALSE)","v":"senior"},{"$f":"VLOOKUP($C52,'Test 5'!$A$12:$Q$51,13,FALSE)","v":"00:01:13.850"},{"$f":"VLOOKUP($C52,'Test 5'!$A$12:$Q$51,16,FALSE)","v":"00:06:21.430"}]
[{"$f":"IF(Pivots!BA44=\"(Blank)\",\"\",Pivots!BA44)","v":0},{"$f":"VLOOKUP($C53,'Test 5'!$A$12:$Q$51,15,FALSE)","v":20},{"$f":"IF(Pivots!BB44=\"(Blank)\",\"\",Pivots!BB44)","v":40},{"$f":"VLOOKUP($C53,'Test 5'!$A$12:$Q$51,2,FALSE)","v":""},{"$f":"VLOOKUP($C53,'Test 5'!$A$12:$Q$51,7,FALSE)","v":""},{"$f":"VLOOKUP($C53,'Test 5'!$A$12:$Q$51,3,FALSE)","v":""},{"$f":"VLOOKUP($C53,'Test 5'!$A$12:$Q$51,4,FALSE)","v":""},{"$f":"VLOOKUP($C53,'Test 5'!$A$12:$Q$51,5,FALSE)","v":"senior"},{"$f":"VLOOKUP($C53,'Test 5'!$A$12:$Q$51,13,FALSE)","v":"00:01:13.850"},{"$f":"VLOOKUP($C53,'Test 5'!$A$12:$Q$51,16,FALSE)","v":"00:06:21.430"}]

{"sheet":"Print_Test 6","index":8,"n_rows":53,"n_cols":10,"rows_kept":53,"cut":false,"hidden":false,"merged":[[11,6,12,6],[11,7,12,7],[8,3,8,5],[9,3,9,5],[11,0,12,0],[11,1,12,1],[11,2,12,2],[11,3,12,3],[11,4,12,4],[11,5,12,5]]}
[]
[]
[]
[]
[]
[]
[]
[]
[null,null,null,"Provisional Results"]
[null,null,null,"Test 6"]
[]
["Outright Position","Test Position","Car Number","Driver","Class","Rookie?","Female?","Junior?","Test Time","Cumulative Time"]
[null,null,null,null,null,null,null,null,"(mm:ss.00)","(mm:ss.00)"]
[{"$f":"IF(Pivots!BL5=\"(Blank)\",\"\",Pivots!BL5)","v":0},{"$f":"VLOOKUP($C14,'Test 6'!$A$12:$Q$51,15,FALSE)","v":1},{"$f":"IF(Pivots!BM5=\"(Blank)\",\"\",Pivots!BM5)","v":17},{"$f":"VLOOKUP($C14,'Test 6'!$A$12:$Q$51,2,FALSE)","v":"Reece McIntosh"},{"$f":"VLOOKUP($C14,'Test 6'!$A$12:$Q$51,7,FALSE)","v":""},{"$f":"VLOOKUP($C14,'Test 6'!$A$12:$Q$51,3,FALSE)","v":""},{"$f":"VLOOKUP($C14,'Test 6'!$A$12:$Q$51,4,FALSE)","v":""},{"$f":"VLOOKUP($C14,'Test 6'!$A$12:$Q$51,5,FALSE)","v":"senior"},{"$f":"VLOOKUP($C14,'Test 6'!$A$12:$Q$51,13,FALSE)","v":"00:00:53.760"},{"$f":"VLOOKUP($C14,'Test 6'!$A$12:$Q$51,16,FALSE)","v":"00:04:48.260"}]
[{"$f":"IF(Pivots!BL6=\"(Blank)\",\"\",Pivots!BL6)","v":0},{"$f":"VLOOKUP($C15,'Test 6'!$A$12:$Q$51,15,FALSE)","v":3},{"$f":"IF(Pivots!BM6=\"(Blank)\",\"\",Pivots!BM6)","v":9},{"$f":"VLOOKUP($C15,'Test 6'!$A$12:$Q$51,2,FALSE)","v":"Brad Firman"},{"$f":"VLOOKUP($C15,'Test 6'!$A$12:$Q$51,7,FALSE)","v":""},{"$f":"VLOOKUP($C15,'Test 6'!$A$12:$Q$51,3,FALSE)","v":""},{"$f":"VLOOKUP($C15,'Test 6'!$A$12:$Q$51,4,FALSE)","v":""},{"$f":"VLOOKUP($C15,'Test 6'!$A$12:$Q$51,5,FALSE)","v":"senior"},{"$f":"VLOOKUP($C15,'Test 6'!$A$12:$Q$51,13,FALSE)","v":"00:00:56.060"},{"$f":"VLOOKUP($C15,'Test 6'!$A$12:$Q$51,16,FALSE)","v":"00:05:03.800"}]
[{"$f":"IF(Pivots!BL7=\"(Blank)\",\"\",Pivots!BL7)","v":0},{"$f":"VLOOKUP($C16,'Test 6'!$A$12:$Q$51,15,FALSE)","v":4},{"$f":"IF(Pivots!BM7=\"(Blank)\",\"\",Pivots!BM7)","v":1},{"$f":"VLOOKUP($C16,'Test 6'!$A$12:$Q$51,2,FALSE)","v":"Paul Dunn"},{"$f":"VLOOKUP($C16,'Test 6'!$A$12:$Q$51,7,FALSE)","v":""},{"$f":"VLOOKUP($C16,'Test 6'!$A$12:$Q$51,3,FALSE)","v":""},{"$f":"VLOOKUP($C16,'Test 6'!$A$12:$Q$51,4,FALSE)","v":""},{"$f":"VLOOKUP($C16,'Test 6'!$A$12:$Q$51,5,FALSE)","v":"senior"},{"$f":"VLOOKUP($C16,'Test 6'!$A$12:$Q$51,13,FALSE)","v":"00:00:56.770"},{"$f":"VLOOKUP($C16,'Test 6'!$A$12:$Q$51,16,FALSE)","v":"00:05:05.060"}]
[{"$f":"IF(Pivots!BL8=\"(Blank)\",\"\",Pivots!BL8)","v":0},{"$f":"VLOOKUP($C17,'Test 6'!$A$12:$Q$51,15,FALSE)","v":5},{"$f":"IF(Pivots!BM8=\"(Blank)\",\"\",Pivots!BM8)","v":14},{"$f":"VLOOKUP($C17,'Test 6'!$A$12:$Q$51,2,FALSE)","v":"Bob Fulthorpe"},{"$f":"VLOOKUP($C17,'Test 6'!$A$12:$Q$51,7,FALSE)","v":""},{"$f":"VLOOKUP($C17,'Test 6'!$A$12:$Q$51,3,FALSE)","v":""},{"$f":"VLOOKUP($C17,'Test 6'!$A$12:$Q$51,4,FALSE)","v":""},{"$f":"VLOOKUP($C17,'Test 6'!$A$12:$Q$51,5,FALSE)","v":"senior"},{"$f":"VLOOKUP($C17,'Test 6'!$A$12:$Q$51,13,FALSE)","v":"00:01:00.150"},{"$f":"VLOOKUP($C17,'Test 6'!$A$12:$Q$51,16,FALSE)","v":"00:05:12.870"}]
[{"$f":"IF(Pivots!BL9=\"(Blank)\",\"\",Pivots!BL9)","v":0},{"$f":"VLOOKUP($C18,'Test 6'!$A$12:$Q$51,15,FALSE)","v":9},{"$f":"IF(Pivots!BM9=\"(Blank)\",\"\",Pivots!BM9)","v":19},{"$f":"VLOOKUP($C18,'Test 6'!$A$12:$Q$51,2,FALSE)","v":"Christopher Northey"},{"$f":"VLOOKUP($C18,'Test 6'!$A$12:$Q$51,7,FALSE)","v":""},{"$f":"VLOOKUP($C18,'Test 6'!$A$12:$Q$51,3,FALSE)","v":""},{"$f":"VLOOKUP($C18,'Test 6'!$A$12:$Q$51,4,FALSE)","v":""},{"$f":"VLOOKUP($C18,'Test 6'!$A$12:$Q$51,5,FALSE)","v":"senior"},{"$f":"VLOOKUP($C18,'Test 6'!$A$12:$Q$51,13,FALSE)","v":"00:01:01.900"},{"$f":"VLOOKUP($C18,'Test 6'!$A$12:$Q$51,16,FALSE)","v":"00:05:23.430"}]
[{"$f":"IF(Pivots!BL10=\"(Blank)\",\"\",Pivots!BL10)","v":0},{"$f":"VLOOKUP($C19,'Test 6'!$A$12:$Q$51,15,FALSE)","v":2},{"$f":"IF(Pivots!BM10=\"(Blank)\",\"\",Pivots!BM10)","v":16},{"$f":"VLOOKUP($C19,'Test 6'!$A$12:$Q$51,2,FALSE)","v":"Nathan Senior"},{"$f":"VLOOKUP($C19,'Test 6'!$A$12:$Q$51,7,FALSE)","v":""},{"$f":"VLOOKUP($C19,'Test 6'!$A$12:$Q$51,3,FALSE)","v":""},{"$f":"VLOOKUP($C19,'Test 6'!$A$12:$Q$51,4,FALSE)","v":""},{"$f":"VLOOKUP($C19,'Test 6'!$A$12:$Q$51,5,FALSE)","v":"senior"},{"$f":"VLOOKUP($C19,'Test 6'!$A$12:$Q$51,13,FALSE)","v":"00:00:55.960"},{"$f":"VLOOKUP($C19,'Test 6'!$A$12:$Q$51,16,FALSE)","v":"00:05:25.790"}]
[{"$f":"IF(Pivots!BL11=\"(Blank)\",\"\",Pivots!BL11)","v":0},{"$f":"VLOOKUP($C20,'Test 6'!$A$12:$Q$51,15,FALSE)","v":16},{"$f":"IF(Pivots!BM11=\"(Blank)\",\"\",Pivots!BM11)","v":2},{"$f":"VLOOKUP($C20,'Test 6'!$A$12:$Q$51,2,FALSE)","v":"Stephen Thorne"},{"$f":"VLOOKUP($C20,'Test 6'!$A$12:$Q$51,7,FALSE)","v":""},{"$f":"VLOOKUP($C20,'Test 6'!$A$12:$Q$51,3,FALSE)","v":""},{"$f":"VLOOKUP($C20,'Test 6'!$A$12:$Q$51,4,FALSE)","v":""},{"$f":"VLOOKUP($C20,'Test 6'!$A$12:$Q$51,5,FALSE)","v":"senior"},{"$f":"VLOOKUP($C20,'Test 6'!$A$12:$Q$51,13,FALSE)","v":"00:01:12.980"},{"$f":"VLOOKUP($C20,'Test 6'!$A$12:$Q$51,16,FALSE)","v":"00:05:25.860"}]
[{"$f":"IF(Pivots!BL12=\"(Blank)\",\"\",Pivots!BL12)","v":0},{"$f":"VLOOKUP($C21,'Test 6'!$A$12:$Q$51,15,FALSE)","v":7},{"$f":"IF(Pivots!BM12=\"(Blank)\",\"\",Pivots!BM12)","v":20},{"$f":"VLOOKUP($C21,'Test 6'!$A$12:$Q$51,2,FALSE)","v":"Ray Lampl"},{"$f":"VLOOKUP($C21,'Test 6'!$A$12:$Q$51,7,FALSE)","v":""},{"$f":"VLOOKUP($C21,'Test 6'!$A$12:$Q$51,3,FALSE)","v":""},{"$f":"VLOOKUP($C21,'Test 6'!$A$12:$Q$51,4,FALSE)","v":""},{"$f":"VLOOKUP($C21,'Test 6'!$A$12:$Q$51,5,FALSE)","v":"senior"},{"$f":"VLOOKUP($C21,'Test 6'!$A$12:$Q$51,13,FALSE)","v":"00:01:00.980"},{"$f":"VLOOKUP($C21,'Test 6'!$A$12:$Q$51,16,FALSE)","v":"00:05:26.860"}]
[{"$f":"IF(Pivots!BL13=\"(Blank)\",\"\",Pivots!BL13)","v":0},{"$f":"VLOOKUP($C22,'Test 6'!$A$12:$Q$51,15,FALSE)","v":11},{"$f":"IF(Pivots!BM13=\"(Blank)\",\"\",Pivots!BM13)","v":5},{"$f":"VLOOKUP($C22,'Test 6'!$A$12:$Q$51,2,FALSE)","v":"Janelle Ballard"},{"$f":"VLOOKUP($C22,'Test 6'!$A$12:$Q$51,7,FALSE)","v":""},{"$f":"VLOOKUP($C22,'Test 6'!$A$12:$Q$51,3,FALSE)","v":""},{"$f":"VLOOKUP($C22,'Test 6'!$A$12:$Q$51,4,FALSE)","v":"female"},{"$f":"VLOOKUP($C22,'Test 6'!$A$12:$Q$51,5,FALSE)","v":"senior"},{"$f":"VLOOKUP($C22,'Test 6'!$A$12:$Q$51,13,FALSE)","v":"00:01:03.650"},{"$f":"VLOOKUP($C22,'Test 6'!$A$12:$Q$51,16,FALSE)","v":"00:05:32.920"}]
[{"$f":"IF(Pivots!BL14=\"(Blank)\",\"\",Pivots!BL14)","v":0},{"$f":"VLOOKUP($C23,'Test 6'!$A$12:$Q$51,15,FALSE)","v":15},{"$f":"IF(Pivots!BM14=\"(Blank)\",\"\",Pivots!BM14)","v":12},{"$f":"VLOOKUP($C23,'Test 6'!$A$12:$Q$51,2,FALSE)","v":"Mat Boorman"},{"$f":"VLOOKUP($C23,'Test 6'!$A$12:$Q$51,7,FALSE)","v":""},{"$f":"VLOOKUP($C23,'Test 6'!$A$12:$Q$51,3,FALSE)","v":""},{"$f":"VLOOKUP($C23,'Test 6'!$A$12:$Q$51,4,FALSE)","v":""},{"$f":"VLOOKUP($C23,'Test 6'!$A$12:$Q$51,5,FALSE)","v":"senior"},{"$f":"VLOOKUP($C23,'Test 6'!$A$12:$Q$51,13,FALSE)","v":"00:01:07.980"},{"$f":"VLOOKUP($C23,'Test 6'!$A$12:$Q$51,16,FALSE)","v":"00:05:38.830"}]
[{"$f":"IF(Pivots!BL15=\"(Blank)\",\"\",Pivots!BL15)","v":0},{"$f":"VLOOKUP($C24,'Test 6'!$A$12:$Q$51,15,FALSE)","v":16},{"$f":"IF(Pivots!BM15=\"(Blank)\",\"\",Pivots!BM15)","v":15},{"$f":"VLOOKUP($C24,'Test 6'!$A$12:$Q$51,2,FALSE)","v":"Khi Fulthorpe"},{"$f":"VLOOKUP($C24,'Test 6'!$A$12:$Q$51,7,FALSE)","v":""},{"$f":"VLOOKUP($C24,'Test 6'!$A$12:$Q$51,3,FALSE)","v":""},{"$f":"VLOOKUP($C24,'Test 6'!$A$12:$Q$51,4,FALSE)","v":""},{"$f":"VLOOKUP($C24,'Test 6'!$A$12:$Q$51,5,FALSE)","v":"senior"},{"$f":"VLOOKUP($C24,'Test 6'!$A$12:$Q$51,13,FALSE)","v":"00:01:12.980"},{"$f":"VLOOKUP($C24,'Test 6'!$A$12:$Q$51,16,FALSE)","v":"00:05:40.700"}]
[{"$f":"IF(Pivots!BL16=\"(Blank)\",\"\",Pivots!BL16)","v":0},{"$f":"VLOOKUP($C25,'Test 6'!$A$12:$Q$51,15,FALSE)","v":10},{"$f":"IF(Pivots!BM16=\"(Blank)\",\"\",Pivots!BM16)","v":8},{"$f":"VLOOKUP($C25,'Test 6'!$A$12:$Q$51,2,FALSE)","v":"Jim Taylor"},{"$f":"VLOOKUP($C25,'Test 6'!$A$12:$Q$51,7,FALSE)","v":""},{"$f":"VLOOKUP($C25,'Test 6'!$A$12:$Q$51,3,FALSE)","v":""},{"$f":"VLOOKUP($C25,'Test 6'!$A$12:$Q$51,4,FALSE)","v":""},{"$f":"VLOOKUP($C25,'Test 6'!$A$12:$Q$51,5,FALSE)","v":"senior"},{"$f":"VLOOKUP($C25,'Test 6'!$A$12:$Q$51,13,FALSE)","v":"00:01:02.880"},{"$f":"VLOOKUP($C25,'Test 6'!$A$12:$Q$51,16,FALSE)","v":"00:05:41.080"}]
[{"$f":"IF(Pivots!BL17=\"(Blank)\",\"\",Pivots!BL17)","v":0},{"$f":"VLOOKUP($C26,'Test 6'!$A$12:$Q$51,15,FALSE)","v":8},{"$f":"IF(Pivots!BM17=\"(Blank)\",\"\",Pivots!BM17)","v":10},{"$f":"VLOOKUP($C26,'Test 6'!$A$12:$Q$51,2,FALSE)","v":"Scott Taylor"},{"$f":"VLOOKUP($C26,'Test 6'!$A$12:$Q$51,7,FALSE)","v":""},{"$f":"VLOOKUP($C26,'Test 6'!$A$12:$Q$51,3,FALSE)","v":""},{"$f":"VLOOKUP($C26,'Test 6'!$A$12:$Q$51,4,FALSE)","v":""},{"$f":"VLOOKUP($C26,'Test 6'!$A$12:$Q$51,5,FALSE)","v":"senior"},{"$f":"VLOOKUP($C26,'Test 6'!$A$12:$Q$51,13,FALSE)","v":"00:01:01.450"},{"$f":"VLOOKUP($C26,'Test 6'!$A$12:$Q$51,16,FALSE)","v":"00:05:47.250"}]
[{"$f":"IF(Pivots!BL18=\"(Blank)\",\"\",Pivots!BL18)","v":0},{"$f":"VLOOKUP($C27,'Test 6'!$A$12:$Q$51,15,FALSE)","v":12},{"$f":"IF(Pivots!BM18=\"(Blank)\",\"\",Pivots!BM18)","v":11},{"$f":"VLOOKUP($C27,'Test 6'!$A$12:$Q$51,2,FALSE)","v":"Russel McKinley"},{"$f":"VLOOKUP($C27,'Test 6'!$A$12:$Q$51,7,FALSE)","v":""},{"$f":"VLOOKUP($C27,'Test 6'!$A$12:$Q$51,3,FALSE)","v":""},{"$f":"VLOOKUP($C27,'Test 6'!$A$12:$Q$51,4,FALSE)","v":""},{"$f":"VLOOKUP($C27,'Test 6'!$A$12:$Q$51,5,FALSE)","v":"senior"},{"$f":"VLOOKUP($C27,'Test 6'!$A$12:$Q$51,13,FALSE)","v":"00:01:04.630"},{"$f":"VLOOKUP($C27,'Test 6'!$A$12:$Q$51,16,FALSE)","v":"00:05:49.980"}]
[{"$f":"IF(Pivots!BL19=\"(Blank)\",\"\",Pivots!BL19)","v":0},{"$f":"VLOOKUP($C28,'Test 6'!$A$12:$Q$51,15,FALSE)","v":16},{"$f":"IF(Pivots!BM19=\"(Blank)\",\"\",Pivots!BM19)","v":3},{"$f":"VLOOKUP($C28,'Test 6'!$A$12:$Q$51,2,FALSE)","v":"David Ballard"},{"$f":"VLOOKUP($C28,'Test 6'!$A$12:$Q$51,7,FALSE)","v":""},{"$f":"VLOOKUP($C28,'Test 6'!$A$12:$Q$51,3,FALSE)","v":""},{"$f":"VLOOKUP($C28,'Test 6'!$A$12:$Q$51,4,FALSE)","v":""},{"$f":"VLOOKUP($C28,'Test 6'!$A$12:$Q$51,5,FALSE)","v":"senior"},{"$f":"VLOOKUP($C28,'Test 6'!$A$12:$Q$51,13,FALSE)","v":"00:01:12.980"},{"$f":"VLOOKUP($C28,'Test 6'!$A$12:$Q$51,16,FALSE)","v":"00:05:53.030"}]
[{"$f":"IF(Pivots!BL20=\"(Blank)\",\"\",Pivots!BL20)","v":0},{"$f":"VLOOKUP($C29,'Test 6'!$A$12:$Q$51,15,FALSE)","v":6},{"$f":"IF(Pivots!BM20=\"(Blank)\",\"\",Pivots!BM20)","v":6},{"$f":"VLOOKUP($C29,'Test 6'!$A$12:$Q$51,2,FALSE)","v":"Issac Wishart"},{"$f":"VLOOKUP($C29,'Test 6'!$A$12:$Q$51,7,FALSE)","v":""},{"$f":"VLOOKUP($C29,'Test 6'!$A$12:$Q$51,3,FALSE)","v":"rookie"},{"$f":"VLOOKUP($C29,'Test 6'!$A$12:$Q$51,4,FALSE)","v":""},{"$f":"VLOOKUP($C29,'Test 6'!$A$12:$Q$51,5,FALSE)","v":"senior"},{"$f":"VLOOKUP($C29,'Test 6'!$A$12:$Q$51,13,FALSE)","v":"00:01:00.480"},{"$f":"VLOOKUP($C29,'Test 6'!$A$12:$Q$51,16,FALSE)","v":"00:06:09.900"}]
[{"$f":"IF(Pivots!BL21=\"(Blank)\",\"\",Pivots!BL21)","v":0},{"$f":"VLOOKUP($C30,'Test 6'!$A$12:$Q$51,15,FALSE)","v":16},{"$f":"IF(Pivots!BM21=\"(Blank)\",\"\",Pivots!BM21)","v":18},{"$f":"VLOOKUP($C30,'Test 6'!$A$12:$Q$51,2,FALSE)","v":"Jack Stanley"},{"$f":"VLOOKUP($C30,'Test 6'!$A$12:$Q$51,7,FALSE)","v":""},{"$f":"VLOOKUP($C30,'Test 6'!$A$12:$Q$51,3,FALSE)","v":"rookie"},{"$f":"VLOOKUP($C30,'Test 6'!$A$12:$Q$51,4,FALSE)","v":""},{"$f":"VLOOKUP($C30,'Test 6'!$A$12:$Q$51,5,FALSE)","v":"senior"},{"$f":"VLOOKUP($C30,'Test 6'!$A$12:$Q$51,13,FALSE)","v":"00:01:12.980"},{"$f":"VLOOKUP($C30,'Test 6'!$A$12:$Q$51,16,FALSE)","v":"00:06:19.470"}]
[{"$f":"IF(Pivots!BL22=\"(Blank)\",\"\",Pivots!BL22)","v":0},{"$f":"VLOOKUP($C31,'Test 6'!$A$12:$Q$51,15,FALSE)","v":14},{"$f":"IF(Pivots!BM22=\"(Blank)\",\"\",Pivots!BM22)","v":13},{"$f":"VLOOKUP($C31,'Test 6'!$A$12:$Q$51,2,FALSE)","v":"Aaron Wishart"},{"$f":"VLOOKUP($C31,'Test 6'!$A$12:$Q$51,7,FALSE)","v":""},{"$f":"VLOOKUP($C31,'Test 6'!$A$12:$Q$51,3,FALSE)","v":""},{"$f":"VLOOKUP($C31,'Test 6'!$A$12:$Q$51,4,FALSE)","v":""},{"$f":"VLOOKUP($C31,'Test 6'!$A$12:$Q$51,5,FALSE)","v":"senior"},{"$f":"VLOOKUP($C31,'Test 6'!$A$12:$Q$51,13,FALSE)","v":"00:01:06.950"},{"$f":"VLOOKUP($C31,'Test 6'!$A$12:$Q$51,16,FALSE)","v":"00:06:22.210"}]
[{"$f":"IF(Pivots!BL23=\"(Blank)\",\"\",Pivots!BL23)","v":0},{"$f":"VLOOKUP($C32,'Test 6'!$A$12:$Q$51,15,FALSE)","v":13},{"$f":"IF(Pivots!BM23=\"(Blank)\",\"\",Pivots!BM23)","v":4},{"$f":"VLOOKUP($C32,'Test 6'!$A$12:$Q$51,2,FALSE)","v":"Michaela Ballard"},{"$f":"VLOOKUP($C32,'Test 6'!$A$12:$Q$51,7,FALSE)","v":""},{"$f":"VLOOKUP($C32,'Test 6'!$A$12:$Q$51,3,FALSE)","v":"rookie"},{"$f":"VLOOKUP($C32,'Test 6'!$A$12:$Q$51,4,FALSE)","v":"female"},{"$f":"VLOOKUP($C32,'Test 6'!$A$12:$Q$51,5,FALSE)","v":"senior"},{"$f":"VLOOKUP($C32,'Test 6'!$A$12:$Q$51,13,FALSE)","v":"00:01:05.440"},{"$f":"VLOOKUP($C32,'Test 6'!$A$12:$Q$51,16,FALSE)","v":"00:06:25.160"}]
[{"$f":"IF(Pivots!BL24=\"(Blank)\",\"\",Pivots!BL24)","v":0},{"$f":"VLOOKUP($C33,'Test 6'!$A$12:$Q$51,15,FALSE)","v":20},{"$f":"IF(Pivots!BM24=\"(Blank)\",\"\",Pivots!BM24)","v":7},{"$f":"VLOOKUP($C33,'Test 6'!$A$12:$Q$51,2,FALSE)","v":""},{"$f":"VLOOKUP($C33,'Test 6'!$A$12:$Q$51,7,FALSE)","v":""},{"$f":"VLOOKUP($C33,'Test 6'!$A$12:$Q$51,3,FALSE)","v":""},{"$f":"VLOOKUP($C33,'Test 6'!$A$12:$Q$51,4,FALSE)","v":""},{"$f":"VLOOKUP($C33,'Test 6'!$A$12:$Q$51,5,FALSE)","v":"senior"},{"$f":"VLOOKUP($C33,'Test 6'!$A$12:$Q$51,13,FALSE)","v":"00:01:17.980"},{"$f":"VLOOKUP($C33,'Test 6'!$A$12:$Q$51,16,FALSE)","v":"00:07:39.410"}]
[{"$f":"IF(Pivots!BL25=\"(Blank)\",\"\",Pivots!BL25)","v":0},{"$f":"VLOOKUP($C34,'Test 6'!$A$12:$Q$51,15,FALSE)","v":20},{"$f":"IF(Pivots!BM25=\"(Blank)\",\"\",Pivots!BM25)","v":22},{"$f":"VLOOKUP($C34,'Test 6'!$A$12:$Q$51,2,FALSE)","v":""},{"$f":"VLOOKUP($C34,'Test 6'!$A$12:$Q$51,7,FALSE)","v":""},{"$f":"VLOOKUP($C34,'Test 6'!$A$12:$Q$51,3,FALSE)","v":""},{"$f":"VLOOKUP($C34,'Test 6'!$A$12:$Q$51,4,FALSE)","v":""},{"$f":"VLOOKUP($C34,'Test 6'!$A$12:$Q$51,5,FALSE)","v":"senior"},{"$f":"VLOOKUP($C34,'Test 6'!$A$12:$Q$51,13,FALSE)","v":"00:01:17.980"},{"$f":"VLOOKUP($C34,'Test 6'!$A$12:$Q$51,16,FALSE)","v":"00:07:39.410"}]
[{"$f":"IF(Pivots!BL26=\"(Blank)\",\"\",Pivots!BL26)","v":0},{"$f":"VLOOKUP($C35,'Test 6'!$A$12:$Q$51,15,FALSE)","v":20},{"$f":"IF(Pivots!BM26=\"(Blank)\",\"\",Pivots!BM26)","v":23},{"$f":"VLOOKUP($C35,'Test 6'!$A$12:$Q$51,2,FALSE)","v":""},{"$f":"VLOOKUP($C35,'Test 6'!$A$12:$Q$51,7,FALSE)","v":""},{"$f":"VLOOKUP($C35,'Test 6'!$A$12:$Q$51,3,FALSE)","v":""},{"$f":"VLOOKUP($C35,'Test 6'!$A$12:$Q$51,4,FALSE)","v":""},{"$f":"VLOOKUP($C35,'Test 6'!$A$12:$Q$51,5,FALSE)","v":"senior"},{"$f":"VLOOKUP($C35,'Test 6'!$A$12:$Q$51,13,FALSE)","v":"00:01:17.980"},{"$f":"VLOOKUP($C35,'Test 6'!$A$12:$Q$51,16,FALSE)","v":"00:07:39.410"}]
[{"$f":"IF(Pivots!BL27=\"(Blank)\",\"\",Pivots!BL27)","v":0},{"$f":"VLOOKUP($C36,'Test 6'!$A$12:$Q$51,15,FALSE)","v":20},{"$f":"IF(Pivots!BM27=\"(Blank)\",\"\",Pivots!BM27)","v":24},{"$f":"VLOOKUP($C36,'Test 6'!$A$12:$Q$51,2,FALSE)","v":""},{"$f":"VLOOKUP($C36,'Test 6'!$A$12:$Q$51,7,FALSE)","v":""},{"$f":"VLOOKUP($C36,'Test 6'!$A$12:$Q$51,3,FALSE)","v":""},{"$f":"VLOOKUP($C36,'Test 6'!$A$12:$Q$51,4,FALSE)","v":""},{"$f":"VLOOKUP($C36,'Test 6'!$A$12:$Q$51,5,FALSE)","v":"senior"},{"$f":"VLOOKUP($C36,'Test 6'!$A$12:$Q$51,13,FALSE)","v":"00:01:17.980"},{"$f":"VLOOKUP($C36,'Test 6'!$A$12:$Q$51,16,FALSE)","v":"00:07:39.410"}]
[{"$f":"IF(Pivots!BL28=\"(Blank)\",\"\",Pivots!BL28)","v":0},{"$f":"VLOOKUP($C37,'Test 6'!$A$12:$Q$51,15,FALSE)","v":20},{"$f":"IF(Pivots!BM28=\"(Blank)\",\"\",Pivots!BM28)","v":21},{"$f":"VLOOKUP($C37,'Test 6'!$A$12:$Q$51,2,FALSE)","v":""},{"$f":"VLOOKUP($C37,'Test 6'!$A$12:$Q$51,7,FALSE)","v":""},{"$f":"VLOOKUP($C37,'Test 6'!$A$12:$Q$51,3,FALSE)","v":""},{"$f":"VLOOKUP($C37,'Test 6'!$A$12:$Q$51,4,FALSE)","v":""},{"$f":"VLOOKUP($C37,'Test 6'!$A$12:$Q$51,5,FALSE)","v":"senior"},{"$f":"VLOOKUP($C37,'Test 6'!$A$12:$Q$51,13,FALSE)","v":"00:01:17.980"},{"$f":"VLOOKUP($C37,'Test 6'!$A$12:$Q$51,16,FALSE)","v":"00:07:39.410"}]
[{"$f":"IF(Pivots!BL29=\"(Blank)\",\"\",Pivots!BL29)","v":0},{"$f":"VLOOKUP($C38,'Test 6'!$A$12:$Q$51,15,FALSE)","v":20},{"$f":"IF(Pivots!BM29=\"(Blank)\",\"\",Pivots!BM29)","v":25},{"$f":"VLOOKUP($C38,'Test 6'!$A$12:$Q$51,2,FALSE)","v":""},{"$f":"VLOOKUP($C38,'Test 6'!$A$12:$Q$51,7,FALSE)","v":""},{"$f":"VLOOKUP($C38,'Test 6'!$A$12:$Q$51,3,FALSE)","v":""},{"$f":"VLOOKUP($C38,'Test 6'!$A$12:$Q$51,4,FALSE)","v":""},{"$f":"VLOOKUP($C38,'Test 6'!$A$12:$Q$51,5,FALSE)","v":"senior"},{"$f":"VLOOKUP($C38,'Test 6'!$A$12:$Q$51,13,FALSE)","v":"00:01:17.980"},{"$f":"VLOOKUP($C38,'Test 6'!$A$12:$Q$51,16,FALSE)","v":"00:07:39.410"}]
[{"$f":"IF(Pivots!BL30=\"(Blank)\",\"\",Pivots!BL30)","v":0},{"$f":"VLOOKUP($C39,'Test 6'!$A$12:$Q$51,15,FALSE)","v":20},{"$f":"IF(Pivots!BM30=\"(Blank)\",\"\",Pivots!BM30)","v":26},{"$f":"VLOOKUP($C39,'Test 6'!$A$12:$Q$51,2,FALSE)","v":""},{"$f":"VLOOKUP($C39,'Test 6'!$A$12:$Q$51,7,FALSE)","v":""},{"$f":"VLOOKUP($C39,'Test 6'!$A$12:$Q$51,3,FALSE)","v":""},{"$f":"VLOOKUP($C39,'Test 6'!$A$12:$Q$51,4,FALSE)","v":""},{"$f":"VLOOKUP($C39,'Test 6'!$A$12:$Q$51,5,FALSE)","v":"senior"},{"$f":"VLOOKUP($C39,'Test 6'!$A$12:$Q$51,13,FALSE)","v":"00:01:17.980"},{"$f":"VLOOKUP($C39,'Test 6'!$A$12:$Q$51,16,FALSE)","v":"00:07:39.410"}]
[{"$f":"IF(Pivots!BL31=\"(Blank)\",\"\",Pivots!BL31)","v":0},{"$f":"VLOOKUP($C40,'Test 6'!$A$12:$Q$51,15,FALSE)","v":20},{"$f":"IF(Pivots!BM31=\"(Blank)\",\"\",Pivots!BM31)","v":27},{"$f":"VLOOKUP($C40,'Test 6'!$A$12:$Q$51,2,FALSE)","v":""},{"$f":"VLOOKUP($C40,'Test 6'!$A$12:$Q$51,7,FALSE)","v":""},{"$f":"VLOOKUP($C40,'Test 6'!$A$12:$Q$51,3,FALSE)","v":""},{"$f":"VLOOKUP($C40,'Test 6'!$A$12:$Q$51,4,FALSE)","v":""},{"$f":"VLOOKUP($C40,'Test 6'!$A$12:$Q$51,5,FALSE)","v":"senior"},{"$f":"VLOOKUP($C40,'Test 6'!$A$12:$Q$51,13,FALSE)","v":"00:01:17.980"},{"$f":"VLOOKUP($C40,'Test 6'!$A$12:$Q$51,16,FALSE)","v":"00:07:39.410"}]
[{"$f":"IF(Pivots!BL32=\"(Blank)\",\"\",Pivots!BL32)","v":0},{"$f":"VLOOKUP($C41,'Test 6'!$A$12:$Q$51,15,FALSE)","v":20},{"$f":"IF(Pivots!BM32=\"(Blank)\",\"\",Pivots!BM32)","v":28},{"$f":"VLOOKUP($C41,'Test 6'!$A$12:$Q$51,2,FALSE)","v":""},{"$f":"VLOOKUP($C41,'Test 6'!$A$12:$Q$51,7,FALSE)","v":""},{"$f":"VLOOKUP($C41,'Test 6'!$A$12:$Q$51,3,FALSE)","v":""},{"$f":"VLOOKUP($C41,'Test 6'!$A$12:$Q$51,4,FALSE)","v":""},{"$f":"VLOOKUP($C41,'Test 6'!$A$12:$Q$51,5,FALSE)","v":"senior"},{"$f":"VLOOKUP($C41,'Test 6'!$A$12:$Q$51,13,FALSE)","v":"00:01:17.980"},{"$f":"VLOOKUP($C41,'Test 6'!$A$12:$Q$51,16,FALSE)","v":"00:07:39.410"}]
[{"$f":"IF(Pivots!BL33=\"(Blank)\",\"\",Pivots!BL33)","v":0},{"$f":"VLOOKUP($C42,'Test 6'!$A$12:$Q$51,15,FALSE)","v":20},{"$f":"IF(Pivots!BM33=\"(Blank)\",\"\",Pivots!BM33)","v":29},{"$f":"VLOOKUP($C42,'Test 6'!$A$12:$Q$51,2,FALSE)","v":""},{"$f":"VLOOKUP($C42,'Test 6'!$A$12:$Q$51,7,FALSE)","v":""},{"$f":"VLOOKUP($C42,'Test 6'!$A$12:$Q$51,3,FALSE)","v":""},{"$f":"VLOOKUP($C42,'Test 6'!$A$12:$Q$51,4,FALSE)","v":""},{"$f":"VLOOKUP($C42,'Test 6'!$A$12:$Q$51,5,FALSE)","v":"senior"},{"$f":"VLOOKUP($C42,'Test 6'!$A$12:$Q$51,13,FALSE)","v":"00:01:17.980"},{"$f":"VLOOKUP($C42,'Test 6'!$A$12:$Q$51,16,FALSE)","v":"00:07:39.410"}]
[{"$f":"IF(Pivots!BL34=\"(Blank)\",\"\",Pivots!BL34)","v":0},{"$f":"VLOOKUP($C43,'Test 6'!$A$12:$Q$51,15,FALSE)","v":20},{"$f":"IF(Pivots!BM34=\"(Blank)\",\"\",Pivots!BM34)","v":30},{"$f":"VLOOKUP($C43,'Test 6'!$A$12:$Q$51,2,FALSE)","v":""},{"$f":"VLOOKUP($C43,'Test 6'!$A$12:$Q$51,7,FALSE)","v":""},{"$f":"VLOOKUP($C43,'Test 6'!$A$12:$Q$51,3,FALSE)","v":""},{"$f":"VLOOKUP($C43,'Test 6'!$A$12:$Q$51,4,FALSE)","v":""},{"$f":"VLOOKUP($C43,'Test 6'!$A$12:$Q$51,5,FALSE)","v":"senior"},{"$f":"VLOOKUP($C43,'Test 6'!$A$12:$Q$51,13,FALSE)","v":"00:01:17.980"},{"$f":"VLOOKUP($C43,'Test 6'!$A$12:$Q$51,16,FALSE)","v":"00:07:39.410"}]
[{"$f":"IF(Pivots!BL35=\"(Blank)\",\"\",Pivots!BL35)","v":0},{"$f":"VLOOKUP($C44,'Test 6'!$A$12:$Q$51,15,FALSE)","v":20},{"$f":"IF(Pivots!BM35=\"(Blank)\",\"\",Pivots!BM35)","v":31},{"$f":"VLOOKUP($C44,'Test 6'!$A$12:$Q$51,2,FALSE)","v":""},{"$f":"VLOOKUP($C44,'Test 6'!$A$12:$Q$51,7,FALSE)","v":""},{"$f":"VLOOKUP($C44,'Test 6'!$A$12:$Q$51,3,FALSE)","v":""},{"$f":"VLOOKUP($C44,'Test 6'!$A$12:$Q$51,4,FALSE)","v":""},{"$f":"VLOOKUP($C44,'Test 6'!$A$12:$Q$51,5,FALSE)","v":"senior"},{"$f":"VLOOKUP($C44,'Test 6'!$A$12:$Q$51,13,FALSE)","v":"00:01:17.980"},{"$f":"VLOOKUP($C44,'Test 6'!$A$12:$Q$51,16,FALSE)","v":"00:07:39.410"}]
[{"$f":"IF(Pivots!BL36=\"(Blank)\",\"\",Pivots!BL36)","v":0},{"$f":"VLOOKUP($C45,'Test 6'!$A$12:$Q$51,15,FALSE)","v":20},{"$f":"IF(Pivots!BM36=\"(Blank)\",\"\",Pivots!BM36)","v":32},{"$f":"VLOOKUP($C45,'Test 6'!$A$12:$Q$51,2,FALSE)","v":""},{"$f":"VLOOKUP($C45,'Test 6'!$A$12:$Q$51,7,FALSE)","v":""},{"$f":"VLOOKUP($C45,'Test 6'!$A$12:$Q$51,3,FALSE)","v":""},{"$f":"VLOOKUP($C45,'Test 6'!$A$12:$Q$51,4,FALSE)","v":""},{"$f":"VLOOKUP($C45,'Test 6'!$A$12:$Q$51,5,FALSE)","v":"senior"},{"$f":"VLOOKUP($C45,'Test 6'!$A$12:$Q$51,13,FALSE)","v":"00:01:17.980"},{"$f":"VLOOKUP($C45,'Test 6'!$A$12:$Q$51,16,FALSE)","v":"00:07:39.410"}]
[{"$f":"IF(Pivots!BL37=\"(Blank)\",\"\",Pivots!BL37)","v":0},{"$f":"VLOOKUP($C46,'Test 6'!$A$12:$Q$51,15,FALSE)","v":20},{"$f":"IF(Pivots!BM37=\"(Blank)\",\"\",Pivots!BM37)","v":33},{"$f":"VLOOKUP($C46,'Test 6'!$A$12:$Q$51,2,FALSE)","v":""},{"$f":"VLOOKUP($C46,'Test 6'!$A$12:$Q$51,7,FALSE)","v":""},{"$f":"VLOOKUP($C46,'Test 6'!$A$12:$Q$51,3,FALSE)","v":""},{"$f":"VLOOKUP($C46,'Test 6'!$A$12:$Q$51,4,FALSE)","v":""},{"$f":"VLOOKUP($C46,'Test 6'!$A$12:$Q$51,5,FALSE)","v":"senior"},{"$f":"VLOOKUP($C46,'Test 6'!$A$12:$Q$51,13,FALSE)","v":"00:01:17.980"},{"$f":"VLOOKUP($C46,'Test 6'!$A$12:$Q$51,16,FALSE)","v":"00:07:39.410"}]
[{"$f":"IF(Pivots!BL38=\"(Blank)\",\"\",Pivots!BL38)","v":0},{"$f":"VLOOKUP($C47,'Test 6'!$A$12:$Q$51,15,FALSE)","v":20},{"$f":"IF(Pivots!BM38=\"(Blank)\",\"\",Pivots!BM38)","v":34},{"$f":"VLOOKUP($C47,'Test 6'!$A$12:$Q$51,2,FALSE)","v":""},{"$f":"VLOOKUP($C47,'Test 6'!$A$12:$Q$51,7,FALSE)","v":""},{"$f":"VLOOKUP($C47,'Test 6'!$A$12:$Q$51,3,FALSE)","v":""},{"$f":"VLOOKUP($C47,'Test 6'!$A$12:$Q$51,4,FALSE)","v":""},{"$f":"VLOOKUP($C47,'Test 6'!$A$12:$Q$51,5,FALSE)","v":"senior"},{"$f":"VLOOKUP($C47,'Test 6'!$A$12:$Q$51,13,FALSE)","v":"00:01:17.980"},{"$f":"VLOOKUP($C47,'Test 6'!$A$12:$Q$51,16,FALSE)","v":"00:07:39.410"}]
[{"$f":"IF(Pivots!BL39=\"(Blank)\",\"\",Pivots!BL39)","v":0},{"$f":"VLOOKUP($C48,'Test 6'!$A$12:$Q$51,15,FALSE)","v":20},{"$f":"IF(Pivots!BM39=\"(Blank)\",\"\",Pivots!BM39)","v":35},{"$f":"VLOOKUP($C48,'Test 6'!$A$12:$Q$51,2,FALSE)","v":""},{"$f":"VLOOKUP($C48,'Test 6'!$A$12:$Q$51,7,FALSE)","v":""},{"$f":"VLOOKUP($C48,'Test 6'!$A$12:$Q$51,3,FALSE)","v":""},{"$f":"VLOOKUP($C48,'Test 6'!$A$12:$Q$51,4,FALSE)","v":""},{"$f":"VLOOKUP($C48,'Test 6'!$A$12:$Q$51,5,FALSE)","v":"senior"},{"$f":"VLOOKUP($C48,'Test 6'!$A$12:$Q$51,13,FALSE)","v":"00:01:17.980"},{"$f":"VLOOKUP($C48,'Test 6'!$A$12:$Q$51,16,FALSE)","v":"00:07:39.410"}]
[{"$f":"IF(Pivots!BL40=\"(Blank)\",\"\",Pivots!BL40)","v":0},{"$f":"VLOOKUP($C49,'Test 6'!$A$12:$Q$51,15,FALSE)","v":20},{"$f":"IF(Pivots!BM40=\"(Blank)\",\"\",Pivots!BM40)","v":36},{"$f":"VLOOKUP($C49,'Test 6'!$A$12:$Q$51,2,FALSE)","v":""},{"$f":"VLOOKUP($C49,'Test 6'!$A$12:$Q$51,7,FALSE)","v":""},{"$f":"VLOOKUP($C49,'Test 6'!$A$12:$Q$51,3,FALSE)","v":""},{"$f":"VLOOKUP($C49,'Test 6'!$A$12:$Q$51,4,FALSE)","v":""},{"$f":"VLOOKUP($C49,'Test 6'!$A$12:$Q$51,5,FALSE)","v":"senior"},{"$f":"VLOOKUP($C49,'Test 6'!$A$12:$Q$51,13,FALSE)","v":"00:01:17.980"},{"$f":"VLOOKUP($C49,'Test 6'!$A$12:$Q$51,16,FALSE)","v":"00:07:39.410"}]
[{"$f":"IF(Pivots!BL41=\"(Blank)\",\"\",Pivots!BL41)","v":0},{"$f":"VLOOKUP($C50,'Test 6'!$A$12:$Q$51,15,FALSE)","v":20},{"$f":"IF(Pivots!BM41=\"(Blank)\",\"\",Pivots!BM41)","v":37},{"$f":"VLOOKUP($C50,'Test 6'!$A$12:$Q$51,2,FALSE)","v":""},{"$f":"VLOOKUP($C50,'Test 6'!$A$12:$Q$51,7,FALSE)","v":""},{"$f":"VLOOKUP($C50,'Test 6'!$A$12:$Q$51,3,FALSE)","v":""},{"$f":"VLOOKUP($C50,'Test 6'!$A$12:$Q$51,4,FALSE)","v":""},{"$f":"VLOOKUP($C50,'Test 6'!$A$12:$Q$51,5,FALSE)","v":"senior"},{"$f":"VLOOKUP($C50,'Test 6'!$A$12:$Q$51,13,FALSE)","v":"00:01:17.980"},{"$f":"VLOOKUP($C50,'Test 6'!$A$12:$Q$51,16,FALSE)","v":"00:07:39.410"}]
[{"$f":"IF(Pivots!BL42=\"(Blank)\",\"\",Pivots!BL42)","v":0},{"$f":"VLOOKUP($C51,'Test 6'!$A$12:$Q$51,15,FALSE)","v":20},{"$f":"IF(Pivots!BM42=\"(Blank)\",\"\",Pivots!BM42)","v":38},{"$f":"VLOOKUP($C51,'Test 6'!$A$12:$Q$51,2,FALSE)","v":""},{"$f":"VLOOKUP($C51,'Test 6'!$A$12:$Q$51,7,FALSE)","v":""},{"$f":"VLOOKUP($C51,'Test 6'!$A$12:$Q$51,3,FALSE)","v":""},{"$f":"VLOOKUP($C51,'Test 6'!$A$12:$Q$51,4,FALSE)","v":""},{"$f":"VLOOKUP($C51,'Test 6'!$A$12:$Q$51,5,FALSE)","v":"senior"},{"$f":"VLOOKUP($C51,'Test 6'!$A$12:$Q$51,13,FALSE)","v":"00:01:17.980"},{"$f":"VLOOKUP($C51,'Test 6'!$A$12:$Q$51,16,FALSE)","v":"00:07:39.410"}]
[{"$f":"IF(Pivots!BL43=\"(Blank)\",\"\",Pivots!BL43)","v":0},{"$f":"VLOOKUP($C52,'Test 6'!$A$12:$Q$51,15,FALSE)","v":20},{"$f":"IF(Pivots!BM43=\"(Blank)\",\"\",Pivots!BM43)","v":39},{"$f":"VLOOKUP($C52,'Test 6'!$A$12:$Q$51,2,FALSE)","v":""},{"$f":"VLOOKUP($C52,'Test 6'!$A$12:$Q$51,7,FALSE)","v":""},{"$f":"VLOOKUP($C52,'Test 6'!$A$12:$Q$51,3,FALSE)","v":""},{"$f":"VLOOKUP($C52,'Test 6'!$A$12:$Q$51,4,FALSE)","v":""},{"$f":"VLOOKUP($C52,'Test 6'!$A$12:$Q$51,5,FALSE)","v":"senior"},{"$f":"VLOOKUP($C52,'Test 6'!$A$12:$Q$51,13,FALSE)","v":"00:01:17.980"},{"$f":"VLOOKUP($C52,'Test 6'!$A$12:$Q$51,16,FALSE)","v":"00:07:39.410"}]
[{"$f":"IF(Pivots!BL44=\"(Blank)\",\"\",Pivots!BL44)","v":0},{"$f":"VLOOKUP($C53,'Test 6'!$A$12:$Q$51,15,FALSE)","v":20},{"$f":"IF(Pivots!BM44=\"(Blank)\",\"\",Pivots!BM44)","v":40},{"$f":"VLOOKUP($C53,'Test 6'!$A$12:$Q$51,2,FALSE)","v":""},{"$f":"VLOOKUP($C53,'Test 6'!$A$12:$Q$51,7,FALSE)","v":""},{"$f":"VLOOKUP($C53,'Test 6'!$A$12:$Q$51,3,FALSE)","v":""},{"$f":"VLOOKUP($C53,'Test 6'!$A$12:$Q$51,4,FALSE)","v":""},{"$f":"VLOOKUP($C53,'Test 6'!$A$12:$Q$51,5,FALSE)","v":"senior"},{"$f":"VLOOKUP($C53,'Test 6'!$A$12:$Q$51,13,FALSE)","v":"00:01:17.980"},{"$f":"VLOOKUP($C53,'Test 6'!$A$12:$Q$51,16,FALSE)","v":"00:07:39.410"}]

{"sheet":"Print_Test 7","index":9,"n_rows":53,"n_cols":10,"rows_kept":53,"cut":false,"hidden":false,"merged":[[11,6,12,6],[11,7,12,7],[8,3,8,5],[9,3,9,5],[11,0,12,0],[11,1,12,1],[11,2,12,2],[11,3,12,3],[11,4,12,4],[11,5,12,5]]}
[]
[]
[]
[]
[]
[]
[]
[]
[null,null,null,"Provisional Results"]
[null,null,null,"Test 7"]
[]
["Outright Position","Test Position","Car Number","Driver","Class","Rookie?","Female?","Junior?","Test Time","Cumulative Time"]
[null,null,null,null,null,null,null,null,"(mm:ss.00)","(mm:ss.00)"]
[{"$f":"IF(Pivots!BW5=\"(Blank)\",\"\",Pivots!BW5)","v":0},{"$f":"VLOOKUP($C14,'Test 7'!$A$12:$Q$51,15,FALSE)","v":1},{"$f":"IF(Pivots!BX5=\"(Blank)\",\"\",Pivots!BX5)","v":17},{"$f":"VLOOKUP($C14,'Test 7'!$A$12:$Q$51,2,FALSE)","v":"Reece McIntosh"},{"$f":"VLOOKUP($C14,'Test 7'!$A$12:$Q$51,7,FALSE)","v":""},{"$f":"VLOOKUP($C14,'Test 7'!$A$12:$Q$51,3,FALSE)","v":""},{"$f":"VLOOKUP($C14,'Test 7'!$A$12:$Q$51,4,FALSE)","v":""},{"$f":"VLOOKUP($C14,'Test 7'!$A$12:$Q$51,5,FALSE)","v":"senior"},{"$f":"VLOOKUP($C14,'Test 7'!$A$12:$Q$51,13,FALSE)","v":"00:00:34.310"},{"$f":"VLOOKUP($C14,'Test 7'!$A$12:$Q$51,16,FALSE)","v":"00:05:22.570"}]
[{"$f":"IF(Pivots!BW6=\"(Blank)\",\"\",Pivots!BW6)","v":0},{"$f":"VLOOKUP($C15,'Test 7'!$A$12:$Q$51,15,FALSE)","v":2},{"$f":"IF(Pivots!BX6=\"(Blank)\",\"\",Pivots!BX6)","v":1},{"$f":"VLOOKUP($C15,'Test 7'!$A$12:$Q$51,2,FALSE)","v":"Paul Dunn"},{"$f":"VLOOKUP($C15,'Test 7'!$A$12:$Q$51,7,FALSE)","v":""},{"$f":"VLOOKUP($C15,'Test 7'!$A$12:$Q$51,3,FALSE)","v":""},{"$f":"VLOOKUP($C15,'Test 7'!$A$12:$Q$51,4,FALSE)","v":""},{"$f":"VLOOKUP($C15,'Test 7'!$A$12:$Q$51,5,FALSE)","v":"senior"},{"$f":"VLOOKUP($C15,'Test 7'!$A$12:$Q$51,13,FALSE)","v":"00:00:35.250"},{"$f":"VLOOKUP($C15,'Test 7'!$A$12:$Q$51,16,FALSE)","v":"00:05:40.310"}]
[{"$f":"IF(Pivots!BW7=\"(Blank)\",\"\",Pivots!BW7)","v":0},{"$f":"VLOOKUP($C16,'Test 7'!$A$12:$Q$51,15,FALSE)","v":6},{"$f":"IF(Pivots!BX7=\"(Blank)\",\"\",Pivots!BX7)","v":9},{"$f":"VLOOKUP($C16,'Test 7'!$A$12:$Q$51,2,FALSE)","v":"Brad Firman"},{"$f":"VLOOKUP($C16,'Test 7'!$A$12:$Q$51,7,FALSE)","v":""},{"$f":"VLOOKUP($C16,'Test 7'!$A$12:$Q$51,3,FALSE)","v":""},{"$f":"VLOOKUP($C16,'Test 7'!$A$12:$Q$51,4,FALSE)","v":""},{"$f":"VLOOKUP($C16,'Test 7'!$A$12:$Q$51,5,FALSE)","v":"senior"},{"$f":"VLOOKUP($C16,'Test 7'!$A$12:$Q$51,13,FALSE)","v":"00:00:37.410"},{"$f":"VLOOKUP($C16,'Test 7'!$A$12:$Q$51,16,FALSE)","v":"00:05:41.210"}]
[{"$f":"IF(Pivots!BW8=\"(Blank)\",\"\",Pivots!BW8)","v":0},{"$f":"VLOOKUP($C17,'Test 7'!$A$12:$Q$51,15,FALSE)","v":3},{"$f":"IF(Pivots!BX8=\"(Blank)\",\"\",Pivots!BX8)","v":14},{"$f":"VLOOKUP($C17,'Test 7'!$A$12:$Q$51,2,FALSE)","v":"Bob Fulthorpe"},{"$f":"VLOOKUP($C17,'Test 7'!$A$12:$Q$51,7,FALSE)","v":""},{"$f":"VLOOKUP($C17,'Test 7'!$A$12:$Q$51,3,FALSE)","v":""},{"$f":"VLOOKUP($C17,'Test 7'!$A$12:$Q$51,4,FALSE)","v":""},{"$f":"VLOOKUP($C17,'Test 7'!$A$12:$Q$51,5,FALSE)","v":"senior"},{"$f":"VLOOKUP($C17,'Test 7'!$A$12:$Q$51,13,FALSE)","v":"00:00:35.940"},{"$f":"VLOOKUP($C17,'Test 7'!$A$12:$Q$51,16,FALSE)","v":"00:05:48.810"}]
[{"$f":"IF(Pivots!BW9=\"(Blank)\",\"\",Pivots!BW9)","v":0},{"$f":"VLOOKUP($C18,'Test 7'!$A$12:$Q$51,15,FALSE)","v":4},{"$f":"IF(Pivots!BX9=\"(Blank)\",\"\",Pivots!BX9)","v":2},{"$f":"VLOOKUP($C18,'Test 7'!$A$12:$Q$51,2,FALSE)","v":"Stephen Thorne"},{"$f":"VLOOKUP($C18,'Test 7'!$A$12:$Q$51,7,FALSE)","v":""},{"$f":"VLOOKUP($C18,'Test 7'!$A$12:$Q$51,3,FALSE)","v":""},{"$f":"VLOOKUP($C18,'Test 7'!$A$12:$Q$51,4,FALSE)","v":""},{"$f":"VLOOKUP($C18,'Test 7'!$A$12:$Q$51,5,FALSE)","v":"senior"},{"$f":"VLOOKUP($C18,'Test 7'!$A$12:$Q$51,13,FALSE)","v":"00:00:36.690"},{"$f":"VLOOKUP($C18,'Test 7'!$A$12:$Q$51,16,FALSE)","v":"00:06:02.550"}]
[{"$f":"IF(Pivots!BW10=\"(Blank)\",\"\",Pivots!BW10)","v":0},{"$f":"VLOOKUP($C19,'Test 7'!$A$12:$Q$51,15,FALSE)","v":5},{"$f":"IF(Pivots!BX10=\"(Blank)\",\"\",Pivots!BX10)","v":16},{"$f":"VLOOKUP($C19,'Test 7'!$A$12:$Q$51,2,FALSE)","v":"Nathan Senior"},{"$f":"VLOOKUP($C19,'Test 7'!$A$12:$Q$51,7,FALSE)","v":""},{"$f":"VLOOKUP($C19,'Test 7'!$A$12:$Q$51,3,FALSE)","v":""},{"$f":"VLOOKUP($C19,'Test 7'!$A$12:$Q$51,4,FALSE)","v":""},{"$f":"VLOOKUP($C19,'Test 7'!$A$12:$Q$51,5,FALSE)","v":"senior"},{"$f":"VLOOKUP($C19,'Test 7'!$A$12:$Q$51,13,FALSE)","v":"00:00:36.790"},{"$f":"VLOOKUP($C19,'Test 7'!$A$12:$Q$51,16,FALSE)","v":"00:06:02.580"}]
[{"$f":"IF(Pivots!BW11=\"(Blank)\",\"\",Pivots!BW11)","v":0},{"$f":"VLOOKUP($C20,'Test 7'!$A$12:$Q$51,15,FALSE)","v":10},{"$f":"IF(Pivots!BX11=\"(Blank)\",\"\",Pivots!BX11)","v":20},{"$f":"VLOOKUP($C20,'Test 7'!$A$12:$Q$51,2,FALSE)","v":"Ray Lampl"},{"$f":"VLOOKUP($C20,'Test 7'!$A$12:$Q$51,7,FALSE)","v":""},{"$f":"VLOOKUP($C20,'Test 7'!$A$12:$Q$51,3,FALSE)","v":""},{"$f":"VLOOKUP($C20,'Test 7'!$A$12:$Q$51,4,FALSE)","v":""},{"$f":"VLOOKUP($C20,'Test 7'!$A$12:$Q$51,5,FALSE)","v":"senior"},{"$f":"VLOOKUP($C20,'Test 7'!$A$12:$Q$51,13,FALSE)","v":"00:00:38.930"},{"$f":"VLOOKUP($C20,'Test 7'!$A$12:$Q$51,16,FALSE)","v":"00:06:05.790"}]
[{"$f":"IF(Pivots!BW12=\"(Blank)\",\"\",Pivots!BW12)","v":0},{"$f":"VLOOKUP($C21,'Test 7'!$A$12:$Q$51,15,FALSE)","v":8},{"$f":"IF(Pivots!BX12=\"(Blank)\",\"\",Pivots!BX12)","v":5},{"$f":"VLOOKUP($C21,'Test 7'!$A$12:$Q$51,2,FALSE)","v":"Janelle Ballard"},{"$f":"VLOOKUP($C21,'Test 7'!$A$12:$Q$51,7,FALSE)","v":""},{"$f":"VLOOKUP($C21,'Test 7'!$A$12:$Q$51,3,FALSE)","v":""},{"$f":"VLOOKUP($C21,'Test 7'!$A$12:$Q$51,4,FALSE)","v":"female"},{"$f":"VLOOKUP($C21,'Test 7'!$A$12:$Q$51,5,FALSE)","v":"senior"},{"$f":"VLOOKUP($C21,'Test 7'!$A$12:$Q$51,13,FALSE)","v":"00:00:38.420"},{"$f":"VLOOKUP($C21,'Test 7'!$A$12:$Q$51,16,FALSE)","v":"00:06:11.340"}]
[{"$f":"IF(Pivots!BW13=\"(Blank)\",\"\",Pivots!BW13)","v":0},{"$f":"VLOOKUP($C22,'Test 7'!$A$12:$Q$51,15,FALSE)","v":19},{"$f":"IF(Pivots!BX13=\"(Blank)\",\"\",Pivots!BX13)","v":19},{"$f":"VLOOKUP($C22,'Test 7'!$A$12:$Q$51,2,FALSE)","v":"Christopher Northey"},{"$f":"VLOOKUP($C22,'Test 7'!$A$12:$Q$51,7,FALSE)","v":""},{"$f":"VLOOKUP($C22,'Test 7'!$A$12:$Q$51,3,FALSE)","v":""},{"$f":"VLOOKUP($C22,'Test 7'!$A$12:$Q$51,4,FALSE)","v":""},{"$f":"VLOOKUP($C22,'Test 7'!$A$12:$Q$51,5,FALSE)","v":"senior"},{"$f":"VLOOKUP($C22,'Test 7'!$A$12:$Q$51,13,FALSE)","v":"00:00:50.750"},{"$f":"VLOOKUP($C22,'Test 7'!$A$12:$Q$51,16,FALSE)","v":"00:06:14.180"}]
[{"$f":"IF(Pivots!BW14=\"(Blank)\",\"\",Pivots!BW14)","v":0},{"$f":"VLOOKUP($C23,'Test 7'!$A$12:$Q$51,15,FALSE)","v":12},{"$f":"IF(Pivots!BX14=\"(Blank)\",\"\",Pivots!BX14)","v":8},{"$f":"VLOOKUP($C23,'Test 7'!$A$12:$Q$51,2,FALSE)","v":"Jim Taylor"},{"$f":"VLOOKUP($C23,'Test 7'!$A$12:$Q$51,7,FALSE)","v":""},{"$f":"VLOOKUP($C23,'Test 7'!$A$12:$Q$51,3,FALSE)","v":""},{"$f":"VLOOKUP($C23,'Test 7'!$A$12:$Q$51,4,FALSE)","v":""},{"$f":"VLOOKUP($C23,'Test 7'!$A$12:$Q$51,5,FALSE)","v":"senior"},{"$f":"VLOOKUP($C23,'Test 7'!$A$12:$Q$51,13,FALSE)","v":"00:00:39.600"},{"$f":"VLOOKUP($C23,'Test 7'!$A$12:$Q$51,16,FALSE)","v":"00:06:20.680"}]
[{"$f":"IF(Pivots!BW15=\"(Blank)\",\"\",Pivots!BW15)","v":0},{"$f":"VLOOKUP($C24,'Test 7'!$A$12:$Q$51,15,FALSE)","v":16},{"$f":"IF(Pivots!BX15=\"(Blank)\",\"\",Pivots!BX15)","v":12},{"$f":"VLOOKUP($C24,'Test 7'!$A$12:$Q$51,2,FALSE)","v":"Mat Boorman"},{"$f":"VLOOKUP($C24,'Test 7'!$A$12:$Q$51,7,FALSE)","v":""},{"$f":"VLOOKUP($C24,'Test 7'!$A$12:$Q$51,3,FALSE)","v":""},{"$f":"VLOOKUP($C24,'Test 7'!$A$12:$Q$51,4,FALSE)","v":""},{"$f":"VLOOKUP($C24,'Test 7'!$A$12:$Q$51,5,FALSE)","v":"senior"},{"$f":"VLOOKUP($C24,'Test 7'!$A$12:$Q$51,13,FALSE)","v":"00:00:41.910"},{"$f":"VLOOKUP($C24,'Test 7'!$A$12:$Q$51,16,FALSE)","v":"00:06:20.740"}]
[{"$f":"IF(Pivots!BW16=\"(Blank)\",\"\",Pivots!BW16)","v":0},{"$f":"VLOOKUP($C25,'Test 7'!$A$12:$Q$51,15,FALSE)","v":14},{"$f":"IF(Pivots!BX16=\"(Blank)\",\"\",Pivots!BX16)","v":15},{"$f":"VLOOKUP($C25,'Test 7'!$A$12:$Q$51,2,FALSE)","v":"Khi Fulthorpe"},{"$f":"VLOOKUP($C25,'Test 7'!$A$12:$Q$51,7,FALSE)","v":""},{"$f":"VLOOKUP($C25,'Test 7'!$A$12:$Q$51,3,FALSE)","v":""},{"$f":"VLOOKUP($C25,'Test 7'!$A$12:$Q$51,4,FALSE)","v":""},{"$f":"VLOOKUP($C25,'Test 7'!$A$12:$Q$51,5,FALSE)","v":"senior"},{"$f":"VLOOKUP($C25,'Test 7'!$A$12:$Q$51,13,FALSE)","v":"00:00:40.180"},{"$f":"VLOOKUP($C25,'Test 7'!$A$12:$Q$51,16,FALSE)","v":"00:06:20.880"}]
[{"$f":"IF(Pivots!BW17=\"(Blank)\",\"\",Pivots!BW17)","v":0},{"$f":"VLOOKUP($C26,'Test 7'!$A$12:$Q$51,15,FALSE)","v":11},{"$f":"IF(Pivots!BX17=\"(Blank)\",\"\",Pivots!BX17)","v":11},{"$f":"VLOOKUP($C26,'Test 7'!$A$12:$Q$51,2,FALSE)","v":"Russel McKinley"},{"$f":"VLOOKUP($C26,'Test 7'!$A$12:$Q$51,7,FALSE)","v":""},{"$f":"VLOOKUP($C26,'Test 7'!$A$12:$Q$51,3,FALSE)","v":""},{"$f":"VLOOKUP($C26,'Test 7'!$A$12:$Q$51,4,FALSE)","v":""},{"$f":"VLOOKUP($C26,'Test 7'!$A$12:$Q$51,5,FALSE)","v":"senior"},{"$f":"VLOOKUP($C26,'Test 7'!$A$12:$Q$51,13,FALSE)","v":"00:00:39.560"},{"$f":"VLOOKUP($C26,'Test 7'!$A$12:$Q$51,16,FALSE)","v":"00:06:29.540"}]
[{"$f":"IF(Pivots!BW18=\"(Blank)\",\"\",Pivots!BW18)","v":0},{"$f":"VLOOKUP($C27,'Test 7'!$A$12:$Q$51,15,FALSE)","v":9},{"$f":"IF(Pivots!BX18=\"(Blank)\",\"\",Pivots!BX18)","v":3},{"$f":"VLOOKUP($C27,'Test 7'!$A$12:$Q$51,2,FALSE)","v":"David Ballard"},{"$f":"VLOOKUP($C27,'Test 7'!$A$12:$Q$51,7,FALSE)","v":""},{"$f":"VLOOKUP($C27,'Test 7'!$A$12:$Q$51,3,FALSE)","v":""},{"$f":"VLOOKUP($C27,'Test 7'!$A$12:$Q$51,4,FALSE)","v":""},{"$f":"VLOOKUP($C27,'Test 7'!$A$12:$Q$51,5,FALSE)","v":"senior"},{"$f":"VLOOKUP($C27,'Test 7'!$A$12:$Q$51,13,FALSE)","v":"00:00:38.880"},{"$f":"VLOOKUP($C27,'Test 7'!$A$12:$Q$51,16,FALSE)","v":"00:06:31.910"}]
[{"$f":"IF(Pivots!BW19=\"(Blank)\",\"\",Pivots!BW19)","v":0},{"$f":"VLOOKUP($C28,'Test 7'!$A$12:$Q$51,15,FALSE)","v":18},{"$f":"IF(Pivots!BX19=\"(Blank)\",\"\",Pivots!BX19)","v":10},{"$f":"VLOOKUP($C28,'Test 7'!$A$12:$Q$51,2,FALSE)","v":"Scott Taylor"},{"$f":"VLOOKUP($C28,'Test 7'!$A$12:$Q$51,7,FALSE)","v":""},{"$f":"VLOOKUP($C28,'Test 7'!$A$12:$Q$51,3,FALSE)","v":""},{"$f":"VLOOKUP($C28,'Test 7'!$A$12:$Q$51,4,FALSE)","v":""},{"$f":"VLOOKUP($C28,'Test 7'!$A$12:$Q$51,5,FALSE)","v":"senior"},{"$f":"VLOOKUP($C28,'Test 7'!$A$12:$Q$51,13,FALSE)","v":"00:00:45.750"},{"$f":"VLOOKUP($C28,'Test 7'!$A$12:$Q$51,16,FALSE)","v":"00:06:33"}]
[{"$f":"IF(Pivots!BW20=\"(Blank)\",\"\",Pivots!BW20)","v":0},{"$f":"VLOOKUP($C29,'Test 7'!$A$12:$Q$51,15,FALSE)","v":7},{"$f":"IF(Pivots!BX20=\"(Blank)\",\"\",Pivots!BX20)","v":6},{"$f":"VLOOKUP($C29,'Test 7'!$A$12:$Q$51,2,FALSE)","v":"Issac Wishart"},{"$f":"VLOOKUP($C29,'Test 7'!$A$12:$Q$51,7,FALSE)","v":""},{"$f":"VLOOKUP($C29,'Test 7'!$A$12:$Q$51,3,FALSE)","v":"rookie"},{"$f":"VLOOKUP($C29,'Test 7'!$A$12:$Q$51,4,FALSE)","v":""},{"$f":"VLOOKUP($C29,'Test 7'!$A$12:$Q$51,5,FALSE)","v":"senior"},{"$f":"VLOOKUP($C29,'Test 7'!$A$12:$Q$51,13,FALSE)","v":"00:00:38.130"},{"$f":"VLOOKUP($C29,'Test 7'!$A$12:$Q$51,16,FALSE)","v":"00:06:48.030"}]
[{"$f":"IF(Pivots!BW21=\"(Blank)\",\"\",Pivots!BW21)","v":0},{"$f":"VLOOKUP($C30,'Test 7'!$A$12:$Q$51,15,FALSE)","v":13},{"$f":"IF(Pivots!BX21=\"(Blank)\",\"\",Pivots!BX21)","v":18},{"$f":"VLOOKUP($C30,'Test 7'!$A$12:$Q$51,2,FALSE)","v":"Jack Stanley"},{"$f":"VLOOKUP($C30,'Test 7'!$A$12:$Q$51,7,FALSE)","v":""},{"$f":"VLOOKUP($C30,'Test 7'!$A$12:$Q$51,3,FALSE)","v":"rookie"},{"$f":"VLOOKUP($C30,'Test 7'!$A$12:$Q$51,4,FALSE)","v":""},{"$f":"VLOOKUP($C30,'Test 7'!$A$12:$Q$51,5,FALSE)","v":"senior"},{"$f":"VLOOKUP($C30,'Test 7'!$A$12:$Q$51,13,FALSE)","v":"00:00:39.680"},{"$f":"VLOOKUP($C30,'Test 7'!$A$12:$Q$51,16,FALSE)","v":"00:06:59.150"}]
[{"$f":"IF(Pivots!BW22=\"(Blank)\",\"\",Pivots!BW22)","v":0},{"$f":"VLOOKUP($C31,'Test 7'!$A$12:$Q$51,15,FALSE)","v":17},{"$f":"IF(Pivots!BX22=\"(Blank)\",\"\",Pivots!BX22)","v":13},{"$f":"VLOOKUP($C31,'Test 7'!$A$12:$Q$51,2,FALSE)","v":"Aaron Wishart"},{"$f":"VLOOKUP($C31,'Test 7'!$A$12:$Q$51,7,FALSE)","v":""},{"$f":"VLOOKUP($C31,'Test 7'!$A$12:$Q$51,3,FALSE)","v":""},{"$f":"VLOOKUP($C31,'Test 7'!$A$12:$Q$51,4,FALSE)","v":""},{"$f":"VLOOKUP($C31,'Test 7'!$A$12:$Q$51,5,FALSE)","v":"senior"},{"$f":"VLOOKUP($C31,'Test 7'!$A$12:$Q$51,13,FALSE)","v":"00:00:42.260"},{"$f":"VLOOKUP($C31,'Test 7'!$A$12:$Q$51,16,FALSE)","v":"00:07:04.470"}]
[{"$f":"IF(Pivots!BW23=\"(Blank)\",\"\",Pivots!BW23)","v":0},{"$f":"VLOOKUP($C32,'Test 7'!$A$12:$Q$51,15,FALSE)","v":15},{"$f":"IF(Pivots!BX23=\"(Blank)\",\"\",Pivots!BX23)","v":4},{"$f":"VLOOKUP($C32,'Test 7'!$A$12:$Q$51,2,FALSE)","v":"Michaela Ballard"},{"$f":"VLOOKUP($C32,'Test 7'!$A$12:$Q$51,7,FALSE)","v":""},{"$f":"VLOOKUP($C32,'Test 7'!$A$12:$Q$51,3,FALSE)","v":"rookie"},{"$f":"VLOOKUP($C32,'Test 7'!$A$12:$Q$51,4,FALSE)","v":"female"},{"$f":"VLOOKUP($C32,'Test 7'!$A$12:$Q$51,5,FALSE)","v":"senior"},{"$f":"VLOOKUP($C32,'Test 7'!$A$12:$Q$51,13,FALSE)","v":"00:00:41.250"},{"$f":"VLOOKUP($C32,'Test 7'!$A$12:$Q$51,16,FALSE)","v":"00:07:06.410"}]
[{"$f":"IF(Pivots!BW24=\"(Blank)\",\"\",Pivots!BW24)","v":0},{"$f":"VLOOKUP($C33,'Test 7'!$A$12:$Q$51,15,FALSE)","v":20},{"$f":"IF(Pivots!BX24=\"(Blank)\",\"\",Pivots!BX24)","v":7},{"$f":"VLOOKUP($C33,'Test 7'!$A$12:$Q$51,2,FALSE)","v":""},{"$f":"VLOOKUP($C33,'Test 7'!$A$12:$Q$51,7,FALSE)","v":""},{"$f":"VLOOKUP($C33,'Test 7'!$A$12:$Q$51,3,FALSE)","v":""},{"$f":"VLOOKUP($C33,'Test 7'!$A$12:$Q$51,4,FALSE)","v":""},{"$f":"VLOOKUP($C33,'Test 7'!$A$12:$Q$51,5,FALSE)","v":"senior"},{"$f":"VLOOKUP($C33,'Test 7'!$A$12:$Q$51,13,FALSE)","v":"00:00:55.750"},{"$f":"VLOOKUP($C33,'Test 7'!$A$12:$Q$51,16,FALSE)","v":"00:08:35.160"}]
[{"$f":"IF(Pivots!BW25=\"(Blank)\",\"\",Pivots!BW25)","v":0},{"$f":"VLOOKUP($C34,'Test 7'!$A$12:$Q$51,15,FALSE)","v":20},{"$f":"IF(Pivots!BX25=\"(Blank)\",\"\",Pivots!BX25)","v":22},{"$f":"VLOOKUP($C34,'Test 7'!$A$12:$Q$51,2,FALSE)","v":""},{"$f":"VLOOKUP($C34,'Test 7'!$A$12:$Q$51,7,FALSE)","v":""},{"$f":"VLOOKUP($C34,'Test 7'!$A$12:$Q$51,3,FALSE)","v":""},{"$f":"VLOOKUP($C34,'Test 7'!$A$12:$Q$51,4,FALSE)","v":""},{"$f":"VLOOKUP($C34,'Test 7'!$A$12:$Q$51,5,FALSE)","v":"senior"},{"$f":"VLOOKUP($C34,'Test 7'!$A$12:$Q$51,13,FALSE)","v":"00:00:55.750"},{"$f":"VLOOKUP($C34,'Test 7'!$A$12:$Q$51,16,FALSE)","v":"00:08:35.160"}]
[{"$f":"IF(Pivots!BW26=\"(Blank)\",\"\",Pivots!BW26)","v":0},{"$f":"VLOOKUP($C35,'Test 7'!$A$12:$Q$51,15,FALSE)","v":20},{"$f":"IF(Pivots!BX26=\"(Blank)\",\"\",Pivots!BX26)","v":23},{"$f":"VLOOKUP($C35,'Test 7'!$A$12:$Q$51,2,FALSE)","v":""},{"$f":"VLOOKUP($C35,'Test 7'!$A$12:$Q$51,7,FALSE)","v":""},{"$f":"VLOOKUP($C35,'Test 7'!$A$12:$Q$51,3,FALSE)","v":""},{"$f":"VLOOKUP($C35,'Test 7'!$A$12:$Q$51,4,FALSE)","v":""},{"$f":"VLOOKUP($C35,'Test 7'!$A$12:$Q$51,5,FALSE)","v":"senior"},{"$f":"VLOOKUP($C35,'Test 7'!$A$12:$Q$51,13,FALSE)","v":"00:00:55.750"},{"$f":"VLOOKUP($C35,'Test 7'!$A$12:$Q$51,16,FALSE)","v":"00:08:35.160"}]
[{"$f":"IF(Pivots!BW27=\"(Blank)\",\"\",Pivots!BW27)","v":0},{"$f":"VLOOKUP($C36,'Test 7'!$A$12:$Q$51,15,FALSE)","v":20},{"$f":"IF(Pivots!BX27=\"(Blank)\",\"\",Pivots!BX27)","v":24},{"$f":"VLOOKUP($C36,'Test 7'!$A$12:$Q$51,2,FALSE)","v":""},{"$f":"VLOOKUP($C36,'Test 7'!$A$12:$Q$51,7,FALSE)","v":""},{"$f":"VLOOKUP($C36,'Test 7'!$A$12:$Q$51,3,FALSE)","v":""},{"$f":"VLOOKUP($C36,'Test 7'!$A$12:$Q$51,4,FALSE)","v":""},{"$f":"VLOOKUP($C36,'Test 7'!$A$12:$Q$51,5,FALSE)","v":"senior"},{"$f":"VLOOKUP($C36,'Test 7'!$A$12:$Q$51,13,FALSE)","v":"00:00:55.750"},{"$f":"VLOOKUP($C36,'Test 7'!$A$12:$Q$51,16,FALSE)","v":"00:08:35.160"}]
[{"$f":"IF(Pivots!BW28=\"(Blank)\",\"\",Pivots!BW28)","v":0},{"$f":"VLOOKUP($C37,'Test 7'!$A$12:$Q$51,15,FALSE)","v":20},{"$f":"IF(Pivots!BX28=\"(Blank)\",\"\",Pivots!BX28)","v":21},{"$f":"VLOOKUP($C37,'Test 7'!$A$12:$Q$51,2,FALSE)","v":""},{"$f":"VLOOKUP($C37,'Test 7'!$A$12:$Q$51,7,FALSE)","v":""},{"$f":"VLOOKUP($C37,'Test 7'!$A$12:$Q$51,3,FALSE)","v":""},{"$f":"VLOOKUP($C37,'Test 7'!$A$12:$Q$51,4,FALSE)","v":""},{"$f":"VLOOKUP($C37,'Test 7'!$A$12:$Q$51,5,FALSE)","v":"senior"},{"$f":"VLOOKUP($C37,'Test 7'!$A$12:$Q$51,13,FALSE)","v":"00:00:55.750"},{"$f":"VLOOKUP($C37,'Test 7'!$A$12:$Q$51,16,FALSE)","v":"00:08:35.160"}]
[{"$f":"IF(Pivots!BW29=\"(Blank)\",\"\",Pivots!BW29)","v":0},{"$f":"VLOOKUP($C38,'Test 7'!$A$12:$Q$51,15,FALSE)","v":20},{"$f":"IF(Pivots!BX29=\"(Blank)\",\"\",Pivots!BX29)","v":25},{"$f":"VLOOKUP($C38,'Test 7'!$A$12:$Q$51,2,FALSE)","v":""},{"$f":"VLOOKUP($C38,'Test 7'!$A$12:$Q$51,7,FALSE)","v":""},{"$f":"VLOOKUP($C38,'Test 7'!$A$12:$Q$51,3,FALSE)","v":""},{"$f":"VLOOKUP($C38,'Test 7'!$A$12:$Q$51,4,FALSE)","v":""},{"$f":"VLOOKUP($C38,'Test 7'!$A$12:$Q$51,5,FALSE)","v":"senior"},{"$f":"VLOOKUP($C38,'Test 7'!$A$12:$Q$51,13,FALSE)","v":"00:00:55.750"},{"$f":"VLOOKUP($C38,'Test 7'!$A$12:$Q$51,16,FALSE)","v":"00:08:35.160"}]
[{"$f":"IF(Pivots!BW30=\"(Blank)\",\"\",Pivots!BW30)","v":0},{"$f":"VLOOKUP($C39,'Test 7'!$A$12:$Q$51,15,FALSE)","v":20},{"$f":"IF(Pivots!BX30=\"(Blank)\",\"\",Pivots!BX30)","v":26},{"$f":"VLOOKUP($C39,'Test 7'!$A$12:$Q$51,2,FALSE)","v":""},{"$f":"VLOOKUP($C39,'Test 7'!$A$12:$Q$51,7,FALSE)","v":""},{"$f":"VLOOKUP($C39,'Test 7'!$A$12:$Q$51,3,FALSE)","v":""},{"$f":"VLOOKUP($C39,'Test 7'!$A$12:$Q$51,4,FALSE)","v":""},{"$f":"VLOOKUP($C39,'Test 7'!$A$12:$Q$51,5,FALSE)","v":"senior"},{"$f":"VLOOKUP($C39,'Test 7'!$A$12:$Q$51,13,FALSE)","v":"00:00:55.750"},{"$f":"VLOOKUP($C39,'Test 7'!$A$12:$Q$51,16,FALSE)","v":"00:08:35.160"}]
[{"$f":"IF(Pivots!BW31=\"(Blank)\",\"\",Pivots!BW31)","v":0},{"$f":"VLOOKUP($C40,'Test 7'!$A$12:$Q$51,15,FALSE)","v":20},{"$f":"IF(Pivots!BX31=\"(Blank)\",\"\",Pivots!BX31)","v":27},{"$f":"VLOOKUP($C40,'Test 7'!$A$12:$Q$51,2,FALSE)","v":""},{"$f":"VLOOKUP($C40,'Test 7'!$A$12:$Q$51,7,FALSE)","v":""},{"$f":"VLOOKUP($C40,'Test 7'!$A$12:$Q$51,3,FALSE)","v":""},{"$f":"VLOOKUP($C40,'Test 7'!$A$12:$Q$51,4,FALSE)","v":""},{"$f":"VLOOKUP($C40,'Test 7'!$A$12:$Q$51,5,FALSE)","v":"senior"},{"$f":"VLOOKUP($C40,'Test 7'!$A$12:$Q$51,13,FALSE)","v":"00:00:55.750"},{"$f":"VLOOKUP($C40,'Test 7'!$A$12:$Q$51,16,FALSE)","v":"00:08:35.160"}]
[{"$f":"IF(Pivots!BW32=\"(Blank)\",\"\",Pivots!BW32)","v":0},{"$f":"VLOOKUP($C41,'Test 7'!$A$12:$Q$51,15,FALSE)","v":20},{"$f":"IF(Pivots!BX32=\"(Blank)\",\"\",Pivots!BX32)","v":28},{"$f":"VLOOKUP($C41,'Test 7'!$A$12:$Q$51,2,FALSE)","v":""},{"$f":"VLOOKUP($C41,'Test 7'!$A$12:$Q$51,7,FALSE)","v":""},{"$f":"VLOOKUP($C41,'Test 7'!$A$12:$Q$51,3,FALSE)","v":""},{"$f":"VLOOKUP($C41,'Test 7'!$A$12:$Q$51,4,FALSE)","v":""},{"$f":"VLOOKUP($C41,'Test 7'!$A$12:$Q$51,5,FALSE)","v":"senior"},{"$f":"VLOOKUP($C41,'Test 7'!$A$12:$Q$51,13,FALSE)","v":"00:00:55.750"},{"$f":"VLOOKUP($C41,'Test 7'!$A$12:$Q$51,16,FALSE)","v":"00:08:35.160"}]
[{"$f":"IF(Pivots!BW33=\"(Blank)\",\"\",Pivots!BW33)","v":0},{"$f":"VLOOKUP($C42,'Test 7'!$A$12:$Q$51,15,FALSE)","v":20},{"$f":"IF(Pivots!BX33=\"(Blank)\",\"\",Pivots!BX33)","v":29},{"$f":"VLOOKUP($C42,'Test 7'!$A$12:$Q$51,2,FALSE)","v":""},{"$f":"VLOOKUP($C42,'Test 7'!$A$12:$Q$51,7,FALSE)","v":""},{"$f":"VLOOKUP($C42,'Test 7'!$A$12:$Q$51,3,FALSE)","v":""},{"$f":"VLOOKUP($C42,'Test 7'!$A$12:$Q$51,4,FALSE)","v":""},{"$f":"VLOOKUP($C42,'Test 7'!$A$12:$Q$51,5,FALSE)","v":"senior"},{"$f":"VLOOKUP($C42,'Test 7'!$A$12:$Q$51,13,FALSE)","v":"00:00:55.750"},{"$f":"VLOOKUP($C42,'Test 7'!$A$12:$Q$51,16,FALSE)","v":"00:08:35.160"}]
[{"$f":"IF(Pivots!BW34=\"(Blank)\",\"\",Pivots!BW34)","v":0},{"$f":"VLOOKUP($C43,'Test 7'!$A$12:$Q$51,15,FALSE)","v":20},{"$f":"IF(Pivots!BX34=\"(Blank)\",\"\",Pivots!BX34)","v":30},{"$f":"VLOOKUP($C43,'Test 7'!$A$12:$Q$51,2,FALSE)","v":""},{"$f":"VLOOKUP($C43,'Test 7'!$A$12:$Q$51,7,FALSE)","v":""},{"$f":"VLOOKUP($C43,'Test 7'!$A$12:$Q$51,3,FALSE)","v":""},{"$f":"VLOOKUP($C43,'Test 7'!$A$12:$Q$51,4,FALSE)","v":""},{"$f":"VLOOKUP($C43,'Test 7'!$A$12:$Q$51,5,FALSE)","v":"senior"},{"$f":"VLOOKUP($C43,'Test 7'!$A$12:$Q$51,13,FALSE)","v":"00:00:55.750"},{"$f":"VLOOKUP($C43,'Test 7'!$A$12:$Q$51,16,FALSE)","v":"00:08:35.160"}]
[{"$f":"IF(Pivots!BW35=\"(Blank)\",\"\",Pivots!BW35)","v":0},{"$f":"VLOOKUP($C44,'Test 7'!$A$12:$Q$51,15,FALSE)","v":20},{"$f":"IF(Pivots!BX35=\"(Blank)\",\"\",Pivots!BX35)","v":31},{"$f":"VLOOKUP($C44,'Test 7'!$A$12:$Q$51,2,FALSE)","v":""},{"$f":"VLOOKUP($C44,'Test 7'!$A$12:$Q$51,7,FALSE)","v":""},{"$f":"VLOOKUP($C44,'Test 7'!$A$12:$Q$51,3,FALSE)","v":""},{"$f":"VLOOKUP($C44,'Test 7'!$A$12:$Q$51,4,FALSE)","v":""},{"$f":"VLOOKUP($C44,'Test 7'!$A$12:$Q$51,5,FALSE)","v":"senior"},{"$f":"VLOOKUP($C44,'Test 7'!$A$12:$Q$51,13,FALSE)","v":"00:00:55.750"},{"$f":"VLOOKUP($C44,'Test 7'!$A$12:$Q$51,16,FALSE)","v":"00:08:35.160"}]
[{"$f":"IF(Pivots!BW36=\"(Blank)\",\"\",Pivots!BW36)","v":0},{"$f":"VLOOKUP($C45,'Test 7'!$A$12:$Q$51,15,FALSE)","v":20},{"$f":"IF(Pivots!BX36=\"(Blank)\",\"\",Pivots!BX36)","v":32},{"$f":"VLOOKUP($C45,'Test 7'!$A$12:$Q$51,2,FALSE)","v":""},{"$f":"VLOOKUP($C45,'Test 7'!$A$12:$Q$51,7,FALSE)","v":""},{"$f":"VLOOKUP($C45,'Test 7'!$A$12:$Q$51,3,FALSE)","v":""},{"$f":"VLOOKUP($C45,'Test 7'!$A$12:$Q$51,4,FALSE)","v":""},{"$f":"VLOOKUP($C45,'Test 7'!$A$12:$Q$51,5,FALSE)","v":"senior"},{"$f":"VLOOKUP($C45,'Test 7'!$A$12:$Q$51,13,FALSE)","v":"00:00:55.750"},{"$f":"VLOOKUP($C45,'Test 7'!$A$12:$Q$51,16,FALSE)","v":"00:08:35.160"}]
[{"$f":"IF(Pivots!BW37=\"(Blank)\",\"\",Pivots!BW37)","v":0},{"$f":"VLOOKUP($C46,'Test 7'!$A$12:$Q$51,15,FALSE)","v":20},{"$f":"IF(Pivots!BX37=\"(Blank)\",\"\",Pivots!BX37)","v":33},{"$f":"VLOOKUP($C46,'Test 7'!$A$12:$Q$51,2,FALSE)","v":""},{"$f":"VLOOKUP($C46,'Test 7'!$A$12:$Q$51,7,FALSE)","v":""},{"$f":"VLOOKUP($C46,'Test 7'!$A$12:$Q$51,3,FALSE)","v":""},{"$f":"VLOOKUP($C46,'Test 7'!$A$12:$Q$51,4,FALSE)","v":""},{"$f":"VLOOKUP($C46,'Test 7'!$A$12:$Q$51,5,FALSE)","v":"senior"},{"$f":"VLOOKUP($C46,'Test 7'!$A$12:$Q$51,13,FALSE)","v":"00:00:55.750"},{"$f":"VLOOKUP($C46,'Test 7'!$A$12:$Q$51,16,FALSE)","v":"00:08:35.160"}]
[{"$f":"IF(Pivots!BW38=\"(Blank)\",\"\",Pivots!BW38)","v":0},{"$f":"VLOOKUP($C47,'Test 7'!$A$12:$Q$51,15,FALSE)","v":20},{"$f":"IF(Pivots!BX38=\"(Blank)\",\"\",Pivots!BX38)","v":34},{"$f":"VLOOKUP($C47,'Test 7'!$A$12:$Q$51,2,FALSE)","v":""},{"$f":"VLOOKUP($C47,'Test 7'!$A$12:$Q$51,7,FALSE)","v":""},{"$f":"VLOOKUP($C47,'Test 7'!$A$12:$Q$51,3,FALSE)","v":""},{"$f":"VLOOKUP($C47,'Test 7'!$A$12:$Q$51,4,FALSE)","v":""},{"$f":"VLOOKUP($C47,'Test 7'!$A$12:$Q$51,5,FALSE)","v":"senior"},{"$f":"VLOOKUP($C47,'Test 7'!$A$12:$Q$51,13,FALSE)","v":"00:00:55.750"},{"$f":"VLOOKUP($C47,'Test 7'!$A$12:$Q$51,16,FALSE)","v":"00:08:35.160"}]
[{"$f":"IF(Pivots!BW39=\"(Blank)\",\"\",Pivots!BW39)","v":0},{"$f":"VLOOKUP($C48,'Test 7'!$A$12:$Q$51,15,FALSE)","v":20},{"$f":"IF(Pivots!BX39=\"(Blank)\",\"\",Pivots!BX39)","v":35},{"$f":"VLOOKUP($C48,'Test 7'!$A$12:$Q$51,2,FALSE)","v":""},{"$f":"VLOOKUP($C48,'Test 7'!$A$12:$Q$51,7,FALSE)","v":""},{"$f":"VLOOKUP($C48,'Test 7'!$A$12:$Q$51,3,FALSE)","v":""},{"$f":"VLOOKUP($C48,'Test 7'!$A$12:$Q$51,4,FALSE)","v":""},{"$f":"VLOOKUP($C48,'Test 7'!$A$12:$Q$51,5,FALSE)","v":"senior"},{"$f":"VLOOKUP($C48,'Test 7'!$A$12:$Q$51,13,FALSE)","v":"00:00:55.750"},{"$f":"VLOOKUP($C48,'Test 7'!$A$12:$Q$51,16,FALSE)","v":"00:08:35.160"}]
[{"$f":"IF(Pivots!BW40=\"(Blank)\",\"\",Pivots!BW40)","v":0},{"$f":"VLOOKUP($C49,'Test 7'!$A$12:$Q$51,15,FALSE)","v":20},{"$f":"IF(Pivots!BX40=\"(Blank)\",\"\",Pivots!BX40)","v":36},{"$f":"VLOOKUP($C49,'Test 7'!$A$12:$Q$51,2,FALSE)","v":""},{"$f":"VLOOKUP($C49,'Test 7'!$A$12:$Q$51,7,FALSE)","v":""},{"$f":"VLOOKUP($C49,'Test 7'!$A$12:$Q$51,3,FALSE)","v":""},{"$f":"VLOOKUP($C49,'Test 7'!$A$12:$Q$51,4,FALSE)","v":""},{"$f":"VLOOKUP($C49,'Test 7'!$A$12:$Q$51,5,FALSE)","v":"senior"},{"$f":"VLOOKUP($C49,'Test 7'!$A$12:$Q$51,13,FALSE)","v":"00:00:55.750"},{"$f":"VLOOKUP($C49,'Test 7'!$A$12:$Q$51,16,FALSE)","v":"00:08:35.160"}]
[{"$f":"IF(Pivots!BW41=\"(Blank)\",\"\",Pivots!BW41)","v":0},{"$f":"VLOOKUP($C50,'Test 7'!$A$12:$Q$51,15,FALSE)","v":20},{"$f":"IF(Pivots!BX41=\"(Blank)\",\"\",Pivots!BX41)","v":37},{"$f":"VLOOKUP($C50,'Test 7'!$A$12:$Q$51,2,FALSE)","v":""},{"$f":"VLOOKUP($C50,'Test 7'!$A$12:$Q$51,7,FALSE)","v":""},{"$f":"VLOOKUP($C50,'Test 7'!$A$12:$Q$51,3,FALSE)","v":""},{"$f":"VLOOKUP($C50,'Test 7'!$A$12:$Q$51,4,FALSE)","v":""},{"$f":"VLOOKUP($C50,'Test 7'!$A$12:$Q$51,5,FALSE)","v":"senior"},{"$f":"VLOOKUP($C50,'Test 7'!$A$12:$Q$51,13,FALSE)","v":"00:00:55.750"},{"$f":"VLOOKUP($C50,'Test 7'!$A$12:$Q$51,16,FALSE)","v":"00:08:35.160"}]
[{"$f":"IF(Pivots!BW42=\"(Blank)\",\"\",Pivots!BW42)","v":0},{"$f":"VLOOKUP($C51,'Test 7'!$A$12:$Q$51,15,FALSE)","v":20},{"$f":"IF(Pivots!BX42=\"(Blank)\",\"\",Pivots!BX42)","v":38},{"$f":"VLOOKUP($C51,'Test 7'!$A$12:$Q$51,2,FALSE)","v":""},{"$f":"VLOOKUP($C51,'Test 7'!$A$12:$Q$51,7,FALSE)","v":""},{"$f":"VLOOKUP($C51,'Test 7'!$A$12:$Q$51,3,FALSE)","v":""},{"$f":"VLOOKUP($C51,'Test 7'!$A$12:$Q$51,4,FALSE)","v":""},{"$f":"VLOOKUP($C51,'Test 7'!$A$12:$Q$51,5,FALSE)","v":"senior"},{"$f":"VLOOKUP($C51,'Test 7'!$A$12:$Q$51,13,FALSE)","v":"00:00:55.750"},{"$f":"VLOOKUP($C51,'Test 7'!$A$12:$Q$51,16,FALSE)","v":"00:08:35.160"}]
[{"$f":"IF(Pivots!BW43=\"(Blank)\",\"\",Pivots!BW43)","v":0},{"$f":"VLOOKUP($C52,'Test 7'!$A$12:$Q$51,15,FALSE)","v":20},{"$f":"IF(Pivots!BX43=\"(Blank)\",\"\",Pivots!BX43)","v":39},{"$f":"VLOOKUP($C52,'Test 7'!$A$12:$Q$51,2,FALSE)","v":""},{"$f":"VLOOKUP($C52,'Test 7'!$A$12:$Q$51,7,FALSE)","v":""},{"$f":"VLOOKUP($C52,'Test 7'!$A$12:$Q$51,3,FALSE)","v":""},{"$f":"VLOOKUP($C52,'Test 7'!$A$12:$Q$51,4,FALSE)","v":""},{"$f":"VLOOKUP($C52,'Test 7'!$A$12:$Q$51,5,FALSE)","v":"senior"},{"$f":"VLOOKUP($C52,'Test 7'!$A$12:$Q$51,13,FALSE)","v":"00:00:55.750"},{"$f":"VLOOKUP($C52,'Test 7'!$A$12:$Q$51,16,FALSE)","v":"00:08:35.160"}]
[{"$f":"IF(Pivots!BW44=\"(Blank)\",\"\",Pivots!BW44)","v":0},{"$f":"VLOOKUP($C53,'Test 7'!$A$12:$Q$51,15,FALSE)","v":20},{"$f":"IF(Pivots!BX44=\"(Blank)\",\"\",Pivots!BX44)","v":40},{"$f":"VLOOKUP($C53,'Test 7'!$A$12:$Q$51,2,FALSE)","v":""},{"$f":"VLOOKUP($C53,'Test 7'!$A$12:$Q$51,7,FALSE)","v":""},{"$f":"VLOOKUP($C53,'Test 7'!$A$12:$Q$51,3,FALSE)","v":""},{"$f":"VLOOKUP($C53,'Test 7'!$A$12:$Q$51,4,FALSE)","v":""},{"$f":"VLOOKUP($C53,'Test 7'!$A$12:$Q$51,5,FALSE)","v":"senior"},{"$f":"VLOOKUP($C53,'Test 7'!$A$12:$Q$51,13,FALSE)","v":"00:00:55.750"},{"$f":"VLOOKUP($C53,'Test 7'!$A$12:$Q$51,16,FALSE)","v":"00:08:35.160"}]

{"sheet":"Print_Test 8","index":10,"n_rows":53,"n_cols":10,"rows_kept":53,"cut":false,"hidden":false,"merged":[[11,6,12,6],[11,7,12,7],[8,3,8,5],[9,3,9,5],[11,0,12,0],[11,1,12,1],[11,2,12,2],[11,3,12,3],[11,4,12,4],[11,5,12,5]]}
[]
[]
[]
[]
[]
[]
[]
[]
[null,null,null,"Provisional Results"]
[null,null,null,"Test 8"]
[]
["Outright Position","Test Position","Car Number","Driver","Class","Rookie?","Female?","Junior?","Test Time","Cumulative Time"]
[null,null,null,null,null,null,null,null,"(mm:ss.00)","(mm:ss.00)"]
[{"$f":"IF(Pivots!CH5=\"(Blank)\",\"\",Pivots!CH5)","v":0},{"$f":"VLOOKUP($C14,'Test 8'!$A$12:$Q$51,15,FALSE)","v":12},{"$f":"IF(Pivots!CI5=\"(Blank)\",\"\",Pivots!CI5)","v":17},{"$f":"VLOOKUP($C14,'Test 8'!$A$12:$Q$51,2,FALSE)","v":"Reece McIntosh"},{"$f":"VLOOKUP($C14,'Test 8'!$A$12:$Q$51,7,FALSE)","v":""},{"$f":"VLOOKUP($C14,'Test 8'!$A$12:$Q$51,3,FALSE)","v":""},{"$f":"VLOOKUP($C14,'Test 8'!$A$12:$Q$51,4,FALSE)","v":""},{"$f":"VLOOKUP($C14,'Test 8'!$A$12:$Q$51,5,FALSE)","v":"senior"},{"$f":"VLOOKUP($C14,'Test 8'!$A$12:$Q$51,13,FALSE)","v":"00:00:53.280"},{"$f":"VLOOKUP($C14,'Test 8'!$A$12:$Q$51,16,FALSE)","v":"00:06:15.850"}]
[{"$f":"IF(Pivots!CH6=\"(Blank)\",\"\",Pivots!CH6)","v":0},{"$f":"VLOOKUP($C15,'Test 8'!$A$12:$Q$51,15,FALSE)","v":1},{"$f":"IF(Pivots!CI6=\"(Blank)\",\"\",Pivots!CI6)","v":1},{"$f":"VLOOKUP($C15,'Test 8'!$A$12:$Q$51,2,FALSE)","v":"Paul Dunn"},{"$f":"VLOOKUP($C15,'Test 8'!$A$12:$Q$51,7,FALSE)","v":""},{"$f":"VLOOKUP($C15,'Test 8'!$A$12:$Q$51,3,FALSE)","v":""},{"$f":"VLOOKUP($C15,'Test 8'!$A$12:$Q$51,4,FALSE)","v":""},{"$f":"VLOOKUP($C15,'Test 8'!$A$12:$Q$51,5,FALSE)","v":"senior"},{"$f":"VLOOKUP($C15,'Test 8'!$A$12:$Q$51,13,FALSE)","v":"00:00:45.890"},{"$f":"VLOOKUP($C15,'Test 8'!$A$12:$Q$51,16,FALSE)","v":"00:06:26.200"}]
[{"$f":"IF(Pivots!CH7=\"(Blank)\",\"\",Pivots!CH7)","v":0},{"$f":"VLOOKUP($C16,'Test 8'!$A$12:$Q$51,15,FALSE)","v":4},{"$f":"IF(Pivots!CI7=\"(Blank)\",\"\",Pivots!CI7)","v":9},{"$f":"VLOOKUP($C16,'Test 8'!$A$12:$Q$51,2,FALSE)","v":"Brad Firman"},{"$f":"VLOOKUP($C16,'Test 8'!$A$12:$Q$51,7,FALSE)","v":""},{"$f":"VLOOKUP($C16,'Test 8'!$A$12:$Q$51,3,FALSE)","v":""},{"$f":"VLOOKUP($C16,'Test 8'!$A$12:$Q$51,4,FALSE)","v":""},{"$f":"VLOOKUP($C16,'Test 8'!$A$12:$Q$51,5,FALSE)","v":"senior"},{"$f":"VLOOKUP($C16,'Test 8'!$A$12:$Q$51,13,FALSE)","v":"00:00:47.930"},{"$f":"VLOOKUP($C16,'Test 8'!$A$12:$Q$51,16,FALSE)","v":"00:06:29.140"}]
[{"$f":"IF(Pivots!CH8=\"(Blank)\",\"\",Pivots!CH8)","v":0},{"$f":"VLOOKUP($C17,'Test 8'!$A$12:$Q$51,15,FALSE)","v":3},{"$f":"IF(Pivots!CI8=\"(Blank)\",\"\",Pivots!CI8)","v":14},{"$f":"VLOOKUP($C17,'Test 8'!$A$12:$Q$51,2,FALSE)","v":"Bob Fulthorpe"},{"$f":"VLOOKUP($C17,'Test 8'!$A$12:$Q$51,7,FALSE)","v":""},{"$f":"VLOOKUP($C17,'Test 8'!$A$12:$Q$51,3,FALSE)","v":""},{"$f":"VLOOKUP($C17,'Test 8'!$A$12:$Q$51,4,FALSE)","v":""},{"$f":"VLOOKUP($C17,'Test 8'!$A$12:$Q$51,5,FALSE)","v":"senior"},{"$f":"VLOOKUP($C17,'Test 8'!$A$12:$Q$51,13,FALSE)","v":"00:00:47.480"},{"$f":"VLOOKUP($C17,'Test 8'!$A$12:$Q$51,16,FALSE)","v":"00:06:36.290"}]
[{"$f":"IF(Pivots!CH9=\"(Blank)\",\"\",Pivots!CH9)","v":0},{"$f":"VLOOKUP($C18,'Test 8'!$A$12:$Q$51,15,FALSE)","v":2},{"$f":"IF(Pivots!CI9=\"(Blank)\",\"\",Pivots!CI9)","v":2},{"$f":"VLOOKUP($C18,'Test 8'!$A$12:$Q$51,2,FALSE)","v":"Stephen Thorne"},{"$f":"VLOOKUP($C18,'Test 8'!$A$12:$Q$51,7,FALSE)","v":""},{"$f":"VLOOKUP($C18,'Test 8'!$A$12:$Q$51,3,FALSE)","v":""},{"$f":"VLOOKUP($C18,'Test 8'!$A$12:$Q$51,4,FALSE)","v":""},{"$f":"VLOOKUP($C18,'Test 8'!$A$12:$Q$51,5,FALSE)","v":"senior"},{"$f":"VLOOKUP($C18,'Test 8'!$A$12:$Q$51,13,FALSE)","v":"00:00:46.650"},{"$f":"VLOOKUP($C18,'Test 8'!$A$12:$Q$51,16,FALSE)","v":"00:06:49.200"}]
[{"$f":"IF(Pivots!CH10=\"(Blank)\",\"\",Pivots!CH10)","v":0},{"$f":"VLOOKUP($C19,'Test 8'!$A$12:$Q$51,15,FALSE)","v":5},{"$f":"IF(Pivots!CI10=\"(Blank)\",\"\",Pivots!CI10)","v":16},{"$f":"VLOOKUP($C19,'Test 8'!$A$12:$Q$51,2,FALSE)","v":"Nathan Senior"},{"$f":"VLOOKUP($C19,'Test 8'!$A$12:$Q$51,7,FALSE)","v":""},{"$f":"VLOOKUP($C19,'Test 8'!$A$12:$Q$51,3,FALSE)","v":""},{"$f":"VLOOKUP($C19,'Test 8'!$A$12:$Q$51,4,FALSE)","v":""},{"$f":"VLOOKUP($C19,'Test 8'!$A$12:$Q$51,5,FALSE)","v":"senior"},{"$f":"VLOOKUP($C19,'Test 8'!$A$12:$Q$51,13,FALSE)","v":"00:00:49.290"},{"$f":"VLOOKUP($C19,'Test 8'!$A$12:$Q$51,16,FALSE)","v":"00:06:51.870"}]
[{"$f":"IF(Pivots!CH11=\"(Blank)\",\"\",Pivots!CH11)","v":0},{"$f":"VLOOKUP($C20,'Test 8'!$A$12:$Q$51,15,FALSE)","v":6},{"$f":"IF(Pivots!CI11=\"(Blank)\",\"\",Pivots!CI11)","v":20},{"$f":"VLOOKUP($C20,'Test 8'!$A$12:$Q$51,2,FALSE)","v":"Ray Lampl"},{"$f":"VLOOKUP($C20,'Test 8'!$A$12:$Q$51,7,FALSE)","v":""},{"$f":"VLOOKUP($C20,'Test 8'!$A$12:$Q$51,3,FALSE)","v":""},{"$f":"VLOOKUP($C20,'Test 8'!$A$12:$Q$51,4,FALSE)","v":""},{"$f":"VLOOKUP($C20,'Test 8'!$A$12:$Q$51,5,FALSE)","v":"senior"},{"$f":"VLOOKUP($C20,'Test 8'!$A$12:$Q$51,13,FALSE)","v":"00:00:49.410"},{"$f":"VLOOKUP($C20,'Test 8'!$A$12:$Q$51,16,FALSE)","v":"00:06:55.200"}]
[{"$f":"IF(Pivots!CH12=\"(Blank)\",\"\",Pivots!CH12)","v":0},{"$f":"VLOOKUP($C21,'Test 8'!$A$12:$Q$51,15,FALSE)","v":10},{"$f":"IF(Pivots!CI12=\"(Blank)\",\"\",Pivots!CI12)","v":5},{"$f":"VLOOKUP($C21,'Test 8'!$A$12:$Q$51,2,FALSE)","v":"Janelle Ballard"},{"$f":"VLOOKUP($C21,'Test 8'!$A$12:$Q$51,7,FALSE)","v":""},{"$f":"VLOOKUP($C21,'Test 8'!$A$12:$Q$51,3,FALSE)","v":""},{"$f":"VLOOKUP($C21,'Test 8'!$A$12:$Q$51,4,FALSE)","v":"female"},{"$f":"VLOOKUP($C21,'Test 8'!$A$12:$Q$51,5,FALSE)","v":"senior"},{"$f":"VLOOKUP($C21,'Test 8'!$A$12:$Q$51,13,FALSE)","v":"00:00:52.140"},{"$f":"VLOOKUP($C21,'Test 8'!$A$12:$Q$51,16,FALSE)","v":"00:07:03.480"}]
[{"$f":"IF(Pivots!CH13=\"(Blank)\",\"\",Pivots!CH13)","v":0},{"$f":"VLOOKUP($C22,'Test 8'!$A$12:$Q$51,15,FALSE)","v":17},{"$f":"IF(Pivots!CI13=\"(Blank)\",\"\",Pivots!CI13)","v":19},{"$f":"VLOOKUP($C22,'Test 8'!$A$12:$Q$51,2,FALSE)","v":"Christopher Northey"},{"$f":"VLOOKUP($C22,'Test 8'!$A$12:$Q$51,7,FALSE)","v":""},{"$f":"VLOOKUP($C22,'Test 8'!$A$12:$Q$51,3,FALSE)","v":""},{"$f":"VLOOKUP($C22,'Test 8'!$A$12:$Q$51,4,FALSE)","v":""},{"$f":"VLOOKUP($C22,'Test 8'!$A$12:$Q$51,5,FALSE)","v":"senior"},{"$f":"VLOOKUP($C22,'Test 8'!$A$12:$Q$51,13,FALSE)","v":"00:00:54.310"},{"$f":"VLOOKUP($C22,'Test 8'!$A$12:$Q$51,16,FALSE)","v":"00:07:08.490"}]
[{"$f":"IF(Pivots!CH14=\"(Blank)\",\"\",Pivots!CH14)","v":0},{"$f":"VLOOKUP($C23,'Test 8'!$A$12:$Q$51,15,FALSE)","v":9},{"$f":"IF(Pivots!CI14=\"(Blank)\",\"\",Pivots!CI14)","v":15},{"$f":"VLOOKUP($C23,'Test 8'!$A$12:$Q$51,2,FALSE)","v":"Khi Fulthorpe"},{"$f":"VLOOKUP($C23,'Test 8'!$A$12:$Q$51,7,FALSE)","v":""},{"$f":"VLOOKUP($C23,'Test 8'!$A$12:$Q$51,3,FALSE)","v":""},{"$f":"VLOOKUP($C23,'Test 8'!$A$12:$Q$51,4,FALSE)","v":""},{"$f":"VLOOKUP($C23,'Test 8'!$A$12:$Q$51,5,FALSE)","v":"senior"},{"$f":"VLOOKUP($C23,'Test 8'!$A$12:$Q$51,13,FALSE)","v":"00:00:51.820"},{"$f":"VLOOKUP($C23,'Test 8'!$A$12:$Q$51,16,FALSE)","v":"00:07:12.700"}]
[{"$f":"IF(Pivots!CH15=\"(Blank)\",\"\",Pivots!CH15)","v":0},{"$f":"VLOOKUP($C24,'Test 8'!$A$12:$Q$51,15,FALSE)","v":14},{"$f":"IF(Pivots!CI15=\"(Blank)\",\"\",Pivots!CI15)","v":8},{"$f":"VLOOKUP($C24,'Test 8'!$A$12:$Q$51,2,FALSE)","v":"Jim Taylor"},{"$f":"VLOOKUP($C24,'Test 8'!$A$12:$Q$51,7,FALSE)","v":""},{"$f":"VLOOKUP($C24,'Test 8'!$A$12:$Q$51,3,FALSE)","v":""},{"$f":"VLOOKUP($C24,'Test 8'!$A$12:$Q$51,4,FALSE)","v":""},{"$f":"VLOOKUP($C24,'Test 8'!$A$12:$Q$51,5,FALSE)","v":"senior"},{"$f":"VLOOKUP($C24,'Test 8'!$A$12:$Q$51,13,FALSE)","v":"00:00:53.770"},{"$f":"VLOOKUP($C24,'Test 8'!$A$12:$Q$51,16,FALSE)","v":"00:07:14.450"}]
[{"$f":"IF(Pivots!CH16=\"(Blank)\",\"\",Pivots!CH16)","v":0},{"$f":"VLOOKUP($C25,'Test 8'!$A$12:$Q$51,15,FALSE)","v":7},{"$f":"IF(Pivots!CI16=\"(Blank)\",\"\",Pivots!CI16)","v":3},{"$f":"VLOOKUP($C25,'Test 8'!$A$12:$Q$51,2,FALSE)","v":"David Ballard"},{"$f":"VLOOKUP($C25,'Test 8'!$A$12:$Q$51,7,FALSE)","v":""},{"$f":"VLOOKUP($C25,'Test 8'!$A$12:$Q$51,3,FALSE)","v":""},{"$f":"VLOOKUP($C25,'Test 8'!$A$12:$Q$51,4,FALSE)","v":""},{"$f":"VLOOKUP($C25,'Test 8'!$A$12:$Q$51,5,FALSE)","v":"senior"},{"$f":"VLOOKUP($C25,'Test 8'!$A$12:$Q$51,13,FALSE)","v":"00:00:50.120"},{"$f":"VLOOKUP($C25,'Test 8'!$A$12:$Q$51,16,FALSE)","v":"00:07:22.030"}]
[{"$f":"IF(Pivots!CH17=\"(Blank)\",\"\",Pivots!CH17)","v":0},{"$f":"VLOOKUP($C26,'Test 8'!$A$12:$Q$51,15,FALSE)","v":11},{"$f":"IF(Pivots!CI17=\"(Blank)\",\"\",Pivots!CI17)","v":11},{"$f":"VLOOKUP($C26,'Test 8'!$A$12:$Q$51,2,FALSE)","v":"Russel McKinley"},{"$f":"VLOOKUP($C26,'Test 8'!$A$12:$Q$51,7,FALSE)","v":""},{"$f":"VLOOKUP($C26,'Test 8'!$A$12:$Q$51,3,FALSE)","v":""},{"$f":"VLOOKUP($C26,'Test 8'!$A$12:$Q$51,4,FALSE)","v":""},{"$f":"VLOOKUP($C26,'Test 8'!$A$12:$Q$51,5,FALSE)","v":"senior"},{"$f":"VLOOKUP($C26,'Test 8'!$A$12:$Q$51,13,FALSE)","v":"00:00:52.850"},{"$f":"VLOOKUP($C26,'Test 8'!$A$12:$Q$51,16,FALSE)","v":"00:07:22.390"}]
[{"$f":"IF(Pivots!CH18=\"(Blank)\",\"\",Pivots!CH18)","v":0},{"$f":"VLOOKUP($C27,'Test 8'!$A$12:$Q$51,15,FALSE)","v":8},{"$f":"IF(Pivots!CI18=\"(Blank)\",\"\",Pivots!CI18)","v":10},{"$f":"VLOOKUP($C27,'Test 8'!$A$12:$Q$51,2,FALSE)","v":"Scott Taylor"},{"$f":"VLOOKUP($C27,'Test 8'!$A$12:$Q$51,7,FALSE)","v":""},{"$f":"VLOOKUP($C27,'Test 8'!$A$12:$Q$51,3,FALSE)","v":""},{"$f":"VLOOKUP($C27,'Test 8'!$A$12:$Q$51,4,FALSE)","v":""},{"$f":"VLOOKUP($C27,'Test 8'!$A$12:$Q$51,5,FALSE)","v":"senior"},{"$f":"VLOOKUP($C27,'Test 8'!$A$12:$Q$51,13,FALSE)","v":"00:00:50.160"},{"$f":"VLOOKUP($C27,'Test 8'!$A$12:$Q$51,16,FALSE)","v":"00:07:23.160"}]
[{"$f":"IF(Pivots!CH19=\"(Blank)\",\"\",Pivots!CH19)","v":0},{"$f":"VLOOKUP($C28,'Test 8'!$A$12:$Q$51,15,FALSE)","v":40},{"$f":"IF(Pivots!CI19=\"(Blank)\",\"\",Pivots!CI19)","v":12},{"$f":"VLOOKUP($C28,'Test 8'!$A$12:$Q$51,2,FALSE)","v":"Mat Boorman"},{"$f":"VLOOKUP($C28,'Test 8'!$A$12:$Q$51,7,FALSE)","v":""},{"$f":"VLOOKUP($C28,'Test 8'!$A$12:$Q$51,3,FALSE)","v":""},{"$f":"VLOOKUP($C28,'Test 8'!$A$12:$Q$51,4,FALSE)","v":""},{"$f":"VLOOKUP($C28,'Test 8'!$A$12:$Q$51,5,FALSE)","v":"senior"},{"$f":"VLOOKUP($C28,'Test 8'!$A$12:$Q$51,13,FALSE)","v":"00:01:07.080"},{"$f":"VLOOKUP($C28,'Test 8'!$A$12:$Q$51,16,FALSE)","v":"00:07:27.820"}]
[{"$f":"IF(Pivots!CH20=\"(Blank)\",\"\",Pivots!CH20)","v":0},{"$f":"VLOOKUP($C29,'Test 8'!$A$12:$Q$51,15,FALSE)","v":16},{"$f":"IF(Pivots!CI20=\"(Blank)\",\"\",Pivots!CI20)","v":6},{"$f":"VLOOKUP($C29,'Test 8'!$A$12:$Q$51,2,FALSE)","v":"Issac Wishart"},{"$f":"VLOOKUP($C29,'Test 8'!$A$12:$Q$51,7,FALSE)","v":""},{"$f":"VLOOKUP($C29,'Test 8'!$A$12:$Q$51,3,FALSE)","v":"rookie"},{"$f":"VLOOKUP($C29,'Test 8'!$A$12:$Q$51,4,FALSE)","v":""},{"$f":"VLOOKUP($C29,'Test 8'!$A$12:$Q$51,5,FALSE)","v":"senior"},{"$f":"VLOOKUP($C29,'Test 8'!$A$12:$Q$51,13,FALSE)","v":"00:00:54.280"},{"$f":"VLOOKUP($C29,'Test 8'!$A$12:$Q$51,16,FALSE)","v":"00:07:42.310"}]
[{"$f":"IF(Pivots!CH21=\"(Blank)\",\"\",Pivots!CH21)","v":0},{"$f":"VLOOKUP($C30,'Test 8'!$A$12:$Q$51,15,FALSE)","v":15},{"$f":"IF(Pivots!CI21=\"(Blank)\",\"\",Pivots!CI21)","v":18},{"$f":"VLOOKUP($C30,'Test 8'!$A$12:$Q$51,2,FALSE)","v":"Jack Stanley"},{"$f":"VLOOKUP($C30,'Test 8'!$A$12:$Q$51,7,FALSE)","v":""},{"$f":"VLOOKUP($C30,'Test 8'!$A$12:$Q$51,3,FALSE)","v":"rookie"},{"$f":"VLOOKUP($C30,'Test 8'!$A$12:$Q$51,4,FALSE)","v":""},{"$f":"VLOOKUP($C30,'Test 8'!$A$12:$Q$51,5,FALSE)","v":"senior"},{"$f":"VLOOKUP($C30,'Test 8'!$A$12:$Q$51,13,FALSE)","v":"00:00:53.950"},{"$f":"VLOOKUP($C30,'Test 8'!$A$12:$Q$51,16,FALSE)","v":"00:07:53.100"}]
[{"$f":"IF(Pivots!CH22=\"(Blank)\",\"\",Pivots!CH22)","v":0},{"$f":"VLOOKUP($C31,'Test 8'!$A$12:$Q$51,15,FALSE)","v":13},{"$f":"IF(Pivots!CI22=\"(Blank)\",\"\",Pivots!CI22)","v":13},{"$f":"VLOOKUP($C31,'Test 8'!$A$12:$Q$51,2,FALSE)","v":"Aaron Wishart"},{"$f":"VLOOKUP($C31,'Test 8'!$A$12:$Q$51,7,FALSE)","v":""},{"$f":"VLOOKUP($C31,'Test 8'!$A$12:$Q$51,3,FALSE)","v":""},{"$f":"VLOOKUP($C31,'Test 8'!$A$12:$Q$51,4,FALSE)","v":""},{"$f":"VLOOKUP($C31,'Test 8'!$A$12:$Q$51,5,FALSE)","v":"senior"},{"$f":"VLOOKUP($C31,'Test 8'!$A$12:$Q$51,13,FALSE)","v":"00:00:53.550"},{"$f":"VLOOKUP($C31,'Test 8'!$A$12:$Q$51,16,FALSE)","v":"00:07:58.020"}]
[{"$f":"IF(Pivots!CH23=\"(Blank)\",\"\",Pivots!CH23)","v":0},{"$f":"VLOOKUP($C32,'Test 8'!$A$12:$Q$51,15,FALSE)","v":18},{"$f":"IF(Pivots!CI23=\"(Blank)\",\"\",Pivots!CI23)","v":4},{"$f":"VLOOKUP($C32,'Test 8'!$A$12:$Q$51,2,FALSE)","v":"Michaela Ballard"},{"$f":"VLOOKUP($C32,'Test 8'!$A$12:$Q$51,7,FALSE)","v":""},{"$f":"VLOOKUP($C32,'Test 8'!$A$12:$Q$51,3,FALSE)","v":"rookie"},{"$f":"VLOOKUP($C32,'Test 8'!$A$12:$Q$51,4,FALSE)","v":"female"},{"$f":"VLOOKUP($C32,'Test 8'!$A$12:$Q$51,5,FALSE)","v":"senior"},{"$f":"VLOOKUP($C32,'Test 8'!$A$12:$Q$51,13,FALSE)","v":"00:01:02.170"},{"$f":"VLOOKUP($C32,'Test 8'!$A$12:$Q$51,16,FALSE)","v":"00:08:08.580"}]
[{"$f":"IF(Pivots!CH24=\"(Blank)\",\"\",Pivots!CH24)","v":0},{"$f":"VLOOKUP($C33,'Test 8'!$A$12:$Q$51,15,FALSE)","v":19},{"$f":"IF(Pivots!CI24=\"(Blank)\",\"\",Pivots!CI24)","v":7},{"$f":"VLOOKUP($C33,'Test 8'!$A$12:$Q$51,2,FALSE)","v":""},{"$f":"VLOOKUP($C33,'Test 8'!$A$12:$Q$51,7,FALSE)","v":""},{"$f":"VLOOKUP($C33,'Test 8'!$A$12:$Q$51,3,FALSE)","v":""},{"$f":"VLOOKUP($C33,'Test 8'!$A$12:$Q$51,4,FALSE)","v":""},{"$f":"VLOOKUP($C33,'Test 8'!$A$12:$Q$51,5,FALSE)","v":"senior"},{"$f":"VLOOKUP($C33,'Test 8'!$A$12:$Q$51,13,FALSE)","v":"00:01:04.310"},{"$f":"VLOOKUP($C33,'Test 8'!$A$12:$Q$51,16,FALSE)","v":"00:09:39.470"}]
[{"$f":"IF(Pivots!CH25=\"(Blank)\",\"\",Pivots!CH25)","v":0},{"$f":"VLOOKUP($C34,'Test 8'!$A$12:$Q$51,15,FALSE)","v":19},{"$f":"IF(Pivots!CI25=\"(Blank)\",\"\",Pivots!CI25)","v":22},{"$f":"VLOOKUP($C34,'Test 8'!$A$12:$Q$51,2,FALSE)","v":""},{"$f":"VLOOKUP($C34,'Test 8'!$A$12:$Q$51,7,FALSE)","v":""},{"$f":"VLOOKUP($C34,'Test 8'!$A$12:$Q$51,3,FALSE)","v":""},{"$f":"VLOOKUP($C34,'Test 8'!$A$12:$Q$51,4,FALSE)","v":""},{"$f":"VLOOKUP($C34,'Test 8'!$A$12:$Q$51,5,FALSE)","v":"senior"},{"$f":"VLOOKUP($C34,'Test 8'!$A$12:$Q$51,13,FALSE)","v":"00:01:04.310"},{"$f":"VLOOKUP($C34,'Test 8'!$A$12:$Q$51,16,FALSE)","v":"00:09:39.470"}]
[{"$f":"IF(Pivots!CH26=\"(Blank)\",\"\",Pivots!CH26)","v":0},{"$f":"VLOOKUP($C35,'Test 8'!$A$12:$Q$51,15,FALSE)","v":19},{"$f":"IF(Pivots!CI26=\"(Blank)\",\"\",Pivots!CI26)","v":23},{"$f":"VLOOKUP($C35,'Test 8'!$A$12:$Q$51,2,FALSE)","v":""},{"$f":"VLOOKUP($C35,'Test 8'!$A$12:$Q$51,7,FALSE)","v":""},{"$f":"VLOOKUP($C35,'Test 8'!$A$12:$Q$51,3,FALSE)","v":""},{"$f":"VLOOKUP($C35,'Test 8'!$A$12:$Q$51,4,FALSE)","v":""},{"$f":"VLOOKUP($C35,'Test 8'!$A$12:$Q$51,5,FALSE)","v":"senior"},{"$f":"VLOOKUP($C35,'Test 8'!$A$12:$Q$51,13,FALSE)","v":"00:01:04.310"},{"$f":"VLOOKUP($C35,'Test 8'!$A$12:$Q$51,16,FALSE)","v":"00:09:39.470"}]
[{"$f":"IF(Pivots!CH27=\"(Blank)\",\"\",Pivots!CH27)","v":0},{"$f":"VLOOKUP($C36,'Test 8'!$A$12:$Q$51,15,FALSE)","v":19},{"$f":"IF(Pivots!CI27=\"(Blank)\",\"\",Pivots!CI27)","v":24},{"$f":"VLOOKUP($C36,'Test 8'!$A$12:$Q$51,2,FALSE)","v":""},{"$f":"VLOOKUP($C36,'Test 8'!$A$12:$Q$51,7,FALSE)","v":""},{"$f":"VLOOKUP($C36,'Test 8'!$A$12:$Q$51,3,FALSE)","v":""},{"$f":"VLOOKUP($C36,'Test 8'!$A$12:$Q$51,4,FALSE)","v":""},{"$f":"VLOOKUP($C36,'Test 8'!$A$12:$Q$51,5,FALSE)","v":"senior"},{"$f":"VLOOKUP($C36,'Test 8'!$A$12:$Q$51,13,FALSE)","v":"00:01:04.310"},{"$f":"VLOOKUP($C36,'Test 8'!$A$12:$Q$51,16,FALSE)","v":"00:09:39.470"}]
[{"$f":"IF(Pivots!CH28=\"(Blank)\",\"\",Pivots!CH28)","v":0},{"$f":"VLOOKUP($C37,'Test 8'!$A$12:$Q$51,15,FALSE)","v":19},{"$f":"IF(Pivots!CI28=\"(Blank)\",\"\",Pivots!CI28)","v":21},{"$f":"VLOOKUP($C37,'Test 8'!$A$12:$Q$51,2,FALSE)","v":""},{"$f":"VLOOKUP($C37,'Test 8'!$A$12:$Q$51,7,FALSE)","v":""},{"$f":"VLOOKUP($C37,'Test 8'!$A$12:$Q$51,3,FALSE)","v":""},{"$f":"VLOOKUP($C37,'Test 8'!$A$12:$Q$51,4,FALSE)","v":""},{"$f":"VLOOKUP($C37,'Test 8'!$A$12:$Q$51,5,FALSE)","v":"senior"},{"$f":"VLOOKUP($C37,'Test 8'!$A$12:$Q$51,13,FALSE)","v":"00:01:04.310"},{"$f":"VLOOKUP($C37,'Test 8'!$A$12:$Q$51,16,FALSE)","v":"00:09:39.470"}]
[{"$f":"IF(Pivots!CH29=\"(Blank)\",\"\",Pivots!CH29)","v":0},{"$f":"VLOOKUP($C38,'Test 8'!$A$12:$Q$51,15,FALSE)","v":19},{"$f":"IF(Pivots!CI29=\"(Blank)\",\"\",Pivots!CI29)","v":25},{"$f":"VLOOKUP($C38,'Test 8'!$A$12:$Q$51,2,FALSE)","v":""},{"$f":"VLOOKUP($C38,'Test 8'!$A$12:$Q$51,7,FALSE)","v":""},{"$f":"VLOOKUP($C38,'Test 8'!$A$12:$Q$51,3,FALSE)","v":""},{"$f":"VLOOKUP($C38,'Test 8'!$A$12:$Q$51,4,FALSE)","v":""},{"$f":"VLOOKUP($C38,'Test 8'!$A$12:$Q$51,5,FALSE)","v":"senior"},{"$f":"VLOOKUP($C38,'Test 8'!$A$12:$Q$51,13,FALSE)","v":"00:01:04.310"},{"$f":"VLOOKUP($C38,'Test 8'!$A$12:$Q$51,16,FALSE)","v":"00:09:39.470"}]
[{"$f":"IF(Pivots!CH30=\"(Blank)\",\"\",Pivots!CH30)","v":0},{"$f":"VLOOKUP($C39,'Test 8'!$A$12:$Q$51,15,FALSE)","v":19},{"$f":"IF(Pivots!CI30=\"(Blank)\",\"\",Pivots!CI30)","v":26},{"$f":"VLOOKUP($C39,'Test 8'!$A$12:$Q$51,2,FALSE)","v":""},{"$f":"VLOOKUP($C39,'Test 8'!$A$12:$Q$51,7,FALSE)","v":""},{"$f":"VLOOKUP($C39,'Test 8'!$A$12:$Q$51,3,FALSE)","v":""},{"$f":"VLOOKUP($C39,'Test 8'!$A$12:$Q$51,4,FALSE)","v":""},{"$f":"VLOOKUP($C39,'Test 8'!$A$12:$Q$51,5,FALSE)","v":"senior"},{"$f":"VLOOKUP($C39,'Test 8'!$A$12:$Q$51,13,FALSE)","v":"00:01:04.310"},{"$f":"VLOOKUP($C39,'Test 8'!$A$12:$Q$51,16,FALSE)","v":"00:09:39.470"}]
[{"$f":"IF(Pivots!CH31=\"(Blank)\",\"\",Pivots!CH31)","v":0},{"$f":"VLOOKUP($C40,'Test 8'!$A$12:$Q$51,15,FALSE)","v":19},{"$f":"IF(Pivots!CI31=\"(Blank)\",\"\",Pivots!CI31)","v":27},{"$f":"VLOOKUP($C40,'Test 8'!$A$12:$Q$51,2,FALSE)","v":""},{"$f":"VLOOKUP($C40,'Test 8'!$A$12:$Q$51,7,FALSE)","v":""},{"$f":"VLOOKUP($C40,'Test 8'!$A$12:$Q$51,3,FALSE)","v":""},{"$f":"VLOOKUP($C40,'Test 8'!$A$12:$Q$51,4,FALSE)","v":""},{"$f":"VLOOKUP($C40,'Test 8'!$A$12:$Q$51,5,FALSE)","v":"senior"},{"$f":"VLOOKUP($C40,'Test 8'!$A$12:$Q$51,13,FALSE)","v":"00:01:04.310"},{"$f":"VLOOKUP($C40,'Test 8'!$A$12:$Q$51,16,FALSE)","v":"00:09:39.470"}]
[{"$f":"IF(Pivots!CH32=\"(Blank)\",\"\",Pivots!CH32)","v":0},{"$f":"VLOOKUP($C41,'Test 8'!$A$12:$Q$51,15,FALSE)","v":19},{"$f":"IF(Pivots!CI32=\"(Blank)\",\"\",Pivots!CI32)","v":28},{"$f":"VLOOKUP($C41,'Test 8'!$A$12:$Q$51,2,FALSE)","v":""},{"$f":"VLOOKUP($C41,'Test 8'!$A$12:$Q$51,7,FALSE)","v":""},{"$f":"VLOOKUP($C41,'Test 8'!$A$12:$Q$51,3,FALSE)","v":""},{"$f":"VLOOKUP($C41,'Test 8'!$A$12:$Q$51,4,FALSE)","v":""},{"$f":"VLOOKUP($C41,'Test 8'!$A$12:$Q$51,5,FALSE)","v":"senior"},{"$f":"VLOOKUP($C41,'Test 8'!$A$12:$Q$51,13,FALSE)","v":"00:01:04.310"},{"$f":"VLOOKUP($C41,'Test 8'!$A$12:$Q$51,16,FALSE)","v":"00:09:39.470"}]
[{"$f":"IF(Pivots!CH33=\"(Blank)\",\"\",Pivots!CH33)","v":0},{"$f":"VLOOKUP($C42,'Test 8'!$A$12:$Q$51,15,FALSE)","v":19},{"$f":"IF(Pivots!CI33=\"(Blank)\",\"\",Pivots!CI33)","v":29},{"$f":"VLOOKUP($C42,'Test 8'!$A$12:$Q$51,2,FALSE)","v":""},{"$f":"VLOOKUP($C42,'Test 8'!$A$12:$Q$51,7,FALSE)","v":""},{"$f":"VLOOKUP($C42,'Test 8'!$A$12:$Q$51,3,FALSE)","v":""},{"$f":"VLOOKUP($C42,'Test 8'!$A$12:$Q$51,4,FALSE)","v":""},{"$f":"VLOOKUP($C42,'Test 8'!$A$12:$Q$51,5,FALSE)","v":"senior"},{"$f":"VLOOKUP($C42,'Test 8'!$A$12:$Q$51,13,FALSE)","v":"00:01:04.310"},{"$f":"VLOOKUP($C42,'Test 8'!$A$12:$Q$51,16,FALSE)","v":"00:09:39.470"}]
[{"$f":"IF(Pivots!CH34=\"(Blank)\",\"\",Pivots!CH34)","v":0},{"$f":"VLOOKUP($C43,'Test 8'!$A$12:$Q$51,15,FALSE)","v":19},{"$f":"IF(Pivots!CI34=\"(Blank)\",\"\",Pivots!CI34)","v":30},{"$f":"VLOOKUP($C43,'Test 8'!$A$12:$Q$51,2,FALSE)","v":""},{"$f":"VLOOKUP($C43,'Test 8'!$A$12:$Q$51,7,FALSE)","v":""},{"$f":"VLOOKUP($C43,'Test 8'!$A$12:$Q$51,3,FALSE)","v":""},{"$f":"VLOOKUP($C43,'Test 8'!$A$12:$Q$51,4,FALSE)","v":""},{"$f":"VLOOKUP($C43,'Test 8'!$A$12:$Q$51,5,FALSE)","v":"senior"},{"$f":"VLOOKUP($C43,'Test 8'!$A$12:$Q$51,13,FALSE)","v":"00:01:04.310"},{"$f":"VLOOKUP($C43,'Test 8'!$A$12:$Q$51,16,FALSE)","v":"00:09:39.470"}]
[{"$f":"IF(Pivots!CH35=\"(Blank)\",\"\",Pivots!CH35)","v":0},{"$f":"VLOOKUP($C44,'Test 8'!$A$12:$Q$51,15,FALSE)","v":19},{"$f":"IF(Pivots!CI35=\"(Blank)\",\"\",Pivots!CI35)","v":31},{"$f":"VLOOKUP($C44,'Test 8'!$A$12:$Q$51,2,FALSE)","v":""},{"$f":"VLOOKUP($C44,'Test 8'!$A$12:$Q$51,7,FALSE)","v":""},{"$f":"VLOOKUP($C44,'Test 8'!$A$12:$Q$51,3,FALSE)","v":""},{"$f":"VLOOKUP($C44,'Test 8'!$A$12:$Q$51,4,FALSE)","v":""},{"$f":"VLOOKUP($C44,'Test 8'!$A$12:$Q$51,5,FALSE)","v":"senior"},{"$f":"VLOOKUP($C44,'Test 8'!$A$12:$Q$51,13,FALSE)","v":"00:01:04.310"},{"$f":"VLOOKUP($C44,'Test 8'!$A$12:$Q$51,16,FALSE)","v":"00:09:39.470"}]
[{"$f":"IF(Pivots!CH36=\"(Blank)\",\"\",Pivots!CH36)","v":0},{"$f":"VLOOKUP($C45,'Test 8'!$A$12:$Q$51,15,FALSE)","v":19},{"$f":"IF(Pivots!CI36=\"(Blank)\",\"\",Pivots!CI36)","v":32},{"$f":"VLOOKUP($C45,'Test 8'!$A$12:$Q$51,2,FALSE)","v":""},{"$f":"VLOOKUP($C45,'Test 8'!$A$12:$Q$51,7,FALSE)","v":""},{"$f":"VLOOKUP($C45,'Test 8'!$A$12:$Q$51,3,FALSE)","v":""},{"$f":"VLOOKUP($C45,'Test 8'!$A$12:$Q$51,4,FALSE)","v":""},{"$f":"VLOOKUP($C45,'Test 8'!$A$12:$Q$51,5,FALSE)","v":"senior"},{"$f":"VLOOKUP($C45,'Test 8'!$A$12:$Q$51,13,FALSE)","v":"00:01:04.310"},{"$f":"VLOOKUP($C45,'Test 8'!$A$12:$Q$51,16,FALSE)","v":"00:09:39.470"}]
[{"$f":"IF(Pivots!CH37=\"(Blank)\",\"\",Pivots!CH37)","v":0},{"$f":"VLOOKUP($C46,'Test 8'!$A$12:$Q$51,15,FALSE)","v":19},{"$f":"IF(Pivots!CI37=\"(Blank)\",\"\",Pivots!CI37)","v":33},{"$f":"VLOOKUP($C46,'Test 8'!$A$12:$Q$51,2,FALSE)","v":""},{"$f":"VLOOKUP($C46,'Test 8'!$A$12:$Q$51,7,FALSE)","v":""},{"$f":"VLOOKUP($C46,'Test 8'!$A$12:$Q$51,3,FALSE)","v":""},{"$f":"VLOOKUP($C46,'Test 8'!$A$12:$Q$51,4,FALSE)","v":""},{"$f":"VLOOKUP($C46,'Test 8'!$A$12:$Q$51,5,FALSE)","v":"senior"},{"$f":"VLOOKUP($C46,'Test 8'!$A$12:$Q$51,13,FALSE)","v":"00:01:04.310"},{"$f":"VLOOKUP($C46,'Test 8'!$A$12:$Q$51,16,FALSE)","v":"00:09:39.470"}]
[{"$f":"IF(Pivots!CH38=\"(Blank)\",\"\",Pivots!CH38)","v":0},{"$f":"VLOOKUP($C47,'Test 8'!$A$12:$Q$51,15,FALSE)","v":19},{"$f":"IF(Pivots!CI38=\"(Blank)\",\"\",Pivots!CI38)","v":34},{"$f":"VLOOKUP($C47,'Test 8'!$A$12:$Q$51,2,FALSE)","v":""},{"$f":"VLOOKUP($C47,'Test 8'!$A$12:$Q$51,7,FALSE)","v":""},{"$f":"VLOOKUP($C47,'Test 8'!$A$12:$Q$51,3,FALSE)","v":""},{"$f":"VLOOKUP($C47,'Test 8'!$A$12:$Q$51,4,FALSE)","v":""},{"$f":"VLOOKUP($C47,'Test 8'!$A$12:$Q$51,5,FALSE)","v":"senior"},{"$f":"VLOOKUP($C47,'Test 8'!$A$12:$Q$51,13,FALSE)","v":"00:01:04.310"},{"$f":"VLOOKUP($C47,'Test 8'!$A$12:$Q$51,16,FALSE)","v":"00:09:39.470"}]
[{"$f":"IF(Pivots!CH39=\"(Blank)\",\"\",Pivots!CH39)","v":0},{"$f":"VLOOKUP($C48,'Test 8'!$A$12:$Q$51,15,FALSE)","v":19},{"$f":"IF(Pivots!CI39=\"(Blank)\",\"\",Pivots!CI39)","v":35},{"$f":"VLOOKUP($C48,'Test 8'!$A$12:$Q$51,2,FALSE)","v":""},{"$f":"VLOOKUP($C48,'Test 8'!$A$12:$Q$51,7,FALSE)","v":""},{"$f":"VLOOKUP($C48,'Test 8'!$A$12:$Q$51,3,FALSE)","v":""},{"$f":"VLOOKUP($C48,'Test 8'!$A$12:$Q$51,4,FALSE)","v":""},{"$f":"VLOOKUP($C48,'Test 8'!$A$12:$Q$51,5,FALSE)","v":"senior"},{"$f":"VLOOKUP($C48,'Test 8'!$A$12:$Q$51,13,FALSE)","v":"00:01:04.310"},{"$f":"VLOOKUP($C48,'Test 8'!$A$12:$Q$51,16,FALSE)","v":"00:09:39.470"}]
[{"$f":"IF(Pivots!CH40=\"(Blank)\",\"\",Pivots!CH40)","v":0},{"$f":"VLOOKUP($C49,'Test 8'!$A$12:$Q$51,15,FALSE)","v":19},{"$f":"IF(Pivots!CI40=\"(Blank)\",\"\",Pivots!CI40)","v":36},{"$f":"VLOOKUP($C49,'Test 8'!$A$12:$Q$51,2,FALSE)","v":""},{"$f":"VLOOKUP($C49,'Test 8'!$A$12:$Q$51,7,FALSE)","v":""},{"$f":"VLOOKUP($C49,'Test 8'!$A$12:$Q$51,3,FALSE)","v":""},{"$f":"VLOOKUP($C49,'Test 8'!$A$12:$Q$51,4,FALSE)","v":""},{"$f":"VLOOKUP($C49,'Test 8'!$A$12:$Q$51,5,FALSE)","v":"senior"},{"$f":"VLOOKUP($C49,'Test 8'!$A$12:$Q$51,13,FALSE)","v":"00:01:04.310"},{"$f":"VLOOKUP($C49,'Test 8'!$A$12:$Q$51,16,FALSE)","v":"00:09:39.470"}]
[{"$f":"IF(Pivots!CH41=\"(Blank)\",\"\",Pivots!CH41)","v":0},{"$f":"VLOOKUP($C50,'Test 8'!$A$12:$Q$51,15,FALSE)","v":19},{"$f":"IF(Pivots!CI41=\"(Blank)\",\"\",Pivots!CI41)","v":37},{"$f":"VLOOKUP($C50,'Test 8'!$A$12:$Q$51,2,FALSE)","v":""},{"$f":"VLOOKUP($C50,'Test 8'!$A$12:$Q$51,7,FALSE)","v":""},{"$f":"VLOOKUP($C50,'Test 8'!$A$12:$Q$51,3,FALSE)","v":""},{"$f":"VLOOKUP($C50,'Test 8'!$A$12:$Q$51,4,FALSE)","v":""},{"$f":"VLOOKUP($C50,'Test 8'!$A$12:$Q$51,5,FALSE)","v":"senior"},{"$f":"VLOOKUP($C50,'Test 8'!$A$12:$Q$51,13,FALSE)","v":"00:01:04.310"},{"$f":"VLOOKUP($C50,'Test 8'!$A$12:$Q$51,16,FALSE)","v":"00:09:39.470"}]
[{"$f":"IF(Pivots!CH42=\"(Blank)\",\"\",Pivots!CH42)","v":0},{"$f":"VLOOKUP($C51,'Test 8'!$A$12:$Q$51,15,FALSE)","v":19},{"$f":"IF(Pivots!CI42=\"(Blank)\",\"\",Pivots!CI42)","v":38},{"$f":"VLOOKUP($C51,'Test 8'!$A$12:$Q$51,2,FALSE)","v":""},{"$f":"VLOOKUP($C51,'Test 8'!$A$12:$Q$51,7,FALSE)","v":""},{"$f":"VLOOKUP($C51,'Test 8'!$A$12:$Q$51,3,FALSE)","v":""},{"$f":"VLOOKUP($C51,'Test 8'!$A$12:$Q$51,4,FALSE)","v":""},{"$f":"VLOOKUP($C51,'Test 8'!$A$12:$Q$51,5,FALSE)","v":"senior"},{"$f":"VLOOKUP($C51,'Test 8'!$A$12:$Q$51,13,FALSE)","v":"00:01:04.310"},{"$f":"VLOOKUP($C51,'Test 8'!$A$12:$Q$51,16,FALSE)","v":"00:09:39.470"}]
[{"$f":"IF(Pivots!CH43=\"(Blank)\",\"\",Pivots!CH43)","v":0},{"$f":"VLOOKUP($C52,'Test 8'!$A$12:$Q$51,15,FALSE)","v":19},{"$f":"IF(Pivots!CI43=\"(Blank)\",\"\",Pivots!CI43)","v":39},{"$f":"VLOOKUP($C52,'Test 8'!$A$12:$Q$51,2,FALSE)","v":""},{"$f":"VLOOKUP($C52,'Test 8'!$A$12:$Q$51,7,FALSE)","v":""},{"$f":"VLOOKUP($C52,'Test 8'!$A$12:$Q$51,3,FALSE)","v":""},{"$f":"VLOOKUP($C52,'Test 8'!$A$12:$Q$51,4,FALSE)","v":""},{"$f":"VLOOKUP($C52,'Test 8'!$A$12:$Q$51,5,FALSE)","v":"senior"},{"$f":"VLOOKUP($C52,'Test 8'!$A$12:$Q$51,13,FALSE)","v":"00:01:04.310"},{"$f":"VLOOKUP($C52,'Test 8'!$A$12:$Q$51,16,FALSE)","v":"00:09:39.470"}]
[{"$f":"IF(Pivots!CH44=\"(Blank)\",\"\",Pivots!CH44)","v":0},{"$f":"VLOOKUP($C53,'Test 8'!$A$12:$Q$51,15,FALSE)","v":19},{"$f":"IF(Pivots!CI44=\"(Blank)\",\"\",Pivots!CI44)","v":40},{"$f":"VLOOKUP($C53,'Test 8'!$A$12:$Q$51,2,FALSE)","v":""},{"$f":"VLOOKUP($C53,'Test 8'!$A$12:$Q$51,7,FALSE)","v":""},{"$f":"VLOOKUP($C53,'Test 8'!$A$12:$Q$51,3,FALSE)","v":""},{"$f":"VLOOKUP($C53,'Test 8'!$A$12:$Q$51,4,FALSE)","v":""},{"$f":"VLOOKUP($C53,'Test 8'!$A$12:$Q$51,5,FALSE)","v":"senior"},{"$f":"VLOOKUP($C53,'Test 8'!$A$12:$Q$51,13,FALSE)","v":"00:01:04.310"},{"$f":"VLOOKUP($C53,'Test 8'!$A$12:$Q$51,16,FALSE)","v":"00:09:39.470"}]

{"sheet":"Print_Test 9","index":11,"n_rows":53,"n_cols":10,"rows_kept":53,"cut":false,"hidden":false,"merged":[[11,6,12,6],[11,7,12,7],[8,3,8,5],[9,3,9,5],[11,0,12,0],[11,1,12,1],[11,2,12,2],[11,3,12,3],[11,4,12,4],[11,5,12,5]]}
[]
[]
[]
[]
[]
[]
[]
[]
[null,null,null,"Provisional Results"]
[null,null,null,"Test 9"]
[]
["Outright Position","Test Position","Car Number","Driver","Class","Rookie?","Female?","Junior?","Test Time","Cumulative Time"]
[null,null,null,null,null,null,null,null,"(mm:ss.00)","(mm:ss.00)"]
[{"$f":"IF(Pivots!CS5=\"(Blank)\",\"\",Pivots!CS5)","v":0},{"$f":"VLOOKUP($C14,'Test 9'!$A$12:$Q$51,15,FALSE)","v":2},{"$f":"IF(Pivots!CT5=\"(Blank)\",\"\",Pivots!CT5)","v":17},{"$f":"VLOOKUP($C14,'Test 9'!$A$12:$Q$59,2,FALSE)","v":"Reece McIntosh"},{"$f":"VLOOKUP($C14,'Test 9'!$A$12:$Q$59,7,FALSE)","v":""},{"$f":"VLOOKUP($C14,'Test 9'!$A$12:$Q$59,3,FALSE)","v":""},{"$f":"VLOOKUP($C14,'Test 9'!$A$12:$Q$59,4,FALSE)","v":""},{"$f":"VLOOKUP($C14,'Test 9'!$A$12:$Q$59,5,FALSE)","v":"senior"},{"$f":"VLOOKUP($C14,'Test 9'!$A$12:$Q$59,13,FALSE)","v":"00:00:44.910"},{"$f":"VLOOKUP($C14,'Test 9'!$A$12:$Q$59,16,FALSE)","v":"00:07:00.760"}]
[{"$f":"IF(Pivots!CS6=\"(Blank)\",\"\",Pivots!CS6)","v":0},{"$f":"VLOOKUP($C15,'Test 9'!$A$12:$Q$51,15,FALSE)","v":3},{"$f":"IF(Pivots!CT6=\"(Blank)\",\"\",Pivots!CT6)","v":1},{"$f":"VLOOKUP($C15,'Test 9'!$A$12:$Q$59,2,FALSE)","v":"Paul Dunn"},{"$f":"VLOOKUP($C15,'Test 9'!$A$12:$Q$59,7,FALSE)","v":""},{"$f":"VLOOKUP($C15,'Test 9'!$A$12:$Q$59,3,FALSE)","v":""},{"$f":"VLOOKUP($C15,'Test 9'!$A$12:$Q$59,4,FALSE)","v":""},{"$f":"VLOOKUP($C15,'Test 9'!$A$12:$Q$59,5,FALSE)","v":"senior"},{"$f":"VLOOKUP($C15,'Test 9'!$A$12:$Q$59,13,FALSE)","v":"00:00:45.520"},{"$f":"VLOOKUP($C15,'Test 9'!$A$12:$Q$59,16,FALSE)","v":"00:07:11.720"}]
[{"$f":"IF(Pivots!CS7=\"(Blank)\",\"\",Pivots!CS7)","v":0},{"$f":"VLOOKUP($C16,'Test 9'!$A$12:$Q$51,15,FALSE)","v":4},{"$f":"IF(Pivots!CT7=\"(Blank)\",\"\",Pivots!CT7)","v":9},{"$f":"VLOOKUP($C16,'Test 9'!$A$12:$Q$59,2,FALSE)","v":"Brad Firman"},{"$f":"VLOOKUP($C16,'Test 9'!$A$12:$Q$59,7,FALSE)","v":""},{"$f":"VLOOKUP($C16,'Test 9'!$A$12:$Q$59,3,FALSE)","v":""},{"$f":"VLOOKUP($C16,'Test 9'!$A$12:$Q$59,4,FALSE)","v":""},{"$f":"VLOOKUP($C16,'Test 9'!$A$12:$Q$59,5,FALSE)","v":"senior"},{"$f":"VLOOKUP($C16,'Test 9'!$A$12:$Q$59,13,FALSE)","v":"00:00:46.740"},{"$f":"VLOOKUP($C16,'Test 9'!$A$12:$Q$59,16,FALSE)","v":"00:07:15.880"}]
[{"$f":"IF(Pivots!CS8=\"(Blank)\",\"\",Pivots!CS8)","v":0},{"$f":"VLOOKUP($C17,'Test 9'!$A$12:$Q$51,15,FALSE)","v":6},{"$f":"IF(Pivots!CT8=\"(Blank)\",\"\",Pivots!CT8)","v":14},{"$f":"VLOOKUP($C17,'Test 9'!$A$12:$Q$59,2,FALSE)","v":"Bob Fulthorpe"},{"$f":"VLOOKUP($C17,'Test 9'!$A$12:$Q$59,7,FALSE)","v":""},{"$f":"VLOOKUP($C17,'Test 9'!$A$12:$Q$59,3,FALSE)","v":""},{"$f":"VLOOKUP($C17,'Test 9'!$A$12:$Q$59,4,FALSE)","v":""},{"$f":"VLOOKUP($C17,'Test 9'!$A$12:$Q$59,5,FALSE)","v":"senior"},{"$f":"VLOOKUP($C17,'Test 9'!$A$12:$Q$59,13,FALSE)","v":"00:00:47.820"},{"$f":"VLOOKUP($C17,'Test 9'!$A$12:$Q$59,16,FALSE)","v":"00:07:24.110"}]
[{"$f":"IF(Pivots!CS9=\"(Blank)\",\"\",Pivots!CS9)","v":0},{"$f":"VLOOKUP($C18,'Test 9'!$A$12:$Q$51,15,FALSE)","v":5},{"$f":"IF(Pivots!CT9=\"(Blank)\",\"\",Pivots!CT9)","v":2},{"$f":"VLOOKUP($C18,'Test 9'!$A$12:$Q$59,2,FALSE)","v":"Stephen Thorne"},{"$f":"VLOOKUP($C18,'Test 9'!$A$12:$Q$59,7,FALSE)","v":""},{"$f":"VLOOKUP($C18,'Test 9'!$A$12:$Q$59,3,FALSE)","v":""},{"$f":"VLOOKUP($C18,'Test 9'!$A$12:$Q$59,4,FALSE)","v":""},{"$f":"VLOOKUP($C18,'Test 9'!$A$12:$Q$59,5,FALSE)","v":"senior"},{"$f":"VLOOKUP($C18,'Test 9'!$A$12:$Q$59,13,FALSE)","v":"00:00:46.750"},{"$f":"VLOOKUP($C18,'Test 9'!$A$12:$Q$59,16,FALSE)","v":"00:07:35.950"}]
[{"$f":"IF(Pivots!CS10=\"(Blank)\",\"\",Pivots!CS10)","v":0},{"$f":"VLOOKUP($C19,'Test 9'!$A$12:$Q$51,15,FALSE)","v":1},{"$f":"IF(Pivots!CT10=\"(Blank)\",\"\",Pivots!CT10)","v":16},{"$f":"VLOOKUP($C19,'Test 9'!$A$12:$Q$59,2,FALSE)","v":"Nathan Senior"},{"$f":"VLOOKUP($C19,'Test 9'!$A$12:$Q$59,7,FALSE)","v":""},{"$f":"VLOOKUP($C19,'Test 9'!$A$12:$Q$59,3,FALSE)","v":""},{"$f":"VLOOKUP($C19,'Test 9'!$A$12:$Q$59,4,FALSE)","v":""},{"$f":"VLOOKUP($C19,'Test 9'!$A$12:$Q$59,5,FALSE)","v":"senior"},{"$f":"VLOOKUP($C19,'Test 9'!$A$12:$Q$59,13,FALSE)","v":"00:00:44.250"},{"$f":"VLOOKUP($C19,'Test 9'!$A$12:$Q$59,16,FALSE)","v":"00:07:36.120"}]
[{"$f":"IF(Pivots!CS11=\"(Blank)\",\"\",Pivots!CS11)","v":0},{"$f":"VLOOKUP($C20,'Test 9'!$A$12:$Q$51,15,FALSE)","v":7},{"$f":"IF(Pivots!CT11=\"(Blank)\",\"\",Pivots!CT11)","v":20},{"$f":"VLOOKUP($C20,'Test 9'!$A$12:$Q$59,2,FALSE)","v":"Ray Lampl"},{"$f":"VLOOKUP($C20,'Test 9'!$A$12:$Q$59,7,FALSE)","v":""},{"$f":"VLOOKUP($C20,'Test 9'!$A$12:$Q$59,3,FALSE)","v":""},{"$f":"VLOOKUP($C20,'Test 9'!$A$12:$Q$59,4,FALSE)","v":""},{"$f":"VLOOKUP($C20,'Test 9'!$A$12:$Q$59,5,FALSE)","v":"senior"},{"$f":"VLOOKUP($C20,'Test 9'!$A$12:$Q$59,13,FALSE)","v":"00:00:48.720"},{"$f":"VLOOKUP($C20,'Test 9'!$A$12:$Q$59,16,FALSE)","v":"00:07:43.920"}]
[{"$f":"IF(Pivots!CS12=\"(Blank)\",\"\",Pivots!CS12)","v":0},{"$f":"VLOOKUP($C21,'Test 9'!$A$12:$Q$51,15,FALSE)","v":9},{"$f":"IF(Pivots!CT12=\"(Blank)\",\"\",Pivots!CT12)","v":5},{"$f":"VLOOKUP($C21,'Test 9'!$A$12:$Q$59,2,FALSE)","v":"Janelle Ballard"},{"$f":"VLOOKUP($C21,'Test 9'!$A$12:$Q$59,7,FALSE)","v":""},{"$f":"VLOOKUP($C21,'Test 9'!$A$12:$Q$59,3,FALSE)","v":""},{"$f":"VLOOKUP($C21,'Test 9'!$A$12:$Q$59,4,FALSE)","v":"female"},{"$f":"VLOOKUP($C21,'Test 9'!$A$12:$Q$59,5,FALSE)","v":"senior"},{"$f":"VLOOKUP($C21,'Test 9'!$A$12:$Q$59,13,FALSE)","v":"00:00:49.050"},{"$f":"VLOOKUP($C21,'Test 9'!$A$12:$Q$59,16,FALSE)","v":"00:07:52.530"}]
[{"$f":"IF(Pivots!CS13=\"(Blank)\",\"\",Pivots!CS13)","v":0},{"$f":"VLOOKUP($C22,'Test 9'!$A$12:$Q$51,15,FALSE)","v":12},{"$f":"IF(Pivots!CT13=\"(Blank)\",\"\",Pivots!CT13)","v":19},{"$f":"VLOOKUP($C22,'Test 9'!$A$12:$Q$59,2,FALSE)","v":"Christopher Northey"},{"$f":"VLOOKUP($C22,'Test 9'!$A$12:$Q$59,7,FALSE)","v":""},{"$f":"VLOOKUP($C22,'Test 9'!$A$12:$Q$59,3,FALSE)","v":""},{"$f":"VLOOKUP($C22,'Test 9'!$A$12:$Q$59,4,FALSE)","v":""},{"$f":"VLOOKUP($C22,'Test 9'!$A$12:$Q$59,5,FALSE)","v":"senior"},{"$f":"VLOOKUP($C22,'Test 9'!$A$12:$Q$59,13,FALSE)","v":"00:00:51.250"},{"$f":"VLOOKUP($C22,'Test 9'!$A$12:$Q$59,16,FALSE)","v":"00:07:59.740"}]
[{"$f":"IF(Pivots!CS14=\"(Blank)\",\"\",Pivots!CS14)","v":0},{"$f":"VLOOKUP($C23,'Test 9'!$A$12:$Q$51,15,FALSE)","v":10},{"$f":"IF(Pivots!CT14=\"(Blank)\",\"\",Pivots!CT14)","v":15},{"$f":"VLOOKUP($C23,'Test 9'!$A$12:$Q$59,2,FALSE)","v":"Khi Fulthorpe"},{"$f":"VLOOKUP($C23,'Test 9'!$A$12:$Q$59,7,FALSE)","v":""},{"$f":"VLOOKUP($C23,'Test 9'!$A$12:$Q$59,3,FALSE)","v":""},{"$f":"VLOOKUP($C23,'Test 9'!$A$12:$Q$59,4,FALSE)","v":""},{"$f":"VLOOKUP($C23,'Test 9'!$A$12:$Q$59,5,FALSE)","v":"senior"},{"$f":"VLOOKUP($C23,'Test 9'!$A$12:$Q$59,13,FALSE)","v":"00:00:50.050"},{"$f":"VLOOKUP($C23,'Test 9'!$A$12:$Q$59,16,FALSE)","v":"00:08:02.750"}]
[{"$f":"IF(Pivots!CS15=\"(Blank)\",\"\",Pivots!CS15)","v":0},{"$f":"VLOOKUP($C24,'Test 9'!$A$12:$Q$51,15,FALSE)","v":16},{"$f":"IF(Pivots!CT15=\"(Blank)\",\"\",Pivots!CT15)","v":8},{"$f":"VLOOKUP($C24,'Test 9'!$A$12:$Q$59,2,FALSE)","v":"Jim Taylor"},{"$f":"VLOOKUP($C24,'Test 9'!$A$12:$Q$59,7,FALSE)","v":""},{"$f":"VLOOKUP($C24,'Test 9'!$A$12:$Q$59,3,FALSE)","v":""},{"$f":"VLOOKUP($C24,'Test 9'!$A$12:$Q$59,4,FALSE)","v":""},{"$f":"VLOOKUP($C24,'Test 9'!$A$12:$Q$59,5,FALSE)","v":"senior"},{"$f":"VLOOKUP($C24,'Test 9'!$A$12:$Q$59,13,FALSE)","v":"00:00:53.510"},{"$f":"VLOOKUP($C24,'Test 9'!$A$12:$Q$59,16,FALSE)","v":"00:08:07.960"}]
[{"$f":"IF(Pivots!CS16=\"(Blank)\",\"\",Pivots!CS16)","v":0},{"$f":"VLOOKUP($C25,'Test 9'!$A$12:$Q$51,15,FALSE)","v":8},{"$f":"IF(Pivots!CT16=\"(Blank)\",\"\",Pivots!CT16)","v":3},{"$f":"VLOOKUP($C25,'Test 9'!$A$12:$Q$59,2,FALSE)","v":"David Ballard"},{"$f":"VLOOKUP($C25,'Test 9'!$A$12:$Q$59,7,FALSE)","v":""},{"$f":"VLOOKUP($C25,'Test 9'!$A$12:$Q$59,3,FALSE)","v":""},{"$f":"VLOOKUP($C25,'Test 9'!$A$12:$Q$59,4,FALSE)","v":""},{"$f":"VLOOKUP($C25,'Test 9'!$A$12:$Q$59,5,FALSE)","v":"senior"},{"$f":"VLOOKUP($C25,'Test 9'!$A$12:$Q$59,13,FALSE)","v":"00:00:49.030"},{"$f":"VLOOKUP($C25,'Test 9'!$A$12:$Q$59,16,FALSE)","v":"00:08:11.060"}]
[{"$f":"IF(Pivots!CS17=\"(Blank)\",\"\",Pivots!CS17)","v":0},{"$f":"VLOOKUP($C26,'Test 9'!$A$12:$Q$51,15,FALSE)","v":17},{"$f":"IF(Pivots!CT17=\"(Blank)\",\"\",Pivots!CT17)","v":10},{"$f":"VLOOKUP($C26,'Test 9'!$A$12:$Q$59,2,FALSE)","v":"Scott Taylor"},{"$f":"VLOOKUP($C26,'Test 9'!$A$12:$Q$59,7,FALSE)","v":""},{"$f":"VLOOKUP($C26,'Test 9'!$A$12:$Q$59,3,FALSE)","v":""},{"$f":"VLOOKUP($C26,'Test 9'!$A$12:$Q$59,4,FALSE)","v":""},{"$f":"VLOOKUP($C26,'Test 9'!$A$12:$Q$59,5,FALSE)","v":"senior"},{"$f":"VLOOKUP($C26,'Test 9'!$A$12:$Q$59,13,FALSE)","v":"00:00:54.200"},{"$f":"VLOOKUP($C26,'Test 9'!$A$12:$Q$59,16,FALSE)","v":"00:08:17.360"}]
[{"$f":"IF(Pivots!CS18=\"(Blank)\",\"\",Pivots!CS18)","v":0},{"$f":"VLOOKUP($C27,'Test 9'!$A$12:$Q$51,15,FALSE)","v":11},{"$f":"IF(Pivots!CT18=\"(Blank)\",\"\",Pivots!CT18)","v":12},{"$f":"VLOOKUP($C27,'Test 9'!$A$12:$Q$59,2,FALSE)","v":"Mat Boorman"},{"$f":"VLOOKUP($C27,'Test 9'!$A$12:$Q$59,7,FALSE)","v":""},{"$f":"VLOOKUP($C27,'Test 9'!$A$12:$Q$59,3,FALSE)","v":""},{"$f":"VLOOKUP($C27,'Test 9'!$A$12:$Q$59,4,FALSE)","v":""},{"$f":"VLOOKUP($C27,'Test 9'!$A$12:$Q$59,5,FALSE)","v":"senior"},{"$f":"VLOOKUP($C27,'Test 9'!$A$12:$Q$59,13,FALSE)","v":"00:00:50.440"},{"$f":"VLOOKUP($C27,'Test 9'!$A$12:$Q$59,16,FALSE)","v":"00:08:18.260"}]
[{"$f":"IF(Pivots!CS19=\"(Blank)\",\"\",Pivots!CS19)","v":0},{"$f":"VLOOKUP($C28,'Test 9'!$A$12:$Q$51,15,FALSE)","v":19},{"$f":"IF(Pivots!CT19=\"(Blank)\",\"\",Pivots!CT19)","v":11},{"$f":"VLOOKUP($C28,'Test 9'!$A$12:$Q$59,2,FALSE)","v":"Russel McKinley"},{"$f":"VLOOKUP($C28,'Test 9'!$A$12:$Q$59,7,FALSE)","v":""},{"$f":"VLOOKUP($C28,'Test 9'!$A$12:$Q$59,3,FALSE)","v":""},{"$f":"VLOOKUP($C28,'Test 9'!$A$12:$Q$59,4,FALSE)","v":""},{"$f":"VLOOKUP($C28,'Test 9'!$A$12:$Q$59,5,FALSE)","v":"senior"},{"$f":"VLOOKUP($C28,'Test 9'!$A$12:$Q$59,13,FALSE)","v":"00:01:06.570"},{"$f":"VLOOKUP($C28,'Test 9'!$A$12:$Q$59,16,FALSE)","v":"00:08:28.960"}]
[{"$f":"IF(Pivots!CS20=\"(Blank)\",\"\",Pivots!CS20)","v":0},{"$f":"VLOOKUP($C29,'Test 9'!$A$12:$Q$51,15,FALSE)","v":14},{"$f":"IF(Pivots!CT20=\"(Blank)\",\"\",Pivots!CT20)","v":6},{"$f":"VLOOKUP($C29,'Test 9'!$A$12:$Q$59,2,FALSE)","v":"Issac Wishart"},{"$f":"VLOOKUP($C29,'Test 9'!$A$12:$Q$59,7,FALSE)","v":""},{"$f":"VLOOKUP($C29,'Test 9'!$A$12:$Q$59,3,FALSE)","v":"rookie"},{"$f":"VLOOKUP($C29,'Test 9'!$A$12:$Q$59,4,FALSE)","v":""},{"$f":"VLOOKUP($C29,'Test 9'!$A$12:$Q$59,5,FALSE)","v":"senior"},{"$f":"VLOOKUP($C29,'Test 9'!$A$12:$Q$59,13,FALSE)","v":"00:00:53.130"},{"$f":"VLOOKUP($C29,'Test 9'!$A$12:$Q$59,16,FALSE)","v":"00:08:35.440"}]
[{"$f":"IF(Pivots!CS21=\"(Blank)\",\"\",Pivots!CS21)","v":0},{"$f":"VLOOKUP($C30,'Test 9'!$A$12:$Q$51,15,FALSE)","v":15},{"$f":"IF(Pivots!CT21=\"(Blank)\",\"\",Pivots!CT21)","v":18},{"$f":"VLOOKUP($C30,'Test 9'!$A$12:$Q$59,2,FALSE)","v":"Jack Stanley"},{"$f":"VLOOKUP($C30,'Test 9'!$A$12:$Q$59,7,FALSE)","v":""},{"$f":"VLOOKUP($C30,'Test 9'!$A$12:$Q$59,3,FALSE)","v":"rookie"},{"$f":"VLOOKUP($C30,'Test 9'!$A$12:$Q$59,4,FALSE)","v":""},{"$f":"VLOOKUP($C30,'Test 9'!$A$12:$Q$59,5,FALSE)","v":"senior"},{"$f":"VLOOKUP($C30,'Test 9'!$A$12:$Q$59,13,FALSE)","v":"00:00:53.340"},{"$f":"VLOOKUP($C30,'Test 9'!$A$12:$Q$59,16,FALSE)","v":"00:08:46.440"}]
[{"$f":"IF(Pivots!CS22=\"(Blank)\",\"\",Pivots!CS22)","v":0},{"$f":"VLOOKUP($C31,'Test 9'!$A$12:$Q$51,15,FALSE)","v":13},{"$f":"IF(Pivots!CT22=\"(Blank)\",\"\",Pivots!CT22)","v":13},{"$f":"VLOOKUP($C31,'Test 9'!$A$12:$Q$59,2,FALSE)","v":"Aaron Wishart"},{"$f":"VLOOKUP($C31,'Test 9'!$A$12:$Q$59,7,FALSE)","v":""},{"$f":"VLOOKUP($C31,'Test 9'!$A$12:$Q$59,3,FALSE)","v":""},{"$f":"VLOOKUP($C31,'Test 9'!$A$12:$Q$59,4,FALSE)","v":""},{"$f":"VLOOKUP($C31,'Test 9'!$A$12:$Q$59,5,FALSE)","v":"senior"},{"$f":"VLOOKUP($C31,'Test 9'!$A$12:$Q$59,13,FALSE)","v":"00:00:51.980"},{"$f":"VLOOKUP($C31,'Test 9'!$A$12:$Q$59,16,FALSE)","v":"00:08:50"}]
[{"$f":"IF(Pivots!CS23=\"(Blank)\",\"\",Pivots!CS23)","v":0},{"$f":"VLOOKUP($C32,'Test 9'!$A$12:$Q$51,15,FALSE)","v":18},{"$f":"IF(Pivots!CT23=\"(Blank)\",\"\",Pivots!CT23)","v":4},{"$f":"VLOOKUP($C32,'Test 9'!$A$12:$Q$59,2,FALSE)","v":"Michaela Ballard"},{"$f":"VLOOKUP($C32,'Test 9'!$A$12:$Q$59,7,FALSE)","v":""},{"$f":"VLOOKUP($C32,'Test 9'!$A$12:$Q$59,3,FALSE)","v":"rookie"},{"$f":"VLOOKUP($C32,'Test 9'!$A$12:$Q$59,4,FALSE)","v":"female"},{"$f":"VLOOKUP($C32,'Test 9'!$A$12:$Q$59,5,FALSE)","v":"senior"},{"$f":"VLOOKUP($C32,'Test 9'!$A$12:$Q$59,13,FALSE)","v":"00:00:56.570"},{"$f":"VLOOKUP($C32,'Test 9'!$A$12:$Q$59,16,FALSE)","v":"00:09:05.150"}]
[{"$f":"IF(Pivots!CS24=\"(Blank)\",\"\",Pivots!CS24)","v":0},{"$f":"VLOOKUP($C33,'Test 9'!$A$12:$Q$51,15,FALSE)","v":19},{"$f":"IF(Pivots!CT24=\"(Blank)\",\"\",Pivots!CT24)","v":7},{"$f":"VLOOKUP($C33,'Test 9'!$A$12:$Q$59,2,FALSE)","v":""},{"$f":"VLOOKUP($C33,'Test 9'!$A$12:$Q$59,7,FALSE)","v":""},{"$f":"VLOOKUP($C33,'Test 9'!$A$12:$Q$59,3,FALSE)","v":""},{"$f":"VLOOKUP($C33,'Test 9'!$A$12:$Q$59,4,FALSE)","v":""},{"$f":"VLOOKUP($C33,'Test 9'!$A$12:$Q$59,5,FALSE)","v":"senior"},{"$f":"VLOOKUP($C33,'Test 9'!$A$12:$Q$59,13,FALSE)","v":"00:01:06.570"},{"$f":"VLOOKUP($C33,'Test 9'!$A$12:$Q$59,16,FALSE)","v":"00:10:46.040"}]
[{"$f":"IF(Pivots!CS25=\"(Blank)\",\"\",Pivots!CS25)","v":0},{"$f":"VLOOKUP($C34,'Test 9'!$A$12:$Q$51,15,FALSE)","v":19},{"$f":"IF(Pivots!CT25=\"(Blank)\",\"\",Pivots!CT25)","v":21},{"$f":"VLOOKUP($C34,'Test 9'!$A$12:$Q$59,2,FALSE)","v":""},{"$f":"VLOOKUP($C34,'Test 9'!$A$12:$Q$59,7,FALSE)","v":""},{"$f":"VLOOKUP($C34,'Test 9'!$A$12:$Q$59,3,FALSE)","v":""},{"$f":"VLOOKUP($C34,'Test 9'!$A$12:$Q$59,4,FALSE)","v":""},{"$f":"VLOOKUP($C34,'Test 9'!$A$12:$Q$59,5,FALSE)","v":"senior"},{"$f":"VLOOKUP($C34,'Test 9'!$A$12:$Q$59,13,FALSE)","v":"00:01:06.570"},{"$f":"VLOOKUP($C34,'Test 9'!$A$12:$Q$59,16,FALSE)","v":"00:10:46.040"}]
[{"$f":"IF(Pivots!CS26=\"(Blank)\",\"\",Pivots!CS26)","v":0},{"$f":"VLOOKUP($C35,'Test 9'!$A$12:$Q$51,15,FALSE)","v":19},{"$f":"IF(Pivots!CT26=\"(Blank)\",\"\",Pivots!CT26)","v":22},{"$f":"VLOOKUP($C35,'Test 9'!$A$12:$Q$59,2,FALSE)","v":""},{"$f":"VLOOKUP($C35,'Test 9'!$A$12:$Q$59,7,FALSE)","v":""},{"$f":"VLOOKUP($C35,'Test 9'!$A$12:$Q$59,3,FALSE)","v":""},{"$f":"VLOOKUP($C35,'Test 9'!$A$12:$Q$59,4,FALSE)","v":""},{"$f":"VLOOKUP($C35,'Test 9'!$A$12:$Q$59,5,FALSE)","v":"senior"},{"$f":"VLOOKUP($C35,'Test 9'!$A$12:$Q$59,13,FALSE)","v":"00:01:06.570"},{"$f":"VLOOKUP($C35,'Test 9'!$A$12:$Q$59,16,FALSE)","v":"00:10:46.040"}]
[{"$f":"IF(Pivots!CS27=\"(Blank)\",\"\",Pivots!CS27)","v":0},{"$f":"VLOOKUP($C36,'Test 9'!$A$12:$Q$51,15,FALSE)","v":19},{"$f":"IF(Pivots!CT27=\"(Blank)\",\"\",Pivots!CT27)","v":23},{"$f":"VLOOKUP($C36,'Test 9'!$A$12:$Q$59,2,FALSE)","v":""},{"$f":"VLOOKUP($C36,'Test 9'!$A$12:$Q$59,7,FALSE)","v":""},{"$f":"VLOOKUP($C36,'Test 9'!$A$12:$Q$59,3,FALSE)","v":""},{"$f":"VLOOKUP($C36,'Test 9'!$A$12:$Q$59,4,FALSE)","v":""},{"$f":"VLOOKUP($C36,'Test 9'!$A$12:$Q$59,5,FALSE)","v":"senior"},{"$f":"VLOOKUP($C36,'Test 9'!$A$12:$Q$59,13,FALSE)","v":"00:01:06.570"},{"$f":"VLOOKUP($C36,'Test 9'!$A$12:$Q$59,16,FALSE)","v":"00:10:46.040"}]
[{"$f":"IF(Pivots!CS28=\"(Blank)\",\"\",Pivots!CS28)","v":0},{"$f":"VLOOKUP($C37,'Test 9'!$A$12:$Q$51,15,FALSE)","v":19},{"$f":"IF(Pivots!CT28=\"(Blank)\",\"\",Pivots!CT28)","v":24},{"$f":"VLOOKUP($C37,'Test 9'!$A$12:$Q$59,2,FALSE)","v":""},{"$f":"VLOOKUP($C37,'Test 9'!$A$12:$Q$59,7,FALSE)","v":""},{"$f":"VLOOKUP($C37,'Test 9'!$A$12:$Q$59,3,FALSE)","v":""},{"$f":"VLOOKUP($C37,'Test 9'!$A$12:$Q$59,4,FALSE)","v":""},{"$f":"VLOOKUP($C37,'Test 9'!$A$12:$Q$59,5,FALSE)","v":"senior"},{"$f":"VLOOKUP($C37,'Test 9'!$A$12:$Q$59,13,FALSE)","v":"00:01:06.570"},{"$f":"VLOOKUP($C37,'Test 9'!$A$12:$Q$59,16,FALSE)","v":"00:10:46.040"}]
[{"$f":"IF(Pivots!CS29=\"(Blank)\",\"\",Pivots!CS29)","v":0},{"$f":"VLOOKUP($C38,'Test 9'!$A$12:$Q$51,15,FALSE)","v":19},{"$f":"IF(Pivots!CT29=\"(Blank)\",\"\",Pivots!CT29)","v":25},{"$f":"VLOOKUP($C38,'Test 9'!$A$12:$Q$59,2,FALSE)","v":""},{"$f":"VLOOKUP($C38,'Test 9'!$A$12:$Q$59,7,FALSE)","v":""},{"$f":"VLOOKUP($C38,'Test 9'!$A$12:$Q$59,3,FALSE)","v":""},{"$f":"VLOOKUP($C38,'Test 9'!$A$12:$Q$59,4,FALSE)","v":""},{"$f":"VLOOKUP($C38,'Test 9'!$A$12:$Q$59,5,FALSE)","v":"senior"},{"$f":"VLOOKUP($C38,'Test 9'!$A$12:$Q$59,13,FALSE)","v":"00:01:06.570"},{"$f":"VLOOKUP($C38,'Test 9'!$A$12:$Q$59,16,FALSE)","v":"00:10:46.040"}]
[{"$f":"IF(Pivots!CS30=\"(Blank)\",\"\",Pivots!CS30)","v":0},{"$f":"VLOOKUP($C39,'Test 9'!$A$12:$Q$51,15,FALSE)","v":19},{"$f":"IF(Pivots!CT30=\"(Blank)\",\"\",Pivots!CT30)","v":26},{"$f":"VLOOKUP($C39,'Test 9'!$A$12:$Q$59,2,FALSE)","v":""},{"$f":"VLOOKUP($C39,'Test 9'!$A$12:$Q$59,7,FALSE)","v":""},{"$f":"VLOOKUP($C39,'Test 9'!$A$12:$Q$59,3,FALSE)","v":""},{"$f":"VLOOKUP($C39,'Test 9'!$A$12:$Q$59,4,FALSE)","v":""},{"$f":"VLOOKUP($C39,'Test 9'!$A$12:$Q$59,5,FALSE)","v":"senior"},{"$f":"VLOOKUP($C39,'Test 9'!$A$12:$Q$59,13,FALSE)","v":"00:01:06.570"},{"$f":"VLOOKUP($C39,'Test 9'!$A$12:$Q$59,16,FALSE)","v":"00:10:46.040"}]
[{"$f":"IF(Pivots!CS31=\"(Blank)\",\"\",Pivots!CS31)","v":0},{"$f":"VLOOKUP($C40,'Test 9'!$A$12:$Q$51,15,FALSE)","v":19},{"$f":"IF(Pivots!CT31=\"(Blank)\",\"\",Pivots!CT31)","v":27},{"$f":"VLOOKUP($C40,'Test 9'!$A$12:$Q$59,2,FALSE)","v":""},{"$f":"VLOOKUP($C40,'Test 9'!$A$12:$Q$59,7,FALSE)","v":""},{"$f":"VLOOKUP($C40,'Test 9'!$A$12:$Q$59,3,FALSE)","v":""},{"$f":"VLOOKUP($C40,'Test 9'!$A$12:$Q$59,4,FALSE)","v":""},{"$f":"VLOOKUP($C40,'Test 9'!$A$12:$Q$59,5,FALSE)","v":"senior"},{"$f":"VLOOKUP($C40,'Test 9'!$A$12:$Q$59,13,FALSE)","v":"00:01:06.570"},{"$f":"VLOOKUP($C40,'Test 9'!$A$12:$Q$59,16,FALSE)","v":"00:10:46.040"}]
[{"$f":"IF(Pivots!CS32=\"(Blank)\",\"\",Pivots!CS32)","v":0},{"$f":"VLOOKUP($C41,'Test 9'!$A$12:$Q$51,15,FALSE)","v":19},{"$f":"IF(Pivots!CT32=\"(Blank)\",\"\",Pivots!CT32)","v":28},{"$f":"VLOOKUP($C41,'Test 9'!$A$12:$Q$59,2,FALSE)","v":""},{"$f":"VLOOKUP($C41,'Test 9'!$A$12:$Q$59,7,FALSE)","v":""},{"$f":"VLOOKUP($C41,'Test 9'!$A$12:$Q$59,3,FALSE)","v":""},{"$f":"VLOOKUP($C41,'Test 9'!$A$12:$Q$59,4,FALSE)","v":""},{"$f":"VLOOKUP($C41,'Test 9'!$A$12:$Q$59,5,FALSE)","v":"senior"},{"$f":"VLOOKUP($C41,'Test 9'!$A$12:$Q$59,13,FALSE)","v":"00:01:06.570"},{"$f":"VLOOKUP($C41,'Test 9'!$A$12:$Q$59,16,FALSE)","v":"00:10:46.040"}]
[{"$f":"IF(Pivots!CS33=\"(Blank)\",\"\",Pivots!CS33)","v":0},{"$f":"VLOOKUP($C42,'Test 9'!$A$12:$Q$51,15,FALSE)","v":19},{"$f":"IF(Pivots!CT33=\"(Blank)\",\"\",Pivots!CT33)","v":29},{"$f":"VLOOKUP($C42,'Test 9'!$A$12:$Q$59,2,FALSE)","v":""},{"$f":"VLOOKUP($C42,'Test 9'!$A$12:$Q$59,7,FALSE)","v":""},{"$f":"VLOOKUP($C42,'Test 9'!$A$12:$Q$59,3,FALSE)","v":""},{"$f":"VLOOKUP($C42,'Test 9'!$A$12:$Q$59,4,FALSE)","v":""},{"$f":"VLOOKUP($C42,'Test 9'!$A$12:$Q$59,5,FALSE)","v":"senior"},{"$f":"VLOOKUP($C42,'Test 9'!$A$12:$Q$59,13,FALSE)","v":"00:01:06.570"},{"$f":"VLOOKUP($C42,'Test 9'!$A$12:$Q$59,16,FALSE)","v":"00:10:46.040"}]
[{"$f":"IF(Pivots!CS34=\"(Blank)\",\"\",Pivots!CS34)","v":0},{"$f":"VLOOKUP($C43,'Test 9'!$A$12:$Q$51,15,FALSE)","v":19},{"$f":"IF(Pivots!CT34=\"(Blank)\",\"\",Pivots!CT34)","v":30},{"$f":"VLOOKUP($C43,'Test 9'!$A$12:$Q$59,2,FALSE)","v":""},{"$f":"VLOOKUP($C43,'Test 9'!$A$12:$Q$59,7,FALSE)","v":""},{"$f":"VLOOKUP($C43,'Test 9'!$A$12:$Q$59,3,FALSE)","v":""},{"$f":"VLOOKUP($C43,'Test 9'!$A$12:$Q$59,4,FALSE)","v":""},{"$f":"VLOOKUP($C43,'Test 9'!$A$12:$Q$59,5,FALSE)","v":"senior"},{"$f":"VLOOKUP($C43,'Test 9'!$A$12:$Q$59,13,FALSE)","v":"00:01:06.570"},{"$f":"VLOOKUP($C43,'Test 9'!$A$12:$Q$59,16,FALSE)","v":"00:10:46.040"}]
[{"$f":"IF(Pivots!CS35=\"(Blank)\",\"\",Pivots!CS35)","v":0},{"$f":"VLOOKUP($C44,'Test 9'!$A$12:$Q$51,15,FALSE)","v":19},{"$f":"IF(Pivots!CT35=\"(Blank)\",\"\",Pivots!CT35)","v":31},{"$f":"VLOOKUP($C44,'Test 9'!$A$12:$Q$59,2,FALSE)","v":""},{"$f":"VLOOKUP($C44,'Test 9'!$A$12:$Q$59,7,FALSE)","v":""},{"$f":"VLOOKUP($C44,'Test 9'!$A$12:$Q$59,3,FALSE)","v":""},{"$f":"VLOOKUP($C44,'Test 9'!$A$12:$Q$59,4,FALSE)","v":""},{"$f":"VLOOKUP($C44,'Test 9'!$A$12:$Q$59,5,FALSE)","v":"senior"},{"$f":"VLOOKUP($C44,'Test 9'!$A$12:$Q$59,13,FALSE)","v":"00:01:06.570"},{"$f":"VLOOKUP($C44,'Test 9'!$A$12:$Q$59,16,FALSE)","v":"00:10:46.040"}]
[{"$f":"IF(Pivots!CS36=\"(Blank)\",\"\",Pivots!CS36)","v":0},{"$f":"VLOOKUP($C45,'Test 9'!$A$12:$Q$51,15,FALSE)","v":19},{"$f":"IF(Pivots!CT36=\"(Blank)\",\"\",Pivots!CT36)","v":32},{"$f":"VLOOKUP($C45,'Test 9'!$A$12:$Q$59,2,FALSE)","v":""},{"$f":"VLOOKUP($C45,'Test 9'!$A$12:$Q$59,7,FALSE)","v":""},{"$f":"VLOOKUP($C45,'Test 9'!$A$12:$Q$59,3,FALSE)","v":""},{"$f":"VLOOKUP($C45,'Test 9'!$A$12:$Q$59,4,FALSE)","v":""},{"$f":"VLOOKUP($C45,'Test 9'!$A$12:$Q$59,5,FALSE)","v":"senior"},{"$f":"VLOOKUP($C45,'Test 9'!$A$12:$Q$59,13,FALSE)","v":"00:01:06.570"},{"$f":"VLOOKUP($C45,'Test 9'!$A$12:$Q$59,16,FALSE)","v":"00:10:46.040"}]
[{"$f":"IF(Pivots!CS37=\"(Blank)\",\"\",Pivots!CS37)","v":0},{"$f":"VLOOKUP($C46,'Test 9'!$A$12:$Q$51,15,FALSE)","v":19},{"$f":"IF(Pivots!CT37=\"(Blank)\",\"\",Pivots!CT37)","v":33},{"$f":"VLOOKUP($C46,'Test 9'!$A$12:$Q$59,2,FALSE)","v":""},{"$f":"VLOOKUP($C46,'Test 9'!$A$12:$Q$59,7,FALSE)","v":""},{"$f":"VLOOKUP($C46,'Test 9'!$A$12:$Q$59,3,FALSE)","v":""},{"$f":"VLOOKUP($C46,'Test 9'!$A$12:$Q$59,4,FALSE)","v":""},{"$f":"VLOOKUP($C46,'Test 9'!$A$12:$Q$59,5,FALSE)","v":"senior"},{"$f":"VLOOKUP($C46,'Test 9'!$A$12:$Q$59,13,FALSE)","v":"00:01:06.570"},{"$f":"VLOOKUP($C46,'Test 9'!$A$12:$Q$59,16,FALSE)","v":"00:10:46.040"}]
[{"$f":"IF(Pivots!CS38=\"(Blank)\",\"\",Pivots!CS38)","v":0},{"$f":"VLOOKUP($C47,'Test 9'!$A$12:$Q$51,15,FALSE)","v":19},{"$f":"IF(Pivots!CT38=\"(Blank)\",\"\",Pivots!CT38)","v":34},{"$f":"VLOOKUP($C47,'Test 9'!$A$12:$Q$59,2,FALSE)","v":""},{"$f":"VLOOKUP($C47,'Test 9'!$A$12:$Q$59,7,FALSE)","v":""},{"$f":"VLOOKUP($C47,'Test 9'!$A$12:$Q$59,3,FALSE)","v":""},{"$f":"VLOOKUP($C47,'Test 9'!$A$12:$Q$59,4,FALSE)","v":""},{"$f":"VLOOKUP($C47,'Test 9'!$A$12:$Q$59,5,FALSE)","v":"senior"},{"$f":"VLOOKUP($C47,'Test 9'!$A$12:$Q$59,13,FALSE)","v":"00:01:06.570"},{"$f":"VLOOKUP($C47,'Test 9'!$A$12:$Q$59,16,FALSE)","v":"00:10:46.040"}]
[{"$f":"IF(Pivots!CS39=\"(Blank)\",\"\",Pivots!CS39)","v":0},{"$f":"VLOOKUP($C48,'Test 9'!$A$12:$Q$51,15,FALSE)","v":19},{"$f":"IF(Pivots!CT39=\"(Blank)\",\"\",Pivots!CT39)","v":35},{"$f":"VLOOKUP($C48,'Test 9'!$A$12:$Q$59,2,FALSE)","v":""},{"$f":"VLOOKUP($C48,'Test 9'!$A$12:$Q$59,7,FALSE)","v":""},{"$f":"VLOOKUP($C48,'Test 9'!$A$12:$Q$59,3,FALSE)","v":""},{"$f":"VLOOKUP($C48,'Test 9'!$A$12:$Q$59,4,FALSE)","v":""},{"$f":"VLOOKUP($C48,'Test 9'!$A$12:$Q$59,5,FALSE)","v":"senior"},{"$f":"VLOOKUP($C48,'Test 9'!$A$12:$Q$59,13,FALSE)","v":"00:01:06.570"},{"$f":"VLOOKUP($C48,'Test 9'!$A$12:$Q$59,16,FALSE)","v":"00:10:46.040"}]
[{"$f":"IF(Pivots!CS40=\"(Blank)\",\"\",Pivots!CS40)","v":0},{"$f":"VLOOKUP($C49,'Test 9'!$A$12:$Q$51,15,FALSE)","v":19},{"$f":"IF(Pivots!CT40=\"(Blank)\",\"\",Pivots!CT40)","v":36},{"$f":"VLOOKUP($C49,'Test 9'!$A$12:$Q$59,2,FALSE)","v":""},{"$f":"VLOOKUP($C49,'Test 9'!$A$12:$Q$59,7,FALSE)","v":""},{"$f":"VLOOKUP($C49,'Test 9'!$A$12:$Q$59,3,FALSE)","v":""},{"$f":"VLOOKUP($C49,'Test 9'!$A$12:$Q$59,4,FALSE)","v":""},{"$f":"VLOOKUP($C49,'Test 9'!$A$12:$Q$59,5,FALSE)","v":"senior"},{"$f":"VLOOKUP($C49,'Test 9'!$A$12:$Q$59,13,FALSE)","v":"00:01:06.570"},{"$f":"VLOOKUP($C49,'Test 9'!$A$12:$Q$59,16,FALSE)","v":"00:10:46.040"}]
[{"$f":"IF(Pivots!CS41=\"(Blank)\",\"\",Pivots!CS41)","v":0},{"$f":"VLOOKUP($C50,'Test 9'!$A$12:$Q$51,15,FALSE)","v":19},{"$f":"IF(Pivots!CT41=\"(Blank)\",\"\",Pivots!CT41)","v":37},{"$f":"VLOOKUP($C50,'Test 9'!$A$12:$Q$59,2,FALSE)","v":""},{"$f":"VLOOKUP($C50,'Test 9'!$A$12:$Q$59,7,FALSE)","v":""},{"$f":"VLOOKUP($C50,'Test 9'!$A$12:$Q$59,3,FALSE)","v":""},{"$f":"VLOOKUP($C50,'Test 9'!$A$12:$Q$59,4,FALSE)","v":""},{"$f":"VLOOKUP($C50,'Test 9'!$A$12:$Q$59,5,FALSE)","v":"senior"},{"$f":"VLOOKUP($C50,'Test 9'!$A$12:$Q$59,13,FALSE)","v":"00:01:06.570"},{"$f":"VLOOKUP($C50,'Test 9'!$A$12:$Q$59,16,FALSE)","v":"00:10:46.040"}]
[{"$f":"IF(Pivots!CS42=\"(Blank)\",\"\",Pivots!CS42)","v":0},{"$f":"VLOOKUP($C51,'Test 9'!$A$12:$Q$51,15,FALSE)","v":19},{"$f":"IF(Pivots!CT42=\"(Blank)\",\"\",Pivots!CT42)","v":38},{"$f":"VLOOKUP($C51,'Test 9'!$A$12:$Q$59,2,FALSE)","v":""},{"$f":"VLOOKUP($C51,'Test 9'!$A$12:$Q$59,7,FALSE)","v":""},{"$f":"VLOOKUP($C51,'Test 9'!$A$12:$Q$59,3,FALSE)","v":""},{"$f":"VLOOKUP($C51,'Test 9'!$A$12:$Q$59,4,FALSE)","v":""},{"$f":"VLOOKUP($C51,'Test 9'!$A$12:$Q$59,5,FALSE)","v":"senior"},{"$f":"VLOOKUP($C51,'Test 9'!$A$12:$Q$59,13,FALSE)","v":"00:01:06.570"},{"$f":"VLOOKUP($C51,'Test 9'!$A$12:$Q$59,16,FALSE)","v":"00:10:46.040"}]
[{"$f":"IF(Pivots!CS43=\"(Blank)\",\"\",Pivots!CS43)","v":0},{"$f":"VLOOKUP($C52,'Test 9'!$A$12:$Q$51,15,FALSE)","v":19},{"$f":"IF(Pivots!CT43=\"(Blank)\",\"\",Pivots!CT43)","v":39},{"$f":"VLOOKUP($C52,'Test 9'!$A$12:$Q$59,2,FALSE)","v":""},{"$f":"VLOOKUP($C52,'Test 9'!$A$12:$Q$59,7,FALSE)","v":""},{"$f":"VLOOKUP($C52,'Test 9'!$A$12:$Q$59,3,FALSE)","v":""},{"$f":"VLOOKUP($C52,'Test 9'!$A$12:$Q$59,4,FALSE)","v":""},{"$f":"VLOOKUP($C52,'Test 9'!$A$12:$Q$59,5,FALSE)","v":"senior"},{"$f":"VLOOKUP($C52,'Test 9'!$A$12:$Q$59,13,FALSE)","v":"00:01:06.570"},{"$f":"VLOOKUP($C52,'Test 9'!$A$12:$Q$59,16,FALSE)","v":"00:10:46.040"}]
[{"$f":"IF(Pivots!CS44=\"(Blank)\",\"\",Pivots!CS44)","v":0},{"$f":"VLOOKUP($C53,'Test 9'!$A$12:$Q$51,15,FALSE)","v":19},{"$f":"IF(Pivots!CT44=\"(Blank)\",\"\",Pivots!CT44)","v":40},{"$f":"VLOOKUP($C53,'Test 9'!$A$12:$Q$59,2,FALSE)","v":""},{"$f":"VLOOKUP($C53,'Test 9'!$A$12:$Q$59,7,FALSE)","v":""},{"$f":"VLOOKUP($C53,'Test 9'!$A$12:$Q$59,3,FALSE)","v":""},{"$f":"VLOOKUP($C53,'Test 9'!$A$12:$Q$59,4,FALSE)","v":""},{"$f":"VLOOKUP($C53,'Test 9'!$A$12:$Q$59,5,FALSE)","v":"senior"},{"$f":"VLOOKUP($C53,'Test 9'!$A$12:$Q$59,13,FALSE)","v":"00:01:06.570"},{"$f":"VLOOKUP($C53,'Test 9'!$A$12:$Q$59,16,FALSE)","v":"00:10:46.040"}]

{"sheet":"Print_Test 10","index":12,"n_rows":53,"n_cols":10,"rows_kept":53,"cut":false,"hidden":false,"merged":[[11,6,12,6],[11,7,12,7],[8,3,8,5],[9,3,9,5],[11,0,12,0],[11,1,12,1],[11,2,12,2],[11,3,12,3],[11,4,12,4],[11,5,12,5]]}
[]
[]
[]
[]
[]
[]
[]
[]
[null,null,null,"Provisional Results"]
[null,null,null,"Test 10"]
[]
["Outright Position","Test Position","Car Number","Driver","Class","Rookie?","Female?","Junior?","Test Time","Cumulative Time"]
[null,null,null,null,null,null,null,null,"(mm:ss.00)","(mm:ss.00)"]
[{"$f":"IF(Pivots!DD5=\"(Blank)\",\"\",Pivots!DD5)","v":0},{"$f":"VLOOKUP($C14,'Test 10'!$A$12:$Q$51,15,FALSE)","v":2},{"$f":"IF(Pivots!DE5=\"(Blank)\",\"\",Pivots!DE5)","v":17},{"$f":"VLOOKUP($C14,'Test 10'!$A$12:$Q$51,2,FALSE)","v":"Reece McIntosh"},{"$f":"VLOOKUP($C14,'Test 10'!$A$12:$Q$51,7,FALSE)","v":""},{"$f":"VLOOKUP($C14,'Test 10'!$A$12:$Q$51,3,FALSE)","v":""},{"$f":"VLOOKUP($C14,'Test 10'!$A$12:$Q$51,4,FALSE)","v":""},{"$f":"VLOOKUP($C14,'Test 10'!$A$12:$Q$51,5,FALSE)","v":"senior"},{"$f":"VLOOKUP($C14,'Test 10'!$A$12:$Q$51,13,FALSE)","v":"00:00:52.870"},{"$f":"VLOOKUP($C14,'Test 10'!$A$12:$Q$51,16,FALSE)","v":"00:07:53.630"}]
[{"$f":"IF(Pivots!DD6=\"(Blank)\",\"\",Pivots!DD6)","v":0},{"$f":"VLOOKUP($C15,'Test 10'!$A$12:$Q$51,15,FALSE)","v":1},{"$f":"IF(Pivots!DE6=\"(Blank)\",\"\",Pivots!DE6)","v":1},{"$f":"VLOOKUP($C15,'Test 10'!$A$12:$Q$51,2,FALSE)","v":"Paul Dunn"},{"$f":"VLOOKUP($C15,'Test 10'!$A$12:$Q$51,7,FALSE)","v":""},{"$f":"VLOOKUP($C15,'Test 10'!$A$12:$Q$51,3,FALSE)","v":""},{"$f":"VLOOKUP($C15,'Test 10'!$A$12:$Q$51,4,FALSE)","v":""},{"$f":"VLOOKUP($C15,'Test 10'!$A$12:$Q$51,5,FALSE)","v":"senior"},{"$f":"VLOOKUP($C15,'Test 10'!$A$12:$Q$51,13,FALSE)","v":"00:00:52.550"},{"$f":"VLOOKUP($C15,'Test 10'!$A$12:$Q$51,16,FALSE)","v":"00:08:04.270"}]
[{"$f":"IF(Pivots!DD7=\"(Blank)\",\"\",Pivots!DD7)","v":0},{"$f":"VLOOKUP($C16,'Test 10'!$A$12:$Q$51,15,FALSE)","v":3},{"$f":"IF(Pivots!DE7=\"(Blank)\",\"\",Pivots!DE7)","v":9},{"$f":"VLOOKUP($C16,'Test 10'!$A$12:$Q$51,2,FALSE)","v":"Brad Firman"},{"$f":"VLOOKUP($C16,'Test 10'!$A$12:$Q$51,7,FALSE)","v":""},{"$f":"VLOOKUP($C16,'Test 10'!$A$12:$Q$51,3,FALSE)","v":""},{"$f":"VLOOKUP($C16,'Test 10'!$A$12:$Q$51,4,FALSE)","v":""},{"$f":"VLOOKUP($C16,'Test 10'!$A$12:$Q$51,5,FALSE)","v":"senior"},{"$f":"VLOOKUP($C16,'Test 10'!$A$12:$Q$51,13,FALSE)","v":"00:00:53.480"},{"$f":"VLOOKUP($C16,'Test 10'!$A$12:$Q$51,16,FALSE)","v":"00:08:09.360"}]
[{"$f":"IF(Pivots!DD8=\"(Blank)\",\"\",Pivots!DD8)","v":0},{"$f":"VLOOKUP($C17,'Test 10'!$A$12:$Q$51,15,FALSE)","v":5},{"$f":"IF(Pivots!DE8=\"(Blank)\",\"\",Pivots!DE8)","v":14},{"$f":"VLOOKUP($C17,'Test 10'!$A$12:$Q$51,2,FALSE)","v":"Bob Fulthorpe"},{"$f":"VLOOKUP($C17,'Test 10'!$A$12:$Q$51,7,FALSE)","v":""},{"$f":"VLOOKUP($C17,'Test 10'!$A$12:$Q$51,3,FALSE)","v":""},{"$f":"VLOOKUP($C17,'Test 10'!$A$12:$Q$51,4,FALSE)","v":""},{"$f":"VLOOKUP($C17,'Test 10'!$A$12:$Q$51,5,FALSE)","v":"senior"},{"$f":"VLOOKUP($C17,'Test 10'!$A$12:$Q$51,13,FALSE)","v":"00:00:55.550"},{"$f":"VLOOKUP($C17,'Test 10'!$A$12:$Q$51,16,FALSE)","v":"00:08:19.660"}]
[{"$f":"IF(Pivots!DD9=\"(Blank)\",\"\",Pivots!DD9)","v":0},{"$f":"VLOOKUP($C18,'Test 10'!$A$12:$Q$51,15,FALSE)","v":4},{"$f":"IF(Pivots!DE9=\"(Blank)\",\"\",Pivots!DE9)","v":2},{"$f":"VLOOKUP($C18,'Test 10'!$A$12:$Q$51,2,FALSE)","v":"Stephen Thorne"},{"$f":"VLOOKUP($C18,'Test 10'!$A$12:$Q$51,7,FALSE)","v":""},{"$f":"VLOOKUP($C18,'Test 10'!$A$12:$Q$51,3,FALSE)","v":""},{"$f":"VLOOKUP($C18,'Test 10'!$A$12:$Q$51,4,FALSE)","v":""},{"$f":"VLOOKUP($C18,'Test 10'!$A$12:$Q$51,5,FALSE)","v":"senior"},{"$f":"VLOOKUP($C18,'Test 10'!$A$12:$Q$51,13,FALSE)","v":"00:00:54.110"},{"$f":"VLOOKUP($C18,'Test 10'!$A$12:$Q$51,16,FALSE)","v":"00:08:30.060"}]
[{"$f":"IF(Pivots!DD10=\"(Blank)\",\"\",Pivots!DD10)","v":0},{"$f":"VLOOKUP($C19,'Test 10'!$A$12:$Q$51,15,FALSE)","v":7},{"$f":"IF(Pivots!DE10=\"(Blank)\",\"\",Pivots!DE10)","v":20},{"$f":"VLOOKUP($C19,'Test 10'!$A$12:$Q$51,2,FALSE)","v":"Ray Lampl"},{"$f":"VLOOKUP($C19,'Test 10'!$A$12:$Q$51,7,FALSE)","v":""},{"$f":"VLOOKUP($C19,'Test 10'!$A$12:$Q$51,3,FALSE)","v":""},{"$f":"VLOOKUP($C19,'Test 10'!$A$12:$Q$51,4,FALSE)","v":""},{"$f":"VLOOKUP($C19,'Test 10'!$A$12:$Q$51,5,FALSE)","v":"senior"},{"$f":"VLOOKUP($C19,'Test 10'!$A$12:$Q$51,13,FALSE)","v":"00:00:56.330"},{"$f":"VLOOKUP($C19,'Test 10'!$A$12:$Q$51,16,FALSE)","v":"00:08:40.250"}]
[{"$f":"IF(Pivots!DD11=\"(Blank)\",\"\",Pivots!DD11)","v":0},{"$f":"VLOOKUP($C20,'Test 10'!$A$12:$Q$51,15,FALSE)","v":8},{"$f":"IF(Pivots!DE11=\"(Blank)\",\"\",Pivots!DE11)","v":5},{"$f":"VLOOKUP($C20,'Test 10'!$A$12:$Q$51,2,FALSE)","v":"Janelle Ballard"},{"$f":"VLOOKUP($C20,'Test 10'!$A$12:$Q$51,7,FALSE)","v":""},{"$f":"VLOOKUP($C20,'Test 10'!$A$12:$Q$51,3,FALSE)","v":""},{"$f":"VLOOKUP($C20,'Test 10'!$A$12:$Q$51,4,FALSE)","v":"female"},{"$f":"VLOOKUP($C20,'Test 10'!$A$12:$Q$51,5,FALSE)","v":"senior"},{"$f":"VLOOKUP($C20,'Test 10'!$A$12:$Q$51,13,FALSE)","v":"00:00:56.500"},{"$f":"VLOOKUP($C20,'Test 10'!$A$12:$Q$51,16,FALSE)","v":"00:08:49.030"}]
[{"$f":"IF(Pivots!DD12=\"(Blank)\",\"\",Pivots!DD12)","v":0},{"$f":"VLOOKUP($C21,'Test 10'!$A$12:$Q$51,15,FALSE)","v":12},{"$f":"IF(Pivots!DE12=\"(Blank)\",\"\",Pivots!DE12)","v":19},{"$f":"VLOOKUP($C21,'Test 10'!$A$12:$Q$51,2,FALSE)","v":"Christopher Northey"},{"$f":"VLOOKUP($C21,'Test 10'!$A$12:$Q$51,7,FALSE)","v":""},{"$f":"VLOOKUP($C21,'Test 10'!$A$12:$Q$51,3,FALSE)","v":""},{"$f":"VLOOKUP($C21,'Test 10'!$A$12:$Q$51,4,FALSE)","v":""},{"$f":"VLOOKUP($C21,'Test 10'!$A$12:$Q$51,5,FALSE)","v":"senior"},{"$f":"VLOOKUP($C21,'Test 10'!$A$12:$Q$51,13,FALSE)","v":"00:00:58.560"},{"$f":"VLOOKUP($C21,'Test 10'!$A$12:$Q$51,16,FALSE)","v":"00:08:58.300"}]
[{"$f":"IF(Pivots!DD13=\"(Blank)\",\"\",Pivots!DD13)","v":0},{"$f":"VLOOKUP($C22,'Test 10'!$A$12:$Q$51,15,FALSE)","v":16},{"$f":"IF(Pivots!DE13=\"(Blank)\",\"\",Pivots!DE13)","v":16},{"$f":"VLOOKUP($C22,'Test 10'!$A$12:$Q$51,2,FALSE)","v":"Nathan Senior"},{"$f":"VLOOKUP($C22,'Test 10'!$A$12:$Q$51,7,FALSE)","v":""},{"$f":"VLOOKUP($C22,'Test 10'!$A$12:$Q$51,3,FALSE)","v":""},{"$f":"VLOOKUP($C22,'Test 10'!$A$12:$Q$51,4,FALSE)","v":""},{"$f":"VLOOKUP($C22,'Test 10'!$A$12:$Q$51,5,FALSE)","v":"senior"},{"$f":"VLOOKUP($C22,'Test 10'!$A$12:$Q$51,13,FALSE)","v":"00:01:24.050"},{"$f":"VLOOKUP($C22,'Test 10'!$A$12:$Q$51,16,FALSE)","v":"00:09:00.170"}]
[{"$f":"IF(Pivots!DD14=\"(Blank)\",\"\",Pivots!DD14)","v":0},{"$f":"VLOOKUP($C23,'Test 10'!$A$12:$Q$51,15,FALSE)","v":13},{"$f":"IF(Pivots!DE14=\"(Blank)\",\"\",Pivots!DE14)","v":15},{"$f":"VLOOKUP($C23,'Test 10'!$A$12:$Q$51,2,FALSE)","v":"Khi Fulthorpe"},{"$f":"VLOOKUP($C23,'Test 10'!$A$12:$Q$51,7,FALSE)","v":""},{"$f":"VLOOKUP($C23,'Test 10'!$A$12:$Q$51,3,FALSE)","v":""},{"$f":"VLOOKUP($C23,'Test 10'!$A$12:$Q$51,4,FALSE)","v":""},{"$f":"VLOOKUP($C23,'Test 10'!$A$12:$Q$51,5,FALSE)","v":"senior"},{"$f":"VLOOKUP($C23,'Test 10'!$A$12:$Q$51,13,FALSE)","v":"00:00:58.680"},{"$f":"VLOOKUP($C23,'Test 10'!$A$12:$Q$51,16,FALSE)","v":"00:09:01.430"}]
[{"$f":"IF(Pivots!DD15=\"(Blank)\",\"\",Pivots!DD15)","v":0},{"$f":"VLOOKUP($C24,'Test 10'!$A$12:$Q$51,15,FALSE)","v":10},{"$f":"IF(Pivots!DE15=\"(Blank)\",\"\",Pivots!DE15)","v":8},{"$f":"VLOOKUP($C24,'Test 10'!$A$12:$Q$51,2,FALSE)","v":"Jim Taylor"},{"$f":"VLOOKUP($C24,'Test 10'!$A$12:$Q$51,7,FALSE)","v":""},{"$f":"VLOOKUP($C24,'Test 10'!$A$12:$Q$51,3,FALSE)","v":""},{"$f":"VLOOKUP($C24,'Test 10'!$A$12:$Q$51,4,FALSE)","v":""},{"$f":"VLOOKUP($C24,'Test 10'!$A$12:$Q$51,5,FALSE)","v":"senior"},{"$f":"VLOOKUP($C24,'Test 10'!$A$12:$Q$51,13,FALSE)","v":"00:00:58.260"},{"$f":"VLOOKUP($C24,'Test 10'!$A$12:$Q$51,16,FALSE)","v":"00:09:06.220"}]
[{"$f":"IF(Pivots!DD16=\"(Blank)\",\"\",Pivots!DD16)","v":0},{"$f":"VLOOKUP($C25,'Test 10'!$A$12:$Q$51,15,FALSE)","v":9},{"$f":"IF(Pivots!DE16=\"(Blank)\",\"\",Pivots!DE16)","v":3},{"$f":"VLOOKUP($C25,'Test 10'!$A$12:$Q$51,2,FALSE)","v":"David Ballard"},{"$f":"VLOOKUP($C25,'Test 10'!$A$12:$Q$51,7,FALSE)","v":""},{"$f":"VLOOKUP($C25,'Test 10'!$A$12:$Q$51,3,FALSE)","v":""},{"$f":"VLOOKUP($C25,'Test 10'!$A$12:$Q$51,4,FALSE)","v":""},{"$f":"VLOOKUP($C25,'Test 10'!$A$12:$Q$51,5,FALSE)","v":"senior"},{"$f":"VLOOKUP($C25,'Test 10'!$A$12:$Q$51,13,FALSE)","v":"00:00:57.950"},{"$f":"VLOOKUP($C25,'Test 10'!$A$12:$Q$51,16,FALSE)","v":"00:09:09.010"}]
[{"$f":"IF(Pivots!DD17=\"(Blank)\",\"\",Pivots!DD17)","v":0},{"$f":"VLOOKUP($C26,'Test 10'!$A$12:$Q$51,15,FALSE)","v":11},{"$f":"IF(Pivots!DE17=\"(Blank)\",\"\",Pivots!DE17)","v":10},{"$f":"VLOOKUP($C26,'Test 10'!$A$12:$Q$51,2,FALSE)","v":"Scott Taylor"},{"$f":"VLOOKUP($C26,'Test 10'!$A$12:$Q$51,7,FALSE)","v":""},{"$f":"VLOOKUP($C26,'Test 10'!$A$12:$Q$51,3,FALSE)","v":""},{"$f":"VLOOKUP($C26,'Test 10'!$A$12:$Q$51,4,FALSE)","v":""},{"$f":"VLOOKUP($C26,'Test 10'!$A$12:$Q$51,5,FALSE)","v":"senior"},{"$f":"VLOOKUP($C26,'Test 10'!$A$12:$Q$51,13,FALSE)","v":"00:00:58.290"},{"$f":"VLOOKUP($C26,'Test 10'!$A$12:$Q$51,16,FALSE)","v":"00:09:15.650"}]
[{"$f":"IF(Pivots!DD18=\"(Blank)\",\"\",Pivots!DD18)","v":0},{"$f":"VLOOKUP($C27,'Test 10'!$A$12:$Q$51,15,FALSE)","v":15},{"$f":"IF(Pivots!DE18=\"(Blank)\",\"\",Pivots!DE18)","v":12},{"$f":"VLOOKUP($C27,'Test 10'!$A$12:$Q$51,2,FALSE)","v":"Mat Boorman"},{"$f":"VLOOKUP($C27,'Test 10'!$A$12:$Q$51,7,FALSE)","v":""},{"$f":"VLOOKUP($C27,'Test 10'!$A$12:$Q$51,3,FALSE)","v":""},{"$f":"VLOOKUP($C27,'Test 10'!$A$12:$Q$51,4,FALSE)","v":""},{"$f":"VLOOKUP($C27,'Test 10'!$A$12:$Q$51,5,FALSE)","v":"senior"},{"$f":"VLOOKUP($C27,'Test 10'!$A$12:$Q$51,13,FALSE)","v":"00:01:19.050"},{"$f":"VLOOKUP($C27,'Test 10'!$A$12:$Q$51,16,FALSE)","v":"00:09:37.310"}]
[{"$f":"IF(Pivots!DD19=\"(Blank)\",\"\",Pivots!DD19)","v":0},{"$f":"VLOOKUP($C28,'Test 10'!$A$12:$Q$51,15,FALSE)","v":6},{"$f":"IF(Pivots!DE19=\"(Blank)\",\"\",Pivots!DE19)","v":13},{"$f":"VLOOKUP($C28,'Test 10'!$A$12:$Q$51,2,FALSE)","v":"Aaron Wishart"},{"$f":"VLOOKUP($C28,'Test 10'!$A$12:$Q$51,7,FALSE)","v":""},{"$f":"VLOOKUP($C28,'Test 10'!$A$12:$Q$51,3,FALSE)","v":""},{"$f":"VLOOKUP($C28,'Test 10'!$A$12:$Q$51,4,FALSE)","v":""},{"$f":"VLOOKUP($C28,'Test 10'!$A$12:$Q$51,5,FALSE)","v":"senior"},{"$f":"VLOOKUP($C28,'Test 10'!$A$12:$Q$51,13,FALSE)","v":"00:00:55.850"},{"$f":"VLOOKUP($C28,'Test 10'!$A$12:$Q$51,16,FALSE)","v":"00:09:45.850"}]
[{"$f":"IF(Pivots!DD20=\"(Blank)\",\"\",Pivots!DD20)","v":0},{"$f":"VLOOKUP($C29,'Test 10'!$A$12:$Q$51,15,FALSE)","v":19},{"$f":"IF(Pivots!DE20=\"(Blank)\",\"\",Pivots!DE20)","v":11},{"$f":"VLOOKUP($C29,'Test 10'!$A$12:$Q$51,2,FALSE)","v":"Russel McKinley"},{"$f":"VLOOKUP($C29,'Test 10'!$A$12:$Q$51,7,FALSE)","v":""},{"$f":"VLOOKUP($C29,'Test 10'!$A$12:$Q$51,3,FALSE)","v":""},{"$f":"VLOOKUP($C29,'Test 10'!$A$12:$Q$51,4,FALSE)","v":""},{"$f":"VLOOKUP($C29,'Test 10'!$A$12:$Q$51,5,FALSE)","v":"senior"},{"$f":"VLOOKUP($C29,'Test 10'!$A$12:$Q$51,13,FALSE)","v":"00:01:29.050"},{"$f":"VLOOKUP($C29,'Test 10'!$A$12:$Q$51,16,FALSE)","v":"00:09:58.010"}]
[{"$f":"IF(Pivots!DD21=\"(Blank)\",\"\",Pivots!DD21)","v":0},{"$f":"VLOOKUP($C30,'Test 10'!$A$12:$Q$51,15,FALSE)","v":16},{"$f":"IF(Pivots!DE21=\"(Blank)\",\"\",Pivots!DE21)","v":6},{"$f":"VLOOKUP($C30,'Test 10'!$A$12:$Q$51,2,FALSE)","v":"Issac Wishart"},{"$f":"VLOOKUP($C30,'Test 10'!$A$12:$Q$51,7,FALSE)","v":""},{"$f":"VLOOKUP($C30,'Test 10'!$A$12:$Q$51,3,FALSE)","v":"rookie"},{"$f":"VLOOKUP($C30,'Test 10'!$A$12:$Q$51,4,FALSE)","v":""},{"$f":"VLOOKUP($C30,'Test 10'!$A$12:$Q$51,5,FALSE)","v":"senior"},{"$f":"VLOOKUP($C30,'Test 10'!$A$12:$Q$51,13,FALSE)","v":"00:01:24.050"},{"$f":"VLOOKUP($C30,'Test 10'!$A$12:$Q$51,16,FALSE)","v":"00:09:59.490"}]
[{"$f":"IF(Pivots!DD22=\"(Blank)\",\"\",Pivots!DD22)","v":0},{"$f":"VLOOKUP($C31,'Test 10'!$A$12:$Q$51,15,FALSE)","v":14},{"$f":"IF(Pivots!DE22=\"(Blank)\",\"\",Pivots!DE22)","v":4},{"$f":"VLOOKUP($C31,'Test 10'!$A$12:$Q$51,2,FALSE)","v":"Michaela Ballard"},{"$f":"VLOOKUP($C31,'Test 10'!$A$12:$Q$51,7,FALSE)","v":""},{"$f":"VLOOKUP($C31,'Test 10'!$A$12:$Q$51,3,FALSE)","v":"rookie"},{"$f":"VLOOKUP($C31,'Test 10'!$A$12:$Q$51,4,FALSE)","v":"female"},{"$f":"VLOOKUP($C31,'Test 10'!$A$12:$Q$51,5,FALSE)","v":"senior"},{"$f":"VLOOKUP($C31,'Test 10'!$A$12:$Q$51,13,FALSE)","v":"00:01:01.930"},{"$f":"VLOOKUP($C31,'Test 10'!$A$12:$Q$51,16,FALSE)","v":"00:10:07.080"}]
[{"$f":"IF(Pivots!DD23=\"(Blank)\",\"\",Pivots!DD23)","v":0},{"$f":"VLOOKUP($C32,'Test 10'!$A$12:$Q$51,15,FALSE)","v":16},{"$f":"IF(Pivots!DE23=\"(Blank)\",\"\",Pivots!DE23)","v":18},{"$f":"VLOOKUP($C32,'Test 10'!$A$12:$Q$51,2,FALSE)","v":"Jack Stanley"},{"$f":"VLOOKUP($C32,'Test 10'!$A$12:$Q$51,7,FALSE)","v":""},{"$f":"VLOOKUP($C32,'Test 10'!$A$12:$Q$51,3,FALSE)","v":"rookie"},{"$f":"VLOOKUP($C32,'Test 10'!$A$12:$Q$51,4,FALSE)","v":""},{"$f":"VLOOKUP($C32,'Test 10'!$A$12:$Q$51,5,FALSE)","v":"senior"},{"$f":"VLOOKUP($C32,'Test 10'!$A$12:$Q$51,13,FALSE)","v":"00:01:24.050"},{"$f":"VLOOKUP($C32,'Test 10'!$A$12:$Q$51,16,FALSE)","v":"00:10:10.490"}]
[{"$f":"IF(Pivots!DD24=\"(Blank)\",\"\",Pivots!DD24)","v":0},{"$f":"VLOOKUP($C33,'Test 10'!$A$12:$Q$51,15,FALSE)","v":19},{"$f":"IF(Pivots!DE24=\"(Blank)\",\"\",Pivots!DE24)","v":7},{"$f":"VLOOKUP($C33,'Test 10'!$A$12:$Q$51,2,FALSE)","v":""},{"$f":"VLOOKUP($C33,'Test 10'!$A$12:$Q$51,7,FALSE)","v":""},{"$f":"VLOOKUP($C33,'Test 10'!$A$12:$Q$51,3,FALSE)","v":""},{"$f":"VLOOKUP($C33,'Test 10'!$A$12:$Q$51,4,FALSE)","v":""},{"$f":"VLOOKUP($C33,'Test 10'!$A$12:$Q$51,5,FALSE)","v":"senior"},{"$f":"VLOOKUP($C33,'Test 10'!$A$12:$Q$51,13,FALSE)","v":"00:01:29.050"},{"$f":"VLOOKUP($C33,'Test 10'!$A$12:$Q$51,16,FALSE)","v":"00:12:15.090"}]
[{"$f":"IF(Pivots!DD25=\"(Blank)\",\"\",Pivots!DD25)","v":0},{"$f":"VLOOKUP($C34,'Test 10'!$A$12:$Q$51,15,FALSE)","v":19},{"$f":"IF(Pivots!DE25=\"(Blank)\",\"\",Pivots!DE25)","v":21},{"$f":"VLOOKUP($C34,'Test 10'!$A$12:$Q$51,2,FALSE)","v":""},{"$f":"VLOOKUP($C34,'Test 10'!$A$12:$Q$51,7,FALSE)","v":""},{"$f":"VLOOKUP($C34,'Test 10'!$A$12:$Q$51,3,FALSE)","v":""},{"$f":"VLOOKUP($C34,'Test 10'!$A$12:$Q$51,4,FALSE)","v":""},{"$f":"VLOOKUP($C34,'Test 10'!$A$12:$Q$51,5,FALSE)","v":"senior"},{"$f":"VLOOKUP($C34,'Test 10'!$A$12:$Q$51,13,FALSE)","v":"00:01:29.050"},{"$f":"VLOOKUP($C34,'Test 10'!$A$12:$Q$51,16,FALSE)","v":"00:12:15.090"}]
[{"$f":"IF(Pivots!DD26=\"(Blank)\",\"\",Pivots!DD26)","v":0},{"$f":"VLOOKUP($C35,'Test 10'!$A$12:$Q$51,15,FALSE)","v":19},{"$f":"IF(Pivots!DE26=\"(Blank)\",\"\",Pivots!DE26)","v":22},{"$f":"VLOOKUP($C35,'Test 10'!$A$12:$Q$51,2,FALSE)","v":""},{"$f":"VLOOKUP($C35,'Test 10'!$A$12:$Q$51,7,FALSE)","v":""},{"$f":"VLOOKUP($C35,'Test 10'!$A$12:$Q$51,3,FALSE)","v":""},{"$f":"VLOOKUP($C35,'Test 10'!$A$12:$Q$51,4,FALSE)","v":""},{"$f":"VLOOKUP($C35,'Test 10'!$A$12:$Q$51,5,FALSE)","v":"senior"},{"$f":"VLOOKUP($C35,'Test 10'!$A$12:$Q$51,13,FALSE)","v":"00:01:29.050"},{"$f":"VLOOKUP($C35,'Test 10'!$A$12:$Q$51,16,FALSE)","v":"00:12:15.090"}]
[{"$f":"IF(Pivots!DD27=\"(Blank)\",\"\",Pivots!DD27)","v":0},{"$f":"VLOOKUP($C36,'Test 10'!$A$12:$Q$51,15,FALSE)","v":19},{"$f":"IF(Pivots!DE27=\"(Blank)\",\"\",Pivots!DE27)","v":23},{"$f":"VLOOKUP($C36,'Test 10'!$A$12:$Q$51,2,FALSE)","v":""},{"$f":"VLOOKUP($C36,'Test 10'!$A$12:$Q$51,7,FALSE)","v":""},{"$f":"VLOOKUP($C36,'Test 10'!$A$12:$Q$51,3,FALSE)","v":""},{"$f":"VLOOKUP($C36,'Test 10'!$A$12:$Q$51,4,FALSE)","v":""},{"$f":"VLOOKUP($C36,'Test 10'!$A$12:$Q$51,5,FALSE)","v":"senior"},{"$f":"VLOOKUP($C36,'Test 10'!$A$12:$Q$51,13,FALSE)","v":"00:01:29.050"},{"$f":"VLOOKUP($C36,'Test 10'!$A$12:$Q$51,16,FALSE)","v":"00:12:15.090"}]
[{"$f":"IF(Pivots!DD28=\"(Blank)\",\"\",Pivots!DD28)","v":0},{"$f":"VLOOKUP($C37,'Test 10'!$A$12:$Q$51,15,FALSE)","v":19},{"$f":"IF(Pivots!DE28=\"(Blank)\",\"\",Pivots!DE28)","v":24},{"$f":"VLOOKUP($C37,'Test 10'!$A$12:$Q$51,2,FALSE)","v":""},{"$f":"VLOOKUP($C37,'Test 10'!$A$12:$Q$51,7,FALSE)","v":""},{"$f":"VLOOKUP($C37,'Test 10'!$A$12:$Q$51,3,FALSE)","v":""},{"$f":"VLOOKUP($C37,'Test 10'!$A$12:$Q$51,4,FALSE)","v":""},{"$f":"VLOOKUP($C37,'Test 10'!$A$12:$Q$51,5,FALSE)","v":"senior"},{"$f":"VLOOKUP($C37,'Test 10'!$A$12:$Q$51,13,FALSE)","v":"00:01:29.050"},{"$f":"VLOOKUP($C37,'Test 10'!$A$12:$Q$51,16,FALSE)","v":"00:12:15.090"}]
[{"$f":"IF(Pivots!DD29=\"(Blank)\",\"\",Pivots!DD29)","v":0},{"$f":"VLOOKUP($C38,'Test 10'!$A$12:$Q$51,15,FALSE)","v":19},{"$f":"IF(Pivots!DE29=\"(Blank)\",\"\",Pivots!DE29)","v":25},{"$f":"VLOOKUP($C38,'Test 10'!$A$12:$Q$51,2,FALSE)","v":""},{"$f":"VLOOKUP($C38,'Test 10'!$A$12:$Q$51,7,FALSE)","v":""},{"$f":"VLOOKUP($C38,'Test 10'!$A$12:$Q$51,3,FALSE)","v":""},{"$f":"VLOOKUP($C38,'Test 10'!$A$12:$Q$51,4,FALSE)","v":""},{"$f":"VLOOKUP($C38,'Test 10'!$A$12:$Q$51,5,FALSE)","v":"senior"},{"$f":"VLOOKUP($C38,'Test 10'!$A$12:$Q$51,13,FALSE)","v":"00:01:29.050"},{"$f":"VLOOKUP($C38,'Test 10'!$A$12:$Q$51,16,FALSE)","v":"00:12:15.090"}]
[{"$f":"IF(Pivots!DD30=\"(Blank)\",\"\",Pivots!DD30)","v":0},{"$f":"VLOOKUP($C39,'Test 10'!$A$12:$Q$51,15,FALSE)","v":19},{"$f":"IF(Pivots!DE30=\"(Blank)\",\"\",Pivots!DE30)","v":26},{"$f":"VLOOKUP($C39,'Test 10'!$A$12:$Q$51,2,FALSE)","v":""},{"$f":"VLOOKUP($C39,'Test 10'!$A$12:$Q$51,7,FALSE)","v":""},{"$f":"VLOOKUP($C39,'Test 10'!$A$12:$Q$51,3,FALSE)","v":""},{"$f":"VLOOKUP($C39,'Test 10'!$A$12:$Q$51,4,FALSE)","v":""},{"$f":"VLOOKUP($C39,'Test 10'!$A$12:$Q$51,5,FALSE)","v":"senior"},{"$f":"VLOOKUP($C39,'Test 10'!$A$12:$Q$51,13,FALSE)","v":"00:01:29.050"},{"$f":"VLOOKUP($C39,'Test 10'!$A$12:$Q$51,16,FALSE)","v":"00:12:15.090"}]
[{"$f":"IF(Pivots!DD31=\"(Blank)\",\"\",Pivots!DD31)","v":0},{"$f":"VLOOKUP($C40,'Test 10'!$A$12:$Q$51,15,FALSE)","v":19},{"$f":"IF(Pivots!DE31=\"(Blank)\",\"\",Pivots!DE31)","v":27},{"$f":"VLOOKUP($C40,'Test 10'!$A$12:$Q$51,2,FALSE)","v":""},{"$f":"VLOOKUP($C40,'Test 10'!$A$12:$Q$51,7,FALSE)","v":""},{"$f":"VLOOKUP($C40,'Test 10'!$A$12:$Q$51,3,FALSE)","v":""},{"$f":"VLOOKUP($C40,'Test 10'!$A$12:$Q$51,4,FALSE)","v":""},{"$f":"VLOOKUP($C40,'Test 10'!$A$12:$Q$51,5,FALSE)","v":"senior"},{"$f":"VLOOKUP($C40,'Test 10'!$A$12:$Q$51,13,FALSE)","v":"00:01:29.050"},{"$f":"VLOOKUP($C40,'Test 10'!$A$12:$Q$51,16,FALSE)","v":"00:12:15.090"}]
[{"$f":"IF(Pivots!DD32=\"(Blank)\",\"\",Pivots!DD32)","v":0},{"$f":"VLOOKUP($C41,'Test 10'!$A$12:$Q$51,15,FALSE)","v":19},{"$f":"IF(Pivots!DE32=\"(Blank)\",\"\",Pivots!DE32)","v":28},{"$f":"VLOOKUP($C41,'Test 10'!$A$12:$Q$51,2,FALSE)","v":""},{"$f":"VLOOKUP($C41,'Test 10'!$A$12:$Q$51,7,FALSE)","v":""},{"$f":"VLOOKUP($C41,'Test 10'!$A$12:$Q$51,3,FALSE)","v":""},{"$f":"VLOOKUP($C41,'Test 10'!$A$12:$Q$51,4,FALSE)","v":""},{"$f":"VLOOKUP($C41,'Test 10'!$A$12:$Q$51,5,FALSE)","v":"senior"},{"$f":"VLOOKUP($C41,'Test 10'!$A$12:$Q$51,13,FALSE)","v":"00:01:29.050"},{"$f":"VLOOKUP($C41,'Test 10'!$A$12:$Q$51,16,FALSE)","v":"00:12:15.090"}]
[{"$f":"IF(Pivots!DD33=\"(Blank)\",\"\",Pivots!DD33)","v":0},{"$f":"VLOOKUP($C42,'Test 10'!$A$12:$Q$51,15,FALSE)","v":19},{"$f":"IF(Pivots!DE33=\"(Blank)\",\"\",Pivots!DE33)","v":29},{"$f":"VLOOKUP($C42,'Test 10'!$A$12:$Q$51,2,FALSE)","v":""},{"$f":"VLOOKUP($C42,'Test 10'!$A$12:$Q$51,7,FALSE)","v":""},{"$f":"VLOOKUP($C42,'Test 10'!$A$12:$Q$51,3,FALSE)","v":""},{"$f":"VLOOKUP($C42,'Test 10'!$A$12:$Q$51,4,FALSE)","v":""},{"$f":"VLOOKUP($C42,'Test 10'!$A$12:$Q$51,5,FALSE)","v":"senior"},{"$f":"VLOOKUP($C42,'Test 10'!$A$12:$Q$51,13,FALSE)","v":"00:01:29.050"},{"$f":"VLOOKUP($C42,'Test 10'!$A$12:$Q$51,16,FALSE)","v":"00:12:15.090"}]
[{"$f":"IF(Pivots!DD34=\"(Blank)\",\"\",Pivots!DD34)","v":0},{"$f":"VLOOKUP($C43,'Test 10'!$A$12:$Q$51,15,FALSE)","v":19},{"$f":"IF(Pivots!DE34=\"(Blank)\",\"\",Pivots!DE34)","v":30},{"$f":"VLOOKUP($C43,'Test 10'!$A$12:$Q$51,2,FALSE)","v":""},{"$f":"VLOOKUP($C43,'Test 10'!$A$12:$Q$51,7,FALSE)","v":""},{"$f":"VLOOKUP($C43,'Test 10'!$A$12:$Q$51,3,FALSE)","v":""},{"$f":"VLOOKUP($C43,'Test 10'!$A$12:$Q$51,4,FALSE)","v":""},{"$f":"VLOOKUP($C43,'Test 10'!$A$12:$Q$51,5,FALSE)","v":"senior"},{"$f":"VLOOKUP($C43,'Test 10'!$A$12:$Q$51,13,FALSE)","v":"00:01:29.050"},{"$f":"VLOOKUP($C43,'Test 10'!$A$12:$Q$51,16,FALSE)","v":"00:12:15.090"}]
[{"$f":"IF(Pivots!DD35=\"(Blank)\",\"\",Pivots!DD35)","v":0},{"$f":"VLOOKUP($C44,'Test 10'!$A$12:$Q$51,15,FALSE)","v":19},{"$f":"IF(Pivots!DE35=\"(Blank)\",\"\",Pivots!DE35)","v":31},{"$f":"VLOOKUP($C44,'Test 10'!$A$12:$Q$51,2,FALSE)","v":""},{"$f":"VLOOKUP($C44,'Test 10'!$A$12:$Q$51,7,FALSE)","v":""},{"$f":"VLOOKUP($C44,'Test 10'!$A$12:$Q$51,3,FALSE)","v":""},{"$f":"VLOOKUP($C44,'Test 10'!$A$12:$Q$51,4,FALSE)","v":""},{"$f":"VLOOKUP($C44,'Test 10'!$A$12:$Q$51,5,FALSE)","v":"senior"},{"$f":"VLOOKUP($C44,'Test 10'!$A$12:$Q$51,13,FALSE)","v":"00:01:29.050"},{"$f":"VLOOKUP($C44,'Test 10'!$A$12:$Q$51,16,FALSE)","v":"00:12:15.090"}]
[{"$f":"IF(Pivots!DD36=\"(Blank)\",\"\",Pivots!DD36)","v":0},{"$f":"VLOOKUP($C45,'Test 10'!$A$12:$Q$51,15,FALSE)","v":19},{"$f":"IF(Pivots!DE36=\"(Blank)\",\"\",Pivots!DE36)","v":32},{"$f":"VLOOKUP($C45,'Test 10'!$A$12:$Q$51,2,FALSE)","v":""},{"$f":"VLOOKUP($C45,'Test 10'!$A$12:$Q$51,7,FALSE)","v":""},{"$f":"VLOOKUP($C45,'Test 10'!$A$12:$Q$51,3,FALSE)","v":""},{"$f":"VLOOKUP($C45,'Test 10'!$A$12:$Q$51,4,FALSE)","v":""},{"$f":"VLOOKUP($C45,'Test 10'!$A$12:$Q$51,5,FALSE)","v":"senior"},{"$f":"VLOOKUP($C45,'Test 10'!$A$12:$Q$51,13,FALSE)","v":"00:01:29.050"},{"$f":"VLOOKUP($C45,'Test 10'!$A$12:$Q$51,16,FALSE)","v":"00:12:15.090"}]
[{"$f":"IF(Pivots!DD37=\"(Blank)\",\"\",Pivots!DD37)","v":0},{"$f":"VLOOKUP($C46,'Test 10'!$A$12:$Q$51,15,FALSE)","v":19},{"$f":"IF(Pivots!DE37=\"(Blank)\",\"\",Pivots!DE37)","v":33},{"$f":"VLOOKUP($C46,'Test 10'!$A$12:$Q$51,2,FALSE)","v":""},{"$f":"VLOOKUP($C46,'Test 10'!$A$12:$Q$51,7,FALSE)","v":""},{"$f":"VLOOKUP($C46,'Test 10'!$A$12:$Q$51,3,FALSE)","v":""},{"$f":"VLOOKUP($C46,'Test 10'!$A$12:$Q$51,4,FALSE)","v":""},{"$f":"VLOOKUP($C46,'Test 10'!$A$12:$Q$51,5,FALSE)","v":"senior"},{"$f":"VLOOKUP($C46,'Test 10'!$A$12:$Q$51,13,FALSE)","v":"00:01:29.050"},{"$f":"VLOOKUP($C46,'Test 10'!$A$12:$Q$51,16,FALSE)","v":"00:12:15.090"}]
[{"$f":"IF(Pivots!DD38=\"(Blank)\",\"\",Pivots!DD38)","v":0},{"$f":"VLOOKUP($C47,'Test 10'!$A$12:$Q$51,15,FALSE)","v":19},{"$f":"IF(Pivots!DE38=\"(Blank)\",\"\",Pivots!DE38)","v":34},{"$f":"VLOOKUP($C47,'Test 10'!$A$12:$Q$51,2,FALSE)","v":""},{"$f":"VLOOKUP($C47,'Test 10'!$A$12:$Q$51,7,FALSE)","v":""},{"$f":"VLOOKUP($C47,'Test 10'!$A$12:$Q$51,3,FALSE)","v":""},{"$f":"VLOOKUP($C47,'Test 10'!$A$12:$Q$51,4,FALSE)","v":""},{"$f":"VLOOKUP($C47,'Test 10'!$A$12:$Q$51,5,FALSE)","v":"senior"},{"$f":"VLOOKUP($C47,'Test 10'!$A$12:$Q$51,13,FALSE)","v":"00:01:29.050"},{"$f":"VLOOKUP($C47,'Test 10'!$A$12:$Q$51,16,FALSE)","v":"00:12:15.090"}]
[{"$f":"IF(Pivots!DD39=\"(Blank)\",\"\",Pivots!DD39)","v":0},{"$f":"VLOOKUP($C48,'Test 10'!$A$12:$Q$51,15,FALSE)","v":19},{"$f":"IF(Pivots!DE39=\"(Blank)\",\"\",Pivots!DE39)","v":35},{"$f":"VLOOKUP($C48,'Test 10'!$A$12:$Q$51,2,FALSE)","v":""},{"$f":"VLOOKUP($C48,'Test 10'!$A$12:$Q$51,7,FALSE)","v":""},{"$f":"VLOOKUP($C48,'Test 10'!$A$12:$Q$51,3,FALSE)","v":""},{"$f":"VLOOKUP($C48,'Test 10'!$A$12:$Q$51,4,FALSE)","v":""},{"$f":"VLOOKUP($C48,'Test 10'!$A$12:$Q$51,5,FALSE)","v":"senior"},{"$f":"VLOOKUP($C48,'Test 10'!$A$12:$Q$51,13,FALSE)","v":"00:01:29.050"},{"$f":"VLOOKUP($C48,'Test 10'!$A$12:$Q$51,16,FALSE)","v":"00:12:15.090"}]
[{"$f":"IF(Pivots!DD40=\"(Blank)\",\"\",Pivots!DD40)","v":0},{"$f":"VLOOKUP($C49,'Test 10'!$A$12:$Q$51,15,FALSE)","v":19},{"$f":"IF(Pivots!DE40=\"(Blank)\",\"\",Pivots!DE40)","v":36},{"$f":"VLOOKUP($C49,'Test 10'!$A$12:$Q$51,2,FALSE)","v":""},{"$f":"VLOOKUP($C49,'Test 10'!$A$12:$Q$51,7,FALSE)","v":""},{"$f":"VLOOKUP($C49,'Test 10'!$A$12:$Q$51,3,FALSE)","v":""},{"$f":"VLOOKUP($C49,'Test 10'!$A$12:$Q$51,4,FALSE)","v":""},{"$f":"VLOOKUP($C49,'Test 10'!$A$12:$Q$51,5,FALSE)","v":"senior"},{"$f":"VLOOKUP($C49,'Test 10'!$A$12:$Q$51,13,FALSE)","v":"00:01:29.050"},{"$f":"VLOOKUP($C49,'Test 10'!$A$12:$Q$51,16,FALSE)","v":"00:12:15.090"}]
[{"$f":"IF(Pivots!DD41=\"(Blank)\",\"\",Pivots!DD41)","v":0},{"$f":"VLOOKUP($C50,'Test 10'!$A$12:$Q$51,15,FALSE)","v":19},{"$f":"IF(Pivots!DE41=\"(Blank)\",\"\",Pivots!DE41)","v":37},{"$f":"VLOOKUP($C50,'Test 10'!$A$12:$Q$51,2,FALSE)","v":""},{"$f":"VLOOKUP($C50,'Test 10'!$A$12:$Q$51,7,FALSE)","v":""},{"$f":"VLOOKUP($C50,'Test 10'!$A$12:$Q$51,3,FALSE)","v":""},{"$f":"VLOOKUP($C50,'Test 10'!$A$12:$Q$51,4,FALSE)","v":""},{"$f":"VLOOKUP($C50,'Test 10'!$A$12:$Q$51,5,FALSE)","v":"senior"},{"$f":"VLOOKUP($C50,'Test 10'!$A$12:$Q$51,13,FALSE)","v":"00:01:29.050"},{"$f":"VLOOKUP($C50,'Test 10'!$A$12:$Q$51,16,FALSE)","v":"00:12:15.090"}]
[{"$f":"IF(Pivots!DD42=\"(Blank)\",\"\",Pivots!DD42)","v":0},{"$f":"VLOOKUP($C51,'Test 10'!$A$12:$Q$51,15,FALSE)","v":19},{"$f":"IF(Pivots!DE42=\"(Blank)\",\"\",Pivots!DE42)","v":38},{"$f":"VLOOKUP($C51,'Test 10'!$A$12:$Q$51,2,FALSE)","v":""},{"$f":"VLOOKUP($C51,'Test 10'!$A$12:$Q$51,7,FALSE)","v":""},{"$f":"VLOOKUP($C51,'Test 10'!$A$12:$Q$51,3,FALSE)","v":""},{"$f":"VLOOKUP($C51,'Test 10'!$A$12:$Q$51,4,FALSE)","v":""},{"$f":"VLOOKUP($C51,'Test 10'!$A$12:$Q$51,5,FALSE)","v":"senior"},{"$f":"VLOOKUP($C51,'Test 10'!$A$12:$Q$51,13,FALSE)","v":"00:01:29.050"},{"$f":"VLOOKUP($C51,'Test 10'!$A$12:$Q$51,16,FALSE)","v":"00:12:15.090"}]
[{"$f":"IF(Pivots!DD43=\"(Blank)\",\"\",Pivots!DD43)","v":0},{"$f":"VLOOKUP($C52,'Test 10'!$A$12:$Q$51,15,FALSE)","v":19},{"$f":"IF(Pivots!DE43=\"(Blank)\",\"\",Pivots!DE43)","v":39},{"$f":"VLOOKUP($C52,'Test 10'!$A$12:$Q$51,2,FALSE)","v":""},{"$f":"VLOOKUP($C52,'Test 10'!$A$12:$Q$51,7,FALSE)","v":""},{"$f":"VLOOKUP($C52,'Test 10'!$A$12:$Q$51,3,FALSE)","v":""},{"$f":"VLOOKUP($C52,'Test 10'!$A$12:$Q$51,4,FALSE)","v":""},{"$f":"VLOOKUP($C52,'Test 10'!$A$12:$Q$51,5,FALSE)","v":"senior"},{"$f":"VLOOKUP($C52,'Test 10'!$A$12:$Q$51,13,FALSE)","v":"00:01:29.050"},{"$f":"VLOOKUP($C52,'Test 10'!$A$12:$Q$51,16,FALSE)","v":"00:12:15.090"}]
[{"$f":"IF(Pivots!DD44=\"(Blank)\",\"\",Pivots!DD44)","v":0},{"$f":"VLOOKUP($C53,'Test 10'!$A$12:$Q$51,15,FALSE)","v":19},{"$f":"IF(Pivots!DE44=\"(Blank)\",\"\",Pivots!DE44)","v":40},{"$f":"VLOOKUP($C53,'Test 10'!$A$12:$Q$51,2,FALSE)","v":""},{"$f":"VLOOKUP($C53,'Test 10'!$A$12:$Q$51,7,FALSE)","v":""},{"$f":"VLOOKUP($C53,'Test 10'!$A$12:$Q$51,3,FALSE)","v":""},{"$f":"VLOOKUP($C53,'Test 10'!$A$12:$Q$51,4,FALSE)","v":""},{"$f":"VLOOKUP($C53,'Test 10'!$A$12:$Q$51,5,FALSE)","v":"senior"},{"$f":"VLOOKUP($C53,'Test 10'!$A$12:$Q$51,13,FALSE)","v":"00:01:29.050"},{"$f":"VLOOKUP($C53,'Test 10'!$A$12:$Q$51,16,FALSE)","v":"00:12:15.090"}]

{"sheet":"Print_Test 11","index":13,"n_rows":53,"n_cols":10,"rows_kept":53,"cut":false,"hidden":false,"merged":[[11,6,12,6],[11,7,12,7],[8,3,8,5],[9,3,9,5],[11,0,12,0],[11,1,12,1],[11,2,12,2],[11,3,12,3],[11,4,12,4],[11,5,12,5]]}
[]
[]
[]
[]
[]
[]
[]
[]
[null,null,null,"Provisional Results"]
[null,null,null,"Test 11"]
[]
["Outright Position","Test Position","Car Number","Driver","Class","Rookie?","Female?","Junior?","Test Time","Cumulative Time"]
[null,null,null,null,null,null,null,null,"(mm:ss.00)","(mm:ss.00)"]
[{"$f":"IF(Pivots!DO5=\"(Blank)\",\"\",Pivots!DO5)","v":0},{"$f":"VLOOKUP($C14,'Test 11'!$A$12:$Q$51,15,FALSE)","v":1},{"$f":"IF(Pivots!DP5=\"(Blank)\",\"\",Pivots!DP5)","v":17},{"$f":"VLOOKUP($C14,'Test 11'!$A$12:$Q$51,2,FALSE)","v":"Reece McIntosh"},{"$f":"VLOOKUP($C14,'Test 11'!$A$12:$Q$51,7,FALSE)","v":""},{"$f":"VLOOKUP($C14,'Test 11'!$A$12:$Q$51,3,FALSE)","v":""},{"$f":"VLOOKUP($C14,'Test 11'!$A$12:$Q$51,4,FALSE)","v":""},{"$f":"VLOOKUP($C14,'Test 11'!$A$12:$Q$51,5,FALSE)","v":"senior"},{"$f":"VLOOKUP($C14,'Test 11'!$A$12:$Q$51,13,FALSE)","v":"00:01:31.590"},{"$f":"VLOOKUP($C14,'Test 11'!$A$12:$Q$51,16,FALSE)","v":"00:09:25.220"}]
[{"$f":"IF(Pivots!DO6=\"(Blank)\",\"\",Pivots!DO6)","v":0},{"$f":"VLOOKUP($C15,'Test 11'!$A$12:$Q$51,15,FALSE)","v":3},{"$f":"IF(Pivots!DP6=\"(Blank)\",\"\",Pivots!DP6)","v":1},{"$f":"VLOOKUP($C15,'Test 11'!$A$12:$Q$51,2,FALSE)","v":"Paul Dunn"},{"$f":"VLOOKUP($C15,'Test 11'!$A$12:$Q$51,7,FALSE)","v":""},{"$f":"VLOOKUP($C15,'Test 11'!$A$12:$Q$51,3,FALSE)","v":""},{"$f":"VLOOKUP($C15,'Test 11'!$A$12:$Q$51,4,FALSE)","v":""},{"$f":"VLOOKUP($C15,'Test 11'!$A$12:$Q$51,5,FALSE)","v":"senior"},{"$f":"VLOOKUP($C15,'Test 11'!$A$12:$Q$51,13,FALSE)","v":"00:01:35.040"},{"$f":"VLOOKUP($C15,'Test 11'!$A$12:$Q$51,16,FALSE)","v":"00:09:39.310"}]
[{"$f":"IF(Pivots!DO7=\"(Blank)\",\"\",Pivots!DO7)","v":0},{"$f":"VLOOKUP($C16,'Test 11'!$A$12:$Q$51,15,FALSE)","v":5},{"$f":"IF(Pivots!DP7=\"(Blank)\",\"\",Pivots!DP7)","v":9},{"$f":"VLOOKUP($C16,'Test 11'!$A$12:$Q$51,2,FALSE)","v":"Brad Firman"},{"$f":"VLOOKUP($C16,'Test 11'!$A$12:$Q$51,7,FALSE)","v":""},{"$f":"VLOOKUP($C16,'Test 11'!$A$12:$Q$51,3,FALSE)","v":""},{"$f":"VLOOKUP($C16,'Test 11'!$A$12:$Q$51,4,FALSE)","v":""},{"$f":"VLOOKUP($C16,'Test 11'!$A$12:$Q$51,5,FALSE)","v":"senior"},{"$f":"VLOOKUP($C16,'Test 11'!$A$12:$Q$51,13,FALSE)","v":"00:01:36.010"},{"$f":"VLOOKUP($C16,'Test 11'!$A$12:$Q$51,16,FALSE)","v":"00:09:45.370"}]
[{"$f":"IF(Pivots!DO8=\"(Blank)\",\"\",Pivots!DO8)","v":0},{"$f":"VLOOKUP($C17,'Test 11'!$A$12:$Q$51,15,FALSE)","v":6},{"$f":"IF(Pivots!DP8=\"(Blank)\",\"\",Pivots!DP8)","v":14},{"$f":"VLOOKUP($C17,'Test 11'!$A$12:$Q$51,2,FALSE)","v":"Bob Fulthorpe"},{"$f":"VLOOKUP($C17,'Test 11'!$A$12:$Q$51,7,FALSE)","v":""},{"$f":"VLOOKUP($C17,'Test 11'!$A$12:$Q$51,3,FALSE)","v":""},{"$f":"VLOOKUP($C17,'Test 11'!$A$12:$Q$51,4,FALSE)","v":""},{"$f":"VLOOKUP($C17,'Test 11'!$A$12:$Q$51,5,FALSE)","v":"senior"},{"$f":"VLOOKUP($C17,'Test 11'!$A$12:$Q$51,13,FALSE)","v":"00:01:40.190"},{"$f":"VLOOKUP($C17,'Test 11'!$A$12:$Q$51,16,FALSE)","v":"00:09:59.850"}]
[{"$f":"IF(Pivots!DO9=\"(Blank)\",\"\",Pivots!DO9)","v":0},{"$f":"VLOOKUP($C18,'Test 11'!$A$12:$Q$51,15,FALSE)","v":2},{"$f":"IF(Pivots!DP9=\"(Blank)\",\"\",Pivots!DP9)","v":2},{"$f":"VLOOKUP($C18,'Test 11'!$A$12:$Q$51,2,FALSE)","v":"Stephen Thorne"},{"$f":"VLOOKUP($C18,'Test 11'!$A$12:$Q$51,7,FALSE)","v":""},{"$f":"VLOOKUP($C18,'Test 11'!$A$12:$Q$51,3,FALSE)","v":""},{"$f":"VLOOKUP($C18,'Test 11'!$A$12:$Q$51,4,FALSE)","v":""},{"$f":"VLOOKUP($C18,'Test 11'!$A$12:$Q$51,5,FALSE)","v":"senior"},{"$f":"VLOOKUP($C18,'Test 11'!$A$12:$Q$51,13,FALSE)","v":"00:01:32.860"},{"$f":"VLOOKUP($C18,'Test 11'!$A$12:$Q$51,16,FALSE)","v":"00:10:02.920"}]
[{"$f":"IF(Pivots!DO10=\"(Blank)\",\"\",Pivots!DO10)","v":0},{"$f":"VLOOKUP($C19,'Test 11'!$A$12:$Q$51,15,FALSE)","v":8},{"$f":"IF(Pivots!DP10=\"(Blank)\",\"\",Pivots!DP10)","v":20},{"$f":"VLOOKUP($C19,'Test 11'!$A$12:$Q$51,2,FALSE)","v":"Ray Lampl"},{"$f":"VLOOKUP($C19,'Test 11'!$A$12:$Q$51,7,FALSE)","v":""},{"$f":"VLOOKUP($C19,'Test 11'!$A$12:$Q$51,3,FALSE)","v":""},{"$f":"VLOOKUP($C19,'Test 11'!$A$12:$Q$51,4,FALSE)","v":""},{"$f":"VLOOKUP($C19,'Test 11'!$A$12:$Q$51,5,FALSE)","v":"senior"},{"$f":"VLOOKUP($C19,'Test 11'!$A$12:$Q$51,13,FALSE)","v":"00:01:44.260"},{"$f":"VLOOKUP($C19,'Test 11'!$A$12:$Q$51,16,FALSE)","v":"00:10:24.510"}]
[{"$f":"IF(Pivots!DO11=\"(Blank)\",\"\",Pivots!DO11)","v":0},{"$f":"VLOOKUP($C20,'Test 11'!$A$12:$Q$51,15,FALSE)","v":4},{"$f":"IF(Pivots!DP11=\"(Blank)\",\"\",Pivots!DP11)","v":16},{"$f":"VLOOKUP($C20,'Test 11'!$A$12:$Q$51,2,FALSE)","v":"Nathan Senior"},{"$f":"VLOOKUP($C20,'Test 11'!$A$12:$Q$51,7,FALSE)","v":""},{"$f":"VLOOKUP($C20,'Test 11'!$A$12:$Q$51,3,FALSE)","v":""},{"$f":"VLOOKUP($C20,'Test 11'!$A$12:$Q$51,4,FALSE)","v":""},{"$f":"VLOOKUP($C20,'Test 11'!$A$12:$Q$51,5,FALSE)","v":"senior"},{"$f":"VLOOKUP($C20,'Test 11'!$A$12:$Q$51,13,FALSE)","v":"00:01:35.120"},{"$f":"VLOOKUP($C20,'Test 11'!$A$12:$Q$51,16,FALSE)","v":"00:10:35.290"}]
[{"$f":"IF(Pivots!DO12=\"(Blank)\",\"\",Pivots!DO12)","v":0},{"$f":"VLOOKUP($C21,'Test 11'!$A$12:$Q$51,15,FALSE)","v":12},{"$f":"IF(Pivots!DP12=\"(Blank)\",\"\",Pivots!DP12)","v":5},{"$f":"VLOOKUP($C21,'Test 11'!$A$12:$Q$51,2,FALSE)","v":"Janelle Ballard"},{"$f":"VLOOKUP($C21,'Test 11'!$A$12:$Q$51,7,FALSE)","v":""},{"$f":"VLOOKUP($C21,'Test 11'!$A$12:$Q$51,3,FALSE)","v":""},{"$f":"VLOOKUP($C21,'Test 11'!$A$12:$Q$51,4,FALSE)","v":"female"},{"$f":"VLOOKUP($C21,'Test 11'!$A$12:$Q$51,5,FALSE)","v":"senior"},{"$f":"VLOOKUP($C21,'Test 11'!$A$12:$Q$51,13,FALSE)","v":"00:01:47.130"},{"$f":"VLOOKUP($C21,'Test 11'!$A$12:$Q$51,16,FALSE)","v":"00:10:36.160"}]
[{"$f":"IF(Pivots!DO13=\"(Blank)\",\"\",Pivots!DO13)","v":0},{"$f":"VLOOKUP($C22,'Test 11'!$A$12:$Q$51,15,FALSE)","v":7},{"$f":"IF(Pivots!DP13=\"(Blank)\",\"\",Pivots!DP13)","v":19},{"$f":"VLOOKUP($C22,'Test 11'!$A$12:$Q$51,2,FALSE)","v":"Christopher Northey"},{"$f":"VLOOKUP($C22,'Test 11'!$A$12:$Q$51,7,FALSE)","v":""},{"$f":"VLOOKUP($C22,'Test 11'!$A$12:$Q$51,3,FALSE)","v":""},{"$f":"VLOOKUP($C22,'Test 11'!$A$12:$Q$51,4,FALSE)","v":""},{"$f":"VLOOKUP($C22,'Test 11'!$A$12:$Q$51,5,FALSE)","v":"senior"},{"$f":"VLOOKUP($C22,'Test 11'!$A$12:$Q$51,13,FALSE)","v":"00:01:42.430"},{"$f":"VLOOKUP($C22,'Test 11'!$A$12:$Q$51,16,FALSE)","v":"00:10:40.730"}]
[{"$f":"IF(Pivots!DO14=\"(Blank)\",\"\",Pivots!DO14)","v":0},{"$f":"VLOOKUP($C23,'Test 11'!$A$12:$Q$51,15,FALSE)","v":9},{"$f":"IF(Pivots!DP14=\"(Blank)\",\"\",Pivots!DP14)","v":15},{"$f":"VLOOKUP($C23,'Test 11'!$A$12:$Q$51,2,FALSE)","v":"Khi Fulthorpe"},{"$f":"VLOOKUP($C23,'Test 11'!$A$12:$Q$51,7,FALSE)","v":""},{"$f":"VLOOKUP($C23,'Test 11'!$A$12:$Q$51,3,FALSE)","v":""},{"$f":"VLOOKUP($C23,'Test 11'!$A$12:$Q$51,4,FALSE)","v":""},{"$f":"VLOOKUP($C23,'Test 11'!$A$12:$Q$51,5,FALSE)","v":"senior"},{"$f":"VLOOKUP($C23,'Test 11'!$A$12:$Q$51,13,FALSE)","v":"00:01:44.630"},{"$f":"VLOOKUP($C23,'Test 11'!$A$12:$Q$51,16,FALSE)","v":"00:10:46.060"}]
[{"$f":"IF(Pivots!DO15=\"(Blank)\",\"\",Pivots!DO15)","v":0},{"$f":"VLOOKUP($C24,'Test 11'!$A$12:$Q$51,15,FALSE)","v":11},{"$f":"IF(Pivots!DP15=\"(Blank)\",\"\",Pivots!DP15)","v":3},{"$f":"VLOOKUP($C24,'Test 11'!$A$12:$Q$51,2,FALSE)","v":"David Ballard"},{"$f":"VLOOKUP($C24,'Test 11'!$A$12:$Q$51,7,FALSE)","v":""},{"$f":"VLOOKUP($C24,'Test 11'!$A$12:$Q$51,3,FALSE)","v":""},{"$f":"VLOOKUP($C24,'Test 11'!$A$12:$Q$51,4,FALSE)","v":""},{"$f":"VLOOKUP($C24,'Test 11'!$A$12:$Q$51,5,FALSE)","v":"senior"},{"$f":"VLOOKUP($C24,'Test 11'!$A$12:$Q$51,13,FALSE)","v":"00:01:46.010"},{"$f":"VLOOKUP($C24,'Test 11'!$A$12:$Q$51,16,FALSE)","v":"00:10:55.020"}]
[{"$f":"IF(Pivots!DO16=\"(Blank)\",\"\",Pivots!DO16)","v":0},{"$f":"VLOOKUP($C25,'Test 11'!$A$12:$Q$51,15,FALSE)","v":16},{"$f":"IF(Pivots!DP16=\"(Blank)\",\"\",Pivots!DP16)","v":8},{"$f":"VLOOKUP($C25,'Test 11'!$A$12:$Q$51,2,FALSE)","v":"Jim Taylor"},{"$f":"VLOOKUP($C25,'Test 11'!$A$12:$Q$51,7,FALSE)","v":""},{"$f":"VLOOKUP($C25,'Test 11'!$A$12:$Q$51,3,FALSE)","v":""},{"$f":"VLOOKUP($C25,'Test 11'!$A$12:$Q$51,4,FALSE)","v":""},{"$f":"VLOOKUP($C25,'Test 11'!$A$12:$Q$51,5,FALSE)","v":"senior"},{"$f":"VLOOKUP($C25,'Test 11'!$A$12:$Q$51,13,FALSE)","v":"00:01:50.060"},{"$f":"VLOOKUP($C25,'Test 11'!$A$12:$Q$51,16,FALSE)","v":"00:10:56.280"}]
[{"$f":"IF(Pivots!DO17=\"(Blank)\",\"\",Pivots!DO17)","v":0},{"$f":"VLOOKUP($C26,'Test 11'!$A$12:$Q$51,15,FALSE)","v":15},{"$f":"IF(Pivots!DP17=\"(Blank)\",\"\",Pivots!DP17)","v":10},{"$f":"VLOOKUP($C26,'Test 11'!$A$12:$Q$51,2,FALSE)","v":"Scott Taylor"},{"$f":"VLOOKUP($C26,'Test 11'!$A$12:$Q$51,7,FALSE)","v":""},{"$f":"VLOOKUP($C26,'Test 11'!$A$12:$Q$51,3,FALSE)","v":""},{"$f":"VLOOKUP($C26,'Test 11'!$A$12:$Q$51,4,FALSE)","v":""},{"$f":"VLOOKUP($C26,'Test 11'!$A$12:$Q$51,5,FALSE)","v":"senior"},{"$f":"VLOOKUP($C26,'Test 11'!$A$12:$Q$51,13,FALSE)","v":"00:01:49.300"},{"$f":"VLOOKUP($C26,'Test 11'!$A$12:$Q$51,16,FALSE)","v":"00:11:04.950"}]
[{"$f":"IF(Pivots!DO18=\"(Blank)\",\"\",Pivots!DO18)","v":0},{"$f":"VLOOKUP($C27,'Test 11'!$A$12:$Q$51,15,FALSE)","v":10},{"$f":"IF(Pivots!DP18=\"(Blank)\",\"\",Pivots!DP18)","v":13},{"$f":"VLOOKUP($C27,'Test 11'!$A$12:$Q$51,2,FALSE)","v":"Aaron Wishart"},{"$f":"VLOOKUP($C27,'Test 11'!$A$12:$Q$51,7,FALSE)","v":""},{"$f":"VLOOKUP($C27,'Test 11'!$A$12:$Q$51,3,FALSE)","v":""},{"$f":"VLOOKUP($C27,'Test 11'!$A$12:$Q$51,4,FALSE)","v":""},{"$f":"VLOOKUP($C27,'Test 11'!$A$12:$Q$51,5,FALSE)","v":"senior"},{"$f":"VLOOKUP($C27,'Test 11'!$A$12:$Q$51,13,FALSE)","v":"00:01:44.670"},{"$f":"VLOOKUP($C27,'Test 11'!$A$12:$Q$51,16,FALSE)","v":"00:11:30.520"}]
[{"$f":"IF(Pivots!DO19=\"(Blank)\",\"\",Pivots!DO19)","v":0},{"$f":"VLOOKUP($C28,'Test 11'!$A$12:$Q$51,15,FALSE)","v":17},{"$f":"IF(Pivots!DP19=\"(Blank)\",\"\",Pivots!DP19)","v":12},{"$f":"VLOOKUP($C28,'Test 11'!$A$12:$Q$51,2,FALSE)","v":"Mat Boorman"},{"$f":"VLOOKUP($C28,'Test 11'!$A$12:$Q$51,7,FALSE)","v":""},{"$f":"VLOOKUP($C28,'Test 11'!$A$12:$Q$51,3,FALSE)","v":""},{"$f":"VLOOKUP($C28,'Test 11'!$A$12:$Q$51,4,FALSE)","v":""},{"$f":"VLOOKUP($C28,'Test 11'!$A$12:$Q$51,5,FALSE)","v":"senior"},{"$f":"VLOOKUP($C28,'Test 11'!$A$12:$Q$51,13,FALSE)","v":"00:01:55.090"},{"$f":"VLOOKUP($C28,'Test 11'!$A$12:$Q$51,16,FALSE)","v":"00:11:32.400"}]
[{"$f":"IF(Pivots!DO20=\"(Blank)\",\"\",Pivots!DO20)","v":0},{"$f":"VLOOKUP($C29,'Test 11'!$A$12:$Q$51,15,FALSE)","v":14},{"$f":"IF(Pivots!DP20=\"(Blank)\",\"\",Pivots!DP20)","v":6},{"$f":"VLOOKUP($C29,'Test 11'!$A$12:$Q$51,2,FALSE)","v":"Issac Wishart"},{"$f":"VLOOKUP($C29,'Test 11'!$A$12:$Q$51,7,FALSE)","v":""},{"$f":"VLOOKUP($C29,'Test 11'!$A$12:$Q$51,3,FALSE)","v":"rookie"},{"$f":"VLOOKUP($C29,'Test 11'!$A$12:$Q$51,4,FALSE)","v":""},{"$f":"VLOOKUP($C29,'Test 11'!$A$12:$Q$51,5,FALSE)","v":"senior"},{"$f":"VLOOKUP($C29,'Test 11'!$A$12:$Q$51,13,FALSE)","v":"00:01:49.100"},{"$f":"VLOOKUP($C29,'Test 11'!$A$12:$Q$51,16,FALSE)","v":"00:11:48.590"}]
[{"$f":"IF(Pivots!DO21=\"(Blank)\",\"\",Pivots!DO21)","v":0},{"$f":"VLOOKUP($C30,'Test 11'!$A$12:$Q$51,15,FALSE)","v":13},{"$f":"IF(Pivots!DP21=\"(Blank)\",\"\",Pivots!DP21)","v":18},{"$f":"VLOOKUP($C30,'Test 11'!$A$12:$Q$51,2,FALSE)","v":"Jack Stanley"},{"$f":"VLOOKUP($C30,'Test 11'!$A$12:$Q$51,7,FALSE)","v":""},{"$f":"VLOOKUP($C30,'Test 11'!$A$12:$Q$51,3,FALSE)","v":"rookie"},{"$f":"VLOOKUP($C30,'Test 11'!$A$12:$Q$51,4,FALSE)","v":""},{"$f":"VLOOKUP($C30,'Test 11'!$A$12:$Q$51,5,FALSE)","v":"senior"},{"$f":"VLOOKUP($C30,'Test 11'!$A$12:$Q$51,13,FALSE)","v":"00:01:47.420"},{"$f":"VLOOKUP($C30,'Test 11'!$A$12:$Q$51,16,FALSE)","v":"00:11:57.910"}]
[{"$f":"IF(Pivots!DO22=\"(Blank)\",\"\",Pivots!DO22)","v":0},{"$f":"VLOOKUP($C31,'Test 11'!$A$12:$Q$51,15,FALSE)","v":18},{"$f":"IF(Pivots!DP22=\"(Blank)\",\"\",Pivots!DP22)","v":4},{"$f":"VLOOKUP($C31,'Test 11'!$A$12:$Q$51,2,FALSE)","v":"Michaela Ballard"},{"$f":"VLOOKUP($C31,'Test 11'!$A$12:$Q$51,7,FALSE)","v":""},{"$f":"VLOOKUP($C31,'Test 11'!$A$12:$Q$51,3,FALSE)","v":"rookie"},{"$f":"VLOOKUP($C31,'Test 11'!$A$12:$Q$51,4,FALSE)","v":"female"},{"$f":"VLOOKUP($C31,'Test 11'!$A$12:$Q$51,5,FALSE)","v":"senior"},{"$f":"VLOOKUP($C31,'Test 11'!$A$12:$Q$51,13,FALSE)","v":"00:02:00.950"},{"$f":"VLOOKUP($C31,'Test 11'!$A$12:$Q$51,16,FALSE)","v":"00:12:08.030"}]
[{"$f":"IF(Pivots!DO23=\"(Blank)\",\"\",Pivots!DO23)","v":0},{"$f":"VLOOKUP($C32,'Test 11'!$A$12:$Q$51,15,FALSE)","v":19},{"$f":"IF(Pivots!DP23=\"(Blank)\",\"\",Pivots!DP23)","v":11},{"$f":"VLOOKUP($C32,'Test 11'!$A$12:$Q$51,2,FALSE)","v":"Russel McKinley"},{"$f":"VLOOKUP($C32,'Test 11'!$A$12:$Q$51,7,FALSE)","v":""},{"$f":"VLOOKUP($C32,'Test 11'!$A$12:$Q$51,3,FALSE)","v":""},{"$f":"VLOOKUP($C32,'Test 11'!$A$12:$Q$51,4,FALSE)","v":""},{"$f":"VLOOKUP($C32,'Test 11'!$A$12:$Q$51,5,FALSE)","v":"senior"},{"$f":"VLOOKUP($C32,'Test 11'!$A$12:$Q$51,13,FALSE)","v":"00:02:10.950"},{"$f":"VLOOKUP($C32,'Test 11'!$A$12:$Q$51,16,FALSE)","v":"00:12:08.960"}]
[{"$f":"IF(Pivots!DO24=\"(Blank)\",\"\",Pivots!DO24)","v":0},{"$f":"VLOOKUP($C33,'Test 11'!$A$12:$Q$51,15,FALSE)","v":19},{"$f":"IF(Pivots!DP24=\"(Blank)\",\"\",Pivots!DP24)","v":7},{"$f":"VLOOKUP($C33,'Test 11'!$A$12:$Q$51,2,FALSE)","v":""},{"$f":"VLOOKUP($C33,'Test 11'!$A$12:$Q$51,7,FALSE)","v":""},{"$f":"VLOOKUP($C33,'Test 11'!$A$12:$Q$51,3,FALSE)","v":""},{"$f":"VLOOKUP($C33,'Test 11'!$A$12:$Q$51,4,FALSE)","v":""},{"$f":"VLOOKUP($C33,'Test 11'!$A$12:$Q$51,5,FALSE)","v":"senior"},{"$f":"VLOOKUP($C33,'Test 11'!$A$12:$Q$51,13,FALSE)","v":"00:02:10.950"},{"$f":"VLOOKUP($C33,'Test 11'!$A$12:$Q$51,16,FALSE)","v":"00:14:26.040"}]
[{"$f":"IF(Pivots!DO25=\"(Blank)\",\"\",Pivots!DO25)","v":0},{"$f":"VLOOKUP($C34,'Test 11'!$A$12:$Q$51,15,FALSE)","v":19},{"$f":"IF(Pivots!DP25=\"(Blank)\",\"\",Pivots!DP25)","v":22},{"$f":"VLOOKUP($C34,'Test 11'!$A$12:$Q$51,2,FALSE)","v":""},{"$f":"VLOOKUP($C34,'Test 11'!$A$12:$Q$51,7,FALSE)","v":""},{"$f":"VLOOKUP($C34,'Test 11'!$A$12:$Q$51,3,FALSE)","v":""},{"$f":"VLOOKUP($C34,'Test 11'!$A$12:$Q$51,4,FALSE)","v":""},{"$f":"VLOOKUP($C34,'Test 11'!$A$12:$Q$51,5,FALSE)","v":"senior"},{"$f":"VLOOKUP($C34,'Test 11'!$A$12:$Q$51,13,FALSE)","v":"00:02:10.950"},{"$f":"VLOOKUP($C34,'Test 11'!$A$12:$Q$51,16,FALSE)","v":"00:14:26.040"}]
[{"$f":"IF(Pivots!DO26=\"(Blank)\",\"\",Pivots!DO26)","v":0},{"$f":"VLOOKUP($C35,'Test 11'!$A$12:$Q$51,15,FALSE)","v":19},{"$f":"IF(Pivots!DP26=\"(Blank)\",\"\",Pivots!DP26)","v":23},{"$f":"VLOOKUP($C35,'Test 11'!$A$12:$Q$51,2,FALSE)","v":""},{"$f":"VLOOKUP($C35,'Test 11'!$A$12:$Q$51,7,FALSE)","v":""},{"$f":"VLOOKUP($C35,'Test 11'!$A$12:$Q$51,3,FALSE)","v":""},{"$f":"VLOOKUP($C35,'Test 11'!$A$12:$Q$51,4,FALSE)","v":""},{"$f":"VLOOKUP($C35,'Test 11'!$A$12:$Q$51,5,FALSE)","v":"senior"},{"$f":"VLOOKUP($C35,'Test 11'!$A$12:$Q$51,13,FALSE)","v":"00:02:10.950"},{"$f":"VLOOKUP($C35,'Test 11'!$A$12:$Q$51,16,FALSE)","v":"00:14:26.040"}]
[{"$f":"IF(Pivots!DO27=\"(Blank)\",\"\",Pivots!DO27)","v":0},{"$f":"VLOOKUP($C36,'Test 11'!$A$12:$Q$51,15,FALSE)","v":19},{"$f":"IF(Pivots!DP27=\"(Blank)\",\"\",Pivots!DP27)","v":24},{"$f":"VLOOKUP($C36,'Test 11'!$A$12:$Q$51,2,FALSE)","v":""},{"$f":"VLOOKUP($C36,'Test 11'!$A$12:$Q$51,7,FALSE)","v":""},{"$f":"VLOOKUP($C36,'Test 11'!$A$12:$Q$51,3,FALSE)","v":""},{"$f":"VLOOKUP($C36,'Test 11'!$A$12:$Q$51,4,FALSE)","v":""},{"$f":"VLOOKUP($C36,'Test 11'!$A$12:$Q$51,5,FALSE)","v":"senior"},{"$f":"VLOOKUP($C36,'Test 11'!$A$12:$Q$51,13,FALSE)","v":"00:02:10.950"},{"$f":"VLOOKUP($C36,'Test 11'!$A$12:$Q$51,16,FALSE)","v":"00:14:26.040"}]
[{"$f":"IF(Pivots!DO28=\"(Blank)\",\"\",Pivots!DO28)","v":0},{"$f":"VLOOKUP($C37,'Test 11'!$A$12:$Q$51,15,FALSE)","v":19},{"$f":"IF(Pivots!DP28=\"(Blank)\",\"\",Pivots!DP28)","v":21},{"$f":"VLOOKUP($C37,'Test 11'!$A$12:$Q$51,2,FALSE)","v":""},{"$f":"VLOOKUP($C37,'Test 11'!$A$12:$Q$51,7,FALSE)","v":""},{"$f":"VLOOKUP($C37,'Test 11'!$A$12:$Q$51,3,FALSE)","v":""},{"$f":"VLOOKUP($C37,'Test 11'!$A$12:$Q$51,4,FALSE)","v":""},{"$f":"VLOOKUP($C37,'Test 11'!$A$12:$Q$51,5,FALSE)","v":"senior"},{"$f":"VLOOKUP($C37,'Test 11'!$A$12:$Q$51,13,FALSE)","v":"00:02:10.950"},{"$f":"VLOOKUP($C37,'Test 11'!$A$12:$Q$51,16,FALSE)","v":"00:14:26.040"}]
[{"$f":"IF(Pivots!DO29=\"(Blank)\",\"\",Pivots!DO29)","v":0},{"$f":"VLOOKUP($C38,'Test 11'!$A$12:$Q$51,15,FALSE)","v":19},{"$f":"IF(Pivots!DP29=\"(Blank)\",\"\",Pivots!DP29)","v":25},{"$f":"VLOOKUP($C38,'Test 11'!$A$12:$Q$51,2,FALSE)","v":""},{"$f":"VLOOKUP($C38,'Test 11'!$A$12:$Q$51,7,FALSE)","v":""},{"$f":"VLOOKUP($C38,'Test 11'!$A$12:$Q$51,3,FALSE)","v":""},{"$f":"VLOOKUP($C38,'Test 11'!$A$12:$Q$51,4,FALSE)","v":""},{"$f":"VLOOKUP($C38,'Test 11'!$A$12:$Q$51,5,FALSE)","v":"senior"},{"$f":"VLOOKUP($C38,'Test 11'!$A$12:$Q$51,13,FALSE)","v":"00:02:10.950"},{"$f":"VLOOKUP($C38,'Test 11'!$A$12:$Q$51,16,FALSE)","v":"00:14:26.040"}]
[{"$f":"IF(Pivots!DO30=\"(Blank)\",\"\",Pivots!DO30)","v":0},{"$f":"VLOOKUP($C39,'Test 11'!$A$12:$Q$51,15,FALSE)","v":19},{"$f":"IF(Pivots!DP30=\"(Blank)\",\"\",Pivots!DP30)","v":26},{"$f":"VLOOKUP($C39,'Test 11'!$A$12:$Q$51,2,FALSE)","v":""},{"$f":"VLOOKUP($C39,'Test 11'!$A$12:$Q$51,7,FALSE)","v":""},{"$f":"VLOOKUP($C39,'Test 11'!$A$12:$Q$51,3,FALSE)","v":""},{"$f":"VLOOKUP($C39,'Test 11'!$A$12:$Q$51,4,FALSE)","v":""},{"$f":"VLOOKUP($C39,'Test 11'!$A$12:$Q$51,5,FALSE)","v":"senior"},{"$f":"VLOOKUP($C39,'Test 11'!$A$12:$Q$51,13,FALSE)","v":"00:02:10.950"},{"$f":"VLOOKUP($C39,'Test 11'!$A$12:$Q$51,16,FALSE)","v":"00:14:26.040"}]
[{"$f":"IF(Pivots!DO31=\"(Blank)\",\"\",Pivots!DO31)","v":0},{"$f":"VLOOKUP($C40,'Test 11'!$A$12:$Q$51,15,FALSE)","v":19},{"$f":"IF(Pivots!DP31=\"(Blank)\",\"\",Pivots!DP31)","v":27},{"$f":"VLOOKUP($C40,'Test 11'!$A$12:$Q$51,2,FALSE)","v":""},{"$f":"VLOOKUP($C40,'Test 11'!$A$12:$Q$51,7,FALSE)","v":""},{"$f":"VLOOKUP($C40,'Test 11'!$A$12:$Q$51,3,FALSE)","v":""},{"$f":"VLOOKUP($C40,'Test 11'!$A$12:$Q$51,4,FALSE)","v":""},{"$f":"VLOOKUP($C40,'Test 11'!$A$12:$Q$51,5,FALSE)","v":"senior"},{"$f":"VLOOKUP($C40,'Test 11'!$A$12:$Q$51,13,FALSE)","v":"00:02:10.950"},{"$f":"VLOOKUP($C40,'Test 11'!$A$12:$Q$51,16,FALSE)","v":"00:14:26.040"}]
[{"$f":"IF(Pivots!DO32=\"(Blank)\",\"\",Pivots!DO32)","v":0},{"$f":"VLOOKUP($C41,'Test 11'!$A$12:$Q$51,15,FALSE)","v":19},{"$f":"IF(Pivots!DP32=\"(Blank)\",\"\",Pivots!DP32)","v":28},{"$f":"VLOOKUP($C41,'Test 11'!$A$12:$Q$51,2,FALSE)","v":""},{"$f":"VLOOKUP($C41,'Test 11'!$A$12:$Q$51,7,FALSE)","v":""},{"$f":"VLOOKUP($C41,'Test 11'!$A$12:$Q$51,3,FALSE)","v":""},{"$f":"VLOOKUP($C41,'Test 11'!$A$12:$Q$51,4,FALSE)","v":""},{"$f":"VLOOKUP($C41,'Test 11'!$A$12:$Q$51,5,FALSE)","v":"senior"},{"$f":"VLOOKUP($C41,'Test 11'!$A$12:$Q$51,13,FALSE)","v":"00:02:10.950"},{"$f":"VLOOKUP($C41,'Test 11'!$A$12:$Q$51,16,FALSE)","v":"00:14:26.040"}]
[{"$f":"IF(Pivots!DO33=\"(Blank)\",\"\",Pivots!DO33)","v":0},{"$f":"VLOOKUP($C42,'Test 11'!$A$12:$Q$51,15,FALSE)","v":19},{"$f":"IF(Pivots!DP33=\"(Blank)\",\"\",Pivots!DP33)","v":29},{"$f":"VLOOKUP($C42,'Test 11'!$A$12:$Q$51,2,FALSE)","v":""},{"$f":"VLOOKUP($C42,'Test 11'!$A$12:$Q$51,7,FALSE)","v":""},{"$f":"VLOOKUP($C42,'Test 11'!$A$12:$Q$51,3,FALSE)","v":""},{"$f":"VLOOKUP($C42,'Test 11'!$A$12:$Q$51,4,FALSE)","v":""},{"$f":"VLOOKUP($C42,'Test 11'!$A$12:$Q$51,5,FALSE)","v":"senior"},{"$f":"VLOOKUP($C42,'Test 11'!$A$12:$Q$51,13,FALSE)","v":"00:02:10.950"},{"$f":"VLOOKUP($C42,'Test 11'!$A$12:$Q$51,16,FALSE)","v":"00:14:26.040"}]
[{"$f":"IF(Pivots!DO34=\"(Blank)\",\"\",Pivots!DO34)","v":0},{"$f":"VLOOKUP($C43,'Test 11'!$A$12:$Q$51,15,FALSE)","v":19},{"$f":"IF(Pivots!DP34=\"(Blank)\",\"\",Pivots!DP34)","v":30},{"$f":"VLOOKUP($C43,'Test 11'!$A$12:$Q$51,2,FALSE)","v":""},{"$f":"VLOOKUP($C43,'Test 11'!$A$12:$Q$51,7,FALSE)","v":""},{"$f":"VLOOKUP($C43,'Test 11'!$A$12:$Q$51,3,FALSE)","v":""},{"$f":"VLOOKUP($C43,'Test 11'!$A$12:$Q$51,4,FALSE)","v":""},{"$f":"VLOOKUP($C43,'Test 11'!$A$12:$Q$51,5,FALSE)","v":"senior"},{"$f":"VLOOKUP($C43,'Test 11'!$A$12:$Q$51,13,FALSE)","v":"00:02:10.950"},{"$f":"VLOOKUP($C43,'Test 11'!$A$12:$Q$51,16,FALSE)","v":"00:14:26.040"}]
[{"$f":"IF(Pivots!DO35=\"(Blank)\",\"\",Pivots!DO35)","v":0},{"$f":"VLOOKUP($C44,'Test 11'!$A$12:$Q$51,15,FALSE)","v":19},{"$f":"IF(Pivots!DP35=\"(Blank)\",\"\",Pivots!DP35)","v":31},{"$f":"VLOOKUP($C44,'Test 11'!$A$12:$Q$51,2,FALSE)","v":""},{"$f":"VLOOKUP($C44,'Test 11'!$A$12:$Q$51,7,FALSE)","v":""},{"$f":"VLOOKUP($C44,'Test 11'!$A$12:$Q$51,3,FALSE)","v":""},{"$f":"VLOOKUP($C44,'Test 11'!$A$12:$Q$51,4,FALSE)","v":""},{"$f":"VLOOKUP($C44,'Test 11'!$A$12:$Q$51,5,FALSE)","v":"senior"},{"$f":"VLOOKUP($C44,'Test 11'!$A$12:$Q$51,13,FALSE)","v":"00:02:10.950"},{"$f":"VLOOKUP($C44,'Test 11'!$A$12:$Q$51,16,FALSE)","v":"00:14:26.040"}]
[{"$f":"IF(Pivots!DO36=\"(Blank)\",\"\",Pivots!DO36)","v":0},{"$f":"VLOOKUP($C45,'Test 11'!$A$12:$Q$51,15,FALSE)","v":19},{"$f":"IF(Pivots!DP36=\"(Blank)\",\"\",Pivots!DP36)","v":32},{"$f":"VLOOKUP($C45,'Test 11'!$A$12:$Q$51,2,FALSE)","v":""},{"$f":"VLOOKUP($C45,'Test 11'!$A$12:$Q$51,7,FALSE)","v":""},{"$f":"VLOOKUP($C45,'Test 11'!$A$12:$Q$51,3,FALSE)","v":""},{"$f":"VLOOKUP($C45,'Test 11'!$A$12:$Q$51,4,FALSE)","v":""},{"$f":"VLOOKUP($C45,'Test 11'!$A$12:$Q$51,5,FALSE)","v":"senior"},{"$f":"VLOOKUP($C45,'Test 11'!$A$12:$Q$51,13,FALSE)","v":"00:02:10.950"},{"$f":"VLOOKUP($C45,'Test 11'!$A$12:$Q$51,16,FALSE)","v":"00:14:26.040"}]
[{"$f":"IF(Pivots!DO37=\"(Blank)\",\"\",Pivots!DO37)","v":0},{"$f":"VLOOKUP($C46,'Test 11'!$A$12:$Q$51,15,FALSE)","v":19},{"$f":"IF(Pivots!DP37=\"(Blank)\",\"\",Pivots!DP37)","v":33},{"$f":"VLOOKUP($C46,'Test 11'!$A$12:$Q$51,2,FALSE)","v":""},{"$f":"VLOOKUP($C46,'Test 11'!$A$12:$Q$51,7,FALSE)","v":""},{"$f":"VLOOKUP($C46,'Test 11'!$A$12:$Q$51,3,FALSE)","v":""},{"$f":"VLOOKUP($C46,'Test 11'!$A$12:$Q$51,4,FALSE)","v":""},{"$f":"VLOOKUP($C46,'Test 11'!$A$12:$Q$51,5,FALSE)","v":"senior"},{"$f":"VLOOKUP($C46,'Test 11'!$A$12:$Q$51,13,FALSE)","v":"00:02:10.950"},{"$f":"VLOOKUP($C46,'Test 11'!$A$12:$Q$51,16,FALSE)","v":"00:14:26.040"}]
[{"$f":"IF(Pivots!DO38=\"(Blank)\",\"\",Pivots!DO38)","v":0},{"$f":"VLOOKUP($C47,'Test 11'!$A$12:$Q$51,15,FALSE)","v":19},{"$f":"IF(Pivots!DP38=\"(Blank)\",\"\",Pivots!DP38)","v":34},{"$f":"VLOOKUP($C47,'Test 11'!$A$12:$Q$51,2,FALSE)","v":""},{"$f":"VLOOKUP($C47,'Test 11'!$A$12:$Q$51,7,FALSE)","v":""},{"$f":"VLOOKUP($C47,'Test 11'!$A$12:$Q$51,3,FALSE)","v":""},{"$f":"VLOOKUP($C47,'Test 11'!$A$12:$Q$51,4,FALSE)","v":""},{"$f":"VLOOKUP($C47,'Test 11'!$A$12:$Q$51,5,FALSE)","v":"senior"},{"$f":"VLOOKUP($C47,'Test 11'!$A$12:$Q$51,13,FALSE)","v":"00:02:10.950"},{"$f":"VLOOKUP($C47,'Test 11'!$A$12:$Q$51,16,FALSE)","v":"00:14:26.040"}]
[{"$f":"IF(Pivots!DO39=\"(Blank)\",\"\",Pivots!DO39)","v":0},{"$f":"VLOOKUP($C48,'Test 11'!$A$12:$Q$51,15,FALSE)","v":19},{"$f":"IF(Pivots!DP39=\"(Blank)\",\"\",Pivots!DP39)","v":35},{"$f":"VLOOKUP($C48,'Test 11'!$A$12:$Q$51,2,FALSE)","v":""},{"$f":"VLOOKUP($C48,'Test 11'!$A$12:$Q$51,7,FALSE)","v":""},{"$f":"VLOOKUP($C48,'Test 11'!$A$12:$Q$51,3,FALSE)","v":""},{"$f":"VLOOKUP($C48,'Test 11'!$A$12:$Q$51,4,FALSE)","v":""},{"$f":"VLOOKUP($C48,'Test 11'!$A$12:$Q$51,5,FALSE)","v":"senior"},{"$f":"VLOOKUP($C48,'Test 11'!$A$12:$Q$51,13,FALSE)","v":"00:02:10.950"},{"$f":"VLOOKUP($C48,'Test 11'!$A$12:$Q$51,16,FALSE)","v":"00:14:26.040"}]
[{"$f":"IF(Pivots!DO40=\"(Blank)\",\"\",Pivots!DO40)","v":0},{"$f":"VLOOKUP($C49,'Test 11'!$A$12:$Q$51,15,FALSE)","v":19},{"$f":"IF(Pivots!DP40=\"(Blank)\",\"\",Pivots!DP40)","v":36},{"$f":"VLOOKUP($C49,'Test 11'!$A$12:$Q$51,2,FALSE)","v":""},{"$f":"VLOOKUP($C49,'Test 11'!$A$12:$Q$51,7,FALSE)","v":""},{"$f":"VLOOKUP($C49,'Test 11'!$A$12:$Q$51,3,FALSE)","v":""},{"$f":"VLOOKUP($C49,'Test 11'!$A$12:$Q$51,4,FALSE)","v":""},{"$f":"VLOOKUP($C49,'Test 11'!$A$12:$Q$51,5,FALSE)","v":"senior"},{"$f":"VLOOKUP($C49,'Test 11'!$A$12:$Q$51,13,FALSE)","v":"00:02:10.950"},{"$f":"VLOOKUP($C49,'Test 11'!$A$12:$Q$51,16,FALSE)","v":"00:14:26.040"}]
[{"$f":"IF(Pivots!DO41=\"(Blank)\",\"\",Pivots!DO41)","v":0},{"$f":"VLOOKUP($C50,'Test 11'!$A$12:$Q$51,15,FALSE)","v":19},{"$f":"IF(Pivots!DP41=\"(Blank)\",\"\",Pivots!DP41)","v":37},{"$f":"VLOOKUP($C50,'Test 11'!$A$12:$Q$51,2,FALSE)","v":""},{"$f":"VLOOKUP($C50,'Test 11'!$A$12:$Q$51,7,FALSE)","v":""},{"$f":"VLOOKUP($C50,'Test 11'!$A$12:$Q$51,3,FALSE)","v":""},{"$f":"VLOOKUP($C50,'Test 11'!$A$12:$Q$51,4,FALSE)","v":""},{"$f":"VLOOKUP($C50,'Test 11'!$A$12:$Q$51,5,FALSE)","v":"senior"},{"$f":"VLOOKUP($C50,'Test 11'!$A$12:$Q$51,13,FALSE)","v":"00:02:10.950"},{"$f":"VLOOKUP($C50,'Test 11'!$A$12:$Q$51,16,FALSE)","v":"00:14:26.040"}]
[{"$f":"IF(Pivots!DO42=\"(Blank)\",\"\",Pivots!DO42)","v":0},{"$f":"VLOOKUP($C51,'Test 11'!$A$12:$Q$51,15,FALSE)","v":19},{"$f":"IF(Pivots!DP42=\"(Blank)\",\"\",Pivots!DP42)","v":38},{"$f":"VLOOKUP($C51,'Test 11'!$A$12:$Q$51,2,FALSE)","v":""},{"$f":"VLOOKUP($C51,'Test 11'!$A$12:$Q$51,7,FALSE)","v":""},{"$f":"VLOOKUP($C51,'Test 11'!$A$12:$Q$51,3,FALSE)","v":""},{"$f":"VLOOKUP($C51,'Test 11'!$A$12:$Q$51,4,FALSE)","v":""},{"$f":"VLOOKUP($C51,'Test 11'!$A$12:$Q$51,5,FALSE)","v":"senior"},{"$f":"VLOOKUP($C51,'Test 11'!$A$12:$Q$51,13,FALSE)","v":"00:02:10.950"},{"$f":"VLOOKUP($C51,'Test 11'!$A$12:$Q$51,16,FALSE)","v":"00:14:26.040"}]
[{"$f":"IF(Pivots!DO43=\"(Blank)\",\"\",Pivots!DO43)","v":0},{"$f":"VLOOKUP($C52,'Test 11'!$A$12:$Q$51,15,FALSE)","v":19},{"$f":"IF(Pivots!DP43=\"(Blank)\",\"\",Pivots!DP43)","v":39},{"$f":"VLOOKUP($C52,'Test 11'!$A$12:$Q$51,2,FALSE)","v":""},{"$f":"VLOOKUP($C52,'Test 11'!$A$12:$Q$51,7,FALSE)","v":""},{"$f":"VLOOKUP($C52,'Test 11'!$A$12:$Q$51,3,FALSE)","v":""},{"$f":"VLOOKUP($C52,'Test 11'!$A$12:$Q$51,4,FALSE)","v":""},{"$f":"VLOOKUP($C52,'Test 11'!$A$12:$Q$51,5,FALSE)","v":"senior"},{"$f":"VLOOKUP($C52,'Test 11'!$A$12:$Q$51,13,FALSE)","v":"00:02:10.950"},{"$f":"VLOOKUP($C52,'Test 11'!$A$12:$Q$51,16,FALSE)","v":"00:14:26.040"}]
[{"$f":"IF(Pivots!DO44=\"(Blank)\",\"\",Pivots!DO44)","v":0},{"$f":"VLOOKUP($C53,'Test 11'!$A$12:$Q$51,15,FALSE)","v":19},{"$f":"IF(Pivots!DP44=\"(Blank)\",\"\",Pivots!DP44)","v":40},{"$f":"VLOOKUP($C53,'Test 11'!$A$12:$Q$51,2,FALSE)","v":""},{"$f":"VLOOKUP($C53,'Test 11'!$A$12:$Q$51,7,FALSE)","v":""},{"$f":"VLOOKUP($C53,'Test 11'!$A$12:$Q$51,3,FALSE)","v":""},{"$f":"VLOOKUP($C53,'Test 11'!$A$12:$Q$51,4,FALSE)","v":""},{"$f":"VLOOKUP($C53,'Test 11'!$A$12:$Q$51,5,FALSE)","v":"senior"},{"$f":"VLOOKUP($C53,'Test 11'!$A$12:$Q$51,13,FALSE)","v":"00:02:10.950"},{"$f":"VLOOKUP($C53,'Test 11'!$A$12:$Q$51,16,FALSE)","v":"00:14:26.040"}]

{"sheet":"Print_Test 12","index":14,"n_rows":53,"n_cols":10,"rows_kept":53,"cut":false,"hidden":false,"merged":[[11,6,12,6],[11,7,12,7],[8,3,8,5],[9,3,9,5],[11,0,12,0],[11,1,12,1],[11,2,12,2],[11,3,12,3],[11,4,12,4],[11,5,12,5]]}
[]
[]
[]
[]
[]
[]
[]
[]
[null,null,null,"Provisional Results"]
[null,null,null,"Test 12"]
[]
["Outright Position","Test Position","Car Number","Driver","Class","Rookie?","Female?","Junior?","Test Time","Cumulative Time"]
[null,null,null,null,null,null,null,null,"(mm:ss.00)","(mm:ss.00)"]
[{"$f":"IF(Pivots!DZ5=\"(Blank)\",\"\",Pivots!DZ5)","v":0},{"$f":"VLOOKUP($C14,'Test 12'!$A$12:$Q$51,15,FALSE)","v":3},{"$f":"IF(Pivots!EA5=\"(Blank)\",\"\",Pivots!EA5)","v":17},{"$f":"VLOOKUP($C14,'Test 12'!$A$12:$Q$51,2,FALSE)","v":"Reece McIntosh"},{"$f":"VLOOKUP($C14,'Test 12'!$A$12:$Q$51,7,FALSE)","v":""},{"$f":"VLOOKUP($C14,'Test 12'!$A$12:$Q$51,3,FALSE)","v":""},{"$f":"VLOOKUP($C14,'Test 12'!$A$12:$Q$51,4,FALSE)","v":""},{"$f":"VLOOKUP($C14,'Test 12'!$A$12:$Q$51,5,FALSE)","v":"senior"},{"$f":"VLOOKUP($C14,'Test 12'!$A$12:$Q$51,13,FALSE)","v":"00:00:55.080"},{"$f":"VLOOKUP($C14,'Test 12'!$A$12:$Q$51,16,FALSE)","v":"00:10:20.300"}]
[{"$f":"IF(Pivots!DZ6=\"(Blank)\",\"\",Pivots!DZ6)","v":0},{"$f":"VLOOKUP($C15,'Test 12'!$A$12:$Q$51,15,FALSE)","v":4},{"$f":"IF(Pivots!EA6=\"(Blank)\",\"\",Pivots!EA6)","v":1},{"$f":"VLOOKUP($C15,'Test 12'!$A$12:$Q$51,2,FALSE)","v":"Paul Dunn"},{"$f":"VLOOKUP($C15,'Test 12'!$A$12:$Q$51,7,FALSE)","v":""},{"$f":"VLOOKUP($C15,'Test 12'!$A$12:$Q$51,3,FALSE)","v":""},{"$f":"VLOOKUP($C15,'Test 12'!$A$12:$Q$51,4,FALSE)","v":""},{"$f":"VLOOKUP($C15,'Test 12'!$A$12:$Q$51,5,FALSE)","v":"senior"},{"$f":"VLOOKUP($C15,'Test 12'!$A$12:$Q$51,13,FALSE)","v":"00:00:57.050"},{"$f":"VLOOKUP($C15,'Test 12'!$A$12:$Q$51,16,FALSE)","v":"00:10:36.360"}]
[{"$f":"IF(Pivots!DZ7=\"(Blank)\",\"\",Pivots!DZ7)","v":0},{"$f":"VLOOKUP($C16,'Test 12'!$A$12:$Q$51,15,FALSE)","v":2},{"$f":"IF(Pivots!EA7=\"(Blank)\",\"\",Pivots!EA7)","v":9},{"$f":"VLOOKUP($C16,'Test 12'!$A$12:$Q$51,2,FALSE)","v":"Brad Firman"},{"$f":"VLOOKUP($C16,'Test 12'!$A$12:$Q$51,7,FALSE)","v":""},{"$f":"VLOOKUP($C16,'Test 12'!$A$12:$Q$51,3,FALSE)","v":""},{"$f":"VLOOKUP($C16,'Test 12'!$A$12:$Q$51,4,FALSE)","v":""},{"$f":"VLOOKUP($C16,'Test 12'!$A$12:$Q$51,5,FALSE)","v":"senior"},{"$f":"VLOOKUP($C16,'Test 12'!$A$12:$Q$51,13,FALSE)","v":"00:00:54.900"},{"$f":"VLOOKUP($C16,'Test 12'!$A$12:$Q$51,16,FALSE)","v":"00:10:40.270"}]
[{"$f":"IF(Pivots!DZ8=\"(Blank)\",\"\",Pivots!DZ8)","v":0},{"$f":"VLOOKUP($C17,'Test 12'!$A$12:$Q$51,15,FALSE)","v":1},{"$f":"IF(Pivots!EA8=\"(Blank)\",\"\",Pivots!EA8)","v":2},{"$f":"VLOOKUP($C17,'Test 12'!$A$12:$Q$51,2,FALSE)","v":"Stephen Thorne"},{"$f":"VLOOKUP($C17,'Test 12'!$A$12:$Q$51,7,FALSE)","v":""},{"$f":"VLOOKUP($C17,'Test 12'!$A$12:$Q$51,3,FALSE)","v":""},{"$f":"VLOOKUP($C17,'Test 12'!$A$12:$Q$51,4,FALSE)","v":""},{"$f":"VLOOKUP($C17,'Test 12'!$A$12:$Q$51,5,FALSE)","v":"senior"},{"$f":"VLOOKUP($C17,'Test 12'!$A$12:$Q$51,13,FALSE)","v":"00:00:54.230"},{"$f":"VLOOKUP($C17,'Test 12'!$A$12:$Q$51,16,FALSE)","v":"00:10:57.150"}]
[{"$f":"IF(Pivots!DZ9=\"(Blank)\",\"\",Pivots!DZ9)","v":0},{"$f":"VLOOKUP($C18,'Test 12'!$A$12:$Q$51,15,FALSE)","v":6},{"$f":"IF(Pivots!EA9=\"(Blank)\",\"\",Pivots!EA9)","v":14},{"$f":"VLOOKUP($C18,'Test 12'!$A$12:$Q$51,2,FALSE)","v":"Bob Fulthorpe"},{"$f":"VLOOKUP($C18,'Test 12'!$A$12:$Q$51,7,FALSE)","v":""},{"$f":"VLOOKUP($C18,'Test 12'!$A$12:$Q$51,3,FALSE)","v":""},{"$f":"VLOOKUP($C18,'Test 12'!$A$12:$Q$51,4,FALSE)","v":""},{"$f":"VLOOKUP($C18,'Test 12'!$A$12:$Q$51,5,FALSE)","v":"senior"},{"$f":"VLOOKUP($C18,'Test 12'!$A$12:$Q$51,13,FALSE)","v":"00:00:57.500"},{"$f":"VLOOKUP($C18,'Test 12'!$A$12:$Q$51,16,FALSE)","v":"00:10:57.350"}]
[{"$f":"IF(Pivots!DZ10=\"(Blank)\",\"\",Pivots!DZ10)","v":0},{"$f":"VLOOKUP($C19,'Test 12'!$A$12:$Q$51,15,FALSE)","v":7},{"$f":"IF(Pivots!EA10=\"(Blank)\",\"\",Pivots!EA10)","v":20},{"$f":"VLOOKUP($C19,'Test 12'!$A$12:$Q$51,2,FALSE)","v":"Ray Lampl"},{"$f":"VLOOKUP($C19,'Test 12'!$A$12:$Q$51,7,FALSE)","v":""},{"$f":"VLOOKUP($C19,'Test 12'!$A$12:$Q$51,3,FALSE)","v":""},{"$f":"VLOOKUP($C19,'Test 12'!$A$12:$Q$51,4,FALSE)","v":""},{"$f":"VLOOKUP($C19,'Test 12'!$A$12:$Q$51,5,FALSE)","v":"senior"},{"$f":"VLOOKUP($C19,'Test 12'!$A$12:$Q$51,13,FALSE)","v":"00:00:58.600"},{"$f":"VLOOKUP($C19,'Test 12'!$A$12:$Q$51,16,FALSE)","v":"00:11:23.110"}]
[{"$f":"IF(Pivots!DZ11=\"(Blank)\",\"\",Pivots!DZ11)","v":0},{"$f":"VLOOKUP($C20,'Test 12'!$A$12:$Q$51,15,FALSE)","v":11},{"$f":"IF(Pivots!EA11=\"(Blank)\",\"\",Pivots!EA11)","v":16},{"$f":"VLOOKUP($C20,'Test 12'!$A$12:$Q$51,2,FALSE)","v":"Nathan Senior"},{"$f":"VLOOKUP($C20,'Test 12'!$A$12:$Q$51,7,FALSE)","v":""},{"$f":"VLOOKUP($C20,'Test 12'!$A$12:$Q$51,3,FALSE)","v":""},{"$f":"VLOOKUP($C20,'Test 12'!$A$12:$Q$51,4,FALSE)","v":""},{"$f":"VLOOKUP($C20,'Test 12'!$A$12:$Q$51,5,FALSE)","v":"senior"},{"$f":"VLOOKUP($C20,'Test 12'!$A$12:$Q$51,13,FALSE)","v":"00:01:05.900"},{"$f":"VLOOKUP($C20,'Test 12'!$A$12:$Q$51,16,FALSE)","v":"00:11:41.190"}]
[{"$f":"IF(Pivots!DZ12=\"(Blank)\",\"\",Pivots!DZ12)","v":0},{"$f":"VLOOKUP($C21,'Test 12'!$A$12:$Q$51,15,FALSE)","v":13},{"$f":"IF(Pivots!EA12=\"(Blank)\",\"\",Pivots!EA12)","v":5},{"$f":"VLOOKUP($C21,'Test 12'!$A$12:$Q$51,2,FALSE)","v":"Janelle Ballard"},{"$f":"VLOOKUP($C21,'Test 12'!$A$12:$Q$51,7,FALSE)","v":""},{"$f":"VLOOKUP($C21,'Test 12'!$A$12:$Q$51,3,FALSE)","v":""},{"$f":"VLOOKUP($C21,'Test 12'!$A$12:$Q$51,4,FALSE)","v":"female"},{"$f":"VLOOKUP($C21,'Test 12'!$A$12:$Q$51,5,FALSE)","v":"senior"},{"$f":"VLOOKUP($C21,'Test 12'!$A$12:$Q$51,13,FALSE)","v":"00:01:11.190"},{"$f":"VLOOKUP($C21,'Test 12'!$A$12:$Q$51,16,FALSE)","v":"00:11:47.350"}]
[{"$f":"IF(Pivots!DZ13=\"(Blank)\",\"\",Pivots!DZ13)","v":0},{"$f":"VLOOKUP($C22,'Test 12'!$A$12:$Q$51,15,FALSE)","v":13},{"$f":"IF(Pivots!EA13=\"(Blank)\",\"\",Pivots!EA13)","v":19},{"$f":"VLOOKUP($C22,'Test 12'!$A$12:$Q$51,2,FALSE)","v":"Christopher Northey"},{"$f":"VLOOKUP($C22,'Test 12'!$A$12:$Q$51,7,FALSE)","v":""},{"$f":"VLOOKUP($C22,'Test 12'!$A$12:$Q$51,3,FALSE)","v":""},{"$f":"VLOOKUP($C22,'Test 12'!$A$12:$Q$51,4,FALSE)","v":""},{"$f":"VLOOKUP($C22,'Test 12'!$A$12:$Q$51,5,FALSE)","v":"senior"},{"$f":"VLOOKUP($C22,'Test 12'!$A$12:$Q$51,13,FALSE)","v":"00:01:11.190"},{"$f":"VLOOKUP($C22,'Test 12'!$A$12:$Q$51,16,FALSE)","v":"00:11:51.920"}]
[{"$f":"IF(Pivots!DZ14=\"(Blank)\",\"\",Pivots!DZ14)","v":0},{"$f":"VLOOKUP($C23,'Test 12'!$A$12:$Q$51,15,FALSE)","v":13},{"$f":"IF(Pivots!EA14=\"(Blank)\",\"\",Pivots!EA14)","v":15},{"$f":"VLOOKUP($C23,'Test 12'!$A$12:$Q$51,2,FALSE)","v":"Khi Fulthorpe"},{"$f":"VLOOKUP($C23,'Test 12'!$A$12:$Q$51,7,FALSE)","v":""},{"$f":"VLOOKUP($C23,'Test 12'!$A$12:$Q$51,3,FALSE)","v":""},{"$f":"VLOOKUP($C23,'Test 12'!$A$12:$Q$51,4,FALSE)","v":""},{"$f":"VLOOKUP($C23,'Test 12'!$A$12:$Q$51,5,FALSE)","v":"senior"},{"$f":"VLOOKUP($C23,'Test 12'!$A$12:$Q$51,13,FALSE)","v":"00:01:11.190"},{"$f":"VLOOKUP($C23,'Test 12'!$A$12:$Q$51,16,FALSE)","v":"00:11:57.250"}]
[{"$f":"IF(Pivots!DZ15=\"(Blank)\",\"\",Pivots!DZ15)","v":0},{"$f":"VLOOKUP($C24,'Test 12'!$A$12:$Q$51,15,FALSE)","v":8},{"$f":"IF(Pivots!EA15=\"(Blank)\",\"\",Pivots!EA15)","v":10},{"$f":"VLOOKUP($C24,'Test 12'!$A$12:$Q$51,2,FALSE)","v":"Scott Taylor"},{"$f":"VLOOKUP($C24,'Test 12'!$A$12:$Q$51,7,FALSE)","v":""},{"$f":"VLOOKUP($C24,'Test 12'!$A$12:$Q$51,3,FALSE)","v":""},{"$f":"VLOOKUP($C24,'Test 12'!$A$12:$Q$51,4,FALSE)","v":""},{"$f":"VLOOKUP($C24,'Test 12'!$A$12:$Q$51,5,FALSE)","v":"senior"},{"$f":"VLOOKUP($C24,'Test 12'!$A$12:$Q$51,13,FALSE)","v":"00:01:00.170"},{"$f":"VLOOKUP($C24,'Test 12'!$A$12:$Q$51,16,FALSE)","v":"00:12:05.120"}]
[{"$f":"IF(Pivots!DZ16=\"(Blank)\",\"\",Pivots!DZ16)","v":0},{"$f":"VLOOKUP($C25,'Test 12'!$A$12:$Q$51,15,FALSE)","v":13},{"$f":"IF(Pivots!EA16=\"(Blank)\",\"\",Pivots!EA16)","v":3},{"$f":"VLOOKUP($C25,'Test 12'!$A$12:$Q$51,2,FALSE)","v":"David Ballard"},{"$f":"VLOOKUP($C25,'Test 12'!$A$12:$Q$51,7,FALSE)","v":""},{"$f":"VLOOKUP($C25,'Test 12'!$A$12:$Q$51,3,FALSE)","v":""},{"$f":"VLOOKUP($C25,'Test 12'!$A$12:$Q$51,4,FALSE)","v":""},{"$f":"VLOOKUP($C25,'Test 12'!$A$12:$Q$51,5,FALSE)","v":"senior"},{"$f":"VLOOKUP($C25,'Test 12'!$A$12:$Q$51,13,FALSE)","v":"00:01:11.190"},{"$f":"VLOOKUP($C25,'Test 12'!$A$12:$Q$51,16,FALSE)","v":"00:12:06.210"}]
[{"$f":"IF(Pivots!DZ17=\"(Blank)\",\"\",Pivots!DZ17)","v":0},{"$f":"VLOOKUP($C26,'Test 12'!$A$12:$Q$51,15,FALSE)","v":13},{"$f":"IF(Pivots!EA17=\"(Blank)\",\"\",Pivots!EA17)","v":8},{"$f":"VLOOKUP($C26,'Test 12'!$A$12:$Q$51,2,FALSE)","v":"Jim Taylor"},{"$f":"VLOOKUP($C26,'Test 12'!$A$12:$Q$51,7,FALSE)","v":""},{"$f":"VLOOKUP($C26,'Test 12'!$A$12:$Q$51,3,FALSE)","v":""},{"$f":"VLOOKUP($C26,'Test 12'!$A$12:$Q$51,4,FALSE)","v":""},{"$f":"VLOOKUP($C26,'Test 12'!$A$12:$Q$51,5,FALSE)","v":"senior"},{"$f":"VLOOKUP($C26,'Test 12'!$A$12:$Q$51,13,FALSE)","v":"00:01:11.190"},{"$f":"VLOOKUP($C26,'Test 12'!$A$12:$Q$51,16,FALSE)","v":"00:12:07.470"}]
[{"$f":"IF(Pivots!DZ18=\"(Blank)\",\"\",Pivots!DZ18)","v":0},{"$f":"VLOOKUP($C27,'Test 12'!$A$12:$Q$51,15,FALSE)","v":5},{"$f":"IF(Pivots!EA18=\"(Blank)\",\"\",Pivots!EA18)","v":13},{"$f":"VLOOKUP($C27,'Test 12'!$A$12:$Q$51,2,FALSE)","v":"Aaron Wishart"},{"$f":"VLOOKUP($C27,'Test 12'!$A$12:$Q$51,7,FALSE)","v":""},{"$f":"VLOOKUP($C27,'Test 12'!$A$12:$Q$51,3,FALSE)","v":""},{"$f":"VLOOKUP($C27,'Test 12'!$A$12:$Q$51,4,FALSE)","v":""},{"$f":"VLOOKUP($C27,'Test 12'!$A$12:$Q$51,5,FALSE)","v":"senior"},{"$f":"VLOOKUP($C27,'Test 12'!$A$12:$Q$51,13,FALSE)","v":"00:00:57.400"},{"$f":"VLOOKUP($C27,'Test 12'!$A$12:$Q$51,16,FALSE)","v":"00:12:27.920"}]
[{"$f":"IF(Pivots!DZ19=\"(Blank)\",\"\",Pivots!DZ19)","v":0},{"$f":"VLOOKUP($C28,'Test 12'!$A$12:$Q$51,15,FALSE)","v":10},{"$f":"IF(Pivots!EA19=\"(Blank)\",\"\",Pivots!EA19)","v":12},{"$f":"VLOOKUP($C28,'Test 12'!$A$12:$Q$51,2,FALSE)","v":"Mat Boorman"},{"$f":"VLOOKUP($C28,'Test 12'!$A$12:$Q$51,7,FALSE)","v":""},{"$f":"VLOOKUP($C28,'Test 12'!$A$12:$Q$51,3,FALSE)","v":""},{"$f":"VLOOKUP($C28,'Test 12'!$A$12:$Q$51,4,FALSE)","v":""},{"$f":"VLOOKUP($C28,'Test 12'!$A$12:$Q$51,5,FALSE)","v":"senior"},{"$f":"VLOOKUP($C28,'Test 12'!$A$12:$Q$51,13,FALSE)","v":"00:01:04.880"},{"$f":"VLOOKUP($C28,'Test 12'!$A$12:$Q$51,16,FALSE)","v":"00:12:37.280"}]
[{"$f":"IF(Pivots!DZ20=\"(Blank)\",\"\",Pivots!DZ20)","v":0},{"$f":"VLOOKUP($C29,'Test 12'!$A$12:$Q$51,15,FALSE)","v":9},{"$f":"IF(Pivots!EA20=\"(Blank)\",\"\",Pivots!EA20)","v":6},{"$f":"VLOOKUP($C29,'Test 12'!$A$12:$Q$51,2,FALSE)","v":"Issac Wishart"},{"$f":"VLOOKUP($C29,'Test 12'!$A$12:$Q$51,7,FALSE)","v":""},{"$f":"VLOOKUP($C29,'Test 12'!$A$12:$Q$51,3,FALSE)","v":"rookie"},{"$f":"VLOOKUP($C29,'Test 12'!$A$12:$Q$51,4,FALSE)","v":""},{"$f":"VLOOKUP($C29,'Test 12'!$A$12:$Q$51,5,FALSE)","v":"senior"},{"$f":"VLOOKUP($C29,'Test 12'!$A$12:$Q$51,13,FALSE)","v":"00:01:01.760"},{"$f":"VLOOKUP($C29,'Test 12'!$A$12:$Q$51,16,FALSE)","v":"00:12:50.350"}]
[{"$f":"IF(Pivots!DZ21=\"(Blank)\",\"\",Pivots!DZ21)","v":0},{"$f":"VLOOKUP($C30,'Test 12'!$A$12:$Q$51,15,FALSE)","v":13},{"$f":"IF(Pivots!EA21=\"(Blank)\",\"\",Pivots!EA21)","v":18},{"$f":"VLOOKUP($C30,'Test 12'!$A$12:$Q$51,2,FALSE)","v":"Jack Stanley"},{"$f":"VLOOKUP($C30,'Test 12'!$A$12:$Q$51,7,FALSE)","v":""},{"$f":"VLOOKUP($C30,'Test 12'!$A$12:$Q$51,3,FALSE)","v":"rookie"},{"$f":"VLOOKUP($C30,'Test 12'!$A$12:$Q$51,4,FALSE)","v":""},{"$f":"VLOOKUP($C30,'Test 12'!$A$12:$Q$51,5,FALSE)","v":"senior"},{"$f":"VLOOKUP($C30,'Test 12'!$A$12:$Q$51,13,FALSE)","v":"00:01:11.190"},{"$f":"VLOOKUP($C30,'Test 12'!$A$12:$Q$51,16,FALSE)","v":"00:13:09.100"}]
[{"$f":"IF(Pivots!DZ22=\"(Blank)\",\"\",Pivots!DZ22)","v":0},{"$f":"VLOOKUP($C31,'Test 12'!$A$12:$Q$51,15,FALSE)","v":12},{"$f":"IF(Pivots!EA22=\"(Blank)\",\"\",Pivots!EA22)","v":4},{"$f":"VLOOKUP($C31,'Test 12'!$A$12:$Q$51,2,FALSE)","v":"Michaela Ballard"},{"$f":"VLOOKUP($C31,'Test 12'!$A$12:$Q$51,7,FALSE)","v":""},{"$f":"VLOOKUP($C31,'Test 12'!$A$12:$Q$51,3,FALSE)","v":"rookie"},{"$f":"VLOOKUP($C31,'Test 12'!$A$12:$Q$51,4,FALSE)","v":"female"},{"$f":"VLOOKUP($C31,'Test 12'!$A$12:$Q$51,5,FALSE)","v":"senior"},{"$f":"VLOOKUP($C31,'Test 12'!$A$12:$Q$51,13,FALSE)","v":"00:01:06.190"},{"$f":"VLOOKUP($C31,'Test 12'!$A$12:$Q$51,16,FALSE)","v":"00:13:14.220"}]
[{"$f":"IF(Pivots!DZ23=\"(Blank)\",\"\",Pivots!DZ23)","v":0},{"$f":"VLOOKUP($C32,'Test 12'!$A$12:$Q$51,15,FALSE)","v":19},{"$f":"IF(Pivots!EA23=\"(Blank)\",\"\",Pivots!EA23)","v":11},{"$f":"VLOOKUP($C32,'Test 12'!$A$12:$Q$51,2,FALSE)","v":"Russel McKinley"},{"$f":"VLOOKUP($C32,'Test 12'!$A$12:$Q$51,7,FALSE)","v":""},{"$f":"VLOOKUP($C32,'Test 12'!$A$12:$Q$51,3,FALSE)","v":""},{"$f":"VLOOKUP($C32,'Test 12'!$A$12:$Q$51,4,FALSE)","v":""},{"$f":"VLOOKUP($C32,'Test 12'!$A$12:$Q$51,5,FALSE)","v":"senior"},{"$f":"VLOOKUP($C32,'Test 12'!$A$12:$Q$51,13,FALSE)","v":"00:01:16.190"},{"$f":"VLOOKUP($C32,'Test 12'!$A$12:$Q$51,16,FALSE)","v":"00:13:25.150"}]
[{"$f":"IF(Pivots!DZ24=\"(Blank)\",\"\",Pivots!DZ24)","v":0},{"$f":"VLOOKUP($C33,'Test 12'!$A$12:$Q$51,15,FALSE)","v":19},{"$f":"IF(Pivots!EA24=\"(Blank)\",\"\",Pivots!EA24)","v":7},{"$f":"VLOOKUP($C33,'Test 12'!$A$12:$Q$51,2,FALSE)","v":""},{"$f":"VLOOKUP($C33,'Test 12'!$A$12:$Q$51,7,FALSE)","v":""},{"$f":"VLOOKUP($C33,'Test 12'!$A$12:$Q$51,3,FALSE)","v":""},{"$f":"VLOOKUP($C33,'Test 12'!$A$12:$Q$51,4,FALSE)","v":""},{"$f":"VLOOKUP($C33,'Test 12'!$A$12:$Q$51,5,FALSE)","v":"senior"},{"$f":"VLOOKUP($C33,'Test 12'!$A$12:$Q$51,13,FALSE)","v":"00:01:16.190"},{"$f":"VLOOKUP($C33,'Test 12'!$A$12:$Q$51,16,FALSE)","v":"00:15:42.230"}]
[{"$f":"IF(Pivots!DZ25=\"(Blank)\",\"\",Pivots!DZ25)","v":0},{"$f":"VLOOKUP($C34,'Test 12'!$A$12:$Q$51,15,FALSE)","v":19},{"$f":"IF(Pivots!EA25=\"(Blank)\",\"\",Pivots!EA25)","v":21},{"$f":"VLOOKUP($C34,'Test 12'!$A$12:$Q$51,2,FALSE)","v":""},{"$f":"VLOOKUP($C34,'Test 12'!$A$12:$Q$51,7,FALSE)","v":""},{"$f":"VLOOKUP($C34,'Test 12'!$A$12:$Q$51,3,FALSE)","v":""},{"$f":"VLOOKUP($C34,'Test 12'!$A$12:$Q$51,4,FALSE)","v":""},{"$f":"VLOOKUP($C34,'Test 12'!$A$12:$Q$51,5,FALSE)","v":"senior"},{"$f":"VLOOKUP($C34,'Test 12'!$A$12:$Q$51,13,FALSE)","v":"00:01:16.190"},{"$f":"VLOOKUP($C34,'Test 12'!$A$12:$Q$51,16,FALSE)","v":"00:15:42.230"}]
[{"$f":"IF(Pivots!DZ26=\"(Blank)\",\"\",Pivots!DZ26)","v":0},{"$f":"VLOOKUP($C35,'Test 12'!$A$12:$Q$51,15,FALSE)","v":19},{"$f":"IF(Pivots!EA26=\"(Blank)\",\"\",Pivots!EA26)","v":22},{"$f":"VLOOKUP($C35,'Test 12'!$A$12:$Q$51,2,FALSE)","v":""},{"$f":"VLOOKUP($C35,'Test 12'!$A$12:$Q$51,7,FALSE)","v":""},{"$f":"VLOOKUP($C35,'Test 12'!$A$12:$Q$51,3,FALSE)","v":""},{"$f":"VLOOKUP($C35,'Test 12'!$A$12:$Q$51,4,FALSE)","v":""},{"$f":"VLOOKUP($C35,'Test 12'!$A$12:$Q$51,5,FALSE)","v":"senior"},{"$f":"VLOOKUP($C35,'Test 12'!$A$12:$Q$51,13,FALSE)","v":"00:01:16.190"},{"$f":"VLOOKUP($C35,'Test 12'!$A$12:$Q$51,16,FALSE)","v":"00:15:42.230"}]
[{"$f":"IF(Pivots!DZ27=\"(Blank)\",\"\",Pivots!DZ27)","v":0},{"$f":"VLOOKUP($C36,'Test 12'!$A$12:$Q$51,15,FALSE)","v":19},{"$f":"IF(Pivots!EA27=\"(Blank)\",\"\",Pivots!EA27)","v":23},{"$f":"VLOOKUP($C36,'Test 12'!$A$12:$Q$51,2,FALSE)","v":""},{"$f":"VLOOKUP($C36,'Test 12'!$A$12:$Q$51,7,FALSE)","v":""},{"$f":"VLOOKUP($C36,'Test 12'!$A$12:$Q$51,3,FALSE)","v":""},{"$f":"VLOOKUP($C36,'Test 12'!$A$12:$Q$51,4,FALSE)","v":""},{"$f":"VLOOKUP($C36,'Test 12'!$A$12:$Q$51,5,FALSE)","v":"senior"},{"$f":"VLOOKUP($C36,'Test 12'!$A$12:$Q$51,13,FALSE)","v":"00:01:16.190"},{"$f":"VLOOKUP($C36,'Test 12'!$A$12:$Q$51,16,FALSE)","v":"00:15:42.230"}]
[{"$f":"IF(Pivots!DZ28=\"(Blank)\",\"\",Pivots!DZ28)","v":0},{"$f":"VLOOKUP($C37,'Test 12'!$A$12:$Q$51,15,FALSE)","v":19},{"$f":"IF(Pivots!EA28=\"(Blank)\",\"\",Pivots!EA28)","v":24},{"$f":"VLOOKUP($C37,'Test 12'!$A$12:$Q$51,2,FALSE)","v":""},{"$f":"VLOOKUP($C37,'Test 12'!$A$12:$Q$51,7,FALSE)","v":""},{"$f":"VLOOKUP($C37,'Test 12'!$A$12:$Q$51,3,FALSE)","v":""},{"$f":"VLOOKUP($C37,'Test 12'!$A$12:$Q$51,4,FALSE)","v":""},{"$f":"VLOOKUP($C37,'Test 12'!$A$12:$Q$51,5,FALSE)","v":"senior"},{"$f":"VLOOKUP($C37,'Test 12'!$A$12:$Q$51,13,FALSE)","v":"00:01:16.190"},{"$f":"VLOOKUP($C37,'Test 12'!$A$12:$Q$51,16,FALSE)","v":"00:15:42.230"}]
[{"$f":"IF(Pivots!DZ29=\"(Blank)\",\"\",Pivots!DZ29)","v":0},{"$f":"VLOOKUP($C38,'Test 12'!$A$12:$Q$51,15,FALSE)","v":19},{"$f":"IF(Pivots!EA29=\"(Blank)\",\"\",Pivots!EA29)","v":25},{"$f":"VLOOKUP($C38,'Test 12'!$A$12:$Q$51,2,FALSE)","v":""},{"$f":"VLOOKUP($C38,'Test 12'!$A$12:$Q$51,7,FALSE)","v":""},{"$f":"VLOOKUP($C38,'Test 12'!$A$12:$Q$51,3,FALSE)","v":""},{"$f":"VLOOKUP($C38,'Test 12'!$A$12:$Q$51,4,FALSE)","v":""},{"$f":"VLOOKUP($C38,'Test 12'!$A$12:$Q$51,5,FALSE)","v":"senior"},{"$f":"VLOOKUP($C38,'Test 12'!$A$12:$Q$51,13,FALSE)","v":"00:01:16.190"},{"$f":"VLOOKUP($C38,'Test 12'!$A$12:$Q$51,16,FALSE)","v":"00:15:42.230"}]
[{"$f":"IF(Pivots!DZ30=\"(Blank)\",\"\",Pivots!DZ30)","v":0},{"$f":"VLOOKUP($C39,'Test 12'!$A$12:$Q$51,15,FALSE)","v":19},{"$f":"IF(Pivots!EA30=\"(Blank)\",\"\",Pivots!EA30)","v":26},{"$f":"VLOOKUP($C39,'Test 12'!$A$12:$Q$51,2,FALSE)","v":""},{"$f":"VLOOKUP($C39,'Test 12'!$A$12:$Q$51,7,FALSE)","v":""},{"$f":"VLOOKUP($C39,'Test 12'!$A$12:$Q$51,3,FALSE)","v":""},{"$f":"VLOOKUP($C39,'Test 12'!$A$12:$Q$51,4,FALSE)","v":""},{"$f":"VLOOKUP($C39,'Test 12'!$A$12:$Q$51,5,FALSE)","v":"senior"},{"$f":"VLOOKUP($C39,'Test 12'!$A$12:$Q$51,13,FALSE)","v":"00:01:16.190"},{"$f":"VLOOKUP($C39,'Test 12'!$A$12:$Q$51,16,FALSE)","v":"00:15:42.230"}]
[{"$f":"IF(Pivots!DZ31=\"(Blank)\",\"\",Pivots!DZ31)","v":0},{"$f":"VLOOKUP($C40,'Test 12'!$A$12:$Q$51,15,FALSE)","v":19},{"$f":"IF(Pivots!EA31=\"(Blank)\",\"\",Pivots!EA31)","v":27},{"$f":"VLOOKUP($C40,'Test 12'!$A$12:$Q$51,2,FALSE)","v":""},{"$f":"VLOOKUP($C40,'Test 12'!$A$12:$Q$51,7,FALSE)","v":""},{"$f":"VLOOKUP($C40,'Test 12'!$A$12:$Q$51,3,FALSE)","v":""},{"$f":"VLOOKUP($C40,'Test 12'!$A$12:$Q$51,4,FALSE)","v":""},{"$f":"VLOOKUP($C40,'Test 12'!$A$12:$Q$51,5,FALSE)","v":"senior"},{"$f":"VLOOKUP($C40,'Test 12'!$A$12:$Q$51,13,FALSE)","v":"00:01:16.190"},{"$f":"VLOOKUP($C40,'Test 12'!$A$12:$Q$51,16,FALSE)","v":"00:15:42.230"}]
[{"$f":"IF(Pivots!DZ32=\"(Blank)\",\"\",Pivots!DZ32)","v":0},{"$f":"VLOOKUP($C41,'Test 12'!$A$12:$Q$51,15,FALSE)","v":19},{"$f":"IF(Pivots!EA32=\"(Blank)\",\"\",Pivots!EA32)","v":28},{"$f":"VLOOKUP($C41,'Test 12'!$A$12:$Q$51,2,FALSE)","v":""},{"$f":"VLOOKUP($C41,'Test 12'!$A$12:$Q$51,7,FALSE)","v":""},{"$f":"VLOOKUP($C41,'Test 12'!$A$12:$Q$51,3,FALSE)","v":""},{"$f":"VLOOKUP($C41,'Test 12'!$A$12:$Q$51,4,FALSE)","v":""},{"$f":"VLOOKUP($C41,'Test 12'!$A$12:$Q$51,5,FALSE)","v":"senior"},{"$f":"VLOOKUP($C41,'Test 12'!$A$12:$Q$51,13,FALSE)","v":"00:01:16.190"},{"$f":"VLOOKUP($C41,'Test 12'!$A$12:$Q$51,16,FALSE)","v":"00:15:42.230"}]
[{"$f":"IF(Pivots!DZ33=\"(Blank)\",\"\",Pivots!DZ33)","v":0},{"$f":"VLOOKUP($C42,'Test 12'!$A$12:$Q$51,15,FALSE)","v":19},{"$f":"IF(Pivots!EA33=\"(Blank)\",\"\",Pivots!EA33)","v":29},{"$f":"VLOOKUP($C42,'Test 12'!$A$12:$Q$51,2,FALSE)","v":""},{"$f":"VLOOKUP($C42,'Test 12'!$A$12:$Q$51,7,FALSE)","v":""},{"$f":"VLOOKUP($C42,'Test 12'!$A$12:$Q$51,3,FALSE)","v":""},{"$f":"VLOOKUP($C42,'Test 12'!$A$12:$Q$51,4,FALSE)","v":""},{"$f":"VLOOKUP($C42,'Test 12'!$A$12:$Q$51,5,FALSE)","v":"senior"},{"$f":"VLOOKUP($C42,'Test 12'!$A$12:$Q$51,13,FALSE)","v":"00:01:16.190"},{"$f":"VLOOKUP($C42,'Test 12'!$A$12:$Q$51,16,FALSE)","v":"00:15:42.230"}]
[{"$f":"IF(Pivots!DZ34=\"(Blank)\",\"\",Pivots!DZ34)","v":0},{"$f":"VLOOKUP($C43,'Test 12'!$A$12:$Q$51,15,FALSE)","v":19},{"$f":"IF(Pivots!EA34=\"(Blank)\",\"\",Pivots!EA34)","v":30},{"$f":"VLOOKUP($C43,'Test 12'!$A$12:$Q$51,2,FALSE)","v":""},{"$f":"VLOOKUP($C43,'Test 12'!$A$12:$Q$51,7,FALSE)","v":""},{"$f":"VLOOKUP($C43,'Test 12'!$A$12:$Q$51,3,FALSE)","v":""},{"$f":"VLOOKUP($C43,'Test 12'!$A$12:$Q$51,4,FALSE)","v":""},{"$f":"VLOOKUP($C43,'Test 12'!$A$12:$Q$51,5,FALSE)","v":"senior"},{"$f":"VLOOKUP($C43,'Test 12'!$A$12:$Q$51,13,FALSE)","v":"00:01:16.190"},{"$f":"VLOOKUP($C43,'Test 12'!$A$12:$Q$51,16,FALSE)","v":"00:15:42.230"}]
[{"$f":"IF(Pivots!DZ35=\"(Blank)\",\"\",Pivots!DZ35)","v":0},{"$f":"VLOOKUP($C44,'Test 12'!$A$12:$Q$51,15,FALSE)","v":19},{"$f":"IF(Pivots!EA35=\"(Blank)\",\"\",Pivots!EA35)","v":31},{"$f":"VLOOKUP($C44,'Test 12'!$A$12:$Q$51,2,FALSE)","v":""},{"$f":"VLOOKUP($C44,'Test 12'!$A$12:$Q$51,7,FALSE)","v":""},{"$f":"VLOOKUP($C44,'Test 12'!$A$12:$Q$51,3,FALSE)","v":""},{"$f":"VLOOKUP($C44,'Test 12'!$A$12:$Q$51,4,FALSE)","v":""},{"$f":"VLOOKUP($C44,'Test 12'!$A$12:$Q$51,5,FALSE)","v":"senior"},{"$f":"VLOOKUP($C44,'Test 12'!$A$12:$Q$51,13,FALSE)","v":"00:01:16.190"},{"$f":"VLOOKUP($C44,'Test 12'!$A$12:$Q$51,16,FALSE)","v":"00:15:42.230"}]
[{"$f":"IF(Pivots!DZ36=\"(Blank)\",\"\",Pivots!DZ36)","v":0},{"$f":"VLOOKUP($C45,'Test 12'!$A$12:$Q$51,15,FALSE)","v":19},{"$f":"IF(Pivots!EA36=\"(Blank)\",\"\",Pivots!EA36)","v":32},{"$f":"VLOOKUP($C45,'Test 12'!$A$12:$Q$51,2,FALSE)","v":""},{"$f":"VLOOKUP($C45,'Test 12'!$A$12:$Q$51,7,FALSE)","v":""},{"$f":"VLOOKUP($C45,'Test 12'!$A$12:$Q$51,3,FALSE)","v":""},{"$f":"VLOOKUP($C45,'Test 12'!$A$12:$Q$51,4,FALSE)","v":""},{"$f":"VLOOKUP($C45,'Test 12'!$A$12:$Q$51,5,FALSE)","v":"senior"},{"$f":"VLOOKUP($C45,'Test 12'!$A$12:$Q$51,13,FALSE)","v":"00:01:16.190"},{"$f":"VLOOKUP($C45,'Test 12'!$A$12:$Q$51,16,FALSE)","v":"00:15:42.230"}]
[{"$f":"IF(Pivots!DZ37=\"(Blank)\",\"\",Pivots!DZ37)","v":0},{"$f":"VLOOKUP($C46,'Test 12'!$A$12:$Q$51,15,FALSE)","v":19},{"$f":"IF(Pivots!EA37=\"(Blank)\",\"\",Pivots!EA37)","v":33},{"$f":"VLOOKUP($C46,'Test 12'!$A$12:$Q$51,2,FALSE)","v":""},{"$f":"VLOOKUP($C46,'Test 12'!$A$12:$Q$51,7,FALSE)","v":""},{"$f":"VLOOKUP($C46,'Test 12'!$A$12:$Q$51,3,FALSE)","v":""},{"$f":"VLOOKUP($C46,'Test 12'!$A$12:$Q$51,4,FALSE)","v":""},{"$f":"VLOOKUP($C46,'Test 12'!$A$12:$Q$51,5,FALSE)","v":"senior"},{"$f":"VLOOKUP($C46,'Test 12'!$A$12:$Q$51,13,FALSE)","v":"00:01:16.190"},{"$f":"VLOOKUP($C46,'Test 12'!$A$12:$Q$51,16,FALSE)","v":"00:15:42.230"}]
[{"$f":"IF(Pivots!DZ38=\"(Blank)\",\"\",Pivots!DZ38)","v":0},{"$f":"VLOOKUP($C47,'Test 12'!$A$12:$Q$51,15,FALSE)","v":19},{"$f":"IF(Pivots!EA38=\"(Blank)\",\"\",Pivots!EA38)","v":34},{"$f":"VLOOKUP($C47,'Test 12'!$A$12:$Q$51,2,FALSE)","v":""},{"$f":"VLOOKUP($C47,'Test 12'!$A$12:$Q$51,7,FALSE)","v":""},{"$f":"VLOOKUP($C47,'Test 12'!$A$12:$Q$51,3,FALSE)","v":""},{"$f":"VLOOKUP($C47,'Test 12'!$A$12:$Q$51,4,FALSE)","v":""},{"$f":"VLOOKUP($C47,'Test 12'!$A$12:$Q$51,5,FALSE)","v":"senior"},{"$f":"VLOOKUP($C47,'Test 12'!$A$12:$Q$51,13,FALSE)","v":"00:01:16.190"},{"$f":"VLOOKUP($C47,'Test 12'!$A$12:$Q$51,16,FALSE)","v":"00:15:42.230"}]
[{"$f":"IF(Pivots!DZ39=\"(Blank)\",\"\",Pivots!DZ39)","v":0},{"$f":"VLOOKUP($C48,'Test 12'!$A$12:$Q$51,15,FALSE)","v":19},{"$f":"IF(Pivots!EA39=\"(Blank)\",\"\",Pivots!EA39)","v":35},{"$f":"VLOOKUP($C48,'Test 12'!$A$12:$Q$51,2,FALSE)","v":""},{"$f":"VLOOKUP($C48,'Test 12'!$A$12:$Q$51,7,FALSE)","v":""},{"$f":"VLOOKUP($C48,'Test 12'!$A$12:$Q$51,3,FALSE)","v":""},{"$f":"VLOOKUP($C48,'Test 12'!$A$12:$Q$51,4,FALSE)","v":""},{"$f":"VLOOKUP($C48,'Test 12'!$A$12:$Q$51,5,FALSE)","v":"senior"},{"$f":"VLOOKUP($C48,'Test 12'!$A$12:$Q$51,13,FALSE)","v":"00:01:16.190"},{"$f":"VLOOKUP($C48,'Test 12'!$A$12:$Q$51,16,FALSE)","v":"00:15:42.230"}]
[{"$f":"IF(Pivots!DZ40=\"(Blank)\",\"\",Pivots!DZ40)","v":0},{"$f":"VLOOKUP($C49,'Test 12'!$A$12:$Q$51,15,FALSE)","v":19},{"$f":"IF(Pivots!EA40=\"(Blank)\",\"\",Pivots!EA40)","v":36},{"$f":"VLOOKUP($C49,'Test 12'!$A$12:$Q$51,2,FALSE)","v":""},{"$f":"VLOOKUP($C49,'Test 12'!$A$12:$Q$51,7,FALSE)","v":""},{"$f":"VLOOKUP($C49,'Test 12'!$A$12:$Q$51,3,FALSE)","v":""},{"$f":"VLOOKUP($C49,'Test 12'!$A$12:$Q$51,4,FALSE)","v":""},{"$f":"VLOOKUP($C49,'Test 12'!$A$12:$Q$51,5,FALSE)","v":"senior"},{"$f":"VLOOKUP($C49,'Test 12'!$A$12:$Q$51,13,FALSE)","v":"00:01:16.190"},{"$f":"VLOOKUP($C49,'Test 12'!$A$12:$Q$51,16,FALSE)","v":"00:15:42.230"}]
[{"$f":"IF(Pivots!DZ41=\"(Blank)\",\"\",Pivots!DZ41)","v":0},{"$f":"VLOOKUP($C50,'Test 12'!$A$12:$Q$51,15,FALSE)","v":19},{"$f":"IF(Pivots!EA41=\"(Blank)\",\"\",Pivots!EA41)","v":37},{"$f":"VLOOKUP($C50,'Test 12'!$A$12:$Q$51,2,FALSE)","v":""},{"$f":"VLOOKUP($C50,'Test 12'!$A$12:$Q$51,7,FALSE)","v":""},{"$f":"VLOOKUP($C50,'Test 12'!$A$12:$Q$51,3,FALSE)","v":""},{"$f":"VLOOKUP($C50,'Test 12'!$A$12:$Q$51,4,FALSE)","v":""},{"$f":"VLOOKUP($C50,'Test 12'!$A$12:$Q$51,5,FALSE)","v":"senior"},{"$f":"VLOOKUP($C50,'Test 12'!$A$12:$Q$51,13,FALSE)","v":"00:01:16.190"},{"$f":"VLOOKUP($C50,'Test 12'!$A$12:$Q$51,16,FALSE)","v":"00:15:42.230"}]
[{"$f":"IF(Pivots!DZ42=\"(Blank)\",\"\",Pivots!DZ42)","v":0},{"$f":"VLOOKUP($C51,'Test 12'!$A$12:$Q$51,15,FALSE)","v":19},{"$f":"IF(Pivots!EA42=\"(Blank)\",\"\",Pivots!EA42)","v":38},{"$f":"VLOOKUP($C51,'Test 12'!$A$12:$Q$51,2,FALSE)","v":""},{"$f":"VLOOKUP($C51,'Test 12'!$A$12:$Q$51,7,FALSE)","v":""},{"$f":"VLOOKUP($C51,'Test 12'!$A$12:$Q$51,3,FALSE)","v":""},{"$f":"VLOOKUP($C51,'Test 12'!$A$12:$Q$51,4,FALSE)","v":""},{"$f":"VLOOKUP($C51,'Test 12'!$A$12:$Q$51,5,FALSE)","v":"senior"},{"$f":"VLOOKUP($C51,'Test 12'!$A$12:$Q$51,13,FALSE)","v":"00:01:16.190"},{"$f":"VLOOKUP($C51,'Test 12'!$A$12:$Q$51,16,FALSE)","v":"00:15:42.230"}]
[{"$f":"IF(Pivots!DZ43=\"(Blank)\",\"\",Pivots!DZ43)","v":0},{"$f":"VLOOKUP($C52,'Test 12'!$A$12:$Q$51,15,FALSE)","v":19},{"$f":"IF(Pivots!EA43=\"(Blank)\",\"\",Pivots!EA43)","v":39},{"$f":"VLOOKUP($C52,'Test 12'!$A$12:$Q$51,2,FALSE)","v":""},{"$f":"VLOOKUP($C52,'Test 12'!$A$12:$Q$51,7,FALSE)","v":""},{"$f":"VLOOKUP($C52,'Test 12'!$A$12:$Q$51,3,FALSE)","v":""},{"$f":"VLOOKUP($C52,'Test 12'!$A$12:$Q$51,4,FALSE)","v":""},{"$f":"VLOOKUP($C52,'Test 12'!$A$12:$Q$51,5,FALSE)","v":"senior"},{"$f":"VLOOKUP($C52,'Test 12'!$A$12:$Q$51,13,FALSE)","v":"00:01:16.190"},{"$f":"VLOOKUP($C52,'Test 12'!$A$12:$Q$51,16,FALSE)","v":"00:15:42.230"}]
[{"$f":"IF(Pivots!DZ44=\"(Blank)\",\"\",Pivots!DZ44)","v":0},{"$f":"VLOOKUP($C53,'Test 12'!$A$12:$Q$51,15,FALSE)","v":19},{"$f":"IF(Pivots!EA44=\"(Blank)\",\"\",Pivots!EA44)","v":40},{"$f":"VLOOKUP($C53,'Test 12'!$A$12:$Q$51,2,FALSE)","v":""},{"$f":"VLOOKUP($C53,'Test 12'!$A$12:$Q$51,7,FALSE)","v":""},{"$f":"VLOOKUP($C53,'Test 12'!$A$12:$Q$51,3,FALSE)","v":""},{"$f":"VLOOKUP($C53,'Test 12'!$A$12:$Q$51,4,FALSE)","v":""},{"$f":"VLOOKUP($C53,'Test 12'!$A$12:$Q$51,5,FALSE)","v":"senior"},{"$f":"VLOOKUP($C53,'Test 12'!$A$12:$Q$51,13,FALSE)","v":"00:01:16.190"},{"$f":"VLOOKUP($C53,'Test 12'!$A$12:$Q$51,16,FALSE)","v":"00:15:42.230"}]

{"sheet":"Print_Test 13","index":15,"n_rows":53,"n_cols":10,"rows_kept":53,"cut":false,"hidden":false,"merged":[[11,6,12,6],[11,7,12,7],[8,3,8,5],[9,3,9,5],[11,0,12,0],[11,1,12,1],[11,2,12,2],[11,3,12,3],[11,4,12,4],[11,5,12,5]]}
[]
[]
[]
[]
[]
[]
[]
[]
[null,null,null,"Provisional Results"]
[null,null,null,"Test 13"]
[]
["Outright Position","Test Position","Car Number","Driver","Class","Rookie?","Female?","Junior?","Test Time","Cumulative Time"]
[null,null,null,null,null,null,null,null,"(mm:ss.00)","(mm:ss.00)"]
[{"$f":"IF(Pivots!EK5=\"(Blank)\",\"\",Pivots!EK5)","v":0},{"$f":"VLOOKUP($C14,'Test 13'!$A$12:$Q$51,15,FALSE)","v":1},{"$f":"IF(Pivots!EL5=\"(Blank)\",\"\",Pivots!EL5)","v":17},{"$f":"VLOOKUP($C14,'Test 13'!$A$12:$Q$51,2,FALSE)","v":"Reece McIntosh"},{"$f":"VLOOKUP($C14,'Test 13'!$A$12:$Q$51,7,FALSE)","v":""},{"$f":"VLOOKUP($C14,'Test 13'!$A$12:$Q$51,3,FALSE)","v":""},{"$f":"VLOOKUP($C14,'Test 13'!$A$12:$Q$51,4,FALSE)","v":""},{"$f":"VLOOKUP($C14,'Test 13'!$A$12:$Q$51,5,FALSE)","v":"senior"},{"$f":"VLOOKUP($C14,'Test 13'!$A$12:$Q$51,13,FALSE)","v":"00:00:10"},{"$f":"VLOOKUP($C14,'Test 13'!$A$12:$Q$51,16,FALSE)","v":"00:10:30.300"}]
[{"$f":"IF(Pivots!EK6=\"(Blank)\",\"\",Pivots!EK6)","v":0},{"$f":"VLOOKUP($C15,'Test 13'!$A$12:$Q$51,15,FALSE)","v":1},{"$f":"IF(Pivots!EL6=\"(Blank)\",\"\",Pivots!EL6)","v":1},{"$f":"VLOOKUP($C15,'Test 13'!$A$12:$Q$51,2,FALSE)","v":"Paul Dunn"},{"$f":"VLOOKUP($C15,'Test 13'!$A$12:$Q$51,7,FALSE)","v":""},{"$f":"VLOOKUP($C15,'Test 13'!$A$12:$Q$51,3,FALSE)","v":""},{"$f":"VLOOKUP($C15,'Test 13'!$A$12:$Q$51,4,FALSE)","v":""},{"$f":"VLOOKUP($C15,'Test 13'!$A$12:$Q$51,5,FALSE)","v":"senior"},{"$f":"VLOOKUP($C15,'Test 13'!$A$12:$Q$51,13,FALSE)","v":"00:00:10"},{"$f":"VLOOKUP($C15,'Test 13'!$A$12:$Q$51,16,FALSE)","v":"00:10:46.360"}]
[{"$f":"IF(Pivots!EK7=\"(Blank)\",\"\",Pivots!EK7)","v":0},{"$f":"VLOOKUP($C16,'Test 13'!$A$12:$Q$51,15,FALSE)","v":1},{"$f":"IF(Pivots!EL7=\"(Blank)\",\"\",Pivots!EL7)","v":9},{"$f":"VLOOKUP($C16,'Test 13'!$A$12:$Q$51,2,FALSE)","v":"Brad Firman"},{"$f":"VLOOKUP($C16,'Test 13'!$A$12:$Q$51,7,FALSE)","v":""},{"$f":"VLOOKUP($C16,'Test 13'!$A$12:$Q$51,3,FALSE)","v":""},{"$f":"VLOOKUP($C16,'Test 13'!$A$12:$Q$51,4,FALSE)","v":""},{"$f":"VLOOKUP($C16,'Test 13'!$A$12:$Q$51,5,FALSE)","v":"senior"},{"$f":"VLOOKUP($C16,'Test 13'!$A$12:$Q$51,13,FALSE)","v":"00:00:10"},{"$f":"VLOOKUP($C16,'Test 13'!$A$12:$Q$51,16,FALSE)","v":"00:10:50.270"}]
[{"$f":"IF(Pivots!EK8=\"(Blank)\",\"\",Pivots!EK8)","v":0},{"$f":"VLOOKUP($C17,'Test 13'!$A$12:$Q$51,15,FALSE)","v":1},{"$f":"IF(Pivots!EL8=\"(Blank)\",\"\",Pivots!EL8)","v":2},{"$f":"VLOOKUP($C17,'Test 13'!$A$12:$Q$51,2,FALSE)","v":"Stephen Thorne"},{"$f":"VLOOKUP($C17,'Test 13'!$A$12:$Q$51,7,FALSE)","v":""},{"$f":"VLOOKUP($C17,'Test 13'!$A$12:$Q$51,3,FALSE)","v":""},{"$f":"VLOOKUP($C17,'Test 13'!$A$12:$Q$51,4,FALSE)","v":""},{"$f":"VLOOKUP($C17,'Test 13'!$A$12:$Q$51,5,FALSE)","v":"senior"},{"$f":"VLOOKUP($C17,'Test 13'!$A$12:$Q$51,13,FALSE)","v":"00:00:10"},{"$f":"VLOOKUP($C17,'Test 13'!$A$12:$Q$51,16,FALSE)","v":"00:11:07.150"}]
[{"$f":"IF(Pivots!EK9=\"(Blank)\",\"\",Pivots!EK9)","v":0},{"$f":"VLOOKUP($C18,'Test 13'!$A$12:$Q$51,15,FALSE)","v":1},{"$f":"IF(Pivots!EL9=\"(Blank)\",\"\",Pivots!EL9)","v":14},{"$f":"VLOOKUP($C18,'Test 13'!$A$12:$Q$51,2,FALSE)","v":"Bob Fulthorpe"},{"$f":"VLOOKUP($C18,'Test 13'!$A$12:$Q$51,7,FALSE)","v":""},{"$f":"VLOOKUP($C18,'Test 13'!$A$12:$Q$51,3,FALSE)","v":""},{"$f":"VLOOKUP($C18,'Test 13'!$A$12:$Q$51,4,FALSE)","v":""},{"$f":"VLOOKUP($C18,'Test 13'!$A$12:$Q$51,5,FALSE)","v":"senior"},{"$f":"VLOOKUP($C18,'Test 13'!$A$12:$Q$51,13,FALSE)","v":"00:00:10"},{"$f":"VLOOKUP($C18,'Test 13'!$A$12:$Q$51,16,FALSE)","v":"00:11:07.350"}]
[{"$f":"IF(Pivots!EK10=\"(Blank)\",\"\",Pivots!EK10)","v":0},{"$f":"VLOOKUP($C19,'Test 13'!$A$12:$Q$51,15,FALSE)","v":1},{"$f":"IF(Pivots!EL10=\"(Blank)\",\"\",Pivots!EL10)","v":20},{"$f":"VLOOKUP($C19,'Test 13'!$A$12:$Q$51,2,FALSE)","v":"Ray Lampl"},{"$f":"VLOOKUP($C19,'Test 13'!$A$12:$Q$51,7,FALSE)","v":""},{"$f":"VLOOKUP($C19,'Test 13'!$A$12:$Q$51,3,FALSE)","v":""},{"$f":"VLOOKUP($C19,'Test 13'!$A$12:$Q$51,4,FALSE)","v":""},{"$f":"VLOOKUP($C19,'Test 13'!$A$12:$Q$51,5,FALSE)","v":"senior"},{"$f":"VLOOKUP($C19,'Test 13'!$A$12:$Q$51,13,FALSE)","v":"00:00:10"},{"$f":"VLOOKUP($C19,'Test 13'!$A$12:$Q$51,16,FALSE)","v":"00:11:33.110"}]
[{"$f":"IF(Pivots!EK11=\"(Blank)\",\"\",Pivots!EK11)","v":0},{"$f":"VLOOKUP($C20,'Test 13'!$A$12:$Q$51,15,FALSE)","v":1},{"$f":"IF(Pivots!EL11=\"(Blank)\",\"\",Pivots!EL11)","v":16},{"$f":"VLOOKUP($C20,'Test 13'!$A$12:$Q$51,2,FALSE)","v":"Nathan Senior"},{"$f":"VLOOKUP($C20,'Test 13'!$A$12:$Q$51,7,FALSE)","v":""},{"$f":"VLOOKUP($C20,'Test 13'!$A$12:$Q$51,3,FALSE)","v":""},{"$f":"VLOOKUP($C20,'Test 13'!$A$12:$Q$51,4,FALSE)","v":""},{"$f":"VLOOKUP($C20,'Test 13'!$A$12:$Q$51,5,FALSE)","v":"senior"},{"$f":"VLOOKUP($C20,'Test 13'!$A$12:$Q$51,13,FALSE)","v":"00:00:10"},{"$f":"VLOOKUP($C20,'Test 13'!$A$12:$Q$51,16,FALSE)","v":"00:11:51.190"}]
[{"$f":"IF(Pivots!EK12=\"(Blank)\",\"\",Pivots!EK12)","v":0},{"$f":"VLOOKUP($C21,'Test 13'!$A$12:$Q$51,15,FALSE)","v":1},{"$f":"IF(Pivots!EL12=\"(Blank)\",\"\",Pivots!EL12)","v":5},{"$f":"VLOOKUP($C21,'Test 13'!$A$12:$Q$51,2,FALSE)","v":"Janelle Ballard"},{"$f":"VLOOKUP($C21,'Test 13'!$A$12:$Q$51,7,FALSE)","v":""},{"$f":"VLOOKUP($C21,'Test 13'!$A$12:$Q$51,3,FALSE)","v":""},{"$f":"VLOOKUP($C21,'Test 13'!$A$12:$Q$51,4,FALSE)","v":"female"},{"$f":"VLOOKUP($C21,'Test 13'!$A$12:$Q$51,5,FALSE)","v":"senior"},{"$f":"VLOOKUP($C21,'Test 13'!$A$12:$Q$51,13,FALSE)","v":"00:00:10"},{"$f":"VLOOKUP($C21,'Test 13'!$A$12:$Q$51,16,FALSE)","v":"00:11:57.350"}]
[{"$f":"IF(Pivots!EK13=\"(Blank)\",\"\",Pivots!EK13)","v":0},{"$f":"VLOOKUP($C22,'Test 13'!$A$12:$Q$51,15,FALSE)","v":1},{"$f":"IF(Pivots!EL13=\"(Blank)\",\"\",Pivots!EL13)","v":19},{"$f":"VLOOKUP($C22,'Test 13'!$A$12:$Q$51,2,FALSE)","v":"Christopher Northey"},{"$f":"VLOOKUP($C22,'Test 13'!$A$12:$Q$51,7,FALSE)","v":""},{"$f":"VLOOKUP($C22,'Test 13'!$A$12:$Q$51,3,FALSE)","v":""},{"$f":"VLOOKUP($C22,'Test 13'!$A$12:$Q$51,4,FALSE)","v":""},{"$f":"VLOOKUP($C22,'Test 13'!$A$12:$Q$51,5,FALSE)","v":"senior"},{"$f":"VLOOKUP($C22,'Test 13'!$A$12:$Q$51,13,FALSE)","v":"00:00:10"},{"$f":"VLOOKUP($C22,'Test 13'!$A$12:$Q$51,16,FALSE)","v":"00:12:01.920"}]
[{"$f":"IF(Pivots!EK14=\"(Blank)\",\"\",Pivots!EK14)","v":0},{"$f":"VLOOKUP($C23,'Test 13'!$A$12:$Q$51,15,FALSE)","v":1},{"$f":"IF(Pivots!EL14=\"(Blank)\",\"\",Pivots!EL14)","v":15},{"$f":"VLOOKUP($C23,'Test 13'!$A$12:$Q$51,2,FALSE)","v":"Khi Fulthorpe"},{"$f":"VLOOKUP($C23,'Test 13'!$A$12:$Q$51,7,FALSE)","v":""},{"$f":"VLOOKUP($C23,'Test 13'!$A$12:$Q$51,3,FALSE)","v":""},{"$f":"VLOOKUP($C23,'Test 13'!$A$12:$Q$51,4,FALSE)","v":""},{"$f":"VLOOKUP($C23,'Test 13'!$A$12:$Q$51,5,FALSE)","v":"senior"},{"$f":"VLOOKUP($C23,'Test 13'!$A$12:$Q$51,13,FALSE)","v":"00:00:10"},{"$f":"VLOOKUP($C23,'Test 13'!$A$12:$Q$51,16,FALSE)","v":"00:12:07.250"}]
[{"$f":"IF(Pivots!EK15=\"(Blank)\",\"\",Pivots!EK15)","v":0},{"$f":"VLOOKUP($C24,'Test 13'!$A$12:$Q$51,15,FALSE)","v":1},{"$f":"IF(Pivots!EL15=\"(Blank)\",\"\",Pivots!EL15)","v":10},{"$f":"VLOOKUP($C24,'Test 13'!$A$12:$Q$51,2,FALSE)","v":"Scott Taylor"},{"$f":"VLOOKUP($C24,'Test 13'!$A$12:$Q$51,7,FALSE)","v":""},{"$f":"VLOOKUP($C24,'Test 13'!$A$12:$Q$51,3,FALSE)","v":""},{"$f":"VLOOKUP($C24,'Test 13'!$A$12:$Q$51,4,FALSE)","v":""},{"$f":"VLOOKUP($C24,'Test 13'!$A$12:$Q$51,5,FALSE)","v":"senior"},{"$f":"VLOOKUP($C24,'Test 13'!$A$12:$Q$51,13,FALSE)","v":"00:00:10"},{"$f":"VLOOKUP($C24,'Test 13'!$A$12:$Q$51,16,FALSE)","v":"00:12:15.120"}]
[{"$f":"IF(Pivots!EK16=\"(Blank)\",\"\",Pivots!EK16)","v":0},{"$f":"VLOOKUP($C25,'Test 13'!$A$12:$Q$51,15,FALSE)","v":1},{"$f":"IF(Pivots!EL16=\"(Blank)\",\"\",Pivots!EL16)","v":3},{"$f":"VLOOKUP($C25,'Test 13'!$A$12:$Q$51,2,FALSE)","v":"David Ballard"},{"$f":"VLOOKUP($C25,'Test 13'!$A$12:$Q$51,7,FALSE)","v":""},{"$f":"VLOOKUP($C25,'Test 13'!$A$12:$Q$51,3,FALSE)","v":""},{"$f":"VLOOKUP($C25,'Test 13'!$A$12:$Q$51,4,FALSE)","v":""},{"$f":"VLOOKUP($C25,'Test 13'!$A$12:$Q$51,5,FALSE)","v":"senior"},{"$f":"VLOOKUP($C25,'Test 13'!$A$12:$Q$51,13,FALSE)","v":"00:00:10"},{"$f":"VLOOKUP($C25,'Test 13'!$A$12:$Q$51,16,FALSE)","v":"00:12:16.210"}]
[{"$f":"IF(Pivots!EK17=\"(Blank)\",\"\",Pivots!EK17)","v":0},{"$f":"VLOOKUP($C26,'Test 13'!$A$12:$Q$51,15,FALSE)","v":1},{"$f":"IF(Pivots!EL17=\"(Blank)\",\"\",Pivots!EL17)","v":8},{"$f":"VLOOKUP($C26,'Test 13'!$A$12:$Q$51,2,FALSE)","v":"Jim Taylor"},{"$f":"VLOOKUP($C26,'Test 13'!$A$12:$Q$51,7,FALSE)","v":""},{"$f":"VLOOKUP($C26,'Test 13'!$A$12:$Q$51,3,FALSE)","v":""},{"$f":"VLOOKUP($C26,'Test 13'!$A$12:$Q$51,4,FALSE)","v":""},{"$f":"VLOOKUP($C26,'Test 13'!$A$12:$Q$51,5,FALSE)","v":"senior"},{"$f":"VLOOKUP($C26,'Test 13'!$A$12:$Q$51,13,FALSE)","v":"00:00:10"},{"$f":"VLOOKUP($C26,'Test 13'!$A$12:$Q$51,16,FALSE)","v":"00:12:17.470"}]
[{"$f":"IF(Pivots!EK18=\"(Blank)\",\"\",Pivots!EK18)","v":0},{"$f":"VLOOKUP($C27,'Test 13'!$A$12:$Q$51,15,FALSE)","v":1},{"$f":"IF(Pivots!EL18=\"(Blank)\",\"\",Pivots!EL18)","v":13},{"$f":"VLOOKUP($C27,'Test 13'!$A$12:$Q$51,2,FALSE)","v":"Aaron Wishart"},{"$f":"VLOOKUP($C27,'Test 13'!$A$12:$Q$51,7,FALSE)","v":""},{"$f":"VLOOKUP($C27,'Test 13'!$A$12:$Q$51,3,FALSE)","v":""},{"$f":"VLOOKUP($C27,'Test 13'!$A$12:$Q$51,4,FALSE)","v":""},{"$f":"VLOOKUP($C27,'Test 13'!$A$12:$Q$51,5,FALSE)","v":"senior"},{"$f":"VLOOKUP($C27,'Test 13'!$A$12:$Q$51,13,FALSE)","v":"00:00:10"},{"$f":"VLOOKUP($C27,'Test 13'!$A$12:$Q$51,16,FALSE)","v":"00:12:37.920"}]
[{"$f":"IF(Pivots!EK19=\"(Blank)\",\"\",Pivots!EK19)","v":0},{"$f":"VLOOKUP($C28,'Test 13'!$A$12:$Q$51,15,FALSE)","v":1},{"$f":"IF(Pivots!EL19=\"(Blank)\",\"\",Pivots!EL19)","v":12},{"$f":"VLOOKUP($C28,'Test 13'!$A$12:$Q$51,2,FALSE)","v":"Mat Boorman"},{"$f":"VLOOKUP($C28,'Test 13'!$A$12:$Q$51,7,FALSE)","v":""},{"$f":"VLOOKUP($C28,'Test 13'!$A$12:$Q$51,3,FALSE)","v":""},{"$f":"VLOOKUP($C28,'Test 13'!$A$12:$Q$51,4,FALSE)","v":""},{"$f":"VLOOKUP($C28,'Test 13'!$A$12:$Q$51,5,FALSE)","v":"senior"},{"$f":"VLOOKUP($C28,'Test 13'!$A$12:$Q$51,13,FALSE)","v":"00:00:10"},{"$f":"VLOOKUP($C28,'Test 13'!$A$12:$Q$51,16,FALSE)","v":"00:12:47.280"}]
[{"$f":"IF(Pivots!EK20=\"(Blank)\",\"\",Pivots!EK20)","v":0},{"$f":"VLOOKUP($C29,'Test 13'!$A$12:$Q$51,15,FALSE)","v":1},{"$f":"IF(Pivots!EL20=\"(Blank)\",\"\",Pivots!EL20)","v":6},{"$f":"VLOOKUP($C29,'Test 13'!$A$12:$Q$51,2,FALSE)","v":"Issac Wishart"},{"$f":"VLOOKUP($C29,'Test 13'!$A$12:$Q$51,7,FALSE)","v":""},{"$f":"VLOOKUP($C29,'Test 13'!$A$12:$Q$51,3,FALSE)","v":"rookie"},{"$f":"VLOOKUP($C29,'Test 13'!$A$12:$Q$51,4,FALSE)","v":""},{"$f":"VLOOKUP($C29,'Test 13'!$A$12:$Q$51,5,FALSE)","v":"senior"},{"$f":"VLOOKUP($C29,'Test 13'!$A$12:$Q$51,13,FALSE)","v":"00:00:10"},{"$f":"VLOOKUP($C29,'Test 13'!$A$12:$Q$51,16,FALSE)","v":"00:13:00.350"}]
[{"$f":"IF(Pivots!EK21=\"(Blank)\",\"\",Pivots!EK21)","v":0},{"$f":"VLOOKUP($C30,'Test 13'!$A$12:$Q$51,15,FALSE)","v":1},{"$f":"IF(Pivots!EL21=\"(Blank)\",\"\",Pivots!EL21)","v":18},{"$f":"VLOOKUP($C30,'Test 13'!$A$12:$Q$51,2,FALSE)","v":"Jack Stanley"},{"$f":"VLOOKUP($C30,'Test 13'!$A$12:$Q$51,7,FALSE)","v":""},{"$f":"VLOOKUP($C30,'Test 13'!$A$12:$Q$51,3,FALSE)","v":"rookie"},{"$f":"VLOOKUP($C30,'Test 13'!$A$12:$Q$51,4,FALSE)","v":""},{"$f":"VLOOKUP($C30,'Test 13'!$A$12:$Q$51,5,FALSE)","v":"senior"},{"$f":"VLOOKUP($C30,'Test 13'!$A$12:$Q$51,13,FALSE)","v":"00:00:10"},{"$f":"VLOOKUP($C30,'Test 13'!$A$12:$Q$51,16,FALSE)","v":"00:13:19.100"}]
[{"$f":"IF(Pivots!EK22=\"(Blank)\",\"\",Pivots!EK22)","v":0},{"$f":"VLOOKUP($C31,'Test 13'!$A$12:$Q$51,15,FALSE)","v":1},{"$f":"IF(Pivots!EL22=\"(Blank)\",\"\",Pivots!EL22)","v":4},{"$f":"VLOOKUP($C31,'Test 13'!$A$12:$Q$51,2,FALSE)","v":"Michaela Ballard"},{"$f":"VLOOKUP($C31,'Test 13'!$A$12:$Q$51,7,FALSE)","v":""},{"$f":"VLOOKUP($C31,'Test 13'!$A$12:$Q$51,3,FALSE)","v":"rookie"},{"$f":"VLOOKUP($C31,'Test 13'!$A$12:$Q$51,4,FALSE)","v":"female"},{"$f":"VLOOKUP($C31,'Test 13'!$A$12:$Q$51,5,FALSE)","v":"senior"},{"$f":"VLOOKUP($C31,'Test 13'!$A$12:$Q$51,13,FALSE)","v":"00:00:10"},{"$f":"VLOOKUP($C31,'Test 13'!$A$12:$Q$51,16,FALSE)","v":"00:13:24.220"}]
[{"$f":"IF(Pivots!EK23=\"(Blank)\",\"\",Pivots!EK23)","v":0},{"$f":"VLOOKUP($C32,'Test 13'!$A$12:$Q$51,15,FALSE)","v":1},{"$f":"IF(Pivots!EL23=\"(Blank)\",\"\",Pivots!EL23)","v":11},{"$f":"VLOOKUP($C32,'Test 13'!$A$12:$Q$51,2,FALSE)","v":"Russel McKinley"},{"$f":"VLOOKUP($C32,'Test 13'!$A$12:$Q$51,7,FALSE)","v":""},{"$f":"VLOOKUP($C32,'Test 13'!$A$12:$Q$51,3,FALSE)","v":""},{"$f":"VLOOKUP($C32,'Test 13'!$A$12:$Q$51,4,FALSE)","v":""},{"$f":"VLOOKUP($C32,'Test 13'!$A$12:$Q$51,5,FALSE)","v":"senior"},{"$f":"VLOOKUP($C32,'Test 13'!$A$12:$Q$51,13,FALSE)","v":"00:00:10"},{"$f":"VLOOKUP($C32,'Test 13'!$A$12:$Q$51,16,FALSE)","v":"00:13:35.150"}]
[{"$f":"IF(Pivots!EK24=\"(Blank)\",\"\",Pivots!EK24)","v":0},{"$f":"VLOOKUP($C33,'Test 13'!$A$12:$Q$51,15,FALSE)","v":1},{"$f":"IF(Pivots!EL24=\"(Blank)\",\"\",Pivots!EL24)","v":7},{"$f":"VLOOKUP($C33,'Test 13'!$A$12:$Q$51,2,FALSE)","v":""},{"$f":"VLOOKUP($C33,'Test 13'!$A$12:$Q$51,7,FALSE)","v":""},{"$f":"VLOOKUP($C33,'Test 13'!$A$12:$Q$51,3,FALSE)","v":""},{"$f":"VLOOKUP($C33,'Test 13'!$A$12:$Q$51,4,FALSE)","v":""},{"$f":"VLOOKUP($C33,'Test 13'!$A$12:$Q$51,5,FALSE)","v":"senior"},{"$f":"VLOOKUP($C33,'Test 13'!$A$12:$Q$51,13,FALSE)","v":"00:00:10"},{"$f":"VLOOKUP($C33,'Test 13'!$A$12:$Q$51,16,FALSE)","v":"00:15:52.230"}]
[{"$f":"IF(Pivots!EK25=\"(Blank)\",\"\",Pivots!EK25)","v":0},{"$f":"VLOOKUP($C34,'Test 13'!$A$12:$Q$51,15,FALSE)","v":1},{"$f":"IF(Pivots!EL25=\"(Blank)\",\"\",Pivots!EL25)","v":21},{"$f":"VLOOKUP($C34,'Test 13'!$A$12:$Q$51,2,FALSE)","v":""},{"$f":"VLOOKUP($C34,'Test 13'!$A$12:$Q$51,7,FALSE)","v":""},{"$f":"VLOOKUP($C34,'Test 13'!$A$12:$Q$51,3,FALSE)","v":""},{"$f":"VLOOKUP($C34,'Test 13'!$A$12:$Q$51,4,FALSE)","v":""},{"$f":"VLOOKUP($C34,'Test 13'!$A$12:$Q$51,5,FALSE)","v":"senior"},{"$f":"VLOOKUP($C34,'Test 13'!$A$12:$Q$51,13,FALSE)","v":"00:00:10"},{"$f":"VLOOKUP($C34,'Test 13'!$A$12:$Q$51,16,FALSE)","v":"00:15:52.230"}]
[{"$f":"IF(Pivots!EK26=\"(Blank)\",\"\",Pivots!EK26)","v":0},{"$f":"VLOOKUP($C35,'Test 13'!$A$12:$Q$51,15,FALSE)","v":1},{"$f":"IF(Pivots!EL26=\"(Blank)\",\"\",Pivots!EL26)","v":22},{"$f":"VLOOKUP($C35,'Test 13'!$A$12:$Q$51,2,FALSE)","v":""},{"$f":"VLOOKUP($C35,'Test 13'!$A$12:$Q$51,7,FALSE)","v":""},{"$f":"VLOOKUP($C35,'Test 13'!$A$12:$Q$51,3,FALSE)","v":""},{"$f":"VLOOKUP($C35,'Test 13'!$A$12:$Q$51,4,FALSE)","v":""},{"$f":"VLOOKUP($C35,'Test 13'!$A$12:$Q$51,5,FALSE)","v":"senior"},{"$f":"VLOOKUP($C35,'Test 13'!$A$12:$Q$51,13,FALSE)","v":"00:00:10"},{"$f":"VLOOKUP($C35,'Test 13'!$A$12:$Q$51,16,FALSE)","v":"00:15:52.230"}]
[{"$f":"IF(Pivots!EK27=\"(Blank)\",\"\",Pivots!EK27)","v":0},{"$f":"VLOOKUP($C36,'Test 13'!$A$12:$Q$51,15,FALSE)","v":1},{"$f":"IF(Pivots!EL27=\"(Blank)\",\"\",Pivots!EL27)","v":23},{"$f":"VLOOKUP($C36,'Test 13'!$A$12:$Q$51,2,FALSE)","v":""},{"$f":"VLOOKUP($C36,'Test 13'!$A$12:$Q$51,7,FALSE)","v":""},{"$f":"VLOOKUP($C36,'Test 13'!$A$12:$Q$51,3,FALSE)","v":""},{"$f":"VLOOKUP($C36,'Test 13'!$A$12:$Q$51,4,FALSE)","v":""},{"$f":"VLOOKUP($C36,'Test 13'!$A$12:$Q$51,5,FALSE)","v":"senior"},{"$f":"VLOOKUP($C36,'Test 13'!$A$12:$Q$51,13,FALSE)","v":"00:00:10"},{"$f":"VLOOKUP($C36,'Test 13'!$A$12:$Q$51,16,FALSE)","v":"00:15:52.230"}]
[{"$f":"IF(Pivots!EK28=\"(Blank)\",\"\",Pivots!EK28)","v":0},{"$f":"VLOOKUP($C37,'Test 13'!$A$12:$Q$51,15,FALSE)","v":1},{"$f":"IF(Pivots!EL28=\"(Blank)\",\"\",Pivots!EL28)","v":24},{"$f":"VLOOKUP($C37,'Test 13'!$A$12:$Q$51,2,FALSE)","v":""},{"$f":"VLOOKUP($C37,'Test 13'!$A$12:$Q$51,7,FALSE)","v":""},{"$f":"VLOOKUP($C37,'Test 13'!$A$12:$Q$51,3,FALSE)","v":""},{"$f":"VLOOKUP($C37,'Test 13'!$A$12:$Q$51,4,FALSE)","v":""},{"$f":"VLOOKUP($C37,'Test 13'!$A$12:$Q$51,5,FALSE)","v":"senior"},{"$f":"VLOOKUP($C37,'Test 13'!$A$12:$Q$51,13,FALSE)","v":"00:00:10"},{"$f":"VLOOKUP($C37,'Test 13'!$A$12:$Q$51,16,FALSE)","v":"00:15:52.230"}]
[{"$f":"IF(Pivots!EK29=\"(Blank)\",\"\",Pivots!EK29)","v":0},{"$f":"VLOOKUP($C38,'Test 13'!$A$12:$Q$51,15,FALSE)","v":1},{"$f":"IF(Pivots!EL29=\"(Blank)\",\"\",Pivots!EL29)","v":25},{"$f":"VLOOKUP($C38,'Test 13'!$A$12:$Q$51,2,FALSE)","v":""},{"$f":"VLOOKUP($C38,'Test 13'!$A$12:$Q$51,7,FALSE)","v":""},{"$f":"VLOOKUP($C38,'Test 13'!$A$12:$Q$51,3,FALSE)","v":""},{"$f":"VLOOKUP($C38,'Test 13'!$A$12:$Q$51,4,FALSE)","v":""},{"$f":"VLOOKUP($C38,'Test 13'!$A$12:$Q$51,5,FALSE)","v":"senior"},{"$f":"VLOOKUP($C38,'Test 13'!$A$12:$Q$51,13,FALSE)","v":"00:00:10"},{"$f":"VLOOKUP($C38,'Test 13'!$A$12:$Q$51,16,FALSE)","v":"00:15:52.230"}]
[{"$f":"IF(Pivots!EK30=\"(Blank)\",\"\",Pivots!EK30)","v":0},{"$f":"VLOOKUP($C39,'Test 13'!$A$12:$Q$51,15,FALSE)","v":1},{"$f":"IF(Pivots!EL30=\"(Blank)\",\"\",Pivots!EL30)","v":26},{"$f":"VLOOKUP($C39,'Test 13'!$A$12:$Q$51,2,FALSE)","v":""},{"$f":"VLOOKUP($C39,'Test 13'!$A$12:$Q$51,7,FALSE)","v":""},{"$f":"VLOOKUP($C39,'Test 13'!$A$12:$Q$51,3,FALSE)","v":""},{"$f":"VLOOKUP($C39,'Test 13'!$A$12:$Q$51,4,FALSE)","v":""},{"$f":"VLOOKUP($C39,'Test 13'!$A$12:$Q$51,5,FALSE)","v":"senior"},{"$f":"VLOOKUP($C39,'Test 13'!$A$12:$Q$51,13,FALSE)","v":"00:00:10"},{"$f":"VLOOKUP($C39,'Test 13'!$A$12:$Q$51,16,FALSE)","v":"00:15:52.230"}]
[{"$f":"IF(Pivots!EK31=\"(Blank)\",\"\",Pivots!EK31)","v":0},{"$f":"VLOOKUP($C40,'Test 13'!$A$12:$Q$51,15,FALSE)","v":1},{"$f":"IF(Pivots!EL31=\"(Blank)\",\"\",Pivots!EL31)","v":27},{"$f":"VLOOKUP($C40,'Test 13'!$A$12:$Q$51,2,FALSE)","v":""},{"$f":"VLOOKUP($C40,'Test 13'!$A$12:$Q$51,7,FALSE)","v":""},{"$f":"VLOOKUP($C40,'Test 13'!$A$12:$Q$51,3,FALSE)","v":""},{"$f":"VLOOKUP($C40,'Test 13'!$A$12:$Q$51,4,FALSE)","v":""},{"$f":"VLOOKUP($C40,'Test 13'!$A$12:$Q$51,5,FALSE)","v":"senior"},{"$f":"VLOOKUP($C40,'Test 13'!$A$12:$Q$51,13,FALSE)","v":"00:00:10"},{"$f":"VLOOKUP($C40,'Test 13'!$A$12:$Q$51,16,FALSE)","v":"00:15:52.230"}]
[{"$f":"IF(Pivots!EK32=\"(Blank)\",\"\",Pivots!EK32)","v":0},{"$f":"VLOOKUP($C41,'Test 13'!$A$12:$Q$51,15,FALSE)","v":1},{"$f":"IF(Pivots!EL32=\"(Blank)\",\"\",Pivots!EL32)","v":28},{"$f":"VLOOKUP($C41,'Test 13'!$A$12:$Q$51,2,FALSE)","v":""},{"$f":"VLOOKUP($C41,'Test 13'!$A$12:$Q$51,7,FALSE)","v":""},{"$f":"VLOOKUP($C41,'Test 13'!$A$12:$Q$51,3,FALSE)","v":""},{"$f":"VLOOKUP($C41,'Test 13'!$A$12:$Q$51,4,FALSE)","v":""},{"$f":"VLOOKUP($C41,'Test 13'!$A$12:$Q$51,5,FALSE)","v":"senior"},{"$f":"VLOOKUP($C41,'Test 13'!$A$12:$Q$51,13,FALSE)","v":"00:00:10"},{"$f":"VLOOKUP($C41,'Test 13'!$A$12:$Q$51,16,FALSE)","v":"00:15:52.230"}]
[{"$f":"IF(Pivots!EK33=\"(Blank)\",\"\",Pivots!EK33)","v":0},{"$f":"VLOOKUP($C42,'Test 13'!$A$12:$Q$51,15,FALSE)","v":1},{"$f":"IF(Pivots!EL33=\"(Blank)\",\"\",Pivots!EL33)","v":29},{"$f":"VLOOKUP($C42,'Test 13'!$A$12:$Q$51,2,FALSE)","v":""},{"$f":"VLOOKUP($C42,'Test 13'!$A$12:$Q$51,7,FALSE)","v":""},{"$f":"VLOOKUP($C42,'Test 13'!$A$12:$Q$51,3,FALSE)","v":""},{"$f":"VLOOKUP($C42,'Test 13'!$A$12:$Q$51,4,FALSE)","v":""},{"$f":"VLOOKUP($C42,'Test 13'!$A$12:$Q$51,5,FALSE)","v":"senior"},{"$f":"VLOOKUP($C42,'Test 13'!$A$12:$Q$51,13,FALSE)","v":"00:00:10"},{"$f":"VLOOKUP($C42,'Test 13'!$A$12:$Q$51,16,FALSE)","v":"00:15:52.230"}]
[{"$f":"IF(Pivots!EK34=\"(Blank)\",\"\",Pivots!EK34)","v":0},{"$f":"VLOOKUP($C43,'Test 13'!$A$12:$Q$51,15,FALSE)","v":1},{"$f":"IF(Pivots!EL34=\"(Blank)\",\"\",Pivots!EL34)","v":30},{"$f":"VLOOKUP($C43,'Test 13'!$A$12:$Q$51,2,FALSE)","v":""},{"$f":"VLOOKUP($C43,'Test 13'!$A$12:$Q$51,7,FALSE)","v":""},{"$f":"VLOOKUP($C43,'Test 13'!$A$12:$Q$51,3,FALSE)","v":""},{"$f":"VLOOKUP($C43,'Test 13'!$A$12:$Q$51,4,FALSE)","v":""},{"$f":"VLOOKUP($C43,'Test 13'!$A$12:$Q$51,5,FALSE)","v":"senior"},{"$f":"VLOOKUP($C43,'Test 13'!$A$12:$Q$51,13,FALSE)","v":"00:00:10"},{"$f":"VLOOKUP($C43,'Test 13'!$A$12:$Q$51,16,FALSE)","v":"00:15:52.230"}]
[{"$f":"IF(Pivots!EK35=\"(Blank)\",\"\",Pivots!EK35)","v":0},{"$f":"VLOOKUP($C44,'Test 13'!$A$12:$Q$51,15,FALSE)","v":1},{"$f":"IF(Pivots!EL35=\"(Blank)\",\"\",Pivots!EL35)","v":31},{"$f":"VLOOKUP($C44,'Test 13'!$A$12:$Q$51,2,FALSE)","v":""},{"$f":"VLOOKUP($C44,'Test 13'!$A$12:$Q$51,7,FALSE)","v":""},{"$f":"VLOOKUP($C44,'Test 13'!$A$12:$Q$51,3,FALSE)","v":""},{"$f":"VLOOKUP($C44,'Test 13'!$A$12:$Q$51,4,FALSE)","v":""},{"$f":"VLOOKUP($C44,'Test 13'!$A$12:$Q$51,5,FALSE)","v":"senior"},{"$f":"VLOOKUP($C44,'Test 13'!$A$12:$Q$51,13,FALSE)","v":"00:00:10"},{"$f":"VLOOKUP($C44,'Test 13'!$A$12:$Q$51,16,FALSE)","v":"00:15:52.230"}]
[{"$f":"IF(Pivots!EK36=\"(Blank)\",\"\",Pivots!EK36)","v":0},{"$f":"VLOOKUP($C45,'Test 13'!$A$12:$Q$51,15,FALSE)","v":1},{"$f":"IF(Pivots!EL36=\"(Blank)\",\"\",Pivots!EL36)","v":32},{"$f":"VLOOKUP($C45,'Test 13'!$A$12:$Q$51,2,FALSE)","v":""},{"$f":"VLOOKUP($C45,'Test 13'!$A$12:$Q$51,7,FALSE)","v":""},{"$f":"VLOOKUP($C45,'Test 13'!$A$12:$Q$51,3,FALSE)","v":""},{"$f":"VLOOKUP($C45,'Test 13'!$A$12:$Q$51,4,FALSE)","v":""},{"$f":"VLOOKUP($C45,'Test 13'!$A$12:$Q$51,5,FALSE)","v":"senior"},{"$f":"VLOOKUP($C45,'Test 13'!$A$12:$Q$51,13,FALSE)","v":"00:00:10"},{"$f":"VLOOKUP($C45,'Test 13'!$A$12:$Q$51,16,FALSE)","v":"00:15:52.230"}]
[{"$f":"IF(Pivots!EK37=\"(Blank)\",\"\",Pivots!EK37)","v":0},{"$f":"VLOOKUP($C46,'Test 13'!$A$12:$Q$51,15,FALSE)","v":1},{"$f":"IF(Pivots!EL37=\"(Blank)\",\"\",Pivots!EL37)","v":33},{"$f":"VLOOKUP($C46,'Test 13'!$A$12:$Q$51,2,FALSE)","v":""},{"$f":"VLOOKUP($C46,'Test 13'!$A$12:$Q$51,7,FALSE)","v":""},{"$f":"VLOOKUP($C46,'Test 13'!$A$12:$Q$51,3,FALSE)","v":""},{"$f":"VLOOKUP($C46,'Test 13'!$A$12:$Q$51,4,FALSE)","v":""},{"$f":"VLOOKUP($C46,'Test 13'!$A$12:$Q$51,5,FALSE)","v":"senior"},{"$f":"VLOOKUP($C46,'Test 13'!$A$12:$Q$51,13,FALSE)","v":"00:00:10"},{"$f":"VLOOKUP($C46,'Test 13'!$A$12:$Q$51,16,FALSE)","v":"00:15:52.230"}]
[{"$f":"IF(Pivots!EK38=\"(Blank)\",\"\",Pivots!EK38)","v":0},{"$f":"VLOOKUP($C47,'Test 13'!$A$12:$Q$51,15,FALSE)","v":1},{"$f":"IF(Pivots!EL38=\"(Blank)\",\"\",Pivots!EL38)","v":34},{"$f":"VLOOKUP($C47,'Test 13'!$A$12:$Q$51,2,FALSE)","v":""},{"$f":"VLOOKUP($C47,'Test 13'!$A$12:$Q$51,7,FALSE)","v":""},{"$f":"VLOOKUP($C47,'Test 13'!$A$12:$Q$51,3,FALSE)","v":""},{"$f":"VLOOKUP($C47,'Test 13'!$A$12:$Q$51,4,FALSE)","v":""},{"$f":"VLOOKUP($C47,'Test 13'!$A$12:$Q$51,5,FALSE)","v":"senior"},{"$f":"VLOOKUP($C47,'Test 13'!$A$12:$Q$51,13,FALSE)","v":"00:00:10"},{"$f":"VLOOKUP($C47,'Test 13'!$A$12:$Q$51,16,FALSE)","v":"00:15:52.230"}]
[{"$f":"IF(Pivots!EK39=\"(Blank)\",\"\",Pivots!EK39)","v":0},{"$f":"VLOOKUP($C48,'Test 13'!$A$12:$Q$51,15,FALSE)","v":1},{"$f":"IF(Pivots!EL39=\"(Blank)\",\"\",Pivots!EL39)","v":35},{"$f":"VLOOKUP($C48,'Test 13'!$A$12:$Q$51,2,FALSE)","v":""},{"$f":"VLOOKUP($C48,'Test 13'!$A$12:$Q$51,7,FALSE)","v":""},{"$f":"VLOOKUP($C48,'Test 13'!$A$12:$Q$51,3,FALSE)","v":""},{"$f":"VLOOKUP($C48,'Test 13'!$A$12:$Q$51,4,FALSE)","v":""},{"$f":"VLOOKUP($C48,'Test 13'!$A$12:$Q$51,5,FALSE)","v":"senior"},{"$f":"VLOOKUP($C48,'Test 13'!$A$12:$Q$51,13,FALSE)","v":"00:00:10"},{"$f":"VLOOKUP($C48,'Test 13'!$A$12:$Q$51,16,FALSE)","v":"00:15:52.230"}]
[{"$f":"IF(Pivots!EK40=\"(Blank)\",\"\",Pivots!EK40)","v":0},{"$f":"VLOOKUP($C49,'Test 13'!$A$12:$Q$51,15,FALSE)","v":1},{"$f":"IF(Pivots!EL40=\"(Blank)\",\"\",Pivots!EL40)","v":36},{"$f":"VLOOKUP($C49,'Test 13'!$A$12:$Q$51,2,FALSE)","v":""},{"$f":"VLOOKUP($C49,'Test 13'!$A$12:$Q$51,7,FALSE)","v":""},{"$f":"VLOOKUP($C49,'Test 13'!$A$12:$Q$51,3,FALSE)","v":""},{"$f":"VLOOKUP($C49,'Test 13'!$A$12:$Q$51,4,FALSE)","v":""},{"$f":"VLOOKUP($C49,'Test 13'!$A$12:$Q$51,5,FALSE)","v":"senior"},{"$f":"VLOOKUP($C49,'Test 13'!$A$12:$Q$51,13,FALSE)","v":"00:00:10"},{"$f":"VLOOKUP($C49,'Test 13'!$A$12:$Q$51,16,FALSE)","v":"00:15:52.230"}]
[{"$f":"IF(Pivots!EK41=\"(Blank)\",\"\",Pivots!EK41)","v":0},{"$f":"VLOOKUP($C50,'Test 13'!$A$12:$Q$51,15,FALSE)","v":1},{"$f":"IF(Pivots!EL41=\"(Blank)\",\"\",Pivots!EL41)","v":37},{"$f":"VLOOKUP($C50,'Test 13'!$A$12:$Q$51,2,FALSE)","v":""},{"$f":"VLOOKUP($C50,'Test 13'!$A$12:$Q$51,7,FALSE)","v":""},{"$f":"VLOOKUP($C50,'Test 13'!$A$12:$Q$51,3,FALSE)","v":""},{"$f":"VLOOKUP($C50,'Test 13'!$A$12:$Q$51,4,FALSE)","v":""},{"$f":"VLOOKUP($C50,'Test 13'!$A$12:$Q$51,5,FALSE)","v":"senior"},{"$f":"VLOOKUP($C50,'Test 13'!$A$12:$Q$51,13,FALSE)","v":"00:00:10"},{"$f":"VLOOKUP($C50,'Test 13'!$A$12:$Q$51,16,FALSE)","v":"00:15:52.230"}]
[{"$f":"IF(Pivots!EK42=\"(Blank)\",\"\",Pivots!EK42)","v":0},{"$f":"VLOOKUP($C51,'Test 13'!$A$12:$Q$51,15,FALSE)","v":1},{"$f":"IF(Pivots!EL42=\"(Blank)\",\"\",Pivots!EL42)","v":38},{"$f":"VLOOKUP($C51,'Test 13'!$A$12:$Q$51,2,FALSE)","v":""},{"$f":"VLOOKUP($C51,'Test 13'!$A$12:$Q$51,7,FALSE)","v":""},{"$f":"VLOOKUP($C51,'Test 13'!$A$12:$Q$51,3,FALSE)","v":""},{"$f":"VLOOKUP($C51,'Test 13'!$A$12:$Q$51,4,FALSE)","v":""},{"$f":"VLOOKUP($C51,'Test 13'!$A$12:$Q$51,5,FALSE)","v":"senior"},{"$f":"VLOOKUP($C51,'Test 13'!$A$12:$Q$51,13,FALSE)","v":"00:00:10"},{"$f":"VLOOKUP($C51,'Test 13'!$A$12:$Q$51,16,FALSE)","v":"00:15:52.230"}]
[{"$f":"IF(Pivots!EK43=\"(Blank)\",\"\",Pivots!EK43)","v":0},{"$f":"VLOOKUP($C52,'Test 13'!$A$12:$Q$51,15,FALSE)","v":1},{"$f":"IF(Pivots!EL43=\"(Blank)\",\"\",Pivots!EL43)","v":39},{"$f":"VLOOKUP($C52,'Test 13'!$A$12:$Q$51,2,FALSE)","v":""},{"$f":"VLOOKUP($C52,'Test 13'!$A$12:$Q$51,7,FALSE)","v":""},{"$f":"VLOOKUP($C52,'Test 13'!$A$12:$Q$51,3,FALSE)","v":""},{"$f":"VLOOKUP($C52,'Test 13'!$A$12:$Q$51,4,FALSE)","v":""},{"$f":"VLOOKUP($C52,'Test 13'!$A$12:$Q$51,5,FALSE)","v":"senior"},{"$f":"VLOOKUP($C52,'Test 13'!$A$12:$Q$51,13,FALSE)","v":"00:00:10"},{"$f":"VLOOKUP($C52,'Test 13'!$A$12:$Q$51,16,FALSE)","v":"00:15:52.230"}]
[{"$f":"IF(Pivots!EK44=\"(Blank)\",\"\",Pivots!EK44)","v":0},{"$f":"VLOOKUP($C53,'Test 13'!$A$12:$Q$51,15,FALSE)","v":1},{"$f":"IF(Pivots!EL44=\"(Blank)\",\"\",Pivots!EL44)","v":40},{"$f":"VLOOKUP($C53,'Test 13'!$A$12:$Q$51,2,FALSE)","v":""},{"$f":"VLOOKUP($C53,'Test 13'!$A$12:$Q$51,7,FALSE)","v":""},{"$f":"VLOOKUP($C53,'Test 13'!$A$12:$Q$51,3,FALSE)","v":""},{"$f":"VLOOKUP($C53,'Test 13'!$A$12:$Q$51,4,FALSE)","v":""},{"$f":"VLOOKUP($C53,'Test 13'!$A$12:$Q$51,5,FALSE)","v":"senior"},{"$f":"VLOOKUP($C53,'Test 13'!$A$12:$Q$51,13,FALSE)","v":"00:00:10"},{"$f":"VLOOKUP($C53,'Test 13'!$A$12:$Q$51,16,FALSE)","v":"00:15:52.230"}]

{"sheet":"Print_Test 14","index":16,"n_rows":53,"n_cols":10,"rows_kept":53,"cut":false,"hidden":false,"merged":[[11,6,12,6],[11,7,12,7],[8,3,8,5],[9,3,9,5],[11,0,12,0],[11,1,12,1],[11,2,12,2],[11,3,12,3],[11,4,12,4],[11,5,12,5]]}
[]
[]
[]
[]
[]
[]
[]
[]
[null,null,null,"Provisional Results"]
[null,null,null,"Test 14"]
[]
["Outright Position","Test Position","Car Number","Driver","Class","Rookie?","Female?","Junior?","Test Time","Cumulative Time"]
[null,null,null,null,null,null,null,null,"(mm:ss.00)","(mm:ss.00)"]
[{"$f":"IF(Pivots!EV5=\"(Blank)\",\"\",Pivots!EV5)","v":0},{"$f":"VLOOKUP($C14,'Test 14'!$A$12:$Q$51,15,FALSE)","v":1},{"$f":"IF(Pivots!EW5=\"(Blank)\",\"\",Pivots!EW5)","v":17},{"$f":"VLOOKUP($C14,'Test 14'!$A$12:$Q$51,2,FALSE)","v":"Reece McIntosh"},{"$f":"VLOOKUP($C14,'Test 14'!$A$12:$Q$51,7,FALSE)","v":""},{"$f":"VLOOKUP($C14,'Test 14'!$A$12:$Q$51,3,FALSE)","v":""},{"$f":"VLOOKUP($C14,'Test 14'!$A$12:$Q$51,4,FALSE)","v":""},{"$f":"VLOOKUP($C14,'Test 14'!$A$12:$Q$51,5,FALSE)","v":"senior"},{"$f":"VLOOKUP($C14,'Test 14'!$A$12:$Q$51,13,FALSE)","v":"00:00:10"},{"$f":"VLOOKUP($C14,'Test 14'!$A$12:$Q$51,16,FALSE)","v":"00:10:40.300"}]
[{"$f":"IF(Pivots!EV6=\"(Blank)\",\"\",Pivots!EV6)","v":0},{"$f":"VLOOKUP($C15,'Test 14'!$A$12:$Q$51,15,FALSE)","v":1},{"$f":"IF(Pivots!EW6=\"(Blank)\",\"\",Pivots!EW6)","v":1},{"$f":"VLOOKUP($C15,'Test 14'!$A$12:$Q$51,2,FALSE)","v":"Paul Dunn"},{"$f":"VLOOKUP($C15,'Test 14'!$A$12:$Q$51,7,FALSE)","v":""},{"$f":"VLOOKUP($C15,'Test 14'!$A$12:$Q$51,3,FALSE)","v":""},{"$f":"VLOOKUP($C15,'Test 14'!$A$12:$Q$51,4,FALSE)","v":""},{"$f":"VLOOKUP($C15,'Test 14'!$A$12:$Q$51,5,FALSE)","v":"senior"},{"$f":"VLOOKUP($C15,'Test 14'!$A$12:$Q$51,13,FALSE)","v":"00:00:10"},{"$f":"VLOOKUP($C15,'Test 14'!$A$12:$Q$51,16,FALSE)","v":"00:10:56.360"}]
[{"$f":"IF(Pivots!EV7=\"(Blank)\",\"\",Pivots!EV7)","v":0},{"$f":"VLOOKUP($C16,'Test 14'!$A$12:$Q$51,15,FALSE)","v":1},{"$f":"IF(Pivots!EW7=\"(Blank)\",\"\",Pivots!EW7)","v":9},{"$f":"VLOOKUP($C16,'Test 14'!$A$12:$Q$51,2,FALSE)","v":"Brad Firman"},{"$f":"VLOOKUP($C16,'Test 14'!$A$12:$Q$51,7,FALSE)","v":""},{"$f":"VLOOKUP($C16,'Test 14'!$A$12:$Q$51,3,FALSE)","v":""},{"$f":"VLOOKUP($C16,'Test 14'!$A$12:$Q$51,4,FALSE)","v":""},{"$f":"VLOOKUP($C16,'Test 14'!$A$12:$Q$51,5,FALSE)","v":"senior"},{"$f":"VLOOKUP($C16,'Test 14'!$A$12:$Q$51,13,FALSE)","v":"00:00:10"},{"$f":"VLOOKUP($C16,'Test 14'!$A$12:$Q$51,16,FALSE)","v":"00:11:00.270"}]
[{"$f":"IF(Pivots!EV8=\"(Blank)\",\"\",Pivots!EV8)","v":0},{"$f":"VLOOKUP($C17,'Test 14'!$A$12:$Q$51,15,FALSE)","v":1},{"$f":"IF(Pivots!EW8=\"(Blank)\",\"\",Pivots!EW8)","v":2},{"$f":"VLOOKUP($C17,'Test 14'!$A$12:$Q$51,2,FALSE)","v":"Stephen Thorne"},{"$f":"VLOOKUP($C17,'Test 14'!$A$12:$Q$51,7,FALSE)","v":""},{"$f":"VLOOKUP($C17,'Test 14'!$A$12:$Q$51,3,FALSE)","v":""},{"$f":"VLOOKUP($C17,'Test 14'!$A$12:$Q$51,4,FALSE)","v":""},{"$f":"VLOOKUP($C17,'Test 14'!$A$12:$Q$51,5,FALSE)","v":"senior"},{"$f":"VLOOKUP($C17,'Test 14'!$A$12:$Q$51,13,FALSE)","v":"00:00:10"},{"$f":"VLOOKUP($C17,'Test 14'!$A$12:$Q$51,16,FALSE)","v":"00:11:17.150"}]
[{"$f":"IF(Pivots!EV9=\"(Blank)\",\"\",Pivots!EV9)","v":0},{"$f":"VLOOKUP($C18,'Test 14'!$A$12:$Q$51,15,FALSE)","v":1},{"$f":"IF(Pivots!EW9=\"(Blank)\",\"\",Pivots!EW9)","v":14},{"$f":"VLOOKUP($C18,'Test 14'!$A$12:$Q$51,2,FALSE)","v":"Bob Fulthorpe"},{"$f":"VLOOKUP($C18,'Test 14'!$A$12:$Q$51,7,FALSE)","v":""},{"$f":"VLOOKUP($C18,'Test 14'!$A$12:$Q$51,3,FALSE)","v":""},{"$f":"VLOOKUP($C18,'Test 14'!$A$12:$Q$51,4,FALSE)","v":""},{"$f":"VLOOKUP($C18,'Test 14'!$A$12:$Q$51,5,FALSE)","v":"senior"},{"$f":"VLOOKUP($C18,'Test 14'!$A$12:$Q$51,13,FALSE)","v":"00:00:10"},{"$f":"VLOOKUP($C18,'Test 14'!$A$12:$Q$51,16,FALSE)","v":"00:11:17.350"}]
[{"$f":"IF(Pivots!EV10=\"(Blank)\",\"\",Pivots!EV10)","v":0},{"$f":"VLOOKUP($C19,'Test 14'!$A$12:$Q$51,15,FALSE)","v":1},{"$f":"IF(Pivots!EW10=\"(Blank)\",\"\",Pivots!EW10)","v":20},{"$f":"VLOOKUP($C19,'Test 14'!$A$12:$Q$51,2,FALSE)","v":"Ray Lampl"},{"$f":"VLOOKUP($C19,'Test 14'!$A$12:$Q$51,7,FALSE)","v":""},{"$f":"VLOOKUP($C19,'Test 14'!$A$12:$Q$51,3,FALSE)","v":""},{"$f":"VLOOKUP($C19,'Test 14'!$A$12:$Q$51,4,FALSE)","v":""},{"$f":"VLOOKUP($C19,'Test 14'!$A$12:$Q$51,5,FALSE)","v":"senior"},{"$f":"VLOOKUP($C19,'Test 14'!$A$12:$Q$51,13,FALSE)","v":"00:00:10"},{"$f":"VLOOKUP($C19,'Test 14'!$A$12:$Q$51,16,FALSE)","v":"00:11:43.110"}]
[{"$f":"IF(Pivots!EV11=\"(Blank)\",\"\",Pivots!EV11)","v":0},{"$f":"VLOOKUP($C20,'Test 14'!$A$12:$Q$51,15,FALSE)","v":1},{"$f":"IF(Pivots!EW11=\"(Blank)\",\"\",Pivots!EW11)","v":16},{"$f":"VLOOKUP($C20,'Test 14'!$A$12:$Q$51,2,FALSE)","v":"Nathan Senior"},{"$f":"VLOOKUP($C20,'Test 14'!$A$12:$Q$51,7,FALSE)","v":""},{"$f":"VLOOKUP($C20,'Test 14'!$A$12:$Q$51,3,FALSE)","v":""},{"$f":"VLOOKUP($C20,'Test 14'!$A$12:$Q$51,4,FALSE)","v":""},{"$f":"VLOOKUP($C20,'Test 14'!$A$12:$Q$51,5,FALSE)","v":"senior"},{"$f":"VLOOKUP($C20,'Test 14'!$A$12:$Q$51,13,FALSE)","v":"00:00:10"},{"$f":"VLOOKUP($C20,'Test 14'!$A$12:$Q$51,16,FALSE)","v":"00:12:01.190"}]
[{"$f":"IF(Pivots!EV12=\"(Blank)\",\"\",Pivots!EV12)","v":0},{"$f":"VLOOKUP($C21,'Test 14'!$A$12:$Q$51,15,FALSE)","v":1},{"$f":"IF(Pivots!EW12=\"(Blank)\",\"\",Pivots!EW12)","v":5},{"$f":"VLOOKUP($C21,'Test 14'!$A$12:$Q$51,2,FALSE)","v":"Janelle Ballard"},{"$f":"VLOOKUP($C21,'Test 14'!$A$12:$Q$51,7,FALSE)","v":""},{"$f":"VLOOKUP($C21,'Test 14'!$A$12:$Q$51,3,FALSE)","v":""},{"$f":"VLOOKUP($C21,'Test 14'!$A$12:$Q$51,4,FALSE)","v":"female"},{"$f":"VLOOKUP($C21,'Test 14'!$A$12:$Q$51,5,FALSE)","v":"senior"},{"$f":"VLOOKUP($C21,'Test 14'!$A$12:$Q$51,13,FALSE)","v":"00:00:10"},{"$f":"VLOOKUP($C21,'Test 14'!$A$12:$Q$51,16,FALSE)","v":"00:12:07.350"}]
[{"$f":"IF(Pivots!EV13=\"(Blank)\",\"\",Pivots!EV13)","v":0},{"$f":"VLOOKUP($C22,'Test 14'!$A$12:$Q$51,15,FALSE)","v":1},{"$f":"IF(Pivots!EW13=\"(Blank)\",\"\",Pivots!EW13)","v":19},{"$f":"VLOOKUP($C22,'Test 14'!$A$12:$Q$51,2,FALSE)","v":"Christopher Northey"},{"$f":"VLOOKUP($C22,'Test 14'!$A$12:$Q$51,7,FALSE)","v":""},{"$f":"VLOOKUP($C22,'Test 14'!$A$12:$Q$51,3,FALSE)","v":""},{"$f":"VLOOKUP($C22,'Test 14'!$A$12:$Q$51,4,FALSE)","v":""},{"$f":"VLOOKUP($C22,'Test 14'!$A$12:$Q$51,5,FALSE)","v":"senior"},{"$f":"VLOOKUP($C22,'Test 14'!$A$12:$Q$51,13,FALSE)","v":"00:00:10"},{"$f":"VLOOKUP($C22,'Test 14'!$A$12:$Q$51,16,FALSE)","v":"00:12:11.920"}]
[{"$f":"IF(Pivots!EV14=\"(Blank)\",\"\",Pivots!EV14)","v":0},{"$f":"VLOOKUP($C23,'Test 14'!$A$12:$Q$51,15,FALSE)","v":1},{"$f":"IF(Pivots!EW14=\"(Blank)\",\"\",Pivots!EW14)","v":15},{"$f":"VLOOKUP($C23,'Test 14'!$A$12:$Q$51,2,FALSE)","v":"Khi Fulthorpe"},{"$f":"VLOOKUP($C23,'Test 14'!$A$12:$Q$51,7,FALSE)","v":""},{"$f":"VLOOKUP($C23,'Test 14'!$A$12:$Q$51,3,FALSE)","v":""},{"$f":"VLOOKUP($C23,'Test 14'!$A$12:$Q$51,4,FALSE)","v":""},{"$f":"VLOOKUP($C23,'Test 14'!$A$12:$Q$51,5,FALSE)","v":"senior"},{"$f":"VLOOKUP($C23,'Test 14'!$A$12:$Q$51,13,FALSE)","v":"00:00:10"},{"$f":"VLOOKUP($C23,'Test 14'!$A$12:$Q$51,16,FALSE)","v":"00:12:17.250"}]
[{"$f":"IF(Pivots!EV15=\"(Blank)\",\"\",Pivots!EV15)","v":0},{"$f":"VLOOKUP($C24,'Test 14'!$A$12:$Q$51,15,FALSE)","v":1},{"$f":"IF(Pivots!EW15=\"(Blank)\",\"\",Pivots!EW15)","v":10},{"$f":"VLOOKUP($C24,'Test 14'!$A$12:$Q$51,2,FALSE)","v":"Scott Taylor"},{"$f":"VLOOKUP($C24,'Test 14'!$A$12:$Q$51,7,FALSE)","v":""},{"$f":"VLOOKUP($C24,'Test 14'!$A$12:$Q$51,3,FALSE)","v":""},{"$f":"VLOOKUP($C24,'Test 14'!$A$12:$Q$51,4,FALSE)","v":""},{"$f":"VLOOKUP($C24,'Test 14'!$A$12:$Q$51,5,FALSE)","v":"senior"},{"$f":"VLOOKUP($C24,'Test 14'!$A$12:$Q$51,13,FALSE)","v":"00:00:10"},{"$f":"VLOOKUP($C24,'Test 14'!$A$12:$Q$51,16,FALSE)","v":"00:12:25.120"}]
[{"$f":"IF(Pivots!EV16=\"(Blank)\",\"\",Pivots!EV16)","v":0},{"$f":"VLOOKUP($C25,'Test 14'!$A$12:$Q$51,15,FALSE)","v":1},{"$f":"IF(Pivots!EW16=\"(Blank)\",\"\",Pivots!EW16)","v":3},{"$f":"VLOOKUP($C25,'Test 14'!$A$12:$Q$51,2,FALSE)","v":"David Ballard"},{"$f":"VLOOKUP($C25,'Test 14'!$A$12:$Q$51,7,FALSE)","v":""},{"$f":"VLOOKUP($C25,'Test 14'!$A$12:$Q$51,3,FALSE)","v":""},{"$f":"VLOOKUP($C25,'Test 14'!$A$12:$Q$51,4,FALSE)","v":""},{"$f":"VLOOKUP($C25,'Test 14'!$A$12:$Q$51,5,FALSE)","v":"senior"},{"$f":"VLOOKUP($C25,'Test 14'!$A$12:$Q$51,13,FALSE)","v":"00:00:10"},{"$f":"VLOOKUP($C25,'Test 14'!$A$12:$Q$51,16,FALSE)","v":"00:12:26.210"}]
[{"$f":"IF(Pivots!EV17=\"(Blank)\",\"\",Pivots!EV17)","v":0},{"$f":"VLOOKUP($C26,'Test 14'!$A$12:$Q$51,15,FALSE)","v":1},{"$f":"IF(Pivots!EW17=\"(Blank)\",\"\",Pivots!EW17)","v":8},{"$f":"VLOOKUP($C26,'Test 14'!$A$12:$Q$51,2,FALSE)","v":"Jim Taylor"},{"$f":"VLOOKUP($C26,'Test 14'!$A$12:$Q$51,7,FALSE)","v":""},{"$f":"VLOOKUP($C26,'Test 14'!$A$12:$Q$51,3,FALSE)","v":""},{"$f":"VLOOKUP($C26,'Test 14'!$A$12:$Q$51,4,FALSE)","v":""},{"$f":"VLOOKUP($C26,'Test 14'!$A$12:$Q$51,5,FALSE)","v":"senior"},{"$f":"VLOOKUP($C26,'Test 14'!$A$12:$Q$51,13,FALSE)","v":"00:00:10"},{"$f":"VLOOKUP($C26,'Test 14'!$A$12:$Q$51,16,FALSE)","v":"00:12:27.470"}]
[{"$f":"IF(Pivots!EV18=\"(Blank)\",\"\",Pivots!EV18)","v":0},{"$f":"VLOOKUP($C27,'Test 14'!$A$12:$Q$51,15,FALSE)","v":1},{"$f":"IF(Pivots!EW18=\"(Blank)\",\"\",Pivots!EW18)","v":13},{"$f":"VLOOKUP($C27,'Test 14'!$A$12:$Q$51,2,FALSE)","v":"Aaron Wishart"},{"$f":"VLOOKUP($C27,'Test 14'!$A$12:$Q$51,7,FALSE)","v":""},{"$f":"VLOOKUP($C27,'Test 14'!$A$12:$Q$51,3,FALSE)","v":""},{"$f":"VLOOKUP($C27,'Test 14'!$A$12:$Q$51,4,FALSE)","v":""},{"$f":"VLOOKUP($C27,'Test 14'!$A$12:$Q$51,5,FALSE)","v":"senior"},{"$f":"VLOOKUP($C27,'Test 14'!$A$12:$Q$51,13,FALSE)","v":"00:00:10"},{"$f":"VLOOKUP($C27,'Test 14'!$A$12:$Q$51,16,FALSE)","v":"00:12:47.920"}]
[{"$f":"IF(Pivots!EV19=\"(Blank)\",\"\",Pivots!EV19)","v":0},{"$f":"VLOOKUP($C28,'Test 14'!$A$12:$Q$51,15,FALSE)","v":1},{"$f":"IF(Pivots!EW19=\"(Blank)\",\"\",Pivots!EW19)","v":12},{"$f":"VLOOKUP($C28,'Test 14'!$A$12:$Q$51,2,FALSE)","v":"Mat Boorman"},{"$f":"VLOOKUP($C28,'Test 14'!$A$12:$Q$51,7,FALSE)","v":""},{"$f":"VLOOKUP($C28,'Test 14'!$A$12:$Q$51,3,FALSE)","v":""},{"$f":"VLOOKUP($C28,'Test 14'!$A$12:$Q$51,4,FALSE)","v":""},{"$f":"VLOOKUP($C28,'Test 14'!$A$12:$Q$51,5,FALSE)","v":"senior"},{"$f":"VLOOKUP($C28,'Test 14'!$A$12:$Q$51,13,FALSE)","v":"00:00:10"},{"$f":"VLOOKUP($C28,'Test 14'!$A$12:$Q$51,16,FALSE)","v":"00:12:57.280"}]
[{"$f":"IF(Pivots!EV20=\"(Blank)\",\"\",Pivots!EV20)","v":0},{"$f":"VLOOKUP($C29,'Test 14'!$A$12:$Q$51,15,FALSE)","v":1},{"$f":"IF(Pivots!EW20=\"(Blank)\",\"\",Pivots!EW20)","v":6},{"$f":"VLOOKUP($C29,'Test 14'!$A$12:$Q$51,2,FALSE)","v":"Issac Wishart"},{"$f":"VLOOKUP($C29,'Test 14'!$A$12:$Q$51,7,FALSE)","v":""},{"$f":"VLOOKUP($C29,'Test 14'!$A$12:$Q$51,3,FALSE)","v":"rookie"},{"$f":"VLOOKUP($C29,'Test 14'!$A$12:$Q$51,4,FALSE)","v":""},{"$f":"VLOOKUP($C29,'Test 14'!$A$12:$Q$51,5,FALSE)","v":"senior"},{"$f":"VLOOKUP($C29,'Test 14'!$A$12:$Q$51,13,FALSE)","v":"00:00:10"},{"$f":"VLOOKUP($C29,'Test 14'!$A$12:$Q$51,16,FALSE)","v":"00:13:10.350"}]
[{"$f":"IF(Pivots!EV21=\"(Blank)\",\"\",Pivots!EV21)","v":0},{"$f":"VLOOKUP($C30,'Test 14'!$A$12:$Q$51,15,FALSE)","v":1},{"$f":"IF(Pivots!EW21=\"(Blank)\",\"\",Pivots!EW21)","v":18},{"$f":"VLOOKUP($C30,'Test 14'!$A$12:$Q$51,2,FALSE)","v":"Jack Stanley"},{"$f":"VLOOKUP($C30,'Test 14'!$A$12:$Q$51,7,FALSE)","v":""},{"$f":"VLOOKUP($C30,'Test 14'!$A$12:$Q$51,3,FALSE)","v":"rookie"},{"$f":"VLOOKUP($C30,'Test 14'!$A$12:$Q$51,4,FALSE)","v":""},{"$f":"VLOOKUP($C30,'Test 14'!$A$12:$Q$51,5,FALSE)","v":"senior"},{"$f":"VLOOKUP($C30,'Test 14'!$A$12:$Q$51,13,FALSE)","v":"00:00:10"},{"$f":"VLOOKUP($C30,'Test 14'!$A$12:$Q$51,16,FALSE)","v":"00:13:29.100"}]
[{"$f":"IF(Pivots!EV22=\"(Blank)\",\"\",Pivots!EV22)","v":0},{"$f":"VLOOKUP($C31,'Test 14'!$A$12:$Q$51,15,FALSE)","v":1},{"$f":"IF(Pivots!EW22=\"(Blank)\",\"\",Pivots!EW22)","v":4},{"$f":"VLOOKUP($C31,'Test 14'!$A$12:$Q$51,2,FALSE)","v":"Michaela Ballard"},{"$f":"VLOOKUP($C31,'Test 14'!$A$12:$Q$51,7,FALSE)","v":""},{"$f":"VLOOKUP($C31,'Test 14'!$A$12:$Q$51,3,FALSE)","v":"rookie"},{"$f":"VLOOKUP($C31,'Test 14'!$A$12:$Q$51,4,FALSE)","v":"female"},{"$f":"VLOOKUP($C31,'Test 14'!$A$12:$Q$51,5,FALSE)","v":"senior"},{"$f":"VLOOKUP($C31,'Test 14'!$A$12:$Q$51,13,FALSE)","v":"00:00:10"},{"$f":"VLOOKUP($C31,'Test 14'!$A$12:$Q$51,16,FALSE)","v":"00:13:34.220"}]
[{"$f":"IF(Pivots!EV23=\"(Blank)\",\"\",Pivots!EV23)","v":0},{"$f":"VLOOKUP($C32,'Test 14'!$A$12:$Q$51,15,FALSE)","v":1},{"$f":"IF(Pivots!EW23=\"(Blank)\",\"\",Pivots!EW23)","v":11},{"$f":"VLOOKUP($C32,'Test 14'!$A$12:$Q$51,2,FALSE)","v":"Russel McKinley"},{"$f":"VLOOKUP($C32,'Test 14'!$A$12:$Q$51,7,FALSE)","v":""},{"$f":"VLOOKUP($C32,'Test 14'!$A$12:$Q$51,3,FALSE)","v":""},{"$f":"VLOOKUP($C32,'Test 14'!$A$12:$Q$51,4,FALSE)","v":""},{"$f":"VLOOKUP($C32,'Test 14'!$A$12:$Q$51,5,FALSE)","v":"senior"},{"$f":"VLOOKUP($C32,'Test 14'!$A$12:$Q$51,13,FALSE)","v":"00:00:10"},{"$f":"VLOOKUP($C32,'Test 14'!$A$12:$Q$51,16,FALSE)","v":"00:13:45.150"}]
[{"$f":"IF(Pivots!EV24=\"(Blank)\",\"\",Pivots!EV24)","v":0},{"$f":"VLOOKUP($C33,'Test 14'!$A$12:$Q$51,15,FALSE)","v":1},{"$f":"IF(Pivots!EW24=\"(Blank)\",\"\",Pivots!EW24)","v":7},{"$f":"VLOOKUP($C33,'Test 14'!$A$12:$Q$51,2,FALSE)","v":""},{"$f":"VLOOKUP($C33,'Test 14'!$A$12:$Q$51,7,FALSE)","v":""},{"$f":"VLOOKUP($C33,'Test 14'!$A$12:$Q$51,3,FALSE)","v":""},{"$f":"VLOOKUP($C33,'Test 14'!$A$12:$Q$51,4,FALSE)","v":""},{"$f":"VLOOKUP($C33,'Test 14'!$A$12:$Q$51,5,FALSE)","v":"senior"},{"$f":"VLOOKUP($C33,'Test 14'!$A$12:$Q$51,13,FALSE)","v":"00:00:10"},{"$f":"VLOOKUP($C33,'Test 14'!$A$12:$Q$51,16,FALSE)","v":"00:16:02.230"}]
[{"$f":"IF(Pivots!EV25=\"(Blank)\",\"\",Pivots!EV25)","v":0},{"$f":"VLOOKUP($C34,'Test 14'!$A$12:$Q$51,15,FALSE)","v":1},{"$f":"IF(Pivots!EW25=\"(Blank)\",\"\",Pivots!EW25)","v":21},{"$f":"VLOOKUP($C34,'Test 14'!$A$12:$Q$51,2,FALSE)","v":""},{"$f":"VLOOKUP($C34,'Test 14'!$A$12:$Q$51,7,FALSE)","v":""},{"$f":"VLOOKUP($C34,'Test 14'!$A$12:$Q$51,3,FALSE)","v":""},{"$f":"VLOOKUP($C34,'Test 14'!$A$12:$Q$51,4,FALSE)","v":""},{"$f":"VLOOKUP($C34,'Test 14'!$A$12:$Q$51,5,FALSE)","v":"senior"},{"$f":"VLOOKUP($C34,'Test 14'!$A$12:$Q$51,13,FALSE)","v":"00:00:10"},{"$f":"VLOOKUP($C34,'Test 14'!$A$12:$Q$51,16,FALSE)","v":"00:16:02.230"}]
[{"$f":"IF(Pivots!EV26=\"(Blank)\",\"\",Pivots!EV26)","v":0},{"$f":"VLOOKUP($C35,'Test 14'!$A$12:$Q$51,15,FALSE)","v":1},{"$f":"IF(Pivots!EW26=\"(Blank)\",\"\",Pivots!EW26)","v":22},{"$f":"VLOOKUP($C35,'Test 14'!$A$12:$Q$51,2,FALSE)","v":""},{"$f":"VLOOKUP($C35,'Test 14'!$A$12:$Q$51,7,FALSE)","v":""},{"$f":"VLOOKUP($C35,'Test 14'!$A$12:$Q$51,3,FALSE)","v":""},{"$f":"VLOOKUP($C35,'Test 14'!$A$12:$Q$51,4,FALSE)","v":""},{"$f":"VLOOKUP($C35,'Test 14'!$A$12:$Q$51,5,FALSE)","v":"senior"},{"$f":"VLOOKUP($C35,'Test 14'!$A$12:$Q$51,13,FALSE)","v":"00:00:10"},{"$f":"VLOOKUP($C35,'Test 14'!$A$12:$Q$51,16,FALSE)","v":"00:16:02.230"}]
[{"$f":"IF(Pivots!EV27=\"(Blank)\",\"\",Pivots!EV27)","v":0},{"$f":"VLOOKUP($C36,'Test 14'!$A$12:$Q$51,15,FALSE)","v":1},{"$f":"IF(Pivots!EW27=\"(Blank)\",\"\",Pivots!EW27)","v":23},{"$f":"VLOOKUP($C36,'Test 14'!$A$12:$Q$51,2,FALSE)","v":""},{"$f":"VLOOKUP($C36,'Test 14'!$A$12:$Q$51,7,FALSE)","v":""},{"$f":"VLOOKUP($C36,'Test 14'!$A$12:$Q$51,3,FALSE)","v":""},{"$f":"VLOOKUP($C36,'Test 14'!$A$12:$Q$51,4,FALSE)","v":""},{"$f":"VLOOKUP($C36,'Test 14'!$A$12:$Q$51,5,FALSE)","v":"senior"},{"$f":"VLOOKUP($C36,'Test 14'!$A$12:$Q$51,13,FALSE)","v":"00:00:10"},{"$f":"VLOOKUP($C36,'Test 14'!$A$12:$Q$51,16,FALSE)","v":"00:16:02.230"}]
[{"$f":"IF(Pivots!EV28=\"(Blank)\",\"\",Pivots!EV28)","v":0},{"$f":"VLOOKUP($C37,'Test 14'!$A$12:$Q$51,15,FALSE)","v":1},{"$f":"IF(Pivots!EW28=\"(Blank)\",\"\",Pivots!EW28)","v":24},{"$f":"VLOOKUP($C37,'Test 14'!$A$12:$Q$51,2,FALSE)","v":""},{"$f":"VLOOKUP($C37,'Test 14'!$A$12:$Q$51,7,FALSE)","v":""},{"$f":"VLOOKUP($C37,'Test 14'!$A$12:$Q$51,3,FALSE)","v":""},{"$f":"VLOOKUP($C37,'Test 14'!$A$12:$Q$51,4,FALSE)","v":""},{"$f":"VLOOKUP($C37,'Test 14'!$A$12:$Q$51,5,FALSE)","v":"senior"},{"$f":"VLOOKUP($C37,'Test 14'!$A$12:$Q$51,13,FALSE)","v":"00:00:10"},{"$f":"VLOOKUP($C37,'Test 14'!$A$12:$Q$51,16,FALSE)","v":"00:16:02.230"}]
[{"$f":"IF(Pivots!EV29=\"(Blank)\",\"\",Pivots!EV29)","v":0},{"$f":"VLOOKUP($C38,'Test 14'!$A$12:$Q$51,15,FALSE)","v":1},{"$f":"IF(Pivots!EW29=\"(Blank)\",\"\",Pivots!EW29)","v":25},{"$f":"VLOOKUP($C38,'Test 14'!$A$12:$Q$51,2,FALSE)","v":""},{"$f":"VLOOKUP($C38,'Test 14'!$A$12:$Q$51,7,FALSE)","v":""},{"$f":"VLOOKUP($C38,'Test 14'!$A$12:$Q$51,3,FALSE)","v":""},{"$f":"VLOOKUP($C38,'Test 14'!$A$12:$Q$51,4,FALSE)","v":""},{"$f":"VLOOKUP($C38,'Test 14'!$A$12:$Q$51,5,FALSE)","v":"senior"},{"$f":"VLOOKUP($C38,'Test 14'!$A$12:$Q$51,13,FALSE)","v":"00:00:10"},{"$f":"VLOOKUP($C38,'Test 14'!$A$12:$Q$51,16,FALSE)","v":"00:16:02.230"}]
[{"$f":"IF(Pivots!EV30=\"(Blank)\",\"\",Pivots!EV30)","v":0},{"$f":"VLOOKUP($C39,'Test 14'!$A$12:$Q$51,15,FALSE)","v":1},{"$f":"IF(Pivots!EW30=\"(Blank)\",\"\",Pivots!EW30)","v":26},{"$f":"VLOOKUP($C39,'Test 14'!$A$12:$Q$51,2,FALSE)","v":""},{"$f":"VLOOKUP($C39,'Test 14'!$A$12:$Q$51,7,FALSE)","v":""},{"$f":"VLOOKUP($C39,'Test 14'!$A$12:$Q$51,3,FALSE)","v":""},{"$f":"VLOOKUP($C39,'Test 14'!$A$12:$Q$51,4,FALSE)","v":""},{"$f":"VLOOKUP($C39,'Test 14'!$A$12:$Q$51,5,FALSE)","v":"senior"},{"$f":"VLOOKUP($C39,'Test 14'!$A$12:$Q$51,13,FALSE)","v":"00:00:10"},{"$f":"VLOOKUP($C39,'Test 14'!$A$12:$Q$51,16,FALSE)","v":"00:16:02.230"}]
[{"$f":"IF(Pivots!EV31=\"(Blank)\",\"\",Pivots!EV31)","v":0},{"$f":"VLOOKUP($C40,'Test 14'!$A$12:$Q$51,15,FALSE)","v":1},{"$f":"IF(Pivots!EW31=\"(Blank)\",\"\",Pivots!EW31)","v":27},{"$f":"VLOOKUP($C40,'Test 14'!$A$12:$Q$51,2,FALSE)","v":""},{"$f":"VLOOKUP($C40,'Test 14'!$A$12:$Q$51,7,FALSE)","v":""},{"$f":"VLOOKUP($C40,'Test 14'!$A$12:$Q$51,3,FALSE)","v":""},{"$f":"VLOOKUP($C40,'Test 14'!$A$12:$Q$51,4,FALSE)","v":""},{"$f":"VLOOKUP($C40,'Test 14'!$A$12:$Q$51,5,FALSE)","v":"senior"},{"$f":"VLOOKUP($C40,'Test 14'!$A$12:$Q$51,13,FALSE)","v":"00:00:10"},{"$f":"VLOOKUP($C40,'Test 14'!$A$12:$Q$51,16,FALSE)","v":"00:16:02.230"}]
[{"$f":"IF(Pivots!EV32=\"(Blank)\",\"\",Pivots!EV32)","v":0},{"$f":"VLOOKUP($C41,'Test 14'!$A$12:$Q$51,15,FALSE)","v":1},{"$f":"IF(Pivots!EW32=\"(Blank)\",\"\",Pivots!EW32)","v":28},{"$f":"VLOOKUP($C41,'Test 14'!$A$12:$Q$51,2,FALSE)","v":""},{"$f":"VLOOKUP($C41,'Test 14'!$A$12:$Q$51,7,FALSE)","v":""},{"$f":"VLOOKUP($C41,'Test 14'!$A$12:$Q$51,3,FALSE)","v":""},{"$f":"VLOOKUP($C41,'Test 14'!$A$12:$Q$51,4,FALSE)","v":""},{"$f":"VLOOKUP($C41,'Test 14'!$A$12:$Q$51,5,FALSE)","v":"senior"},{"$f":"VLOOKUP($C41,'Test 14'!$A$12:$Q$51,13,FALSE)","v":"00:00:10"},{"$f":"VLOOKUP($C41,'Test 14'!$A$12:$Q$51,16,FALSE)","v":"00:16:02.230"}]
[{"$f":"IF(Pivots!EV33=\"(Blank)\",\"\",Pivots!EV33)","v":0},{"$f":"VLOOKUP($C42,'Test 14'!$A$12:$Q$51,15,FALSE)","v":1},{"$f":"IF(Pivots!EW33=\"(Blank)\",\"\",Pivots!EW33)","v":29},{"$f":"VLOOKUP($C42,'Test 14'!$A$12:$Q$51,2,FALSE)","v":""},{"$f":"VLOOKUP($C42,'Test 14'!$A$12:$Q$51,7,FALSE)","v":""},{"$f":"VLOOKUP($C42,'Test 14'!$A$12:$Q$51,3,FALSE)","v":""},{"$f":"VLOOKUP($C42,'Test 14'!$A$12:$Q$51,4,FALSE)","v":""},{"$f":"VLOOKUP($C42,'Test 14'!$A$12:$Q$51,5,FALSE)","v":"senior"},{"$f":"VLOOKUP($C42,'Test 14'!$A$12:$Q$51,13,FALSE)","v":"00:00:10"},{"$f":"VLOOKUP($C42,'Test 14'!$A$12:$Q$51,16,FALSE)","v":"00:16:02.230"}]
[{"$f":"IF(Pivots!EV34=\"(Blank)\",\"\",Pivots!EV34)","v":0},{"$f":"VLOOKUP($C43,'Test 14'!$A$12:$Q$51,15,FALSE)","v":1},{"$f":"IF(Pivots!EW34=\"(Blank)\",\"\",Pivots!EW34)","v":30},{"$f":"VLOOKUP($C43,'Test 14'!$A$12:$Q$51,2,FALSE)","v":""},{"$f":"VLOOKUP($C43,'Test 14'!$A$12:$Q$51,7,FALSE)","v":""},{"$f":"VLOOKUP($C43,'Test 14'!$A$12:$Q$51,3,FALSE)","v":""},{"$f":"VLOOKUP($C43,'Test 14'!$A$12:$Q$51,4,FALSE)","v":""},{"$f":"VLOOKUP($C43,'Test 14'!$A$12:$Q$51,5,FALSE)","v":"senior"},{"$f":"VLOOKUP($C43,'Test 14'!$A$12:$Q$51,13,FALSE)","v":"00:00:10"},{"$f":"VLOOKUP($C43,'Test 14'!$A$12:$Q$51,16,FALSE)","v":"00:16:02.230"}]
[{"$f":"IF(Pivots!EV35=\"(Blank)\",\"\",Pivots!EV35)","v":0},{"$f":"VLOOKUP($C44,'Test 14'!$A$12:$Q$51,15,FALSE)","v":1},{"$f":"IF(Pivots!EW35=\"(Blank)\",\"\",Pivots!EW35)","v":31},{"$f":"VLOOKUP($C44,'Test 14'!$A$12:$Q$51,2,FALSE)","v":""},{"$f":"VLOOKUP($C44,'Test 14'!$A$12:$Q$51,7,FALSE)","v":""},{"$f":"VLOOKUP($C44,'Test 14'!$A$12:$Q$51,3,FALSE)","v":""},{"$f":"VLOOKUP($C44,'Test 14'!$A$12:$Q$51,4,FALSE)","v":""},{"$f":"VLOOKUP($C44,'Test 14'!$A$12:$Q$51,5,FALSE)","v":"senior"},{"$f":"VLOOKUP($C44,'Test 14'!$A$12:$Q$51,13,FALSE)","v":"00:00:10"},{"$f":"VLOOKUP($C44,'Test 14'!$A$12:$Q$51,16,FALSE)","v":"00:16:02.230"}]
[{"$f":"IF(Pivots!EV36=\"(Blank)\",\"\",Pivots!EV36)","v":0},{"$f":"VLOOKUP($C45,'Test 14'!$A$12:$Q$51,15,FALSE)","v":1},{"$f":"IF(Pivots!EW36=\"(Blank)\",\"\",Pivots!EW36)","v":32},{"$f":"VLOOKUP($C45,'Test 14'!$A$12:$Q$51,2,FALSE)","v":""},{"$f":"VLOOKUP($C45,'Test 14'!$A$12:$Q$51,7,FALSE)","v":""},{"$f":"VLOOKUP($C45,'Test 14'!$A$12:$Q$51,3,FALSE)","v":""},{"$f":"VLOOKUP($C45,'Test 14'!$A$12:$Q$51,4,FALSE)","v":""},{"$f":"VLOOKUP($C45,'Test 14'!$A$12:$Q$51,5,FALSE)","v":"senior"},{"$f":"VLOOKUP($C45,'Test 14'!$A$12:$Q$51,13,FALSE)","v":"00:00:10"},{"$f":"VLOOKUP($C45,'Test 14'!$A$12:$Q$51,16,FALSE)","v":"00:16:02.230"}]
[{"$f":"IF(Pivots!EV37=\"(Blank)\",\"\",Pivots!EV37)","v":0},{"$f":"VLOOKUP($C46,'Test 14'!$A$12:$Q$51,15,FALSE)","v":1},{"$f":"IF(Pivots!EW37=\"(Blank)\",\"\",Pivots!EW37)","v":33},{"$f":"VLOOKUP($C46,'Test 14'!$A$12:$Q$51,2,FALSE)","v":""},{"$f":"VLOOKUP($C46,'Test 14'!$A$12:$Q$51,7,FALSE)","v":""},{"$f":"VLOOKUP($C46,'Test 14'!$A$12:$Q$51,3,FALSE)","v":""},{"$f":"VLOOKUP($C46,'Test 14'!$A$12:$Q$51,4,FALSE)","v":""},{"$f":"VLOOKUP($C46,'Test 14'!$A$12:$Q$51,5,FALSE)","v":"senior"},{"$f":"VLOOKUP($C46,'Test 14'!$A$12:$Q$51,13,FALSE)","v":"00:00:10"},{"$f":"VLOOKUP($C46,'Test 14'!$A$12:$Q$51,16,FALSE)","v":"00:16:02.230"}]
[{"$f":"IF(Pivots!EV38=\"(Blank)\",\"\",Pivots!EV38)","v":0},{"$f":"VLOOKUP($C47,'Test 14'!$A$12:$Q$51,15,FALSE)","v":1},{"$f":"IF(Pivots!EW38=\"(Blank)\",\"\",Pivots!EW38)","v":34},{"$f":"VLOOKUP($C47,'Test 14'!$A$12:$Q$51,2,FALSE)","v":""},{"$f":"VLOOKUP($C47,'Test 14'!$A$12:$Q$51,7,FALSE)","v":""},{"$f":"VLOOKUP($C47,'Test 14'!$A$12:$Q$51,3,FALSE)","v":""},{"$f":"VLOOKUP($C47,'Test 14'!$A$12:$Q$51,4,FALSE)","v":""},{"$f":"VLOOKUP($C47,'Test 14'!$A$12:$Q$51,5,FALSE)","v":"senior"},{"$f":"VLOOKUP($C47,'Test 14'!$A$12:$Q$51,13,FALSE)","v":"00:00:10"},{"$f":"VLOOKUP($C47,'Test 14'!$A$12:$Q$51,16,FALSE)","v":"00:16:02.230"}]
[{"$f":"IF(Pivots!EV39=\"(Blank)\",\"\",Pivots!EV39)","v":0},{"$f":"VLOOKUP($C48,'Test 14'!$A$12:$Q$51,15,FALSE)","v":1},{"$f":"IF(Pivots!EW39=\"(Blank)\",\"\",Pivots!EW39)","v":35},{"$f":"VLOOKUP($C48,'Test 14'!$A$12:$Q$51,2,FALSE)","v":""},{"$f":"VLOOKUP($C48,'Test 14'!$A$12:$Q$51,7,FALSE)","v":""},{"$f":"VLOOKUP($C48,'Test 14'!$A$12:$Q$51,3,FALSE)","v":""},{"$f":"VLOOKUP($C48,'Test 14'!$A$12:$Q$51,4,FALSE)","v":""},{"$f":"VLOOKUP($C48,'Test 14'!$A$12:$Q$51,5,FALSE)","v":"senior"},{"$f":"VLOOKUP($C48,'Test 14'!$A$12:$Q$51,13,FALSE)","v":"00:00:10"},{"$f":"VLOOKUP($C48,'Test 14'!$A$12:$Q$51,16,FALSE)","v":"00:16:02.230"}]
[{"$f":"IF(Pivots!EV40=\"(Blank)\",\"\",Pivots!EV40)","v":0},{"$f":"VLOOKUP($C49,'Test 14'!$A$12:$Q$51,15,FALSE)","v":1},{"$f":"IF(Pivots!EW40=\"(Blank)\",\"\",Pivots!EW40)","v":36},{"$f":"VLOOKUP($C49,'Test 14'!$A$12:$Q$51,2,FALSE)","v":""},{"$f":"VLOOKUP($C49,'Test 14'!$A$12:$Q$51,7,FALSE)","v":""},{"$f":"VLOOKUP($C49,'Test 14'!$A$12:$Q$51,3,FALSE)","v":""},{"$f":"VLOOKUP($C49,'Test 14'!$A$12:$Q$51,4,FALSE)","v":""},{"$f":"VLOOKUP($C49,'Test 14'!$A$12:$Q$51,5,FALSE)","v":"senior"},{"$f":"VLOOKUP($C49,'Test 14'!$A$12:$Q$51,13,FALSE)","v":"00:00:10"},{"$f":"VLOOKUP($C49,'Test 14'!$A$12:$Q$51,16,FALSE)","v":"00:16:02.230"}]
[{"$f":"IF(Pivots!EV41=\"(Blank)\",\"\",Pivots!EV41)","v":0},{"$f":"VLOOKUP($C50,'Test 14'!$A$12:$Q$51,15,FALSE)","v":1},{"$f":"IF(Pivots!EW41=\"(Blank)\",\"\",Pivots!EW41)","v":37},{"$f":"VLOOKUP($C50,'Test 14'!$A$12:$Q$51,2,FALSE)","v":""},{"$f":"VLOOKUP($C50,'Test 14'!$A$12:$Q$51,7,FALSE)","v":""},{"$f":"VLOOKUP($C50,'Test 14'!$A$12:$Q$51,3,FALSE)","v":""},{"$f":"VLOOKUP($C50,'Test 14'!$A$12:$Q$51,4,FALSE)","v":""},{"$f":"VLOOKUP($C50,'Test 14'!$A$12:$Q$51,5,FALSE)","v":"senior"},{"$f":"VLOOKUP($C50,'Test 14'!$A$12:$Q$51,13,FALSE)","v":"00:00:10"},{"$f":"VLOOKUP($C50,'Test 14'!$A$12:$Q$51,16,FALSE)","v":"00:16:02.230"}]
[{"$f":"IF(Pivots!EV42=\"(Blank)\",\"\",Pivots!EV42)","v":0},{"$f":"VLOOKUP($C51,'Test 14'!$A$12:$Q$51,15,FALSE)","v":1},{"$f":"IF(Pivots!EW42=\"(Blank)\",\"\",Pivots!EW42)","v":38},{"$f":"VLOOKUP($C51,'Test 14'!$A$12:$Q$51,2,FALSE)","v":""},{"$f":"VLOOKUP($C51,'Test 14'!$A$12:$Q$51,7,FALSE)","v":""},{"$f":"VLOOKUP($C51,'Test 14'!$A$12:$Q$51,3,FALSE)","v":""},{"$f":"VLOOKUP($C51,'Test 14'!$A$12:$Q$51,4,FALSE)","v":""},{"$f":"VLOOKUP($C51,'Test 14'!$A$12:$Q$51,5,FALSE)","v":"senior"},{"$f":"VLOOKUP($C51,'Test 14'!$A$12:$Q$51,13,FALSE)","v":"00:00:10"},{"$f":"VLOOKUP($C51,'Test 14'!$A$12:$Q$51,16,FALSE)","v":"00:16:02.230"}]
[{"$f":"IF(Pivots!EV43=\"(Blank)\",\"\",Pivots!EV43)","v":0},{"$f":"VLOOKUP($C52,'Test 14'!$A$12:$Q$51,15,FALSE)","v":1},{"$f":"IF(Pivots!EW43=\"(Blank)\",\"\",Pivots!EW43)","v":39},{"$f":"VLOOKUP($C52,'Test 14'!$A$12:$Q$51,2,FALSE)","v":""},{"$f":"VLOOKUP($C52,'Test 14'!$A$12:$Q$51,7,FALSE)","v":""},{"$f":"VLOOKUP($C52,'Test 14'!$A$12:$Q$51,3,FALSE)","v":""},{"$f":"VLOOKUP($C52,'Test 14'!$A$12:$Q$51,4,FALSE)","v":""},{"$f":"VLOOKUP($C52,'Test 14'!$A$12:$Q$51,5,FALSE)","v":"senior"},{"$f":"VLOOKUP($C52,'Test 14'!$A$12:$Q$51,13,FALSE)","v":"00:00:10"},{"$f":"VLOOKUP($C52,'Test 14'!$A$12:$Q$51,16,FALSE)","v":"00:16:02.230"}]
[{"$f":"IF(Pivots!EV44=\"(Blank)\",\"\",Pivots!EV44)","v":0},{"$f":"VLOOKUP($C53,'Test 14'!$A$12:$Q$51,15,FALSE)","v":1},{"$f":"IF(Pivots!EW44=\"(Blank)\",\"\",Pivots!EW44)","v":40},{"$f":"VLOOKUP($C53,'Test 14'!$A$12:$Q$51,2,FALSE)","v":""},{"$f":"VLOOKUP($C53,'Test 14'!$A$12:$Q$51,7,FALSE)","v":""},{"$f":"VLOOKUP($C53,'Test 14'!$A$12:$Q$51,3,FALSE)","v":""},{"$f":"VLOOKUP($C53,'Test 14'!$A$12:$Q$51,4,FALSE)","v":""},{"$f":"VLOOKUP($C53,'Test 14'!$A$12:$Q$51,5,FALSE)","v":"senior"},{"$f":"VLOOKUP($C53,'Test 14'!$A$12:$Q$51,13,FALSE)","v":"00:00:10"},{"$f":"VLOOKUP($C53,'Test 14'!$A$12:$Q$51,16,FALSE)","v":"00:16:02.230"}]

{"sheet":"Print_Test 15","index":17,"n_rows":53,"n_cols":10,"rows_kept":53,"cut":false,"hidden":false,"merged":[[11,6,12,6],[11,7,12,7],[8,3,8,5],[9,3,9,5],[11,0,12,0],[11,1,12,1],[11,2,12,2],[11,3,12,3],[11,4,12,4],[11,5,12,5]]}
[]
[]
[]
[]
[]
[]
[]
[]
[null,null,null,"Provisional Results"]
[null,null,null,"Test 15"]
[]
["Outright Position","Test Position","Car Number","Driver","Class","Rookie?","Female?","Junior?","Test Time","Cumulative Time"]
[null,null,null,null,null,null,null,null,"(mm:ss.00)","(mm:ss.00)"]
[{"$f":"IF(Pivots!FG5=\"(Blank)\",\"\",Pivots!FG5)","v":0},{"$f":"VLOOKUP($C14,'Test 15'!$A$12:$Q$51,15,FALSE)","v":1},{"$f":"IF(Pivots!FH5=\"(Blank)\",\"\",Pivots!FH5)","v":17},{"$f":"VLOOKUP($C14,'Test 15'!$A$12:$Q$51,2,FALSE)","v":"Reece McIntosh"},{"$f":"VLOOKUP($C14,'Test 15'!$A$12:$Q$51,7,FALSE)","v":""},{"$f":"VLOOKUP($C14,'Test 15'!$A$12:$Q$51,3,FALSE)","v":""},{"$f":"VLOOKUP($C14,'Test 15'!$A$12:$Q$51,4,FALSE)","v":""},{"$f":"VLOOKUP($C14,'Test 15'!$A$12:$Q$51,5,FALSE)","v":"senior"},{"$f":"VLOOKUP($C14,'Test 15'!$A$12:$Q$51,13,FALSE)","v":"00:00:10"},{"$f":"VLOOKUP($C14,'Test 15'!$A$12:$Q$51,16,FALSE)","v":"00:10:50.300"}]
[{"$f":"IF(Pivots!FG6=\"(Blank)\",\"\",Pivots!FG6)","v":0},{"$f":"VLOOKUP($C15,'Test 15'!$A$12:$Q$51,15,FALSE)","v":1},{"$f":"IF(Pivots!FH6=\"(Blank)\",\"\",Pivots!FH6)","v":1},{"$f":"VLOOKUP($C15,'Test 15'!$A$12:$Q$51,2,FALSE)","v":"Paul Dunn"},{"$f":"VLOOKUP($C15,'Test 15'!$A$12:$Q$51,7,FALSE)","v":""},{"$f":"VLOOKUP($C15,'Test 15'!$A$12:$Q$51,3,FALSE)","v":""},{"$f":"VLOOKUP($C15,'Test 15'!$A$12:$Q$51,4,FALSE)","v":""},{"$f":"VLOOKUP($C15,'Test 15'!$A$12:$Q$51,5,FALSE)","v":"senior"},{"$f":"VLOOKUP($C15,'Test 15'!$A$12:$Q$51,13,FALSE)","v":"00:00:10"},{"$f":"VLOOKUP($C15,'Test 15'!$A$12:$Q$51,16,FALSE)","v":"00:11:06.360"}]
[{"$f":"IF(Pivots!FG7=\"(Blank)\",\"\",Pivots!FG7)","v":0},{"$f":"VLOOKUP($C16,'Test 15'!$A$12:$Q$51,15,FALSE)","v":1},{"$f":"IF(Pivots!FH7=\"(Blank)\",\"\",Pivots!FH7)","v":9},{"$f":"VLOOKUP($C16,'Test 15'!$A$12:$Q$51,2,FALSE)","v":"Brad Firman"},{"$f":"VLOOKUP($C16,'Test 15'!$A$12:$Q$51,7,FALSE)","v":""},{"$f":"VLOOKUP($C16,'Test 15'!$A$12:$Q$51,3,FALSE)","v":""},{"$f":"VLOOKUP($C16,'Test 15'!$A$12:$Q$51,4,FALSE)","v":""},{"$f":"VLOOKUP($C16,'Test 15'!$A$12:$Q$51,5,FALSE)","v":"senior"},{"$f":"VLOOKUP($C16,'Test 15'!$A$12:$Q$51,13,FALSE)","v":"00:00:10"},{"$f":"VLOOKUP($C16,'Test 15'!$A$12:$Q$51,16,FALSE)","v":"00:11:10.270"}]
[{"$f":"IF(Pivots!FG8=\"(Blank)\",\"\",Pivots!FG8)","v":0},{"$f":"VLOOKUP($C17,'Test 15'!$A$12:$Q$51,15,FALSE)","v":1},{"$f":"IF(Pivots!FH8=\"(Blank)\",\"\",Pivots!FH8)","v":2},{"$f":"VLOOKUP($C17,'Test 15'!$A$12:$Q$51,2,FALSE)","v":"Stephen Thorne"},{"$f":"VLOOKUP($C17,'Test 15'!$A$12:$Q$51,7,FALSE)","v":""},{"$f":"VLOOKUP($C17,'Test 15'!$A$12:$Q$51,3,FALSE)","v":""},{"$f":"VLOOKUP($C17,'Test 15'!$A$12:$Q$51,4,FALSE)","v":""},{"$f":"VLOOKUP($C17,'Test 15'!$A$12:$Q$51,5,FALSE)","v":"senior"},{"$f":"VLOOKUP($C17,'Test 15'!$A$12:$Q$51,13,FALSE)","v":"00:00:10"},{"$f":"VLOOKUP($C17,'Test 15'!$A$12:$Q$51,16,FALSE)","v":"00:11:27.150"}]
[{"$f":"IF(Pivots!FG9=\"(Blank)\",\"\",Pivots!FG9)","v":0},{"$f":"VLOOKUP($C18,'Test 15'!$A$12:$Q$51,15,FALSE)","v":1},{"$f":"IF(Pivots!FH9=\"(Blank)\",\"\",Pivots!FH9)","v":14},{"$f":"VLOOKUP($C18,'Test 15'!$A$12:$Q$51,2,FALSE)","v":"Bob Fulthorpe"},{"$f":"VLOOKUP($C18,'Test 15'!$A$12:$Q$51,7,FALSE)","v":""},{"$f":"VLOOKUP($C18,'Test 15'!$A$12:$Q$51,3,FALSE)","v":""},{"$f":"VLOOKUP($C18,'Test 15'!$A$12:$Q$51,4,FALSE)","v":""},{"$f":"VLOOKUP($C18,'Test 15'!$A$12:$Q$51,5,FALSE)","v":"senior"},{"$f":"VLOOKUP($C18,'Test 15'!$A$12:$Q$51,13,FALSE)","v":"00:00:10"},{"$f":"VLOOKUP($C18,'Test 15'!$A$12:$Q$51,16,FALSE)","v":"00:11:27.350"}]
[{"$f":"IF(Pivots!FG10=\"(Blank)\",\"\",Pivots!FG10)","v":0},{"$f":"VLOOKUP($C19,'Test 15'!$A$12:$Q$51,15,FALSE)","v":1},{"$f":"IF(Pivots!FH10=\"(Blank)\",\"\",Pivots!FH10)","v":20},{"$f":"VLOOKUP($C19,'Test 15'!$A$12:$Q$51,2,FALSE)","v":"Ray Lampl"},{"$f":"VLOOKUP($C19,'Test 15'!$A$12:$Q$51,7,FALSE)","v":""},{"$f":"VLOOKUP($C19,'Test 15'!$A$12:$Q$51,3,FALSE)","v":""},{"$f":"VLOOKUP($C19,'Test 15'!$A$12:$Q$51,4,FALSE)","v":""},{"$f":"VLOOKUP($C19,'Test 15'!$A$12:$Q$51,5,FALSE)","v":"senior"},{"$f":"VLOOKUP($C19,'Test 15'!$A$12:$Q$51,13,FALSE)","v":"00:00:10"},{"$f":"VLOOKUP($C19,'Test 15'!$A$12:$Q$51,16,FALSE)","v":"00:11:53.110"}]
[{"$f":"IF(Pivots!FG11=\"(Blank)\",\"\",Pivots!FG11)","v":0},{"$f":"VLOOKUP($C20,'Test 15'!$A$12:$Q$51,15,FALSE)","v":1},{"$f":"IF(Pivots!FH11=\"(Blank)\",\"\",Pivots!FH11)","v":16},{"$f":"VLOOKUP($C20,'Test 15'!$A$12:$Q$51,2,FALSE)","v":"Nathan Senior"},{"$f":"VLOOKUP($C20,'Test 15'!$A$12:$Q$51,7,FALSE)","v":""},{"$f":"VLOOKUP($C20,'Test 15'!$A$12:$Q$51,3,FALSE)","v":""},{"$f":"VLOOKUP($C20,'Test 15'!$A$12:$Q$51,4,FALSE)","v":""},{"$f":"VLOOKUP($C20,'Test 15'!$A$12:$Q$51,5,FALSE)","v":"senior"},{"$f":"VLOOKUP($C20,'Test 15'!$A$12:$Q$51,13,FALSE)","v":"00:00:10"},{"$f":"VLOOKUP($C20,'Test 15'!$A$12:$Q$51,16,FALSE)","v":"00:12:11.190"}]
[{"$f":"IF(Pivots!FG12=\"(Blank)\",\"\",Pivots!FG12)","v":0},{"$f":"VLOOKUP($C21,'Test 15'!$A$12:$Q$51,15,FALSE)","v":1},{"$f":"IF(Pivots!FH12=\"(Blank)\",\"\",Pivots!FH12)","v":5},{"$f":"VLOOKUP($C21,'Test 15'!$A$12:$Q$51,2,FALSE)","v":"Janelle Ballard"},{"$f":"VLOOKUP($C21,'Test 15'!$A$12:$Q$51,7,FALSE)","v":""},{"$f":"VLOOKUP($C21,'Test 15'!$A$12:$Q$51,3,FALSE)","v":""},{"$f":"VLOOKUP($C21,'Test 15'!$A$12:$Q$51,4,FALSE)","v":"female"},{"$f":"VLOOKUP($C21,'Test 15'!$A$12:$Q$51,5,FALSE)","v":"senior"},{"$f":"VLOOKUP($C21,'Test 15'!$A$12:$Q$51,13,FALSE)","v":"00:00:10"},{"$f":"VLOOKUP($C21,'Test 15'!$A$12:$Q$51,16,FALSE)","v":"00:12:17.350"}]
[{"$f":"IF(Pivots!FG13=\"(Blank)\",\"\",Pivots!FG13)","v":0},{"$f":"VLOOKUP($C22,'Test 15'!$A$12:$Q$51,15,FALSE)","v":1},{"$f":"IF(Pivots!FH13=\"(Blank)\",\"\",Pivots!FH13)","v":19},{"$f":"VLOOKUP($C22,'Test 15'!$A$12:$Q$51,2,FALSE)","v":"Christopher Northey"},{"$f":"VLOOKUP($C22,'Test 15'!$A$12:$Q$51,7,FALSE)","v":""},{"$f":"VLOOKUP($C22,'Test 15'!$A$12:$Q$51,3,FALSE)","v":""},{"$f":"VLOOKUP($C22,'Test 15'!$A$12:$Q$51,4,FALSE)","v":""},{"$f":"VLOOKUP($C22,'Test 15'!$A$12:$Q$51,5,FALSE)","v":"senior"},{"$f":"VLOOKUP($C22,'Test 15'!$A$12:$Q$51,13,FALSE)","v":"00:00:10"},{"$f":"VLOOKUP($C22,'Test 15'!$A$12:$Q$51,16,FALSE)","v":"00:12:21.920"}]
[{"$f":"IF(Pivots!FG14=\"(Blank)\",\"\",Pivots!FG14)","v":0},{"$f":"VLOOKUP($C23,'Test 15'!$A$12:$Q$51,15,FALSE)","v":1},{"$f":"IF(Pivots!FH14=\"(Blank)\",\"\",Pivots!FH14)","v":15},{"$f":"VLOOKUP($C23,'Test 15'!$A$12:$Q$51,2,FALSE)","v":"Khi Fulthorpe"},{"$f":"VLOOKUP($C23,'Test 15'!$A$12:$Q$51,7,FALSE)","v":""},{"$f":"VLOOKUP($C23,'Test 15'!$A$12:$Q$51,3,FALSE)","v":""},{"$f":"VLOOKUP($C23,'Test 15'!$A$12:$Q$51,4,FALSE)","v":""},{"$f":"VLOOKUP($C23,'Test 15'!$A$12:$Q$51,5,FALSE)","v":"senior"},{"$f":"VLOOKUP($C23,'Test 15'!$A$12:$Q$51,13,FALSE)","v":"00:00:10"},{"$f":"VLOOKUP($C23,'Test 15'!$A$12:$Q$51,16,FALSE)","v":"00:12:27.250"}]
[{"$f":"IF(Pivots!FG15=\"(Blank)\",\"\",Pivots!FG15)","v":0},{"$f":"VLOOKUP($C24,'Test 15'!$A$12:$Q$51,15,FALSE)","v":1},{"$f":"IF(Pivots!FH15=\"(Blank)\",\"\",Pivots!FH15)","v":10},{"$f":"VLOOKUP($C24,'Test 15'!$A$12:$Q$51,2,FALSE)","v":"Scott Taylor"},{"$f":"VLOOKUP($C24,'Test 15'!$A$12:$Q$51,7,FALSE)","v":""},{"$f":"VLOOKUP($C24,'Test 15'!$A$12:$Q$51,3,FALSE)","v":""},{"$f":"VLOOKUP($C24,'Test 15'!$A$12:$Q$51,4,FALSE)","v":""},{"$f":"VLOOKUP($C24,'Test 15'!$A$12:$Q$51,5,FALSE)","v":"senior"},{"$f":"VLOOKUP($C24,'Test 15'!$A$12:$Q$51,13,FALSE)","v":"00:00:10"},{"$f":"VLOOKUP($C24,'Test 15'!$A$12:$Q$51,16,FALSE)","v":"00:12:35.120"}]
[{"$f":"IF(Pivots!FG16=\"(Blank)\",\"\",Pivots!FG16)","v":0},{"$f":"VLOOKUP($C25,'Test 15'!$A$12:$Q$51,15,FALSE)","v":1},{"$f":"IF(Pivots!FH16=\"(Blank)\",\"\",Pivots!FH16)","v":3},{"$f":"VLOOKUP($C25,'Test 15'!$A$12:$Q$51,2,FALSE)","v":"David Ballard"},{"$f":"VLOOKUP($C25,'Test 15'!$A$12:$Q$51,7,FALSE)","v":""},{"$f":"VLOOKUP($C25,'Test 15'!$A$12:$Q$51,3,FALSE)","v":""},{"$f":"VLOOKUP($C25,'Test 15'!$A$12:$Q$51,4,FALSE)","v":""},{"$f":"VLOOKUP($C25,'Test 15'!$A$12:$Q$51,5,FALSE)","v":"senior"},{"$f":"VLOOKUP($C25,'Test 15'!$A$12:$Q$51,13,FALSE)","v":"00:00:10"},{"$f":"VLOOKUP($C25,'Test 15'!$A$12:$Q$51,16,FALSE)","v":"00:12:36.210"}]
[{"$f":"IF(Pivots!FG17=\"(Blank)\",\"\",Pivots!FG17)","v":0},{"$f":"VLOOKUP($C26,'Test 15'!$A$12:$Q$51,15,FALSE)","v":1},{"$f":"IF(Pivots!FH17=\"(Blank)\",\"\",Pivots!FH17)","v":8},{"$f":"VLOOKUP($C26,'Test 15'!$A$12:$Q$51,2,FALSE)","v":"Jim Taylor"},{"$f":"VLOOKUP($C26,'Test 15'!$A$12:$Q$51,7,FALSE)","v":""},{"$f":"VLOOKUP($C26,'Test 15'!$A$12:$Q$51,3,FALSE)","v":""},{"$f":"VLOOKUP($C26,'Test 15'!$A$12:$Q$51,4,FALSE)","v":""},{"$f":"VLOOKUP($C26,'Test 15'!$A$12:$Q$51,5,FALSE)","v":"senior"},{"$f":"VLOOKUP($C26,'Test 15'!$A$12:$Q$51,13,FALSE)","v":"00:00:10"},{"$f":"VLOOKUP($C26,'Test 15'!$A$12:$Q$51,16,FALSE)","v":"00:12:37.470"}]
[{"$f":"IF(Pivots!FG18=\"(Blank)\",\"\",Pivots!FG18)","v":0},{"$f":"VLOOKUP($C27,'Test 15'!$A$12:$Q$51,15,FALSE)","v":1},{"$f":"IF(Pivots!FH18=\"(Blank)\",\"\",Pivots!FH18)","v":13},{"$f":"VLOOKUP($C27,'Test 15'!$A$12:$Q$51,2,FALSE)","v":"Aaron Wishart"},{"$f":"VLOOKUP($C27,'Test 15'!$A$12:$Q$51,7,FALSE)","v":""},{"$f":"VLOOKUP($C27,'Test 15'!$A$12:$Q$51,3,FALSE)","v":""},{"$f":"VLOOKUP($C27,'Test 15'!$A$12:$Q$51,4,FALSE)","v":""},{"$f":"VLOOKUP($C27,'Test 15'!$A$12:$Q$51,5,FALSE)","v":"senior"},{"$f":"VLOOKUP($C27,'Test 15'!$A$12:$Q$51,13,FALSE)","v":"00:00:10"},{"$f":"VLOOKUP($C27,'Test 15'!$A$12:$Q$51,16,FALSE)","v":"00:12:57.920"}]
[{"$f":"IF(Pivots!FG19=\"(Blank)\",\"\",Pivots!FG19)","v":0},{"$f":"VLOOKUP($C28,'Test 15'!$A$12:$Q$51,15,FALSE)","v":1},{"$f":"IF(Pivots!FH19=\"(Blank)\",\"\",Pivots!FH19)","v":12},{"$f":"VLOOKUP($C28,'Test 15'!$A$12:$Q$51,2,FALSE)","v":"Mat Boorman"},{"$f":"VLOOKUP($C28,'Test 15'!$A$12:$Q$51,7,FALSE)","v":""},{"$f":"VLOOKUP($C28,'Test 15'!$A$12:$Q$51,3,FALSE)","v":""},{"$f":"VLOOKUP($C28,'Test 15'!$A$12:$Q$51,4,FALSE)","v":""},{"$f":"VLOOKUP($C28,'Test 15'!$A$12:$Q$51,5,FALSE)","v":"senior"},{"$f":"VLOOKUP($C28,'Test 15'!$A$12:$Q$51,13,FALSE)","v":"00:00:10"},{"$f":"VLOOKUP($C28,'Test 15'!$A$12:$Q$51,16,FALSE)","v":"00:13:07.280"}]
[{"$f":"IF(Pivots!FG20=\"(Blank)\",\"\",Pivots!FG20)","v":0},{"$f":"VLOOKUP($C29,'Test 15'!$A$12:$Q$51,15,FALSE)","v":1},{"$f":"IF(Pivots!FH20=\"(Blank)\",\"\",Pivots!FH20)","v":6},{"$f":"VLOOKUP($C29,'Test 15'!$A$12:$Q$51,2,FALSE)","v":"Issac Wishart"},{"$f":"VLOOKUP($C29,'Test 15'!$A$12:$Q$51,7,FALSE)","v":""},{"$f":"VLOOKUP($C29,'Test 15'!$A$12:$Q$51,3,FALSE)","v":"rookie"},{"$f":"VLOOKUP($C29,'Test 15'!$A$12:$Q$51,4,FALSE)","v":""},{"$f":"VLOOKUP($C29,'Test 15'!$A$12:$Q$51,5,FALSE)","v":"senior"},{"$f":"VLOOKUP($C29,'Test 15'!$A$12:$Q$51,13,FALSE)","v":"00:00:10"},{"$f":"VLOOKUP($C29,'Test 15'!$A$12:$Q$51,16,FALSE)","v":"00:13:20.350"}]
[{"$f":"IF(Pivots!FG21=\"(Blank)\",\"\",Pivots!FG21)","v":0},{"$f":"VLOOKUP($C30,'Test 15'!$A$12:$Q$51,15,FALSE)","v":1},{"$f":"IF(Pivots!FH21=\"(Blank)\",\"\",Pivots!FH21)","v":18},{"$f":"VLOOKUP($C30,'Test 15'!$A$12:$Q$51,2,FALSE)","v":"Jack Stanley"},{"$f":"VLOOKUP($C30,'Test 15'!$A$12:$Q$51,7,FALSE)","v":""},{"$f":"VLOOKUP($C30,'Test 15'!$A$12:$Q$51,3,FALSE)","v":"rookie"},{"$f":"VLOOKUP($C30,'Test 15'!$A$12:$Q$51,4,FALSE)","v":""},{"$f":"VLOOKUP($C30,'Test 15'!$A$12:$Q$51,5,FALSE)","v":"senior"},{"$f":"VLOOKUP($C30,'Test 15'!$A$12:$Q$51,13,FALSE)","v":"00:00:10"},{"$f":"VLOOKUP($C30,'Test 15'!$A$12:$Q$51,16,FALSE)","v":"00:13:39.100"}]
[{"$f":"IF(Pivots!FG22=\"(Blank)\",\"\",Pivots!FG22)","v":0},{"$f":"VLOOKUP($C31,'Test 15'!$A$12:$Q$51,15,FALSE)","v":1},{"$f":"IF(Pivots!FH22=\"(Blank)\",\"\",Pivots!FH22)","v":4},{"$f":"VLOOKUP($C31,'Test 15'!$A$12:$Q$51,2,FALSE)","v":"Michaela Ballard"},{"$f":"VLOOKUP($C31,'Test 15'!$A$12:$Q$51,7,FALSE)","v":""},{"$f":"VLOOKUP($C31,'Test 15'!$A$12:$Q$51,3,FALSE)","v":"rookie"},{"$f":"VLOOKUP($C31,'Test 15'!$A$12:$Q$51,4,FALSE)","v":"female"},{"$f":"VLOOKUP($C31,'Test 15'!$A$12:$Q$51,5,FALSE)","v":"senior"},{"$f":"VLOOKUP($C31,'Test 15'!$A$12:$Q$51,13,FALSE)","v":"00:00:10"},{"$f":"VLOOKUP($C31,'Test 15'!$A$12:$Q$51,16,FALSE)","v":"00:13:44.220"}]
[{"$f":"IF(Pivots!FG23=\"(Blank)\",\"\",Pivots!FG23)","v":0},{"$f":"VLOOKUP($C32,'Test 15'!$A$12:$Q$51,15,FALSE)","v":1},{"$f":"IF(Pivots!FH23=\"(Blank)\",\"\",Pivots!FH23)","v":11},{"$f":"VLOOKUP($C32,'Test 15'!$A$12:$Q$51,2,FALSE)","v":"Russel McKinley"},{"$f":"VLOOKUP($C32,'Test 15'!$A$12:$Q$51,7,FALSE)","v":""},{"$f":"VLOOKUP($C32,'Test 15'!$A$12:$Q$51,3,FALSE)","v":""},{"$f":"VLOOKUP($C32,'Test 15'!$A$12:$Q$51,4,FALSE)","v":""},{"$f":"VLOOKUP($C32,'Test 15'!$A$12:$Q$51,5,FALSE)","v":"senior"},{"$f":"VLOOKUP($C32,'Test 15'!$A$12:$Q$51,13,FALSE)","v":"00:00:10"},{"$f":"VLOOKUP($C32,'Test 15'!$A$12:$Q$51,16,FALSE)","v":"00:13:55.150"}]
[{"$f":"IF(Pivots!FG24=\"(Blank)\",\"\",Pivots!FG24)","v":0},{"$f":"VLOOKUP($C33,'Test 15'!$A$12:$Q$51,15,FALSE)","v":1},{"$f":"IF(Pivots!FH24=\"(Blank)\",\"\",Pivots!FH24)","v":7},{"$f":"VLOOKUP($C33,'Test 15'!$A$12:$Q$51,2,FALSE)","v":""},{"$f":"VLOOKUP($C33,'Test 15'!$A$12:$Q$51,7,FALSE)","v":""},{"$f":"VLOOKUP($C33,'Test 15'!$A$12:$Q$51,3,FALSE)","v":""},{"$f":"VLOOKUP($C33,'Test 15'!$A$12:$Q$51,4,FALSE)","v":""},{"$f":"VLOOKUP($C33,'Test 15'!$A$12:$Q$51,5,FALSE)","v":"senior"},{"$f":"VLOOKUP($C33,'Test 15'!$A$12:$Q$51,13,FALSE)","v":"00:00:10"},{"$f":"VLOOKUP($C33,'Test 15'!$A$12:$Q$51,16,FALSE)","v":"00:16:12.230"}]
[{"$f":"IF(Pivots!FG25=\"(Blank)\",\"\",Pivots!FG25)","v":0},{"$f":"VLOOKUP($C34,'Test 15'!$A$12:$Q$51,15,FALSE)","v":1},{"$f":"IF(Pivots!FH25=\"(Blank)\",\"\",Pivots!FH25)","v":21},{"$f":"VLOOKUP($C34,'Test 15'!$A$12:$Q$51,2,FALSE)","v":""},{"$f":"VLOOKUP($C34,'Test 15'!$A$12:$Q$51,7,FALSE)","v":""},{"$f":"VLOOKUP($C34,'Test 15'!$A$12:$Q$51,3,FALSE)","v":""},{"$f":"VLOOKUP($C34,'Test 15'!$A$12:$Q$51,4,FALSE)","v":""},{"$f":"VLOOKUP($C34,'Test 15'!$A$12:$Q$51,5,FALSE)","v":"senior"},{"$f":"VLOOKUP($C34,'Test 15'!$A$12:$Q$51,13,FALSE)","v":"00:00:10"},{"$f":"VLOOKUP($C34,'Test 15'!$A$12:$Q$51,16,FALSE)","v":"00:16:12.230"}]
[{"$f":"IF(Pivots!FG26=\"(Blank)\",\"\",Pivots!FG26)","v":0},{"$f":"VLOOKUP($C35,'Test 15'!$A$12:$Q$51,15,FALSE)","v":1},{"$f":"IF(Pivots!FH26=\"(Blank)\",\"\",Pivots!FH26)","v":22},{"$f":"VLOOKUP($C35,'Test 15'!$A$12:$Q$51,2,FALSE)","v":""},{"$f":"VLOOKUP($C35,'Test 15'!$A$12:$Q$51,7,FALSE)","v":""},{"$f":"VLOOKUP($C35,'Test 15'!$A$12:$Q$51,3,FALSE)","v":""},{"$f":"VLOOKUP($C35,'Test 15'!$A$12:$Q$51,4,FALSE)","v":""},{"$f":"VLOOKUP($C35,'Test 15'!$A$12:$Q$51,5,FALSE)","v":"senior"},{"$f":"VLOOKUP($C35,'Test 15'!$A$12:$Q$51,13,FALSE)","v":"00:00:10"},{"$f":"VLOOKUP($C35,'Test 15'!$A$12:$Q$51,16,FALSE)","v":"00:16:12.230"}]
[{"$f":"IF(Pivots!FG27=\"(Blank)\",\"\",Pivots!FG27)","v":0},{"$f":"VLOOKUP($C36,'Test 15'!$A$12:$Q$51,15,FALSE)","v":1},{"$f":"IF(Pivots!FH27=\"(Blank)\",\"\",Pivots!FH27)","v":23},{"$f":"VLOOKUP($C36,'Test 15'!$A$12:$Q$51,2,FALSE)","v":""},{"$f":"VLOOKUP($C36,'Test 15'!$A$12:$Q$51,7,FALSE)","v":""},{"$f":"VLOOKUP($C36,'Test 15'!$A$12:$Q$51,3,FALSE)","v":""},{"$f":"VLOOKUP($C36,'Test 15'!$A$12:$Q$51,4,FALSE)","v":""},{"$f":"VLOOKUP($C36,'Test 15'!$A$12:$Q$51,5,FALSE)","v":"senior"},{"$f":"VLOOKUP($C36,'Test 15'!$A$12:$Q$51,13,FALSE)","v":"00:00:10"},{"$f":"VLOOKUP($C36,'Test 15'!$A$12:$Q$51,16,FALSE)","v":"00:16:12.230"}]
[{"$f":"IF(Pivots!FG28=\"(Blank)\",\"\",Pivots!FG28)","v":0},{"$f":"VLOOKUP($C37,'Test 15'!$A$12:$Q$51,15,FALSE)","v":1},{"$f":"IF(Pivots!FH28=\"(Blank)\",\"\",Pivots!FH28)","v":24},{"$f":"VLOOKUP($C37,'Test 15'!$A$12:$Q$51,2,FALSE)","v":""},{"$f":"VLOOKUP($C37,'Test 15'!$A$12:$Q$51,7,FALSE)","v":""},{"$f":"VLOOKUP($C37,'Test 15'!$A$12:$Q$51,3,FALSE)","v":""},{"$f":"VLOOKUP($C37,'Test 15'!$A$12:$Q$51,4,FALSE)","v":""},{"$f":"VLOOKUP($C37,'Test 15'!$A$12:$Q$51,5,FALSE)","v":"senior"},{"$f":"VLOOKUP($C37,'Test 15'!$A$12:$Q$51,13,FALSE)","v":"00:00:10"},{"$f":"VLOOKUP($C37,'Test 15'!$A$12:$Q$51,16,FALSE)","v":"00:16:12.230"}]
[{"$f":"IF(Pivots!FG29=\"(Blank)\",\"\",Pivots!FG29)","v":0},{"$f":"VLOOKUP($C38,'Test 15'!$A$12:$Q$51,15,FALSE)","v":1},{"$f":"IF(Pivots!FH29=\"(Blank)\",\"\",Pivots!FH29)","v":25},{"$f":"VLOOKUP($C38,'Test 15'!$A$12:$Q$51,2,FALSE)","v":""},{"$f":"VLOOKUP($C38,'Test 15'!$A$12:$Q$51,7,FALSE)","v":""},{"$f":"VLOOKUP($C38,'Test 15'!$A$12:$Q$51,3,FALSE)","v":""},{"$f":"VLOOKUP($C38,'Test 15'!$A$12:$Q$51,4,FALSE)","v":""},{"$f":"VLOOKUP($C38,'Test 15'!$A$12:$Q$51,5,FALSE)","v":"senior"},{"$f":"VLOOKUP($C38,'Test 15'!$A$12:$Q$51,13,FALSE)","v":"00:00:10"},{"$f":"VLOOKUP($C38,'Test 15'!$A$12:$Q$51,16,FALSE)","v":"00:16:12.230"}]
[{"$f":"IF(Pivots!FG30=\"(Blank)\",\"\",Pivots!FG30)","v":0},{"$f":"VLOOKUP($C39,'Test 15'!$A$12:$Q$51,15,FALSE)","v":1},{"$f":"IF(Pivots!FH30=\"(Blank)\",\"\",Pivots!FH30)","v":26},{"$f":"VLOOKUP($C39,'Test 15'!$A$12:$Q$51,2,FALSE)","v":""},{"$f":"VLOOKUP($C39,'Test 15'!$A$12:$Q$51,7,FALSE)","v":""},{"$f":"VLOOKUP($C39,'Test 15'!$A$12:$Q$51,3,FALSE)","v":""},{"$f":"VLOOKUP($C39,'Test 15'!$A$12:$Q$51,4,FALSE)","v":""},{"$f":"VLOOKUP($C39,'Test 15'!$A$12:$Q$51,5,FALSE)","v":"senior"},{"$f":"VLOOKUP($C39,'Test 15'!$A$12:$Q$51,13,FALSE)","v":"00:00:10"},{"$f":"VLOOKUP($C39,'Test 15'!$A$12:$Q$51,16,FALSE)","v":"00:16:12.230"}]
[{"$f":"IF(Pivots!FG31=\"(Blank)\",\"\",Pivots!FG31)","v":0},{"$f":"VLOOKUP($C40,'Test 15'!$A$12:$Q$51,15,FALSE)","v":1},{"$f":"IF(Pivots!FH31=\"(Blank)\",\"\",Pivots!FH31)","v":27},{"$f":"VLOOKUP($C40,'Test 15'!$A$12:$Q$51,2,FALSE)","v":""},{"$f":"VLOOKUP($C40,'Test 15'!$A$12:$Q$51,7,FALSE)","v":""},{"$f":"VLOOKUP($C40,'Test 15'!$A$12:$Q$51,3,FALSE)","v":""},{"$f":"VLOOKUP($C40,'Test 15'!$A$12:$Q$51,4,FALSE)","v":""},{"$f":"VLOOKUP($C40,'Test 15'!$A$12:$Q$51,5,FALSE)","v":"senior"},{"$f":"VLOOKUP($C40,'Test 15'!$A$12:$Q$51,13,FALSE)","v":"00:00:10"},{"$f":"VLOOKUP($C40,'Test 15'!$A$12:$Q$51,16,FALSE)","v":"00:16:12.230"}]
[{"$f":"IF(Pivots!FG32=\"(Blank)\",\"\",Pivots!FG32)","v":0},{"$f":"VLOOKUP($C41,'Test 15'!$A$12:$Q$51,15,FALSE)","v":1},{"$f":"IF(Pivots!FH32=\"(Blank)\",\"\",Pivots!FH32)","v":28},{"$f":"VLOOKUP($C41,'Test 15'!$A$12:$Q$51,2,FALSE)","v":""},{"$f":"VLOOKUP($C41,'Test 15'!$A$12:$Q$51,7,FALSE)","v":""},{"$f":"VLOOKUP($C41,'Test 15'!$A$12:$Q$51,3,FALSE)","v":""},{"$f":"VLOOKUP($C41,'Test 15'!$A$12:$Q$51,4,FALSE)","v":""},{"$f":"VLOOKUP($C41,'Test 15'!$A$12:$Q$51,5,FALSE)","v":"senior"},{"$f":"VLOOKUP($C41,'Test 15'!$A$12:$Q$51,13,FALSE)","v":"00:00:10"},{"$f":"VLOOKUP($C41,'Test 15'!$A$12:$Q$51,16,FALSE)","v":"00:16:12.230"}]
[{"$f":"IF(Pivots!FG33=\"(Blank)\",\"\",Pivots!FG33)","v":0},{"$f":"VLOOKUP($C42,'Test 15'!$A$12:$Q$51,15,FALSE)","v":1},{"$f":"IF(Pivots!FH33=\"(Blank)\",\"\",Pivots!FH33)","v":29},{"$f":"VLOOKUP($C42,'Test 15'!$A$12:$Q$51,2,FALSE)","v":""},{"$f":"VLOOKUP($C42,'Test 15'!$A$12:$Q$51,7,FALSE)","v":""},{"$f":"VLOOKUP($C42,'Test 15'!$A$12:$Q$51,3,FALSE)","v":""},{"$f":"VLOOKUP($C42,'Test 15'!$A$12:$Q$51,4,FALSE)","v":""},{"$f":"VLOOKUP($C42,'Test 15'!$A$12:$Q$51,5,FALSE)","v":"senior"},{"$f":"VLOOKUP($C42,'Test 15'!$A$12:$Q$51,13,FALSE)","v":"00:00:10"},{"$f":"VLOOKUP($C42,'Test 15'!$A$12:$Q$51,16,FALSE)","v":"00:16:12.230"}]
[{"$f":"IF(Pivots!FG34=\"(Blank)\",\"\",Pivots!FG34)","v":0},{"$f":"VLOOKUP($C43,'Test 15'!$A$12:$Q$51,15,FALSE)","v":1},{"$f":"IF(Pivots!FH34=\"(Blank)\",\"\",Pivots!FH34)","v":30},{"$f":"VLOOKUP($C43,'Test 15'!$A$12:$Q$51,2,FALSE)","v":""},{"$f":"VLOOKUP($C43,'Test 15'!$A$12:$Q$51,7,FALSE)","v":""},{"$f":"VLOOKUP($C43,'Test 15'!$A$12:$Q$51,3,FALSE)","v":""},{"$f":"VLOOKUP($C43,'Test 15'!$A$12:$Q$51,4,FALSE)","v":""},{"$f":"VLOOKUP($C43,'Test 15'!$A$12:$Q$51,5,FALSE)","v":"senior"},{"$f":"VLOOKUP($C43,'Test 15'!$A$12:$Q$51,13,FALSE)","v":"00:00:10"},{"$f":"VLOOKUP($C43,'Test 15'!$A$12:$Q$51,16,FALSE)","v":"00:16:12.230"}]
[{"$f":"IF(Pivots!FG35=\"(Blank)\",\"\",Pivots!FG35)","v":0},{"$f":"VLOOKUP($C44,'Test 15'!$A$12:$Q$51,15,FALSE)","v":1},{"$f":"IF(Pivots!FH35=\"(Blank)\",\"\",Pivots!FH35)","v":31},{"$f":"VLOOKUP($C44,'Test 15'!$A$12:$Q$51,2,FALSE)","v":""},{"$f":"VLOOKUP($C44,'Test 15'!$A$12:$Q$51,7,FALSE)","v":""},{"$f":"VLOOKUP($C44,'Test 15'!$A$12:$Q$51,3,FALSE)","v":""},{"$f":"VLOOKUP($C44,'Test 15'!$A$12:$Q$51,4,FALSE)","v":""},{"$f":"VLOOKUP($C44,'Test 15'!$A$12:$Q$51,5,FALSE)","v":"senior"},{"$f":"VLOOKUP($C44,'Test 15'!$A$12:$Q$51,13,FALSE)","v":"00:00:10"},{"$f":"VLOOKUP($C44,'Test 15'!$A$12:$Q$51,16,FALSE)","v":"00:16:12.230"}]
[{"$f":"IF(Pivots!FG36=\"(Blank)\",\"\",Pivots!FG36)","v":0},{"$f":"VLOOKUP($C45,'Test 15'!$A$12:$Q$51,15,FALSE)","v":1},{"$f":"IF(Pivots!FH36=\"(Blank)\",\"\",Pivots!FH36)","v":32},{"$f":"VLOOKUP($C45,'Test 15'!$A$12:$Q$51,2,FALSE)","v":""},{"$f":"VLOOKUP($C45,'Test 15'!$A$12:$Q$51,7,FALSE)","v":""},{"$f":"VLOOKUP($C45,'Test 15'!$A$12:$Q$51,3,FALSE)","v":""},{"$f":"VLOOKUP($C45,'Test 15'!$A$12:$Q$51,4,FALSE)","v":""},{"$f":"VLOOKUP($C45,'Test 15'!$A$12:$Q$51,5,FALSE)","v":"senior"},{"$f":"VLOOKUP($C45,'Test 15'!$A$12:$Q$51,13,FALSE)","v":"00:00:10"},{"$f":"VLOOKUP($C45,'Test 15'!$A$12:$Q$51,16,FALSE)","v":"00:16:12.230"}]
[{"$f":"IF(Pivots!FG37=\"(Blank)\",\"\",Pivots!FG37)","v":0},{"$f":"VLOOKUP($C46,'Test 15'!$A$12:$Q$51,15,FALSE)","v":1},{"$f":"IF(Pivots!FH37=\"(Blank)\",\"\",Pivots!FH37)","v":33},{"$f":"VLOOKUP($C46,'Test 15'!$A$12:$Q$51,2,FALSE)","v":""},{"$f":"VLOOKUP($C46,'Test 15'!$A$12:$Q$51,7,FALSE)","v":""},{"$f":"VLOOKUP($C46,'Test 15'!$A$12:$Q$51,3,FALSE)","v":""},{"$f":"VLOOKUP($C46,'Test 15'!$A$12:$Q$51,4,FALSE)","v":""},{"$f":"VLOOKUP($C46,'Test 15'!$A$12:$Q$51,5,FALSE)","v":"senior"},{"$f":"VLOOKUP($C46,'Test 15'!$A$12:$Q$51,13,FALSE)","v":"00:00:10"},{"$f":"VLOOKUP($C46,'Test 15'!$A$12:$Q$51,16,FALSE)","v":"00:16:12.230"}]
[{"$f":"IF(Pivots!FG38=\"(Blank)\",\"\",Pivots!FG38)","v":0},{"$f":"VLOOKUP($C47,'Test 15'!$A$12:$Q$51,15,FALSE)","v":1},{"$f":"IF(Pivots!FH38=\"(Blank)\",\"\",Pivots!FH38)","v":34},{"$f":"VLOOKUP($C47,'Test 15'!$A$12:$Q$51,2,FALSE)","v":""},{"$f":"VLOOKUP($C47,'Test 15'!$A$12:$Q$51,7,FALSE)","v":""},{"$f":"VLOOKUP($C47,'Test 15'!$A$12:$Q$51,3,FALSE)","v":""},{"$f":"VLOOKUP($C47,'Test 15'!$A$12:$Q$51,4,FALSE)","v":""},{"$f":"VLOOKUP($C47,'Test 15'!$A$12:$Q$51,5,FALSE)","v":"senior"},{"$f":"VLOOKUP($C47,'Test 15'!$A$12:$Q$51,13,FALSE)","v":"00:00:10"},{"$f":"VLOOKUP($C47,'Test 15'!$A$12:$Q$51,16,FALSE)","v":"00:16:12.230"}]
[{"$f":"IF(Pivots!FG39=\"(Blank)\",\"\",Pivots!FG39)","v":0},{"$f":"VLOOKUP($C48,'Test 15'!$A$12:$Q$51,15,FALSE)","v":1},{"$f":"IF(Pivots!FH39=\"(Blank)\",\"\",Pivots!FH39)","v":35},{"$f":"VLOOKUP($C48,'Test 15'!$A$12:$Q$51,2,FALSE)","v":""},{"$f":"VLOOKUP($C48,'Test 15'!$A$12:$Q$51,7,FALSE)","v":""},{"$f":"VLOOKUP($C48,'Test 15'!$A$12:$Q$51,3,FALSE)","v":""},{"$f":"VLOOKUP($C48,'Test 15'!$A$12:$Q$51,4,FALSE)","v":""},{"$f":"VLOOKUP($C48,'Test 15'!$A$12:$Q$51,5,FALSE)","v":"senior"},{"$f":"VLOOKUP($C48,'Test 15'!$A$12:$Q$51,13,FALSE)","v":"00:00:10"},{"$f":"VLOOKUP($C48,'Test 15'!$A$12:$Q$51,16,FALSE)","v":"00:16:12.230"}]
[{"$f":"IF(Pivots!FG40=\"(Blank)\",\"\",Pivots!FG40)","v":0},{"$f":"VLOOKUP($C49,'Test 15'!$A$12:$Q$51,15,FALSE)","v":1},{"$f":"IF(Pivots!FH40=\"(Blank)\",\"\",Pivots!FH40)","v":36},{"$f":"VLOOKUP($C49,'Test 15'!$A$12:$Q$51,2,FALSE)","v":""},{"$f":"VLOOKUP($C49,'Test 15'!$A$12:$Q$51,7,FALSE)","v":""},{"$f":"VLOOKUP($C49,'Test 15'!$A$12:$Q$51,3,FALSE)","v":""},{"$f":"VLOOKUP($C49,'Test 15'!$A$12:$Q$51,4,FALSE)","v":""},{"$f":"VLOOKUP($C49,'Test 15'!$A$12:$Q$51,5,FALSE)","v":"senior"},{"$f":"VLOOKUP($C49,'Test 15'!$A$12:$Q$51,13,FALSE)","v":"00:00:10"},{"$f":"VLOOKUP($C49,'Test 15'!$A$12:$Q$51,16,FALSE)","v":"00:16:12.230"}]
[{"$f":"IF(Pivots!FG41=\"(Blank)\",\"\",Pivots!FG41)","v":0},{"$f":"VLOOKUP($C50,'Test 15'!$A$12:$Q$51,15,FALSE)","v":1},{"$f":"IF(Pivots!FH41=\"(Blank)\",\"\",Pivots!FH41)","v":37},{"$f":"VLOOKUP($C50,'Test 15'!$A$12:$Q$51,2,FALSE)","v":""},{"$f":"VLOOKUP($C50,'Test 15'!$A$12:$Q$51,7,FALSE)","v":""},{"$f":"VLOOKUP($C50,'Test 15'!$A$12:$Q$51,3,FALSE)","v":""},{"$f":"VLOOKUP($C50,'Test 15'!$A$12:$Q$51,4,FALSE)","v":""},{"$f":"VLOOKUP($C50,'Test 15'!$A$12:$Q$51,5,FALSE)","v":"senior"},{"$f":"VLOOKUP($C50,'Test 15'!$A$12:$Q$51,13,FALSE)","v":"00:00:10"},{"$f":"VLOOKUP($C50,'Test 15'!$A$12:$Q$51,16,FALSE)","v":"00:16:12.230"}]
[{"$f":"IF(Pivots!FG42=\"(Blank)\",\"\",Pivots!FG42)","v":0},{"$f":"VLOOKUP($C51,'Test 15'!$A$12:$Q$51,15,FALSE)","v":1},{"$f":"IF(Pivots!FH42=\"(Blank)\",\"\",Pivots!FH42)","v":38},{"$f":"VLOOKUP($C51,'Test 15'!$A$12:$Q$51,2,FALSE)","v":""},{"$f":"VLOOKUP($C51,'Test 15'!$A$12:$Q$51,7,FALSE)","v":""},{"$f":"VLOOKUP($C51,'Test 15'!$A$12:$Q$51,3,FALSE)","v":""},{"$f":"VLOOKUP($C51,'Test 15'!$A$12:$Q$51,4,FALSE)","v":""},{"$f":"VLOOKUP($C51,'Test 15'!$A$12:$Q$51,5,FALSE)","v":"senior"},{"$f":"VLOOKUP($C51,'Test 15'!$A$12:$Q$51,13,FALSE)","v":"00:00:10"},{"$f":"VLOOKUP($C51,'Test 15'!$A$12:$Q$51,16,FALSE)","v":"00:16:12.230"}]
[{"$f":"IF(Pivots!FG43=\"(Blank)\",\"\",Pivots!FG43)","v":0},{"$f":"VLOOKUP($C52,'Test 15'!$A$12:$Q$51,15,FALSE)","v":1},{"$f":"IF(Pivots!FH43=\"(Blank)\",\"\",Pivots!FH43)","v":39},{"$f":"VLOOKUP($C52,'Test 15'!$A$12:$Q$51,2,FALSE)","v":""},{"$f":"VLOOKUP($C52,'Test 15'!$A$12:$Q$51,7,FALSE)","v":""},{"$f":"VLOOKUP($C52,'Test 15'!$A$12:$Q$51,3,FALSE)","v":""},{"$f":"VLOOKUP($C52,'Test 15'!$A$12:$Q$51,4,FALSE)","v":""},{"$f":"VLOOKUP($C52,'Test 15'!$A$12:$Q$51,5,FALSE)","v":"senior"},{"$f":"VLOOKUP($C52,'Test 15'!$A$12:$Q$51,13,FALSE)","v":"00:00:10"},{"$f":"VLOOKUP($C52,'Test 15'!$A$12:$Q$51,16,FALSE)","v":"00:16:12.230"}]
[{"$f":"IF(Pivots!FG44=\"(Blank)\",\"\",Pivots!FG44)","v":0},{"$f":"VLOOKUP($C53,'Test 15'!$A$12:$Q$51,15,FALSE)","v":1},{"$f":"IF(Pivots!FH44=\"(Blank)\",\"\",Pivots!FH44)","v":40},{"$f":"VLOOKUP($C53,'Test 15'!$A$12:$Q$51,2,FALSE)","v":""},{"$f":"VLOOKUP($C53,'Test 15'!$A$12:$Q$51,7,FALSE)","v":""},{"$f":"VLOOKUP($C53,'Test 15'!$A$12:$Q$51,3,FALSE)","v":""},{"$f":"VLOOKUP($C53,'Test 15'!$A$12:$Q$51,4,FALSE)","v":""},{"$f":"VLOOKUP($C53,'Test 15'!$A$12:$Q$51,5,FALSE)","v":"senior"},{"$f":"VLOOKUP($C53,'Test 15'!$A$12:$Q$51,13,FALSE)","v":"00:00:10"},{"$f":"VLOOKUP($C53,'Test 15'!$A$12:$Q$51,16,FALSE)","v":"00:16:12.230"}]

{"sheet":"Test 1","index":18,"n_rows":51,"n_cols":20,"rows_kept":51,"cut":false,"hidden":false,"merged":[[0,8,0,10]]}
[]
["TEST",1,null,null,null,null,null,null,null,null,"PROVISIONAL RESULTS",null,{"$f":"NOW()","v":42690.814244444446},null,{"$f":"NOW()","v":"2016-11-16T19:32:30.720"}]
["Date:","2015-10-31",null,null,null,null,null,null,null,null,null,"Junior",{"$f":"MIN( IF( $E$8:$E$51=L3, $S$8:$S$51 ) )","v":"00:00:00"},null,"FASTEST"]
["10 sec penalty","00:00:10",null,null,null,null,null,null,null,null,null,"Junior",{"$f":"MAX( IF( $E$8:$E$51=L4, $S$8:$S$51 ) )","v":"00:00:00"},null,"SLOWEST"]
["Flag penalty","00:00:05",null,null,null,null,"SENIOR"]
[null,null,null,null,null,null,"Fastest test time x 2",null,{"$f":"M6*2","v":"00:01:39.240"},null,null,"Senior",{"$f":"MIN( IF( E11:E51=L6, J11:J51 ) )","v":"00:00:49.620"},null,"FASTEST"]
["Slowest test time + 5 second penalty",{"$f":"MIN($I$6,$I$7)+$B$5","v":"00:01:29.040"},{"$f":"MIN($I$9:$I$10)+$B$5","v":"00:00:05"},null,null,null,"Slowest test time",null,{"$f":"M7","v":"00:01:24.040"},null,null,"Senior",{"$f":"MAX( IF( E11:E51=L7, J11:J51 ) )","v":"00:01:24.040"},null,"SLOWEST"]
["Failure to Attempt Course (Slowest time + 10 sec)",{"$f":"SUM($I$7,$B$4)","v":"00:01:34.040"},{"$f":"SUM($I$10,$B$4)","v":"00:00:10"},null,null,null,"JUNIOR"]
[null,null,null,null,null,null,"Fastest test time x 2",null,{"$f":"M3*2","v":"00:00:00"}]
[null,null,null,null,null,null,"Slowest test time",null,{"$f":"M4","v":"00:00:00"}]
["Car Number","Driver","Rookie?","Female Driver?","Junior Driver?","Vehicle","Class","Senior with Passenger?","Time Taken (MM:SS.00)","Time Taken-PenaltyCalculator (MM:SS.00)","No. of Flags &/or Finishes partly out of garage","Slowest time + 5 sec penalty type","Total Test 1 Time","Total Test 1 Time for ranking","Test 1 Position","Cumulative Time Taken (MM:SS.00)","Cumulative Outright Position","Comments","Time Taken-PenaltyCalculator Junior(MM:SS.00)","Cumulative Time Taken (MM:SS.00) for ranking"]
[1,{"$f":"IF($A12=\"\",\"\",IF(VLOOKUP($A12,Competitors!$A$2:$G$60,2,FALSE)=\"\",\"\",VLOOKUP($A12,Competitors!$A$2:$G$60,2,FALSE)))","v":"Paul Dunn"},{"$f":"IF($A12=\"\",\"\",IF(VLOOKUP($A12,Competitors!$A$2:$G$60,7,FALSE)=\"\",\"\",VLOOKUP($A12,Competitors!$A$2:$G$60,7,FALSE)))","v":""},{"$f":"IF($A12=\"\",\"\",IF(VLOOKUP($A12,Competitors!$A$2:$G$60,5,FALSE)=\"\",\"\",VLOOKUP($A12,Competitors!$A$2:$G$60,5,FALSE)))","v":""},{"$f":"IF($A12=\"\",\"\",IF(VLOOKUP($A12,Competitors!$A$2:$G$60,6,FALSE)=\"\",\"\",VLOOKUP($A12,Competitors!$A$2:$G$60,6,FALSE)))","v":"senior"},{"$f":"IF($A12=\"\",\"\",IF(VLOOKUP($A12,Competitors!$A$2:$G$60,3,FALSE)=\"\",\"\",VLOOKUP($A12,Competitors!$A$2:$G$60,3,FALSE)))","v":"Excel"},{"$f":"IF($A12=\"\",\"\",IF(VLOOKUP($A12,Competitors!$A$2:$G$60,4,FALSE)=\"\",\"\",VLOOKUP($A12,Competitors!$A$2:$G$60,4,FALSE)))","v":""},{"$f":"IF(VLOOKUP(A12,Competitors!$A$1:$H$41,8,FALSE)=\"\",\"\",VLOOKUP(A12,Competitors!$A$1:$H$41,8,FALSE))","v":""},{"$f":"IF(IFERROR(VLOOKUP(($B$2&\"_\"&$A12),'Time Entry Sheet'!$A$3:$I$499,9,0),\"Error\")=\"Error\",\"\",IF(VLOOKUP(($B$2&\"_\"&$A12),'Time Entry Sheet'!$A$3:$I$499,9,FALSE)=\"wd\",\"wd\",VLOOKUP(($B$2&\"_\"&$A12),'Time Entry Sheet'!$A$3:$I$499,9,FALSE)*1))","v":"00:00:50.780"},{"$f":"IF(E12=\"Junior\",\"\",IF(I12=\"wd\",\"\",IF(K12<>\"\",\"\",I12)))","v":"00:00:50.780"},{"$f":"IF(IFERROR(VLOOKUP(($B$2&\"_\"&$A12),'Time Entry Sheet'!$A$3:$I$499,8,FALSE),\"Error\")=\"Error\",\"\",IF(VLOOKUP(($B$2&\"_\"&$A12),'Time Entry Sheet'!$A$3:$I$499,8,FALSE)=\"\",\"\",VLOOKUP(($B$2&\"_\"&$A12),'Time Entry Sheet'!$A$3:$I$499,8,FALSE)))","v":""},{"$f":"IF(IFERROR(VLOOKUP(($B$2&\"_\"&$A12),'Time Entry Sheet'!$A$3:$I$499,7,FALSE),\"Error\")=\"Error\",\"\",IF(VLOOKUP(($B$2&\"_\"&$A12),'Time Entry Sheet'!$A$3:$I$499,7,FALSE)=\"\",\"\",VLOOKUP(($B$2&\"_\"&$A12),'Time Entry Sheet'!$A$3:$I$499,7,FALSE)))","v":""},{"$f":"IF(A12=\"\",\"\",IF(I12=\"wd\",IF(E12=\"Senior\",$B$7,$C$7),IF(L12<>\"\",$B$7,IF(I12=\"\",IF(E12=\"Senior\",$B$8,$C$8),IF(K12=\"\",I12,I12+($B$5*K12))))))","v":"00:00:50.780"},{"$f":"IF(H12=\"Passenger\",\"\",M12)","v":"00:00:50.780"},{"$f":"IF(A12=\"\",\"\",IF(H12=\"Passenger\",\"P\",RANK(N12,$N$12:$N$51,1)))","v":2},{"$f":"M12","v":"00:00:50.780"},{"$f":"IF(A12=\"\",\"\",IF(H12=\"Passenger\",\"P\",RANK(T12,$T$12:$T$51,1)))","v":2},null,{"$f":"IF(E12=\"Senior\",\"\",IF(I12=\"wd\",\"\",IF(K12<>\"\",\"\",I12)))","v":""},{"$f":"IF(H12=\"Passenger\",\"\",P12)","v":"00:00:50.780"}]
[2,{"$f":"IF($A13=\"\",\"\",IF(VLOOKUP($A13,Competitors!$A$2:$G$60,2,FALSE)=\"\",\"\",VLOOKUP($A13,Competitors!$A$2:$G$60,2,FALSE)))","v":"Stephen Thorne"},{"$f":"IF($A13=\"\",\"\",IF(VLOOKUP($A13,Competitors!$A$2:$G$60,7,FALSE)=\"\",\"\",VLOOKUP($A13,Competitors!$A$2:$G$60,7,FALSE)))","v":""},{"$f":"IF($A13=\"\",\"\",IF(VLOOKUP($A13,Competitors!$A$2:$G$60,5,FALSE)=\"\",\"\",VLOOKUP($A13,Competitors!$A$2:$G$60,5,FALSE)))","v":""},{"$f":"IF($A13=\"\",\"\",IF(VLOOKUP($A13,Competitors!$A$2:$G$60,6,FALSE)=\"\",\"\",VLOOKUP($A13,Competitors!$A$2:$G$60,6,FALSE)))","v":"senior"},{"$f":"IF($A13=\"\",\"\",IF(VLOOKUP($A13,Competitors!$A$2:$G$60,3,FALSE)=\"\",\"\",VLOOKUP($A13,Competitors!$A$2:$G$60,3,FALSE)))","v":""},{"$f":"IF($A13=\"\",\"\",IF(VLOOKUP($A13,Competitors!$A$2:$G$60,4,FALSE)=\"\",\"\",VLOOKUP($A13,Competitors!$A$2:$G$60,4,FALSE)))","v":""},{"$f":"IF(VLOOKUP(A13,Competitors!$A$1:$H$41,8,FALSE)=\"\",\"\",VLOOKUP(A13,Competitors!$A$1:$H$41,8,FALSE))","v":""},{"$f":"IF(IFERROR(VLOOKUP(($B$2&\"_\"&$A13),'Time Entry Sheet'!$A$3:$I$499,9,0),\"Error\")=\"Error\",\"\",IF(VLOOKUP(($B$2&\"_\"&$A13),'Time Entry Sheet'!$A$3:$I$499,9,FALSE)=\"wd\",\"wd\",VLOOKUP(($B$2&\"_\"&$A13),'Time Entry Sheet'!$A$3:$I$499,9,FALSE)*1))","v":"00:00:49.830"},{"$f":"IF(E13=\"Junior\",\"\",IF(I13=\"wd\",\"\",IF(K13<>\"\",\"\",I13)))","v":""},{"$f":"IF(IFERROR(VLOOKUP(($B$2&\"_\"&$A13),'Time Entry Sheet'!$A$3:$I$499,8,FALSE),\"Error\")=\"Error\",\"\",IF(VLOOKUP(($B$2&\"_\"&$A13),'Time Entry Sheet'!$A$3:$I$499,8,FALSE)=\"\",\"\",VLOOKUP(($B$2&\"_\"&$A13),'Time Entry Sheet'!$A$3:$I$499,8,FALSE)))","v":1},{"$f":"IF(IFERROR(VLOOKUP(($B$2&\"_\"&$A13),'Time Entry Sheet'!$A$3:$I$499,7,FALSE),\"Error\")=\"Error\",\"\",IF(VLOOKUP(($B$2&\"_\"&$A13),'Time Entry Sheet'!$A$3:$I$499,7,FALSE)=\"\",\"\",VLOOKUP(($B$2&\"_\"&$A13),'Time Entry Sheet'!$A$3:$I$499,7,FALSE)))","v":""},"00:00:54.830",{"$f":"IF(H13=\"Passenger\",\"\",M13)","v":"00:00:54.830"},{"$f":"IF(A13=\"\",\"\",IF(H13=\"Passenger\",\"P\",RANK(N13,$N$12:$N$51,1)))","v":7},{"$f":"M13","v":"00:00:54.830"},{"$f":"IF(A13=\"\",\"\",IF(H13=\"Passenger\",\"P\",RANK(T13,$T$12:$T$51,1)))","v":7},null,{"$f":"IF(E13=\"Senior\",\"\",IF(I13=\"wd\",\"\",IF(K13<>\"\",\"\",I13)))","v":""},{"$f":"IF(H13=\"Passenger\",\"\",P13)","v":"00:00:54.830"}]
[3,{"$f":"IF($A14=\"\",\"\",IF(VLOOKUP($A14,Competitors!$A$2:$G$60,2,FALSE)=\"\",\"\",VLOOKUP($A14,Competitors!$A$2:$G$60,2,FALSE)))","v":"David Ballard"},{"$f":"IF($A14=\"\",\"\",IF(VLOOKUP($A14,Competitors!$A$2:$G$60,7,FALSE)=\"\",\"\",VLOOKUP($A14,Competitors!$A$2:$G$60,7,FALSE)))","v":""},{"$f":"IF($A14=\"\",\"\",IF(VLOOKUP($A14,Competitors!$A$2:$G$60,5,FALSE)=\"\",\"\",VLOOKUP($A14,Competitors!$A$2:$G$60,5,FALSE)))","v":""},{"$f":"IF($A14=\"\",\"\",IF(VLOOKUP($A14,Competitors!$A$2:$G$60,6,FALSE)=\"\",\"\",VLOOKUP($A14,Competitors!$A$2:$G$60,6,FALSE)))","v":"senior"},{"$f":"IF($A14=\"\",\"\",IF(VLOOKUP($A14,Competitors!$A$2:$G$60,3,FALSE)=\"\",\"\",VLOOKUP($A14,Competitors!$A$2:$G$60,3,FALSE)))","v":""},{"$f":"IF($A14=\"\",\"\",IF(VLOOKUP($A14,Competitors!$A$2:$G$60,4,FALSE)=\"\",\"\",VLOOKUP($A14,Competitors!$A$2:$G$60,4,FALSE)))","v":""},{"$f":"IF(VLOOKUP(A14,Competitors!$A$1:$H$41,8,FALSE)=\"\",\"\",VLOOKUP(A14,Competitors!$A$1:$H$41,8,FALSE))","v":""},{"$f":"IF(IFERROR(VLOOKUP(($B$2&\"_\"&$A14),'Time Entry Sheet'!$A$3:$I$499,9,0),\"Error\")=\"Error\",\"\",IF(VLOOKUP(($B$2&\"_\"&$A14),'Time Entry Sheet'!$A$3:$I$499,9,FALSE)=\"wd\",\"wd\",VLOOKUP(($B$2&\"_\"&$A14),'Time Entry Sheet'!$A$3:$I$499,9,FALSE)*1))","v":"00:00:53.840"},"00:00:53.840",{"$f":"IF(IFERROR(VLOOKUP(($B$2&\"_\"&$A14),'Time Entry Sheet'!$A$3:$I$499,8,FALSE),\"Error\")=\"Error\",\"\",IF(VLOOKUP(($B$2&\"_\"&$A14),'Time Entry Sheet'!$A$3:$I$499,8,FALSE)=\"\",\"\",VLOOKUP(($B$2&\"_\"&$A14),'Time Entry Sheet'!$A$3:$I$499,8,FALSE)))","v":""},{"$f":"IF(IFERROR(VLOOKUP(($B$2&\"_\"&$A14),'Time Entry Sheet'!$A$3:$I$499,7,FALSE),\"Error\")=\"Error\",\"\",IF(VLOOKUP(($B$2&\"_\"&$A14),'Time Entry Sheet'!$A$3:$I$499,7,FALSE)=\"\",\"\",VLOOKUP(($B$2&\"_\"&$A14),'Time Entry Sheet'!$A$3:$I$499,7,FALSE)))","v":""},"00:00:53.840","00:00:53.840",5,"00:00:53.840",5,null,"","00:00:53.840"]
[4,{"$f":"IF($A15=\"\",\"\",IF(VLOOKUP($A15,Competitors!$A$2:$G$60,2,FALSE)=\"\",\"\",VLOOKUP($A15,Competitors!$A$2:$G$60,2,FALSE)))","v":"Michaela Ballard"},{"$f":"IF($A15=\"\",\"\",IF(VLOOKUP($A15,Competitors!$A$2:$G$60,7,FALSE)=\"\",\"\",VLOOKUP($A15,Competitors!$A$2:$G$60,7,FALSE)))","v":"rookie"},{"$f":"IF($A15=\"\",\"\",IF(VLOOKUP($A15,Competitors!$A$2:$G$60,5,FALSE)=\"\",\"\",VLOOKUP($A15,Competitors!$A$2:$G$60,5,FALSE)))","v":"female"},{"$f":"IF($A15=\"\",\"\",IF(VLOOKUP($A15,Competitors!$A$2:$G$60,6,FALSE)=\"\",\"\",VLOOKUP($A15,Competitors!$A$2:$G$60,6,FALSE)))","v":"senior"},{"$f":"IF($A15=\"\",\"\",IF(VLOOKUP($A15,Competitors!$A$2:$G$60,3,FALSE)=\"\",\"\",VLOOKUP($A15,Competitors!$A$2:$G$60,3,FALSE)))","v":""},{"$f":"IF($A15=\"\",\"\",IF(VLOOKUP($A15,Competitors!$A$2:$G$60,4,FALSE)=\"\",\"\",VLOOKUP($A15,Competitors!$A$2:$G$60,4,FALSE)))","v":""},{"$f":"IF(VLOOKUP(A15,Competitors!$A$1:$H$41,8,FALSE)=\"\",\"\",VLOOKUP(A15,Competitors!$A$1:$H$41,8,FALSE))","v":""},{"$f":"IF(IFERROR(VLOOKUP(($B$2&\"_\"&$A15),'Time Entry Sheet'!$A$3:$I$499,9,0),\"Error\")=\"Error\",\"\",IF(VLOOKUP(($B$2&\"_\"&$A15),'Time Entry Sheet'!$A$3:$I$499,9,FALSE)=\"wd\",\"wd\",VLOOKUP(($B$2&\"_\"&$A15),'Time Entry Sheet'!$A$3:$I$499,9,FALSE)*1))","v":"00:01:10.900"},"00:01:10.900",{"$f":"IF(IFERROR(VLOOKUP(($B$2&\"_\"&$A15),'Time Entry Sheet'!$A$3:$I$499,8,FALSE),\"Error\")=\"Error\",\"\",IF(VLOOKUP(($B$2&\"_\"&$A15),'Time Entry Sheet'!$A$3:$I$499,8,FALSE)=\"\",\"\",VLOOKUP(($B$2&\"_\"&$A15),'Time Entry Sheet'!$A$3:$I$499,8,FALSE)))","v":""},{"$f":"IF(IFERROR(VLOOKUP(($B$2&\"_\"&$A15),'Time Entry Sheet'!$A$3:$I$499,7,FALSE),\"Error\")=\"Error\",\"\",IF(VLOOKUP(($B$2&\"_\"&$A15),'Time Entry Sheet'!$A$3:$I$499,7,FALSE)=\"\",\"\",VLOOKUP(($B$2&\"_\"&$A15),'Time Entry Sheet'!$A$3:$I$499,7,FALSE)))","v":""},"00:01:10.900","00:01:10.900",18,"00:01:10.900",18,null,"","00:01:10.900"]
[5,{"$f":"IF($A16=\"\",\"\",IF(VLOOKUP($A16,Competitors!$A$2:$G$60,2,FALSE)=\"\",\"\",VLOOKUP($A16,Competitors!$A$2:$G$60,2,FALSE)))","v":"Janelle Ballard"},{"$f":"IF($A16=\"\",\"\",IF(VLOOKUP($A16,Competitors!$A$2:$G$60,7,FALSE)=\"\",\"\",VLOOKUP($A16,Competitors!$A$2:$G$60,7,FALSE)))","v":""},{"$f":"IF($A16=\"\",\"\",IF(VLOOKUP($A16,Competitors!$A$2:$G$60,5,FALSE)=\"\",\"\",VLOOKUP($A16,Competitors!$A$2:$G$60,5,FALSE)))","v":"female"},{"$f":"IF($A16=\"\",\"\",IF(VLOOKUP($A16,Competitors!$A$2:$G$60,6,FALSE)=\"\",\"\",VLOOKUP($A16,Competitors!$A$2:$G$60,6,FALSE)))","v":"senior"},{"$f":"IF($A16=\"\",\"\",IF(VLOOKUP($A16,Competitors!$A$2:$G$60,3,FALSE)=\"\",\"\",VLOOKUP($A16,Competitors!$A$2:$G$60,3,FALSE)))","v":""},{"$f":"IF($A16=\"\",\"\",IF(VLOOKUP($A16,Competitors!$A$2:$G$60,4,FALSE)=\"\",\"\",VLOOKUP($A16,Competitors!$A$2:$G$60,4,FALSE)))","v":""},{"$f":"IF(VLOOKUP(A16,Competitors!$A$1:$H$41,8,FALSE)=\"\",\"\",VLOOKUP(A16,Competitors!$A$1:$H$41,8,FALSE))","v":""},{"$f":"IF(IFERROR(VLOOKUP(($B$2&\"_\"&$A16),'Time Entry Sheet'!$A$3:$I$499,9,0),\"Error\")=\"Error\",\"\",IF(VLOOKUP(($B$2&\"_\"&$A16),'Time Entry Sheet'!$A$3:$I$499,9,FALSE)=\"wd\",\"wd\",VLOOKUP(($B$2&\"_\"&$A16),'Time Entry Sheet'!$A$3:$I$499,9,FALSE)*1))","v":"00:00:59.300"},"00:00:59.300",{"$f":"IF(IFERROR(VLOOKUP(($B$2&\"_\"&$A16),'Time Entry Sheet'!$A$3:$I$499,8,FALSE),\"Error\")=\"Error\",\"\",IF(VLOOKUP(($B$2&\"_\"&$A16),'Time Entry Sheet'!$A$3:$I$499,8,FALSE)=\"\",\"\",VLOOKUP(($B$2&\"_\"&$A16),'Time Entry Sheet'!$A$3:$I$499,8,FALSE)))","v":""},{"$f":"IF(IFERROR(VLOOKUP(($B$2&\"_\"&$A16),'Time Entry Sheet'!$A$3:$I$499,7,FALSE),\"Error\")=\"Error\",\"\",IF(VLOOKUP(($B$2&\"_\"&$A16),'Time Entry Sheet'!$A$3:$I$499,7,FALSE)=\"\",\"\",VLOOKUP(($B$2&\"_\"&$A16),'Time Entry Sheet'!$A$3:$I$499,7,FALSE)))","v":""},"00:00:59.300","00:00:59.300",14,"00:00:59.300",14,null,"","00:00:59.300"]
[6,{"$f":"IF($A17=\"\",\"\",IF(VLOOKUP($A17,Competitors!$A$2:$G$60,2,FALSE)=\"\",\"\",VLOOKUP($A17,Competitors!$A$2:$G$60,2,FALSE)))","v":"Issac Wishart"},{"$f":"IF($A17=\"\",\"\",IF(VLOOKUP($A17,Competitors!$A$2:$G$60,7,FALSE)=\"\",\"\",VLOOKUP($A17,Competitors!$A$2:$G$60,7,FALSE)))","v":"rookie"},{"$f":"IF($A17=\"\",\"\",IF(VLOOKUP($A17,Competitors!$A$2:$G$60,5,FALSE)=\"\",\"\",VLOOKUP($A17,Competitors!$A$2:$G$60,5,FALSE)))","v":""},{"$f":"IF($A17=\"\",\"\",IF(VLOOKUP($A17,Competitors!$A$2:$G$60,6,FALSE)=\"\",\"\",VLOOKUP($A17,Competitors!$A$2:$G$60,6,FALSE)))","v":"senior"},{"$f":"IF($A17=\"\",\"\",IF(VLOOKUP($A17,Competitors!$A$2:$G$60,3,FALSE)=\"\",\"\",VLOOKUP($A17,Competitors!$A$2:$G$60,3,FALSE)))","v":""},{"$f":"IF($A17=\"\",\"\",IF(VLOOKUP($A17,Competitors!$A$2:$G$60,4,FALSE)=\"\",\"\",VLOOKUP($A17,Competitors!$A$2:$G$60,4,FALSE)))","v":""},{"$f":"IF(VLOOKUP(A17,Competitors!$A$1:$H$41,8,FALSE)=\"\",\"\",VLOOKUP(A17,Competitors!$A$1:$H$41,8,FALSE))","v":""},{"$f":"IF(IFERROR(VLOOKUP(($B$2&\"_\"&$A17),'Time Entry Sheet'!$A$3:$I$499,9,0),\"Error\")=\"Error\",\"\",IF(VLOOKUP(($B$2&\"_\"&$A17),'Time Entry Sheet'!$A$3:$I$499,9,FALSE)=\"wd\",\"wd\",VLOOKUP(($B$2&\"_\"&$A17),'Time Entry Sheet'!$A$3:$I$499,9,FALSE)*1))","v":"00:01:03.650"},"00:01:03.650",{"$f":"IF(IFERROR(VLOOKUP(($B$2&\"_\"&$A17),'Time Entry Sheet'!$A$3:$I$499,8,FALSE),\"Error\")=\"Error\",\"\",IF(VLOOKUP(($B$2&\"_\"&$A17),'Time Entry Sheet'!$A$3:$I$499,8,FALSE)=\"\",\"\",VLOOKUP(($B$2&\"_\"&$A17),'Time Entry Sheet'!$A$3:$I$499,8,FALSE)))","v":""},{"$f":"IF(IFERROR(VLOOKUP(($B$2&\"_\"&$A17),'Time Entry Sheet'!$A$3:$I$499,7,FALSE),\"Error\")=\"Error\",\"\",IF(VLOOKUP(($B$2&\"_\"&$A17),'Time Entry Sheet'!$A$3:$I$499,7,FALSE)=\"\",\"\",VLOOKUP(($B$2&\"_\"&$A17),'Time Entry Sheet'!$A$3:$I$499,7,FALSE)))","v":""},"00:01:03.650","00:01:03.650",15,"00:01:03.650",15,null,"","00:01:03.650"]
[7,{"$f":"IF($A18=\"\",\"\",IF(VLOOKUP($A18,Competitors!$A$2:$G$60,2,FALSE)=\"\",\"\",VLOOKUP($A18,Competitors!$A$2:$G$60,2,FALSE)))","v":""},{"$f":"IF($A18=\"\",\"\",IF(VLOOKUP($A18,Competitors!$A$2:$G$60,7,FALSE)=\"\",\"\",VLOOKUP($A18,Competitors!$A$2:$G$60,7,FALSE)))","v":""},{"$f":"IF($A18=\"\",\"\",IF(VLOOKUP($A18,Competitors!$A$2:$G$60,5,FALSE)=\"\",\"\",VLOOKUP($A18,Competitors!$A$2:$G$60,5,FALSE)))","v":""},{"$f":"IF($A18=\"\",\"\",IF(VLOOKUP($A18,Competitors!$A$2:$G$60,6,FALSE)=\"\",\"\",VLOOKUP($A18,Competitors!$A$2:$G$60,6,FALSE)))","v":"senior"},{"$f":"IF($A18=\"\",\"\",IF(VLOOKUP($A18,Competitors!$A$2:$G$60,3,FALSE)=\"\",\"\",VLOOKUP($A18,Competitors!$A$2:$G$60,3,FALSE)))","v":""},{"$f":"IF($A18=\"\",\"\",IF(VLOOKUP($A18,Competitors!$A$2:$G$60,4,FALSE)=\"\",\"\",VLOOKUP($A18,Competitors!$A$2:$G$60,4,FALSE)))","v":""},{"$f":"IF(VLOOKUP(A18,Competitors!$A$1:$H$41,8,FALSE)=\"\",\"\",VLOOKUP(A18,Competitors!$A$1:$H$41,8,FALSE))","v":""},{"$f":"IF(IFERROR(VLOOKUP(($B$2&\"_\"&$A18),'Time Entry Sheet'!$A$3:$I$499,9,0),\"Error\")=\"Error\",\"\",IF(VLOOKUP(($B$2&\"_\"&$A18),'Time Entry Sheet'!$A$3:$I$499,9,FALSE)=\"wd\",\"wd\",VLOOKUP(($B$2&\"_\"&$A18),'Time Entry Sheet'!$A$3:$I$499,9,FALSE)*1))","v":""},"",{"$f":"IF(IFERROR(VLOOKUP(($B$2&\"_\"&$A18),'Time Entry Sheet'!$A$3:$I$499,8,FALSE),\"Error\")=\"Error\",\"\",IF(VLOOKUP(($B$2&\"_\"&$A18),'Time Entry Sheet'!$A$3:$I$499,8,FALSE)=\"\",\"\",VLOOKUP(($B$2&\"_\"&$A18),'Time Entry Sheet'!$A$3:$I$499,8,FALSE)))","v":""},{"$f":"IF(IFERROR(VLOOKUP(($B$2&\"_\"&$A18),'Time Entry Sheet'!$A$3:$I$499,7,FALSE),\"Error\")=\"Error\",\"\",IF(VLOOKUP(($B$2&\"_\"&$A18),'Time Entry Sheet'!$A$3:$I$499,7,FALSE)=\"\",\"\",VLOOKUP(($B$2&\"_\"&$A18),'Time Entry Sheet'!$A$3:$I$499,7,FALSE)))","v":""},"00:01:34.040","00:01:34.040",20,"00:01:34.040",20,null,"","00:01:34.040"]
[8,{"$f":"IF($A19=\"\",\"\",IF(VLOOKUP($A19,Competitors!$A$2:$G$60,2,FALSE)=\"\",\"\",VLOOKUP($A19,Competitors!$A$2:$G$60,2,FALSE)))","v":"Jim Taylor"},{"$f":"IF($A19=\"\",\"\",IF(VLOOKUP($A19,Competitors!$A$2:$G$60,7,FALSE)=\"\",\"\",VLOOKUP($A19,Competitors!$A$2:$G$60,7,FALSE)))","v":""},{"$f":"IF($A19=\"\",\"\",IF(VLOOKUP($A19,Competitors!$A$2:$G$60,5,FALSE)=\"\",\"\",VLOOKUP($A19,Competitors!$A$2:$G$60,5,FALSE)))","v":""},{"$f":"IF($A19=\"\",\"\",IF(VLOOKUP($A19,Competitors!$A$2:$G$60,6,FALSE)=\"\",\"\",VLOOKUP($A19,Competitors!$A$2:$G$60,6,FALSE)))","v":"senior"},{"$f":"IF($A19=\"\",\"\",IF(VLOOKUP($A19,Competitors!$A$2:$G$60,3,FALSE)=\"\",\"\",VLOOKUP($A19,Competitors!$A$2:$G$60,3,FALSE)))","v":""},{"$f":"IF($A19=\"\",\"\",IF(VLOOKUP($A19,Competitors!$A$2:$G$60,4,FALSE)=\"\",\"\",VLOOKUP($A19,Competitors!$A$2:$G$60,4,FALSE)))","v":""},{"$f":"IF(VLOOKUP(A19,Competitors!$A$1:$H$41,8,FALSE)=\"\",\"\",VLOOKUP(A19,Competitors!$A$1:$H$41,8,FALSE))","v":""},{"$f":"IF(IFERROR(VLOOKUP(($B$2&\"_\"&$A19),'Time Entry Sheet'!$A$3:$I$499,9,0),\"Error\")=\"Error\",\"\",IF(VLOOKUP(($B$2&\"_\"&$A19),'Time Entry Sheet'!$A$3:$I$499,9,FALSE)=\"wd\",\"wd\",VLOOKUP(($B$2&\"_\"&$A19),'Time Entry Sheet'!$A$3:$I$499,9,FALSE)*1))","v":"00:01:03.680"},"00:01:03.680",{"$f":"IF(IFERROR(VLOOKUP(($B$2&\"_\"&$A19),'Time Entry Sheet'!$A$3:$I$499,8,FALSE),\"Error\")=\"Error\",\"\",IF(VLOOKUP(($B$2&\"_\"&$A19),'Time Entry Sheet'!$A$3:$I$499,8,FALSE)=\"\",\"\",VLOOKUP(($B$2&\"_\"&$A19),'Time Entry Sheet'!$A$3:$I$499,8,FALSE)))","v":""},{"$f":"IF(IFERROR(VLOOKUP(($B$2&\"_\"&$A19),'Time Entry Sheet'!$A$3:$I$499,7,FALSE),\"Error\")=\"Error\",\"\",IF(VLOOKUP(($B$2&\"_\"&$A19),'Time Entry Sheet'!$A$3:$I$499,7,FALSE)=\"\",\"\",VLOOKUP(($B$2&\"_\"&$A19),'Time Entry Sheet'!$A$3:$I$499,7,FALSE)))","v":""},"00:01:03.680","00:01:03.680",16,"00:01:03.680",16,null,"","00:01:03.680"]
[9,{"$f":"IF($A20=\"\",\"\",IF(VLOOKUP($A20,Competitors!$A$2:$G$60,2,FALSE)=\"\",\"\",VLOOKUP($A20,Competitors!$A$2:$G$60,2,FALSE)))","v":"Brad Firman"},{"$f":"IF($A20=\"\",\"\",IF(VLOOKUP($A20,Competitors!$A$2:$G$60,7,FALSE)=\"\",\"\",VLOOKUP($A20,Competitors!$A$2:$G$60,7,FALSE)))","v":""},{"$f":"IF($A20=\"\",\"\",IF(VLOOKUP($A20,Competitors!$A$2:$G$60,5,FALSE)=\"\",\"\",VLOOKUP($A20,Competitors!$A$2:$G$60,5,FALSE)))","v":""},{"$f":"IF($A20=\"\",\"\",IF(VLOOKUP($A20,Competitors!$A$2:$G$60,6,FALSE)=\"\",\"\",VLOOKUP($A20,Competitors!$A$2:$G$60,6,FALSE)))","v":"senior"},{"$f":"IF($A20=\"\",\"\",IF(VLOOKUP($A20,Competitors!$A$2:$G$60,3,FALSE)=\"\",\"\",VLOOKUP($A20,Competitors!$A$2:$G$60,3,FALSE)))","v":""},{"$f":"IF($A20=\"\",\"\",IF(VLOOKUP($A20,Competitors!$A$2:$G$60,4,FALSE)=\"\",\"\",VLOOKUP($A20,Competitors!$A$2:$G$60,4,FALSE)))","v":""},{"$f":"IF(VLOOKUP(A20,Competitors!$A$1:$H$41,8,FALSE)=\"\",\"\",VLOOKUP(A20,Competitors!$A$1:$H$41,8,FALSE))","v":""},{"$f":"IF(IFERROR(VLOOKUP(($B$2&\"_\"&$A20),'Time Entry Sheet'!$A$3:$I$499,9,0),\"Error\")=\"Error\",\"\",IF(VLOOKUP(($B$2&\"_\"&$A20),'Time Entry Sheet'!$A$3:$I$499,9,FALSE)=\"wd\",\"wd\",VLOOKUP(($B$2&\"_\"&$A20),'Time Entry Sheet'!$A$3:$I$499,9,FALSE)*1))","v":"00:00:54.440"},"00:00:54.440",{"$f":"IF(IFERROR(VLOOKUP(($B$2&\"_\"&$A20),'Time Entry Sheet'!$A$3:$I$499,8,FALSE),\"Error\")=\"Error\",\"\",IF(VLOOKUP(($B$2&\"_\"&$A20),'Time Entry Sheet'!$A$3:$I$499,8,FALSE)=\"\",\"\",VLOOKUP(($B$2&\"_\"&$A20),'Time Entry Sheet'!$A$3:$I$499,8,FALSE)))","v":""},{"$f":"IF(IFERROR(VLOOKUP(($B$2&\"_\"&$A20),'Time Entry Sheet'!$A$3:$I$499,7,FALSE),\"Error\")=\"Error\",\"\",IF(VLOOKUP(($B$2&\"_\"&$A20),'Time Entry Sheet'!$A$3:$I$499,7,FALSE)=\"\",\"\",VLOOKUP(($B$2&\"_\"&$A20),'Time Entry Sheet'!$A$3:$I$499,7,FALSE)))","v":""},"00:00:54.440","00:00:54.440",6,"00:00:54.440",6,null,"","00:00:54.440"]
[10,{"$f":"IF($A21=\"\",\"\",IF(VLOOKUP($A21,Competitors!$A$2:$G$60,2,FALSE)=\"\",\"\",VLOOKUP($A21,Competitors!$A$2:$G$60,2,FALSE)))","v":"Scott Taylor"},{"$f":"IF($A21=\"\",\"\",IF(VLOOKUP($A21,Competitors!$A$2:$G$60,7,FALSE)=\"\",\"\",VLOOKUP($A21,Competitors!$A$2:$G$60,7,FALSE)))","v":""},{"$f":"IF($A21=\"\",\"\",IF(VLOOKUP($A21,Competitors!$A$2:$G$60,5,FALSE)=\"\",\"\",VLOOKUP($A21,Competitors!$A$2:$G$60,5,FALSE)))","v":""},{"$f":"IF($A21=\"\",\"\",IF(VLOOKUP($A21,Competitors!$A$2:$G$60,6,FALSE)=\"\",\"\",VLOOKUP($A21,Competitors!$A$2:$G$60,6,FALSE)))","v":"senior"},{"$f":"IF($A21=\"\",\"\",IF(VLOOKUP($A21,Competitors!$A$2:$G$60,3,FALSE)=\"\",\"\",VLOOKUP($A21,Competitors!$A$2:$G$60,3,FALSE)))","v":""},{"$f":"IF($A21=\"\",\"\",IF(VLOOKUP($A21,Competitors!$A$2:$G$60,4,FALSE)=\"\",\"\",VLOOKUP($A21,Competitors!$A$2:$G$60,4,FALSE)))","v":""},{"$f":"IF(VLOOKUP(A21,Competitors!$A$1:$H$41,8,FALSE)=\"\",\"\",VLOOKUP(A21,Competitors!$A$1:$H$41,8,FALSE))","v":""},{"$f":"IF(IFERROR(VLOOKUP(($B$2&\"_\"&$A21),'Time Entry Sheet'!$A$3:$I$499,9,0),\"Error\")=\"Error\",\"\",IF(VLOOKUP(($B$2&\"_\"&$A21),'Time Entry Sheet'!$A$3:$I$499,9,FALSE)=\"wd\",\"wd\",VLOOKUP(($B$2&\"_\"&$A21),'Time Entry Sheet'!$A$3:$I$499,9,FALSE)*1))","v":"00:00:57.140"},"00:00:57.140",{"$f":"IF(IFERROR(VLOOKUP(($B$2&\"_\"&$A21),'Time Entry Sheet'!$A$3:$I$499,8,FALSE),\"Error\")=\"Error\",\"\",IF(VLOOKUP(($B$2&\"_\"&$A21),'Time Entry Sheet'!$A$3:$I$499,8,FALSE)=\"\",\"\",VLOOKUP(($B$2&\"_\"&$A21),'Time Entry Sheet'!$A$3:$I$499,8,FALSE)))","v":""},{"$f":"IF(IFERROR(VLOOKUP(($B$2&\"_\"&$A21),'Time Entry Sheet'!$A$3:$I$499,7,FALSE),\"Error\")=\"Error\",\"\",IF(VLOOKUP(($B$2&\"_\"&$A21),'Time Entry Sheet'!$A$3:$I$499,7,FALSE)=\"\",\"\",VLOOKUP(($B$2&\"_\"&$A21),'Time Entry Sheet'!$A$3:$I$499,7,FALSE)))","v":""},"00:00:57.140","00:00:57.140",11,"00:00:57.140",11,null,"","00:00:57.140"]
[11,{"$f":"IF($A22=\"\",\"\",IF(VLOOKUP($A22,Competitors!$A$2:$G$60,2,FALSE)=\"\",\"\",VLOOKUP($A22,Competitors!$A$2:$G$60,2,FALSE)))","v":"Russel McKinley"},{"$f":"IF($A22=\"\",\"\",IF(VLOOKUP($A22,Competitors!$A$2:$G$60,7,FALSE)=\"\",\"\",VLOOKUP($A22,Competitors!$A$2:$G$60,7,FALSE)))","v":""},{"$f":"IF($A22=\"\",\"\",IF(VLOOKUP($A22,Competitors!$A$2:$G$60,5,FALSE)=\"\",\"\",VLOOKUP($A22,Competitors!$A$2:$G$60,5,FALSE)))","v":""},{"$f":"IF($A22=\"\",\"\",IF(VLOOKUP($A22,Competitors!$A$2:$G$60,6,FALSE)=\"\",\"\",VLOOKUP($A22,Competitors!$A$2:$G$60,6,FALSE)))","v":"senior"},{"$f":"IF($A22=\"\",\"\",IF(VLOOKUP($A22,Competitors!$A$2:$G$60,3,FALSE)=\"\",\"\",VLOOKUP($A22,Competitors!$A$2:$G$60,3,FALSE)))","v":""},{"$f":"IF($A22=\"\",\"\",IF(VLOOKUP($A22,Competitors!$A$2:$G$60,4,FALSE)=\"\",\"\",VLOOKUP($A22,Competitors!$A$2:$G$60,4,FALSE)))","v":""},{"$f":"IF(VLOOKUP(A22,Competitors!$A$1:$H$41,8,FALSE)=\"\",\"\",VLOOKUP(A22,Competitors!$A$1:$H$41,8,FALSE))","v":""},{"$f":"IF(IFERROR(VLOOKUP(($B$2&\"_\"&$A22),'Time Entry Sheet'!$A$3:$I$499,9,0),\"Error\")=\"Error\",\"\",IF(VLOOKUP(($B$2&\"_\"&$A22),'Time Entry Sheet'!$A$3:$I$499,9,FALSE)=\"wd\",\"wd\",VLOOKUP(($B$2&\"_\"&$A22),'Time Entry Sheet'!$A$3:$I$499,9,FALSE)*1))","v":"00:00:53.950"},"",{"$f":"IF(IFERROR(VLOOKUP(($B$2&\"_\"&$A22),'Time Entry Sheet'!$A$3:$I$499,8,FALSE),\"Error\")=\"Error\",\"\",IF(VLOOKUP(($B$2&\"_\"&$A22),'Time Entry Sheet'!$A$3:$I$499,8,FALSE)=\"\",\"\",VLOOKUP(($B$2&\"_\"&$A22),'Time Entry Sheet'!$A$3:$I$499,8,FALSE)))","v":1},{"$f":"IF(IFERROR(VLOOKUP(($B$2&\"_\"&$A22),'Time Entry Sheet'!$A$3:$I$499,7,FALSE),\"Error\")=\"Error\",\"\",IF(VLOOKUP(($B$2&\"_\"&$A22),'Time Entry Sheet'!$A$3:$I$499,7,FALSE)=\"\",\"\",VLOOKUP(($B$2&\"_\"&$A22),'Time Entry Sheet'!$A$3:$I$499,7,FALSE)))","v":""},"00:00:58.950","00:00:58.950",12,"00:00:58.950",12,null,"","00:00:58.950"]
[12,{"$f":"IF($A23=\"\",\"\",IF(VLOOKUP($A23,Competitors!$A$2:$G$60,2,FALSE)=\"\",\"\",VLOOKUP($A23,Competitors!$A$2:$G$60,2,FALSE)))","v":"Mat Boorman"},{"$f":"IF($A23=\"\",\"\",IF(VLOOKUP($A23,Competitors!$A$2:$G$60,7,FALSE)=\"\",\"\",VLOOKUP($A23,Competitors!$A$2:$G$60,7,FALSE)))","v":""},{"$f":"IF($A23=\"\",\"\",IF(VLOOKUP($A23,Competitors!$A$2:$G$60,5,FALSE)=\"\",\"\",VLOOKUP($A23,Competitors!$A$2:$G$60,5,FALSE)))","v":""},{"$f":"IF($A23=\"\",\"\",IF(VLOOKUP($A23,Competitors!$A$2:$G$60,6,FALSE)=\"\",\"\",VLOOKUP($A23,Competitors!$A$2:$G$60,6,FALSE)))","v":"senior"},{"$f":"IF($A23=\"\",\"\",IF(VLOOKUP($A23,Competitors!$A$2:$G$60,3,FALSE)=\"\",\"\",VLOOKUP($A23,Competitors!$A$2:$G$60,3,FALSE)))","v":""},{"$f":"IF($A23=\"\",\"\",IF(VLOOKUP($A23,Competitors!$A$2:$G$60,4,FALSE)=\"\",\"\",VLOOKUP($A23,Competitors!$A$2:$G$60,4,FALSE)))","v":""},{"$f":"IF(VLOOKUP(A23,Competitors!$A$1:$H$41,8,FALSE)=\"\",\"\",VLOOKUP(A23,Competitors!$A$1:$H$41,8,FALSE))","v":""},{"$f":"IF(IFERROR(VLOOKUP(($B$2&\"_\"&$A23),'Time Entry Sheet'!$A$3:$I$499,9,0),\"Error\")=\"Error\",\"\",IF(VLOOKUP(($B$2&\"_\"&$A23),'Time Entry Sheet'!$A$3:$I$499,9,FALSE)=\"wd\",\"wd\",VLOOKUP(($B$2&\"_\"&$A23),'Time Entry Sheet'!$A$3:$I$499,9,FALSE)*1))","v":"00:00:54.970"},"00:00:54.970",{"$f":"IF(IFERROR(VLOOKUP(($B$2&\"_\"&$A23),'Time Entry Sheet'!$A$3:$I$499,8,FALSE),\"Error\")=\"Error\",\"\",IF(VLOOKUP(($B$2&\"_\"&$A23),'Time Entry Sheet'!$A$3:$I$499,8,FALSE)=\"\",\"\",VLOOKUP(($B$2&\"_\"&$A23),'Time Entry Sheet'!$A$3:$I$499,8,FALSE)))","v":""},{"$f":"IF(IFERROR(VLOOKUP(($B$2&\"_\"&$A23),'Time Entry Sheet'!$A$3:$I$499,7,FALSE),\"Error\")=\"Error\",\"\",IF(VLOOKUP(($B$2&\"_\"&$A23),'Time Entry Sheet'!$A$3:$I$499,7,FALSE)=\"\",\"\",VLOOKUP(($B$2&\"_\"&$A23),'Time Entry Sheet'!$A$3:$I$499,7,FALSE)))","v":""},"00:00:54.970","00:00:54.970",9,"00:00:54.970",9,null,"","00:00:54.970"]
[13,{"$f":"IF($A24=\"\",\"\",IF(VLOOKUP($A24,Competitors!$A$2:$G$60,2,FALSE)=\"\",\"\",VLOOKUP($A24,Competitors!$A$2:$G$60,2,FALSE)))","v":"Aaron Wishart"},{"$f":"IF($A24=\"\",\"\",IF(VLOOKUP($A24,Competitors!$A$2:$G$60,7,FALSE)=\"\",\"\",VLOOKUP($A24,Competitors!$A$2:$G$60,7,FALSE)))","v":""},{"$f":"IF($A24=\"\",\"\",IF(VLOOKUP($A24,Competitors!$A$2:$G$60,5,FALSE)=\"\",\"\",VLOOKUP($A24,Competitors!$A$2:$G$60,5,FALSE)))","v":""},{"$f":"IF($A24=\"\",\"\",IF(VLOOKUP($A24,Competitors!$A$2:$G$60,6,FALSE)=\"\",\"\",VLOOKUP($A24,Competitors!$A$2:$G$60,6,FALSE)))","v":"senior"},{"$f":"IF($A24=\"\",\"\",IF(VLOOKUP($A24,Competitors!$A$2:$G$60,3,FALSE)=\"\",\"\",VLOOKUP($A24,Competitors!$A$2:$G$60,3,FALSE)))","v":""},{"$f":"IF($A24=\"\",\"\",IF(VLOOKUP($A24,Competitors!$A$2:$G$60,4,FALSE)=\"\",\"\",VLOOKUP($A24,Competitors!$A$2:$G$60,4,FALSE)))","v":""},{"$f":"IF(VLOOKUP(A24,Competitors!$A$1:$H$41,8,FALSE)=\"\",\"\",VLOOKUP(A24,Competitors!$A$1:$H$41,8,FALSE))","v":""},{"$f":"IF(IFERROR(VLOOKUP(($B$2&\"_\"&$A24),'Time Entry Sheet'!$A$3:$I$499,9,0),\"Error\")=\"Error\",\"\",IF(VLOOKUP(($B$2&\"_\"&$A24),'Time Entry Sheet'!$A$3:$I$499,9,FALSE)=\"wd\",\"wd\",VLOOKUP(($B$2&\"_\"&$A24),'Time Entry Sheet'!$A$3:$I$499,9,FALSE)*1))","v":"00:01:24.040"},"00:01:24.040",{"$f":"IF(IFERROR(VLOOKUP(($B$2&\"_\"&$A24),'Time Entry Sheet'!$A$3:$I$499,8,FALSE),\"Error\")=\"Error\",\"\",IF(VLOOKUP(($B$2&\"_\"&$A24),'Time Entry Sheet'!$A$3:$I$499,8,FALSE)=\"\",\"\",VLOOKUP(($B$2&\"_\"&$A24),'Time Entry Sheet'!$A$3:$I$499,8,FALSE)))","v":""},{"$f":"IF(IFERROR(VLOOKUP(($B$2&\"_\"&$A24),'Time Entry Sheet'!$A$3:$I$499,7,FALSE),\"Error\")=\"Error\",\"\",IF(VLOOKUP(($B$2&\"_\"&$A24),'Time Entry Sheet'!$A$3:$I$499,7,FALSE)=\"\",\"\",VLOOKUP(($B$2&\"_\"&$A24),'Time Entry Sheet'!$A$3:$I$499,7,FALSE)))","v":""},"00:01:24.040","00:01:24.040",19,"00:01:24.040",19,null,"","00:01:24.040"]
[14,{"$f":"IF($A25=\"\",\"\",IF(VLOOKUP($A25,Competitors!$A$2:$G$60,2,FALSE)=\"\",\"\",VLOOKUP($A25,Competitors!$A$2:$G$60,2,FALSE)))","v":"Bob Fulthorpe"},{"$f":"IF($A25=\"\",\"\",IF(VLOOKUP($A25,Competitors!$A$2:$G$60,7,FALSE)=\"\",\"\",VLOOKUP($A25,Competitors!$A$2:$G$60,7,FALSE)))","v":""},{"$f":"IF($A25=\"\",\"\",IF(VLOOKUP($A25,Competitors!$A$2:$G$60,5,FALSE)=\"\",\"\",VLOOKUP($A25,Competitors!$A$2:$G$60,5,FALSE)))","v":""},{"$f":"IF($A25=\"\",\"\",IF(VLOOKUP($A25,Competitors!$A$2:$G$60,6,FALSE)=\"\",\"\",VLOOKUP($A25,Competitors!$A$2:$G$60,6,FALSE)))","v":"senior"},{"$f":"IF($A25=\"\",\"\",IF(VLOOKUP($A25,Competitors!$A$2:$G$60,3,FALSE)=\"\",\"\",VLOOKUP($A25,Competitors!$A$2:$G$60,3,FALSE)))","v":""},{"$f":"IF($A25=\"\",\"\",IF(VLOOKUP($A25,Competitors!$A$2:$G$60,4,FALSE)=\"\",\"\",VLOOKUP($A25,Competitors!$A$2:$G$60,4,FALSE)))","v":""},{"$f":"IF(VLOOKUP(A25,Competitors!$A$1:$H$41,8,FALSE)=\"\",\"\",VLOOKUP(A25,Competitors!$A$1:$H$41,8,FALSE))","v":""},{"$f":"IF(IFERROR(VLOOKUP(($B$2&\"_\"&$A25),'Time Entry Sheet'!$A$3:$I$499,9,0),\"Error\")=\"Error\",\"\",IF(VLOOKUP(($B$2&\"_\"&$A25),'Time Entry Sheet'!$A$3:$I$499,9,FALSE)=\"wd\",\"wd\",VLOOKUP(($B$2&\"_\"&$A25),'Time Entry Sheet'!$A$3:$I$499,9,FALSE)*1))","v":"00:00:53.480"},"00:00:53.480",{"$f":"IF(IFERROR(VLOOKUP(($B$2&\"_\"&$A25),'Time Entry Sheet'!$A$3:$I$499,8,FALSE),\"Error\")=\"Error\",\"\",IF(VLOOKUP(($B$2&\"_\"&$A25),'Time Entry Sheet'!$A$3:$I$499,8,FALSE)=\"\",\"\",VLOOKUP(($B$2&\"_\"&$A25),'Time Entry Sheet'!$A$3:$I$499,8,FALSE)))","v":""},{"$f":"IF(IFERROR(VLOOKUP(($B$2&\"_\"&$A25),'Time Entry Sheet'!$A$3:$I$499,7,FALSE),\"Error\")=\"Error\",\"\",IF(VLOOKUP(($B$2&\"_\"&$A25),'Time Entry Sheet'!$A$3:$I$499,7,FALSE)=\"\",\"\",VLOOKUP(($B$2&\"_\"&$A25),'Time Entry Sheet'!$A$3:$I$499,7,FALSE)))","v":""},"00:00:53.480","00:00:53.480",3,"00:00:53.480",3,null,"","00:00:53.480"]
[15,{"$f":"IF($A26=\"\",\"\",IF(VLOOKUP($A26,Competitors!$A$2:$G$60,2,FALSE)=\"\",\"\",VLOOKUP($A26,Competitors!$A$2:$G$60,2,FALSE)))","v":"Khi Fulthorpe"},{"$f":"IF($A26=\"\",\"\",IF(VLOOKUP($A26,Competitors!$A$2:$G$60,7,FALSE)=\"\",\"\",VLOOKUP($A26,Competitors!$A$2:$G$60,7,FALSE)))","v":""},{"$f":"IF($A26=\"\",\"\",IF(VLOOKUP($A26,Competitors!$A$2:$G$60,5,FALSE)=\"\",\"\",VLOOKUP($A26,Competitors!$A$2:$G$60,5,FALSE)))","v":""},{"$f":"IF($A26=\"\",\"\",IF(VLOOKUP($A26,Competitors!$A$2:$G$60,6,FALSE)=\"\",\"\",VLOOKUP($A26,Competitors!$A$2:$G$60,6,FALSE)))","v":"senior"},{"$f":"IF($A26=\"\",\"\",IF(VLOOKUP($A26,Competitors!$A$2:$G$60,3,FALSE)=\"\",\"\",VLOOKUP($A26,Competitors!$A$2:$G$60,3,FALSE)))","v":""},{"$f":"IF($A26=\"\",\"\",IF(VLOOKUP($A26,Competitors!$A$2:$G$60,4,FALSE)=\"\",\"\",VLOOKUP($A26,Competitors!$A$2:$G$60,4,FALSE)))","v":""},{"$f":"IF(VLOOKUP(A26,Competitors!$A$1:$H$41,8,FALSE)=\"\",\"\",VLOOKUP(A26,Competitors!$A$1:$H$41,8,FALSE))","v":""},{"$f":"IF(IFERROR(VLOOKUP(($B$2&\"_\"&$A26),'Time Entry Sheet'!$A$3:$I$499,9,0),\"Error\")=\"Error\",\"\",IF(VLOOKUP(($B$2&\"_\"&$A26),'Time Entry Sheet'!$A$3:$I$499,9,FALSE)=\"wd\",\"wd\",VLOOKUP(($B$2&\"_\"&$A26),'Time Entry Sheet'!$A$3:$I$499,9,FALSE)*1))","v":"00:00:59.020"},"00:00:59.020",{"$f":"IF(IFERROR(VLOOKUP(($B$2&\"_\"&$A26),'Time Entry Sheet'!$A$3:$I$499,8,FALSE),\"Error\")=\"Error\",\"\",IF(VLOOKUP(($B$2&\"_\"&$A26),'Time Entry Sheet'!$A$3:$I$499,8,FALSE)=\"\",\"\",VLOOKUP(($B$2&\"_\"&$A26),'Time Entry Sheet'!$A$3:$I$499,8,FALSE)))","v":""},{"$f":"IF(IFERROR(VLOOKUP(($B$2&\"_\"&$A26),'Time Entry Sheet'!$A$3:$I$499,7,FALSE),\"Error\")=\"Error\",\"\",IF(VLOOKUP(($B$2&\"_\"&$A26),'Time Entry Sheet'!$A$3:$I$499,7,FALSE)=\"\",\"\",VLOOKUP(($B$2&\"_\"&$A26),'Time Entry Sheet'!$A$3:$I$499,7,FALSE)))","v":""},"00:00:59.020","00:00:59.020",13,"00:00:59.020",13,null,"","00:00:59.020"]
[16,{"$f":"IF($A27=\"\",\"\",IF(VLOOKUP($A27,Competitors!$A$2:$G$60,2,FALSE)=\"\",\"\",VLOOKUP($A27,Competitors!$A$2:$G$60,2,FALSE)))","v":"Nathan Senior"},{"$f":"IF($A27=\"\",\"\",IF(VLOOKUP($A27,Competitors!$A$2:$G$60,7,FALSE)=\"\",\"\",VLOOKUP($A27,Competitors!$A$2:$G$60,7,FALSE)))","v":""},{"$f":"IF($A27=\"\",\"\",IF(VLOOKUP($A27,Competitors!$A$2:$G$60,5,FALSE)=\"\",\"\",VLOOKUP($A27,Competitors!$A$2:$G$60,5,FALSE)))","v":""},{"$f":"IF($A27=\"\",\"\",IF(VLOOKUP($A27,Competitors!$A$2:$G$60,6,FALSE)=\"\",\"\",VLOOKUP($A27,Competitors!$A$2:$G$60,6,FALSE)))","v":"senior"},{"$f":"IF($A27=\"\",\"\",IF(VLOOKUP($A27,Competitors!$A$2:$G$60,3,FALSE)=\"\",\"\",VLOOKUP($A27,Competitors!$A$2:$G$60,3,FALSE)))","v":""},{"$f":"IF($A27=\"\",\"\",IF(VLOOKUP($A27,Competitors!$A$2:$G$60,4,FALSE)=\"\",\"\",VLOOKUP($A27,Competitors!$A$2:$G$60,4,FALSE)))","v":""},{"$f":"IF(VLOOKUP(A27,Competitors!$A$1:$H$41,8,FALSE)=\"\",\"\",VLOOKUP(A27,Competitors!$A$1:$H$41,8,FALSE))","v":""},{"$f":"IF(IFERROR(VLOOKUP(($B$2&\"_\"&$A27),'Time Entry Sheet'!$A$3:$I$499,9,0),\"Error\")=\"Error\",\"\",IF(VLOOKUP(($B$2&\"_\"&$A27),'Time Entry Sheet'!$A$3:$I$499,9,FALSE)=\"wd\",\"wd\",VLOOKUP(($B$2&\"_\"&$A27),'Time Entry Sheet'!$A$3:$I$499,9,FALSE)*1))","v":"00:00:49.850"},"",{"$f":"IF(IFERROR(VLOOKUP(($B$2&\"_\"&$A27),'Time Entry Sheet'!$A$3:$I$499,8,FALSE),\"Error\")=\"Error\",\"\",IF(VLOOKUP(($B$2&\"_\"&$A27),'Time Entry Sheet'!$A$3:$I$499,8,FALSE)=\"\",\"\",VLOOKUP(($B$2&\"_\"&$A27),'Time Entry Sheet'!$A$3:$I$499,8,FALSE)))","v":1},{"$f":"IF(IFERROR(VLOOKUP(($B$2&\"_\"&$A27),'Time Entry Sheet'!$A$3:$I$499,7,FALSE),\"Error\")=\"Error\",\"\",IF(VLOOKUP(($B$2&\"_\"&$A27),'Time Entry Sheet'!$A$3:$I$499,7,FALSE)=\"\",\"\",VLOOKUP(($B$2&\"_\"&$A27),'Time Entry Sheet'!$A$3:$I$499,7,FALSE)))","v":""},"00:00:54.850","00:00:54.850",8,"00:00:54.850",8,null,"","00:00:54.850"]
[17,{"$f":"IF($A28=\"\",\"\",IF(VLOOKUP($A28,Competitors!$A$2:$G$60,2,FALSE)=\"\",\"\",VLOOKUP($A28,Competitors!$A$2:$G$60,2,FALSE)))","v":"Reece McIntosh"},{"$f":"IF($A28=\"\",\"\",IF(VLOOKUP($A28,Competitors!$A$2:$G$60,7,FALSE)=\"\",\"\",VLOOKUP($A28,Competitors!$A$2:$G$60,7,FALSE)))","v":""},{"$f":"IF($A28=\"\",\"\",IF(VLOOKUP($A28,Competitors!$A$2:$G$60,5,FALSE)=\"\",\"\",VLOOKUP($A28,Competitors!$A$2:$G$60,5,FALSE)))","v":""},{"$f":"IF($A28=\"\",\"\",IF(VLOOKUP($A28,Competitors!$A$2:$G$60,6,FALSE)=\"\",\"\",VLOOKUP($A28,Competitors!$A$2:$G$60,6,FALSE)))","v":"senior"},{"$f":"IF($A28=\"\",\"\",IF(VLOOKUP($A28,Competitors!$A$2:$G$60,3,FALSE)=\"\",\"\",VLOOKUP($A28,Competitors!$A$2:$G$60,3,FALSE)))","v":""},{"$f":"IF($A28=\"\",\"\",IF(VLOOKUP($A28,Competitors!$A$2:$G$60,4,FALSE)=\"\",\"\",VLOOKUP($A28,Competitors!$A$2:$G$60,4,FALSE)))","v":""},{"$f":"IF(VLOOKUP(A28,Competitors!$A$1:$H$41,8,FALSE)=\"\",\"\",VLOOKUP(A28,Competitors!$A$1:$H$41,8,FALSE))","v":""},{"$f":"IF(IFERROR(VLOOKUP(($B$2&\"_\"&$A28),'Time Entry Sheet'!$A$3:$I$499,9,0),\"Error\")=\"Error\",\"\",IF(VLOOKUP(($B$2&\"_\"&$A28),'Time Entry Sheet'!$A$3:$I$499,9,FALSE)=\"wd\",\"wd\",VLOOKUP(($B$2&\"_\"&$A28),'Time Entry Sheet'!$A$3:$I$499,9,FALSE)*1))","v":"00:00:49.620"},"00:00:49.620",{"$f":"IF(IFERROR(VLOOKUP(($B$2&\"_\"&$A28),'Time Entry Sheet'!$A$3:$I$499,8,FALSE),\"Error\")=\"Error\",\"\",IF(VLOOKUP(($B$2&\"_\"&$A28),'Time Entry Sheet'!$A$3:$I$499,8,FALSE)=\"\",\"\",VLOOKUP(($B$2&\"_\"&$A28),'Time Entry Sheet'!$A$3:$I$499,8,FALSE)))","v":""},{"$f":"IF(IFERROR(VLOOKUP(($B$2&\"_\"&$A28),'Time Entry Sheet'!$A$3:$I$499,7,FALSE),\"Error\")=\"Error\",\"\",IF(VLOOKUP(($B$2&\"_\"&$A28),'Time Entry Sheet'!$A$3:$I$499,7,FALSE)=\"\",\"\",VLOOKUP(($B$2&\"_\"&$A28),'Time Entry Sheet'!$A$3:$I$499,7,FALSE)))","v":""},"00:00:49.620","00:00:49.620",1,"00:00:49.620",1,null,"","00:00:49.620"]
[18,{"$f":"IF($A29=\"\",\"\",IF(VLOOKUP($A29,Competitors!$A$2:$G$60,2,FALSE)=\"\",\"\",VLOOKUP($A29,Competitors!$A$2:$G$60,2,FALSE)))","v":"Jack Stanley"},{"$f":"IF($A29=\"\",\"\",IF(VLOOKUP($A29,Competitors!$A$2:$G$60,7,FALSE)=\"\",\"\",VLOOKUP($A29,Competitors!$A$2:$G$60,7,FALSE)))","v":"rookie"},{"$f":"IF($A29=\"\",\"\",IF(VLOOKUP($A29,Competitors!$A$2:$G$60,5,FALSE)=\"\",\"\",VLOOKUP($A29,Competitors!$A$2:$G$60,5,FALSE)))","v":""},{"$f":"IF($A29=\"\",\"\",IF(VLOOKUP($A29,Competitors!$A$2:$G$60,6,FALSE)=\"\",\"\",VLOOKUP($A29,Competitors!$A$2:$G$60,6,FALSE)))","v":"senior"},{"$f":"IF($A29=\"\",\"\",IF(VLOOKUP($A29,Competitors!$A$2:$G$60,3,FALSE)=\"\",\"\",VLOOKUP($A29,Competitors!$A$2:$G$60,3,FALSE)))","v":""},{"$f":"IF($A29=\"\",\"\",IF(VLOOKUP($A29,Competitors!$A$2:$G$60,4,FALSE)=\"\",\"\",VLOOKUP($A29,Competitors!$A$2:$G$60,4,FALSE)))","v":""},{"$f":"IF(VLOOKUP(A29,Competitors!$A$1:$H$41,8,FALSE)=\"\",\"\",VLOOKUP(A29,Competitors!$A$1:$H$41,8,FALSE))","v":""},{"$f":"IF(IFERROR(VLOOKUP(($B$2&\"_\"&$A29),'Time Entry Sheet'!$A$3:$I$499,9,0),\"Error\")=\"Error\",\"\",IF(VLOOKUP(($B$2&\"_\"&$A29),'Time Entry Sheet'!$A$3:$I$499,9,FALSE)=\"wd\",\"wd\",VLOOKUP(($B$2&\"_\"&$A29),'Time Entry Sheet'!$A$3:$I$499,9,FALSE)*1))","v":"00:01:06.620"},"00:01:06.620",{"$f":"IF(IFERROR(VLOOKUP(($B$2&\"_\"&$A29),'Time Entry Sheet'!$A$3:$I$499,8,FALSE),\"Error\")=\"Error\",\"\",IF(VLOOKUP(($B$2&\"_\"&$A29),'Time Entry Sheet'!$A$3:$I$499,8,FALSE)=\"\",\"\",VLOOKUP(($B$2&\"_\"&$A29),'Time Entry Sheet'!$A$3:$I$499,8,FALSE)))","v":""},{"$f":"IF(IFERROR(VLOOKUP(($B$2&\"_\"&$A29),'Time Entry Sheet'!$A$3:$I$499,7,FALSE),\"Error\")=\"Error\",\"\",IF(VLOOKUP(($B$2&\"_\"&$A29),'Time Entry Sheet'!$A$3:$I$499,7,FALSE)=\"\",\"\",VLOOKUP(($B$2&\"_\"&$A29),'Time Entry Sheet'!$A$3:$I$499,7,FALSE)))","v":""},"00:01:06.620","00:01:06.620",17,"00:01:06.620",17,null,"","00:01:06.620"]
[19,{"$f":"IF($A30=\"\",\"\",IF(VLOOKUP($A30,Competitors!$A$2:$G$60,2,FALSE)=\"\",\"\",VLOOKUP($A30,Competitors!$A$2:$G$60,2,FALSE)))","v":"Christopher Northey"},{"$f":"IF($A30=\"\",\"\",IF(VLOOKUP($A30,Competitors!$A$2:$G$60,7,FALSE)=\"\",\"\",VLOOKUP($A30,Competitors!$A$2:$G$60,7,FALSE)))","v":""},{"$f":"IF($A30=\"\",\"\",IF(VLOOKUP($A30,Competitors!$A$2:$G$60,5,FALSE)=\"\",\"\",VLOOKUP($A30,Competitors!$A$2:$G$60,5,FALSE)))","v":""},{"$f":"IF($A30=\"\",\"\",IF(VLOOKUP($A30,Competitors!$A$2:$G$60,6,FALSE)=\"\",\"\",VLOOKUP($A30,Competitors!$A$2:$G$60,6,FALSE)))","v":"senior"},{"$f":"IF($A30=\"\",\"\",IF(VLOOKUP($A30,Competitors!$A$2:$G$60,3,FALSE)=\"\",\"\",VLOOKUP($A30,Competitors!$A$2:$G$60,3,FALSE)))","v":""},{"$f":"IF($A30=\"\",\"\",IF(VLOOKUP($A30,Competitors!$A$2:$G$60,4,FALSE)=\"\",\"\",VLOOKUP($A30,Competitors!$A$2:$G$60,4,FALSE)))","v":""},{"$f":"IF(VLOOKUP(A30,Competitors!$A$1:$H$41,8,FALSE)=\"\",\"\",VLOOKUP(A30,Competitors!$A$1:$H$41,8,FALSE))","v":""},{"$f":"IF(IFERROR(VLOOKUP(($B$2&\"_\"&$A30),'Time Entry Sheet'!$A$3:$I$499,9,0),\"Error\")=\"Error\",\"\",IF(VLOOKUP(($B$2&\"_\"&$A30),'Time Entry Sheet'!$A$3:$I$499,9,FALSE)=\"wd\",\"wd\",VLOOKUP(($B$2&\"_\"&$A30),'Time Entry Sheet'!$A$3:$I$499,9,FALSE)*1))","v":"00:00:53.620"},{"$f":"IF(E30=\"Junior\",\"\",IF(I30=\"wd\",\"\",IF(K30<>\"\",\"\",I30)))","v":"00:00:53.620"},{"$f":"IF(IFERROR(VLOOKUP(($B$2&\"_\"&$A30),'Time Entry Sheet'!$A$3:$I$499,8,FALSE),\"Error\")=\"Error\",\"\",IF(VLOOKUP(($B$2&\"_\"&$A30),'Time Entry Sheet'!$A$3:$I$499,8,FALSE)=\"\",\"\",VLOOKUP(($B$2&\"_\"&$A30),'Time Entry Sheet'!$A$3:$I$499,8,FALSE)))","v":""},{"$f":"IF(IFERROR(VLOOKUP(($B$2&\"_\"&$A30),'Time Entry Sheet'!$A$3:$I$499,7,FALSE),\"Error\")=\"Error\",\"\",IF(VLOOKUP(($B$2&\"_\"&$A30),'Time Entry Sheet'!$A$3:$I$499,7,FALSE)=\"\",\"\",VLOOKUP(($B$2&\"_\"&$A30),'Time Entry Sheet'!$A$3:$I$499,7,FALSE)))","v":""},{"$f":"IF(A30=\"\",\"\",IF(I30=\"wd\",IF(E30=\"Senior\",$B$7,$C$7),IF(L30<>\"\",$B$7,IF(I30=\"\",IF(E30=\"Senior\",$B$8,$C$8),IF(K30=\"\",I30,I30+($B$5*K30))))))","v":"00:00:53.620"},{"$f":"IF(H30=\"Passenger\",\"\",M30)","v":"00:00:53.620"},{"$f":"IF(A30=\"\",\"\",IF(H30=\"Passenger\",\"P\",RANK(N30,$N$12:$N$51,1)))","v":4},{"$f":"M30","v":"00:00:53.620"},{"$f":"IF(A30=\"\",\"\",IF(H30=\"Passenger\",\"P\",RANK(T30,$T$12:$T$51,1)))","v":4},null,{"$f":"IF(E30=\"Senior\",\"\",IF(I30=\"wd\",\"\",IF(K30<>\"\",\"\",I30)))","v":""},{"$f":"IF(H30=\"Passenger\",\"\",P30)","v":"00:00:53.620"}]
[20,{"$f":"IF($A31=\"\",\"\",IF(VLOOKUP($A31,Competitors!$A$2:$G$60,2,FALSE)=\"\",\"\",VLOOKUP($A31,Competitors!$A$2:$G$60,2,FALSE)))","v":"Ray Lampl"},{"$f":"IF($A31=\"\",\"\",IF(VLOOKUP($A31,Competitors!$A$2:$G$60,7,FALSE)=\"\",\"\",VLOOKUP($A31,Competitors!$A$2:$G$60,7,FALSE)))","v":""},{"$f":"IF($A31=\"\",\"\",IF(VLOOKUP($A31,Competitors!$A$2:$G$60,5,FALSE)=\"\",\"\",VLOOKUP($A31,Competitors!$A$2:$G$60,5,FALSE)))","v":""},{"$f":"IF($A31=\"\",\"\",IF(VLOOKUP($A31,Competitors!$A$2:$G$60,6,FALSE)=\"\",\"\",VLOOKUP($A31,Competitors!$A$2:$G$60,6,FALSE)))","v":"senior"},{"$f":"IF($A31=\"\",\"\",IF(VLOOKUP($A31,Competitors!$A$2:$G$60,3,FALSE)=\"\",\"\",VLOOKUP($A31,Competitors!$A$2:$G$60,3,FALSE)))","v":""},{"$f":"IF($A31=\"\",\"\",IF(VLOOKUP($A31,Competitors!$A$2:$G$60,4,FALSE)=\"\",\"\",VLOOKUP($A31,Competitors!$A$2:$G$60,4,FALSE)))","v":""},{"$f":"IF(VLOOKUP(A31,Competitors!$A$1:$H$41,8,FALSE)=\"\",\"\",VLOOKUP(A31,Competitors!$A$1:$H$41,8,FALSE))","v":""},{"$f":"IF(IFERROR(VLOOKUP(($B$2&\"_\"&$A31),'Time Entry Sheet'!$A$3:$I$499,9,0),\"Error\")=\"Error\",\"\",IF(VLOOKUP(($B$2&\"_\"&$A31),'Time Entry Sheet'!$A$3:$I$499,9,FALSE)=\"wd\",\"wd\",VLOOKUP(($B$2&\"_\"&$A31),'Time Entry Sheet'!$A$3:$I$499,9,FALSE)*1))","v":"00:00:55.910"},"00:00:55.910",{"$f":"IF(IFERROR(VLOOKUP(($B$2&\"_\"&$A31),'Time Entry Sheet'!$A$3:$I$499,8,FALSE),\"Error\")=\"Error\",\"\",IF(VLOOKUP(($B$2&\"_\"&$A31),'Time Entry Sheet'!$A$3:$I$499,8,FALSE)=\"\",\"\",VLOOKUP(($B$2&\"_\"&$A31),'Time Entry Sheet'!$A$3:$I$499,8,FALSE)))","v":""},{"$f":"IF(IFERROR(VLOOKUP(($B$2&\"_\"&$A31),'Time Entry Sheet'!$A$3:$I$499,7,FALSE),\"Error\")=\"Error\",\"\",IF(VLOOKUP(($B$2&\"_\"&$A31),'Time Entry Sheet'!$A$3:$I$499,7,FALSE)=\"\",\"\",VLOOKUP(($B$2&\"_\"&$A31),'Time Entry Sheet'!$A$3:$I$499,7,FALSE)))","v":""},"00:00:55.910","00:00:55.910",10,"00:00:55.910",10,null,"","00:00:55.910"]
[21,{"$f":"IF($A32=\"\",\"\",IF(VLOOKUP($A32,Competitors!$A$2:$G$60,2,FALSE)=\"\",\"\",VLOOKUP($A32,Competitors!$A$2:$G$60,2,FALSE)))","v":""},{"$f":"IF($A32=\"\",\"\",IF(VLOOKUP($A32,Competitors!$A$2:$G$60,7,FALSE)=\"\",\"\",VLOOKUP($A32,Competitors!$A$2:$G$60,7,FALSE)))","v":""},{"$f":"IF($A32=\"\",\"\",IF(VLOOKUP($A32,Competitors!$A$2:$G$60,5,FALSE)=\"\",\"\",VLOOKUP($A32,Competitors!$A$2:$G$60,5,FALSE)))","v":""},{"$f":"IF($A32=\"\",\"\",IF(VLOOKUP($A32,Competitors!$A$2:$G$60,6,FALSE)=\"\",\"\",VLOOKUP($A32,Competitors!$A$2:$G$60,6,FALSE)))","v":"senior"},{"$f":"IF($A32=\"\",\"\",IF(VLOOKUP($A32,Competitors!$A$2:$G$60,3,FALSE)=\"\",\"\",VLOOKUP($A32,Competitors!$A$2:$G$60,3,FALSE)))","v":""},{"$f":"IF($A32=\"\",\"\",IF(VLOOKUP($A32,Competitors!$A$2:$G$60,4,FALSE)=\"\",\"\",VLOOKUP($A32,Competitors!$A$2:$G$60,4,FALSE)))","v":""},{"$f":"IF(VLOOKUP(A32,Competitors!$A$1:$H$41,8,FALSE)=\"\",\"\",VLOOKUP(A32,Competitors!$A$1:$H$41,8,FALSE))","v":""},{"$f":"IF(IFERROR(VLOOKUP(($B$2&\"_\"&$A32),'Time Entry Sheet'!$A$3:$I$499,9,0),\"Error\")=\"Error\",\"\",IF(VLOOKUP(($B$2&\"_\"&$A32),'Time Entry Sheet'!$A$3:$I$499,9,FALSE)=\"wd\",\"wd\",VLOOKUP(($B$2&\"_\"&$A32),'Time Entry Sheet'!$A$3:$I$499,9,FALSE)*1))","v":""},"",{"$f":"IF(IFERROR(VLOOKUP(($B$2&\"_\"&$A32),'Time Entry Sheet'!$A$3:$I$499,8,FALSE),\"Error\")=\"Error\",\"\",IF(VLOOKUP(($B$2&\"_\"&$A32),'Time Entry Sheet'!$A$3:$I$499,8,FALSE)=\"\",\"\",VLOOKUP(($B$2&\"_\"&$A32),'Time Entry Sheet'!$A$3:$I$499,8,FALSE)))","v":""},{"$f":"IF(IFERROR(VLOOKUP(($B$2&\"_\"&$A32),'Time Entry Sheet'!$A$3:$I$499,7,FALSE),\"Error\")=\"Error\",\"\",IF(VLOOKUP(($B$2&\"_\"&$A32),'Time Entry Sheet'!$A$3:$I$499,7,FALSE)=\"\",\"\",VLOOKUP(($B$2&\"_\"&$A32),'Time Entry Sheet'!$A$3:$I$499,7,FALSE)))","v":""},"00:01:34.040","00:01:34.040",20,"00:01:34.040",20,null,"","00:01:34.040"]
[22,{"$f":"IF($A33=\"\",\"\",IF(VLOOKUP($A33,Competitors!$A$2:$G$60,2,FALSE)=\"\",\"\",VLOOKUP($A33,Competitors!$A$2:$G$60,2,FALSE)))","v":""},{"$f":"IF($A33=\"\",\"\",IF(VLOOKUP($A33,Competitors!$A$2:$G$60,7,FALSE)=\"\",\"\",VLOOKUP($A33,Competitors!$A$2:$G$60,7,FALSE)))","v":""},{"$f":"IF($A33=\"\",\"\",IF(VLOOKUP($A33,Competitors!$A$2:$G$60,5,FALSE)=\"\",\"\",VLOOKUP($A33,Competitors!$A$2:$G$60,5,FALSE)))","v":""},{"$f":"IF($A33=\"\",\"\",IF(VLOOKUP($A33,Competitors!$A$2:$G$60,6,FALSE)=\"\",\"\",VLOOKUP($A33,Competitors!$A$2:$G$60,6,FALSE)))","v":"senior"},{"$f":"IF($A33=\"\",\"\",IF(VLOOKUP($A33,Competitors!$A$2:$G$60,3,FALSE)=\"\",\"\",VLOOKUP($A33,Competitors!$A$2:$G$60,3,FALSE)))","v":""},{"$f":"IF($A33=\"\",\"\",IF(VLOOKUP($A33,Competitors!$A$2:$G$60,4,FALSE)=\"\",\"\",VLOOKUP($A33,Competitors!$A$2:$G$60,4,FALSE)))","v":""},{"$f":"IF(VLOOKUP(A33,Competitors!$A$1:$H$41,8,FALSE)=\"\",\"\",VLOOKUP(A33,Competitors!$A$1:$H$41,8,FALSE))","v":""},{"$f":"IF(IFERROR(VLOOKUP(($B$2&\"_\"&$A33),'Time Entry Sheet'!$A$3:$I$499,9,0),\"Error\")=\"Error\",\"\",IF(VLOOKUP(($B$2&\"_\"&$A33),'Time Entry Sheet'!$A$3:$I$499,9,FALSE)=\"wd\",\"wd\",VLOOKUP(($B$2&\"_\"&$A33),'Time Entry Sheet'!$A$3:$I$499,9,FALSE)*1))","v":""},"",{"$f":"IF(IFERROR(VLOOKUP(($B$2&\"_\"&$A33),'Time Entry Sheet'!$A$3:$I$499,8,FALSE),\"Error\")=\"Error\",\"\",IF(VLOOKUP(($B$2&\"_\"&$A33),'Time Entry Sheet'!$A$3:$I$499,8,FALSE)=\"\",\"\",VLOOKUP(($B$2&\"_\"&$A33),'Time Entry Sheet'!$A$3:$I$499,8,FALSE)))","v":""},{"$f":"IF(IFERROR(VLOOKUP(($B$2&\"_\"&$A33),'Time Entry Sheet'!$A$3:$I$499,7,FALSE),\"Error\")=\"Error\",\"\",IF(VLOOKUP(($B$2&\"_\"&$A33),'Time Entry Sheet'!$A$3:$I$499,7,FALSE)=\"\",\"\",VLOOKUP(($B$2&\"_\"&$A33),'Time Entry Sheet'!$A$3:$I$499,7,FALSE)))","v":""},"00:01:34.040","00:01:34.040",20,"00:01:34.040",20,null,"","00:01:34.040"]
[23,{"$f":"IF($A34=\"\",\"\",IF(VLOOKUP($A34,Competitors!$A$2:$G$60,2,FALSE)=\"\",\"\",VLOOKUP($A34,Competitors!$A$2:$G$60,2,FALSE)))","v":""},{"$f":"IF($A34=\"\",\"\",IF(VLOOKUP($A34,Competitors!$A$2:$G$60,7,FALSE)=\"\",\"\",VLOOKUP($A34,Competitors!$A$2:$G$60,7,FALSE)))","v":""},{"$f":"IF($A34=\"\",\"\",IF(VLOOKUP($A34,Competitors!$A$2:$G$60,5,FALSE)=\"\",\"\",VLOOKUP($A34,Competitors!$A$2:$G$60,5,FALSE)))","v":""},{"$f":"IF($A34=\"\",\"\",IF(VLOOKUP($A34,Competitors!$A$2:$G$60,6,FALSE)=\"\",\"\",VLOOKUP($A34,Competitors!$A$2:$G$60,6,FALSE)))","v":"senior"},{"$f":"IF($A34=\"\",\"\",IF(VLOOKUP($A34,Competitors!$A$2:$G$60,3,FALSE)=\"\",\"\",VLOOKUP($A34,Competitors!$A$2:$G$60,3,FALSE)))","v":""},{"$f":"IF($A34=\"\",\"\",IF(VLOOKUP($A34,Competitors!$A$2:$G$60,4,FALSE)=\"\",\"\",VLOOKUP($A34,Competitors!$A$2:$G$60,4,FALSE)))","v":""},{"$f":"IF(VLOOKUP(A34,Competitors!$A$1:$H$41,8,FALSE)=\"\",\"\",VLOOKUP(A34,Competitors!$A$1:$H$41,8,FALSE))","v":""},{"$f":"IF(IFERROR(VLOOKUP(($B$2&\"_\"&$A34),'Time Entry Sheet'!$A$3:$I$499,9,0),\"Error\")=\"Error\",\"\",IF(VLOOKUP(($B$2&\"_\"&$A34),'Time Entry Sheet'!$A$3:$I$499,9,FALSE)=\"wd\",\"wd\",VLOOKUP(($B$2&\"_\"&$A34),'Time Entry Sheet'!$A$3:$I$499,9,FALSE)*1))","v":""},"",{"$f":"IF(IFERROR(VLOOKUP(($B$2&\"_\"&$A34),'Time Entry Sheet'!$A$3:$I$499,8,FALSE),\"Error\")=\"Error\",\"\",IF(VLOOKUP(($B$2&\"_\"&$A34),'Time Entry Sheet'!$A$3:$I$499,8,FALSE)=\"\",\"\",VLOOKUP(($B$2&\"_\"&$A34),'Time Entry Sheet'!$A$3:$I$499,8,FALSE)))","v":""},{"$f":"IF(IFERROR(VLOOKUP(($B$2&\"_\"&$A34),'Time Entry Sheet'!$A$3:$I$499,7,FALSE),\"Error\")=\"Error\",\"\",IF(VLOOKUP(($B$2&\"_\"&$A34),'Time Entry Sheet'!$A$3:$I$499,7,FALSE)=\"\",\"\",VLOOKUP(($B$2&\"_\"&$A34),'Time Entry Sheet'!$A$3:$I$499,7,FALSE)))","v":""},"00:01:34.040","00:01:34.040",20,"00:01:34.040",20,null,"","00:01:34.040"]
[24,{"$f":"IF($A35=\"\",\"\",IF(VLOOKUP($A35,Competitors!$A$2:$G$60,2,FALSE)=\"\",\"\",VLOOKUP($A35,Competitors!$A$2:$G$60,2,FALSE)))","v":""},{"$f":"IF($A35=\"\",\"\",IF(VLOOKUP($A35,Competitors!$A$2:$G$60,7,FALSE)=\"\",\"\",VLOOKUP($A35,Competitors!$A$2:$G$60,7,FALSE)))","v":""},{"$f":"IF($A35=\"\",\"\",IF(VLOOKUP($A35,Competitors!$A$2:$G$60,5,FALSE)=\"\",\"\",VLOOKUP($A35,Competitors!$A$2:$G$60,5,FALSE)))","v":""},{"$f":"IF($A35=\"\",\"\",IF(VLOOKUP($A35,Competitors!$A$2:$G$60,6,FALSE)=\"\",\"\",VLOOKUP($A35,Competitors!$A$2:$G$60,6,FALSE)))","v":"senior"},{"$f":"IF($A35=\"\",\"\",IF(VLOOKUP($A35,Competitors!$A$2:$G$60,3,FALSE)=\"\",\"\",VLOOKUP($A35,Competitors!$A$2:$G$60,3,FALSE)))","v":""},{"$f":"IF($A35=\"\",\"\",IF(VLOOKUP($A35,Competitors!$A$2:$G$60,4,FALSE)=\"\",\"\",VLOOKUP($A35,Competitors!$A$2:$G$60,4,FALSE)))","v":""},{"$f":"IF(VLOOKUP(A35,Competitors!$A$1:$H$41,8,FALSE)=\"\",\"\",VLOOKUP(A35,Competitors!$A$1:$H$41,8,FALSE))","v":""},{"$f":"IF(IFERROR(VLOOKUP(($B$2&\"_\"&$A35),'Time Entry Sheet'!$A$3:$I$499,9,0),\"Error\")=\"Error\",\"\",IF(VLOOKUP(($B$2&\"_\"&$A35),'Time Entry Sheet'!$A$3:$I$499,9,FALSE)=\"wd\",\"wd\",VLOOKUP(($B$2&\"_\"&$A35),'Time Entry Sheet'!$A$3:$I$499,9,FALSE)*1))","v":""},"",{"$f":"IF(IFERROR(VLOOKUP(($B$2&\"_\"&$A35),'Time Entry Sheet'!$A$3:$I$499,8,FALSE),\"Error\")=\"Error\",\"\",IF(VLOOKUP(($B$2&\"_\"&$A35),'Time Entry Sheet'!$A$3:$I$499,8,FALSE)=\"\",\"\",VLOOKUP(($B$2&\"_\"&$A35),'Time Entry Sheet'!$A$3:$I$499,8,FALSE)))","v":""},{"$f":"IF(IFERROR(VLOOKUP(($B$2&\"_\"&$A35),'Time Entry Sheet'!$A$3:$I$499,7,FALSE),\"Error\")=\"Error\",\"\",IF(VLOOKUP(($B$2&\"_\"&$A35),'Time Entry Sheet'!$A$3:$I$499,7,FALSE)=\"\",\"\",VLOOKUP(($B$2&\"_\"&$A35),'Time Entry Sheet'!$A$3:$I$499,7,FALSE)))","v":""},"00:01:34.040","00:01:34.040",20,"00:01:34.040",20,null,"","00:01:34.040"]
[25,{"$f":"IF($A36=\"\",\"\",IF(VLOOKUP($A36,Competitors!$A$2:$G$60,2,FALSE)=\"\",\"\",VLOOKUP($A36,Competitors!$A$2:$G$60,2,FALSE)))","v":""},{"$f":"IF($A36=\"\",\"\",IF(VLOOKUP($A36,Competitors!$A$2:$G$60,7,FALSE)=\"\",\"\",VLOOKUP($A36,Competitors!$A$2:$G$60,7,FALSE)))","v":""},{"$f":"IF($A36=\"\",\"\",IF(VLOOKUP($A36,Competitors!$A$2:$G$60,5,FALSE)=\"\",\"\",VLOOKUP($A36,Competitors!$A$2:$G$60,5,FALSE)))","v":""},{"$f":"IF($A36=\"\",\"\",IF(VLOOKUP($A36,Competitors!$A$2:$G$60,6,FALSE)=\"\",\"\",VLOOKUP($A36,Competitors!$A$2:$G$60,6,FALSE)))","v":"senior"},{"$f":"IF($A36=\"\",\"\",IF(VLOOKUP($A36,Competitors!$A$2:$G$60,3,FALSE)=\"\",\"\",VLOOKUP($A36,Competitors!$A$2:$G$60,3,FALSE)))","v":""},{"$f":"IF($A36=\"\",\"\",IF(VLOOKUP($A36,Competitors!$A$2:$G$60,4,FALSE)=\"\",\"\",VLOOKUP($A36,Competitors!$A$2:$G$60,4,FALSE)))","v":""},{"$f":"IF(VLOOKUP(A36,Competitors!$A$1:$H$41,8,FALSE)=\"\",\"\",VLOOKUP(A36,Competitors!$A$1:$H$41,8,FALSE))","v":""},{"$f":"IF(IFERROR(VLOOKUP(($B$2&\"_\"&$A36),'Time Entry Sheet'!$A$3:$I$499,9,0),\"Error\")=\"Error\",\"\",IF(VLOOKUP(($B$2&\"_\"&$A36),'Time Entry Sheet'!$A$3:$I$499,9,FALSE)=\"wd\",\"wd\",VLOOKUP(($B$2&\"_\"&$A36),'Time Entry Sheet'!$A$3:$I$499,9,FALSE)*1))","v":""},"",{"$f":"IF(IFERROR(VLOOKUP(($B$2&\"_\"&$A36),'Time Entry Sheet'!$A$3:$I$499,8,FALSE),\"Error\")=\"Error\",\"\",IF(VLOOKUP(($B$2&\"_\"&$A36),'Time Entry Sheet'!$A$3:$I$499,8,FALSE)=\"\",\"\",VLOOKUP(($B$2&\"_\"&$A36),'Time Entry Sheet'!$A$3:$I$499,8,FALSE)))","v":""},{"$f":"IF(IFERROR(VLOOKUP(($B$2&\"_\"&$A36),'Time Entry Sheet'!$A$3:$I$499,7,FALSE),\"Error\")=\"Error\",\"\",IF(VLOOKUP(($B$2&\"_\"&$A36),'Time Entry Sheet'!$A$3:$I$499,7,FALSE)=\"\",\"\",VLOOKUP(($B$2&\"_\"&$A36),'Time Entry Sheet'!$A$3:$I$499,7,FALSE)))","v":""},"00:01:34.040","00:01:34.040",20,"00:01:34.040",20,null,"","00:01:34.040"]
[26,{"$f":"IF($A37=\"\",\"\",IF(VLOOKUP($A37,Competitors!$A$2:$G$60,2,FALSE)=\"\",\"\",VLOOKUP($A37,Competitors!$A$2:$G$60,2,FALSE)))","v":""},{"$f":"IF($A37=\"\",\"\",IF(VLOOKUP($A37,Competitors!$A$2:$G$60,7,FALSE)=\"\",\"\",VLOOKUP($A37,Competitors!$A$2:$G$60,7,FALSE)))","v":""},{"$f":"IF($A37=\"\",\"\",IF(VLOOKUP($A37,Competitors!$A$2:$G$60,5,FALSE)=\"\",\"\",VLOOKUP($A37,Competitors!$A$2:$G$60,5,FALSE)))","v":""},{"$f":"IF($A37=\"\",\"\",IF(VLOOKUP($A37,Competitors!$A$2:$G$60,6,FALSE)=\"\",\"\",VLOOKUP($A37,Competitors!$A$2:$G$60,6,FALSE)))","v":"senior"},{"$f":"IF($A37=\"\",\"\",IF(VLOOKUP($A37,Competitors!$A$2:$G$60,3,FALSE)=\"\",\"\",VLOOKUP($A37,Competitors!$A$2:$G$60,3,FALSE)))","v":""},{"$f":"IF($A37=\"\",\"\",IF(VLOOKUP($A37,Competitors!$A$2:$G$60,4,FALSE)=\"\",\"\",VLOOKUP($A37,Competitors!$A$2:$G$60,4,FALSE)))","v":""},{"$f":"IF(VLOOKUP(A37,Competitors!$A$1:$H$41,8,FALSE)=\"\",\"\",VLOOKUP(A37,Competitors!$A$1:$H$41,8,FALSE))","v":""},{"$f":"IF(IFERROR(VLOOKUP(($B$2&\"_\"&$A37),'Time Entry Sheet'!$A$3:$I$499,9,0),\"Error\")=\"Error\",\"\",IF(VLOOKUP(($B$2&\"_\"&$A37),'Time Entry Sheet'!$A$3:$I$499,9,FALSE)=\"wd\",\"wd\",VLOOKUP(($B$2&\"_\"&$A37),'Time Entry Sheet'!$A$3:$I$499,9,FALSE)*1))","v":""},"",{"$f":"IF(IFERROR(VLOOKUP(($B$2&\"_\"&$A37),'Time Entry Sheet'!$A$3:$I$499,8,FALSE),\"Error\")=\"Error\",\"\",IF(VLOOKUP(($B$2&\"_\"&$A37),'Time Entry Sheet'!$A$3:$I$499,8,FALSE)=\"\",\"\",VLOOKUP(($B$2&\"_\"&$A37),'Time Entry Sheet'!$A$3:$I$499,8,FALSE)))","v":""},{"$f":"IF(IFERROR(VLOOKUP(($B$2&\"_\"&$A37),'Time Entry Sheet'!$A$3:$I$499,7,FALSE),\"Error\")=\"Error\",\"\",IF(VLOOKUP(($B$2&\"_\"&$A37),'Time Entry Sheet'!$A$3:$I$499,7,FALSE)=\"\",\"\",VLOOKUP(($B$2&\"_\"&$A37),'Time Entry Sheet'!$A$3:$I$499,7,FALSE)))","v":""},"00:01:34.040","00:01:34.040",20,"00:01:34.040",20,null,"","00:01:34.040"]
[27,{"$f":"IF($A38=\"\",\"\",IF(VLOOKUP($A38,Competitors!$A$2:$G$60,2,FALSE)=\"\",\"\",VLOOKUP($A38,Competitors!$A$2:$G$60,2,FALSE)))","v":""},{"$f":"IF($A38=\"\",\"\",IF(VLOOKUP($A38,Competitors!$A$2:$G$60,7,FALSE)=\"\",\"\",VLOOKUP($A38,Competitors!$A$2:$G$60,7,FALSE)))","v":""},{"$f":"IF($A38=\"\",\"\",IF(VLOOKUP($A38,Competitors!$A$2:$G$60,5,FALSE)=\"\",\"\",VLOOKUP($A38,Competitors!$A$2:$G$60,5,FALSE)))","v":""},{"$f":"IF($A38=\"\",\"\",IF(VLOOKUP($A38,Competitors!$A$2:$G$60,6,FALSE)=\"\",\"\",VLOOKUP($A38,Competitors!$A$2:$G$60,6,FALSE)))","v":"senior"},{"$f":"IF($A38=\"\",\"\",IF(VLOOKUP($A38,Competitors!$A$2:$G$60,3,FALSE)=\"\",\"\",VLOOKUP($A38,Competitors!$A$2:$G$60,3,FALSE)))","v":""},{"$f":"IF($A38=\"\",\"\",IF(VLOOKUP($A38,Competitors!$A$2:$G$60,4,FALSE)=\"\",\"\",VLOOKUP($A38,Competitors!$A$2:$G$60,4,FALSE)))","v":""},{"$f":"IF(VLOOKUP(A38,Competitors!$A$1:$H$41,8,FALSE)=\"\",\"\",VLOOKUP(A38,Competitors!$A$1:$H$41,8,FALSE))","v":""},{"$f":"IF(IFERROR(VLOOKUP(($B$2&\"_\"&$A38),'Time Entry Sheet'!$A$3:$I$499,9,0),\"Error\")=\"Error\",\"\",IF(VLOOKUP(($B$2&\"_\"&$A38),'Time Entry Sheet'!$A$3:$I$499,9,FALSE)=\"wd\",\"wd\",VLOOKUP(($B$2&\"_\"&$A38),'Time Entry Sheet'!$A$3:$I$499,9,FALSE)*1))","v":""},"",{"$f":"IF(IFERROR(VLOOKUP(($B$2&\"_\"&$A38),'Time Entry Sheet'!$A$3:$I$499,8,FALSE),\"Error\")=\"Error\",\"\",IF(VLOOKUP(($B$2&\"_\"&$A38),'Time Entry Sheet'!$A$3:$I$499,8,FALSE)=\"\",\"\",VLOOKUP(($B$2&\"_\"&$A38),'Time Entry Sheet'!$A$3:$I$499,8,FALSE)))","v":""},{"$f":"IF(IFERROR(VLOOKUP(($B$2&\"_\"&$A38),'Time Entry Sheet'!$A$3:$I$499,7,FALSE),\"Error\")=\"Error\",\"\",IF(VLOOKUP(($B$2&\"_\"&$A38),'Time Entry Sheet'!$A$3:$I$499,7,FALSE)=\"\",\"\",VLOOKUP(($B$2&\"_\"&$A38),'Time Entry Sheet'!$A$3:$I$499,7,FALSE)))","v":""},"00:01:34.040","00:01:34.040",20,"00:01:34.040",20,null,"","00:01:34.040"]
[28,{"$f":"IF($A39=\"\",\"\",IF(VLOOKUP($A39,Competitors!$A$2:$G$60,2,FALSE)=\"\",\"\",VLOOKUP($A39,Competitors!$A$2:$G$60,2,FALSE)))","v":""},{"$f":"IF($A39=\"\",\"\",IF(VLOOKUP($A39,Competitors!$A$2:$G$60,7,FALSE)=\"\",\"\",VLOOKUP($A39,Competitors!$A$2:$G$60,7,FALSE)))","v":""},{"$f":"IF($A39=\"\",\"\",IF(VLOOKUP($A39,Competitors!$A$2:$G$60,5,FALSE)=\"\",\"\",VLOOKUP($A39,Competitors!$A$2:$G$60,5,FALSE)))","v":""},{"$f":"IF($A39=\"\",\"\",IF(VLOOKUP($A39,Competitors!$A$2:$G$60,6,FALSE)=\"\",\"\",VLOOKUP($A39,Competitors!$A$2:$G$60,6,FALSE)))","v":"senior"},{"$f":"IF($A39=\"\",\"\",IF(VLOOKUP($A39,Competitors!$A$2:$G$60,3,FALSE)=\"\",\"\",VLOOKUP($A39,Competitors!$A$2:$G$60,3,FALSE)))","v":""},{"$f":"IF($A39=\"\",\"\",IF(VLOOKUP($A39,Competitors!$A$2:$G$60,4,FALSE)=\"\",\"\",VLOOKUP($A39,Competitors!$A$2:$G$60,4,FALSE)))","v":""},{"$f":"IF(VLOOKUP(A39,Competitors!$A$1:$H$41,8,FALSE)=\"\",\"\",VLOOKUP(A39,Competitors!$A$1:$H$41,8,FALSE))","v":""},{"$f":"IF(IFERROR(VLOOKUP(($B$2&\"_\"&$A39),'Time Entry Sheet'!$A$3:$I$499,9,0),\"Error\")=\"Error\",\"\",IF(VLOOKUP(($B$2&\"_\"&$A39),'Time Entry Sheet'!$A$3:$I$499,9,FALSE)=\"wd\",\"wd\",VLOOKUP(($B$2&\"_\"&$A39),'Time Entry Sheet'!$A$3:$I$499,9,FALSE)*1))","v":""},"",{"$f":"IF(IFERROR(VLOOKUP(($B$2&\"_\"&$A39),'Time Entry Sheet'!$A$3:$I$499,8,FALSE),\"Error\")=\"Error\",\"\",IF(VLOOKUP(($B$2&\"_\"&$A39),'Time Entry Sheet'!$A$3:$I$499,8,FALSE)=\"\",\"\",VLOOKUP(($B$2&\"_\"&$A39),'Time Entry Sheet'!$A$3:$I$499,8,FALSE)))","v":""},{"$f":"IF(IFERROR(VLOOKUP(($B$2&\"_\"&$A39),'Time Entry Sheet'!$A$3:$I$499,7,FALSE),\"Error\")=\"Error\",\"\",IF(VLOOKUP(($B$2&\"_\"&$A39),'Time Entry Sheet'!$A$3:$I$499,7,FALSE)=\"\",\"\",VLOOKUP(($B$2&\"_\"&$A39),'Time Entry Sheet'!$A$3:$I$499,7,FALSE)))","v":""},"00:01:34.040","00:01:34.040",20,"00:01:34.040",20,null,"","00:01:34.040"]
[29,{"$f":"IF($A40=\"\",\"\",IF(VLOOKUP($A40,Competitors!$A$2:$G$60,2,FALSE)=\"\",\"\",VLOOKUP($A40,Competitors!$A$2:$G$60,2,FALSE)))","v":""},{"$f":"IF($A40=\"\",\"\",IF(VLOOKUP($A40,Competitors!$A$2:$G$60,7,FALSE)=\"\",\"\",VLOOKUP($A40,Competitors!$A$2:$G$60,7,FALSE)))","v":""},{"$f":"IF($A40=\"\",\"\",IF(VLOOKUP($A40,Competitors!$A$2:$G$60,5,FALSE)=\"\",\"\",VLOOKUP($A40,Competitors!$A$2:$G$60,5,FALSE)))","v":""},{"$f":"IF($A40=\"\",\"\",IF(VLOOKUP($A40,Competitors!$A$2:$G$60,6,FALSE)=\"\",\"\",VLOOKUP($A40,Competitors!$A$2:$G$60,6,FALSE)))","v":"senior"},{"$f":"IF($A40=\"\",\"\",IF(VLOOKUP($A40,Competitors!$A$2:$G$60,3,FALSE)=\"\",\"\",VLOOKUP($A40,Competitors!$A$2:$G$60,3,FALSE)))","v":""},{"$f":"IF($A40=\"\",\"\",IF(VLOOKUP($A40,Competitors!$A$2:$G$60,4,FALSE)=\"\",\"\",VLOOKUP($A40,Competitors!$A$2:$G$60,4,FALSE)))","v":""},{"$f":"IF(VLOOKUP(A40,Competitors!$A$1:$H$41,8,FALSE)=\"\",\"\",VLOOKUP(A40,Competitors!$A$1:$H$41,8,FALSE))","v":""},{"$f":"IF(IFERROR(VLOOKUP(($B$2&\"_\"&$A40),'Time Entry Sheet'!$A$3:$I$499,9,0),\"Error\")=\"Error\",\"\",IF(VLOOKUP(($B$2&\"_\"&$A40),'Time Entry Sheet'!$A$3:$I$499,9,FALSE)=\"wd\",\"wd\",VLOOKUP(($B$2&\"_\"&$A40),'Time Entry Sheet'!$A$3:$I$499,9,FALSE)*1))","v":""},"",{"$f":"IF(IFERROR(VLOOKUP(($B$2&\"_\"&$A40),'Time Entry Sheet'!$A$3:$I$499,8,FALSE),\"Error\")=\"Error\",\"\",IF(VLOOKUP(($B$2&\"_\"&$A40),'Time Entry Sheet'!$A$3:$I$499,8,FALSE)=\"\",\"\",VLOOKUP(($B$2&\"_\"&$A40),'Time Entry Sheet'!$A$3:$I$499,8,FALSE)))","v":""},{"$f":"IF(IFERROR(VLOOKUP(($B$2&\"_\"&$A40),'Time Entry Sheet'!$A$3:$I$499,7,FALSE),\"Error\")=\"Error\",\"\",IF(VLOOKUP(($B$2&\"_\"&$A40),'Time Entry Sheet'!$A$3:$I$499,7,FALSE)=\"\",\"\",VLOOKUP(($B$2&\"_\"&$A40),'Time Entry Sheet'!$A$3:$I$499,7,FALSE)))","v":""},"00:01:34.040","00:01:34.040",20,"00:01:34.040",20,null,"","00:01:34.040"]
[30,{"$f":"IF($A41=\"\",\"\",IF(VLOOKUP($A41,Competitors!$A$2:$G$60,2,FALSE)=\"\",\"\",VLOOKUP($A41,Competitors!$A$2:$G$60,2,FALSE)))","v":""},{"$f":"IF($A41=\"\",\"\",IF(VLOOKUP($A41,Competitors!$A$2:$G$60,7,FALSE)=\"\",\"\",VLOOKUP($A41,Competitors!$A$2:$G$60,7,FALSE)))","v":""},{"$f":"IF($A41=\"\",\"\",IF(VLOOKUP($A41,Competitors!$A$2:$G$60,5,FALSE)=\"\",\"\",VLOOKUP($A41,Competitors!$A$2:$G$60,5,FALSE)))","v":""},{"$f":"IF($A41=\"\",\"\",IF(VLOOKUP($A41,Competitors!$A$2:$G$60,6,FALSE)=\"\",\"\",VLOOKUP($A41,Competitors!$A$2:$G$60,6,FALSE)))","v":"senior"},{"$f":"IF($A41=\"\",\"\",IF(VLOOKUP($A41,Competitors!$A$2:$G$60,3,FALSE)=\"\",\"\",VLOOKUP($A41,Competitors!$A$2:$G$60,3,FALSE)))","v":""},{"$f":"IF($A41=\"\",\"\",IF(VLOOKUP($A41,Competitors!$A$2:$G$60,4,FALSE)=\"\",\"\",VLOOKUP($A41,Competitors!$A$2:$G$60,4,FALSE)))","v":""},{"$f":"IF(VLOOKUP(A41,Competitors!$A$1:$H$41,8,FALSE)=\"\",\"\",VLOOKUP(A41,Competitors!$A$1:$H$41,8,FALSE))","v":""},{"$f":"IF(IFERROR(VLOOKUP(($B$2&\"_\"&$A41),'Time Entry Sheet'!$A$3:$I$499,9,0),\"Error\")=\"Error\",\"\",IF(VLOOKUP(($B$2&\"_\"&$A41),'Time Entry Sheet'!$A$3:$I$499,9,FALSE)=\"wd\",\"wd\",VLOOKUP(($B$2&\"_\"&$A41),'Time Entry Sheet'!$A$3:$I$499,9,FALSE)*1))","v":""},"",{"$f":"IF(IFERROR(VLOOKUP(($B$2&\"_\"&$A41),'Time Entry Sheet'!$A$3:$I$499,8,FALSE),\"Error\")=\"Error\",\"\",IF(VLOOKUP(($B$2&\"_\"&$A41),'Time Entry Sheet'!$A$3:$I$499,8,FALSE)=\"\",\"\",VLOOKUP(($B$2&\"_\"&$A41),'Time Entry Sheet'!$A$3:$I$499,8,FALSE)))","v":""},{"$f":"IF(IFERROR(VLOOKUP(($B$2&\"_\"&$A41),'Time Entry Sheet'!$A$3:$I$499,7,FALSE),\"Error\")=\"Error\",\"\",IF(VLOOKUP(($B$2&\"_\"&$A41),'Time Entry Sheet'!$A$3:$I$499,7,FALSE)=\"\",\"\",VLOOKUP(($B$2&\"_\"&$A41),'Time Entry Sheet'!$A$3:$I$499,7,FALSE)))","v":""},"00:01:34.040","00:01:34.040",20,"00:01:34.040",20,null,"","00:01:34.040"]
[31,{"$f":"IF($A42=\"\",\"\",IF(VLOOKUP($A42,Competitors!$A$2:$G$60,2,FALSE)=\"\",\"\",VLOOKUP($A42,Competitors!$A$2:$G$60,2,FALSE)))","v":""},{"$f":"IF($A42=\"\",\"\",IF(VLOOKUP($A42,Competitors!$A$2:$G$60,7,FALSE)=\"\",\"\",VLOOKUP($A42,Competitors!$A$2:$G$60,7,FALSE)))","v":""},{"$f":"IF($A42=\"\",\"\",IF(VLOOKUP($A42,Competitors!$A$2:$G$60,5,FALSE)=\"\",\"\",VLOOKUP($A42,Competitors!$A$2:$G$60,5,FALSE)))","v":""},{"$f":"IF($A42=\"\",\"\",IF(VLOOKUP($A42,Competitors!$A$2:$G$60,6,FALSE)=\"\",\"\",VLOOKUP($A42,Competitors!$A$2:$G$60,6,FALSE)))","v":"senior"},{"$f":"IF($A42=\"\",\"\",IF(VLOOKUP($A42,Competitors!$A$2:$G$60,3,FALSE)=\"\",\"\",VLOOKUP($A42,Competitors!$A$2:$G$60,3,FALSE)))","v":""},{"$f":"IF($A42=\"\",\"\",IF(VLOOKUP($A42,Competitors!$A$2:$G$60,4,FALSE)=\"\",\"\",VLOOKUP($A42,Competitors!$A$2:$G$60,4,FALSE)))","v":""},{"$f":"IF(VLOOKUP(A42,Competitors!$A$1:$H$41,8,FALSE)=\"\",\"\",VLOOKUP(A42,Competitors!$A$1:$H$41,8,FALSE))","v":""},{"$f":"IF(IFERROR(VLOOKUP(($B$2&\"_\"&$A42),'Time Entry Sheet'!$A$3:$I$499,9,0),\"Error\")=\"Error\",\"\",IF(VLOOKUP(($B$2&\"_\"&$A42),'Time Entry Sheet'!$A$3:$I$499,9,FALSE)=\"wd\",\"wd\",VLOOKUP(($B$2&\"_\"&$A42),'Time Entry Sheet'!$A$3:$I$499,9,FALSE)*1))","v":""},"",{"$f":"IF(IFERROR(VLOOKUP(($B$2&\"_\"&$A42),'Time Entry Sheet'!$A$3:$I$499,8,FALSE),\"Error\")=\"Error\",\"\",IF(VLOOKUP(($B$2&\"_\"&$A42),'Time Entry Sheet'!$A$3:$I$499,8,FALSE)=\"\",\"\",VLOOKUP(($B$2&\"_\"&$A42),'Time Entry Sheet'!$A$3:$I$499,8,FALSE)))","v":""},{"$f":"IF(IFERROR(VLOOKUP(($B$2&\"_\"&$A42),'Time Entry Sheet'!$A$3:$I$499,7,FALSE),\"Error\")=\"Error\",\"\",IF(VLOOKUP(($B$2&\"_\"&$A42),'Time Entry Sheet'!$A$3:$I$499,7,FALSE)=\"\",\"\",VLOOKUP(($B$2&\"_\"&$A42),'Time Entry Sheet'!$A$3:$I$499,7,FALSE)))","v":""},"00:01:34.040","00:01:34.040",20,"00:01:34.040",20,null,"","00:01:34.040"]
[32,{"$f":"IF($A43=\"\",\"\",IF(VLOOKUP($A43,Competitors!$A$2:$G$60,2,FALSE)=\"\",\"\",VLOOKUP($A43,Competitors!$A$2:$G$60,2,FALSE)))","v":""},{"$f":"IF($A43=\"\",\"\",IF(VLOOKUP($A43,Competitors!$A$2:$G$60,7,FALSE)=\"\",\"\",VLOOKUP($A43,Competitors!$A$2:$G$60,7,FALSE)))","v":""},{"$f":"IF($A43=\"\",\"\",IF(VLOOKUP($A43,Competitors!$A$2:$G$60,5,FALSE)=\"\",\"\",VLOOKUP($A43,Competitors!$A$2:$G$60,5,FALSE)))","v":""},{"$f":"IF($A43=\"\",\"\",IF(VLOOKUP($A43,Competitors!$A$2:$G$60,6,FALSE)=\"\",\"\",VLOOKUP($A43,Competitors!$A$2:$G$60,6,FALSE)))","v":"senior"},{"$f":"IF($A43=\"\",\"\",IF(VLOOKUP($A43,Competitors!$A$2:$G$60,3,FALSE)=\"\",\"\",VLOOKUP($A43,Competitors!$A$2:$G$60,3,FALSE)))","v":""},{"$f":"IF($A43=\"\",\"\",IF(VLOOKUP($A43,Competitors!$A$2:$G$60,4,FALSE)=\"\",\"\",VLOOKUP($A43,Competitors!$A$2:$G$60,4,FALSE)))","v":""},{"$f":"IF(VLOOKUP(A43,Competitors!$A$1:$H$41,8,FALSE)=\"\",\"\",VLOOKUP(A43,Competitors!$A$1:$H$41,8,FALSE))","v":""},{"$f":"IF(IFERROR(VLOOKUP(($B$2&\"_\"&$A43),'Time Entry Sheet'!$A$3:$I$499,9,0),\"Error\")=\"Error\",\"\",IF(VLOOKUP(($B$2&\"_\"&$A43),'Time Entry Sheet'!$A$3:$I$499,9,FALSE)=\"wd\",\"wd\",VLOOKUP(($B$2&\"_\"&$A43),'Time Entry Sheet'!$A$3:$I$499,9,FALSE)*1))","v":""},"",{"$f":"IF(IFERROR(VLOOKUP(($B$2&\"_\"&$A43),'Time Entry Sheet'!$A$3:$I$499,8,FALSE),\"Error\")=\"Error\",\"\",IF(VLOOKUP(($B$2&\"_\"&$A43),'Time Entry Sheet'!$A$3:$I$499,8,FALSE)=\"\",\"\",VLOOKUP(($B$2&\"_\"&$A43),'Time Entry Sheet'!$A$3:$I$499,8,FALSE)))","v":""},{"$f":"IF(IFERROR(VLOOKUP(($B$2&\"_\"&$A43),'Time Entry Sheet'!$A$3:$I$499,7,FALSE),\"Error\")=\"Error\",\"\",IF(VLOOKUP(($B$2&\"_\"&$A43),'Time Entry Sheet'!$A$3:$I$499,7,FALSE)=\"\",\"\",VLOOKUP(($B$2&\"_\"&$A43),'Time Entry Sheet'!$A$3:$I$499,7,FALSE)))","v":""},"00:01:34.040","00:01:34.040",20,"00:01:34.040",20,null,"","00:01:34.040"]
[33,{"$f":"IF($A44=\"\",\"\",IF(VLOOKUP($A44,Competitors!$A$2:$G$60,2,FALSE)=\"\",\"\",VLOOKUP($A44,Competitors!$A$2:$G$60,2,FALSE)))","v":""},{"$f":"IF($A44=\"\",\"\",IF(VLOOKUP($A44,Competitors!$A$2:$G$60,7,FALSE)=\"\",\"\",VLOOKUP($A44,Competitors!$A$2:$G$60,7,FALSE)))","v":""},{"$f":"IF($A44=\"\",\"\",IF(VLOOKUP($A44,Competitors!$A$2:$G$60,5,FALSE)=\"\",\"\",VLOOKUP($A44,Competitors!$A$2:$G$60,5,FALSE)))","v":""},{"$f":"IF($A44=\"\",\"\",IF(VLOOKUP($A44,Competitors!$A$2:$G$60,6,FALSE)=\"\",\"\",VLOOKUP($A44,Competitors!$A$2:$G$60,6,FALSE)))","v":"senior"},{"$f":"IF($A44=\"\",\"\",IF(VLOOKUP($A44,Competitors!$A$2:$G$60,3,FALSE)=\"\",\"\",VLOOKUP($A44,Competitors!$A$2:$G$60,3,FALSE)))","v":""},{"$f":"IF($A44=\"\",\"\",IF(VLOOKUP($A44,Competitors!$A$2:$G$60,4,FALSE)=\"\",\"\",VLOOKUP($A44,Competitors!$A$2:$G$60,4,FALSE)))","v":""},{"$f":"IF(VLOOKUP(A44,Competitors!$A$1:$H$41,8,FALSE)=\"\",\"\",VLOOKUP(A44,Competitors!$A$1:$H$41,8,FALSE))","v":""},{"$f":"IF(IFERROR(VLOOKUP(($B$2&\"_\"&$A44),'Time Entry Sheet'!$A$3:$I$499,9,0),\"Error\")=\"Error\",\"\",IF(VLOOKUP(($B$2&\"_\"&$A44),'Time Entry Sheet'!$A$3:$I$499,9,FALSE)=\"wd\",\"wd\",VLOOKUP(($B$2&\"_\"&$A44),'Time Entry Sheet'!$A$3:$I$499,9,FALSE)*1))","v":""},"",{"$f":"IF(IFERROR(VLOOKUP(($B$2&\"_\"&$A44),'Time Entry Sheet'!$A$3:$I$499,8,FALSE),\"Error\")=\"Error\",\"\",IF(VLOOKUP(($B$2&\"_\"&$A44),'Time Entry Sheet'!$A$3:$I$499,8,FALSE)=\"\",\"\",VLOOKUP(($B$2&\"_\"&$A44),'Time Entry Sheet'!$A$3:$I$499,8,FALSE)))","v":""},{"$f":"IF(IFERROR(VLOOKUP(($B$2&\"_\"&$A44),'Time Entry Sheet'!$A$3:$I$499,7,FALSE),\"Error\")=\"Error\",\"\",IF(VLOOKUP(($B$2&\"_\"&$A44),'Time Entry Sheet'!$A$3:$I$499,7,FALSE)=\"\",\"\",VLOOKUP(($B$2&\"_\"&$A44),'Time Entry Sheet'!$A$3:$I$499,7,FALSE)))","v":""},"00:01:34.040","00:01:34.040",20,"00:01:34.040",20,null,"","00:01:34.040"]
[34,{"$f":"IF($A45=\"\",\"\",IF(VLOOKUP($A45,Competitors!$A$2:$G$60,2,FALSE)=\"\",\"\",VLOOKUP($A45,Competitors!$A$2:$G$60,2,FALSE)))","v":""},{"$f":"IF($A45=\"\",\"\",IF(VLOOKUP($A45,Competitors!$A$2:$G$60,7,FALSE)=\"\",\"\",VLOOKUP($A45,Competitors!$A$2:$G$60,7,FALSE)))","v":""},{"$f":"IF($A45=\"\",\"\",IF(VLOOKUP($A45,Competitors!$A$2:$G$60,5,FALSE)=\"\",\"\",VLOOKUP($A45,Competitors!$A$2:$G$60,5,FALSE)))","v":""},{"$f":"IF($A45=\"\",\"\",IF(VLOOKUP($A45,Competitors!$A$2:$G$60,6,FALSE)=\"\",\"\",VLOOKUP($A45,Competitors!$A$2:$G$60,6,FALSE)))","v":"senior"},{"$f":"IF($A45=\"\",\"\",IF(VLOOKUP($A45,Competitors!$A$2:$G$60,3,FALSE)=\"\",\"\",VLOOKUP($A45,Competitors!$A$2:$G$60,3,FALSE)))","v":""},{"$f":"IF($A45=\"\",\"\",IF(VLOOKUP($A45,Competitors!$A$2:$G$60,4,FALSE)=\"\",\"\",VLOOKUP($A45,Competitors!$A$2:$G$60,4,FALSE)))","v":""},{"$f":"IF(VLOOKUP(A45,Competitors!$A$1:$H$41,8,FALSE)=\"\",\"\",VLOOKUP(A45,Competitors!$A$1:$H$41,8,FALSE))","v":""},{"$f":"IF(IFERROR(VLOOKUP(($B$2&\"_\"&$A45),'Time Entry Sheet'!$A$3:$I$499,9,0),\"Error\")=\"Error\",\"\",IF(VLOOKUP(($B$2&\"_\"&$A45),'Time Entry Sheet'!$A$3:$I$499,9,FALSE)=\"wd\",\"wd\",VLOOKUP(($B$2&\"_\"&$A45),'Time Entry Sheet'!$A$3:$I$499,9,FALSE)*1))","v":""},"",{"$f":"IF(IFERROR(VLOOKUP(($B$2&\"_\"&$A45),'Time Entry Sheet'!$A$3:$I$499,8,FALSE),\"Error\")=\"Error\",\"\",IF(VLOOKUP(($B$2&\"_\"&$A45),'Time Entry Sheet'!$A$3:$I$499,8,FALSE)=\"\",\"\",VLOOKUP(($B$2&\"_\"&$A45),'Time Entry Sheet'!$A$3:$I$499,8,FALSE)))","v":""},{"$f":"IF(IFERROR(VLOOKUP(($B$2&\"_\"&$A45),'Time Entry Sheet'!$A$3:$I$499,7,FALSE),\"Error\")=\"Error\",\"\",IF(VLOOKUP(($B$2&\"_\"&$A45),'Time Entry Sheet'!$A$3:$I$499,7,FALSE)=\"\",\"\",VLOOKUP(($B$2&\"_\"&$A45),'Time Entry Sheet'!$A$3:$I$499,7,FALSE)))","v":""},"00:01:34.040","00:01:34.040",20,"00:01:34.040",20,null,"","00:01:34.040"]
[35,{"$f":"IF($A46=\"\",\"\",IF(VLOOKUP($A46,Competitors!$A$2:$G$60,2,FALSE)=\"\",\"\",VLOOKUP($A46,Competitors!$A$2:$G$60,2,FALSE)))","v":""},{"$f":"IF($A46=\"\",\"\",IF(VLOOKUP($A46,Competitors!$A$2:$G$60,7,FALSE)=\"\",\"\",VLOOKUP($A46,Competitors!$A$2:$G$60,7,FALSE)))","v":""},{"$f":"IF($A46=\"\",\"\",IF(VLOOKUP($A46,Competitors!$A$2:$G$60,5,FALSE)=\"\",\"\",VLOOKUP($A46,Competitors!$A$2:$G$60,5,FALSE)))","v":""},{"$f":"IF($A46=\"\",\"\",IF(VLOOKUP($A46,Competitors!$A$2:$G$60,6,FALSE)=\"\",\"\",VLOOKUP($A46,Competitors!$A$2:$G$60,6,FALSE)))","v":"senior"},{"$f":"IF($A46=\"\",\"\",IF(VLOOKUP($A46,Competitors!$A$2:$G$60,3,FALSE)=\"\",\"\",VLOOKUP($A46,Competitors!$A$2:$G$60,3,FALSE)))","v":""},{"$f":"IF($A46=\"\",\"\",IF(VLOOKUP($A46,Competitors!$A$2:$G$60,4,FALSE)=\"\",\"\",VLOOKUP($A46,Competitors!$A$2:$G$60,4,FALSE)))","v":""},{"$f":"IF(VLOOKUP(A46,Competitors!$A$1:$H$41,8,FALSE)=\"\",\"\",VLOOKUP(A46,Competitors!$A$1:$H$41,8,FALSE))","v":""},{"$f":"IF(IFERROR(VLOOKUP(($B$2&\"_\"&$A46),'Time Entry Sheet'!$A$3:$I$499,9,0),\"Error\")=\"Error\",\"\",IF(VLOOKUP(($B$2&\"_\"&$A46),'Time Entry Sheet'!$A$3:$I$499,9,FALSE)=\"wd\",\"wd\",VLOOKUP(($B$2&\"_\"&$A46),'Time Entry Sheet'!$A$3:$I$499,9,FALSE)*1))","v":""},{"$f":"IF(E46=\"Junior\",\"\",IF(I46=\"wd\",\"\",IF(K46<>\"\",\"\",I46)))","v":""},{"$f":"IF(IFERROR(VLOOKUP(($B$2&\"_\"&$A46),'Time Entry Sheet'!$A$3:$I$499,8,FALSE),\"Error\")=\"Error\",\"\",IF(VLOOKUP(($B$2&\"_\"&$A46),'Time Entry Sheet'!$A$3:$I$499,8,FALSE)=\"\",\"\",VLOOKUP(($B$2&\"_\"&$A46),'Time Entry Sheet'!$A$3:$I$499,8,FALSE)))","v":""},{"$f":"IF(IFERROR(VLOOKUP(($B$2&\"_\"&$A46),'Time Entry Sheet'!$A$3:$I$499,7,FALSE),\"Error\")=\"Error\",\"\",IF(VLOOKUP(($B$2&\"_\"&$A46),'Time Entry Sheet'!$A$3:$I$499,7,FALSE)=\"\",\"\",VLOOKUP(($B$2&\"_\"&$A46),'Time Entry Sheet'!$A$3:$I$499,7,FALSE)))","v":""},{"$f":"IF(A46=\"\",\"\",IF(I46=\"wd\",IF(E46=\"Senior\",$B$7,$C$7),IF(L46<>\"\",$B$7,IF(I46=\"\",IF(E46=\"Senior\",$B$8,$C$8),IF(K46=\"\",I46,I46+($B$5*K46))))))","v":"00:01:34.040"},"00:01:34.040",20,{"$f":"M46","v":"00:01:34.040"},20,null,{"$f":"IF(E46=\"Senior\",\"\",IF(I46=\"wd\",\"\",IF(K46<>\"\",\"\",I46)))","v":""},"00:01:34.040"]
[36,{"$f":"IF($A47=\"\",\"\",IF(VLOOKUP($A47,Competitors!$A$2:$G$60,2,FALSE)=\"\",\"\",VLOOKUP($A47,Competitors!$A$2:$G$60,2,FALSE)))","v":""},{"$f":"IF($A47=\"\",\"\",IF(VLOOKUP($A47,Competitors!$A$2:$G$60,7,FALSE)=\"\",\"\",VLOOKUP($A47,Competitors!$A$2:$G$60,7,FALSE)))","v":""},{"$f":"IF($A47=\"\",\"\",IF(VLOOKUP($A47,Competitors!$A$2:$G$60,5,FALSE)=\"\",\"\",VLOOKUP($A47,Competitors!$A$2:$G$60,5,FALSE)))","v":""},{"$f":"IF($A47=\"\",\"\",IF(VLOOKUP($A47,Competitors!$A$2:$G$60,6,FALSE)=\"\",\"\",VLOOKUP($A47,Competitors!$A$2:$G$60,6,FALSE)))","v":"senior"},{"$f":"IF($A47=\"\",\"\",IF(VLOOKUP($A47,Competitors!$A$2:$G$60,3,FALSE)=\"\",\"\",VLOOKUP($A47,Competitors!$A$2:$G$60,3,FALSE)))","v":""},{"$f":"IF($A47=\"\",\"\",IF(VLOOKUP($A47,Competitors!$A$2:$G$60,4,FALSE)=\"\",\"\",VLOOKUP($A47,Competitors!$A$2:$G$60,4,FALSE)))","v":""},{"$f":"IF(VLOOKUP(A47,Competitors!$A$1:$H$41,8,FALSE)=\"\",\"\",VLOOKUP(A47,Competitors!$A$1:$H$41,8,FALSE))","v":""},{"$f":"IF(IFERROR(VLOOKUP(($B$2&\"_\"&$A47),'Time Entry Sheet'!$A$3:$I$499,9,0),\"Error\")=\"Error\",\"\",IF(VLOOKUP(($B$2&\"_\"&$A47),'Time Entry Sheet'!$A$3:$I$499,9,FALSE)=\"wd\",\"wd\",VLOOKUP(($B$2&\"_\"&$A47),'Time Entry Sheet'!$A$3:$I$499,9,FALSE)*1))","v":""},"",{"$f":"IF(IFERROR(VLOOKUP(($B$2&\"_\"&$A47),'Time Entry Sheet'!$A$3:$I$499,8,FALSE),\"Error\")=\"Error\",\"\",IF(VLOOKUP(($B$2&\"_\"&$A47),'Time Entry Sheet'!$A$3:$I$499,8,FALSE)=\"\",\"\",VLOOKUP(($B$2&\"_\"&$A47),'Time Entry Sheet'!$A$3:$I$499,8,FALSE)))","v":""},{"$f":"IF(IFERROR(VLOOKUP(($B$2&\"_\"&$A47),'Time Entry Sheet'!$A$3:$I$499,7,FALSE),\"Error\")=\"Error\",\"\",IF(VLOOKUP(($B$2&\"_\"&$A47),'Time Entry Sheet'!$A$3:$I$499,7,FALSE)=\"\",\"\",VLOOKUP(($B$2&\"_\"&$A47),'Time Entry Sheet'!$A$3:$I$499,7,FALSE)))","v":""},"00:01:34.040","00:01:34.040",20,"00:01:34.040",20,null,"","00:01:34.040"]
[37,{"$f":"IF($A48=\"\",\"\",IF(VLOOKUP($A48,Competitors!$A$2:$G$60,2,FALSE)=\"\",\"\",VLOOKUP($A48,Competitors!$A$2:$G$60,2,FALSE)))","v":""},{"$f":"IF($A48=\"\",\"\",IF(VLOOKUP($A48,Competitors!$A$2:$G$60,7,FALSE)=\"\",\"\",VLOOKUP($A48,Competitors!$A$2:$G$60,7,FALSE)))","v":""},{"$f":"IF($A48=\"\",\"\",IF(VLOOKUP($A48,Competitors!$A$2:$G$60,5,FALSE)=\"\",\"\",VLOOKUP($A48,Competitors!$A$2:$G$60,5,FALSE)))","v":""},{"$f":"IF($A48=\"\",\"\",IF(VLOOKUP($A48,Competitors!$A$2:$G$60,6,FALSE)=\"\",\"\",VLOOKUP($A48,Competitors!$A$2:$G$60,6,FALSE)))","v":"senior"},{"$f":"IF($A48=\"\",\"\",IF(VLOOKUP($A48,Competitors!$A$2:$G$60,3,FALSE)=\"\",\"\",VLOOKUP($A48,Competitors!$A$2:$G$60,3,FALSE)))","v":""},{"$f":"IF($A48=\"\",\"\",IF(VLOOKUP($A48,Competitors!$A$2:$G$60,4,FALSE)=\"\",\"\",VLOOKUP($A48,Competitors!$A$2:$G$60,4,FALSE)))","v":""},{"$f":"IF(VLOOKUP(A48,Competitors!$A$1:$H$41,8,FALSE)=\"\",\"\",VLOOKUP(A48,Competitors!$A$1:$H$41,8,FALSE))","v":""},{"$f":"IF(IFERROR(VLOOKUP(($B$2&\"_\"&$A48),'Time Entry Sheet'!$A$3:$I$499,9,0),\"Error\")=\"Error\",\"\",IF(VLOOKUP(($B$2&\"_\"&$A48),'Time Entry Sheet'!$A$3:$I$499,9,FALSE)=\"wd\",\"wd\",VLOOKUP(($B$2&\"_\"&$A48),'Time Entry Sheet'!$A$3:$I$499,9,FALSE)*1))","v":""},"",{"$f":"IF(IFERROR(VLOOKUP(($B$2&\"_\"&$A48),'Time Entry Sheet'!$A$3:$I$499,8,FALSE),\"Error\")=\"Error\",\"\",IF(VLOOKUP(($B$2&\"_\"&$A48),'Time Entry Sheet'!$A$3:$I$499,8,FALSE)=\"\",\"\",VLOOKUP(($B$2&\"_\"&$A48),'Time Entry Sheet'!$A$3:$I$499,8,FALSE)))","v":""},{"$f":"IF(IFERROR(VLOOKUP(($B$2&\"_\"&$A48),'Time Entry Sheet'!$A$3:$I$499,7,FALSE),\"Error\")=\"Error\",\"\",IF(VLOOKUP(($B$2&\"_\"&$A48),'Time Entry Sheet'!$A$3:$I$499,7,FALSE)=\"\",\"\",VLOOKUP(($B$2&\"_\"&$A48),'Time Entry Sheet'!$A$3:$I$499,7,FALSE)))","v":""},"00:01:34.040","00:01:34.040",20,"00:01:34.040",20,null,"","00:01:34.040"]
[38,{"$f":"IF($A49=\"\",\"\",IF(VLOOKUP($A49,Competitors!$A$2:$G$60,2,FALSE)=\"\",\"\",VLOOKUP($A49,Competitors!$A$2:$G$60,2,FALSE)))","v":""},{"$f":"IF($A49=\"\",\"\",IF(VLOOKUP($A49,Competitors!$A$2:$G$60,7,FALSE)=\"\",\"\",VLOOKUP($A49,Competitors!$A$2:$G$60,7,FALSE)))","v":""},{"$f":"IF($A49=\"\",\"\",IF(VLOOKUP($A49,Competitors!$A$2:$G$60,5,FALSE)=\"\",\"\",VLOOKUP($A49,Competitors!$A$2:$G$60,5,FALSE)))","v":""},{"$f":"IF($A49=\"\",\"\",IF(VLOOKUP($A49,Competitors!$A$2:$G$60,6,FALSE)=\"\",\"\",VLOOKUP($A49,Competitors!$A$2:$G$60,6,FALSE)))","v":"senior"},{"$f":"IF($A49=\"\",\"\",IF(VLOOKUP($A49,Competitors!$A$2:$G$60,3,FALSE)=\"\",\"\",VLOOKUP($A49,Competitors!$A$2:$G$60,3,FALSE)))","v":""},{"$f":"IF($A49=\"\",\"\",IF(VLOOKUP($A49,Competitors!$A$2:$G$60,4,FALSE)=\"\",\"\",VLOOKUP($A49,Competitors!$A$2:$G$60,4,FALSE)))","v":""},{"$f":"IF(VLOOKUP(A49,Competitors!$A$1:$H$41,8,FALSE)=\"\",\"\",VLOOKUP(A49,Competitors!$A$1:$H$41,8,FALSE))","v":""},{"$f":"IF(IFERROR(VLOOKUP(($B$2&\"_\"&$A49),'Time Entry Sheet'!$A$3:$I$499,9,0),\"Error\")=\"Error\",\"\",IF(VLOOKUP(($B$2&\"_\"&$A49),'Time Entry Sheet'!$A$3:$I$499,9,FALSE)=\"wd\",\"wd\",VLOOKUP(($B$2&\"_\"&$A49),'Time Entry Sheet'!$A$3:$I$499,9,FALSE)*1))","v":""},{"$f":"IF(E49=\"Junior\",\"\",IF(I49=\"wd\",\"\",IF(K49<>\"\",\"\",I49)))","v":""},{"$f":"IF(IFERROR(VLOOKUP(($B$2&\"_\"&$A49),'Time Entry Sheet'!$A$3:$I$499,8,FALSE),\"Error\")=\"Error\",\"\",IF(VLOOKUP(($B$2&\"_\"&$A49),'Time Entry Sheet'!$A$3:$I$499,8,FALSE)=\"\",\"\",VLOOKUP(($B$2&\"_\"&$A49),'Time Entry Sheet'!$A$3:$I$499,8,FALSE)))","v":""},{"$f":"IF(IFERROR(VLOOKUP(($B$2&\"_\"&$A49),'Time Entry Sheet'!$A$3:$I$499,7,FALSE),\"Error\")=\"Error\",\"\",IF(VLOOKUP(($B$2&\"_\"&$A49),'Time Entry Sheet'!$A$3:$I$499,7,FALSE)=\"\",\"\",VLOOKUP(($B$2&\"_\"&$A49),'Time Entry Sheet'!$A$3:$I$499,7,FALSE)))","v":""},{"$f":"IF(A49=\"\",\"\",IF(I49=\"wd\",IF(E49=\"Senior\",$B$7,$C$7),IF(L49<>\"\",$B$7,IF(I49=\"\",IF(E49=\"Senior\",$B$8,$C$8),IF(K49=\"\",I49,I49+($B$5*K49))))))","v":"00:01:34.040"},"00:01:34.040",20,{"$f":"M49","v":"00:01:34.040"},20,null,{"$f":"IF(E49=\"Senior\",\"\",IF(I49=\"wd\",\"\",IF(K49<>\"\",\"\",I49)))","v":""},"00:01:34.040"]
[39,{"$f":"IF($A50=\"\",\"\",IF(VLOOKUP($A50,Competitors!$A$2:$G$60,2,FALSE)=\"\",\"\",VLOOKUP($A50,Competitors!$A$2:$G$60,2,FALSE)))","v":""},{"$f":"IF($A50=\"\",\"\",IF(VLOOKUP($A50,Competitors!$A$2:$G$60,7,FALSE)=\"\",\"\",VLOOKUP($A50,Competitors!$A$2:$G$60,7,FALSE)))","v":""},{"$f":"IF($A50=\"\",\"\",IF(VLOOKUP($A50,Competitors!$A$2:$G$60,5,FALSE)=\"\",\"\",VLOOKUP($A50,Competitors!$A$2:$G$60,5,FALSE)))","v":""},{"$f":"IF($A50=\"\",\"\",IF(VLOOKUP($A50,Competitors!$A$2:$G$60,6,FALSE)=\"\",\"\",VLOOKUP($A50,Competitors!$A$2:$G$60,6,FALSE)))","v":"senior"},{"$f":"IF($A50=\"\",\"\",IF(VLOOKUP($A50,Competitors!$A$2:$G$60,3,FALSE)=\"\",\"\",VLOOKUP($A50,Competitors!$A$2:$G$60,3,FALSE)))","v":""},{"$f":"IF($A50=\"\",\"\",IF(VLOOKUP($A50,Competitors!$A$2:$G$60,4,FALSE)=\"\",\"\",VLOOKUP($A50,Competitors!$A$2:$G$60,4,FALSE)))","v":""},{"$f":"IF(VLOOKUP(A50,Competitors!$A$1:$H$41,8,FALSE)=\"\",\"\",VLOOKUP(A50,Competitors!$A$1:$H$41,8,FALSE))","v":""},{"$f":"IF(IFERROR(VLOOKUP(($B$2&\"_\"&$A50),'Time Entry Sheet'!$A$3:$I$499,9,0),\"Error\")=\"Error\",\"\",IF(VLOOKUP(($B$2&\"_\"&$A50),'Time Entry Sheet'!$A$3:$I$499,9,FALSE)=\"wd\",\"wd\",VLOOKUP(($B$2&\"_\"&$A50),'Time Entry Sheet'!$A$3:$I$499,9,FALSE)*1))","v":""},"",{"$f":"IF(IFERROR(VLOOKUP(($B$2&\"_\"&$A50),'Time Entry Sheet'!$A$3:$I$499,8,FALSE),\"Error\")=\"Error\",\"\",IF(VLOOKUP(($B$2&\"_\"&$A50),'Time Entry Sheet'!$A$3:$I$499,8,FALSE)=\"\",\"\",VLOOKUP(($B$2&\"_\"&$A50),'Time Entry Sheet'!$A$3:$I$499,8,FALSE)))","v":""},{"$f":"IF(IFERROR(VLOOKUP(($B$2&\"_\"&$A50),'Time Entry Sheet'!$A$3:$I$499,7,FALSE),\"Error\")=\"Error\",\"\",IF(VLOOKUP(($B$2&\"_\"&$A50),'Time Entry Sheet'!$A$3:$I$499,7,FALSE)=\"\",\"\",VLOOKUP(($B$2&\"_\"&$A50),'Time Entry Sheet'!$A$3:$I$499,7,FALSE)))","v":""},"00:01:34.040","00:01:34.040",20,"00:01:34.040",20,null,"","00:01:34.040"]
[40,{"$f":"IF($A51=\"\",\"\",IF(VLOOKUP($A51,Competitors!$A$2:$G$60,2,FALSE)=\"\",\"\",VLOOKUP($A51,Competitors!$A$2:$G$60,2,FALSE)))","v":""},{"$f":"IF($A51=\"\",\"\",IF(VLOOKUP($A51,Competitors!$A$2:$G$60,7,FALSE)=\"\",\"\",VLOOKUP($A51,Competitors!$A$2:$G$60,7,FALSE)))","v":""},{"$f":"IF($A51=\"\",\"\",IF(VLOOKUP($A51,Competitors!$A$2:$G$60,5,FALSE)=\"\",\"\",VLOOKUP($A51,Competitors!$A$2:$G$60,5,FALSE)))","v":""},{"$f":"IF($A51=\"\",\"\",IF(VLOOKUP($A51,Competitors!$A$2:$G$60,6,FALSE)=\"\",\"\",VLOOKUP($A51,Competitors!$A$2:$G$60,6,FALSE)))","v":"senior"},{"$f":"IF($A51=\"\",\"\",IF(VLOOKUP($A51,Competitors!$A$2:$G$60,3,FALSE)=\"\",\"\",VLOOKUP($A51,Competitors!$A$2:$G$60,3,FALSE)))","v":""},{"$f":"IF($A51=\"\",\"\",IF(VLOOKUP($A51,Competitors!$A$2:$G$60,4,FALSE)=\"\",\"\",VLOOKUP($A51,Competitors!$A$2:$G$60,4,FALSE)))","v":""},{"$f":"IF(VLOOKUP(A51,Competitors!$A$1:$H$41,8,FALSE)=\"\",\"\",VLOOKUP(A51,Competitors!$A$1:$H$41,8,FALSE))","v":""},{"$f":"IF(IFERROR(VLOOKUP(($B$2&\"_\"&$A51),'Time Entry Sheet'!$A$3:$I$499,9,0),\"Error\")=\"Error\",\"\",IF(VLOOKUP(($B$2&\"_\"&$A51),'Time Entry Sheet'!$A$3:$I$499,9,FALSE)=\"wd\",\"wd\",VLOOKUP(($B$2&\"_\"&$A51),'Time Entry Sheet'!$A$3:$I$499,9,FALSE)*1))","v":""},"",{"$f":"IF(IFERROR(VLOOKUP(($B$2&\"_\"&$A51),'Time Entry Sheet'!$A$3:$I$499,8,FALSE),\"Error\")=\"Error\",\"\",IF(VLOOKUP(($B$2&\"_\"&$A51),'Time Entry Sheet'!$A$3:$I$499,8,FALSE)=\"\",\"\",VLOOKUP(($B$2&\"_\"&$A51),'Time Entry Sheet'!$A$3:$I$499,8,FALSE)))","v":""},{"$f":"IF(IFERROR(VLOOKUP(($B$2&\"_\"&$A51),'Time Entry Sheet'!$A$3:$I$499,7,FALSE),\"Error\")=\"Error\",\"\",IF(VLOOKUP(($B$2&\"_\"&$A51),'Time Entry Sheet'!$A$3:$I$499,7,FALSE)=\"\",\"\",VLOOKUP(($B$2&\"_\"&$A51),'Time Entry Sheet'!$A$3:$I$499,7,FALSE)))","v":""},"00:01:34.040","00:01:34.040",20,"00:01:34.040",20,null,"","00:01:34.040"]

{"sheet":"Test 2","index":19,"n_rows":51,"n_cols":20,"rows_kept":51,"cut":false,"hidden":false,"merged":[[0,8,0,10]]}
[]
["TEST",2,null,null,null,null,null,null,null,null,"PROVISIONAL RESULTS",null,{"$f":"NOW()","v":42690.814244444446},null,{"$f":"NOW()","v":"2016-11-16T19:32:30.720"}]
["Date:","2015-10-31",null,null,null,null,null,null,null,null,null,"Junior",{"$f":"MIN( IF( $E$8:$E$51=L3, $S$8:$S$51 ) )","v":"00:00:00"},null,"FASTEST"]
["10 sec penalty","00:00:10",null,null,null,null,null,null,null,null,null,"Junior",{"$f":"MAX( IF( $E$8:$E$51=L4, $S$8:$S$51 ) )","v":"00:00:00"},null,"SLOWEST"]
["Flag penalty","00:00:05",null,null,null,null,"SENIOR"]
[null,null,null,null,null,null,"Fastest test time x 2",null,{"$f":"M6*2","v":"00:01:27.400"},null,null,"Senior",{"$f":"MIN( IF( E11:E51=L6, J11:J51 ) )","v":"00:00:43.700"},null,"FASTEST"]
["Slowest test time + 5 second penalty",{"$f":"MIN($I$6,$I$7)+$B$5","v":"00:00:59.700"},{"$f":"MIN($I$9:$I$10)+$B$5","v":"00:00:05"},null,null,null,"Slowest test time",null,{"$f":"M7","v":"00:00:54.700"},null,null,"Senior",{"$f":"MAX( IF( E11:E51=L7, J11:J51 ) )","v":"00:00:54.700"},null,"SLOWEST"]
["Failure to Attempt Course (Slowest time + 10 sec)",{"$f":"SUM($I$7,$B$4)","v":"00:01:04.700"},{"$f":"SUM($I$10,$B$4)","v":"00:00:10"},null,null,null,"JUNIOR"]
[null,null,null,null,null,null,"Fastest test time x 2",null,{"$f":"M3*2","v":"00:00:00"}]
[null,null,null,null,null,null,"Slowest test time",null,{"$f":"M4","v":"00:00:00"}]
["Car Number","Driver","Rookie?","Female Driver?","Junior Driver?","Vehicle","Class","Senior with Passenger?","Time Taken (MM:SS.00)","Time Taken-PenaltyCalculator (MM:SS.00)","No. of Flags &/or Finishes partly out of garage","Slowest time + 5 sec penalty type","Total Test 2 Time","Total Test 1 Time for ranking","Test 2 Position","Cumulative Time Taken (MM:SS.00)","Cumulative Outright Position","Comments","Time Taken-PenaltyCalculator Junior(MM:SS.00)","Cumulative Time Taken (MM:SS.00) for ranking"]
[1,{"$f":"IF($A12=\"\",\"\",IF(VLOOKUP($A12,Competitors!$A$2:$G$60,2,FALSE)=\"\",\"\",VLOOKUP($A12,Competitors!$A$2:$G$60,2,FALSE)))","v":"Paul Dunn"},{"$f":"IF($A12=\"\",\"\",IF(VLOOKUP($A12,Competitors!$A$2:$G$60,7,FALSE)=\"\",\"\",VLOOKUP($A12,Competitors!$A$2:$G$60,7,FALSE)))","v":""},{"$f":"IF($A12=\"\",\"\",IF(VLOOKUP($A12,Competitors!$A$2:$G$60,5,FALSE)=\"\",\"\",VLOOKUP($A12,Competitors!$A$2:$G$60,5,FALSE)))","v":""},{"$f":"IF($A12=\"\",\"\",IF(VLOOKUP($A12,Competitors!$A$2:$G$60,6,FALSE)=\"\",\"\",VLOOKUP($A12,Competitors!$A$2:$G$60,6,FALSE)))","v":"senior"},{"$f":"IF($A12=\"\",\"\",IF(VLOOKUP($A12,Competitors!$A$2:$G$60,3,FALSE)=\"\",\"\",VLOOKUP($A12,Competitors!$A$2:$G$60,3,FALSE)))","v":"Excel"},{"$f":"IF($A12=\"\",\"\",IF(VLOOKUP($A12,Competitors!$A$2:$G$60,4,FALSE)=\"\",\"\",VLOOKUP($A12,Competitors!$A$2:$G$60,4,FALSE)))","v":""},{"$f":"IF(VLOOKUP(A12,Competitors!$A$1:$H$41,8,FALSE)=\"\",\"\",VLOOKUP(A12,Competitors!$A$1:$H$41,8,FALSE))","v":""},{"$f":"IF(IFERROR(VLOOKUP(($B$2&\"_\"&$A12),'Time Entry Sheet'!$A$3:$I$499,9,0),\"Error\")=\"Error\",\"\",IF(VLOOKUP(($B$2&\"_\"&$A12),'Time Entry Sheet'!$A$3:$I$499,9,FALSE)=\"wd\",\"wd\",VLOOKUP(($B$2&\"_\"&$A12),'Time Entry Sheet'!$A$3:$I$499,9,FALSE)*1))","v":"00:00:44.900"},{"$f":"IF(E12=\"Junior\",\"\",IF(I12=\"wd\",\"\",IF(K12<>\"\",\"\",I12)))","v":"00:00:44.900"},{"$f":"IF(IFERROR(VLOOKUP(($B$2&\"_\"&$A12),'Time Entry Sheet'!$A$3:$I$499,8,FALSE),\"Error\")=\"Error\",\"\",IF(VLOOKUP(($B$2&\"_\"&$A12),'Time Entry Sheet'!$A$3:$I$499,8,FALSE)=\"\",\"\",VLOOKUP(($B$2&\"_\"&$A12),'Time Entry Sheet'!$A$3:$I$499,8,FALSE)))","v":""},{"$f":"IF(IFERROR(VLOOKUP(($B$2&\"_\"&$A12),'Time Entry Sheet'!$A$3:$I$499,7,FALSE),\"Error\")=\"Error\",\"\",IF(VLOOKUP(($B$2&\"_\"&$A12),'Time Entry Sheet'!$A$3:$I$499,7,FALSE)=\"\",\"\",VLOOKUP(($B$2&\"_\"&$A12),'Time Entry Sheet'!$A$3:$I$499,7,FALSE)))","v":""},{"$f":"IF(A12=\"\",\"\",IF(I12=\"wd\",IF(E12=\"Senior\",$B$7,$C$7),IF(L12<>\"\",$B$7,IF(I12=\"\",IF(E12=\"Senior\",$B$8,$C$8),IF(K12=\"\",I12,I12+($B$5*K12))))))","v":"00:00:44.900"},{"$f":"IF(H12=\"Passenger\",\"\",M12)","v":"00:00:44.900"},{"$f":"IF(A12=\"\",\"\",IF(H12=\"Passenger\",\"P\",RANK(N12,$N$12:$N$51,1)))","v":2},{"$f":"IF(A12=\"\",\"\",M12+VLOOKUP(A12,'Test 1'!$A$12:$Q$51,16,FALSE))","v":"00:01:35.680"},{"$f":"IF(A12=\"\",\"\",IF(H12=\"Passenger\",\"P\",RANK(T12,$T$12:$T$51,1)))","v":2},null,{"$f":"IF(E12=\"Senior\",\"\",IF(I12=\"wd\",\"\",IF(K12<>\"\",\"\",I12)))","v":""},{"$f":"IF(H12=\"Passenger\",\"\",P12)","v":"00:01:35.680"}]
[2,{"$f":"IF($A13=\"\",\"\",IF(VLOOKUP($A13,Competitors!$A$2:$G$60,2,FALSE)=\"\",\"\",VLOOKUP($A13,Competitors!$A$2:$G$60,2,FALSE)))","v":"Stephen Thorne"},{"$f":"IF($A13=\"\",\"\",IF(VLOOKUP($A13,Competitors!$A$2:$G$60,7,FALSE)=\"\",\"\",VLOOKUP($A13,Competitors!$A$2:$G$60,7,FALSE)))","v":""},{"$f":"IF($A13=\"\",\"\",IF(VLOOKUP($A13,Competitors!$A$2:$G$60,5,FALSE)=\"\",\"\",VLOOKUP($A13,Competitors!$A$2:$G$60,5,FALSE)))","v":""},{"$f":"IF($A13=\"\",\"\",IF(VLOOKUP($A13,Competitors!$A$2:$G$60,6,FALSE)=\"\",\"\",VLOOKUP($A13,Competitors!$A$2:$G$60,6,FALSE)))","v":"senior"},{"$f":"IF($A13=\"\",\"\",IF(VLOOKUP($A13,Competitors!$A$2:$G$60,3,FALSE)=\"\",\"\",VLOOKUP($A13,Competitors!$A$2:$G$60,3,FALSE)))","v":""},{"$f":"IF($A13=\"\",\"\",IF(VLOOKUP($A13,Competitors!$A$2:$G$60,4,FALSE)=\"\",\"\",VLOOKUP($A13,Competitors!$A$2:$G$60,4,FALSE)))","v":""},{"$f":"IF(VLOOKUP(A13,Competitors!$A$1:$H$41,8,FALSE)=\"\",\"\",VLOOKUP(A13,Competitors!$A$1:$H$41,8,FALSE))","v":""},{"$f":"IF(IFERROR(VLOOKUP(($B$2&\"_\"&$A13),'Time Entry Sheet'!$A$3:$I$499,9,0),\"Error\")=\"Error\",\"\",IF(VLOOKUP(($B$2&\"_\"&$A13),'Time Entry Sheet'!$A$3:$I$499,9,FALSE)=\"wd\",\"wd\",VLOOKUP(($B$2&\"_\"&$A13),'Time Entry Sheet'!$A$3:$I$499,9,FALSE)*1))","v":"00:00:45.700"},"00:00:45.700",{"$f":"IF(IFERROR(VLOOKUP(($B$2&\"_\"&$A13),'Time Entry Sheet'!$A$3:$I$499,8,FALSE),\"Error\")=\"Error\",\"\",IF(VLOOKUP(($B$2&\"_\"&$A13),'Time Entry Sheet'!$A$3:$I$499,8,FALSE)=\"\",\"\",VLOOKUP(($B$2&\"_\"&$A13),'Time Entry Sheet'!$A$3:$I$499,8,FALSE)))","v":""},{"$f":"IF(IFERROR(VLOOKUP(($B$2&\"_\"&$A13),'Time Entry Sheet'!$A$3:$I$499,7,FALSE),\"Error\")=\"Error\",\"\",IF(VLOOKUP(($B$2&\"_\"&$A13),'Time Entry Sheet'!$A$3:$I$499,7,FALSE)=\"\",\"\",VLOOKUP(($B$2&\"_\"&$A13),'Time Entry Sheet'!$A$3:$I$499,7,FALSE)))","v":""},"00:00:45.700",{"$f":"IF(H13=\"Passenger\",\"\",M13)","v":"00:00:45.700"},{"$f":"IF(A13=\"\",\"\",IF(H13=\"Passenger\",\"P\",RANK(N13,$N$12:$N$51,1)))","v":4},{"$f":"IF(A13=\"\",\"\",M13+VLOOKUP(A13,'Test 1'!$A$12:$Q$51,16,FALSE))","v":"00:01:40.530"},{"$f":"IF(A13=\"\",\"\",IF(H13=\"Passenger\",\"P\",RANK(T13,$T$12:$T$51,1)))","v":5},null,"",{"$f":"IF(H13=\"Passenger\",\"\",P13)","v":"00:01:40.530"}]
[3,{"$f":"IF($A14=\"\",\"\",IF(VLOOKUP($A14,Competitors!$A$2:$G$60,2,FALSE)=\"\",\"\",VLOOKUP($A14,Competitors!$A$2:$G$60,2,FALSE)))","v":"David Ballard"},{"$f":"IF($A14=\"\",\"\",IF(VLOOKUP($A14,Competitors!$A$2:$G$60,7,FALSE)=\"\",\"\",VLOOKUP($A14,Competitors!$A$2:$G$60,7,FALSE)))","v":""},{"$f":"IF($A14=\"\",\"\",IF(VLOOKUP($A14,Competitors!$A$2:$G$60,5,FALSE)=\"\",\"\",VLOOKUP($A14,Competitors!$A$2:$G$60,5,FALSE)))","v":""},{"$f":"IF($A14=\"\",\"\",IF(VLOOKUP($A14,Competitors!$A$2:$G$60,6,FALSE)=\"\",\"\",VLOOKUP($A14,Competitors!$A$2:$G$60,6,FALSE)))","v":"senior"},{"$f":"IF($A14=\"\",\"\",IF(VLOOKUP($A14,Competitors!$A$2:$G$60,3,FALSE)=\"\",\"\",VLOOKUP($A14,Competitors!$A$2:$G$60,3,FALSE)))","v":""},{"$f":"IF($A14=\"\",\"\",IF(VLOOKUP($A14,Competitors!$A$2:$G$60,4,FALSE)=\"\",\"\",VLOOKUP($A14,Competitors!$A$2:$G$60,4,FALSE)))","v":""},{"$f":"IF(VLOOKUP(A14,Competitors!$A$1:$H$41,8,FALSE)=\"\",\"\",VLOOKUP(A14,Competitors!$A$1:$H$41,8,FALSE))","v":""},{"$f":"IF(IFERROR(VLOOKUP(($B$2&\"_\"&$A14),'Time Entry Sheet'!$A$3:$I$499,9,0),\"Error\")=\"Error\",\"\",IF(VLOOKUP(($B$2&\"_\"&$A14),'Time Entry Sheet'!$A$3:$I$499,9,FALSE)=\"wd\",\"wd\",VLOOKUP(($B$2&\"_\"&$A14),'Time Entry Sheet'!$A$3:$I$499,9,FALSE)*1))","v":"00:00:51.100"},"00:00:51.100",{"$f":"IF(IFERROR(VLOOKUP(($B$2&\"_\"&$A14),'Time Entry Sheet'!$A$3:$I$499,8,FALSE),\"Error\")=\"Error\",\"\",IF(VLOOKUP(($B$2&\"_\"&$A14),'Time Entry Sheet'!$A$3:$I$499,8,FALSE)=\"\",\"\",VLOOKUP(($B$2&\"_\"&$A14),'Time Entry Sheet'!$A$3:$I$499,8,FALSE)))","v":""},{"$f":"IF(IFERROR(VLOOKUP(($B$2&\"_\"&$A14),'Time Entry Sheet'!$A$3:$I$499,7,FALSE),\"Error\")=\"Error\",\"\",IF(VLOOKUP(($B$2&\"_\"&$A14),'Time Entry Sheet'!$A$3:$I$499,7,FALSE)=\"\",\"\",VLOOKUP(($B$2&\"_\"&$A14),'Time Entry Sheet'!$A$3:$I$499,7,FALSE)))","v":""},"00:00:51.100","00:00:51.100",11,{"$f":"IF(A14=\"\",\"\",M14+VLOOKUP(A14,'Test 1'!$A$12:$Q$51,16,FALSE))","v":"00:01:44.940"},8,null,"","00:01:44.940"]
[4,{"$f":"IF($A15=\"\",\"\",IF(VLOOKUP($A15,Competitors!$A$2:$G$60,2,FALSE)=\"\",\"\",VLOOKUP($A15,Competitors!$A$2:$G$60,2,FALSE)))","v":"Michaela Ballard"},{"$f":"IF($A15=\"\",\"\",IF(VLOOKUP($A15,Competitors!$A$2:$G$60,7,FALSE)=\"\",\"\",VLOOKUP($A15,Competitors!$A$2:$G$60,7,FALSE)))","v":"rookie"},{"$f":"IF($A15=\"\",\"\",IF(VLOOKUP($A15,Competitors!$A$2:$G$60,5,FALSE)=\"\",\"\",VLOOKUP($A15,Competitors!$A$2:$G$60,5,FALSE)))","v":"female"},{"$f":"IF($A15=\"\",\"\",IF(VLOOKUP($A15,Competitors!$A$2:$G$60,6,FALSE)=\"\",\"\",VLOOKUP($A15,Competitors!$A$2:$G$60,6,FALSE)))","v":"senior"},{"$f":"IF($A15=\"\",\"\",IF(VLOOKUP($A15,Competitors!$A$2:$G$60,3,FALSE)=\"\",\"\",VLOOKUP($A15,Competitors!$A$2:$G$60,3,FALSE)))","v":""},{"$f":"IF($A15=\"\",\"\",IF(VLOOKUP($A15,Competitors!$A$2:$G$60,4,FALSE)=\"\",\"\",VLOOKUP($A15,Competitors!$A$2:$G$60,4,FALSE)))","v":""},{"$f":"IF(VLOOKUP(A15,Competitors!$A$1:$H$41,8,FALSE)=\"\",\"\",VLOOKUP(A15,Competitors!$A$1:$H$41,8,FALSE))","v":""},{"$f":"IF(IFERROR(VLOOKUP(($B$2&\"_\"&$A15),'Time Entry Sheet'!$A$3:$I$499,9,0),\"Error\")=\"Error\",\"\",IF(VLOOKUP(($B$2&\"_\"&$A15),'Time Entry Sheet'!$A$3:$I$499,9,FALSE)=\"wd\",\"wd\",VLOOKUP(($B$2&\"_\"&$A15),'Time Entry Sheet'!$A$3:$I$499,9,FALSE)*1))","v":"00:00:54.700"},"00:00:54.700",{"$f":"IF(IFERROR(VLOOKUP(($B$2&\"_\"&$A15),'Time Entry Sheet'!$A$3:$I$499,8,FALSE),\"Error\")=\"Error\",\"\",IF(VLOOKUP(($B$2&\"_\"&$A15),'Time Entry Sheet'!$A$3:$I$499,8,FALSE)=\"\",\"\",VLOOKUP(($B$2&\"_\"&$A15),'Time Entry Sheet'!$A$3:$I$499,8,FALSE)))","v":""},{"$f":"IF(IFERROR(VLOOKUP(($B$2&\"_\"&$A15),'Time Entry Sheet'!$A$3:$I$499,7,FALSE),\"Error\")=\"Error\",\"\",IF(VLOOKUP(($B$2&\"_\"&$A15),'Time Entry Sheet'!$A$3:$I$499,7,FALSE)=\"\",\"\",VLOOKUP(($B$2&\"_\"&$A15),'Time Entry Sheet'!$A$3:$I$499,7,FALSE)))","v":""},"00:00:54.700","00:00:54.700",16,{"$f":"IF(A15=\"\",\"\",M15+VLOOKUP(A15,'Test 1'!$A$12:$Q$51,16,FALSE))","v":"00:02:05.600"},18,null,"","00:02:05.600"]
[5,{"$f":"IF($A16=\"\",\"\",IF(VLOOKUP($A16,Competitors!$A$2:$G$60,2,FALSE)=\"\",\"\",VLOOKUP($A16,Competitors!$A$2:$G$60,2,FALSE)))","v":"Janelle Ballard"},{"$f":"IF($A16=\"\",\"\",IF(VLOOKUP($A16,Competitors!$A$2:$G$60,7,FALSE)=\"\",\"\",VLOOKUP($A16,Competitors!$A$2:$G$60,7,FALSE)))","v":""},{"$f":"IF($A16=\"\",\"\",IF(VLOOKUP($A16,Competitors!$A$2:$G$60,5,FALSE)=\"\",\"\",VLOOKUP($A16,Competitors!$A$2:$G$60,5,FALSE)))","v":"female"},{"$f":"IF($A16=\"\",\"\",IF(VLOOKUP($A16,Competitors!$A$2:$G$60,6,FALSE)=\"\",\"\",VLOOKUP($A16,Competitors!$A$2:$G$60,6,FALSE)))","v":"senior"},{"$f":"IF($A16=\"\",\"\",IF(VLOOKUP($A16,Competitors!$A$2:$G$60,3,FALSE)=\"\",\"\",VLOOKUP($A16,Competitors!$A$2:$G$60,3,FALSE)))","v":""},{"$f":"IF($A16=\"\",\"\",IF(VLOOKUP($A16,Competitors!$A$2:$G$60,4,FALSE)=\"\",\"\",VLOOKUP($A16,Competitors!$A$2:$G$60,4,FALSE)))","v":""},{"$f":"IF(VLOOKUP(A16,Competitors!$A$1:$H$41,8,FALSE)=\"\",\"\",VLOOKUP(A16,Competitors!$A$1:$H$41,8,FALSE))","v":""},{"$f":"IF(IFERROR(VLOOKUP(($B$2&\"_\"&$A16),'Time Entry Sheet'!$A$3:$I$499,9,0),\"Error\")=\"Error\",\"\",IF(VLOOKUP(($B$2&\"_\"&$A16),'Time Entry Sheet'!$A$3:$I$499,9,FALSE)=\"wd\",\"wd\",VLOOKUP(($B$2&\"_\"&$A16),'Time Entry Sheet'!$A$3:$I$499,9,FALSE)*1))","v":"00:00:48.400"},"00:00:48.400",{"$f":"IF(IFERROR(VLOOKUP(($B$2&\"_\"&$A16),'Time Entry Sheet'!$A$3:$I$499,8,FALSE),\"Error\")=\"Error\",\"\",IF(VLOOKUP(($B$2&\"_\"&$A16),'Time Entry Sheet'!$A$3:$I$499,8,FALSE)=\"\",\"\",VLOOKUP(($B$2&\"_\"&$A16),'Time Entry Sheet'!$A$3:$I$499,8,FALSE)))","v":""},{"$f":"IF(IFERROR(VLOOKUP(($B$2&\"_\"&$A16),'Time Entry Sheet'!$A$3:$I$499,7,FALSE),\"Error\")=\"Error\",\"\",IF(VLOOKUP(($B$2&\"_\"&$A16),'Time Entry Sheet'!$A$3:$I$499,7,FALSE)=\"\",\"\",VLOOKUP(($B$2&\"_\"&$A16),'Time Entry Sheet'!$A$3:$I$499,7,FALSE)))","v":""},"00:00:48.400","00:00:48.400",9,{"$f":"IF(A16=\"\",\"\",M16+VLOOKUP(A16,'Test 1'!$A$12:$Q$51,16,FALSE))","v":"00:01:47.700"},10,null,"","00:01:47.700"]
[6,{"$f":"IF($A17=\"\",\"\",IF(VLOOKUP($A17,Competitors!$A$2:$G$60,2,FALSE)=\"\",\"\",VLOOKUP($A17,Competitors!$A$2:$G$60,2,FALSE)))","v":"Issac Wishart"},{"$f":"IF($A17=\"\",\"\",IF(VLOOKUP($A17,Competitors!$A$2:$G$60,7,FALSE)=\"\",\"\",VLOOKUP($A17,Competitors!$A$2:$G$60,7,FALSE)))","v":"rookie"},{"$f":"IF($A17=\"\",\"\",IF(VLOOKUP($A17,Competitors!$A$2:$G$60,5,FALSE)=\"\",\"\",VLOOKUP($A17,Competitors!$A$2:$G$60,5,FALSE)))","v":""},{"$f":"IF($A17=\"\",\"\",IF(VLOOKUP($A17,Competitors!$A$2:$G$60,6,FALSE)=\"\",\"\",VLOOKUP($A17,Competitors!$A$2:$G$60,6,FALSE)))","v":"senior"},{"$f":"IF($A17=\"\",\"\",IF(VLOOKUP($A17,Competitors!$A$2:$G$60,3,FALSE)=\"\",\"\",VLOOKUP($A17,Competitors!$A$2:$G$60,3,FALSE)))","v":""},{"$f":"IF($A17=\"\",\"\",IF(VLOOKUP($A17,Competitors!$A$2:$G$60,4,FALSE)=\"\",\"\",VLOOKUP($A17,Competitors!$A$2:$G$60,4,FALSE)))","v":""},{"$f":"IF(VLOOKUP(A17,Competitors!$A$1:$H$41,8,FALSE)=\"\",\"\",VLOOKUP(A17,Competitors!$A$1:$H$41,8,FALSE))","v":""},{"$f":"IF(IFERROR(VLOOKUP(($B$2&\"_\"&$A17),'Time Entry Sheet'!$A$3:$I$499,9,0),\"Error\")=\"Error\",\"\",IF(VLOOKUP(($B$2&\"_\"&$A17),'Time Entry Sheet'!$A$3:$I$499,9,FALSE)=\"wd\",\"wd\",VLOOKUP(($B$2&\"_\"&$A17),'Time Entry Sheet'!$A$3:$I$499,9,FALSE)*1))","v":"wd"},"",{"$f":"IF(IFERROR(VLOOKUP(($B$2&\"_\"&$A17),'Time Entry Sheet'!$A$3:$I$499,8,FALSE),\"Error\")=\"Error\",\"\",IF(VLOOKUP(($B$2&\"_\"&$A17),'Time Entry Sheet'!$A$3:$I$499,8,FALSE)=\"\",\"\",VLOOKUP(($B$2&\"_\"&$A17),'Time Entry Sheet'!$A$3:$I$499,8,FALSE)))","v":""},{"$f":"IF(IFERROR(VLOOKUP(($B$2&\"_\"&$A17),'Time Entry Sheet'!$A$3:$I$499,7,FALSE),\"Error\")=\"Error\",\"\",IF(VLOOKUP(($B$2&\"_\"&$A17),'Time Entry Sheet'!$A$3:$I$499,7,FALSE)=\"\",\"\",VLOOKUP(($B$2&\"_\"&$A17),'Time Entry Sheet'!$A$3:$I$499,7,FALSE)))","v":"Wrong direction, any procedure other than that specified as the correct procedure for completing that course "},"00:00:59.700","00:00:59.700",17,{"$f":"IF(A17=\"\",\"\",M17+VLOOKUP(A17,'Test 1'!$A$12:$Q$51,16,FALSE))","v":"00:02:03.350"},17,null,"","00:02:03.350"]
[7,{"$f":"IF($A18=\"\",\"\",IF(VLOOKUP($A18,Competitors!$A$2:$G$60,2,FALSE)=\"\",\"\",VLOOKUP($A18,Competitors!$A$2:$G$60,2,FALSE)))","v":""},{"$f":"IF($A18=\"\",\"\",IF(VLOOKUP($A18,Competitors!$A$2:$G$60,7,FALSE)=\"\",\"\",VLOOKUP($A18,Competitors!$A$2:$G$60,7,FALSE)))","v":""},{"$f":"IF($A18=\"\",\"\",IF(VLOOKUP($A18,Competitors!$A$2:$G$60,5,FALSE)=\"\",\"\",VLOOKUP($A18,Competitors!$A$2:$G$60,5,FALSE)))","v":""},{"$f":"IF($A18=\"\",\"\",IF(VLOOKUP($A18,Competitors!$A$2:$G$60,6,FALSE)=\"\",\"\",VLOOKUP($A18,Competitors!$A$2:$G$60,6,FALSE)))","v":"senior"},{"$f":"IF($A18=\"\",\"\",IF(VLOOKUP($A18,Competitors!$A$2:$G$60,3,FALSE)=\"\",\"\",VLOOKUP($A18,Competitors!$A$2:$G$60,3,FALSE)))","v":""},{"$f":"IF($A18=\"\",\"\",IF(VLOOKUP($A18,Competitors!$A$2:$G$60,4,FALSE)=\"\",\"\",VLOOKUP($A18,Competitors!$A$2:$G$60,4,FALSE)))","v":""},{"$f":"IF(VLOOKUP(A18,Competitors!$A$1:$H$41,8,FALSE)=\"\",\"\",VLOOKUP(A18,Competitors!$A$1:$H$41,8,FALSE))","v":""},{"$f":"IF(IFERROR(VLOOKUP(($B$2&\"_\"&$A18),'Time Entry Sheet'!$A$3:$I$499,9,0),\"Error\")=\"Error\",\"\",IF(VLOOKUP(($B$2&\"_\"&$A18),'Time Entry Sheet'!$A$3:$I$499,9,FALSE)=\"wd\",\"wd\",VLOOKUP(($B$2&\"_\"&$A18),'Time Entry Sheet'!$A$3:$I$499,9,FALSE)*1))","v":""},"",{"$f":"IF(IFERROR(VLOOKUP(($B$2&\"_\"&$A18),'Time Entry Sheet'!$A$3:$I$499,8,FALSE),\"Error\")=\"Error\",\"\",IF(VLOOKUP(($B$2&\"_\"&$A18),'Time Entry Sheet'!$A$3:$I$499,8,FALSE)=\"\",\"\",VLOOKUP(($B$2&\"_\"&$A18),'Time Entry Sheet'!$A$3:$I$499,8,FALSE)))","v":""},{"$f":"IF(IFERROR(VLOOKUP(($B$2&\"_\"&$A18),'Time Entry Sheet'!$A$3:$I$499,7,FALSE),\"Error\")=\"Error\",\"\",IF(VLOOKUP(($B$2&\"_\"&$A18),'Time Entry Sheet'!$A$3:$I$499,7,FALSE)=\"\",\"\",VLOOKUP(($B$2&\"_\"&$A18),'Time Entry Sheet'!$A$3:$I$499,7,FALSE)))","v":""},"00:01:04.700","00:01:04.700",20,{"$f":"IF(A18=\"\",\"\",M18+VLOOKUP(A18,'Test 1'!$A$12:$Q$51,16,FALSE))","v":"00:02:38.740"},20,null,"","00:02:38.740"]
[8,{"$f":"IF($A19=\"\",\"\",IF(VLOOKUP($A19,Competitors!$A$2:$G$60,2,FALSE)=\"\",\"\",VLOOKUP($A19,Competitors!$A$2:$G$60,2,FALSE)))","v":"Jim Taylor"},{"$f":"IF($A19=\"\",\"\",IF(VLOOKUP($A19,Competitors!$A$2:$G$60,7,FALSE)=\"\",\"\",VLOOKUP($A19,Competitors!$A$2:$G$60,7,FALSE)))","v":""},{"$f":"IF($A19=\"\",\"\",IF(VLOOKUP($A19,Competitors!$A$2:$G$60,5,FALSE)=\"\",\"\",VLOOKUP($A19,Competitors!$A$2:$G$60,5,FALSE)))","v":""},{"$f":"IF($A19=\"\",\"\",IF(VLOOKUP($A19,Competitors!$A$2:$G$60,6,FALSE)=\"\",\"\",VLOOKUP($A19,Competitors!$A$2:$G$60,6,FALSE)))","v":"senior"},{"$f":"IF($A19=\"\",\"\",IF(VLOOKUP($A19,Competitors!$A$2:$G$60,3,FALSE)=\"\",\"\",VLOOKUP($A19,Competitors!$A$2:$G$60,3,FALSE)))","v":""},{"$f":"IF($A19=\"\",\"\",IF(VLOOKUP($A19,Competitors!$A$2:$G$60,4,FALSE)=\"\",\"\",VLOOKUP($A19,Competitors!$A$2:$G$60,4,FALSE)))","v":""},{"$f":"IF(VLOOKUP(A19,Competitors!$A$1:$H$41,8,FALSE)=\"\",\"\",VLOOKUP(A19,Competitors!$A$1:$H$41,8,FALSE))","v":""},{"$f":"IF(IFERROR(VLOOKUP(($B$2&\"_\"&$A19),'Time Entry Sheet'!$A$3:$I$499,9,0),\"Error\")=\"Error\",\"\",IF(VLOOKUP(($B$2&\"_\"&$A19),'Time Entry Sheet'!$A$3:$I$499,9,FALSE)=\"wd\",\"wd\",VLOOKUP(($B$2&\"_\"&$A19),'Time Entry Sheet'!$A$3:$I$499,9,FALSE)*1))","v":"00:00:48.100"},"00:00:48.100",{"$f":"IF(IFERROR(VLOOKUP(($B$2&\"_\"&$A19),'Time Entry Sheet'!$A$3:$I$499,8,FALSE),\"Error\")=\"Error\",\"\",IF(VLOOKUP(($B$2&\"_\"&$A19),'Time Entry Sheet'!$A$3:$I$499,8,FALSE)=\"\",\"\",VLOOKUP(($B$2&\"_\"&$A19),'Time Entry Sheet'!$A$3:$I$499,8,FALSE)))","v":""},{"$f":"IF(IFERROR(VLOOKUP(($B$2&\"_\"&$A19),'Time Entry Sheet'!$A$3:$I$499,7,FALSE),\"Error\")=\"Error\",\"\",IF(VLOOKUP(($B$2&\"_\"&$A19),'Time Entry Sheet'!$A$3:$I$499,7,FALSE)=\"\",\"\",VLOOKUP(($B$2&\"_\"&$A19),'Time Entry Sheet'!$A$3:$I$499,7,FALSE)))","v":""},"00:00:48.100","00:00:48.100",8,{"$f":"IF(A19=\"\",\"\",M19+VLOOKUP(A19,'Test 1'!$A$12:$Q$51,16,FALSE))","v":"00:01:51.780"},13,null,"","00:01:51.780"]
[9,{"$f":"IF($A20=\"\",\"\",IF(VLOOKUP($A20,Competitors!$A$2:$G$60,2,FALSE)=\"\",\"\",VLOOKUP($A20,Competitors!$A$2:$G$60,2,FALSE)))","v":"Brad Firman"},{"$f":"IF($A20=\"\",\"\",IF(VLOOKUP($A20,Competitors!$A$2:$G$60,7,FALSE)=\"\",\"\",VLOOKUP($A20,Competitors!$A$2:$G$60,7,FALSE)))","v":""},{"$f":"IF($A20=\"\",\"\",IF(VLOOKUP($A20,Competitors!$A$2:$G$60,5,FALSE)=\"\",\"\",VLOOKUP($A20,Competitors!$A$2:$G$60,5,FALSE)))","v":""},{"$f":"IF($A20=\"\",\"\",IF(VLOOKUP($A20,Competitors!$A$2:$G$60,6,FALSE)=\"\",\"\",VLOOKUP($A20,Competitors!$A$2:$G$60,6,FALSE)))","v":"senior"},{"$f":"IF($A20=\"\",\"\",IF(VLOOKUP($A20,Competitors!$A$2:$G$60,3,FALSE)=\"\",\"\",VLOOKUP($A20,Competitors!$A$2:$G$60,3,FALSE)))","v":""},{"$f":"IF($A20=\"\",\"\",IF(VLOOKUP($A20,Competitors!$A$2:$G$60,4,FALSE)=\"\",\"\",VLOOKUP($A20,Competitors!$A$2:$G$60,4,FALSE)))","v":""},{"$f":"IF(VLOOKUP(A20,Competitors!$A$1:$H$41,8,FALSE)=\"\",\"\",VLOOKUP(A20,Competitors!$A$1:$H$41,8,FALSE))","v":""},{"$f":"IF(IFERROR(VLOOKUP(($B$2&\"_\"&$A20),'Time Entry Sheet'!$A$3:$I$499,9,0),\"Error\")=\"Error\",\"\",IF(VLOOKUP(($B$2&\"_\"&$A20),'Time Entry Sheet'!$A$3:$I$499,9,FALSE)=\"wd\",\"wd\",VLOOKUP(($B$2&\"_\"&$A20),'Time Entry Sheet'!$A$3:$I$499,9,FALSE)*1))","v":"00:00:45"},"00:00:45",{"$f":"IF(IFERROR(VLOOKUP(($B$2&\"_\"&$A20),'Time Entry Sheet'!$A$3:$I$499,8,FALSE),\"Error\")=\"Error\",\"\",IF(VLOOKUP(($B$2&\"_\"&$A20),'Time Entry Sheet'!$A$3:$I$499,8,FALSE)=\"\",\"\",VLOOKUP(($B$2&\"_\"&$A20),'Time Entry Sheet'!$A$3:$I$499,8,FALSE)))","v":""},{"$f":"IF(IFERROR(VLOOKUP(($B$2&\"_\"&$A20),'Time Entry Sheet'!$A$3:$I$499,7,FALSE),\"Error\")=\"Error\",\"\",IF(VLOOKUP(($B$2&\"_\"&$A20),'Time Entry Sheet'!$A$3:$I$499,7,FALSE)=\"\",\"\",VLOOKUP(($B$2&\"_\"&$A20),'Time Entry Sheet'!$A$3:$I$499,7,FALSE)))","v":""},"00:00:45","00:00:45",3,{"$f":"IF(A20=\"\",\"\",M20+VLOOKUP(A20,'Test 1'!$A$12:$Q$51,16,FALSE))","v":"00:01:39.440"},3,null,"","00:01:39.440"]
[10,{"$f":"IF($A21=\"\",\"\",IF(VLOOKUP($A21,Competitors!$A$2:$G$60,2,FALSE)=\"\",\"\",VLOOKUP($A21,Competitors!$A$2:$G$60,2,FALSE)))","v":"Scott Taylor"},{"$f":"IF($A21=\"\",\"\",IF(VLOOKUP($A21,Competitors!$A$2:$G$60,7,FALSE)=\"\",\"\",VLOOKUP($A21,Competitors!$A$2:$G$60,7,FALSE)))","v":""},{"$f":"IF($A21=\"\",\"\",IF(VLOOKUP($A21,Competitors!$A$2:$G$60,5,FALSE)=\"\",\"\",VLOOKUP($A21,Competitors!$A$2:$G$60,5,FALSE)))","v":""},{"$f":"IF($A21=\"\",\"\",IF(VLOOKUP($A21,Competitors!$A$2:$G$60,6,FALSE)=\"\",\"\",VLOOKUP($A21,Competitors!$A$2:$G$60,6,FALSE)))","v":"senior"},{"$f":"IF($A21=\"\",\"\",IF(VLOOKUP($A21,Competitors!$A$2:$G$60,3,FALSE)=\"\",\"\",VLOOKUP($A21,Competitors!$A$2:$G$60,3,FALSE)))","v":""},{"$f":"IF($A21=\"\",\"\",IF(VLOOKUP($A21,Competitors!$A$2:$G$60,4,FALSE)=\"\",\"\",VLOOKUP($A21,Competitors!$A$2:$G$60,4,FALSE)))","v":""},{"$f":"IF(VLOOKUP(A21,Competitors!$A$1:$H$41,8,FALSE)=\"\",\"\",VLOOKUP(A21,Competitors!$A$1:$H$41,8,FALSE))","v":""},{"$f":"IF(IFERROR(VLOOKUP(($B$2&\"_\"&$A21),'Time Entry Sheet'!$A$3:$I$499,9,0),\"Error\")=\"Error\",\"\",IF(VLOOKUP(($B$2&\"_\"&$A21),'Time Entry Sheet'!$A$3:$I$499,9,FALSE)=\"wd\",\"wd\",VLOOKUP(($B$2&\"_\"&$A21),'Time Entry Sheet'!$A$3:$I$499,9,FALSE)*1))","v":"00:00:54.100"},"00:00:54.100",{"$f":"IF(IFERROR(VLOOKUP(($B$2&\"_\"&$A21),'Time Entry Sheet'!$A$3:$I$499,8,FALSE),\"Error\")=\"Error\",\"\",IF(VLOOKUP(($B$2&\"_\"&$A21),'Time Entry Sheet'!$A$3:$I$499,8,FALSE)=\"\",\"\",VLOOKUP(($B$2&\"_\"&$A21),'Time Entry Sheet'!$A$3:$I$499,8,FALSE)))","v":""},{"$f":"IF(IFERROR(VLOOKUP(($B$2&\"_\"&$A21),'Time Entry Sheet'!$A$3:$I$499,7,FALSE),\"Error\")=\"Error\",\"\",IF(VLOOKUP(($B$2&\"_\"&$A21),'Time Entry Sheet'!$A$3:$I$499,7,FALSE)=\"\",\"\",VLOOKUP(($B$2&\"_\"&$A21),'Time Entry Sheet'!$A$3:$I$499,7,FALSE)))","v":""},"00:00:54.100","00:00:54.100",13,{"$f":"IF(A21=\"\",\"\",M21+VLOOKUP(A21,'Test 1'!$A$12:$Q$51,16,FALSE))","v":"00:01:51.240"},12,null,"","00:01:51.240"]
[11,{"$f":"IF($A22=\"\",\"\",IF(VLOOKUP($A22,Competitors!$A$2:$G$60,2,FALSE)=\"\",\"\",VLOOKUP($A22,Competitors!$A$2:$G$60,2,FALSE)))","v":"Russel McKinley"},{"$f":"IF($A22=\"\",\"\",IF(VLOOKUP($A22,Competitors!$A$2:$G$60,7,FALSE)=\"\",\"\",VLOOKUP($A22,Competitors!$A$2:$G$60,7,FALSE)))","v":""},{"$f":"IF($A22=\"\",\"\",IF(VLOOKUP($A22,Competitors!$A$2:$G$60,5,FALSE)=\"\",\"\",VLOOKUP($A22,Competitors!$A$2:$G$60,5,FALSE)))","v":""},{"$f":"IF($A22=\"\",\"\",IF(VLOOKUP($A22,Competitors!$A$2:$G$60,6,FALSE)=\"\",\"\",VLOOKUP($A22,Competitors!$A$2:$G$60,6,FALSE)))","v":"senior"},{"$f":"IF($A22=\"\",\"\",IF(VLOOKUP($A22,Competitors!$A$2:$G$60,3,FALSE)=\"\",\"\",VLOOKUP($A22,Competitors!$A$2:$G$60,3,FALSE)))","v":""},{"$f":"IF($A22=\"\",\"\",IF(VLOOKUP($A22,Competitors!$A$2:$G$60,4,FALSE)=\"\",\"\",VLOOKUP($A22,Competitors!$A$2:$G$60,4,FALSE)))","v":""},{"$f":"IF(VLOOKUP(A22,Competitors!$A$1:$H$41,8,FALSE)=\"\",\"\",VLOOKUP(A22,Competitors!$A$1:$H$41,8,FALSE))","v":""},{"$f":"IF(IFERROR(VLOOKUP(($B$2&\"_\"&$A22),'Time Entry Sheet'!$A$3:$I$499,9,0),\"Error\")=\"Error\",\"\",IF(VLOOKUP(($B$2&\"_\"&$A22),'Time Entry Sheet'!$A$3:$I$499,9,FALSE)=\"wd\",\"wd\",VLOOKUP(($B$2&\"_\"&$A22),'Time Entry Sheet'!$A$3:$I$499,9,FALSE)*1))","v":"00:00:59.300"},"",{"$f":"IF(IFERROR(VLOOKUP(($B$2&\"_\"&$A22),'Time Entry Sheet'!$A$3:$I$499,8,FALSE),\"Error\")=\"Error\",\"\",IF(VLOOKUP(($B$2&\"_\"&$A22),'Time Entry Sheet'!$A$3:$I$499,8,FALSE)=\"\",\"\",VLOOKUP(($B$2&\"_\"&$A22),'Time Entry Sheet'!$A$3:$I$499,8,FALSE)))","v":1},{"$f":"IF(IFERROR(VLOOKUP(($B$2&\"_\"&$A22),'Time Entry Sheet'!$A$3:$I$499,7,FALSE),\"Error\")=\"Error\",\"\",IF(VLOOKUP(($B$2&\"_\"&$A22),'Time Entry Sheet'!$A$3:$I$499,7,FALSE)=\"\",\"\",VLOOKUP(($B$2&\"_\"&$A22),'Time Entry Sheet'!$A$3:$I$499,7,FALSE)))","v":""},"00:01:04.300","00:01:04.300",19,{"$f":"IF(A22=\"\",\"\",M22+VLOOKUP(A22,'Test 1'!$A$12:$Q$51,16,FALSE))","v":"00:02:03.250"},16,null,"","00:02:03.250"]
[12,{"$f":"IF($A23=\"\",\"\",IF(VLOOKUP($A23,Competitors!$A$2:$G$60,2,FALSE)=\"\",\"\",VLOOKUP($A23,Competitors!$A$2:$G$60,2,FALSE)))","v":"Mat Boorman"},{"$f":"IF($A23=\"\",\"\",IF(VLOOKUP($A23,Competitors!$A$2:$G$60,7,FALSE)=\"\",\"\",VLOOKUP($A23,Competitors!$A$2:$G$60,7,FALSE)))","v":""},{"$f":"IF($A23=\"\",\"\",IF(VLOOKUP($A23,Competitors!$A$2:$G$60,5,FALSE)=\"\",\"\",VLOOKUP($A23,Competitors!$A$2:$G$60,5,FALSE)))","v":""},{"$f":"IF($A23=\"\",\"\",IF(VLOOKUP($A23,Competitors!$A$2:$G$60,6,FALSE)=\"\",\"\",VLOOKUP($A23,Competitors!$A$2:$G$60,6,FALSE)))","v":"senior"},{"$f":"IF($A23=\"\",\"\",IF(VLOOKUP($A23,Competitors!$A$2:$G$60,3,FALSE)=\"\",\"\",VLOOKUP($A23,Competitors!$A$2:$G$60,3,FALSE)))","v":""},{"$f":"IF($A23=\"\",\"\",IF(VLOOKUP($A23,Competitors!$A$2:$G$60,4,FALSE)=\"\",\"\",VLOOKUP($A23,Competitors!$A$2:$G$60,4,FALSE)))","v":""},{"$f":"IF(VLOOKUP(A23,Competitors!$A$1:$H$41,8,FALSE)=\"\",\"\",VLOOKUP(A23,Competitors!$A$1:$H$41,8,FALSE))","v":""},{"$f":"IF(IFERROR(VLOOKUP(($B$2&\"_\"&$A23),'Time Entry Sheet'!$A$3:$I$499,9,0),\"Error\")=\"Error\",\"\",IF(VLOOKUP(($B$2&\"_\"&$A23),'Time Entry Sheet'!$A$3:$I$499,9,FALSE)=\"wd\",\"wd\",VLOOKUP(($B$2&\"_\"&$A23),'Time Entry Sheet'!$A$3:$I$499,9,FALSE)*1))","v":"00:00:49.500"},"",{"$f":"IF(IFERROR(VLOOKUP(($B$2&\"_\"&$A23),'Time Entry Sheet'!$A$3:$I$499,8,FALSE),\"Error\")=\"Error\",\"\",IF(VLOOKUP(($B$2&\"_\"&$A23),'Time Entry Sheet'!$A$3:$I$499,8,FALSE)=\"\",\"\",VLOOKUP(($B$2&\"_\"&$A23),'Time Entry Sheet'!$A$3:$I$499,8,FALSE)))","v":1},{"$f":"IF(IFERROR(VLOOKUP(($B$2&\"_\"&$A23),'Time Entry Sheet'!$A$3:$I$499,7,FALSE),\"Error\")=\"Error\",\"\",IF(VLOOKUP(($B$2&\"_\"&$A23),'Time Entry Sheet'!$A$3:$I$499,7,FALSE)=\"\",\"\",VLOOKUP(($B$2&\"_\"&$A23),'Time Entry Sheet'!$A$3:$I$499,7,FALSE)))","v":""},"00:00:54.500","00:00:54.500",14,{"$f":"IF(A23=\"\",\"\",M23+VLOOKUP(A23,'Test 1'!$A$12:$Q$51,16,FALSE))","v":"00:01:49.470"},11,null,"","00:01:49.470"]
[13,{"$f":"IF($A24=\"\",\"\",IF(VLOOKUP($A24,Competitors!$A$2:$G$60,2,FALSE)=\"\",\"\",VLOOKUP($A24,Competitors!$A$2:$G$60,2,FALSE)))","v":"Aaron Wishart"},{"$f":"IF($A24=\"\",\"\",IF(VLOOKUP($A24,Competitors!$A$2:$G$60,7,FALSE)=\"\",\"\",VLOOKUP($A24,Competitors!$A$2:$G$60,7,FALSE)))","v":""},{"$f":"IF($A24=\"\",\"\",IF(VLOOKUP($A24,Competitors!$A$2:$G$60,5,FALSE)=\"\",\"\",VLOOKUP($A24,Competitors!$A$2:$G$60,5,FALSE)))","v":""},{"$f":"IF($A24=\"\",\"\",IF(VLOOKUP($A24,Competitors!$A$2:$G$60,6,FALSE)=\"\",\"\",VLOOKUP($A24,Competitors!$A$2:$G$60,6,FALSE)))","v":"senior"},{"$f":"IF($A24=\"\",\"\",IF(VLOOKUP($A24,Competitors!$A$2:$G$60,3,FALSE)=\"\",\"\",VLOOKUP($A24,Competitors!$A$2:$G$60,3,FALSE)))","v":""},{"$f":"IF($A24=\"\",\"\",IF(VLOOKUP($A24,Competitors!$A$2:$G$60,4,FALSE)=\"\",\"\",VLOOKUP($A24,Competitors!$A$2:$G$60,4,FALSE)))","v":""},{"$f":"IF(VLOOKUP(A24,Competitors!$A$1:$H$41,8,FALSE)=\"\",\"\",VLOOKUP(A24,Competitors!$A$1:$H$41,8,FALSE))","v":""},{"$f":"IF(IFERROR(VLOOKUP(($B$2&\"_\"&$A24),'Time Entry Sheet'!$A$3:$I$499,9,0),\"Error\")=\"Error\",\"\",IF(VLOOKUP(($B$2&\"_\"&$A24),'Time Entry Sheet'!$A$3:$I$499,9,FALSE)=\"wd\",\"wd\",VLOOKUP(($B$2&\"_\"&$A24),'Time Entry Sheet'!$A$3:$I$499,9,FALSE)*1))","v":"00:00:54.500"},"00:00:54.500",{"$f":"IF(IFERROR(VLOOKUP(($B$2&\"_\"&$A24),'Time Entry Sheet'!$A$3:$I$499,8,FALSE),\"Error\")=\"Error\",\"\",IF(VLOOKUP(($B$2&\"_\"&$A24),'Time Entry Sheet'!$A$3:$I$499,8,FALSE)=\"\",\"\",VLOOKUP(($B$2&\"_\"&$A24),'Time Entry Sheet'!$A$3:$I$499,8,FALSE)))","v":""},{"$f":"IF(IFERROR(VLOOKUP(($B$2&\"_\"&$A24),'Time Entry Sheet'!$A$3:$I$499,7,FALSE),\"Error\")=\"Error\",\"\",IF(VLOOKUP(($B$2&\"_\"&$A24),'Time Entry Sheet'!$A$3:$I$499,7,FALSE)=\"\",\"\",VLOOKUP(($B$2&\"_\"&$A24),'Time Entry Sheet'!$A$3:$I$499,7,FALSE)))","v":""},"00:00:54.500","00:00:54.500",14,{"$f":"IF(A24=\"\",\"\",M24+VLOOKUP(A24,'Test 1'!$A$12:$Q$51,16,FALSE))","v":"00:02:18.540"},19,null,"","00:02:18.540"]
[14,{"$f":"IF($A25=\"\",\"\",IF(VLOOKUP($A25,Competitors!$A$2:$G$60,2,FALSE)=\"\",\"\",VLOOKUP($A25,Competitors!$A$2:$G$60,2,FALSE)))","v":"Bob Fulthorpe"},{"$f":"IF($A25=\"\",\"\",IF(VLOOKUP($A25,Competitors!$A$2:$G$60,7,FALSE)=\"\",\"\",VLOOKUP($A25,Competitors!$A$2:$G$60,7,FALSE)))","v":""},{"$f":"IF($A25=\"\",\"\",IF(VLOOKUP($A25,Competitors!$A$2:$G$60,5,FALSE)=\"\",\"\",VLOOKUP($A25,Competitors!$A$2:$G$60,5,FALSE)))","v":""},{"$f":"IF($A25=\"\",\"\",IF(VLOOKUP($A25,Competitors!$A$2:$G$60,6,FALSE)=\"\",\"\",VLOOKUP($A25,Competitors!$A$2:$G$60,6,FALSE)))","v":"senior"},{"$f":"IF($A25=\"\",\"\",IF(VLOOKUP($A25,Competitors!$A$2:$G$60,3,FALSE)=\"\",\"\",VLOOKUP($A25,Competitors!$A$2:$G$60,3,FALSE)))","v":""},{"$f":"IF($A25=\"\",\"\",IF(VLOOKUP($A25,Competitors!$A$2:$G$60,4,FALSE)=\"\",\"\",VLOOKUP($A25,Competitors!$A$2:$G$60,4,FALSE)))","v":""},{"$f":"IF(VLOOKUP(A25,Competitors!$A$1:$H$41,8,FALSE)=\"\",\"\",VLOOKUP(A25,Competitors!$A$1:$H$41,8,FALSE))","v":""},{"$f":"IF(IFERROR(VLOOKUP(($B$2&\"_\"&$A25),'Time Entry Sheet'!$A$3:$I$499,9,0),\"Error\")=\"Error\",\"\",IF(VLOOKUP(($B$2&\"_\"&$A25),'Time Entry Sheet'!$A$3:$I$499,9,FALSE)=\"wd\",\"wd\",VLOOKUP(($B$2&\"_\"&$A25),'Time Entry Sheet'!$A$3:$I$499,9,FALSE)*1))","v":"00:00:46.600"},"00:00:46.600",{"$f":"IF(IFERROR(VLOOKUP(($B$2&\"_\"&$A25),'Time Entry Sheet'!$A$3:$I$499,8,FALSE),\"Error\")=\"Error\",\"\",IF(VLOOKUP(($B$2&\"_\"&$A25),'Time Entry Sheet'!$A$3:$I$499,8,FALSE)=\"\",\"\",VLOOKUP(($B$2&\"_\"&$A25),'Time Entry Sheet'!$A$3:$I$499,8,FALSE)))","v":""},{"$f":"IF(IFERROR(VLOOKUP(($B$2&\"_\"&$A25),'Time Entry Sheet'!$A$3:$I$499,7,FALSE),\"Error\")=\"Error\",\"\",IF(VLOOKUP(($B$2&\"_\"&$A25),'Time Entry Sheet'!$A$3:$I$499,7,FALSE)=\"\",\"\",VLOOKUP(($B$2&\"_\"&$A25),'Time Entry Sheet'!$A$3:$I$499,7,FALSE)))","v":""},"00:00:46.600","00:00:46.600",5,{"$f":"IF(A25=\"\",\"\",M25+VLOOKUP(A25,'Test 1'!$A$12:$Q$51,16,FALSE))","v":"00:01:40.080"},4,null,"","00:01:40.080"]
[15,{"$f":"IF($A26=\"\",\"\",IF(VLOOKUP($A26,Competitors!$A$2:$G$60,2,FALSE)=\"\",\"\",VLOOKUP($A26,Competitors!$A$2:$G$60,2,FALSE)))","v":"Khi Fulthorpe"},{"$f":"IF($A26=\"\",\"\",IF(VLOOKUP($A26,Competitors!$A$2:$G$60,7,FALSE)=\"\",\"\",VLOOKUP($A26,Competitors!$A$2:$G$60,7,FALSE)))","v":""},{"$f":"IF($A26=\"\",\"\",IF(VLOOKUP($A26,Competitors!$A$2:$G$60,5,FALSE)=\"\",\"\",VLOOKUP($A26,Competitors!$A$2:$G$60,5,FALSE)))","v":""},{"$f":"IF($A26=\"\",\"\",IF(VLOOKUP($A26,Competitors!$A$2:$G$60,6,FALSE)=\"\",\"\",VLOOKUP($A26,Competitors!$A$2:$G$60,6,FALSE)))","v":"senior"},{"$f":"IF($A26=\"\",\"\",IF(VLOOKUP($A26,Competitors!$A$2:$G$60,3,FALSE)=\"\",\"\",VLOOKUP($A26,Competitors!$A$2:$G$60,3,FALSE)))","v":""},{"$f":"IF($A26=\"\",\"\",IF(VLOOKUP($A26,Competitors!$A$2:$G$60,4,FALSE)=\"\",\"\",VLOOKUP($A26,Competitors!$A$2:$G$60,4,FALSE)))","v":""},{"$f":"IF(VLOOKUP(A26,Competitors!$A$1:$H$41,8,FALSE)=\"\",\"\",VLOOKUP(A26,Competitors!$A$1:$H$41,8,FALSE))","v":""},{"$f":"IF(IFERROR(VLOOKUP(($B$2&\"_\"&$A26),'Time Entry Sheet'!$A$3:$I$499,9,0),\"Error\")=\"Error\",\"\",IF(VLOOKUP(($B$2&\"_\"&$A26),'Time Entry Sheet'!$A$3:$I$499,9,FALSE)=\"wd\",\"wd\",VLOOKUP(($B$2&\"_\"&$A26),'Time Entry Sheet'!$A$3:$I$499,9,FALSE)*1))","v":"00:00:47.800"},"00:00:47.800",{"$f":"IF(IFERROR(VLOOKUP(($B$2&\"_\"&$A26),'Time Entry Sheet'!$A$3:$I$499,8,FALSE),\"Error\")=\"Error\",\"\",IF(VLOOKUP(($B$2&\"_\"&$A26),'Time Entry Sheet'!$A$3:$I$499,8,FALSE)=\"\",\"\",VLOOKUP(($B$2&\"_\"&$A26),'Time Entry Sheet'!$A$3:$I$499,8,FALSE)))","v":""},{"$f":"IF(IFERROR(VLOOKUP(($B$2&\"_\"&$A26),'Time Entry Sheet'!$A$3:$I$499,7,FALSE),\"Error\")=\"Error\",\"\",IF(VLOOKUP(($B$2&\"_\"&$A26),'Time Entry Sheet'!$A$3:$I$499,7,FALSE)=\"\",\"\",VLOOKUP(($B$2&\"_\"&$A26),'Time Entry Sheet'!$A$3:$I$499,7,FALSE)))","v":""},"00:00:47.800","00:00:47.800",7,{"$f":"IF(A26=\"\",\"\",M26+VLOOKUP(A26,'Test 1'!$A$12:$Q$51,16,FALSE))","v":"00:01:46.820"},9,null,"","00:01:46.820"]
[16,{"$f":"IF($A27=\"\",\"\",IF(VLOOKUP($A27,Competitors!$A$2:$G$60,2,FALSE)=\"\",\"\",VLOOKUP($A27,Competitors!$A$2:$G$60,2,FALSE)))","v":"Nathan Senior"},{"$f":"IF($A27=\"\",\"\",IF(VLOOKUP($A27,Competitors!$A$2:$G$60,7,FALSE)=\"\",\"\",VLOOKUP($A27,Competitors!$A$2:$G$60,7,FALSE)))","v":""},{"$f":"IF($A27=\"\",\"\",IF(VLOOKUP($A27,Competitors!$A$2:$G$60,5,FALSE)=\"\",\"\",VLOOKUP($A27,Competitors!$A$2:$G$60,5,FALSE)))","v":""},{"$f":"IF($A27=\"\",\"\",IF(VLOOKUP($A27,Competitors!$A$2:$G$60,6,FALSE)=\"\",\"\",VLOOKUP($A27,Competitors!$A$2:$G$60,6,FALSE)))","v":"senior"},{"$f":"IF($A27=\"\",\"\",IF(VLOOKUP($A27,Competitors!$A$2:$G$60,3,FALSE)=\"\",\"\",VLOOKUP($A27,Competitors!$A$2:$G$60,3,FALSE)))","v":""},{"$f":"IF($A27=\"\",\"\",IF(VLOOKUP($A27,Competitors!$A$2:$G$60,4,FALSE)=\"\",\"\",VLOOKUP($A27,Competitors!$A$2:$G$60,4,FALSE)))","v":""},{"$f":"IF(VLOOKUP(A27,Competitors!$A$1:$H$41,8,FALSE)=\"\",\"\",VLOOKUP(A27,Competitors!$A$1:$H$41,8,FALSE))","v":""},{"$f":"IF(IFERROR(VLOOKUP(($B$2&\"_\"&$A27),'Time Entry Sheet'!$A$3:$I$499,9,0),\"Error\")=\"Error\",\"\",IF(VLOOKUP(($B$2&\"_\"&$A27),'Time Entry Sheet'!$A$3:$I$499,9,FALSE)=\"wd\",\"wd\",VLOOKUP(($B$2&\"_\"&$A27),'Time Entry Sheet'!$A$3:$I$499,9,FALSE)*1))","v":"wd"},"",{"$f":"IF(IFERROR(VLOOKUP(($B$2&\"_\"&$A27),'Time Entry Sheet'!$A$3:$I$499,8,FALSE),\"Error\")=\"Error\",\"\",IF(VLOOKUP(($B$2&\"_\"&$A27),'Time Entry Sheet'!$A$3:$I$499,8,FALSE)=\"\",\"\",VLOOKUP(($B$2&\"_\"&$A27),'Time Entry Sheet'!$A$3:$I$499,8,FALSE)))","v":""},{"$f":"IF(IFERROR(VLOOKUP(($B$2&\"_\"&$A27),'Time Entry Sheet'!$A$3:$I$499,7,FALSE),\"Error\")=\"Error\",\"\",IF(VLOOKUP(($B$2&\"_\"&$A27),'Time Entry Sheet'!$A$3:$I$499,7,FALSE)=\"\",\"\",VLOOKUP(($B$2&\"_\"&$A27),'Time Entry Sheet'!$A$3:$I$499,7,FALSE)))","v":"Wrong direction, any procedure other than that specified as the correct procedure for completing that course "},"00:00:59.700","00:00:59.700",17,{"$f":"IF(A27=\"\",\"\",M27+VLOOKUP(A27,'Test 1'!$A$12:$Q$51,16,FALSE))","v":"00:01:54.550"},14,null,"","00:01:54.550"]
[17,{"$f":"IF($A28=\"\",\"\",IF(VLOOKUP($A28,Competitors!$A$2:$G$60,2,FALSE)=\"\",\"\",VLOOKUP($A28,Competitors!$A$2:$G$60,2,FALSE)))","v":"Reece McIntosh"},{"$f":"IF($A28=\"\",\"\",IF(VLOOKUP($A28,Competitors!$A$2:$G$60,7,FALSE)=\"\",\"\",VLOOKUP($A28,Competitors!$A$2:$G$60,7,FALSE)))","v":""},{"$f":"IF($A28=\"\",\"\",IF(VLOOKUP($A28,Competitors!$A$2:$G$60,5,FALSE)=\"\",\"\",VLOOKUP($A28,Competitors!$A$2:$G$60,5,FALSE)))","v":""},{"$f":"IF($A28=\"\",\"\",IF(VLOOKUP($A28,Competitors!$A$2:$G$60,6,FALSE)=\"\",\"\",VLOOKUP($A28,Competitors!$A$2:$G$60,6,FALSE)))","v":"senior"},{"$f":"IF($A28=\"\",\"\",IF(VLOOKUP($A28,Competitors!$A$2:$G$60,3,FALSE)=\"\",\"\",VLOOKUP($A28,Competitors!$A$2:$G$60,3,FALSE)))","v":""},{"$f":"IF($A28=\"\",\"\",IF(VLOOKUP($A28,Competitors!$A$2:$G$60,4,FALSE)=\"\",\"\",VLOOKUP($A28,Competitors!$A$2:$G$60,4,FALSE)))","v":""},{"$f":"IF(VLOOKUP(A28,Competitors!$A$1:$H$41,8,FALSE)=\"\",\"\",VLOOKUP(A28,Competitors!$A$1:$H$41,8,FALSE))","v":""},{"$f":"IF(IFERROR(VLOOKUP(($B$2&\"_\"&$A28),'Time Entry Sheet'!$A$3:$I$499,9,0),\"Error\")=\"Error\",\"\",IF(VLOOKUP(($B$2&\"_\"&$A28),'Time Entry Sheet'!$A$3:$I$499,9,FALSE)=\"wd\",\"wd\",VLOOKUP(($B$2&\"_\"&$A28),'Time Entry Sheet'!$A$3:$I$499,9,FALSE)*1))","v":"00:00:43.700"},"00:00:43.700",{"$f":"IF(IFERROR(VLOOKUP(($B$2&\"_\"&$A28),'Time Entry Sheet'!$A$3:$I$499,8,FALSE),\"Error\")=\"Error\",\"\",IF(VLOOKUP(($B$2&\"_\"&$A28),'Time Entry Sheet'!$A$3:$I$499,8,FALSE)=\"\",\"\",VLOOKUP(($B$2&\"_\"&$A28),'Time Entry Sheet'!$A$3:$I$499,8,FALSE)))","v":""},{"$f":"IF(IFERROR(VLOOKUP(($B$2&\"_\"&$A28),'Time Entry Sheet'!$A$3:$I$499,7,FALSE),\"Error\")=\"Error\",\"\",IF(VLOOKUP(($B$2&\"_\"&$A28),'Time Entry Sheet'!$A$3:$I$499,7,FALSE)=\"\",\"\",VLOOKUP(($B$2&\"_\"&$A28),'Time Entry Sheet'!$A$3:$I$499,7,FALSE)))","v":""},"00:00:43.700","00:00:43.700",1,{"$f":"IF(A28=\"\",\"\",M28+VLOOKUP(A28,'Test 1'!$A$12:$Q$51,16,FALSE))","v":"00:01:33.320"},1,null,"","00:01:33.320"]
[18,{"$f":"IF($A29=\"\",\"\",IF(VLOOKUP($A29,Competitors!$A$2:$G$60,2,FALSE)=\"\",\"\",VLOOKUP($A29,Competitors!$A$2:$G$60,2,FALSE)))","v":"Jack Stanley"},{"$f":"IF($A29=\"\",\"\",IF(VLOOKUP($A29,Competitors!$A$2:$G$60,7,FALSE)=\"\",\"\",VLOOKUP($A29,Competitors!$A$2:$G$60,7,FALSE)))","v":"rookie"},{"$f":"IF($A29=\"\",\"\",IF(VLOOKUP($A29,Competitors!$A$2:$G$60,5,FALSE)=\"\",\"\",VLOOKUP($A29,Competitors!$A$2:$G$60,5,FALSE)))","v":""},{"$f":"IF($A29=\"\",\"\",IF(VLOOKUP($A29,Competitors!$A$2:$G$60,6,FALSE)=\"\",\"\",VLOOKUP($A29,Competitors!$A$2:$G$60,6,FALSE)))","v":"senior"},{"$f":"IF($A29=\"\",\"\",IF(VLOOKUP($A29,Competitors!$A$2:$G$60,3,FALSE)=\"\",\"\",VLOOKUP($A29,Competitors!$A$2:$G$60,3,FALSE)))","v":""},{"$f":"IF($A29=\"\",\"\",IF(VLOOKUP($A29,Competitors!$A$2:$G$60,4,FALSE)=\"\",\"\",VLOOKUP($A29,Competitors!$A$2:$G$60,4,FALSE)))","v":""},{"$f":"IF(VLOOKUP(A29,Competitors!$A$1:$H$41,8,FALSE)=\"\",\"\",VLOOKUP(A29,Competitors!$A$1:$H$41,8,FALSE))","v":""},{"$f":"IF(IFERROR(VLOOKUP(($B$2&\"_\"&$A29),'Time Entry Sheet'!$A$3:$I$499,9,0),\"Error\")=\"Error\",\"\",IF(VLOOKUP(($B$2&\"_\"&$A29),'Time Entry Sheet'!$A$3:$I$499,9,FALSE)=\"wd\",\"wd\",VLOOKUP(($B$2&\"_\"&$A29),'Time Entry Sheet'!$A$3:$I$499,9,FALSE)*1))","v":"00:00:51.300"},"00:00:51.300",{"$f":"IF(IFERROR(VLOOKUP(($B$2&\"_\"&$A29),'Time Entry Sheet'!$A$3:$I$499,8,FALSE),\"Error\")=\"Error\",\"\",IF(VLOOKUP(($B$2&\"_\"&$A29),'Time Entry Sheet'!$A$3:$I$499,8,FALSE)=\"\",\"\",VLOOKUP(($B$2&\"_\"&$A29),'Time Entry Sheet'!$A$3:$I$499,8,FALSE)))","v":""},{"$f":"IF(IFERROR(VLOOKUP(($B$2&\"_\"&$A29),'Time Entry Sheet'!$A$3:$I$499,7,FALSE),\"Error\")=\"Error\",\"\",IF(VLOOKUP(($B$2&\"_\"&$A29),'Time Entry Sheet'!$A$3:$I$499,7,FALSE)=\"\",\"\",VLOOKUP(($B$2&\"_\"&$A29),'Time Entry Sheet'!$A$3:$I$499,7,FALSE)))","v":""},"00:00:51.300","00:00:51.300",12,{"$f":"IF(A29=\"\",\"\",M29+VLOOKUP(A29,'Test 1'!$A$12:$Q$51,16,FALSE))","v":"00:01:57.920"},15,null,"","00:01:57.920"]
[19,{"$f":"IF($A30=\"\",\"\",IF(VLOOKUP($A30,Competitors!$A$2:$G$60,2,FALSE)=\"\",\"\",VLOOKUP($A30,Competitors!$A$2:$G$60,2,FALSE)))","v":"Christopher Northey"},{"$f":"IF($A30=\"\",\"\",IF(VLOOKUP($A30,Competitors!$A$2:$G$60,7,FALSE)=\"\",\"\",VLOOKUP($A30,Competitors!$A$2:$G$60,7,FALSE)))","v":""},{"$f":"IF($A30=\"\",\"\",IF(VLOOKUP($A30,Competitors!$A$2:$G$60,5,FALSE)=\"\",\"\",VLOOKUP($A30,Competitors!$A$2:$G$60,5,FALSE)))","v":""},{"$f":"IF($A30=\"\",\"\",IF(VLOOKUP($A30,Competitors!$A$2:$G$60,6,FALSE)=\"\",\"\",VLOOKUP($A30,Competitors!$A$2:$G$60,6,FALSE)))","v":"senior"},{"$f":"IF($A30=\"\",\"\",IF(VLOOKUP($A30,Competitors!$A$2:$G$60,3,FALSE)=\"\",\"\",VLOOKUP($A30,Competitors!$A$2:$G$60,3,FALSE)))","v":""},{"$f":"IF($A30=\"\",\"\",IF(VLOOKUP($A30,Competitors!$A$2:$G$60,4,FALSE)=\"\",\"\",VLOOKUP($A30,Competitors!$A$2:$G$60,4,FALSE)))","v":""},{"$f":"IF(VLOOKUP(A30,Competitors!$A$1:$H$41,8,FALSE)=\"\",\"\",VLOOKUP(A30,Competitors!$A$1:$H$41,8,FALSE))","v":""},{"$f":"IF(IFERROR(VLOOKUP(($B$2&\"_\"&$A30),'Time Entry Sheet'!$A$3:$I$499,9,0),\"Error\")=\"Error\",\"\",IF(VLOOKUP(($B$2&\"_\"&$A30),'Time Entry Sheet'!$A$3:$I$499,9,FALSE)=\"wd\",\"wd\",VLOOKUP(($B$2&\"_\"&$A30),'Time Entry Sheet'!$A$3:$I$499,9,FALSE)*1))","v":"00:00:48.500"},"00:00:48.500",{"$f":"IF(IFERROR(VLOOKUP(($B$2&\"_\"&$A30),'Time Entry Sheet'!$A$3:$I$499,8,FALSE),\"Error\")=\"Error\",\"\",IF(VLOOKUP(($B$2&\"_\"&$A30),'Time Entry Sheet'!$A$3:$I$499,8,FALSE)=\"\",\"\",VLOOKUP(($B$2&\"_\"&$A30),'Time Entry Sheet'!$A$3:$I$499,8,FALSE)))","v":""},{"$f":"IF(IFERROR(VLOOKUP(($B$2&\"_\"&$A30),'Time Entry Sheet'!$A$3:$I$499,7,FALSE),\"Error\")=\"Error\",\"\",IF(VLOOKUP(($B$2&\"_\"&$A30),'Time Entry Sheet'!$A$3:$I$499,7,FALSE)=\"\",\"\",VLOOKUP(($B$2&\"_\"&$A30),'Time Entry Sheet'!$A$3:$I$499,7,FALSE)))","v":""},"00:00:48.500","00:00:48.500",10,{"$f":"IF(A30=\"\",\"\",M30+VLOOKUP(A30,'Test 1'!$A$12:$Q$51,16,FALSE))","v":"00:01:42.120"},6,null,"","00:01:42.120"]
[20,{"$f":"IF($A31=\"\",\"\",IF(VLOOKUP($A31,Competitors!$A$2:$G$60,2,FALSE)=\"\",\"\",VLOOKUP($A31,Competitors!$A$2:$G$60,2,FALSE)))","v":"Ray Lampl"},{"$f":"IF($A31=\"\",\"\",IF(VLOOKUP($A31,Competitors!$A$2:$G$60,7,FALSE)=\"\",\"\",VLOOKUP($A31,Competitors!$A$2:$G$60,7,FALSE)))","v":""},{"$f":"IF($A31=\"\",\"\",IF(VLOOKUP($A31,Competitors!$A$2:$G$60,5,FALSE)=\"\",\"\",VLOOKUP($A31,Competitors!$A$2:$G$60,5,FALSE)))","v":""},{"$f":"IF($A31=\"\",\"\",IF(VLOOKUP($A31,Competitors!$A$2:$G$60,6,FALSE)=\"\",\"\",VLOOKUP($A31,Competitors!$A$2:$G$60,6,FALSE)))","v":"senior"},{"$f":"IF($A31=\"\",\"\",IF(VLOOKUP($A31,Competitors!$A$2:$G$60,3,FALSE)=\"\",\"\",VLOOKUP($A31,Competitors!$A$2:$G$60,3,FALSE)))","v":""},{"$f":"IF($A31=\"\",\"\",IF(VLOOKUP($A31,Competitors!$A$2:$G$60,4,FALSE)=\"\",\"\",VLOOKUP($A31,Competitors!$A$2:$G$60,4,FALSE)))","v":""},{"$f":"IF(VLOOKUP(A31,Competitors!$A$1:$H$41,8,FALSE)=\"\",\"\",VLOOKUP(A31,Competitors!$A$1:$H$41,8,FALSE))","v":""},{"$f":"IF(IFERROR(VLOOKUP(($B$2&\"_\"&$A31),'Time Entry Sheet'!$A$3:$I$499,9,0),\"Error\")=\"Error\",\"\",IF(VLOOKUP(($B$2&\"_\"&$A31),'Time Entry Sheet'!$A$3:$I$499,9,FALSE)=\"wd\",\"wd\",VLOOKUP(($B$2&\"_\"&$A31),'Time Entry Sheet'!$A$3:$I$499,9,FALSE)*1))","v":"00:00:47"},{"$f":"IF(E31=\"Junior\",\"\",IF(I31=\"wd\",\"\",IF(K31<>\"\",\"\",I31)))","v":"00:00:47"},{"$f":"IF(IFERROR(VLOOKUP(($B$2&\"_\"&$A31),'Time Entry Sheet'!$A$3:$I$499,8,FALSE),\"Error\")=\"Error\",\"\",IF(VLOOKUP(($B$2&\"_\"&$A31),'Time Entry Sheet'!$A$3:$I$499,8,FALSE)=\"\",\"\",VLOOKUP(($B$2&\"_\"&$A31),'Time Entry Sheet'!$A$3:$I$499,8,FALSE)))","v":""},{"$f":"IF(IFERROR(VLOOKUP(($B$2&\"_\"&$A31),'Time Entry Sheet'!$A$3:$I$499,7,FALSE),\"Error\")=\"Error\",\"\",IF(VLOOKUP(($B$2&\"_\"&$A31),'Time Entry Sheet'!$A$3:$I$499,7,FALSE)=\"\",\"\",VLOOKUP(($B$2&\"_\"&$A31),'Time Entry Sheet'!$A$3:$I$499,7,FALSE)))","v":""},{"$f":"IF(A31=\"\",\"\",IF(I31=\"wd\",IF(E31=\"Senior\",$B$7,$C$7),IF(L31<>\"\",$B$7,IF(I31=\"\",IF(E31=\"Senior\",$B$8,$C$8),IF(K31=\"\",I31,I31+($B$5*K31))))))","v":"00:00:47"},{"$f":"IF(H31=\"Passenger\",\"\",M31)","v":"00:00:47"},{"$f":"IF(A31=\"\",\"\",IF(H31=\"Passenger\",\"P\",RANK(N31,$N$12:$N$51,1)))","v":6},{"$f":"IF(A31=\"\",\"\",M31+VLOOKUP(A31,'Test 1'!$A$12:$Q$51,16,FALSE))","v":"00:01:42.910"},{"$f":"IF(A31=\"\",\"\",IF(H31=\"Passenger\",\"P\",RANK(T31,$T$12:$T$51,1)))","v":7},null,{"$f":"IF(E31=\"Senior\",\"\",IF(I31=\"wd\",\"\",IF(K31<>\"\",\"\",I31)))","v":""},{"$f":"IF(H31=\"Passenger\",\"\",P31)","v":"00:01:42.910"}]
[21,{"$f":"IF($A32=\"\",\"\",IF(VLOOKUP($A32,Competitors!$A$2:$G$60,2,FALSE)=\"\",\"\",VLOOKUP($A32,Competitors!$A$2:$G$60,2,FALSE)))","v":""},{"$f":"IF($A32=\"\",\"\",IF(VLOOKUP($A32,Competitors!$A$2:$G$60,7,FALSE)=\"\",\"\",VLOOKUP($A32,Competitors!$A$2:$G$60,7,FALSE)))","v":""},{"$f":"IF($A32=\"\",\"\",IF(VLOOKUP($A32,Competitors!$A$2:$G$60,5,FALSE)=\"\",\"\",VLOOKUP($A32,Competitors!$A$2:$G$60,5,FALSE)))","v":""},{"$f":"IF($A32=\"\",\"\",IF(VLOOKUP($A32,Competitors!$A$2:$G$60,6,FALSE)=\"\",\"\",VLOOKUP($A32,Competitors!$A$2:$G$60,6,FALSE)))","v":"senior"},{"$f":"IF($A32=\"\",\"\",IF(VLOOKUP($A32,Competitors!$A$2:$G$60,3,FALSE)=\"\",\"\",VLOOKUP($A32,Competitors!$A$2:$G$60,3,FALSE)))","v":""},{"$f":"IF($A32=\"\",\"\",IF(VLOOKUP($A32,Competitors!$A$2:$G$60,4,FALSE)=\"\",\"\",VLOOKUP($A32,Competitors!$A$2:$G$60,4,FALSE)))","v":""},{"$f":"IF(VLOOKUP(A32,Competitors!$A$1:$H$41,8,FALSE)=\"\",\"\",VLOOKUP(A32,Competitors!$A$1:$H$41,8,FALSE))","v":""},{"$f":"IF(IFERROR(VLOOKUP(($B$2&\"_\"&$A32),'Time Entry Sheet'!$A$3:$I$499,9,0),\"Error\")=\"Error\",\"\",IF(VLOOKUP(($B$2&\"_\"&$A32),'Time Entry Sheet'!$A$3:$I$499,9,FALSE)=\"wd\",\"wd\",VLOOKUP(($B$2&\"_\"&$A32),'Time Entry Sheet'!$A$3:$I$499,9,FALSE)*1))","v":""},"",{"$f":"IF(IFERROR(VLOOKUP(($B$2&\"_\"&$A32),'Time Entry Sheet'!$A$3:$I$499,8,FALSE),\"Error\")=\"Error\",\"\",IF(VLOOKUP(($B$2&\"_\"&$A32),'Time Entry Sheet'!$A$3:$I$499,8,FALSE)=\"\",\"\",VLOOKUP(($B$2&\"_\"&$A32),'Time Entry Sheet'!$A$3:$I$499,8,FALSE)))","v":""},{"$f":"IF(IFERROR(VLOOKUP(($B$2&\"_\"&$A32),'Time Entry Sheet'!$A$3:$I$499,7,FALSE),\"Error\")=\"Error\",\"\",IF(VLOOKUP(($B$2&\"_\"&$A32),'Time Entry Sheet'!$A$3:$I$499,7,FALSE)=\"\",\"\",VLOOKUP(($B$2&\"_\"&$A32),'Time Entry Sheet'!$A$3:$I$499,7,FALSE)))","v":""},"00:01:04.700","00:01:04.700",20,{"$f":"IF(A32=\"\",\"\",M32+VLOOKUP(A32,'Test 1'!$A$12:$Q$51,16,FALSE))","v":"00:02:38.740"},20,null,"","00:02:38.740"]
[22,{"$f":"IF($A33=\"\",\"\",IF(VLOOKUP($A33,Competitors!$A$2:$G$60,2,FALSE)=\"\",\"\",VLOOKUP($A33,Competitors!$A$2:$G$60,2,FALSE)))","v":""},{"$f":"IF($A33=\"\",\"\",IF(VLOOKUP($A33,Competitors!$A$2:$G$60,7,FALSE)=\"\",\"\",VLOOKUP($A33,Competitors!$A$2:$G$60,7,FALSE)))","v":""},{"$f":"IF($A33=\"\",\"\",IF(VLOOKUP($A33,Competitors!$A$2:$G$60,5,FALSE)=\"\",\"\",VLOOKUP($A33,Competitors!$A$2:$G$60,5,FALSE)))","v":""},{"$f":"IF($A33=\"\",\"\",IF(VLOOKUP($A33,Competitors!$A$2:$G$60,6,FALSE)=\"\",\"\",VLOOKUP($A33,Competitors!$A$2:$G$60,6,FALSE)))","v":"senior"},{"$f":"IF($A33=\"\",\"\",IF(VLOOKUP($A33,Competitors!$A$2:$G$60,3,FALSE)=\"\",\"\",VLOOKUP($A33,Competitors!$A$2:$G$60,3,FALSE)))","v":""},{"$f":"IF($A33=\"\",\"\",IF(VLOOKUP($A33,Competitors!$A$2:$G$60,4,FALSE)=\"\",\"\",VLOOKUP($A33,Competitors!$A$2:$G$60,4,FALSE)))","v":""},{"$f":"IF(VLOOKUP(A33,Competitors!$A$1:$H$41,8,FALSE)=\"\",\"\",VLOOKUP(A33,Competitors!$A$1:$H$41,8,FALSE))","v":""},{"$f":"IF(IFERROR(VLOOKUP(($B$2&\"_\"&$A33),'Time Entry Sheet'!$A$3:$I$499,9,0),\"Error\")=\"Error\",\"\",IF(VLOOKUP(($B$2&\"_\"&$A33),'Time Entry Sheet'!$A$3:$I$499,9,FALSE)=\"wd\",\"wd\",VLOOKUP(($B$2&\"_\"&$A33),'Time Entry Sheet'!$A$3:$I$499,9,FALSE)*1))","v":""},"",{"$f":"IF(IFERROR(VLOOKUP(($B$2&\"_\"&$A33),'Time Entry Sheet'!$A$3:$I$499,8,FALSE),\"Error\")=\"Error\",\"\",IF(VLOOKUP(($B$2&\"_\"&$A33),'Time Entry Sheet'!$A$3:$I$499,8,FALSE)=\"\",\"\",VLOOKUP(($B$2&\"_\"&$A33),'Time Entry Sheet'!$A$3:$I$499,8,FALSE)))","v":""},{"$f":"IF(IFERROR(VLOOKUP(($B$2&\"_\"&$A33),'Time Entry Sheet'!$A$3:$I$499,7,FALSE),\"Error\")=\"Error\",\"\",IF(VLOOKUP(($B$2&\"_\"&$A33),'Time Entry Sheet'!$A$3:$I$499,7,FALSE)=\"\",\"\",VLOOKUP(($B$2&\"_\"&$A33),'Time Entry Sheet'!$A$3:$I$499,7,FALSE)))","v":""},"00:01:04.700","00:01:04.700",20,{"$f":"IF(A33=\"\",\"\",M33+VLOOKUP(A33,'Test 1'!$A$12:$Q$51,16,FALSE))","v":"00:02:38.740"},20,null,"","00:02:38.740"]
[23,{"$f":"IF($A34=\"\",\"\",IF(VLOOKUP($A34,Competitors!$A$2:$G$60,2,FALSE)=\"\",\"\",VLOOKUP($A34,Competitors!$A$2:$G$60,2,FALSE)))","v":""},{"$f":"IF($A34=\"\",\"\",IF(VLOOKUP($A34,Competitors!$A$2:$G$60,7,FALSE)=\"\",\"\",VLOOKUP($A34,Competitors!$A$2:$G$60,7,FALSE)))","v":""},{"$f":"IF($A34=\"\",\"\",IF(VLOOKUP($A34,Competitors!$A$2:$G$60,5,FALSE)=\"\",\"\",VLOOKUP($A34,Competitors!$A$2:$G$60,5,FALSE)))","v":""},{"$f":"IF($A34=\"\",\"\",IF(VLOOKUP($A34,Competitors!$A$2:$G$60,6,FALSE)=\"\",\"\",VLOOKUP($A34,Competitors!$A$2:$G$60,6,FALSE)))","v":"senior"},{"$f":"IF($A34=\"\",\"\",IF(VLOOKUP($A34,Competitors!$A$2:$G$60,3,FALSE)=\"\",\"\",VLOOKUP($A34,Competitors!$A$2:$G$60,3,FALSE)))","v":""},{"$f":"IF($A34=\"\",\"\",IF(VLOOKUP($A34,Competitors!$A$2:$G$60,4,FALSE)=\"\",\"\",VLOOKUP($A34,Competitors!$A$2:$G$60,4,FALSE)))","v":""},{"$f":"IF(VLOOKUP(A34,Competitors!$A$1:$H$41,8,FALSE)=\"\",\"\",VLOOKUP(A34,Competitors!$A$1:$H$41,8,FALSE))","v":""},{"$f":"IF(IFERROR(VLOOKUP(($B$2&\"_\"&$A34),'Time Entry Sheet'!$A$3:$I$499,9,0),\"Error\")=\"Error\",\"\",IF(VLOOKUP(($B$2&\"_\"&$A34),'Time Entry Sheet'!$A$3:$I$499,9,FALSE)=\"wd\",\"wd\",VLOOKUP(($B$2&\"_\"&$A34),'Time Entry Sheet'!$A$3:$I$499,9,FALSE)*1))","v":""},"",{"$f":"IF(IFERROR(VLOOKUP(($B$2&\"_\"&$A34),'Time Entry Sheet'!$A$3:$I$499,8,FALSE),\"Error\")=\"Error\",\"\",IF(VLOOKUP(($B$2&\"_\"&$A34),'Time Entry Sheet'!$A$3:$I$499,8,FALSE)=\"\",\"\",VLOOKUP(($B$2&\"_\"&$A34),'Time Entry Sheet'!$A$3:$I$499,8,FALSE)))","v":""},{"$f":"IF(IFERROR(VLOOKUP(($B$2&\"_\"&$A34),'Time Entry Sheet'!$A$3:$I$499,7,FALSE),\"Error\")=\"Error\",\"\",IF(VLOOKUP(($B$2&\"_\"&$A34),'Time Entry Sheet'!$A$3:$I$499,7,FALSE)=\"\",\"\",VLOOKUP(($B$2&\"_\"&$A34),'Time Entry Sheet'!$A$3:$I$499,7,FALSE)))","v":""},"00:01:04.700","00:01:04.700",20,{"$f":"IF(A34=\"\",\"\",M34+VLOOKUP(A34,'Test 1'!$A$12:$Q$51,16,FALSE))","v":"00:02:38.740"},20,null,"","00:02:38.740"]
[24,{"$f":"IF($A35=\"\",\"\",IF(VLOOKUP($A35,Competitors!$A$2:$G$60,2,FALSE)=\"\",\"\",VLOOKUP($A35,Competitors!$A$2:$G$60,2,FALSE)))","v":""},{"$f":"IF($A35=\"\",\"\",IF(VLOOKUP($A35,Competitors!$A$2:$G$60,7,FALSE)=\"\",\"\",VLOOKUP($A35,Competitors!$A$2:$G$60,7,FALSE)))","v":""},{"$f":"IF($A35=\"\",\"\",IF(VLOOKUP($A35,Competitors!$A$2:$G$60,5,FALSE)=\"\",\"\",VLOOKUP($A35,Competitors!$A$2:$G$60,5,FALSE)))","v":""},{"$f":"IF($A35=\"\",\"\",IF(VLOOKUP($A35,Competitors!$A$2:$G$60,6,FALSE)=\"\",\"\",VLOOKUP($A35,Competitors!$A$2:$G$60,6,FALSE)))","v":"senior"},{"$f":"IF($A35=\"\",\"\",IF(VLOOKUP($A35,Competitors!$A$2:$G$60,3,FALSE)=\"\",\"\",VLOOKUP($A35,Competitors!$A$2:$G$60,3,FALSE)))","v":""},{"$f":"IF($A35=\"\",\"\",IF(VLOOKUP($A35,Competitors!$A$2:$G$60,4,FALSE)=\"\",\"\",VLOOKUP($A35,Competitors!$A$2:$G$60,4,FALSE)))","v":""},{"$f":"IF(VLOOKUP(A35,Competitors!$A$1:$H$41,8,FALSE)=\"\",\"\",VLOOKUP(A35,Competitors!$A$1:$H$41,8,FALSE))","v":""},{"$f":"IF(IFERROR(VLOOKUP(($B$2&\"_\"&$A35),'Time Entry Sheet'!$A$3:$I$499,9,0),\"Error\")=\"Error\",\"\",IF(VLOOKUP(($B$2&\"_\"&$A35),'Time Entry Sheet'!$A$3:$I$499,9,FALSE)=\"wd\",\"wd\",VLOOKUP(($B$2&\"_\"&$A35),'Time Entry Sheet'!$A$3:$I$499,9,FALSE)*1))","v":""},"",{"$f":"IF(IFERROR(VLOOKUP(($B$2&\"_\"&$A35),'Time Entry Sheet'!$A$3:$I$499,8,FALSE),\"Error\")=\"Error\",\"\",IF(VLOOKUP(($B$2&\"_\"&$A35),'Time Entry Sheet'!$A$3:$I$499,8,FALSE)=\"\",\"\",VLOOKUP(($B$2&\"_\"&$A35),'Time Entry Sheet'!$A$3:$I$499,8,FALSE)))","v":""},{"$f":"IF(IFERROR(VLOOKUP(($B$2&\"_\"&$A35),'Time Entry Sheet'!$A$3:$I$499,7,FALSE),\"Error\")=\"Error\",\"\",IF(VLOOKUP(($B$2&\"_\"&$A35),'Time Entry Sheet'!$A$3:$I$499,7,FALSE)=\"\",\"\",VLOOKUP(($B$2&\"_\"&$A35),'Time Entry Sheet'!$A$3:$I$499,7,FALSE)))","v":""},"00:01:04.700","00:01:04.700",20,{"$f":"IF(A35=\"\",\"\",M35+VLOOKUP(A35,'Test 1'!$A$12:$Q$51,16,FALSE))","v":"00:02:38.740"},20,null,"","00:02:38.740"]
[25,{"$f":"IF($A36=\"\",\"\",IF(VLOOKUP($A36,Competitors!$A$2:$G$60,2,FALSE)=\"\",\"\",VLOOKUP($A36,Competitors!$A$2:$G$60,2,FALSE)))","v":""},{"$f":"IF($A36=\"\",\"\",IF(VLOOKUP($A36,Competitors!$A$2:$G$60,7,FALSE)=\"\",\"\",VLOOKUP($A36,Competitors!$A$2:$G$60,7,FALSE)))","v":""},{"$f":"IF($A36=\"\",\"\",IF(VLOOKUP($A36,Competitors!$A$2:$G$60,5,FALSE)=\"\",\"\",VLOOKUP($A36,Competitors!$A$2:$G$60,5,FALSE)))","v":""},{"$f":"IF($A36=\"\",\"\",IF(VLOOKUP($A36,Competitors!$A$2:$G$60,6,FALSE)=\"\",\"\",VLOOKUP($A36,Competitors!$A$2:$G$60,6,FALSE)))","v":"senior"},{"$f":"IF($A36=\"\",\"\",IF(VLOOKUP($A36,Competitors!$A$2:$G$60,3,FALSE)=\"\",\"\",VLOOKUP($A36,Competitors!$A$2:$G$60,3,FALSE)))","v":""},{"$f":"IF($A36=\"\",\"\",IF(VLOOKUP($A36,Competitors!$A$2:$G$60,4,FALSE)=\"\",\"\",VLOOKUP($A36,Competitors!$A$2:$G$60,4,FALSE)))","v":""},{"$f":"IF(VLOOKUP(A36,Competitors!$A$1:$H$41,8,FALSE)=\"\",\"\",VLOOKUP(A36,Competitors!$A$1:$H$41,8,FALSE))","v":""},{"$f":"IF(IFERROR(VLOOKUP(($B$2&\"_\"&$A36),'Time Entry Sheet'!$A$3:$I$499,9,0),\"Error\")=\"Error\",\"\",IF(VLOOKUP(($B$2&\"_\"&$A36),'Time Entry Sheet'!$A$3:$I$499,9,FALSE)=\"wd\",\"wd\",VLOOKUP(($B$2&\"_\"&$A36),'Time Entry Sheet'!$A$3:$I$499,9,FALSE)*1))","v":""},"",{"$f":"IF(IFERROR(VLOOKUP(($B$2&\"_\"&$A36),'Time Entry Sheet'!$A$3:$I$499,8,FALSE),\"Error\")=\"Error\",\"\",IF(VLOOKUP(($B$2&\"_\"&$A36),'Time Entry Sheet'!$A$3:$I$499,8,FALSE)=\"\",\"\",VLOOKUP(($B$2&\"_\"&$A36),'Time Entry Sheet'!$A$3:$I$499,8,FALSE)))","v":""},{"$f":"IF(IFERROR(VLOOKUP(($B$2&\"_\"&$A36),'Time Entry Sheet'!$A$3:$I$499,7,FALSE),\"Error\")=\"Error\",\"\",IF(VLOOKUP(($B$2&\"_\"&$A36),'Time Entry Sheet'!$A$3:$I$499,7,FALSE)=\"\",\"\",VLOOKUP(($B$2&\"_\"&$A36),'Time Entry Sheet'!$A$3:$I$499,7,FALSE)))","v":""},"00:01:04.700","00:01:04.700",20,{"$f":"IF(A36=\"\",\"\",M36+VLOOKUP(A36,'Test 1'!$A$12:$Q$51,16,FALSE))","v":"00:02:38.740"},20,null,"","00:02:38.740"]
[26,{"$f":"IF($A37=\"\",\"\",IF(VLOOKUP($A37,Competitors!$A$2:$G$60,2,FALSE)=\"\",\"\",VLOOKUP($A37,Competitors!$A$2:$G$60,2,FALSE)))","v":""},{"$f":"IF($A37=\"\",\"\",IF(VLOOKUP($A37,Competitors!$A$2:$G$60,7,FALSE)=\"\",\"\",VLOOKUP($A37,Competitors!$A$2:$G$60,7,FALSE)))","v":""},{"$f":"IF($A37=\"\",\"\",IF(VLOOKUP($A37,Competitors!$A$2:$G$60,5,FALSE)=\"\",\"\",VLOOKUP($A37,Competitors!$A$2:$G$60,5,FALSE)))","v":""},{"$f":"IF($A37=\"\",\"\",IF(VLOOKUP($A37,Competitors!$A$2:$G$60,6,FALSE)=\"\",\"\",VLOOKUP($A37,Competitors!$A$2:$G$60,6,FALSE)))","v":"senior"},{"$f":"IF($A37=\"\",\"\",IF(VLOOKUP($A37,Competitors!$A$2:$G$60,3,FALSE)=\"\",\"\",VLOOKUP($A37,Competitors!$A$2:$G$60,3,FALSE)))","v":""},{"$f":"IF($A37=\"\",\"\",IF(VLOOKUP($A37,Competitors!$A$2:$G$60,4,FALSE)=\"\",\"\",VLOOKUP($A37,Competitors!$A$2:$G$60,4,FALSE)))","v":""},{"$f":"IF(VLOOKUP(A37,Competitors!$A$1:$H$41,8,FALSE)=\"\",\"\",VLOOKUP(A37,Competitors!$A$1:$H$41,8,FALSE))","v":""},{"$f":"IF(IFERROR(VLOOKUP(($B$2&\"_\"&$A37),'Time Entry Sheet'!$A$3:$I$499,9,0),\"Error\")=\"Error\",\"\",IF(VLOOKUP(($B$2&\"_\"&$A37),'Time Entry Sheet'!$A$3:$I$499,9,FALSE)=\"wd\",\"wd\",VLOOKUP(($B$2&\"_\"&$A37),'Time Entry Sheet'!$A$3:$I$499,9,FALSE)*1))","v":""},"",{"$f":"IF(IFERROR(VLOOKUP(($B$2&\"_\"&$A37),'Time Entry Sheet'!$A$3:$I$499,8,FALSE),\"Error\")=\"Error\",\"\",IF(VLOOKUP(($B$2&\"_\"&$A37),'Time Entry Sheet'!$A$3:$I$499,8,FALSE)=\"\",\"\",VLOOKUP(($B$2&\"_\"&$A37),'Time Entry Sheet'!$A$3:$I$499,8,FALSE)))","v":""},{"$f":"IF(IFERROR(VLOOKUP(($B$2&\"_\"&$A37),'Time Entry Sheet'!$A$3:$I$499,7,FALSE),\"Error\")=\"Error\",\"\",IF(VLOOKUP(($B$2&\"_\"&$A37),'Time Entry Sheet'!$A$3:$I$499,7,FALSE)=\"\",\"\",VLOOKUP(($B$2&\"_\"&$A37),'Time Entry Sheet'!$A$3:$I$499,7,FALSE)))","v":""},"00:01:04.700","00:01:04.700",20,{"$f":"IF(A37=\"\",\"\",M37+VLOOKUP(A37,'Test 1'!$A$12:$Q$51,16,FALSE))","v":"00:02:38.740"},20,null,"","00:02:38.740"]
[27,{"$f":"IF($A38=\"\",\"\",IF(VLOOKUP($A38,Competitors!$A$2:$G$60,2,FALSE)=\"\",\"\",VLOOKUP($A38,Competitors!$A$2:$G$60,2,FALSE)))","v":""},{"$f":"IF($A38=\"\",\"\",IF(VLOOKUP($A38,Competitors!$A$2:$G$60,7,FALSE)=\"\",\"\",VLOOKUP($A38,Competitors!$A$2:$G$60,7,FALSE)))","v":""},{"$f":"IF($A38=\"\",\"\",IF(VLOOKUP($A38,Competitors!$A$2:$G$60,5,FALSE)=\"\",\"\",VLOOKUP($A38,Competitors!$A$2:$G$60,5,FALSE)))","v":""},{"$f":"IF($A38=\"\",\"\",IF(VLOOKUP($A38,Competitors!$A$2:$G$60,6,FALSE)=\"\",\"\",VLOOKUP($A38,Competitors!$A$2:$G$60,6,FALSE)))","v":"senior"},{"$f":"IF($A38=\"\",\"\",IF(VLOOKUP($A38,Competitors!$A$2:$G$60,3,FALSE)=\"\",\"\",VLOOKUP($A38,Competitors!$A$2:$G$60,3,FALSE)))","v":""},{"$f":"IF($A38=\"\",\"\",IF(VLOOKUP($A38,Competitors!$A$2:$G$60,4,FALSE)=\"\",\"\",VLOOKUP($A38,Competitors!$A$2:$G$60,4,FALSE)))","v":""},{"$f":"IF(VLOOKUP(A38,Competitors!$A$1:$H$41,8,FALSE)=\"\",\"\",VLOOKUP(A38,Competitors!$A$1:$H$41,8,FALSE))","v":""},{"$f":"IF(IFERROR(VLOOKUP(($B$2&\"_\"&$A38),'Time Entry Sheet'!$A$3:$I$499,9,0),\"Error\")=\"Error\",\"\",IF(VLOOKUP(($B$2&\"_\"&$A38),'Time Entry Sheet'!$A$3:$I$499,9,FALSE)=\"wd\",\"wd\",VLOOKUP(($B$2&\"_\"&$A38),'Time Entry Sheet'!$A$3:$I$499,9,FALSE)*1))","v":""},"",{"$f":"IF(IFERROR(VLOOKUP(($B$2&\"_\"&$A38),'Time Entry Sheet'!$A$3:$I$499,8,FALSE),\"Error\")=\"Error\",\"\",IF(VLOOKUP(($B$2&\"_\"&$A38),'Time Entry Sheet'!$A$3:$I$499,8,FALSE)=\"\",\"\",VLOOKUP(($B$2&\"_\"&$A38),'Time Entry Sheet'!$A$3:$I$499,8,FALSE)))","v":""},{"$f":"IF(IFERROR(VLOOKUP(($B$2&\"_\"&$A38),'Time Entry Sheet'!$A$3:$I$499,7,FALSE),\"Error\")=\"Error\",\"\",IF(VLOOKUP(($B$2&\"_\"&$A38),'Time Entry Sheet'!$A$3:$I$499,7,FALSE)=\"\",\"\",VLOOKUP(($B$2&\"_\"&$A38),'Time Entry Sheet'!$A$3:$I$499,7,FALSE)))","v":""},"00:01:04.700","00:01:04.700",20,{"$f":"IF(A38=\"\",\"\",M38+VLOOKUP(A38,'Test 1'!$A$12:$Q$51,16,FALSE))","v":"00:02:38.740"},20,null,"","00:02:38.740"]
[28,{"$f":"IF($A39=\"\",\"\",IF(VLOOKUP($A39,Competitors!$A$2:$G$60,2,FALSE)=\"\",\"\",VLOOKUP($A39,Competitors!$A$2:$G$60,2,FALSE)))","v":""},{"$f":"IF($A39=\"\",\"\",IF(VLOOKUP($A39,Competitors!$A$2:$G$60,7,FALSE)=\"\",\"\",VLOOKUP($A39,Competitors!$A$2:$G$60,7,FALSE)))","v":""},{"$f":"IF($A39=\"\",\"\",IF(VLOOKUP($A39,Competitors!$A$2:$G$60,5,FALSE)=\"\",\"\",VLOOKUP($A39,Competitors!$A$2:$G$60,5,FALSE)))","v":""},{"$f":"IF($A39=\"\",\"\",IF(VLOOKUP($A39,Competitors!$A$2:$G$60,6,FALSE)=\"\",\"\",VLOOKUP($A39,Competitors!$A$2:$G$60,6,FALSE)))","v":"senior"},{"$f":"IF($A39=\"\",\"\",IF(VLOOKUP($A39,Competitors!$A$2:$G$60,3,FALSE)=\"\",\"\",VLOOKUP($A39,Competitors!$A$2:$G$60,3,FALSE)))","v":""},{"$f":"IF($A39=\"\",\"\",IF(VLOOKUP($A39,Competitors!$A$2:$G$60,4,FALSE)=\"\",\"\",VLOOKUP($A39,Competitors!$A$2:$G$60,4,FALSE)))","v":""},{"$f":"IF(VLOOKUP(A39,Competitors!$A$1:$H$41,8,FALSE)=\"\",\"\",VLOOKUP(A39,Competitors!$A$1:$H$41,8,FALSE))","v":""},{"$f":"IF(IFERROR(VLOOKUP(($B$2&\"_\"&$A39),'Time Entry Sheet'!$A$3:$I$499,9,0),\"Error\")=\"Error\",\"\",IF(VLOOKUP(($B$2&\"_\"&$A39),'Time Entry Sheet'!$A$3:$I$499,9,FALSE)=\"wd\",\"wd\",VLOOKUP(($B$2&\"_\"&$A39),'Time Entry Sheet'!$A$3:$I$499,9,FALSE)*1))","v":""},"",{"$f":"IF(IFERROR(VLOOKUP(($B$2&\"_\"&$A39),'Time Entry Sheet'!$A$3:$I$499,8,FALSE),\"Error\")=\"Error\",\"\",IF(VLOOKUP(($B$2&\"_\"&$A39),'Time Entry Sheet'!$A$3:$I$499,8,FALSE)=\"\",\"\",VLOOKUP(($B$2&\"_\"&$A39),'Time Entry Sheet'!$A$3:$I$499,8,FALSE)))","v":""},{"$f":"IF(IFERROR(VLOOKUP(($B$2&\"_\"&$A39),'Time Entry Sheet'!$A$3:$I$499,7,FALSE),\"Error\")=\"Error\",\"\",IF(VLOOKUP(($B$2&\"_\"&$A39),'Time Entry Sheet'!$A$3:$I$499,7,FALSE)=\"\",\"\",VLOOKUP(($B$2&\"_\"&$A39),'Time Entry Sheet'!$A$3:$I$499,7,FALSE)))","v":""},"00:01:04.700","00:01:04.700",20,{"$f":"IF(A39=\"\",\"\",M39+VLOOKUP(A39,'Test 1'!$A$12:$Q$51,16,FALSE))","v":"00:02:38.740"},20,null,"","00:02:38.740"]
[29,{"$f":"IF($A40=\"\",\"\",IF(VLOOKUP($A40,Competitors!$A$2:$G$60,2,FALSE)=\"\",\"\",VLOOKUP($A40,Competitors!$A$2:$G$60,2,FALSE)))","v":""},{"$f":"IF($A40=\"\",\"\",IF(VLOOKUP($A40,Competitors!$A$2:$G$60,7,FALSE)=\"\",\"\",VLOOKUP($A40,Competitors!$A$2:$G$60,7,FALSE)))","v":""},{"$f":"IF($A40=\"\",\"\",IF(VLOOKUP($A40,Competitors!$A$2:$G$60,5,FALSE)=\"\",\"\",VLOOKUP($A40,Competitors!$A$2:$G$60,5,FALSE)))","v":""},{"$f":"IF($A40=\"\",\"\",IF(VLOOKUP($A40,Competitors!$A$2:$G$60,6,FALSE)=\"\",\"\",VLOOKUP($A40,Competitors!$A$2:$G$60,6,FALSE)))","v":"senior"},{"$f":"IF($A40=\"\",\"\",IF(VLOOKUP($A40,Competitors!$A$2:$G$60,3,FALSE)=\"\",\"\",VLOOKUP($A40,Competitors!$A$2:$G$60,3,FALSE)))","v":""},{"$f":"IF($A40=\"\",\"\",IF(VLOOKUP($A40,Competitors!$A$2:$G$60,4,FALSE)=\"\",\"\",VLOOKUP($A40,Competitors!$A$2:$G$60,4,FALSE)))","v":""},{"$f":"IF(VLOOKUP(A40,Competitors!$A$1:$H$41,8,FALSE)=\"\",\"\",VLOOKUP(A40,Competitors!$A$1:$H$41,8,FALSE))","v":""},{"$f":"IF(IFERROR(VLOOKUP(($B$2&\"_\"&$A40),'Time Entry Sheet'!$A$3:$I$499,9,0),\"Error\")=\"Error\",\"\",IF(VLOOKUP(($B$2&\"_\"&$A40),'Time Entry Sheet'!$A$3:$I$499,9,FALSE)=\"wd\",\"wd\",VLOOKUP(($B$2&\"_\"&$A40),'Time Entry Sheet'!$A$3:$I$499,9,FALSE)*1))","v":""},"",{"$f":"IF(IFERROR(VLOOKUP(($B$2&\"_\"&$A40),'Time Entry Sheet'!$A$3:$I$499,8,FALSE),\"Error\")=\"Error\",\"\",IF(VLOOKUP(($B$2&\"_\"&$A40),'Time Entry Sheet'!$A$3:$I$499,8,FALSE)=\"\",\"\",VLOOKUP(($B$2&\"_\"&$A40),'Time Entry Sheet'!$A$3:$I$499,8,FALSE)))","v":""},{"$f":"IF(IFERROR(VLOOKUP(($B$2&\"_\"&$A40),'Time Entry Sheet'!$A$3:$I$499,7,FALSE),\"Error\")=\"Error\",\"\",IF(VLOOKUP(($B$2&\"_\"&$A40),'Time Entry Sheet'!$A$3:$I$499,7,FALSE)=\"\",\"\",VLOOKUP(($B$2&\"_\"&$A40),'Time Entry Sheet'!$A$3:$I$499,7,FALSE)))","v":""},"00:01:04.700","00:01:04.700",20,{"$f":"IF(A40=\"\",\"\",M40+VLOOKUP(A40,'Test 1'!$A$12:$Q$51,16,FALSE))","v":"00:02:38.740"},20,null,"","00:02:38.740"]
[30,{"$f":"IF($A41=\"\",\"\",IF(VLOOKUP($A41,Competitors!$A$2:$G$60,2,FALSE)=\"\",\"\",VLOOKUP($A41,Competitors!$A$2:$G$60,2,FALSE)))","v":""},{"$f":"IF($A41=\"\",\"\",IF(VLOOKUP($A41,Competitors!$A$2:$G$60,7,FALSE)=\"\",\"\",VLOOKUP($A41,Competitors!$A$2:$G$60,7,FALSE)))","v":""},{"$f":"IF($A41=\"\",\"\",IF(VLOOKUP($A41,Competitors!$A$2:$G$60,5,FALSE)=\"\",\"\",VLOOKUP($A41,Competitors!$A$2:$G$60,5,FALSE)))","v":""},{"$f":"IF($A41=\"\",\"\",IF(VLOOKUP($A41,Competitors!$A$2:$G$60,6,FALSE)=\"\",\"\",VLOOKUP($A41,Competitors!$A$2:$G$60,6,FALSE)))","v":"senior"},{"$f":"IF($A41=\"\",\"\",IF(VLOOKUP($A41,Competitors!$A$2:$G$60,3,FALSE)=\"\",\"\",VLOOKUP($A41,Competitors!$A$2:$G$60,3,FALSE)))","v":""},{"$f":"IF($A41=\"\",\"\",IF(VLOOKUP($A41,Competitors!$A$2:$G$60,4,FALSE)=\"\",\"\",VLOOKUP($A41,Competitors!$A$2:$G$60,4,FALSE)))","v":""},{"$f":"IF(VLOOKUP(A41,Competitors!$A$1:$H$41,8,FALSE)=\"\",\"\",VLOOKUP(A41,Competitors!$A$1:$H$41,8,FALSE))","v":""},{"$f":"IF(IFERROR(VLOOKUP(($B$2&\"_\"&$A41),'Time Entry Sheet'!$A$3:$I$499,9,0),\"Error\")=\"Error\",\"\",IF(VLOOKUP(($B$2&\"_\"&$A41),'Time Entry Sheet'!$A$3:$I$499,9,FALSE)=\"wd\",\"wd\",VLOOKUP(($B$2&\"_\"&$A41),'Time Entry Sheet'!$A$3:$I$499,9,FALSE)*1))","v":""},"",{"$f":"IF(IFERROR(VLOOKUP(($B$2&\"_\"&$A41),'Time Entry Sheet'!$A$3:$I$499,8,FALSE),\"Error\")=\"Error\",\"\",IF(VLOOKUP(($B$2&\"_\"&$A41),'Time Entry Sheet'!$A$3:$I$499,8,FALSE)=\"\",\"\",VLOOKUP(($B$2&\"_\"&$A41),'Time Entry Sheet'!$A$3:$I$499,8,FALSE)))","v":""},{"$f":"IF(IFERROR(VLOOKUP(($B$2&\"_\"&$A41),'Time Entry Sheet'!$A$3:$I$499,7,FALSE),\"Error\")=\"Error\",\"\",IF(VLOOKUP(($B$2&\"_\"&$A41),'Time Entry Sheet'!$A$3:$I$499,7,FALSE)=\"\",\"\",VLOOKUP(($B$2&\"_\"&$A41),'Time Entry Sheet'!$A$3:$I$499,7,FALSE)))","v":""},"00:01:04.700","00:01:04.700",20,{"$f":"IF(A41=\"\",\"\",M41+VLOOKUP(A41,'Test 1'!$A$12:$Q$51,16,FALSE))","v":"00:02:38.740"},20,null,"","00:02:38.740"]
[31,{"$f":"IF($A42=\"\",\"\",IF(VLOOKUP($A42,Competitors!$A$2:$G$60,2,FALSE)=\"\",\"\",VLOOKUP($A42,Competitors!$A$2:$G$60,2,FALSE)))","v":""},{"$f":"IF($A42=\"\",\"\",IF(VLOOKUP($A42,Competitors!$A$2:$G$60,7,FALSE)=\"\",\"\",VLOOKUP($A42,Competitors!$A$2:$G$60,7,FALSE)))","v":""},{"$f":"IF($A42=\"\",\"\",IF(VLOOKUP($A42,Competitors!$A$2:$G$60,5,FALSE)=\"\",\"\",VLOOKUP($A42,Competitors!$A$2:$G$60,5,FALSE)))","v":""},{"$f":"IF($A42=\"\",\"\",IF(VLOOKUP($A42,Competitors!$A$2:$G$60,6,FALSE)=\"\",\"\",VLOOKUP($A42,Competitors!$A$2:$G$60,6,FALSE)))","v":"senior"},{"$f":"IF($A42=\"\",\"\",IF(VLOOKUP($A42,Competitors!$A$2:$G$60,3,FALSE)=\"\",\"\",VLOOKUP($A42,Competitors!$A$2:$G$60,3,FALSE)))","v":""},{"$f":"IF($A42=\"\",\"\",IF(VLOOKUP($A42,Competitors!$A$2:$G$60,4,FALSE)=\"\",\"\",VLOOKUP($A42,Competitors!$A$2:$G$60,4,FALSE)))","v":""},{"$f":"IF(VLOOKUP(A42,Competitors!$A$1:$H$41,8,FALSE)=\"\",\"\",VLOOKUP(A42,Competitors!$A$1:$H$41,8,FALSE))","v":""},{"$f":"IF(IFERROR(VLOOKUP(($B$2&\"_\"&$A42),'Time Entry Sheet'!$A$3:$I$499,9,0),\"Error\")=\"Error\",\"\",IF(VLOOKUP(($B$2&\"_\"&$A42),'Time Entry Sheet'!$A$3:$I$499,9,FALSE)=\"wd\",\"wd\",VLOOKUP(($B$2&\"_\"&$A42),'Time Entry Sheet'!$A$3:$I$499,9,FALSE)*1))","v":""},"",{"$f":"IF(IFERROR(VLOOKUP(($B$2&\"_\"&$A42),'Time Entry Sheet'!$A$3:$I$499,8,FALSE),\"Error\")=\"Error\",\"\",IF(VLOOKUP(($B$2&\"_\"&$A42),'Time Entry Sheet'!$A$3:$I$499,8,FALSE)=\"\",\"\",VLOOKUP(($B$2&\"_\"&$A42),'Time Entry Sheet'!$A$3:$I$499,8,FALSE)))","v":""},{"$f":"IF(IFERROR(VLOOKUP(($B$2&\"_\"&$A42),'Time Entry Sheet'!$A$3:$I$499,7,FALSE),\"Error\")=\"Error\",\"\",IF(VLOOKUP(($B$2&\"_\"&$A42),'Time Entry Sheet'!$A$3:$I$499,7,FALSE)=\"\",\"\",VLOOKUP(($B$2&\"_\"&$A42),'Time Entry Sheet'!$A$3:$I$499,7,FALSE)))","v":""},"00:01:04.700","00:01:04.700",20,{"$f":"IF(A42=\"\",\"\",M42+VLOOKUP(A42,'Test 1'!$A$12:$Q$51,16,FALSE))","v":"00:02:38.740"},20,null,"","00:02:38.740"]
[32,{"$f":"IF($A43=\"\",\"\",IF(VLOOKUP($A43,Competitors!$A$2:$G$60,2,FALSE)=\"\",\"\",VLOOKUP($A43,Competitors!$A$2:$G$60,2,FALSE)))","v":""},{"$f":"IF($A43=\"\",\"\",IF(VLOOKUP($A43,Competitors!$A$2:$G$60,7,FALSE)=\"\",\"\",VLOOKUP($A43,Competitors!$A$2:$G$60,7,FALSE)))","v":""},{"$f":"IF($A43=\"\",\"\",IF(VLOOKUP($A43,Competitors!$A$2:$G$60,5,FALSE)=\"\",\"\",VLOOKUP($A43,Competitors!$A$2:$G$60,5,FALSE)))","v":""},{"$f":"IF($A43=\"\",\"\",IF(VLOOKUP($A43,Competitors!$A$2:$G$60,6,FALSE)=\"\",\"\",VLOOKUP($A43,Competitors!$A$2:$G$60,6,FALSE)))","v":"senior"},{"$f":"IF($A43=\"\",\"\",IF(VLOOKUP($A43,Competitors!$A$2:$G$60,3,FALSE)=\"\",\"\",VLOOKUP($A43,Competitors!$A$2:$G$60,3,FALSE)))","v":""},{"$f":"IF($A43=\"\",\"\",IF(VLOOKUP($A43,Competitors!$A$2:$G$60,4,FALSE)=\"\",\"\",VLOOKUP($A43,Competitors!$A$2:$G$60,4,FALSE)))","v":""},{"$f":"IF(VLOOKUP(A43,Competitors!$A$1:$H$41,8,FALSE)=\"\",\"\",VLOOKUP(A43,Competitors!$A$1:$H$41,8,FALSE))","v":""},{"$f":"IF(IFERROR(VLOOKUP(($B$2&\"_\"&$A43),'Time Entry Sheet'!$A$3:$I$499,9,0),\"Error\")=\"Error\",\"\",IF(VLOOKUP(($B$2&\"_\"&$A43),'Time Entry Sheet'!$A$3:$I$499,9,FALSE)=\"wd\",\"wd\",VLOOKUP(($B$2&\"_\"&$A43),'Time Entry Sheet'!$A$3:$I$499,9,FALSE)*1))","v":""},"",{"$f":"IF(IFERROR(VLOOKUP(($B$2&\"_\"&$A43),'Time Entry Sheet'!$A$3:$I$499,8,FALSE),\"Error\")=\"Error\",\"\",IF(VLOOKUP(($B$2&\"_\"&$A43),'Time Entry Sheet'!$A$3:$I$499,8,FALSE)=\"\",\"\",VLOOKUP(($B$2&\"_\"&$A43),'Time Entry Sheet'!$A$3:$I$499,8,FALSE)))","v":""},{"$f":"IF(IFERROR(VLOOKUP(($B$2&\"_\"&$A43),'Time Entry Sheet'!$A$3:$I$499,7,FALSE),\"Error\")=\"Error\",\"\",IF(VLOOKUP(($B$2&\"_\"&$A43),'Time Entry Sheet'!$A$3:$I$499,7,FALSE)=\"\",\"\",VLOOKUP(($B$2&\"_\"&$A43),'Time Entry Sheet'!$A$3:$I$499,7,FALSE)))","v":""},"00:01:04.700","00:01:04.700",20,{"$f":"IF(A43=\"\",\"\",M43+VLOOKUP(A43,'Test 1'!$A$12:$Q$51,16,FALSE))","v":"00:02:38.740"},20,null,"","00:02:38.740"]
[33,{"$f":"IF($A44=\"\",\"\",IF(VLOOKUP($A44,Competitors!$A$2:$G$60,2,FALSE)=\"\",\"\",VLOOKUP($A44,Competitors!$A$2:$G$60,2,FALSE)))","v":""},{"$f":"IF($A44=\"\",\"\",IF(VLOOKUP($A44,Competitors!$A$2:$G$60,7,FALSE)=\"\",\"\",VLOOKUP($A44,Competitors!$A$2:$G$60,7,FALSE)))","v":""},{"$f":"IF($A44=\"\",\"\",IF(VLOOKUP($A44,Competitors!$A$2:$G$60,5,FALSE)=\"\",\"\",VLOOKUP($A44,Competitors!$A$2:$G$60,5,FALSE)))","v":""},{"$f":"IF($A44=\"\",\"\",IF(VLOOKUP($A44,Competitors!$A$2:$G$60,6,FALSE)=\"\",\"\",VLOOKUP($A44,Competitors!$A$2:$G$60,6,FALSE)))","v":"senior"},{"$f":"IF($A44=\"\",\"\",IF(VLOOKUP($A44,Competitors!$A$2:$G$60,3,FALSE)=\"\",\"\",VLOOKUP($A44,Competitors!$A$2:$G$60,3,FALSE)))","v":""},{"$f":"IF($A44=\"\",\"\",IF(VLOOKUP($A44,Competitors!$A$2:$G$60,4,FALSE)=\"\",\"\",VLOOKUP($A44,Competitors!$A$2:$G$60,4,FALSE)))","v":""},{"$f":"IF(VLOOKUP(A44,Competitors!$A$1:$H$41,8,FALSE)=\"\",\"\",VLOOKUP(A44,Competitors!$A$1:$H$41,8,FALSE))","v":""},{"$f":"IF(IFERROR(VLOOKUP(($B$2&\"_\"&$A44),'Time Entry Sheet'!$A$3:$I$499,9,0),\"Error\")=\"Error\",\"\",IF(VLOOKUP(($B$2&\"_\"&$A44),'Time Entry Sheet'!$A$3:$I$499,9,FALSE)=\"wd\",\"wd\",VLOOKUP(($B$2&\"_\"&$A44),'Time Entry Sheet'!$A$3:$I$499,9,FALSE)*1))","v":""},"",{"$f":"IF(IFERROR(VLOOKUP(($B$2&\"_\"&$A44),'Time Entry Sheet'!$A$3:$I$499,8,FALSE),\"Error\")=\"Error\",\"\",IF(VLOOKUP(($B$2&\"_\"&$A44),'Time Entry Sheet'!$A$3:$I$499,8,FALSE)=\"\",\"\",VLOOKUP(($B$2&\"_\"&$A44),'Time Entry Sheet'!$A$3:$I$499,8,FALSE)))","v":""},{"$f":"IF(IFERROR(VLOOKUP(($B$2&\"_\"&$A44),'Time Entry Sheet'!$A$3:$I$499,7,FALSE),\"Error\")=\"Error\",\"\",IF(VLOOKUP(($B$2&\"_\"&$A44),'Time Entry Sheet'!$A$3:$I$499,7,FALSE)=\"\",\"\",VLOOKUP(($B$2&\"_\"&$A44),'Time Entry Sheet'!$A$3:$I$499,7,FALSE)))","v":""},"00:01:04.700","00:01:04.700",20,{"$f":"IF(A44=\"\",\"\",M44+VLOOKUP(A44,'Test 1'!$A$12:$Q$51,16,FALSE))","v":"00:02:38.740"},20,null,"","00:02:38.740"]
[34,{"$f":"IF($A45=\"\",\"\",IF(VLOOKUP($A45,Competitors!$A$2:$G$60,2,FALSE)=\"\",\"\",VLOOKUP($A45,Competitors!$A$2:$G$60,2,FALSE)))","v":""},{"$f":"IF($A45=\"\",\"\",IF(VLOOKUP($A45,Competitors!$A$2:$G$60,7,FALSE)=\"\",\"\",VLOOKUP($A45,Competitors!$A$2:$G$60,7,FALSE)))","v":""},{"$f":"IF($A45=\"\",\"\",IF(VLOOKUP($A45,Competitors!$A$2:$G$60,5,FALSE)=\"\",\"\",VLOOKUP($A45,Competitors!$A$2:$G$60,5,FALSE)))","v":""},{"$f":"IF($A45=\"\",\"\",IF(VLOOKUP($A45,Competitors!$A$2:$G$60,6,FALSE)=\"\",\"\",VLOOKUP($A45,Competitors!$A$2:$G$60,6,FALSE)))","v":"senior"},{"$f":"IF($A45=\"\",\"\",IF(VLOOKUP($A45,Competitors!$A$2:$G$60,3,FALSE)=\"\",\"\",VLOOKUP($A45,Competitors!$A$2:$G$60,3,FALSE)))","v":""},{"$f":"IF($A45=\"\",\"\",IF(VLOOKUP($A45,Competitors!$A$2:$G$60,4,FALSE)=\"\",\"\",VLOOKUP($A45,Competitors!$A$2:$G$60,4,FALSE)))","v":""},{"$f":"IF(VLOOKUP(A45,Competitors!$A$1:$H$41,8,FALSE)=\"\",\"\",VLOOKUP(A45,Competitors!$A$1:$H$41,8,FALSE))","v":""},{"$f":"IF(IFERROR(VLOOKUP(($B$2&\"_\"&$A45),'Time Entry Sheet'!$A$3:$I$499,9,0),\"Error\")=\"Error\",\"\",IF(VLOOKUP(($B$2&\"_\"&$A45),'Time Entry Sheet'!$A$3:$I$499,9,FALSE)=\"wd\",\"wd\",VLOOKUP(($B$2&\"_\"&$A45),'Time Entry Sheet'!$A$3:$I$499,9,FALSE)*1))","v":""},{"$f":"IF(E45=\"Junior\",\"\",IF(I45=\"wd\",\"\",IF(K45<>\"\",\"\",I45)))","v":""},{"$f":"IF(IFERROR(VLOOKUP(($B$2&\"_\"&$A45),'Time Entry Sheet'!$A$3:$I$499,8,FALSE),\"Error\")=\"Error\",\"\",IF(VLOOKUP(($B$2&\"_\"&$A45),'Time Entry Sheet'!$A$3:$I$499,8,FALSE)=\"\",\"\",VLOOKUP(($B$2&\"_\"&$A45),'Time Entry Sheet'!$A$3:$I$499,8,FALSE)))","v":""},{"$f":"IF(IFERROR(VLOOKUP(($B$2&\"_\"&$A45),'Time Entry Sheet'!$A$3:$I$499,7,FALSE),\"Error\")=\"Error\",\"\",IF(VLOOKUP(($B$2&\"_\"&$A45),'Time Entry Sheet'!$A$3:$I$499,7,FALSE)=\"\",\"\",VLOOKUP(($B$2&\"_\"&$A45),'Time Entry Sheet'!$A$3:$I$499,7,FALSE)))","v":""},{"$f":"IF(A45=\"\",\"\",IF(I45=\"wd\",IF(E45=\"Senior\",$B$7,$C$7),IF(L45<>\"\",$B$7,IF(I45=\"\",IF(E45=\"Senior\",$B$8,$C$8),IF(K45=\"\",I45,I45+($B$5*K45))))))","v":"00:01:04.700"},"00:01:04.700",20,{"$f":"IF(A45=\"\",\"\",M45+VLOOKUP(A45,'Test 1'!$A$12:$Q$51,16,FALSE))","v":"00:02:38.740"},20,null,{"$f":"IF(E45=\"Senior\",\"\",IF(I45=\"wd\",\"\",IF(K45<>\"\",\"\",I45)))","v":""},"00:02:38.740"]
[35,{"$f":"IF($A46=\"\",\"\",IF(VLOOKUP($A46,Competitors!$A$2:$G$60,2,FALSE)=\"\",\"\",VLOOKUP($A46,Competitors!$A$2:$G$60,2,FALSE)))","v":""},{"$f":"IF($A46=\"\",\"\",IF(VLOOKUP($A46,Competitors!$A$2:$G$60,7,FALSE)=\"\",\"\",VLOOKUP($A46,Competitors!$A$2:$G$60,7,FALSE)))","v":""},{"$f":"IF($A46=\"\",\"\",IF(VLOOKUP($A46,Competitors!$A$2:$G$60,5,FALSE)=\"\",\"\",VLOOKUP($A46,Competitors!$A$2:$G$60,5,FALSE)))","v":""},{"$f":"IF($A46=\"\",\"\",IF(VLOOKUP($A46,Competitors!$A$2:$G$60,6,FALSE)=\"\",\"\",VLOOKUP($A46,Competitors!$A$2:$G$60,6,FALSE)))","v":"senior"},{"$f":"IF($A46=\"\",\"\",IF(VLOOKUP($A46,Competitors!$A$2:$G$60,3,FALSE)=\"\",\"\",VLOOKUP($A46,Competitors!$A$2:$G$60,3,FALSE)))","v":""},{"$f":"IF($A46=\"\",\"\",IF(VLOOKUP($A46,Competitors!$A$2:$G$60,4,FALSE)=\"\",\"\",VLOOKUP($A46,Competitors!$A$2:$G$60,4,FALSE)))","v":""},{"$f":"IF(VLOOKUP(A46,Competitors!$A$1:$H$41,8,FALSE)=\"\",\"\",VLOOKUP(A46,Competitors!$A$1:$H$41,8,FALSE))","v":""},{"$f":"IF(IFERROR(VLOOKUP(($B$2&\"_\"&$A46),'Time Entry Sheet'!$A$3:$I$499,9,0),\"Error\")=\"Error\",\"\",IF(VLOOKUP(($B$2&\"_\"&$A46),'Time Entry Sheet'!$A$3:$I$499,9,FALSE)=\"wd\",\"wd\",VLOOKUP(($B$2&\"_\"&$A46),'Time Entry Sheet'!$A$3:$I$499,9,FALSE)*1))","v":""},"",{"$f":"IF(IFERROR(VLOOKUP(($B$2&\"_\"&$A46),'Time Entry Sheet'!$A$3:$I$499,8,FALSE),\"Error\")=\"Error\",\"\",IF(VLOOKUP(($B$2&\"_\"&$A46),'Time Entry Sheet'!$A$3:$I$499,8,FALSE)=\"\",\"\",VLOOKUP(($B$2&\"_\"&$A46),'Time Entry Sheet'!$A$3:$I$499,8,FALSE)))","v":""},{"$f":"IF(IFERROR(VLOOKUP(($B$2&\"_\"&$A46),'Time Entry Sheet'!$A$3:$I$499,7,FALSE),\"Error\")=\"Error\",\"\",IF(VLOOKUP(($B$2&\"_\"&$A46),'Time Entry Sheet'!$A$3:$I$499,7,FALSE)=\"\",\"\",VLOOKUP(($B$2&\"_\"&$A46),'Time Entry Sheet'!$A$3:$I$499,7,FALSE)))","v":""},"00:01:04.700","00:01:04.700",20,{"$f":"IF(A46=\"\",\"\",M46+VLOOKUP(A46,'Test 1'!$A$12:$Q$51,16,FALSE))","v":"00:02:38.740"},20,null,"","00:02:38.740"]
[36,{"$f":"IF($A47=\"\",\"\",IF(VLOOKUP($A47,Competitors!$A$2:$G$60,2,FALSE)=\"\",\"\",VLOOKUP($A47,Competitors!$A$2:$G$60,2,FALSE)))","v":""},{"$f":"IF($A47=\"\",\"\",IF(VLOOKUP($A47,Competitors!$A$2:$G$60,7,FALSE)=\"\",\"\",VLOOKUP($A47,Competitors!$A$2:$G$60,7,FALSE)))","v":""},{"$f":"IF($A47=\"\",\"\",IF(VLOOKUP($A47,Competitors!$A$2:$G$60,5,FALSE)=\"\",\"\",VLOOKUP($A47,Competitors!$A$2:$G$60,5,FALSE)))","v":""},{"$f":"IF($A47=\"\",\"\",IF(VLOOKUP($A47,Competitors!$A$2:$G$60,6,FALSE)=\"\",\"\",VLOOKUP($A47,Competitors!$A$2:$G$60,6,FALSE)))","v":"senior"},{"$f":"IF($A47=\"\",\"\",IF(VLOOKUP($A47,Competitors!$A$2:$G$60,3,FALSE)=\"\",\"\",VLOOKUP($A47,Competitors!$A$2:$G$60,3,FALSE)))","v":""},{"$f":"IF($A47=\"\",\"\",IF(VLOOKUP($A47,Competitors!$A$2:$G$60,4,FALSE)=\"\",\"\",VLOOKUP($A47,Competitors!$A$2:$G$60,4,FALSE)))","v":""},{"$f":"IF(VLOOKUP(A47,Competitors!$A$1:$H$41,8,FALSE)=\"\",\"\",VLOOKUP(A47,Competitors!$A$1:$H$41,8,FALSE))","v":""},{"$f":"IF(IFERROR(VLOOKUP(($B$2&\"_\"&$A47),'Time Entry Sheet'!$A$3:$I$499,9,0),\"Error\")=\"Error\",\"\",IF(VLOOKUP(($B$2&\"_\"&$A47),'Time Entry Sheet'!$A$3:$I$499,9,FALSE)=\"wd\",\"wd\",VLOOKUP(($B$2&\"_\"&$A47),'Time Entry Sheet'!$A$3:$I$499,9,FALSE)*1))","v":""},"",{"$f":"IF(IFERROR(VLOOKUP(($B$2&\"_\"&$A47),'Time Entry Sheet'!$A$3:$I$499,8,FALSE),\"Error\")=\"Error\",\"\",IF(VLOOKUP(($B$2&\"_\"&$A47),'Time Entry Sheet'!$A$3:$I$499,8,FALSE)=\"\",\"\",VLOOKUP(($B$2&\"_\"&$A47),'Time Entry Sheet'!$A$3:$I$499,8,FALSE)))","v":""},{"$f":"IF(IFERROR(VLOOKUP(($B$2&\"_\"&$A47),'Time Entry Sheet'!$A$3:$I$499,7,FALSE),\"Error\")=\"Error\",\"\",IF(VLOOKUP(($B$2&\"_\"&$A47),'Time Entry Sheet'!$A$3:$I$499,7,FALSE)=\"\",\"\",VLOOKUP(($B$2&\"_\"&$A47),'Time Entry Sheet'!$A$3:$I$499,7,FALSE)))","v":""},"00:01:04.700","00:01:04.700",20,{"$f":"IF(A47=\"\",\"\",M47+VLOOKUP(A47,'Test 1'!$A$12:$Q$51,16,FALSE))","v":"00:02:38.740"},20,null,"","00:02:38.740"]
[37,{"$f":"IF($A48=\"\",\"\",IF(VLOOKUP($A48,Competitors!$A$2:$G$60,2,FALSE)=\"\",\"\",VLOOKUP($A48,Competitors!$A$2:$G$60,2,FALSE)))","v":""},{"$f":"IF($A48=\"\",\"\",IF(VLOOKUP($A48,Competitors!$A$2:$G$60,7,FALSE)=\"\",\"\",VLOOKUP($A48,Competitors!$A$2:$G$60,7,FALSE)))","v":""},{"$f":"IF($A48=\"\",\"\",IF(VLOOKUP($A48,Competitors!$A$2:$G$60,5,FALSE)=\"\",\"\",VLOOKUP($A48,Competitors!$A$2:$G$60,5,FALSE)))","v":""},{"$f":"IF($A48=\"\",\"\",IF(VLOOKUP($A48,Competitors!$A$2:$G$60,6,FALSE)=\"\",\"\",VLOOKUP($A48,Competitors!$A$2:$G$60,6,FALSE)))","v":"senior"},{"$f":"IF($A48=\"\",\"\",IF(VLOOKUP($A48,Competitors!$A$2:$G$60,3,FALSE)=\"\",\"\",VLOOKUP($A48,Competitors!$A$2:$G$60,3,FALSE)))","v":""},{"$f":"IF($A48=\"\",\"\",IF(VLOOKUP($A48,Competitors!$A$2:$G$60,4,FALSE)=\"\",\"\",VLOOKUP($A48,Competitors!$A$2:$G$60,4,FALSE)))","v":""},{"$f":"IF(VLOOKUP(A48,Competitors!$A$1:$H$41,8,FALSE)=\"\",\"\",VLOOKUP(A48,Competitors!$A$1:$H$41,8,FALSE))","v":""},{"$f":"IF(IFERROR(VLOOKUP(($B$2&\"_\"&$A48),'Time Entry Sheet'!$A$3:$I$499,9,0),\"Error\")=\"Error\",\"\",IF(VLOOKUP(($B$2&\"_\"&$A48),'Time Entry Sheet'!$A$3:$I$499,9,FALSE)=\"wd\",\"wd\",VLOOKUP(($B$2&\"_\"&$A48),'Time Entry Sheet'!$A$3:$I$499,9,FALSE)*1))","v":""},"",{"$f":"IF(IFERROR(VLOOKUP(($B$2&\"_\"&$A48),'Time Entry Sheet'!$A$3:$I$499,8,FALSE),\"Error\")=\"Error\",\"\",IF(VLOOKUP(($B$2&\"_\"&$A48),'Time Entry Sheet'!$A$3:$I$499,8,FALSE)=\"\",\"\",VLOOKUP(($B$2&\"_\"&$A48),'Time Entry Sheet'!$A$3:$I$499,8,FALSE)))","v":""},{"$f":"IF(IFERROR(VLOOKUP(($B$2&\"_\"&$A48),'Time Entry Sheet'!$A$3:$I$499,7,FALSE),\"Error\")=\"Error\",\"\",IF(VLOOKUP(($B$2&\"_\"&$A48),'Time Entry Sheet'!$A$3:$I$499,7,FALSE)=\"\",\"\",VLOOKUP(($B$2&\"_\"&$A48),'Time Entry Sheet'!$A$3:$I$499,7,FALSE)))","v":""},"00:01:04.700","00:01:04.700",20,{"$f":"IF(A48=\"\",\"\",M48+VLOOKUP(A48,'Test 1'!$A$12:$Q$51,16,FALSE))","v":"00:02:38.740"},20,null,"","00:02:38.740"]
[38,{"$f":"IF($A49=\"\",\"\",IF(VLOOKUP($A49,Competitors!$A$2:$G$60,2,FALSE)=\"\",\"\",VLOOKUP($A49,Competitors!$A$2:$G$60,2,FALSE)))","v":""},{"$f":"IF($A49=\"\",\"\",IF(VLOOKUP($A49,Competitors!$A$2:$G$60,7,FALSE)=\"\",\"\",VLOOKUP($A49,Competitors!$A$2:$G$60,7,FALSE)))","v":""},{"$f":"IF($A49=\"\",\"\",IF(VLOOKUP($A49,Competitors!$A$2:$G$60,5,FALSE)=\"\",\"\",VLOOKUP($A49,Competitors!$A$2:$G$60,5,FALSE)))","v":""},{"$f":"IF($A49=\"\",\"\",IF(VLOOKUP($A49,Competitors!$A$2:$G$60,6,FALSE)=\"\",\"\",VLOOKUP($A49,Competitors!$A$2:$G$60,6,FALSE)))","v":"senior"},{"$f":"IF($A49=\"\",\"\",IF(VLOOKUP($A49,Competitors!$A$2:$G$60,3,FALSE)=\"\",\"\",VLOOKUP($A49,Competitors!$A$2:$G$60,3,FALSE)))","v":""},{"$f":"IF($A49=\"\",\"\",IF(VLOOKUP($A49,Competitors!$A$2:$G$60,4,FALSE)=\"\",\"\",VLOOKUP($A49,Competitors!$A$2:$G$60,4,FALSE)))","v":""},{"$f":"IF(VLOOKUP(A49,Competitors!$A$1:$H$41,8,FALSE)=\"\",\"\",VLOOKUP(A49,Competitors!$A$1:$H$41,8,FALSE))","v":""},{"$f":"IF(IFERROR(VLOOKUP(($B$2&\"_\"&$A49),'Time Entry Sheet'!$A$3:$I$499,9,0),\"Error\")=\"Error\",\"\",IF(VLOOKUP(($B$2&\"_\"&$A49),'Time Entry Sheet'!$A$3:$I$499,9,FALSE)=\"wd\",\"wd\",VLOOKUP(($B$2&\"_\"&$A49),'Time Entry Sheet'!$A$3:$I$499,9,FALSE)*1))","v":""},"",{"$f":"IF(IFERROR(VLOOKUP(($B$2&\"_\"&$A49),'Time Entry Sheet'!$A$3:$I$499,8,FALSE),\"Error\")=\"Error\",\"\",IF(VLOOKUP(($B$2&\"_\"&$A49),'Time Entry Sheet'!$A$3:$I$499,8,FALSE)=\"\",\"\",VLOOKUP(($B$2&\"_\"&$A49),'Time Entry Sheet'!$A$3:$I$499,8,FALSE)))","v":""},{"$f":"IF(IFERROR(VLOOKUP(($B$2&\"_\"&$A49),'Time Entry Sheet'!$A$3:$I$499,7,FALSE),\"Error\")=\"Error\",\"\",IF(VLOOKUP(($B$2&\"_\"&$A49),'Time Entry Sheet'!$A$3:$I$499,7,FALSE)=\"\",\"\",VLOOKUP(($B$2&\"_\"&$A49),'Time Entry Sheet'!$A$3:$I$499,7,FALSE)))","v":""},"00:01:04.700","00:01:04.700",20,{"$f":"IF(A49=\"\",\"\",M49+VLOOKUP(A49,'Test 1'!$A$12:$Q$51,16,FALSE))","v":"00:02:38.740"},20,null,"","00:02:38.740"]
[39,{"$f":"IF($A50=\"\",\"\",IF(VLOOKUP($A50,Competitors!$A$2:$G$60,2,FALSE)=\"\",\"\",VLOOKUP($A50,Competitors!$A$2:$G$60,2,FALSE)))","v":""},{"$f":"IF($A50=\"\",\"\",IF(VLOOKUP($A50,Competitors!$A$2:$G$60,7,FALSE)=\"\",\"\",VLOOKUP($A50,Competitors!$A$2:$G$60,7,FALSE)))","v":""},{"$f":"IF($A50=\"\",\"\",IF(VLOOKUP($A50,Competitors!$A$2:$G$60,5,FALSE)=\"\",\"\",VLOOKUP($A50,Competitors!$A$2:$G$60,5,FALSE)))","v":""},{"$f":"IF($A50=\"\",\"\",IF(VLOOKUP($A50,Competitors!$A$2:$G$60,6,FALSE)=\"\",\"\",VLOOKUP($A50,Competitors!$A$2:$G$60,6,FALSE)))","v":"senior"},{"$f":"IF($A50=\"\",\"\",IF(VLOOKUP($A50,Competitors!$A$2:$G$60,3,FALSE)=\"\",\"\",VLOOKUP($A50,Competitors!$A$2:$G$60,3,FALSE)))","v":""},{"$f":"IF($A50=\"\",\"\",IF(VLOOKUP($A50,Competitors!$A$2:$G$60,4,FALSE)=\"\",\"\",VLOOKUP($A50,Competitors!$A$2:$G$60,4,FALSE)))","v":""},{"$f":"IF(VLOOKUP(A50,Competitors!$A$1:$H$41,8,FALSE)=\"\",\"\",VLOOKUP(A50,Competitors!$A$1:$H$41,8,FALSE))","v":""},{"$f":"IF(IFERROR(VLOOKUP(($B$2&\"_\"&$A50),'Time Entry Sheet'!$A$3:$I$499,9,0),\"Error\")=\"Error\",\"\",IF(VLOOKUP(($B$2&\"_\"&$A50),'Time Entry Sheet'!$A$3:$I$499,9,FALSE)=\"wd\",\"wd\",VLOOKUP(($B$2&\"_\"&$A50),'Time Entry Sheet'!$A$3:$I$499,9,FALSE)*1))","v":""},"",{"$f":"IF(IFERROR(VLOOKUP(($B$2&\"_\"&$A50),'Time Entry Sheet'!$A$3:$I$499,8,FALSE),\"Error\")=\"Error\",\"\",IF(VLOOKUP(($B$2&\"_\"&$A50),'Time Entry Sheet'!$A$3:$I$499,8,FALSE)=\"\",\"\",VLOOKUP(($B$2&\"_\"&$A50),'Time Entry Sheet'!$A$3:$I$499,8,FALSE)))","v":""},{"$f":"IF(IFERROR(VLOOKUP(($B$2&\"_\"&$A50),'Time Entry Sheet'!$A$3:$I$499,7,FALSE),\"Error\")=\"Error\",\"\",IF(VLOOKUP(($B$2&\"_\"&$A50),'Time Entry Sheet'!$A$3:$I$499,7,FALSE)=\"\",\"\",VLOOKUP(($B$2&\"_\"&$A50),'Time Entry Sheet'!$A$3:$I$499,7,FALSE)))","v":""},"00:01:04.700","00:01:04.700",20,{"$f":"IF(A50=\"\",\"\",M50+VLOOKUP(A50,'Test 1'!$A$12:$Q$51,16,FALSE))","v":"00:02:38.740"},20,null,"","00:02:38.740"]
[40,{"$f":"IF($A51=\"\",\"\",IF(VLOOKUP($A51,Competitors!$A$2:$G$60,2,FALSE)=\"\",\"\",VLOOKUP($A51,Competitors!$A$2:$G$60,2,FALSE)))","v":""},{"$f":"IF($A51=\"\",\"\",IF(VLOOKUP($A51,Competitors!$A$2:$G$60,7,FALSE)=\"\",\"\",VLOOKUP($A51,Competitors!$A$2:$G$60,7,FALSE)))","v":""},{"$f":"IF($A51=\"\",\"\",IF(VLOOKUP($A51,Competitors!$A$2:$G$60,5,FALSE)=\"\",\"\",VLOOKUP($A51,Competitors!$A$2:$G$60,5,FALSE)))","v":""},{"$f":"IF($A51=\"\",\"\",IF(VLOOKUP($A51,Competitors!$A$2:$G$60,6,FALSE)=\"\",\"\",VLOOKUP($A51,Competitors!$A$2:$G$60,6,FALSE)))","v":"senior"},{"$f":"IF($A51=\"\",\"\",IF(VLOOKUP($A51,Competitors!$A$2:$G$60,3,FALSE)=\"\",\"\",VLOOKUP($A51,Competitors!$A$2:$G$60,3,FALSE)))","v":""},{"$f":"IF($A51=\"\",\"\",IF(VLOOKUP($A51,Competitors!$A$2:$G$60,4,FALSE)=\"\",\"\",VLOOKUP($A51,Competitors!$A$2:$G$60,4,FALSE)))","v":""},{"$f":"IF(VLOOKUP(A51,Competitors!$A$1:$H$41,8,FALSE)=\"\",\"\",VLOOKUP(A51,Competitors!$A$1:$H$41,8,FALSE))","v":""},{"$f":"IF(IFERROR(VLOOKUP(($B$2&\"_\"&$A51),'Time Entry Sheet'!$A$3:$I$499,9,0),\"Error\")=\"Error\",\"\",IF(VLOOKUP(($B$2&\"_\"&$A51),'Time Entry Sheet'!$A$3:$I$499,9,FALSE)=\"wd\",\"wd\",VLOOKUP(($B$2&\"_\"&$A51),'Time Entry Sheet'!$A$3:$I$499,9,FALSE)*1))","v":""},"",{"$f":"IF(IFERROR(VLOOKUP(($B$2&\"_\"&$A51),'Time Entry Sheet'!$A$3:$I$499,8,FALSE),\"Error\")=\"Error\",\"\",IF(VLOOKUP(($B$2&\"_\"&$A51),'Time Entry Sheet'!$A$3:$I$499,8,FALSE)=\"\",\"\",VLOOKUP(($B$2&\"_\"&$A51),'Time Entry Sheet'!$A$3:$I$499,8,FALSE)))","v":""},{"$f":"IF(IFERROR(VLOOKUP(($B$2&\"_\"&$A51),'Time Entry Sheet'!$A$3:$I$499,7,FALSE),\"Error\")=\"Error\",\"\",IF(VLOOKUP(($B$2&\"_\"&$A51),'Time Entry Sheet'!$A$3:$I$499,7,FALSE)=\"\",\"\",VLOOKUP(($B$2&\"_\"&$A51),'Time Entry Sheet'!$A$3:$I$499,7,FALSE)))","v":""},"00:01:04.700","00:01:04.700",20,{"$f":"IF(A51=\"\",\"\",M51+VLOOKUP(A51,'Test 1'!$A$12:$Q$51,16,FALSE))","v":"00:02:38.740"},20,null,"","00:02:38.740"]

{"sheet":"Test 3","index":20,"n_rows":51,"n_cols":20,"rows_kept":51,"cut":false,"hidden":false,"merged":[[0,8,0,10]]}
[]
["TEST",3,null,null,null,null,null,null,null,null,"PROVISIONAL RESULTS",null,{"$f":"NOW()","v":42690.814244444446},null,{"$f":"NOW()","v":"2016-11-16T19:32:30.720"}]
["Date:","2015-10-31",null,null,null,null,null,null,null,null,null,"Junior",{"$f":"MIN( IF( $E$8:$E$51=L3, $S$8:$S$51 ) )","v":"00:00:00"},null,"FASTEST"]
["10 sec penalty","00:00:10",null,null,null,null,null,null,null,null,null,"Junior",{"$f":"MAX( IF( $E$8:$E$51=L4, $S$8:$S$51 ) )","v":"00:00:00"},null,"SLOWEST"]
["Flag penalty","00:00:05",null,null,null,null,"SENIOR"]
[null,null,null,null,null,null,"Fastest test time x 2",null,{"$f":"M6*2","v":"00:01:36.800"},null,null,"Senior",{"$f":"MIN( IF( E11:E51=L6, J11:J51 ) )","v":"00:00:48.400"},null,"FASTEST"]
["Slowest test time + 5 second penalty",{"$f":"MIN($I$6,$I$7)+$B$5","v":"00:01:07.100"},{"$f":"MIN($I$9:$I$10)+$B$5","v":"00:00:05"},null,null,null,"Slowest test time",null,{"$f":"M7","v":"00:01:02.100"},null,null,"Senior",{"$f":"MAX( IF( E11:E51=L7, J11:J51 ) )","v":"00:01:02.100"},null,"SLOWEST"]
["Failure to Attempt Course (Slowest time + 10 sec)",{"$f":"SUM($I$7,$B$4)","v":"00:01:12.100"},{"$f":"SUM($I$10,$B$4)","v":"00:00:10"},null,null,null,"JUNIOR"]
[null,null,null,null,null,null,"Fastest test time x 2",null,{"$f":"M3*2","v":"00:00:00"}]
[null,null,null,null,null,null,"Slowest test time",null,{"$f":"M4","v":"00:00:00"}]
["Car Number","Driver","Rookie?","Female Driver?","Junior Driver?","Vehicle","Class","Senior with Passenger?","Time Taken (MM:SS.00)","Time Taken-PenaltyCalculator (MM:SS.00)","No. of Flags &/or Finishes partly out of garage","Slowest time + 5 sec penalty type","Total Test 3 Time","Total Test 1 Time for ranking","Test 3 Position","Cumulative Time Taken (MM:SS.00)","Cumulative Outright Position","Comments","Time Taken-PenaltyCalculator Junior(MM:SS.00)","Cumulative Time Taken (MM:SS.00) for ranking"]
[1,{"$f":"IF($A12=\"\",\"\",IF(VLOOKUP($A12,Competitors!$A$2:$G$60,2,FALSE)=\"\",\"\",VLOOKUP($A12,Competitors!$A$2:$G$60,2,FALSE)))","v":"Paul Dunn"},{"$f":"IF($A12=\"\",\"\",IF(VLOOKUP($A12,Competitors!$A$2:$G$60,7,FALSE)=\"\",\"\",VLOOKUP($A12,Competitors!$A$2:$G$60,7,FALSE)))","v":""},{"$f":"IF($A12=\"\",\"\",IF(VLOOKUP($A12,Competitors!$A$2:$G$60,5,FALSE)=\"\",\"\",VLOOKUP($A12,Competitors!$A$2:$G$60,5,FALSE)))","v":""},{"$f":"IF($A12=\"\",\"\",IF(VLOOKUP($A12,Competitors!$A$2:$G$60,6,FALSE)=\"\",\"\",VLOOKUP($A12,Competitors!$A$2:$G$60,6,FALSE)))","v":"senior"},{"$f":"IF($A12=\"\",\"\",IF(VLOOKUP($A12,Competitors!$A$2:$G$60,3,FALSE)=\"\",\"\",VLOOKUP($A12,Competitors!$A$2:$G$60,3,FALSE)))","v":"Excel"},{"$f":"IF($A12=\"\",\"\",IF(VLOOKUP($A12,Competitors!$A$2:$G$60,4,FALSE)=\"\",\"\",VLOOKUP($A12,Competitors!$A$2:$G$60,4,FALSE)))","v":""},{"$f":"IF(VLOOKUP(A12,Competitors!$A$1:$H$41,8,FALSE)=\"\",\"\",VLOOKUP(A12,Competitors!$A$1:$H$41,8,FALSE))","v":""},{"$f":"IF(IFERROR(VLOOKUP(($B$2&\"_\"&$A12),'Time Entry Sheet'!$A$3:$I$499,9,0),\"Error\")=\"Error\",\"\",IF(VLOOKUP(($B$2&\"_\"&$A12),'Time Entry Sheet'!$A$3:$I$499,9,FALSE)=\"wd\",\"wd\",VLOOKUP(($B$2&\"_\"&$A12),'Time Entry Sheet'!$A$3:$I$499,9,FALSE)*1))","v":"00:00:48.400"},{"$f":"IF(E12=\"Junior\",\"\",IF(I12=\"wd\",\"\",IF(K12<>\"\",\"\",I12)))","v":"00:00:48.400"},{"$f":"IF(IFERROR(VLOOKUP(($B$2&\"_\"&$A12),'Time Entry Sheet'!$A$3:$I$499,8,FALSE),\"Error\")=\"Error\",\"\",IF(VLOOKUP(($B$2&\"_\"&$A12),'Time Entry Sheet'!$A$3:$I$499,8,FALSE)=\"\",\"\",VLOOKUP(($B$2&\"_\"&$A12),'Time Entry Sheet'!$A$3:$I$499,8,FALSE)))","v":""},{"$f":"IF(IFERROR(VLOOKUP(($B$2&\"_\"&$A12),'Time Entry Sheet'!$A$3:$I$499,7,FALSE),\"Error\")=\"Error\",\"\",IF(VLOOKUP(($B$2&\"_\"&$A12),'Time Entry Sheet'!$A$3:$I$499,7,FALSE)=\"\",\"\",VLOOKUP(($B$2&\"_\"&$A12),'Time Entry Sheet'!$A$3:$I$499,7,FALSE)))","v":""},{"$f":"IF(A12=\"\",\"\",IF(I12=\"wd\",IF(E12=\"Senior\",$B$7,$C$7),IF(L12<>\"\",$B$7,IF(I12=\"\",IF(E12=\"Senior\",$B$8,$C$8),IF(K12=\"\",I12,I12+($B$5*K12))))))","v":"00:00:48.400"},{"$f":"IF(H12=\"Passenger\",\"\",M12)","v":"00:00:48.400"},{"$f":"IF(A12=\"\",\"\",IF(H12=\"Passenger\",\"P\",RANK(N12,$N$12:$N$51,1)))","v":1},{"$f":"IF(A12=\"\",\"\",M12+VLOOKUP(A12,'Test 2'!$A$12:$Q$51,16,FALSE))","v":"00:02:24.080"},{"$f":"IF(A12=\"\",\"\",IF(H12=\"Passenger\",\"P\",RANK(T12,$T$12:$T$51,1)))","v":2},null,{"$f":"IF(E12=\"Senior\",\"\",IF(I12=\"wd\",\"\",IF(K12<>\"\",\"\",I12)))","v":""},{"$f":"IF(H12=\"Passenger\",\"\",P12)","v":"00:02:24.080"}]
[2,{"$f":"IF($A13=\"\",\"\",IF(VLOOKUP($A13,Competitors!$A$2:$G$60,2,FALSE)=\"\",\"\",VLOOKUP($A13,Competitors!$A$2:$G$60,2,FALSE)))","v":"Stephen Thorne"},{"$f":"IF($A13=\"\",\"\",IF(VLOOKUP($A13,Competitors!$A$2:$G$60,7,FALSE)=\"\",\"\",VLOOKUP($A13,Competitors!$A$2:$G$60,7,FALSE)))","v":""},{"$f":"IF($A13=\"\",\"\",IF(VLOOKUP($A13,Competitors!$A$2:$G$60,5,FALSE)=\"\",\"\",VLOOKUP($A13,Competitors!$A$2:$G$60,5,FALSE)))","v":""},{"$f":"IF($A13=\"\",\"\",IF(VLOOKUP($A13,Competitors!$A$2:$G$60,6,FALSE)=\"\",\"\",VLOOKUP($A13,Competitors!$A$2:$G$60,6,FALSE)))","v":"senior"},{"$f":"IF($A13=\"\",\"\",IF(VLOOKUP($A13,Competitors!$A$2:$G$60,3,FALSE)=\"\",\"\",VLOOKUP($A13,Competitors!$A$2:$G$60,3,FALSE)))","v":""},{"$f":"IF($A13=\"\",\"\",IF(VLOOKUP($A13,Competitors!$A$2:$G$60,4,FALSE)=\"\",\"\",VLOOKUP($A13,Competitors!$A$2:$G$60,4,FALSE)))","v":""},{"$f":"IF(VLOOKUP(A13,Competitors!$A$1:$H$41,8,FALSE)=\"\",\"\",VLOOKUP(A13,Competitors!$A$1:$H$41,8,FALSE))","v":""},{"$f":"IF(IFERROR(VLOOKUP(($B$2&\"_\"&$A13),'Time Entry Sheet'!$A$3:$I$499,9,0),\"Error\")=\"Error\",\"\",IF(VLOOKUP(($B$2&\"_\"&$A13),'Time Entry Sheet'!$A$3:$I$499,9,FALSE)=\"wd\",\"wd\",VLOOKUP(($B$2&\"_\"&$A13),'Time Entry Sheet'!$A$3:$I$499,9,FALSE)*1))","v":"00:00:54.800"},"00:00:54.800",{"$f":"IF(IFERROR(VLOOKUP(($B$2&\"_\"&$A13),'Time Entry Sheet'!$A$3:$I$499,8,FALSE),\"Error\")=\"Error\",\"\",IF(VLOOKUP(($B$2&\"_\"&$A13),'Time Entry Sheet'!$A$3:$I$499,8,FALSE)=\"\",\"\",VLOOKUP(($B$2&\"_\"&$A13),'Time Entry Sheet'!$A$3:$I$499,8,FALSE)))","v":""},{"$f":"IF(IFERROR(VLOOKUP(($B$2&\"_\"&$A13),'Time Entry Sheet'!$A$3:$I$499,7,FALSE),\"Error\")=\"Error\",\"\",IF(VLOOKUP(($B$2&\"_\"&$A13),'Time Entry Sheet'!$A$3:$I$499,7,FALSE)=\"\",\"\",VLOOKUP(($B$2&\"_\"&$A13),'Time Entry Sheet'!$A$3:$I$499,7,FALSE)))","v":""},"00:00:54.800",{"$f":"IF(H13=\"Passenger\",\"\",M13)","v":"00:00:54.800"},{"$f":"IF(A13=\"\",\"\",IF(H13=\"Passenger\",\"P\",RANK(N13,$N$12:$N$51,1)))","v":13},{"$f":"IF(A13=\"\",\"\",M13+VLOOKUP(A13,'Test 2'!$A$12:$Q$51,16,FALSE))","v":"00:02:35.330"},{"$f":"IF(A13=\"\",\"\",IF(H13=\"Passenger\",\"P\",RANK(T13,$T$12:$T$51,1)))","v":6},null,"",{"$f":"IF(H13=\"Passenger\",\"\",P13)","v":"00:02:35.330"}]
[3,{"$f":"IF($A14=\"\",\"\",IF(VLOOKUP($A14,Competitors!$A$2:$G$60,2,FALSE)=\"\",\"\",VLOOKUP($A14,Competitors!$A$2:$G$60,2,FALSE)))","v":"David Ballard"},{"$f":"IF($A14=\"\",\"\",IF(VLOOKUP($A14,Competitors!$A$2:$G$60,7,FALSE)=\"\",\"\",VLOOKUP($A14,Competitors!$A$2:$G$60,7,FALSE)))","v":""},{"$f":"IF($A14=\"\",\"\",IF(VLOOKUP($A14,Competitors!$A$2:$G$60,5,FALSE)=\"\",\"\",VLOOKUP($A14,Competitors!$A$2:$G$60,5,FALSE)))","v":""},{"$f":"IF($A14=\"\",\"\",IF(VLOOKUP($A14,Competitors!$A$2:$G$60,6,FALSE)=\"\",\"\",VLOOKUP($A14,Competitors!$A$2:$G$60,6,FALSE)))","v":"senior"},{"$f":"IF($A14=\"\",\"\",IF(VLOOKUP($A14,Competitors!$A$2:$G$60,3,FALSE)=\"\",\"\",VLOOKUP($A14,Competitors!$A$2:$G$60,3,FALSE)))","v":""},{"$f":"IF($A14=\"\",\"\",IF(VLOOKUP($A14,Competitors!$A$2:$G$60,4,FALSE)=\"\",\"\",VLOOKUP($A14,Competitors!$A$2:$G$60,4,FALSE)))","v":""},{"$f":"IF(VLOOKUP(A14,Competitors!$A$1:$H$41,8,FALSE)=\"\",\"\",VLOOKUP(A14,Competitors!$A$1:$H$41,8,FALSE))","v":""},{"$f":"IF(IFERROR(VLOOKUP(($B$2&\"_\"&$A14),'Time Entry Sheet'!$A$3:$I$499,9,0),\"Error\")=\"Error\",\"\",IF(VLOOKUP(($B$2&\"_\"&$A14),'Time Entry Sheet'!$A$3:$I$499,9,FALSE)=\"wd\",\"wd\",VLOOKUP(($B$2&\"_\"&$A14),'Time Entry Sheet'!$A$3:$I$499,9,FALSE)*1))","v":"wd"},"",{"$f":"IF(IFERROR(VLOOKUP(($B$2&\"_\"&$A14),'Time Entry Sheet'!$A$3:$I$499,8,FALSE),\"Error\")=\"Error\",\"\",IF(VLOOKUP(($B$2&\"_\"&$A14),'Time Entry Sheet'!$A$3:$I$499,8,FALSE)=\"\",\"\",VLOOKUP(($B$2&\"_\"&$A14),'Time Entry Sheet'!$A$3:$I$499,8,FALSE)))","v":""},{"$f":"IF(IFERROR(VLOOKUP(($B$2&\"_\"&$A14),'Time Entry Sheet'!$A$3:$I$499,7,FALSE),\"Error\")=\"Error\",\"\",IF(VLOOKUP(($B$2&\"_\"&$A14),'Time Entry Sheet'!$A$3:$I$499,7,FALSE)=\"\",\"\",VLOOKUP(($B$2&\"_\"&$A14),'Time Entry Sheet'!$A$3:$I$499,7,FALSE)))","v":"Wrong direction, any procedure other than that specified as the correct procedure for completing that course "},"00:01:07.100","00:01:07.100",17,{"$f":"IF(A14=\"\",\"\",M14+VLOOKUP(A14,'Test 2'!$A$12:$Q$51,16,FALSE))","v":"00:02:52.040"},13,null,"","00:02:52.040"]
[4,{"$f":"IF($A15=\"\",\"\",IF(VLOOKUP($A15,Competitors!$A$2:$G$60,2,FALSE)=\"\",\"\",VLOOKUP($A15,Competitors!$A$2:$G$60,2,FALSE)))","v":"Michaela Ballard"},{"$f":"IF($A15=\"\",\"\",IF(VLOOKUP($A15,Competitors!$A$2:$G$60,7,FALSE)=\"\",\"\",VLOOKUP($A15,Competitors!$A$2:$G$60,7,FALSE)))","v":"rookie"},{"$f":"IF($A15=\"\",\"\",IF(VLOOKUP($A15,Competitors!$A$2:$G$60,5,FALSE)=\"\",\"\",VLOOKUP($A15,Competitors!$A$2:$G$60,5,FALSE)))","v":"female"},{"$f":"IF($A15=\"\",\"\",IF(VLOOKUP($A15,Competitors!$A$2:$G$60,6,FALSE)=\"\",\"\",VLOOKUP($A15,Competitors!$A$2:$G$60,6,FALSE)))","v":"senior"},{"$f":"IF($A15=\"\",\"\",IF(VLOOKUP($A15,Competitors!$A$2:$G$60,3,FALSE)=\"\",\"\",VLOOKUP($A15,Competitors!$A$2:$G$60,3,FALSE)))","v":""},{"$f":"IF($A15=\"\",\"\",IF(VLOOKUP($A15,Competitors!$A$2:$G$60,4,FALSE)=\"\",\"\",VLOOKUP($A15,Competitors!$A$2:$G$60,4,FALSE)))","v":""},{"$f":"IF(VLOOKUP(A15,Competitors!$A$1:$H$41,8,FALSE)=\"\",\"\",VLOOKUP(A15,Competitors!$A$1:$H$41,8,FALSE))","v":""},{"$f":"IF(IFERROR(VLOOKUP(($B$2&\"_\"&$A15),'Time Entry Sheet'!$A$3:$I$499,9,0),\"Error\")=\"Error\",\"\",IF(VLOOKUP(($B$2&\"_\"&$A15),'Time Entry Sheet'!$A$3:$I$499,9,FALSE)=\"wd\",\"wd\",VLOOKUP(($B$2&\"_\"&$A15),'Time Entry Sheet'!$A$3:$I$499,9,FALSE)*1))","v":"00:00:59.600"},"",{"$f":"IF(IFERROR(VLOOKUP(($B$2&\"_\"&$A15),'Time Entry Sheet'!$A$3:$I$499,8,FALSE),\"Error\")=\"Error\",\"\",IF(VLOOKUP(($B$2&\"_\"&$A15),'Time Entry Sheet'!$A$3:$I$499,8,FALSE)=\"\",\"\",VLOOKUP(($B$2&\"_\"&$A15),'Time Entry Sheet'!$A$3:$I$499,8,FALSE)))","v":1},{"$f":"IF(IFERROR(VLOOKUP(($B$2&\"_\"&$A15),'Time Entry Sheet'!$A$3:$I$499,7,FALSE),\"Error\")=\"Error\",\"\",IF(VLOOKUP(($B$2&\"_\"&$A15),'Time Entry Sheet'!$A$3:$I$499,7,FALSE)=\"\",\"\",VLOOKUP(($B$2&\"_\"&$A15),'Time Entry Sheet'!$A$3:$I$499,7,FALSE)))","v":""},"00:01:04.600","00:01:04.600",16,{"$f":"IF(A15=\"\",\"\",M15+VLOOKUP(A15,'Test 2'!$A$12:$Q$51,16,FALSE))","v":"00:03:10.200"},18,null,"","00:03:10.200"]
[5,{"$f":"IF($A16=\"\",\"\",IF(VLOOKUP($A16,Competitors!$A$2:$G$60,2,FALSE)=\"\",\"\",VLOOKUP($A16,Competitors!$A$2:$G$60,2,FALSE)))","v":"Janelle Ballard"},{"$f":"IF($A16=\"\",\"\",IF(VLOOKUP($A16,Competitors!$A$2:$G$60,7,FALSE)=\"\",\"\",VLOOKUP($A16,Competitors!$A$2:$G$60,7,FALSE)))","v":""},{"$f":"IF($A16=\"\",\"\",IF(VLOOKUP($A16,Competitors!$A$2:$G$60,5,FALSE)=\"\",\"\",VLOOKUP($A16,Competitors!$A$2:$G$60,5,FALSE)))","v":"female"},{"$f":"IF($A16=\"\",\"\",IF(VLOOKUP($A16,Competitors!$A$2:$G$60,6,FALSE)=\"\",\"\",VLOOKUP($A16,Competitors!$A$2:$G$60,6,FALSE)))","v":"senior"},{"$f":"IF($A16=\"\",\"\",IF(VLOOKUP($A16,Competitors!$A$2:$G$60,3,FALSE)=\"\",\"\",VLOOKUP($A16,Competitors!$A$2:$G$60,3,FALSE)))","v":""},{"$f":"IF($A16=\"\",\"\",IF(VLOOKUP($A16,Competitors!$A$2:$G$60,4,FALSE)=\"\",\"\",VLOOKUP($A16,Competitors!$A$2:$G$60,4,FALSE)))","v":""},{"$f":"IF(VLOOKUP(A16,Competitors!$A$1:$H$41,8,FALSE)=\"\",\"\",VLOOKUP(A16,Competitors!$A$1:$H$41,8,FALSE))","v":""},{"$f":"IF(IFERROR(VLOOKUP(($B$2&\"_\"&$A16),'Time Entry Sheet'!$A$3:$I$499,9,0),\"Error\")=\"Error\",\"\",IF(VLOOKUP(($B$2&\"_\"&$A16),'Time Entry Sheet'!$A$3:$I$499,9,FALSE)=\"wd\",\"wd\",VLOOKUP(($B$2&\"_\"&$A16),'Time Entry Sheet'!$A$3:$I$499,9,FALSE)*1))","v":"00:00:53.800"},"00:00:53.800",{"$f":"IF(IFERROR(VLOOKUP(($B$2&\"_\"&$A16),'Time Entry Sheet'!$A$3:$I$499,8,FALSE),\"Error\")=\"Error\",\"\",IF(VLOOKUP(($B$2&\"_\"&$A16),'Time Entry Sheet'!$A$3:$I$499,8,FALSE)=\"\",\"\",VLOOKUP(($B$2&\"_\"&$A16),'Time Entry Sheet'!$A$3:$I$499,8,FALSE)))","v":""},{"$f":"IF(IFERROR(VLOOKUP(($B$2&\"_\"&$A16),'Time Entry Sheet'!$A$3:$I$499,7,FALSE),\"Error\")=\"Error\",\"\",IF(VLOOKUP(($B$2&\"_\"&$A16),'Time Entry Sheet'!$A$3:$I$499,7,FALSE)=\"\",\"\",VLOOKUP(($B$2&\"_\"&$A16),'Time Entry Sheet'!$A$3:$I$499,7,FALSE)))","v":""},"00:00:53.800","00:00:53.800",9,{"$f":"IF(A16=\"\",\"\",M16+VLOOKUP(A16,'Test 2'!$A$12:$Q$51,16,FALSE))","v":"00:02:41.500"},9,null,"","00:02:41.500"]
[6,{"$f":"IF($A17=\"\",\"\",IF(VLOOKUP($A17,Competitors!$A$2:$G$60,2,FALSE)=\"\",\"\",VLOOKUP($A17,Competitors!$A$2:$G$60,2,FALSE)))","v":"Issac Wishart"},{"$f":"IF($A17=\"\",\"\",IF(VLOOKUP($A17,Competitors!$A$2:$G$60,7,FALSE)=\"\",\"\",VLOOKUP($A17,Competitors!$A$2:$G$60,7,FALSE)))","v":"rookie"},{"$f":"IF($A17=\"\",\"\",IF(VLOOKUP($A17,Competitors!$A$2:$G$60,5,FALSE)=\"\",\"\",VLOOKUP($A17,Competitors!$A$2:$G$60,5,FALSE)))","v":""},{"$f":"IF($A17=\"\",\"\",IF(VLOOKUP($A17,Competitors!$A$2:$G$60,6,FALSE)=\"\",\"\",VLOOKUP($A17,Competitors!$A$2:$G$60,6,FALSE)))","v":"senior"},{"$f":"IF($A17=\"\",\"\",IF(VLOOKUP($A17,Competitors!$A$2:$G$60,3,FALSE)=\"\",\"\",VLOOKUP($A17,Competitors!$A$2:$G$60,3,FALSE)))","v":""},{"$f":"IF($A17=\"\",\"\",IF(VLOOKUP($A17,Competitors!$A$2:$G$60,4,FALSE)=\"\",\"\",VLOOKUP($A17,Competitors!$A$2:$G$60,4,FALSE)))","v":""},{"$f":"IF(VLOOKUP(A17,Competitors!$A$1:$H$41,8,FALSE)=\"\",\"\",VLOOKUP(A17,Competitors!$A$1:$H$41,8,FALSE))","v":""},{"$f":"IF(IFERROR(VLOOKUP(($B$2&\"_\"&$A17),'Time Entry Sheet'!$A$3:$I$499,9,0),\"Error\")=\"Error\",\"\",IF(VLOOKUP(($B$2&\"_\"&$A17),'Time Entry Sheet'!$A$3:$I$499,9,FALSE)=\"wd\",\"wd\",VLOOKUP(($B$2&\"_\"&$A17),'Time Entry Sheet'!$A$3:$I$499,9,FALSE)*1))","v":"00:01:02.100"},"00:01:02.100",{"$f":"IF(IFERROR(VLOOKUP(($B$2&\"_\"&$A17),'Time Entry Sheet'!$A$3:$I$499,8,FALSE),\"Error\")=\"Error\",\"\",IF(VLOOKUP(($B$2&\"_\"&$A17),'Time Entry Sheet'!$A$3:$I$499,8,FALSE)=\"\",\"\",VLOOKUP(($B$2&\"_\"&$A17),'Time Entry Sheet'!$A$3:$I$499,8,FALSE)))","v":""},{"$f":"IF(IFERROR(VLOOKUP(($B$2&\"_\"&$A17),'Time Entry Sheet'!$A$3:$I$499,7,FALSE),\"Error\")=\"Error\",\"\",IF(VLOOKUP(($B$2&\"_\"&$A17),'Time Entry Sheet'!$A$3:$I$499,7,FALSE)=\"\",\"\",VLOOKUP(($B$2&\"_\"&$A17),'Time Entry Sheet'!$A$3:$I$499,7,FALSE)))","v":""},"00:01:02.100","00:01:02.100",15,{"$f":"IF(A17=\"\",\"\",M17+VLOOKUP(A17,'Test 2'!$A$12:$Q$51,16,FALSE))","v":"00:03:05.450"},17,null,"","00:03:05.450"]
[7,{"$f":"IF($A18=\"\",\"\",IF(VLOOKUP($A18,Competitors!$A$2:$G$60,2,FALSE)=\"\",\"\",VLOOKUP($A18,Competitors!$A$2:$G$60,2,FALSE)))","v":""},{"$f":"IF($A18=\"\",\"\",IF(VLOOKUP($A18,Competitors!$A$2:$G$60,7,FALSE)=\"\",\"\",VLOOKUP($A18,Competitors!$A$2:$G$60,7,FALSE)))","v":""},{"$f":"IF($A18=\"\",\"\",IF(VLOOKUP($A18,Competitors!$A$2:$G$60,5,FALSE)=\"\",\"\",VLOOKUP($A18,Competitors!$A$2:$G$60,5,FALSE)))","v":""},{"$f":"IF($A18=\"\",\"\",IF(VLOOKUP($A18,Competitors!$A$2:$G$60,6,FALSE)=\"\",\"\",VLOOKUP($A18,Competitors!$A$2:$G$60,6,FALSE)))","v":"senior"},{"$f":"IF($A18=\"\",\"\",IF(VLOOKUP($A18,Competitors!$A$2:$G$60,3,FALSE)=\"\",\"\",VLOOKUP($A18,Competitors!$A$2:$G$60,3,FALSE)))","v":""},{"$f":"IF($A18=\"\",\"\",IF(VLOOKUP($A18,Competitors!$A$2:$G$60,4,FALSE)=\"\",\"\",VLOOKUP($A18,Competitors!$A$2:$G$60,4,FALSE)))","v":""},{"$f":"IF(VLOOKUP(A18,Competitors!$A$1:$H$41,8,FALSE)=\"\",\"\",VLOOKUP(A18,Competitors!$A$1:$H$41,8,FALSE))","v":""},{"$f":"IF(IFERROR(VLOOKUP(($B$2&\"_\"&$A18),'Time Entry Sheet'!$A$3:$I$499,9,0),\"Error\")=\"Error\",\"\",IF(VLOOKUP(($B$2&\"_\"&$A18),'Time Entry Sheet'!$A$3:$I$499,9,FALSE)=\"wd\",\"wd\",VLOOKUP(($B$2&\"_\"&$A18),'Time Entry Sheet'!$A$3:$I$499,9,FALSE)*1))","v":""},"",{"$f":"IF(IFERROR(VLOOKUP(($B$2&\"_\"&$A18),'Time Entry Sheet'!$A$3:$I$499,8,FALSE),\"Error\")=\"Error\",\"\",IF(VLOOKUP(($B$2&\"_\"&$A18),'Time Entry Sheet'!$A$3:$I$499,8,FALSE)=\"\",\"\",VLOOKUP(($B$2&\"_\"&$A18),'Time Entry Sheet'!$A$3:$I$499,8,FALSE)))","v":""},{"$f":"IF(IFERROR(VLOOKUP(($B$2&\"_\"&$A18),'Time Entry Sheet'!$A$3:$I$499,7,FALSE),\"Error\")=\"Error\",\"\",IF(VLOOKUP(($B$2&\"_\"&$A18),'Time Entry Sheet'!$A$3:$I$499,7,FALSE)=\"\",\"\",VLOOKUP(($B$2&\"_\"&$A18),'Time Entry Sheet'!$A$3:$I$499,7,FALSE)))","v":""},"00:01:12.100","00:01:12.100",20,{"$f":"IF(A18=\"\",\"\",M18+VLOOKUP(A18,'Test 2'!$A$12:$Q$51,16,FALSE))","v":"00:03:50.840"},20,null,"","00:03:50.840"]
[8,{"$f":"IF($A19=\"\",\"\",IF(VLOOKUP($A19,Competitors!$A$2:$G$60,2,FALSE)=\"\",\"\",VLOOKUP($A19,Competitors!$A$2:$G$60,2,FALSE)))","v":"Jim Taylor"},{"$f":"IF($A19=\"\",\"\",IF(VLOOKUP($A19,Competitors!$A$2:$G$60,7,FALSE)=\"\",\"\",VLOOKUP($A19,Competitors!$A$2:$G$60,7,FALSE)))","v":""},{"$f":"IF($A19=\"\",\"\",IF(VLOOKUP($A19,Competitors!$A$2:$G$60,5,FALSE)=\"\",\"\",VLOOKUP($A19,Competitors!$A$2:$G$60,5,FALSE)))","v":""},{"$f":"IF($A19=\"\",\"\",IF(VLOOKUP($A19,Competitors!$A$2:$G$60,6,FALSE)=\"\",\"\",VLOOKUP($A19,Competitors!$A$2:$G$60,6,FALSE)))","v":"senior"},{"$f":"IF($A19=\"\",\"\",IF(VLOOKUP($A19,Competitors!$A$2:$G$60,3,FALSE)=\"\",\"\",VLOOKUP($A19,Competitors!$A$2:$G$60,3,FALSE)))","v":""},{"$f":"IF($A19=\"\",\"\",IF(VLOOKUP($A19,Competitors!$A$2:$G$60,4,FALSE)=\"\",\"\",VLOOKUP($A19,Competitors!$A$2:$G$60,4,FALSE)))","v":""},{"$f":"IF(VLOOKUP(A19,Competitors!$A$1:$H$41,8,FALSE)=\"\",\"\",VLOOKUP(A19,Competitors!$A$1:$H$41,8,FALSE))","v":""},{"$f":"IF(IFERROR(VLOOKUP(($B$2&\"_\"&$A19),'Time Entry Sheet'!$A$3:$I$499,9,0),\"Error\")=\"Error\",\"\",IF(VLOOKUP(($B$2&\"_\"&$A19),'Time Entry Sheet'!$A$3:$I$499,9,FALSE)=\"wd\",\"wd\",VLOOKUP(($B$2&\"_\"&$A19),'Time Entry Sheet'!$A$3:$I$499,9,FALSE)*1))","v":"00:00:53.900"},"00:00:53.900",{"$f":"IF(IFERROR(VLOOKUP(($B$2&\"_\"&$A19),'Time Entry Sheet'!$A$3:$I$499,8,FALSE),\"Error\")=\"Error\",\"\",IF(VLOOKUP(($B$2&\"_\"&$A19),'Time Entry Sheet'!$A$3:$I$499,8,FALSE)=\"\",\"\",VLOOKUP(($B$2&\"_\"&$A19),'Time Entry Sheet'!$A$3:$I$499,8,FALSE)))","v":""},{"$f":"IF(IFERROR(VLOOKUP(($B$2&\"_\"&$A19),'Time Entry Sheet'!$A$3:$I$499,7,FALSE),\"Error\")=\"Error\",\"\",IF(VLOOKUP(($B$2&\"_\"&$A19),'Time Entry Sheet'!$A$3:$I$499,7,FALSE)=\"\",\"\",VLOOKUP(($B$2&\"_\"&$A19),'Time Entry Sheet'!$A$3:$I$499,7,FALSE)))","v":""},"00:00:53.900","00:00:53.900",11,{"$f":"IF(A19=\"\",\"\",M19+VLOOKUP(A19,'Test 2'!$A$12:$Q$51,16,FALSE))","v":"00:02:45.680"},12,null,"","00:02:45.680"]
[9,{"$f":"IF($A20=\"\",\"\",IF(VLOOKUP($A20,Competitors!$A$2:$G$60,2,FALSE)=\"\",\"\",VLOOKUP($A20,Competitors!$A$2:$G$60,2,FALSE)))","v":"Brad Firman"},{"$f":"IF($A20=\"\",\"\",IF(VLOOKUP($A20,Competitors!$A$2:$G$60,7,FALSE)=\"\",\"\",VLOOKUP($A20,Competitors!$A$2:$G$60,7,FALSE)))","v":""},{"$f":"IF($A20=\"\",\"\",IF(VLOOKUP($A20,Competitors!$A$2:$G$60,5,FALSE)=\"\",\"\",VLOOKUP($A20,Competitors!$A$2:$G$60,5,FALSE)))","v":""},{"$f":"IF($A20=\"\",\"\",IF(VLOOKUP($A20,Competitors!$A$2:$G$60,6,FALSE)=\"\",\"\",VLOOKUP($A20,Competitors!$A$2:$G$60,6,FALSE)))","v":"senior"},{"$f":"IF($A20=\"\",\"\",IF(VLOOKUP($A20,Competitors!$A$2:$G$60,3,FALSE)=\"\",\"\",VLOOKUP($A20,Competitors!$A$2:$G$60,3,FALSE)))","v":""},{"$f":"IF($A20=\"\",\"\",IF(VLOOKUP($A20,Competitors!$A$2:$G$60,4,FALSE)=\"\",\"\",VLOOKUP($A20,Competitors!$A$2:$G$60,4,FALSE)))","v":""},{"$f":"IF(VLOOKUP(A20,Competitors!$A$1:$H$41,8,FALSE)=\"\",\"\",VLOOKUP(A20,Competitors!$A$1:$H$41,8,FALSE))","v":""},{"$f":"IF(IFERROR(VLOOKUP(($B$2&\"_\"&$A20),'Time Entry Sheet'!$A$3:$I$499,9,0),\"Error\")=\"Error\",\"\",IF(VLOOKUP(($B$2&\"_\"&$A20),'Time Entry Sheet'!$A$3:$I$499,9,FALSE)=\"wd\",\"wd\",VLOOKUP(($B$2&\"_\"&$A20),'Time Entry Sheet'!$A$3:$I$499,9,FALSE)*1))","v":"00:00:49.100"},"00:00:49.100",{"$f":"IF(IFERROR(VLOOKUP(($B$2&\"_\"&$A20),'Time Entry Sheet'!$A$3:$I$499,8,FALSE),\"Error\")=\"Error\",\"\",IF(VLOOKUP(($B$2&\"_\"&$A20),'Time Entry Sheet'!$A$3:$I$499,8,FALSE)=\"\",\"\",VLOOKUP(($B$2&\"_\"&$A20),'Time Entry Sheet'!$A$3:$I$499,8,FALSE)))","v":""},{"$f":"IF(IFERROR(VLOOKUP(($B$2&\"_\"&$A20),'Time Entry Sheet'!$A$3:$I$499,7,FALSE),\"Error\")=\"Error\",\"\",IF(VLOOKUP(($B$2&\"_\"&$A20),'Time Entry Sheet'!$A$3:$I$499,7,FALSE)=\"\",\"\",VLOOKUP(($B$2&\"_\"&$A20),'Time Entry Sheet'!$A$3:$I$499,7,FALSE)))","v":""},"00:00:49.100","00:00:49.100",4,{"$f":"IF(A20=\"\",\"\",M20+VLOOKUP(A20,'Test 2'!$A$12:$Q$51,16,FALSE))","v":"00:02:28.540"},3,null,"","00:02:28.540"]
[10,{"$f":"IF($A21=\"\",\"\",IF(VLOOKUP($A21,Competitors!$A$2:$G$60,2,FALSE)=\"\",\"\",VLOOKUP($A21,Competitors!$A$2:$G$60,2,FALSE)))","v":"Scott Taylor"},{"$f":"IF($A21=\"\",\"\",IF(VLOOKUP($A21,Competitors!$A$2:$G$60,7,FALSE)=\"\",\"\",VLOOKUP($A21,Competitors!$A$2:$G$60,7,FALSE)))","v":""},{"$f":"IF($A21=\"\",\"\",IF(VLOOKUP($A21,Competitors!$A$2:$G$60,5,FALSE)=\"\",\"\",VLOOKUP($A21,Competitors!$A$2:$G$60,5,FALSE)))","v":""},{"$f":"IF($A21=\"\",\"\",IF(VLOOKUP($A21,Competitors!$A$2:$G$60,6,FALSE)=\"\",\"\",VLOOKUP($A21,Competitors!$A$2:$G$60,6,FALSE)))","v":"senior"},{"$f":"IF($A21=\"\",\"\",IF(VLOOKUP($A21,Competitors!$A$2:$G$60,3,FALSE)=\"\",\"\",VLOOKUP($A21,Competitors!$A$2:$G$60,3,FALSE)))","v":""},{"$f":"IF($A21=\"\",\"\",IF(VLOOKUP($A21,Competitors!$A$2:$G$60,4,FALSE)=\"\",\"\",VLOOKUP($A21,Competitors!$A$2:$G$60,4,FALSE)))","v":""},{"$f":"IF(VLOOKUP(A21,Competitors!$A$1:$H$41,8,FALSE)=\"\",\"\",VLOOKUP(A21,Competitors!$A$1:$H$41,8,FALSE))","v":""},{"$f":"IF(IFERROR(VLOOKUP(($B$2&\"_\"&$A21),'Time Entry Sheet'!$A$3:$I$499,9,0),\"Error\")=\"Error\",\"\",IF(VLOOKUP(($B$2&\"_\"&$A21),'Time Entry Sheet'!$A$3:$I$499,9,FALSE)=\"wd\",\"wd\",VLOOKUP(($B$2&\"_\"&$A21),'Time Entry Sheet'!$A$3:$I$499,9,FALSE)*1))","v":"wd"},"",{"$f":"IF(IFERROR(VLOOKUP(($B$2&\"_\"&$A21),'Time Entry Sheet'!$A$3:$I$499,8,FALSE),\"Error\")=\"Error\",\"\",IF(VLOOKUP(($B$2&\"_\"&$A21),'Time Entry Sheet'!$A$3:$I$499,8,FALSE)=\"\",\"\",VLOOKUP(($B$2&\"_\"&$A21),'Time Entry Sheet'!$A$3:$I$499,8,FALSE)))","v":""},{"$f":"IF(IFERROR(VLOOKUP(($B$2&\"_\"&$A21),'Time Entry Sheet'!$A$3:$I$499,7,FALSE),\"Error\")=\"Error\",\"\",IF(VLOOKUP(($B$2&\"_\"&$A21),'Time Entry Sheet'!$A$3:$I$499,7,FALSE)=\"\",\"\",VLOOKUP(($B$2&\"_\"&$A21),'Time Entry Sheet'!$A$3:$I$499,7,FALSE)))","v":"Wrong direction, any procedure other than that specified as the correct procedure for completing that course "},"00:01:07.100","00:01:07.100",17,{"$f":"IF(A21=\"\",\"\",M21+VLOOKUP(A21,'Test 2'!$A$12:$Q$51,16,FALSE))","v":"00:02:58.340"},15,null,"","00:02:58.340"]
[11,{"$f":"IF($A22=\"\",\"\",IF(VLOOKUP($A22,Competitors!$A$2:$G$60,2,FALSE)=\"\",\"\",VLOOKUP($A22,Competitors!$A$2:$G$60,2,FALSE)))","v":"Russel McKinley"},{"$f":"IF($A22=\"\",\"\",IF(VLOOKUP($A22,Competitors!$A$2:$G$60,7,FALSE)=\"\",\"\",VLOOKUP($A22,Competitors!$A$2:$G$60,7,FALSE)))","v":""},{"$f":"IF($A22=\"\",\"\",IF(VLOOKUP($A22,Competitors!$A$2:$G$60,5,FALSE)=\"\",\"\",VLOOKUP($A22,Competitors!$A$2:$G$60,5,FALSE)))","v":""},{"$f":"IF($A22=\"\",\"\",IF(VLOOKUP($A22,Competitors!$A$2:$G$60,6,FALSE)=\"\",\"\",VLOOKUP($A22,Competitors!$A$2:$G$60,6,FALSE)))","v":"senior"},{"$f":"IF($A22=\"\",\"\",IF(VLOOKUP($A22,Competitors!$A$2:$G$60,3,FALSE)=\"\",\"\",VLOOKUP($A22,Competitors!$A$2:$G$60,3,FALSE)))","v":""},{"$f":"IF($A22=\"\",\"\",IF(VLOOKUP($A22,Competitors!$A$2:$G$60,4,FALSE)=\"\",\"\",VLOOKUP($A22,Competitors!$A$2:$G$60,4,FALSE)))","v":""},{"$f":"IF(VLOOKUP(A22,Competitors!$A$1:$H$41,8,FALSE)=\"\",\"\",VLOOKUP(A22,Competitors!$A$1:$H$41,8,FALSE))","v":""},{"$f":"IF(IFERROR(VLOOKUP(($B$2&\"_\"&$A22),'Time Entry Sheet'!$A$3:$I$499,9,0),\"Error\")=\"Error\",\"\",IF(VLOOKUP(($B$2&\"_\"&$A22),'Time Entry Sheet'!$A$3:$I$499,9,FALSE)=\"wd\",\"wd\",VLOOKUP(($B$2&\"_\"&$A22),'Time Entry Sheet'!$A$3:$I$499,9,FALSE)*1))","v":"00:00:53.500"},"00:00:53.500",{"$f":"IF(IFERROR(VLOOKUP(($B$2&\"_\"&$A22),'Time Entry Sheet'!$A$3:$I$499,8,FALSE),\"Error\")=\"Error\",\"\",IF(VLOOKUP(($B$2&\"_\"&$A22),'Time Entry Sheet'!$A$3:$I$499,8,FALSE)=\"\",\"\",VLOOKUP(($B$2&\"_\"&$A22),'Time Entry Sheet'!$A$3:$I$499,8,FALSE)))","v":""},{"$f":"IF(IFERROR(VLOOKUP(($B$2&\"_\"&$A22),'Time Entry Sheet'!$A$3:$I$499,7,FALSE),\"Error\")=\"Error\",\"\",IF(VLOOKUP(($B$2&\"_\"&$A22),'Time Entry Sheet'!$A$3:$I$499,7,FALSE)=\"\",\"\",VLOOKUP(($B$2&\"_\"&$A22),'Time Entry Sheet'!$A$3:$I$499,7,FALSE)))","v":""},"00:00:53.500","00:00:53.500",8,{"$f":"IF(A22=\"\",\"\",M22+VLOOKUP(A22,'Test 2'!$A$12:$Q$51,16,FALSE))","v":"00:02:56.750"},14,null,"","00:02:56.750"]
[12,{"$f":"IF($A23=\"\",\"\",IF(VLOOKUP($A23,Competitors!$A$2:$G$60,2,FALSE)=\"\",\"\",VLOOKUP($A23,Competitors!$A$2:$G$60,2,FALSE)))","v":"Mat Boorman"},{"$f":"IF($A23=\"\",\"\",IF(VLOOKUP($A23,Competitors!$A$2:$G$60,7,FALSE)=\"\",\"\",VLOOKUP($A23,Competitors!$A$2:$G$60,7,FALSE)))","v":""},{"$f":"IF($A23=\"\",\"\",IF(VLOOKUP($A23,Competitors!$A$2:$G$60,5,FALSE)=\"\",\"\",VLOOKUP($A23,Competitors!$A$2:$G$60,5,FALSE)))","v":""},{"$f":"IF($A23=\"\",\"\",IF(VLOOKUP($A23,Competitors!$A$2:$G$60,6,FALSE)=\"\",\"\",VLOOKUP($A23,Competitors!$A$2:$G$60,6,FALSE)))","v":"senior"},{"$f":"IF($A23=\"\",\"\",IF(VLOOKUP($A23,Competitors!$A$2:$G$60,3,FALSE)=\"\",\"\",VLOOKUP($A23,Competitors!$A$2:$G$60,3,FALSE)))","v":""},{"$f":"IF($A23=\"\",\"\",IF(VLOOKUP($A23,Competitors!$A$2:$G$60,4,FALSE)=\"\",\"\",VLOOKUP($A23,Competitors!$A$2:$G$60,4,FALSE)))","v":""},{"$f":"IF(VLOOKUP(A23,Competitors!$A$1:$H$41,8,FALSE)=\"\",\"\",VLOOKUP(A23,Competitors!$A$1:$H$41,8,FALSE))","v":""},{"$f":"IF(IFERROR(VLOOKUP(($B$2&\"_\"&$A23),'Time Entry Sheet'!$A$3:$I$499,9,0),\"Error\")=\"Error\",\"\",IF(VLOOKUP(($B$2&\"_\"&$A23),'Time Entry Sheet'!$A$3:$I$499,9,FALSE)=\"wd\",\"wd\",VLOOKUP(($B$2&\"_\"&$A23),'Time Entry Sheet'!$A$3:$I$499,9,FALSE)*1))","v":"00:00:54"},"00:00:54",{"$f":"IF(IFERROR(VLOOKUP(($B$2&\"_\"&$A23),'Time Entry Sheet'!$A$3:$I$499,8,FALSE),\"Error\")=\"Error\",\"\",IF(VLOOKUP(($B$2&\"_\"&$A23),'Time Entry Sheet'!$A$3:$I$499,8,FALSE)=\"\",\"\",VLOOKUP(($B$2&\"_\"&$A23),'Time Entry Sheet'!$A$3:$I$499,8,FALSE)))","v":""},{"$f":"IF(IFERROR(VLOOKUP(($B$2&\"_\"&$A23),'Time Entry Sheet'!$A$3:$I$499,7,FALSE),\"Error\")=\"Error\",\"\",IF(VLOOKUP(($B$2&\"_\"&$A23),'Time Entry Sheet'!$A$3:$I$499,7,FALSE)=\"\",\"\",VLOOKUP(($B$2&\"_\"&$A23),'Time Entry Sheet'!$A$3:$I$499,7,FALSE)))","v":""},"00:00:54","00:00:54",12,{"$f":"IF(A23=\"\",\"\",M23+VLOOKUP(A23,'Test 2'!$A$12:$Q$51,16,FALSE))","v":"00:02:43.470"},11,null,"","00:02:43.470"]
[13,{"$f":"IF($A24=\"\",\"\",IF(VLOOKUP($A24,Competitors!$A$2:$G$60,2,FALSE)=\"\",\"\",VLOOKUP($A24,Competitors!$A$2:$G$60,2,FALSE)))","v":"Aaron Wishart"},{"$f":"IF($A24=\"\",\"\",IF(VLOOKUP($A24,Competitors!$A$2:$G$60,7,FALSE)=\"\",\"\",VLOOKUP($A24,Competitors!$A$2:$G$60,7,FALSE)))","v":""},{"$f":"IF($A24=\"\",\"\",IF(VLOOKUP($A24,Competitors!$A$2:$G$60,5,FALSE)=\"\",\"\",VLOOKUP($A24,Competitors!$A$2:$G$60,5,FALSE)))","v":""},{"$f":"IF($A24=\"\",\"\",IF(VLOOKUP($A24,Competitors!$A$2:$G$60,6,FALSE)=\"\",\"\",VLOOKUP($A24,Competitors!$A$2:$G$60,6,FALSE)))","v":"senior"},{"$f":"IF($A24=\"\",\"\",IF(VLOOKUP($A24,Competitors!$A$2:$G$60,3,FALSE)=\"\",\"\",VLOOKUP($A24,Competitors!$A$2:$G$60,3,FALSE)))","v":""},{"$f":"IF($A24=\"\",\"\",IF(VLOOKUP($A24,Competitors!$A$2:$G$60,4,FALSE)=\"\",\"\",VLOOKUP($A24,Competitors!$A$2:$G$60,4,FALSE)))","v":""},{"$f":"IF(VLOOKUP(A24,Competitors!$A$1:$H$41,8,FALSE)=\"\",\"\",VLOOKUP(A24,Competitors!$A$1:$H$41,8,FALSE))","v":""},{"$f":"IF(IFERROR(VLOOKUP(($B$2&\"_\"&$A24),'Time Entry Sheet'!$A$3:$I$499,9,0),\"Error\")=\"Error\",\"\",IF(VLOOKUP(($B$2&\"_\"&$A24),'Time Entry Sheet'!$A$3:$I$499,9,FALSE)=\"wd\",\"wd\",VLOOKUP(($B$2&\"_\"&$A24),'Time Entry Sheet'!$A$3:$I$499,9,FALSE)*1))","v":"00:00:53.800"},"00:00:53.800",{"$f":"IF(IFERROR(VLOOKUP(($B$2&\"_\"&$A24),'Time Entry Sheet'!$A$3:$I$499,8,FALSE),\"Error\")=\"Error\",\"\",IF(VLOOKUP(($B$2&\"_\"&$A24),'Time Entry Sheet'!$A$3:$I$499,8,FALSE)=\"\",\"\",VLOOKUP(($B$2&\"_\"&$A24),'Time Entry Sheet'!$A$3:$I$499,8,FALSE)))","v":""},{"$f":"IF(IFERROR(VLOOKUP(($B$2&\"_\"&$A24),'Time Entry Sheet'!$A$3:$I$499,7,FALSE),\"Error\")=\"Error\",\"\",IF(VLOOKUP(($B$2&\"_\"&$A24),'Time Entry Sheet'!$A$3:$I$499,7,FALSE)=\"\",\"\",VLOOKUP(($B$2&\"_\"&$A24),'Time Entry Sheet'!$A$3:$I$499,7,FALSE)))","v":""},"00:00:53.800","00:00:53.800",9,{"$f":"IF(A24=\"\",\"\",M24+VLOOKUP(A24,'Test 2'!$A$12:$Q$51,16,FALSE))","v":"00:03:12.340"},19,null,"","00:03:12.340"]
[14,{"$f":"IF($A25=\"\",\"\",IF(VLOOKUP($A25,Competitors!$A$2:$G$60,2,FALSE)=\"\",\"\",VLOOKUP($A25,Competitors!$A$2:$G$60,2,FALSE)))","v":"Bob Fulthorpe"},{"$f":"IF($A25=\"\",\"\",IF(VLOOKUP($A25,Competitors!$A$2:$G$60,7,FALSE)=\"\",\"\",VLOOKUP($A25,Competitors!$A$2:$G$60,7,FALSE)))","v":""},{"$f":"IF($A25=\"\",\"\",IF(VLOOKUP($A25,Competitors!$A$2:$G$60,5,FALSE)=\"\",\"\",VLOOKUP($A25,Competitors!$A$2:$G$60,5,FALSE)))","v":""},{"$f":"IF($A25=\"\",\"\",IF(VLOOKUP($A25,Competitors!$A$2:$G$60,6,FALSE)=\"\",\"\",VLOOKUP($A25,Competitors!$A$2:$G$60,6,FALSE)))","v":"senior"},{"$f":"IF($A25=\"\",\"\",IF(VLOOKUP($A25,Competitors!$A$2:$G$60,3,FALSE)=\"\",\"\",VLOOKUP($A25,Competitors!$A$2:$G$60,3,FALSE)))","v":""},{"$f":"IF($A25=\"\",\"\",IF(VLOOKUP($A25,Competitors!$A$2:$G$60,4,FALSE)=\"\",\"\",VLOOKUP($A25,Competitors!$A$2:$G$60,4,FALSE)))","v":""},{"$f":"IF(VLOOKUP(A25,Competitors!$A$1:$H$41,8,FALSE)=\"\",\"\",VLOOKUP(A25,Competitors!$A$1:$H$41,8,FALSE))","v":""},{"$f":"IF(IFERROR(VLOOKUP(($B$2&\"_\"&$A25),'Time Entry Sheet'!$A$3:$I$499,9,0),\"Error\")=\"Error\",\"\",IF(VLOOKUP(($B$2&\"_\"&$A25),'Time Entry Sheet'!$A$3:$I$499,9,FALSE)=\"wd\",\"wd\",VLOOKUP(($B$2&\"_\"&$A25),'Time Entry Sheet'!$A$3:$I$499,9,FALSE)*1))","v":"00:00:52"},"00:00:52",{"$f":"IF(IFERROR(VLOOKUP(($B$2&\"_\"&$A25),'Time Entry Sheet'!$A$3:$I$499,8,FALSE),\"Error\")=\"Error\",\"\",IF(VLOOKUP(($B$2&\"_\"&$A25),'Time Entry Sheet'!$A$3:$I$499,8,FALSE)=\"\",\"\",VLOOKUP(($B$2&\"_\"&$A25),'Time Entry Sheet'!$A$3:$I$499,8,FALSE)))","v":""},{"$f":"IF(IFERROR(VLOOKUP(($B$2&\"_\"&$A25),'Time Entry Sheet'!$A$3:$I$499,7,FALSE),\"Error\")=\"Error\",\"\",IF(VLOOKUP(($B$2&\"_\"&$A25),'Time Entry Sheet'!$A$3:$I$499,7,FALSE)=\"\",\"\",VLOOKUP(($B$2&\"_\"&$A25),'Time Entry Sheet'!$A$3:$I$499,7,FALSE)))","v":""},"00:00:52","00:00:52",5,{"$f":"IF(A25=\"\",\"\",M25+VLOOKUP(A25,'Test 2'!$A$12:$Q$51,16,FALSE))","v":"00:02:32.080"},4,null,"","00:02:32.080"]
[15,{"$f":"IF($A26=\"\",\"\",IF(VLOOKUP($A26,Competitors!$A$2:$G$60,2,FALSE)=\"\",\"\",VLOOKUP($A26,Competitors!$A$2:$G$60,2,FALSE)))","v":"Khi Fulthorpe"},{"$f":"IF($A26=\"\",\"\",IF(VLOOKUP($A26,Competitors!$A$2:$G$60,7,FALSE)=\"\",\"\",VLOOKUP($A26,Competitors!$A$2:$G$60,7,FALSE)))","v":""},{"$f":"IF($A26=\"\",\"\",IF(VLOOKUP($A26,Competitors!$A$2:$G$60,5,FALSE)=\"\",\"\",VLOOKUP($A26,Competitors!$A$2:$G$60,5,FALSE)))","v":""},{"$f":"IF($A26=\"\",\"\",IF(VLOOKUP($A26,Competitors!$A$2:$G$60,6,FALSE)=\"\",\"\",VLOOKUP($A26,Competitors!$A$2:$G$60,6,FALSE)))","v":"senior"},{"$f":"IF($A26=\"\",\"\",IF(VLOOKUP($A26,Competitors!$A$2:$G$60,3,FALSE)=\"\",\"\",VLOOKUP($A26,Competitors!$A$2:$G$60,3,FALSE)))","v":""},{"$f":"IF($A26=\"\",\"\",IF(VLOOKUP($A26,Competitors!$A$2:$G$60,4,FALSE)=\"\",\"\",VLOOKUP($A26,Competitors!$A$2:$G$60,4,FALSE)))","v":""},{"$f":"IF(VLOOKUP(A26,Competitors!$A$1:$H$41,8,FALSE)=\"\",\"\",VLOOKUP(A26,Competitors!$A$1:$H$41,8,FALSE))","v":""},{"$f":"IF(IFERROR(VLOOKUP(($B$2&\"_\"&$A26),'Time Entry Sheet'!$A$3:$I$499,9,0),\"Error\")=\"Error\",\"\",IF(VLOOKUP(($B$2&\"_\"&$A26),'Time Entry Sheet'!$A$3:$I$499,9,FALSE)=\"wd\",\"wd\",VLOOKUP(($B$2&\"_\"&$A26),'Time Entry Sheet'!$A$3:$I$499,9,FALSE)*1))","v":"00:00:52.100"},"00:00:52.100",{"$f":"IF(IFERROR(VLOOKUP(($B$2&\"_\"&$A26),'Time Entry Sheet'!$A$3:$I$499,8,FALSE),\"Error\")=\"Error\",\"\",IF(VLOOKUP(($B$2&\"_\"&$A26),'Time Entry Sheet'!$A$3:$I$499,8,FALSE)=\"\",\"\",VLOOKUP(($B$2&\"_\"&$A26),'Time Entry Sheet'!$A$3:$I$499,8,FALSE)))","v":""},{"$f":"IF(IFERROR(VLOOKUP(($B$2&\"_\"&$A26),'Time Entry Sheet'!$A$3:$I$499,7,FALSE),\"Error\")=\"Error\",\"\",IF(VLOOKUP(($B$2&\"_\"&$A26),'Time Entry Sheet'!$A$3:$I$499,7,FALSE)=\"\",\"\",VLOOKUP(($B$2&\"_\"&$A26),'Time Entry Sheet'!$A$3:$I$499,7,FALSE)))","v":""},"00:00:52.100","00:00:52.100",6,{"$f":"IF(A26=\"\",\"\",M26+VLOOKUP(A26,'Test 2'!$A$12:$Q$51,16,FALSE))","v":"00:02:38.920"},8,null,"","00:02:38.920"]
[16,{"$f":"IF($A27=\"\",\"\",IF(VLOOKUP($A27,Competitors!$A$2:$G$60,2,FALSE)=\"\",\"\",VLOOKUP($A27,Competitors!$A$2:$G$60,2,FALSE)))","v":"Nathan Senior"},{"$f":"IF($A27=\"\",\"\",IF(VLOOKUP($A27,Competitors!$A$2:$G$60,7,FALSE)=\"\",\"\",VLOOKUP($A27,Competitors!$A$2:$G$60,7,FALSE)))","v":""},{"$f":"IF($A27=\"\",\"\",IF(VLOOKUP($A27,Competitors!$A$2:$G$60,5,FALSE)=\"\",\"\",VLOOKUP($A27,Competitors!$A$2:$G$60,5,FALSE)))","v":""},{"$f":"IF($A27=\"\",\"\",IF(VLOOKUP($A27,Competitors!$A$2:$G$60,6,FALSE)=\"\",\"\",VLOOKUP($A27,Competitors!$A$2:$G$60,6,FALSE)))","v":"senior"},{"$f":"IF($A27=\"\",\"\",IF(VLOOKUP($A27,Competitors!$A$2:$G$60,3,FALSE)=\"\",\"\",VLOOKUP($A27,Competitors!$A$2:$G$60,3,FALSE)))","v":""},{"$f":"IF($A27=\"\",\"\",IF(VLOOKUP($A27,Competitors!$A$2:$G$60,4,FALSE)=\"\",\"\",VLOOKUP($A27,Competitors!$A$2:$G$60,4,FALSE)))","v":""},{"$f":"IF(VLOOKUP(A27,Competitors!$A$1:$H$41,8,FALSE)=\"\",\"\",VLOOKUP(A27,Competitors!$A$1:$H$41,8,FALSE))","v":""},{"$f":"IF(IFERROR(VLOOKUP(($B$2&\"_\"&$A27),'Time Entry Sheet'!$A$3:$I$499,9,0),\"Error\")=\"Error\",\"\",IF(VLOOKUP(($B$2&\"_\"&$A27),'Time Entry Sheet'!$A$3:$I$499,9,FALSE)=\"wd\",\"wd\",VLOOKUP(($B$2&\"_\"&$A27),'Time Entry Sheet'!$A$3:$I$499,9,FALSE)*1))","v":"00:00:48.600"},"00:00:48.600",{"$f":"IF(IFERROR(VLOOKUP(($B$2&\"_\"&$A27),'Time Entry Sheet'!$A$3:$I$499,8,FALSE),\"Error\")=\"Error\",\"\",IF(VLOOKUP(($B$2&\"_\"&$A27),'Time Entry Sheet'!$A$3:$I$499,8,FALSE)=\"\",\"\",VLOOKUP(($B$2&\"_\"&$A27),'Time Entry Sheet'!$A$3:$I$499,8,FALSE)))","v":""},{"$f":"IF(IFERROR(VLOOKUP(($B$2&\"_\"&$A27),'Time Entry Sheet'!$A$3:$I$499,7,FALSE),\"Error\")=\"Error\",\"\",IF(VLOOKUP(($B$2&\"_\"&$A27),'Time Entry Sheet'!$A$3:$I$499,7,FALSE)=\"\",\"\",VLOOKUP(($B$2&\"_\"&$A27),'Time Entry Sheet'!$A$3:$I$499,7,FALSE)))","v":""},"00:00:48.600","00:00:48.600",3,{"$f":"IF(A27=\"\",\"\",M27+VLOOKUP(A27,'Test 2'!$A$12:$Q$51,16,FALSE))","v":"00:02:43.150"},10,null,"","00:02:43.150"]
[17,{"$f":"IF($A28=\"\",\"\",IF(VLOOKUP($A28,Competitors!$A$2:$G$60,2,FALSE)=\"\",\"\",VLOOKUP($A28,Competitors!$A$2:$G$60,2,FALSE)))","v":"Reece McIntosh"},{"$f":"IF($A28=\"\",\"\",IF(VLOOKUP($A28,Competitors!$A$2:$G$60,7,FALSE)=\"\",\"\",VLOOKUP($A28,Competitors!$A$2:$G$60,7,FALSE)))","v":""},{"$f":"IF($A28=\"\",\"\",IF(VLOOKUP($A28,Competitors!$A$2:$G$60,5,FALSE)=\"\",\"\",VLOOKUP($A28,Competitors!$A$2:$G$60,5,FALSE)))","v":""},{"$f":"IF($A28=\"\",\"\",IF(VLOOKUP($A28,Competitors!$A$2:$G$60,6,FALSE)=\"\",\"\",VLOOKUP($A28,Competitors!$A$2:$G$60,6,FALSE)))","v":"senior"},{"$f":"IF($A28=\"\",\"\",IF(VLOOKUP($A28,Competitors!$A$2:$G$60,3,FALSE)=\"\",\"\",VLOOKUP($A28,Competitors!$A$2:$G$60,3,FALSE)))","v":""},{"$f":"IF($A28=\"\",\"\",IF(VLOOKUP($A28,Competitors!$A$2:$G$60,4,FALSE)=\"\",\"\",VLOOKUP($A28,Competitors!$A$2:$G$60,4,FALSE)))","v":""},{"$f":"IF(VLOOKUP(A28,Competitors!$A$1:$H$41,8,FALSE)=\"\",\"\",VLOOKUP(A28,Competitors!$A$1:$H$41,8,FALSE))","v":""},{"$f":"IF(IFERROR(VLOOKUP(($B$2&\"_\"&$A28),'Time Entry Sheet'!$A$3:$I$499,9,0),\"Error\")=\"Error\",\"\",IF(VLOOKUP(($B$2&\"_\"&$A28),'Time Entry Sheet'!$A$3:$I$499,9,FALSE)=\"wd\",\"wd\",VLOOKUP(($B$2&\"_\"&$A28),'Time Entry Sheet'!$A$3:$I$499,9,FALSE)*1))","v":"00:00:48.500"},"00:00:48.500",{"$f":"IF(IFERROR(VLOOKUP(($B$2&\"_\"&$A28),'Time Entry Sheet'!$A$3:$I$499,8,FALSE),\"Error\")=\"Error\",\"\",IF(VLOOKUP(($B$2&\"_\"&$A28),'Time Entry Sheet'!$A$3:$I$499,8,FALSE)=\"\",\"\",VLOOKUP(($B$2&\"_\"&$A28),'Time Entry Sheet'!$A$3:$I$499,8,FALSE)))","v":""},{"$f":"IF(IFERROR(VLOOKUP(($B$2&\"_\"&$A28),'Time Entry Sheet'!$A$3:$I$499,7,FALSE),\"Error\")=\"Error\",\"\",IF(VLOOKUP(($B$2&\"_\"&$A28),'Time Entry Sheet'!$A$3:$I$499,7,FALSE)=\"\",\"\",VLOOKUP(($B$2&\"_\"&$A28),'Time Entry Sheet'!$A$3:$I$499,7,FALSE)))","v":""},"00:00:48.500","00:00:48.500",2,{"$f":"IF(A28=\"\",\"\",M28+VLOOKUP(A28,'Test 2'!$A$12:$Q$51,16,FALSE))","v":"00:02:21.820"},1,null,"","00:02:21.820"]
[18,{"$f":"IF($A29=\"\",\"\",IF(VLOOKUP($A29,Competitors!$A$2:$G$60,2,FALSE)=\"\",\"\",VLOOKUP($A29,Competitors!$A$2:$G$60,2,FALSE)))","v":"Jack Stanley"},{"$f":"IF($A29=\"\",\"\",IF(VLOOKUP($A29,Competitors!$A$2:$G$60,7,FALSE)=\"\",\"\",VLOOKUP($A29,Competitors!$A$2:$G$60,7,FALSE)))","v":"rookie"},{"$f":"IF($A29=\"\",\"\",IF(VLOOKUP($A29,Competitors!$A$2:$G$60,5,FALSE)=\"\",\"\",VLOOKUP($A29,Competitors!$A$2:$G$60,5,FALSE)))","v":""},{"$f":"IF($A29=\"\",\"\",IF(VLOOKUP($A29,Competitors!$A$2:$G$60,6,FALSE)=\"\",\"\",VLOOKUP($A29,Competitors!$A$2:$G$60,6,FALSE)))","v":"senior"},{"$f":"IF($A29=\"\",\"\",IF(VLOOKUP($A29,Competitors!$A$2:$G$60,3,FALSE)=\"\",\"\",VLOOKUP($A29,Competitors!$A$2:$G$60,3,FALSE)))","v":""},{"$f":"IF($A29=\"\",\"\",IF(VLOOKUP($A29,Competitors!$A$2:$G$60,4,FALSE)=\"\",\"\",VLOOKUP($A29,Competitors!$A$2:$G$60,4,FALSE)))","v":""},{"$f":"IF(VLOOKUP(A29,Competitors!$A$1:$H$41,8,FALSE)=\"\",\"\",VLOOKUP(A29,Competitors!$A$1:$H$41,8,FALSE))","v":""},{"$f":"IF(IFERROR(VLOOKUP(($B$2&\"_\"&$A29),'Time Entry Sheet'!$A$3:$I$499,9,0),\"Error\")=\"Error\",\"\",IF(VLOOKUP(($B$2&\"_\"&$A29),'Time Entry Sheet'!$A$3:$I$499,9,FALSE)=\"wd\",\"wd\",VLOOKUP(($B$2&\"_\"&$A29),'Time Entry Sheet'!$A$3:$I$499,9,FALSE)*1))","v":"wd"},"",{"$f":"IF(IFERROR(VLOOKUP(($B$2&\"_\"&$A29),'Time Entry Sheet'!$A$3:$I$499,8,FALSE),\"Error\")=\"Error\",\"\",IF(VLOOKUP(($B$2&\"_\"&$A29),'Time Entry Sheet'!$A$3:$I$499,8,FALSE)=\"\",\"\",VLOOKUP(($B$2&\"_\"&$A29),'Time Entry Sheet'!$A$3:$I$499,8,FALSE)))","v":""},{"$f":"IF(IFERROR(VLOOKUP(($B$2&\"_\"&$A29),'Time Entry Sheet'!$A$3:$I$499,7,FALSE),\"Error\")=\"Error\",\"\",IF(VLOOKUP(($B$2&\"_\"&$A29),'Time Entry Sheet'!$A$3:$I$499,7,FALSE)=\"\",\"\",VLOOKUP(($B$2&\"_\"&$A29),'Time Entry Sheet'!$A$3:$I$499,7,FALSE)))","v":"Wrong direction, any procedure other than that specified as the correct procedure for completing that course "},"00:01:07.100","00:01:07.100",17,{"$f":"IF(A29=\"\",\"\",M29+VLOOKUP(A29,'Test 2'!$A$12:$Q$51,16,FALSE))","v":"00:03:05.020"},16,null,"","00:03:05.020"]
[19,{"$f":"IF($A30=\"\",\"\",IF(VLOOKUP($A30,Competitors!$A$2:$G$60,2,FALSE)=\"\",\"\",VLOOKUP($A30,Competitors!$A$2:$G$60,2,FALSE)))","v":"Christopher Northey"},{"$f":"IF($A30=\"\",\"\",IF(VLOOKUP($A30,Competitors!$A$2:$G$60,7,FALSE)=\"\",\"\",VLOOKUP($A30,Competitors!$A$2:$G$60,7,FALSE)))","v":""},{"$f":"IF($A30=\"\",\"\",IF(VLOOKUP($A30,Competitors!$A$2:$G$60,5,FALSE)=\"\",\"\",VLOOKUP($A30,Competitors!$A$2:$G$60,5,FALSE)))","v":""},{"$f":"IF($A30=\"\",\"\",IF(VLOOKUP($A30,Competitors!$A$2:$G$60,6,FALSE)=\"\",\"\",VLOOKUP($A30,Competitors!$A$2:$G$60,6,FALSE)))","v":"senior"},{"$f":"IF($A30=\"\",\"\",IF(VLOOKUP($A30,Competitors!$A$2:$G$60,3,FALSE)=\"\",\"\",VLOOKUP($A30,Competitors!$A$2:$G$60,3,FALSE)))","v":""},{"$f":"IF($A30=\"\",\"\",IF(VLOOKUP($A30,Competitors!$A$2:$G$60,4,FALSE)=\"\",\"\",VLOOKUP($A30,Competitors!$A$2:$G$60,4,FALSE)))","v":""},{"$f":"IF(VLOOKUP(A30,Competitors!$A$1:$H$41,8,FALSE)=\"\",\"\",VLOOKUP(A30,Competitors!$A$1:$H$41,8,FALSE))","v":""},{"$f":"IF(IFERROR(VLOOKUP(($B$2&\"_\"&$A30),'Time Entry Sheet'!$A$3:$I$499,9,0),\"Error\")=\"Error\",\"\",IF(VLOOKUP(($B$2&\"_\"&$A30),'Time Entry Sheet'!$A$3:$I$499,9,FALSE)=\"wd\",\"wd\",VLOOKUP(($B$2&\"_\"&$A30),'Time Entry Sheet'!$A$3:$I$499,9,FALSE)*1))","v":"00:00:56.100"},{"$f":"IF(E30=\"Junior\",\"\",IF(I30=\"wd\",\"\",IF(K30<>\"\",\"\",I30)))","v":"00:00:56.100"},{"$f":"IF(IFERROR(VLOOKUP(($B$2&\"_\"&$A30),'Time Entry Sheet'!$A$3:$I$499,8,FALSE),\"Error\")=\"Error\",\"\",IF(VLOOKUP(($B$2&\"_\"&$A30),'Time Entry Sheet'!$A$3:$I$499,8,FALSE)=\"\",\"\",VLOOKUP(($B$2&\"_\"&$A30),'Time Entry Sheet'!$A$3:$I$499,8,FALSE)))","v":""},{"$f":"IF(IFERROR(VLOOKUP(($B$2&\"_\"&$A30),'Time Entry Sheet'!$A$3:$I$499,7,FALSE),\"Error\")=\"Error\",\"\",IF(VLOOKUP(($B$2&\"_\"&$A30),'Time Entry Sheet'!$A$3:$I$499,7,FALSE)=\"\",\"\",VLOOKUP(($B$2&\"_\"&$A30),'Time Entry Sheet'!$A$3:$I$499,7,FALSE)))","v":""},{"$f":"IF(A30=\"\",\"\",IF(I30=\"wd\",IF(E30=\"Senior\",$B$7,$C$7),IF(L30<>\"\",$B$7,IF(I30=\"\",IF(E30=\"Senior\",$B$8,$C$8),IF(K30=\"\",I30,I30+($B$5*K30))))))","v":"00:00:56.100"},{"$f":"IF(H30=\"Passenger\",\"\",M30)","v":"00:00:56.100"},{"$f":"IF(A30=\"\",\"\",IF(H30=\"Passenger\",\"P\",RANK(N30,$N$12:$N$51,1)))","v":14},{"$f":"IF(A30=\"\",\"\",M30+VLOOKUP(A30,'Test 2'!$A$12:$Q$51,16,FALSE))","v":"00:02:38.220"},{"$f":"IF(A30=\"\",\"\",IF(H30=\"Passenger\",\"P\",RANK(T30,$T$12:$T$51,1)))","v":7},null,{"$f":"IF(E30=\"Senior\",\"\",IF(I30=\"wd\",\"\",IF(K30<>\"\",\"\",I30)))","v":""},{"$f":"IF(H30=\"Passenger\",\"\",P30)","v":"00:02:38.220"}]
[20,{"$f":"IF($A31=\"\",\"\",IF(VLOOKUP($A31,Competitors!$A$2:$G$60,2,FALSE)=\"\",\"\",VLOOKUP($A31,Competitors!$A$2:$G$60,2,FALSE)))","v":"Ray Lampl"},{"$f":"IF($A31=\"\",\"\",IF(VLOOKUP($A31,Competitors!$A$2:$G$60,7,FALSE)=\"\",\"\",VLOOKUP($A31,Competitors!$A$2:$G$60,7,FALSE)))","v":""},{"$f":"IF($A31=\"\",\"\",IF(VLOOKUP($A31,Competitors!$A$2:$G$60,5,FALSE)=\"\",\"\",VLOOKUP($A31,Competitors!$A$2:$G$60,5,FALSE)))","v":""},{"$f":"IF($A31=\"\",\"\",IF(VLOOKUP($A31,Competitors!$A$2:$G$60,6,FALSE)=\"\",\"\",VLOOKUP($A31,Competitors!$A$2:$G$60,6,FALSE)))","v":"senior"},{"$f":"IF($A31=\"\",\"\",IF(VLOOKUP($A31,Competitors!$A$2:$G$60,3,FALSE)=\"\",\"\",VLOOKUP($A31,Competitors!$A$2:$G$60,3,FALSE)))","v":""},{"$f":"IF($A31=\"\",\"\",IF(VLOOKUP($A31,Competitors!$A$2:$G$60,4,FALSE)=\"\",\"\",VLOOKUP($A31,Competitors!$A$2:$G$60,4,FALSE)))","v":""},{"$f":"IF(VLOOKUP(A31,Competitors!$A$1:$H$41,8,FALSE)=\"\",\"\",VLOOKUP(A31,Competitors!$A$1:$H$41,8,FALSE))","v":""},{"$f":"IF(IFERROR(VLOOKUP(($B$2&\"_\"&$A31),'Time Entry Sheet'!$A$3:$I$499,9,0),\"Error\")=\"Error\",\"\",IF(VLOOKUP(($B$2&\"_\"&$A31),'Time Entry Sheet'!$A$3:$I$499,9,FALSE)=\"wd\",\"wd\",VLOOKUP(($B$2&\"_\"&$A31),'Time Entry Sheet'!$A$3:$I$499,9,FALSE)*1))","v":"00:00:52.200"},"00:00:52.200",{"$f":"IF(IFERROR(VLOOKUP(($B$2&\"_\"&$A31),'Time Entry Sheet'!$A$3:$I$499,8,FALSE),\"Error\")=\"Error\",\"\",IF(VLOOKUP(($B$2&\"_\"&$A31),'Time Entry Sheet'!$A$3:$I$499,8,FALSE)=\"\",\"\",VLOOKUP(($B$2&\"_\"&$A31),'Time Entry Sheet'!$A$3:$I$499,8,FALSE)))","v":""},{"$f":"IF(IFERROR(VLOOKUP(($B$2&\"_\"&$A31),'Time Entry Sheet'!$A$3:$I$499,7,FALSE),\"Error\")=\"Error\",\"\",IF(VLOOKUP(($B$2&\"_\"&$A31),'Time Entry Sheet'!$A$3:$I$499,7,FALSE)=\"\",\"\",VLOOKUP(($B$2&\"_\"&$A31),'Time Entry Sheet'!$A$3:$I$499,7,FALSE)))","v":""},"00:00:52.200","00:00:52.200",7,{"$f":"IF(A31=\"\",\"\",M31+VLOOKUP(A31,'Test 2'!$A$12:$Q$51,16,FALSE))","v":"00:02:35.110"},5,null,"","00:02:35.110"]
[21,{"$f":"IF($A32=\"\",\"\",IF(VLOOKUP($A32,Competitors!$A$2:$G$60,2,FALSE)=\"\",\"\",VLOOKUP($A32,Competitors!$A$2:$G$60,2,FALSE)))","v":""},{"$f":"IF($A32=\"\",\"\",IF(VLOOKUP($A32,Competitors!$A$2:$G$60,7,FALSE)=\"\",\"\",VLOOKUP($A32,Competitors!$A$2:$G$60,7,FALSE)))","v":""},{"$f":"IF($A32=\"\",\"\",IF(VLOOKUP($A32,Competitors!$A$2:$G$60,5,FALSE)=\"\",\"\",VLOOKUP($A32,Competitors!$A$2:$G$60,5,FALSE)))","v":""},{"$f":"IF($A32=\"\",\"\",IF(VLOOKUP($A32,Competitors!$A$2:$G$60,6,FALSE)=\"\",\"\",VLOOKUP($A32,Competitors!$A$2:$G$60,6,FALSE)))","v":"senior"},{"$f":"IF($A32=\"\",\"\",IF(VLOOKUP($A32,Competitors!$A$2:$G$60,3,FALSE)=\"\",\"\",VLOOKUP($A32,Competitors!$A$2:$G$60,3,FALSE)))","v":""},{"$f":"IF($A32=\"\",\"\",IF(VLOOKUP($A32,Competitors!$A$2:$G$60,4,FALSE)=\"\",\"\",VLOOKUP($A32,Competitors!$A$2:$G$60,4,FALSE)))","v":""},{"$f":"IF(VLOOKUP(A32,Competitors!$A$1:$H$41,8,FALSE)=\"\",\"\",VLOOKUP(A32,Competitors!$A$1:$H$41,8,FALSE))","v":""},{"$f":"IF(IFERROR(VLOOKUP(($B$2&\"_\"&$A32),'Time Entry Sheet'!$A$3:$I$499,9,0),\"Error\")=\"Error\",\"\",IF(VLOOKUP(($B$2&\"_\"&$A32),'Time Entry Sheet'!$A$3:$I$499,9,FALSE)=\"wd\",\"wd\",VLOOKUP(($B$2&\"_\"&$A32),'Time Entry Sheet'!$A$3:$I$499,9,FALSE)*1))","v":""},"",{"$f":"IF(IFERROR(VLOOKUP(($B$2&\"_\"&$A32),'Time Entry Sheet'!$A$3:$I$499,8,FALSE),\"Error\")=\"Error\",\"\",IF(VLOOKUP(($B$2&\"_\"&$A32),'Time Entry Sheet'!$A$3:$I$499,8,FALSE)=\"\",\"\",VLOOKUP(($B$2&\"_\"&$A32),'Time Entry Sheet'!$A$3:$I$499,8,FALSE)))","v":""},{"$f":"IF(IFERROR(VLOOKUP(($B$2&\"_\"&$A32),'Time Entry Sheet'!$A$3:$I$499,7,FALSE),\"Error\")=\"Error\",\"\",IF(VLOOKUP(($B$2&\"_\"&$A32),'Time Entry Sheet'!$A$3:$I$499,7,FALSE)=\"\",\"\",VLOOKUP(($B$2&\"_\"&$A32),'Time Entry Sheet'!$A$3:$I$499,7,FALSE)))","v":""},"00:01:12.100","00:01:12.100",20,{"$f":"IF(A32=\"\",\"\",M32+VLOOKUP(A32,'Test 2'!$A$12:$Q$51,16,FALSE))","v":"00:03:50.840"},20,null,"","00:03:50.840"]
[22,{"$f":"IF($A33=\"\",\"\",IF(VLOOKUP($A33,Competitors!$A$2:$G$60,2,FALSE)=\"\",\"\",VLOOKUP($A33,Competitors!$A$2:$G$60,2,FALSE)))","v":""},{"$f":"IF($A33=\"\",\"\",IF(VLOOKUP($A33,Competitors!$A$2:$G$60,7,FALSE)=\"\",\"\",VLOOKUP($A33,Competitors!$A$2:$G$60,7,FALSE)))","v":""},{"$f":"IF($A33=\"\",\"\",IF(VLOOKUP($A33,Competitors!$A$2:$G$60,5,FALSE)=\"\",\"\",VLOOKUP($A33,Competitors!$A$2:$G$60,5,FALSE)))","v":""},{"$f":"IF($A33=\"\",\"\",IF(VLOOKUP($A33,Competitors!$A$2:$G$60,6,FALSE)=\"\",\"\",VLOOKUP($A33,Competitors!$A$2:$G$60,6,FALSE)))","v":"senior"},{"$f":"IF($A33=\"\",\"\",IF(VLOOKUP($A33,Competitors!$A$2:$G$60,3,FALSE)=\"\",\"\",VLOOKUP($A33,Competitors!$A$2:$G$60,3,FALSE)))","v":""},{"$f":"IF($A33=\"\",\"\",IF(VLOOKUP($A33,Competitors!$A$2:$G$60,4,FALSE)=\"\",\"\",VLOOKUP($A33,Competitors!$A$2:$G$60,4,FALSE)))","v":""},{"$f":"IF(VLOOKUP(A33,Competitors!$A$1:$H$41,8,FALSE)=\"\",\"\",VLOOKUP(A33,Competitors!$A$1:$H$41,8,FALSE))","v":""},{"$f":"IF(IFERROR(VLOOKUP(($B$2&\"_\"&$A33),'Time Entry Sheet'!$A$3:$I$499,9,0),\"Error\")=\"Error\",\"\",IF(VLOOKUP(($B$2&\"_\"&$A33),'Time Entry Sheet'!$A$3:$I$499,9,FALSE)=\"wd\",\"wd\",VLOOKUP(($B$2&\"_\"&$A33),'Time Entry Sheet'!$A$3:$I$499,9,FALSE)*1))","v":""},"",{"$f":"IF(IFERROR(VLOOKUP(($B$2&\"_\"&$A33),'Time Entry Sheet'!$A$3:$I$499,8,FALSE),\"Error\")=\"Error\",\"\",IF(VLOOKUP(($B$2&\"_\"&$A33),'Time Entry Sheet'!$A$3:$I$499,8,FALSE)=\"\",\"\",VLOOKUP(($B$2&\"_\"&$A33),'Time Entry Sheet'!$A$3:$I$499,8,FALSE)))","v":""},{"$f":"IF(IFERROR(VLOOKUP(($B$2&\"_\"&$A33),'Time Entry Sheet'!$A$3:$I$499,7,FALSE),\"Error\")=\"Error\",\"\",IF(VLOOKUP(($B$2&\"_\"&$A33),'Time Entry Sheet'!$A$3:$I$499,7,FALSE)=\"\",\"\",VLOOKUP(($B$2&\"_\"&$A33),'Time Entry Sheet'!$A$3:$I$499,7,FALSE)))","v":""},"00:01:12.100","00:01:12.100",20,{"$f":"IF(A33=\"\",\"\",M33+VLOOKUP(A33,'Test 2'!$A$12:$Q$51,16,FALSE))","v":"00:03:50.840"},20,null,"","00:03:50.840"]
[23,{"$f":"IF($A34=\"\",\"\",IF(VLOOKUP($A34,Competitors!$A$2:$G$60,2,FALSE)=\"\",\"\",VLOOKUP($A34,Competitors!$A$2:$G$60,2,FALSE)))","v":""},{"$f":"IF($A34=\"\",\"\",IF(VLOOKUP($A34,Competitors!$A$2:$G$60,7,FALSE)=\"\",\"\",VLOOKUP($A34,Competitors!$A$2:$G$60,7,FALSE)))","v":""},{"$f":"IF($A34=\"\",\"\",IF(VLOOKUP($A34,Competitors!$A$2:$G$60,5,FALSE)=\"\",\"\",VLOOKUP($A34,Competitors!$A$2:$G$60,5,FALSE)))","v":""},{"$f":"IF($A34=\"\",\"\",IF(VLOOKUP($A34,Competitors!$A$2:$G$60,6,FALSE)=\"\",\"\",VLOOKUP($A34,Competitors!$A$2:$G$60,6,FALSE)))","v":"senior"},{"$f":"IF($A34=\"\",\"\",IF(VLOOKUP($A34,Competitors!$A$2:$G$60,3,FALSE)=\"\",\"\",VLOOKUP($A34,Competitors!$A$2:$G$60,3,FALSE)))","v":""},{"$f":"IF($A34=\"\",\"\",IF(VLOOKUP($A34,Competitors!$A$2:$G$60,4,FALSE)=\"\",\"\",VLOOKUP($A34,Competitors!$A$2:$G$60,4,FALSE)))","v":""},{"$f":"IF(VLOOKUP(A34,Competitors!$A$1:$H$41,8,FALSE)=\"\",\"\",VLOOKUP(A34,Competitors!$A$1:$H$41,8,FALSE))","v":""},{"$f":"IF(IFERROR(VLOOKUP(($B$2&\"_\"&$A34),'Time Entry Sheet'!$A$3:$I$499,9,0),\"Error\")=\"Error\",\"\",IF(VLOOKUP(($B$2&\"_\"&$A34),'Time Entry Sheet'!$A$3:$I$499,9,FALSE)=\"wd\",\"wd\",VLOOKUP(($B$2&\"_\"&$A34),'Time Entry Sheet'!$A$3:$I$499,9,FALSE)*1))","v":""},"",{"$f":"IF(IFERROR(VLOOKUP(($B$2&\"_\"&$A34),'Time Entry Sheet'!$A$3:$I$499,8,FALSE),\"Error\")=\"Error\",\"\",IF(VLOOKUP(($B$2&\"_\"&$A34),'Time Entry Sheet'!$A$3:$I$499,8,FALSE)=\"\",\"\",VLOOKUP(($B$2&\"_\"&$A34),'Time Entry Sheet'!$A$3:$I$499,8,FALSE)))","v":""},{"$f":"IF(IFERROR(VLOOKUP(($B$2&\"_\"&$A34),'Time Entry Sheet'!$A$3:$I$499,7,FALSE),\"Error\")=\"Error\",\"\",IF(VLOOKUP(($B$2&\"_\"&$A34),'Time Entry Sheet'!$A$3:$I$499,7,FALSE)=\"\",\"\",VLOOKUP(($B$2&\"_\"&$A34),'Time Entry Sheet'!$A$3:$I$499,7,FALSE)))","v":""},"00:01:12.100","00:01:12.100",20,{"$f":"IF(A34=\"\",\"\",M34+VLOOKUP(A34,'Test 2'!$A$12:$Q$51,16,FALSE))","v":"00:03:50.840"},20,null,"","00:03:50.840"]
[24,{"$f":"IF($A35=\"\",\"\",IF(VLOOKUP($A35,Competitors!$A$2:$G$60,2,FALSE)=\"\",\"\",VLOOKUP($A35,Competitors!$A$2:$G$60,2,FALSE)))","v":""},{"$f":"IF($A35=\"\",\"\",IF(VLOOKUP($A35,Competitors!$A$2:$G$60,7,FALSE)=\"\",\"\",VLOOKUP($A35,Competitors!$A$2:$G$60,7,FALSE)))","v":""},{"$f":"IF($A35=\"\",\"\",IF(VLOOKUP($A35,Competitors!$A$2:$G$60,5,FALSE)=\"\",\"\",VLOOKUP($A35,Competitors!$A$2:$G$60,5,FALSE)))","v":""},{"$f":"IF($A35=\"\",\"\",IF(VLOOKUP($A35,Competitors!$A$2:$G$60,6,FALSE)=\"\",\"\",VLOOKUP($A35,Competitors!$A$2:$G$60,6,FALSE)))","v":"senior"},{"$f":"IF($A35=\"\",\"\",IF(VLOOKUP($A35,Competitors!$A$2:$G$60,3,FALSE)=\"\",\"\",VLOOKUP($A35,Competitors!$A$2:$G$60,3,FALSE)))","v":""},{"$f":"IF($A35=\"\",\"\",IF(VLOOKUP($A35,Competitors!$A$2:$G$60,4,FALSE)=\"\",\"\",VLOOKUP($A35,Competitors!$A$2:$G$60,4,FALSE)))","v":""},{"$f":"IF(VLOOKUP(A35,Competitors!$A$1:$H$41,8,FALSE)=\"\",\"\",VLOOKUP(A35,Competitors!$A$1:$H$41,8,FALSE))","v":""},{"$f":"IF(IFERROR(VLOOKUP(($B$2&\"_\"&$A35),'Time Entry Sheet'!$A$3:$I$499,9,0),\"Error\")=\"Error\",\"\",IF(VLOOKUP(($B$2&\"_\"&$A35),'Time Entry Sheet'!$A$3:$I$499,9,FALSE)=\"wd\",\"wd\",VLOOKUP(($B$2&\"_\"&$A35),'Time Entry Sheet'!$A$3:$I$499,9,FALSE)*1))","v":""},"",{"$f":"IF(IFERROR(VLOOKUP(($B$2&\"_\"&$A35),'Time Entry Sheet'!$A$3:$I$499,8,FALSE),\"Error\")=\"Error\",\"\",IF(VLOOKUP(($B$2&\"_\"&$A35),'Time Entry Sheet'!$A$3:$I$499,8,FALSE)=\"\",\"\",VLOOKUP(($B$2&\"_\"&$A35),'Time Entry Sheet'!$A$3:$I$499,8,FALSE)))","v":""},{"$f":"IF(IFERROR(VLOOKUP(($B$2&\"_\"&$A35),'Time Entry Sheet'!$A$3:$I$499,7,FALSE),\"Error\")=\"Error\",\"\",IF(VLOOKUP(($B$2&\"_\"&$A35),'Time Entry Sheet'!$A$3:$I$499,7,FALSE)=\"\",\"\",VLOOKUP(($B$2&\"_\"&$A35),'Time Entry Sheet'!$A$3:$I$499,7,FALSE)))","v":""},"00:01:12.100","00:01:12.100",20,{"$f":"IF(A35=\"\",\"\",M35+VLOOKUP(A35,'Test 2'!$A$12:$Q$51,16,FALSE))","v":"00:03:50.840"},20,null,"","00:03:50.840"]
[25,{"$f":"IF($A36=\"\",\"\",IF(VLOOKUP($A36,Competitors!$A$2:$G$60,2,FALSE)=\"\",\"\",VLOOKUP($A36,Competitors!$A$2:$G$60,2,FALSE)))","v":""},{"$f":"IF($A36=\"\",\"\",IF(VLOOKUP($A36,Competitors!$A$2:$G$60,7,FALSE)=\"\",\"\",VLOOKUP($A36,Competitors!$A$2:$G$60,7,FALSE)))","v":""},{"$f":"IF($A36=\"\",\"\",IF(VLOOKUP($A36,Competitors!$A$2:$G$60,5,FALSE)=\"\",\"\",VLOOKUP($A36,Competitors!$A$2:$G$60,5,FALSE)))","v":""},{"$f":"IF($A36=\"\",\"\",IF(VLOOKUP($A36,Competitors!$A$2:$G$60,6,FALSE)=\"\",\"\",VLOOKUP($A36,Competitors!$A$2:$G$60,6,FALSE)))","v":"senior"},{"$f":"IF($A36=\"\",\"\",IF(VLOOKUP($A36,Competitors!$A$2:$G$60,3,FALSE)=\"\",\"\",VLOOKUP($A36,Competitors!$A$2:$G$60,3,FALSE)))","v":""},{"$f":"IF($A36=\"\",\"\",IF(VLOOKUP($A36,Competitors!$A$2:$G$60,4,FALSE)=\"\",\"\",VLOOKUP($A36,Competitors!$A$2:$G$60,4,FALSE)))","v":""},{"$f":"IF(VLOOKUP(A36,Competitors!$A$1:$H$41,8,FALSE)=\"\",\"\",VLOOKUP(A36,Competitors!$A$1:$H$41,8,FALSE))","v":""},{"$f":"IF(IFERROR(VLOOKUP(($B$2&\"_\"&$A36),'Time Entry Sheet'!$A$3:$I$499,9,0),\"Error\")=\"Error\",\"\",IF(VLOOKUP(($B$2&\"_\"&$A36),'Time Entry Sheet'!$A$3:$I$499,9,FALSE)=\"wd\",\"wd\",VLOOKUP(($B$2&\"_\"&$A36),'Time Entry Sheet'!$A$3:$I$499,9,FALSE)*1))","v":""},"",{"$f":"IF(IFERROR(VLOOKUP(($B$2&\"_\"&$A36),'Time Entry Sheet'!$A$3:$I$499,8,FALSE),\"Error\")=\"Error\",\"\",IF(VLOOKUP(($B$2&\"_\"&$A36),'Time Entry Sheet'!$A$3:$I$499,8,FALSE)=\"\",\"\",VLOOKUP(($B$2&\"_\"&$A36),'Time Entry Sheet'!$A$3:$I$499,8,FALSE)))","v":""},{"$f":"IF(IFERROR(VLOOKUP(($B$2&\"_\"&$A36),'Time Entry Sheet'!$A$3:$I$499,7,FALSE),\"Error\")=\"Error\",\"\",IF(VLOOKUP(($B$2&\"_\"&$A36),'Time Entry Sheet'!$A$3:$I$499,7,FALSE)=\"\",\"\",VLOOKUP(($B$2&\"_\"&$A36),'Time Entry Sheet'!$A$3:$I$499,7,FALSE)))","v":""},"00:01:12.100","00:01:12.100",20,{"$f":"IF(A36=\"\",\"\",M36+VLOOKUP(A36,'Test 2'!$A$12:$Q$51,16,FALSE))","v":"00:03:50.840"},20,null,"","00:03:50.840"]
[26,{"$f":"IF($A37=\"\",\"\",IF(VLOOKUP($A37,Competitors!$A$2:$G$60,2,FALSE)=\"\",\"\",VLOOKUP($A37,Competitors!$A$2:$G$60,2,FALSE)))","v":""},{"$f":"IF($A37=\"\",\"\",IF(VLOOKUP($A37,Competitors!$A$2:$G$60,7,FALSE)=\"\",\"\",VLOOKUP($A37,Competitors!$A$2:$G$60,7,FALSE)))","v":""},{"$f":"IF($A37=\"\",\"\",IF(VLOOKUP($A37,Competitors!$A$2:$G$60,5,FALSE)=\"\",\"\",VLOOKUP($A37,Competitors!$A$2:$G$60,5,FALSE)))","v":""},{"$f":"IF($A37=\"\",\"\",IF(VLOOKUP($A37,Competitors!$A$2:$G$60,6,FALSE)=\"\",\"\",VLOOKUP($A37,Competitors!$A$2:$G$60,6,FALSE)))","v":"senior"},{"$f":"IF($A37=\"\",\"\",IF(VLOOKUP($A37,Competitors!$A$2:$G$60,3,FALSE)=\"\",\"\",VLOOKUP($A37,Competitors!$A$2:$G$60,3,FALSE)))","v":""},{"$f":"IF($A37=\"\",\"\",IF(VLOOKUP($A37,Competitors!$A$2:$G$60,4,FALSE)=\"\",\"\",VLOOKUP($A37,Competitors!$A$2:$G$60,4,FALSE)))","v":""},{"$f":"IF(VLOOKUP(A37,Competitors!$A$1:$H$41,8,FALSE)=\"\",\"\",VLOOKUP(A37,Competitors!$A$1:$H$41,8,FALSE))","v":""},{"$f":"IF(IFERROR(VLOOKUP(($B$2&\"_\"&$A37),'Time Entry Sheet'!$A$3:$I$499,9,0),\"Error\")=\"Error\",\"\",IF(VLOOKUP(($B$2&\"_\"&$A37),'Time Entry Sheet'!$A$3:$I$499,9,FALSE)=\"wd\",\"wd\",VLOOKUP(($B$2&\"_\"&$A37),'Time Entry Sheet'!$A$3:$I$499,9,FALSE)*1))","v":""},"",{"$f":"IF(IFERROR(VLOOKUP(($B$2&\"_\"&$A37),'Time Entry Sheet'!$A$3:$I$499,8,FALSE),\"Error\")=\"Error\",\"\",IF(VLOOKUP(($B$2&\"_\"&$A37),'Time Entry Sheet'!$A$3:$I$499,8,FALSE)=\"\",\"\",VLOOKUP(($B$2&\"_\"&$A37),'Time Entry Sheet'!$A$3:$I$499,8,FALSE)))","v":""},{"$f":"IF(IFERROR(VLOOKUP(($B$2&\"_\"&$A37),'Time Entry Sheet'!$A$3:$I$499,7,FALSE),\"Error\")=\"Error\",\"\",IF(VLOOKUP(($B$2&\"_\"&$A37),'Time Entry Sheet'!$A$3:$I$499,7,FALSE)=\"\",\"\",VLOOKUP(($B$2&\"_\"&$A37),'Time Entry Sheet'!$A$3:$I$499,7,FALSE)))","v":""},"00:01:12.100","00:01:12.100",20,{"$f":"IF(A37=\"\",\"\",M37+VLOOKUP(A37,'Test 2'!$A$12:$Q$51,16,FALSE))","v":"00:03:50.840"},20,null,"","00:03:50.840"]
[27,{"$f":"IF($A38=\"\",\"\",IF(VLOOKUP($A38,Competitors!$A$2:$G$60,2,FALSE)=\"\",\"\",VLOOKUP($A38,Competitors!$A$2:$G$60,2,FALSE)))","v":""},{"$f":"IF($A38=\"\",\"\",IF(VLOOKUP($A38,Competitors!$A$2:$G$60,7,FALSE)=\"\",\"\",VLOOKUP($A38,Competitors!$A$2:$G$60,7,FALSE)))","v":""},{"$f":"IF($A38=\"\",\"\",IF(VLOOKUP($A38,Competitors!$A$2:$G$60,5,FALSE)=\"\",\"\",VLOOKUP($A38,Competitors!$A$2:$G$60,5,FALSE)))","v":""},{"$f":"IF($A38=\"\",\"\",IF(VLOOKUP($A38,Competitors!$A$2:$G$60,6,FALSE)=\"\",\"\",VLOOKUP($A38,Competitors!$A$2:$G$60,6,FALSE)))","v":"senior"},{"$f":"IF($A38=\"\",\"\",IF(VLOOKUP($A38,Competitors!$A$2:$G$60,3,FALSE)=\"\",\"\",VLOOKUP($A38,Competitors!$A$2:$G$60,3,FALSE)))","v":""},{"$f":"IF($A38=\"\",\"\",IF(VLOOKUP($A38,Competitors!$A$2:$G$60,4,FALSE)=\"\",\"\",VLOOKUP($A38,Competitors!$A$2:$G$60,4,FALSE)))","v":""},{"$f":"IF(VLOOKUP(A38,Competitors!$A$1:$H$41,8,FALSE)=\"\",\"\",VLOOKUP(A38,Competitors!$A$1:$H$41,8,FALSE))","v":""},{"$f":"IF(IFERROR(VLOOKUP(($B$2&\"_\"&$A38),'Time Entry Sheet'!$A$3:$I$499,9,0),\"Error\")=\"Error\",\"\",IF(VLOOKUP(($B$2&\"_\"&$A38),'Time Entry Sheet'!$A$3:$I$499,9,FALSE)=\"wd\",\"wd\",VLOOKUP(($B$2&\"_\"&$A38),'Time Entry Sheet'!$A$3:$I$499,9,FALSE)*1))","v":""},"",{"$f":"IF(IFERROR(VLOOKUP(($B$2&\"_\"&$A38),'Time Entry Sheet'!$A$3:$I$499,8,FALSE),\"Error\")=\"Error\",\"\",IF(VLOOKUP(($B$2&\"_\"&$A38),'Time Entry Sheet'!$A$3:$I$499,8,FALSE)=\"\",\"\",VLOOKUP(($B$2&\"_\"&$A38),'Time Entry Sheet'!$A$3:$I$499,8,FALSE)))","v":""},{"$f":"IF(IFERROR(VLOOKUP(($B$2&\"_\"&$A38),'Time Entry Sheet'!$A$3:$I$499,7,FALSE),\"Error\")=\"Error\",\"\",IF(VLOOKUP(($B$2&\"_\"&$A38),'Time Entry Sheet'!$A$3:$I$499,7,FALSE)=\"\",\"\",VLOOKUP(($B$2&\"_\"&$A38),'Time Entry Sheet'!$A$3:$I$499,7,FALSE)))","v":""},"00:01:12.100","00:01:12.100",20,{"$f":"IF(A38=\"\",\"\",M38+VLOOKUP(A38,'Test 2'!$A$12:$Q$51,16,FALSE))","v":"00:03:50.840"},20,null,"","00:03:50.840"]
[28,{"$f":"IF($A39=\"\",\"\",IF(VLOOKUP($A39,Competitors!$A$2:$G$60,2,FALSE)=\"\",\"\",VLOOKUP($A39,Competitors!$A$2:$G$60,2,FALSE)))","v":""},{"$f":"IF($A39=\"\",\"\",IF(VLOOKUP($A39,Competitors!$A$2:$G$60,7,FALSE)=\"\",\"\",VLOOKUP($A39,Competitors!$A$2:$G$60,7,FALSE)))","v":""},{"$f":"IF($A39=\"\",\"\",IF(VLOOKUP($A39,Competitors!$A$2:$G$60,5,FALSE)=\"\",\"\",VLOOKUP($A39,Competitors!$A$2:$G$60,5,FALSE)))","v":""},{"$f":"IF($A39=\"\",\"\",IF(VLOOKUP($A39,Competitors!$A$2:$G$60,6,FALSE)=\"\",\"\",VLOOKUP($A39,Competitors!$A$2:$G$60,6,FALSE)))","v":"senior"},{"$f":"IF($A39=\"\",\"\",IF(VLOOKUP($A39,Competitors!$A$2:$G$60,3,FALSE)=\"\",\"\",VLOOKUP($A39,Competitors!$A$2:$G$60,3,FALSE)))","v":""},{"$f":"IF($A39=\"\",\"\",IF(VLOOKUP($A39,Competitors!$A$2:$G$60,4,FALSE)=\"\",\"\",VLOOKUP($A39,Competitors!$A$2:$G$60,4,FALSE)))","v":""},{"$f":"IF(VLOOKUP(A39,Competitors!$A$1:$H$41,8,FALSE)=\"\",\"\",VLOOKUP(A39,Competitors!$A$1:$H$41,8,FALSE))","v":""},{"$f":"IF(IFERROR(VLOOKUP(($B$2&\"_\"&$A39),'Time Entry Sheet'!$A$3:$I$499,9,0),\"Error\")=\"Error\",\"\",IF(VLOOKUP(($B$2&\"_\"&$A39),'Time Entry Sheet'!$A$3:$I$499,9,FALSE)=\"wd\",\"wd\",VLOOKUP(($B$2&\"_\"&$A39),'Time Entry Sheet'!$A$3:$I$499,9,FALSE)*1))","v":""},"",{"$f":"IF(IFERROR(VLOOKUP(($B$2&\"_\"&$A39),'Time Entry Sheet'!$A$3:$I$499,8,FALSE),\"Error\")=\"Error\",\"\",IF(VLOOKUP(($B$2&\"_\"&$A39),'Time Entry Sheet'!$A$3:$I$499,8,FALSE)=\"\",\"\",VLOOKUP(($B$2&\"_\"&$A39),'Time Entry Sheet'!$A$3:$I$499,8,FALSE)))","v":""},{"$f":"IF(IFERROR(VLOOKUP(($B$2&\"_\"&$A39),'Time Entry Sheet'!$A$3:$I$499,7,FALSE),\"Error\")=\"Error\",\"\",IF(VLOOKUP(($B$2&\"_\"&$A39),'Time Entry Sheet'!$A$3:$I$499,7,FALSE)=\"\",\"\",VLOOKUP(($B$2&\"_\"&$A39),'Time Entry Sheet'!$A$3:$I$499,7,FALSE)))","v":""},"00:01:12.100","00:01:12.100",20,{"$f":"IF(A39=\"\",\"\",M39+VLOOKUP(A39,'Test 2'!$A$12:$Q$51,16,FALSE))","v":"00:03:50.840"},20,null,null,"00:03:50.840"]
[29,{"$f":"IF($A40=\"\",\"\",IF(VLOOKUP($A40,Competitors!$A$2:$G$60,2,FALSE)=\"\",\"\",VLOOKUP($A40,Competitors!$A$2:$G$60,2,FALSE)))","v":""},{"$f":"IF($A40=\"\",\"\",IF(VLOOKUP($A40,Competitors!$A$2:$G$60,7,FALSE)=\"\",\"\",VLOOKUP($A40,Competitors!$A$2:$G$60,7,FALSE)))","v":""},{"$f":"IF($A40=\"\",\"\",IF(VLOOKUP($A40,Competitors!$A$2:$G$60,5,FALSE)=\"\",\"\",VLOOKUP($A40,Competitors!$A$2:$G$60,5,FALSE)))","v":""},{"$f":"IF($A40=\"\",\"\",IF(VLOOKUP($A40,Competitors!$A$2:$G$60,6,FALSE)=\"\",\"\",VLOOKUP($A40,Competitors!$A$2:$G$60,6,FALSE)))","v":"senior"},{"$f":"IF($A40=\"\",\"\",IF(VLOOKUP($A40,Competitors!$A$2:$G$60,3,FALSE)=\"\",\"\",VLOOKUP($A40,Competitors!$A$2:$G$60,3,FALSE)))","v":""},{"$f":"IF($A40=\"\",\"\",IF(VLOOKUP($A40,Competitors!$A$2:$G$60,4,FALSE)=\"\",\"\",VLOOKUP($A40,Competitors!$A$2:$G$60,4,FALSE)))","v":""},{"$f":"IF(VLOOKUP(A40,Competitors!$A$1:$H$41,8,FALSE)=\"\",\"\",VLOOKUP(A40,Competitors!$A$1:$H$41,8,FALSE))","v":""},{"$f":"IF(IFERROR(VLOOKUP(($B$2&\"_\"&$A40),'Time Entry Sheet'!$A$3:$I$499,9,0),\"Error\")=\"Error\",\"\",IF(VLOOKUP(($B$2&\"_\"&$A40),'Time Entry Sheet'!$A$3:$I$499,9,FALSE)=\"wd\",\"wd\",VLOOKUP(($B$2&\"_\"&$A40),'Time Entry Sheet'!$A$3:$I$499,9,FALSE)*1))","v":""},"",{"$f":"IF(IFERROR(VLOOKUP(($B$2&\"_\"&$A40),'Time Entry Sheet'!$A$3:$I$499,8,FALSE),\"Error\")=\"Error\",\"\",IF(VLOOKUP(($B$2&\"_\"&$A40),'Time Entry Sheet'!$A$3:$I$499,8,FALSE)=\"\",\"\",VLOOKUP(($B$2&\"_\"&$A40),'Time Entry Sheet'!$A$3:$I$499,8,FALSE)))","v":""},{"$f":"IF(IFERROR(VLOOKUP(($B$2&\"_\"&$A40),'Time Entry Sheet'!$A$3:$I$499,7,FALSE),\"Error\")=\"Error\",\"\",IF(VLOOKUP(($B$2&\"_\"&$A40),'Time Entry Sheet'!$A$3:$I$499,7,FALSE)=\"\",\"\",VLOOKUP(($B$2&\"_\"&$A40),'Time Entry Sheet'!$A$3:$I$499,7,FALSE)))","v":""},"00:01:12.100","00:01:12.100",20,{"$f":"IF(A40=\"\",\"\",M40+VLOOKUP(A40,'Test 2'!$A$12:$Q$51,16,FALSE))","v":"00:03:50.840"},20,null,"","00:03:50.840"]
[30,{"$f":"IF($A41=\"\",\"\",IF(VLOOKUP($A41,Competitors!$A$2:$G$60,2,FALSE)=\"\",\"\",VLOOKUP($A41,Competitors!$A$2:$G$60,2,FALSE)))","v":""},{"$f":"IF($A41=\"\",\"\",IF(VLOOKUP($A41,Competitors!$A$2:$G$60,7,FALSE)=\"\",\"\",VLOOKUP($A41,Competitors!$A$2:$G$60,7,FALSE)))","v":""},{"$f":"IF($A41=\"\",\"\",IF(VLOOKUP($A41,Competitors!$A$2:$G$60,5,FALSE)=\"\",\"\",VLOOKUP($A41,Competitors!$A$2:$G$60,5,FALSE)))","v":""},{"$f":"IF($A41=\"\",\"\",IF(VLOOKUP($A41,Competitors!$A$2:$G$60,6,FALSE)=\"\",\"\",VLOOKUP($A41,Competitors!$A$2:$G$60,6,FALSE)))","v":"senior"},{"$f":"IF($A41=\"\",\"\",IF(VLOOKUP($A41,Competitors!$A$2:$G$60,3,FALSE)=\"\",\"\",VLOOKUP($A41,Competitors!$A$2:$G$60,3,FALSE)))","v":""},{"$f":"IF($A41=\"\",\"\",IF(VLOOKUP($A41,Competitors!$A$2:$G$60,4,FALSE)=\"\",\"\",VLOOKUP($A41,Competitors!$A$2:$G$60,4,FALSE)))","v":""},{"$f":"IF(VLOOKUP(A41,Competitors!$A$1:$H$41,8,FALSE)=\"\",\"\",VLOOKUP(A41,Competitors!$A$1:$H$41,8,FALSE))","v":""},{"$f":"IF(IFERROR(VLOOKUP(($B$2&\"_\"&$A41),'Time Entry Sheet'!$A$3:$I$499,9,0),\"Error\")=\"Error\",\"\",IF(VLOOKUP(($B$2&\"_\"&$A41),'Time Entry Sheet'!$A$3:$I$499,9,FALSE)=\"wd\",\"wd\",VLOOKUP(($B$2&\"_\"&$A41),'Time Entry Sheet'!$A$3:$I$499,9,FALSE)*1))","v":""},"",{"$f":"IF(IFERROR(VLOOKUP(($B$2&\"_\"&$A41),'Time Entry Sheet'!$A$3:$I$499,8,FALSE),\"Error\")=\"Error\",\"\",IF(VLOOKUP(($B$2&\"_\"&$A41),'Time Entry Sheet'!$A$3:$I$499,8,FALSE)=\"\",\"\",VLOOKUP(($B$2&\"_\"&$A41),'Time Entry Sheet'!$A$3:$I$499,8,FALSE)))","v":""},{"$f":"IF(IFERROR(VLOOKUP(($B$2&\"_\"&$A41),'Time Entry Sheet'!$A$3:$I$499,7,FALSE),\"Error\")=\"Error\",\"\",IF(VLOOKUP(($B$2&\"_\"&$A41),'Time Entry Sheet'!$A$3:$I$499,7,FALSE)=\"\",\"\",VLOOKUP(($B$2&\"_\"&$A41),'Time Entry Sheet'!$A$3:$I$499,7,FALSE)))","v":""},"00:01:12.100","00:01:12.100",20,{"$f":"IF(A41=\"\",\"\",M41+VLOOKUP(A41,'Test 2'!$A$12:$Q$51,16,FALSE))","v":"00:03:50.840"},20,null,"","00:03:50.840"]
[31,{"$f":"IF($A42=\"\",\"\",IF(VLOOKUP($A42,Competitors!$A$2:$G$60,2,FALSE)=\"\",\"\",VLOOKUP($A42,Competitors!$A$2:$G$60,2,FALSE)))","v":""},{"$f":"IF($A42=\"\",\"\",IF(VLOOKUP($A42,Competitors!$A$2:$G$60,7,FALSE)=\"\",\"\",VLOOKUP($A42,Competitors!$A$2:$G$60,7,FALSE)))","v":""},{"$f":"IF($A42=\"\",\"\",IF(VLOOKUP($A42,Competitors!$A$2:$G$60,5,FALSE)=\"\",\"\",VLOOKUP($A42,Competitors!$A$2:$G$60,5,FALSE)))","v":""},{"$f":"IF($A42=\"\",\"\",IF(VLOOKUP($A42,Competitors!$A$2:$G$60,6,FALSE)=\"\",\"\",VLOOKUP($A42,Competitors!$A$2:$G$60,6,FALSE)))","v":"senior"},{"$f":"IF($A42=\"\",\"\",IF(VLOOKUP($A42,Competitors!$A$2:$G$60,3,FALSE)=\"\",\"\",VLOOKUP($A42,Competitors!$A$2:$G$60,3,FALSE)))","v":""},{"$f":"IF($A42=\"\",\"\",IF(VLOOKUP($A42,Competitors!$A$2:$G$60,4,FALSE)=\"\",\"\",VLOOKUP($A42,Competitors!$A$2:$G$60,4,FALSE)))","v":""},{"$f":"IF(VLOOKUP(A42,Competitors!$A$1:$H$41,8,FALSE)=\"\",\"\",VLOOKUP(A42,Competitors!$A$1:$H$41,8,FALSE))","v":""},{"$f":"IF(IFERROR(VLOOKUP(($B$2&\"_\"&$A42),'Time Entry Sheet'!$A$3:$I$499,9,0),\"Error\")=\"Error\",\"\",IF(VLOOKUP(($B$2&\"_\"&$A42),'Time Entry Sheet'!$A$3:$I$499,9,FALSE)=\"wd\",\"wd\",VLOOKUP(($B$2&\"_\"&$A42),'Time Entry Sheet'!$A$3:$I$499,9,FALSE)*1))","v":""},"",{"$f":"IF(IFERROR(VLOOKUP(($B$2&\"_\"&$A42),'Time Entry Sheet'!$A$3:$I$499,8,FALSE),\"Error\")=\"Error\",\"\",IF(VLOOKUP(($B$2&\"_\"&$A42),'Time Entry Sheet'!$A$3:$I$499,8,FALSE)=\"\",\"\",VLOOKUP(($B$2&\"_\"&$A42),'Time Entry Sheet'!$A$3:$I$499,8,FALSE)))","v":""},{"$f":"IF(IFERROR(VLOOKUP(($B$2&\"_\"&$A42),'Time Entry Sheet'!$A$3:$I$499,7,FALSE),\"Error\")=\"Error\",\"\",IF(VLOOKUP(($B$2&\"_\"&$A42),'Time Entry Sheet'!$A$3:$I$499,7,FALSE)=\"\",\"\",VLOOKUP(($B$2&\"_\"&$A42),'Time Entry Sheet'!$A$3:$I$499,7,FALSE)))","v":""},"00:01:12.100","00:01:12.100",20,{"$f":"IF(A42=\"\",\"\",M42+VLOOKUP(A42,'Test 2'!$A$12:$Q$51,16,FALSE))","v":"00:03:50.840"},20,null,"","00:03:50.840"]
[32,{"$f":"IF($A43=\"\",\"\",IF(VLOOKUP($A43,Competitors!$A$2:$G$60,2,FALSE)=\"\",\"\",VLOOKUP($A43,Competitors!$A$2:$G$60,2,FALSE)))","v":""},{"$f":"IF($A43=\"\",\"\",IF(VLOOKUP($A43,Competitors!$A$2:$G$60,7,FALSE)=\"\",\"\",VLOOKUP($A43,Competitors!$A$2:$G$60,7,FALSE)))","v":""},{"$f":"IF($A43=\"\",\"\",IF(VLOOKUP($A43,Competitors!$A$2:$G$60,5,FALSE)=\"\",\"\",VLOOKUP($A43,Competitors!$A$2:$G$60,5,FALSE)))","v":""},{"$f":"IF($A43=\"\",\"\",IF(VLOOKUP($A43,Competitors!$A$2:$G$60,6,FALSE)=\"\",\"\",VLOOKUP($A43,Competitors!$A$2:$G$60,6,FALSE)))","v":"senior"},{"$f":"IF($A43=\"\",\"\",IF(VLOOKUP($A43,Competitors!$A$2:$G$60,3,FALSE)=\"\",\"\",VLOOKUP($A43,Competitors!$A$2:$G$60,3,FALSE)))","v":""},{"$f":"IF($A43=\"\",\"\",IF(VLOOKUP($A43,Competitors!$A$2:$G$60,4,FALSE)=\"\",\"\",VLOOKUP($A43,Competitors!$A$2:$G$60,4,FALSE)))","v":""},{"$f":"IF(VLOOKUP(A43,Competitors!$A$1:$H$41,8,FALSE)=\"\",\"\",VLOOKUP(A43,Competitors!$A$1:$H$41,8,FALSE))","v":""},{"$f":"IF(IFERROR(VLOOKUP(($B$2&\"_\"&$A43),'Time Entry Sheet'!$A$3:$I$499,9,0),\"Error\")=\"Error\",\"\",IF(VLOOKUP(($B$2&\"_\"&$A43),'Time Entry Sheet'!$A$3:$I$499,9,FALSE)=\"wd\",\"wd\",VLOOKUP(($B$2&\"_\"&$A43),'Time Entry Sheet'!$A$3:$I$499,9,FALSE)*1))","v":""},"",{"$f":"IF(IFERROR(VLOOKUP(($B$2&\"_\"&$A43),'Time Entry Sheet'!$A$3:$I$499,8,FALSE),\"Error\")=\"Error\",\"\",IF(VLOOKUP(($B$2&\"_\"&$A43),'Time Entry Sheet'!$A$3:$I$499,8,FALSE)=\"\",\"\",VLOOKUP(($B$2&\"_\"&$A43),'Time Entry Sheet'!$A$3:$I$499,8,FALSE)))","v":""},{"$f":"IF(IFERROR(VLOOKUP(($B$2&\"_\"&$A43),'Time Entry Sheet'!$A$3:$I$499,7,FALSE),\"Error\")=\"Error\",\"\",IF(VLOOKUP(($B$2&\"_\"&$A43),'Time Entry Sheet'!$A$3:$I$499,7,FALSE)=\"\",\"\",VLOOKUP(($B$2&\"_\"&$A43),'Time Entry Sheet'!$A$3:$I$499,7,FALSE)))","v":""},"00:01:12.100","00:01:12.100",20,{"$f":"IF(A43=\"\",\"\",M43+VLOOKUP(A43,'Test 2'!$A$12:$Q$51,16,FALSE))","v":"00:03:50.840"},20,null,"","00:03:50.840"]
[33,{"$f":"IF($A44=\"\",\"\",IF(VLOOKUP($A44,Competitors!$A$2:$G$60,2,FALSE)=\"\",\"\",VLOOKUP($A44,Competitors!$A$2:$G$60,2,FALSE)))","v":""},{"$f":"IF($A44=\"\",\"\",IF(VLOOKUP($A44,Competitors!$A$2:$G$60,7,FALSE)=\"\",\"\",VLOOKUP($A44,Competitors!$A$2:$G$60,7,FALSE)))","v":""},{"$f":"IF($A44=\"\",\"\",IF(VLOOKUP($A44,Competitors!$A$2:$G$60,5,FALSE)=\"\",\"\",VLOOKUP($A44,Competitors!$A$2:$G$60,5,FALSE)))","v":""},{"$f":"IF($A44=\"\",\"\",IF(VLOOKUP($A44,Competitors!$A$2:$G$60,6,FALSE)=\"\",\"\",VLOOKUP($A44,Competitors!$A$2:$G$60,6,FALSE)))","v":"senior"},{"$f":"IF($A44=\"\",\"\",IF(VLOOKUP($A44,Competitors!$A$2:$G$60,3,FALSE)=\"\",\"\",VLOOKUP($A44,Competitors!$A$2:$G$60,3,FALSE)))","v":""},{"$f":"IF($A44=\"\",\"\",IF(VLOOKUP($A44,Competitors!$A$2:$G$60,4,FALSE)=\"\",\"\",VLOOKUP($A44,Competitors!$A$2:$G$60,4,FALSE)))","v":""},{"$f":"IF(VLOOKUP(A44,Competitors!$A$1:$H$41,8,FALSE)=\"\",\"\",VLOOKUP(A44,Competitors!$A$1:$H$41,8,FALSE))","v":""},{"$f":"IF(IFERROR(VLOOKUP(($B$2&\"_\"&$A44),'Time Entry Sheet'!$A$3:$I$499,9,0),\"Error\")=\"Error\",\"\",IF(VLOOKUP(($B$2&\"_\"&$A44),'Time Entry Sheet'!$A$3:$I$499,9,FALSE)=\"wd\",\"wd\",VLOOKUP(($B$2&\"_\"&$A44),'Time Entry Sheet'!$A$3:$I$499,9,FALSE)*1))","v":""},"",{"$f":"IF(IFERROR(VLOOKUP(($B$2&\"_\"&$A44),'Time Entry Sheet'!$A$3:$I$499,8,FALSE),\"Error\")=\"Error\",\"\",IF(VLOOKUP(($B$2&\"_\"&$A44),'Time Entry Sheet'!$A$3:$I$499,8,FALSE)=\"\",\"\",VLOOKUP(($B$2&\"_\"&$A44),'Time Entry Sheet'!$A$3:$I$499,8,FALSE)))","v":""},{"$f":"IF(IFERROR(VLOOKUP(($B$2&\"_\"&$A44),'Time Entry Sheet'!$A$3:$I$499,7,FALSE),\"Error\")=\"Error\",\"\",IF(VLOOKUP(($B$2&\"_\"&$A44),'Time Entry Sheet'!$A$3:$I$499,7,FALSE)=\"\",\"\",VLOOKUP(($B$2&\"_\"&$A44),'Time Entry Sheet'!$A$3:$I$499,7,FALSE)))","v":""},"00:01:12.100","00:01:12.100",20,{"$f":"IF(A44=\"\",\"\",M44+VLOOKUP(A44,'Test 2'!$A$12:$Q$51,16,FALSE))","v":"00:03:50.840"},20,null,"","00:03:50.840"]
[34,{"$f":"IF($A45=\"\",\"\",IF(VLOOKUP($A45,Competitors!$A$2:$G$60,2,FALSE)=\"\",\"\",VLOOKUP($A45,Competitors!$A$2:$G$60,2,FALSE)))","v":""},{"$f":"IF($A45=\"\",\"\",IF(VLOOKUP($A45,Competitors!$A$2:$G$60,7,FALSE)=\"\",\"\",VLOOKUP($A45,Competitors!$A$2:$G$60,7,FALSE)))","v":""},{"$f":"IF($A45=\"\",\"\",IF(VLOOKUP($A45,Competitors!$A$2:$G$60,5,FALSE)=\"\",\"\",VLOOKUP($A45,Competitors!$A$2:$G$60,5,FALSE)))","v":""},{"$f":"IF($A45=\"\",\"\",IF(VLOOKUP($A45,Competitors!$A$2:$G$60,6,FALSE)=\"\",\"\",VLOOKUP($A45,Competitors!$A$2:$G$60,6,FALSE)))","v":"senior"},{"$f":"IF($A45=\"\",\"\",IF(VLOOKUP($A45,Competitors!$A$2:$G$60,3,FALSE)=\"\",\"\",VLOOKUP($A45,Competitors!$A$2:$G$60,3,FALSE)))","v":""},{"$f":"IF($A45=\"\",\"\",IF(VLOOKUP($A45,Competitors!$A$2:$G$60,4,FALSE)=\"\",\"\",VLOOKUP($A45,Competitors!$A$2:$G$60,4,FALSE)))","v":""},{"$f":"IF(VLOOKUP(A45,Competitors!$A$1:$H$41,8,FALSE)=\"\",\"\",VLOOKUP(A45,Competitors!$A$1:$H$41,8,FALSE))","v":""},{"$f":"IF(IFERROR(VLOOKUP(($B$2&\"_\"&$A45),'Time Entry Sheet'!$A$3:$I$499,9,0),\"Error\")=\"Error\",\"\",IF(VLOOKUP(($B$2&\"_\"&$A45),'Time Entry Sheet'!$A$3:$I$499,9,FALSE)=\"wd\",\"wd\",VLOOKUP(($B$2&\"_\"&$A45),'Time Entry Sheet'!$A$3:$I$499,9,FALSE)*1))","v":""},"",{"$f":"IF(IFERROR(VLOOKUP(($B$2&\"_\"&$A45),'Time Entry Sheet'!$A$3:$I$499,8,FALSE),\"Error\")=\"Error\",\"\",IF(VLOOKUP(($B$2&\"_\"&$A45),'Time Entry Sheet'!$A$3:$I$499,8,FALSE)=\"\",\"\",VLOOKUP(($B$2&\"_\"&$A45),'Time Entry Sheet'!$A$3:$I$499,8,FALSE)))","v":""},{"$f":"IF(IFERROR(VLOOKUP(($B$2&\"_\"&$A45),'Time Entry Sheet'!$A$3:$I$499,7,FALSE),\"Error\")=\"Error\",\"\",IF(VLOOKUP(($B$2&\"_\"&$A45),'Time Entry Sheet'!$A$3:$I$499,7,FALSE)=\"\",\"\",VLOOKUP(($B$2&\"_\"&$A45),'Time Entry Sheet'!$A$3:$I$499,7,FALSE)))","v":""},"00:01:12.100","00:01:12.100",20,{"$f":"IF(A45=\"\",\"\",M45+VLOOKUP(A45,'Test 2'!$A$12:$Q$51,16,FALSE))","v":"00:03:50.840"},20,null,"","00:03:50.840"]
[35,{"$f":"IF($A46=\"\",\"\",IF(VLOOKUP($A46,Competitors!$A$2:$G$60,2,FALSE)=\"\",\"\",VLOOKUP($A46,Competitors!$A$2:$G$60,2,FALSE)))","v":""},{"$f":"IF($A46=\"\",\"\",IF(VLOOKUP($A46,Competitors!$A$2:$G$60,7,FALSE)=\"\",\"\",VLOOKUP($A46,Competitors!$A$2:$G$60,7,FALSE)))","v":""},{"$f":"IF($A46=\"\",\"\",IF(VLOOKUP($A46,Competitors!$A$2:$G$60,5,FALSE)=\"\",\"\",VLOOKUP($A46,Competitors!$A$2:$G$60,5,FALSE)))","v":""},{"$f":"IF($A46=\"\",\"\",IF(VLOOKUP($A46,Competitors!$A$2:$G$60,6,FALSE)=\"\",\"\",VLOOKUP($A46,Competitors!$A$2:$G$60,6,FALSE)))","v":"senior"},{"$f":"IF($A46=\"\",\"\",IF(VLOOKUP($A46,Competitors!$A$2:$G$60,3,FALSE)=\"\",\"\",VLOOKUP($A46,Competitors!$A$2:$G$60,3,FALSE)))","v":""},{"$f":"IF($A46=\"\",\"\",IF(VLOOKUP($A46,Competitors!$A$2:$G$60,4,FALSE)=\"\",\"\",VLOOKUP($A46,Competitors!$A$2:$G$60,4,FALSE)))","v":""},{"$f":"IF(VLOOKUP(A46,Competitors!$A$1:$H$41,8,FALSE)=\"\",\"\",VLOOKUP(A46,Competitors!$A$1:$H$41,8,FALSE))","v":""},{"$f":"IF(IFERROR(VLOOKUP(($B$2&\"_\"&$A46),'Time Entry Sheet'!$A$3:$I$499,9,0),\"Error\")=\"Error\",\"\",IF(VLOOKUP(($B$2&\"_\"&$A46),'Time Entry Sheet'!$A$3:$I$499,9,FALSE)=\"wd\",\"wd\",VLOOKUP(($B$2&\"_\"&$A46),'Time Entry Sheet'!$A$3:$I$499,9,FALSE)*1))","v":""},"",{"$f":"IF(IFERROR(VLOOKUP(($B$2&\"_\"&$A46),'Time Entry Sheet'!$A$3:$I$499,8,FALSE),\"Error\")=\"Error\",\"\",IF(VLOOKUP(($B$2&\"_\"&$A46),'Time Entry Sheet'!$A$3:$I$499,8,FALSE)=\"\",\"\",VLOOKUP(($B$2&\"_\"&$A46),'Time Entry Sheet'!$A$3:$I$499,8,FALSE)))","v":""},{"$f":"IF(IFERROR(VLOOKUP(($B$2&\"_\"&$A46),'Time Entry Sheet'!$A$3:$I$499,7,FALSE),\"Error\")=\"Error\",\"\",IF(VLOOKUP(($B$2&\"_\"&$A46),'Time Entry Sheet'!$A$3:$I$499,7,FALSE)=\"\",\"\",VLOOKUP(($B$2&\"_\"&$A46),'Time Entry Sheet'!$A$3:$I$499,7,FALSE)))","v":""},"00:01:12.100","00:01:12.100",20,{"$f":"IF(A46=\"\",\"\",M46+VLOOKUP(A46,'Test 2'!$A$12:$Q$51,16,FALSE))","v":"00:03:50.840"},20,null,"","00:03:50.840"]
[36,{"$f":"IF($A47=\"\",\"\",IF(VLOOKUP($A47,Competitors!$A$2:$G$60,2,FALSE)=\"\",\"\",VLOOKUP($A47,Competitors!$A$2:$G$60,2,FALSE)))","v":""},{"$f":"IF($A47=\"\",\"\",IF(VLOOKUP($A47,Competitors!$A$2:$G$60,7,FALSE)=\"\",\"\",VLOOKUP($A47,Competitors!$A$2:$G$60,7,FALSE)))","v":""},{"$f":"IF($A47=\"\",\"\",IF(VLOOKUP($A47,Competitors!$A$2:$G$60,5,FALSE)=\"\",\"\",VLOOKUP($A47,Competitors!$A$2:$G$60,5,FALSE)))","v":""},{"$f":"IF($A47=\"\",\"\",IF(VLOOKUP($A47,Competitors!$A$2:$G$60,6,FALSE)=\"\",\"\",VLOOKUP($A47,Competitors!$A$2:$G$60,6,FALSE)))","v":"senior"},{"$f":"IF($A47=\"\",\"\",IF(VLOOKUP($A47,Competitors!$A$2:$G$60,3,FALSE)=\"\",\"\",VLOOKUP($A47,Competitors!$A$2:$G$60,3,FALSE)))","v":""},{"$f":"IF($A47=\"\",\"\",IF(VLOOKUP($A47,Competitors!$A$2:$G$60,4,FALSE)=\"\",\"\",VLOOKUP($A47,Competitors!$A$2:$G$60,4,FALSE)))","v":""},{"$f":"IF(VLOOKUP(A47,Competitors!$A$1:$H$41,8,FALSE)=\"\",\"\",VLOOKUP(A47,Competitors!$A$1:$H$41,8,FALSE))","v":""},{"$f":"IF(IFERROR(VLOOKUP(($B$2&\"_\"&$A47),'Time Entry Sheet'!$A$3:$I$499,9,0),\"Error\")=\"Error\",\"\",IF(VLOOKUP(($B$2&\"_\"&$A47),'Time Entry Sheet'!$A$3:$I$499,9,FALSE)=\"wd\",\"wd\",VLOOKUP(($B$2&\"_\"&$A47),'Time Entry Sheet'!$A$3:$I$499,9,FALSE)*1))","v":""},"",{"$f":"IF(IFERROR(VLOOKUP(($B$2&\"_\"&$A47),'Time Entry Sheet'!$A$3:$I$499,8,FALSE),\"Error\")=\"Error\",\"\",IF(VLOOKUP(($B$2&\"_\"&$A47),'Time Entry Sheet'!$A$3:$I$499,8,FALSE)=\"\",\"\",VLOOKUP(($B$2&\"_\"&$A47),'Time Entry Sheet'!$A$3:$I$499,8,FALSE)))","v":""},{"$f":"IF(IFERROR(VLOOKUP(($B$2&\"_\"&$A47),'Time Entry Sheet'!$A$3:$I$499,7,FALSE),\"Error\")=\"Error\",\"\",IF(VLOOKUP(($B$2&\"_\"&$A47),'Time Entry Sheet'!$A$3:$I$499,7,FALSE)=\"\",\"\",VLOOKUP(($B$2&\"_\"&$A47),'Time Entry Sheet'!$A$3:$I$499,7,FALSE)))","v":""},"00:01:12.100","00:01:12.100",20,{"$f":"IF(A47=\"\",\"\",M47+VLOOKUP(A47,'Test 2'!$A$12:$Q$51,16,FALSE))","v":"00:03:50.840"},20,null,"","00:03:50.840"]
[37,{"$f":"IF($A48=\"\",\"\",IF(VLOOKUP($A48,Competitors!$A$2:$G$60,2,FALSE)=\"\",\"\",VLOOKUP($A48,Competitors!$A$2:$G$60,2,FALSE)))","v":""},{"$f":"IF($A48=\"\",\"\",IF(VLOOKUP($A48,Competitors!$A$2:$G$60,7,FALSE)=\"\",\"\",VLOOKUP($A48,Competitors!$A$2:$G$60,7,FALSE)))","v":""},{"$f":"IF($A48=\"\",\"\",IF(VLOOKUP($A48,Competitors!$A$2:$G$60,5,FALSE)=\"\",\"\",VLOOKUP($A48,Competitors!$A$2:$G$60,5,FALSE)))","v":""},{"$f":"IF($A48=\"\",\"\",IF(VLOOKUP($A48,Competitors!$A$2:$G$60,6,FALSE)=\"\",\"\",VLOOKUP($A48,Competitors!$A$2:$G$60,6,FALSE)))","v":"senior"},{"$f":"IF($A48=\"\",\"\",IF(VLOOKUP($A48,Competitors!$A$2:$G$60,3,FALSE)=\"\",\"\",VLOOKUP($A48,Competitors!$A$2:$G$60,3,FALSE)))","v":""},{"$f":"IF($A48=\"\",\"\",IF(VLOOKUP($A48,Competitors!$A$2:$G$60,4,FALSE)=\"\",\"\",VLOOKUP($A48,Competitors!$A$2:$G$60,4,FALSE)))","v":""},{"$f":"IF(VLOOKUP(A48,Competitors!$A$1:$H$41,8,FALSE)=\"\",\"\",VLOOKUP(A48,Competitors!$A$1:$H$41,8,FALSE))","v":""},{"$f":"IF(IFERROR(VLOOKUP(($B$2&\"_\"&$A48),'Time Entry Sheet'!$A$3:$I$499,9,0),\"Error\")=\"Error\",\"\",IF(VLOOKUP(($B$2&\"_\"&$A48),'Time Entry Sheet'!$A$3:$I$499,9,FALSE)=\"wd\",\"wd\",VLOOKUP(($B$2&\"_\"&$A48),'Time Entry Sheet'!$A$3:$I$499,9,FALSE)*1))","v":""},"",{"$f":"IF(IFERROR(VLOOKUP(($B$2&\"_\"&$A48),'Time Entry Sheet'!$A$3:$I$499,8,FALSE),\"Error\")=\"Error\",\"\",IF(VLOOKUP(($B$2&\"_\"&$A48),'Time Entry Sheet'!$A$3:$I$499,8,FALSE)=\"\",\"\",VLOOKUP(($B$2&\"_\"&$A48),'Time Entry Sheet'!$A$3:$I$499,8,FALSE)))","v":""},{"$f":"IF(IFERROR(VLOOKUP(($B$2&\"_\"&$A48),'Time Entry Sheet'!$A$3:$I$499,7,FALSE),\"Error\")=\"Error\",\"\",IF(VLOOKUP(($B$2&\"_\"&$A48),'Time Entry Sheet'!$A$3:$I$499,7,FALSE)=\"\",\"\",VLOOKUP(($B$2&\"_\"&$A48),'Time Entry Sheet'!$A$3:$I$499,7,FALSE)))","v":""},"00:01:12.100","00:01:12.100",20,{"$f":"IF(A48=\"\",\"\",M48+VLOOKUP(A48,'Test 2'!$A$12:$Q$51,16,FALSE))","v":"00:03:50.840"},20,null,"","00:03:50.840"]
[38,{"$f":"IF($A49=\"\",\"\",IF(VLOOKUP($A49,Competitors!$A$2:$G$60,2,FALSE)=\"\",\"\",VLOOKUP($A49,Competitors!$A$2:$G$60,2,FALSE)))","v":""},{"$f":"IF($A49=\"\",\"\",IF(VLOOKUP($A49,Competitors!$A$2:$G$60,7,FALSE)=\"\",\"\",VLOOKUP($A49,Competitors!$A$2:$G$60,7,FALSE)))","v":""},{"$f":"IF($A49=\"\",\"\",IF(VLOOKUP($A49,Competitors!$A$2:$G$60,5,FALSE)=\"\",\"\",VLOOKUP($A49,Competitors!$A$2:$G$60,5,FALSE)))","v":""},{"$f":"IF($A49=\"\",\"\",IF(VLOOKUP($A49,Competitors!$A$2:$G$60,6,FALSE)=\"\",\"\",VLOOKUP($A49,Competitors!$A$2:$G$60,6,FALSE)))","v":"senior"},{"$f":"IF($A49=\"\",\"\",IF(VLOOKUP($A49,Competitors!$A$2:$G$60,3,FALSE)=\"\",\"\",VLOOKUP($A49,Competitors!$A$2:$G$60,3,FALSE)))","v":""},{"$f":"IF($A49=\"\",\"\",IF(VLOOKUP($A49,Competitors!$A$2:$G$60,4,FALSE)=\"\",\"\",VLOOKUP($A49,Competitors!$A$2:$G$60,4,FALSE)))","v":""},{"$f":"IF(VLOOKUP(A49,Competitors!$A$1:$H$41,8,FALSE)=\"\",\"\",VLOOKUP(A49,Competitors!$A$1:$H$41,8,FALSE))","v":""},{"$f":"IF(IFERROR(VLOOKUP(($B$2&\"_\"&$A49),'Time Entry Sheet'!$A$3:$I$499,9,0),\"Error\")=\"Error\",\"\",IF(VLOOKUP(($B$2&\"_\"&$A49),'Time Entry Sheet'!$A$3:$I$499,9,FALSE)=\"wd\",\"wd\",VLOOKUP(($B$2&\"_\"&$A49),'Time Entry Sheet'!$A$3:$I$499,9,FALSE)*1))","v":""},"",{"$f":"IF(IFERROR(VLOOKUP(($B$2&\"_\"&$A49),'Time Entry Sheet'!$A$3:$I$499,8,FALSE),\"Error\")=\"Error\",\"\",IF(VLOOKUP(($B$2&\"_\"&$A49),'Time Entry Sheet'!$A$3:$I$499,8,FALSE)=\"\",\"\",VLOOKUP(($B$2&\"_\"&$A49),'Time Entry Sheet'!$A$3:$I$499,8,FALSE)))","v":""},{"$f":"IF(IFERROR(VLOOKUP(($B$2&\"_\"&$A49),'Time Entry Sheet'!$A$3:$I$499,7,FALSE),\"Error\")=\"Error\",\"\",IF(VLOOKUP(($B$2&\"_\"&$A49),'Time Entry Sheet'!$A$3:$I$499,7,FALSE)=\"\",\"\",VLOOKUP(($B$2&\"_\"&$A49),'Time Entry Sheet'!$A$3:$I$499,7,FALSE)))","v":""},"00:01:12.100","00:01:12.100",20,{"$f":"IF(A49=\"\",\"\",M49+VLOOKUP(A49,'Test 2'!$A$12:$Q$51,16,FALSE))","v":"00:03:50.840"},20,null,"","00:03:50.840"]
[39,{"$f":"IF($A50=\"\",\"\",IF(VLOOKUP($A50,Competitors!$A$2:$G$60,2,FALSE)=\"\",\"\",VLOOKUP($A50,Competitors!$A$2:$G$60,2,FALSE)))","v":""},{"$f":"IF($A50=\"\",\"\",IF(VLOOKUP($A50,Competitors!$A$2:$G$60,7,FALSE)=\"\",\"\",VLOOKUP($A50,Competitors!$A$2:$G$60,7,FALSE)))","v":""},{"$f":"IF($A50=\"\",\"\",IF(VLOOKUP($A50,Competitors!$A$2:$G$60,5,FALSE)=\"\",\"\",VLOOKUP($A50,Competitors!$A$2:$G$60,5,FALSE)))","v":""},{"$f":"IF($A50=\"\",\"\",IF(VLOOKUP($A50,Competitors!$A$2:$G$60,6,FALSE)=\"\",\"\",VLOOKUP($A50,Competitors!$A$2:$G$60,6,FALSE)))","v":"senior"},{"$f":"IF($A50=\"\",\"\",IF(VLOOKUP($A50,Competitors!$A$2:$G$60,3,FALSE)=\"\",\"\",VLOOKUP($A50,Competitors!$A$2:$G$60,3,FALSE)))","v":""},{"$f":"IF($A50=\"\",\"\",IF(VLOOKUP($A50,Competitors!$A$2:$G$60,4,FALSE)=\"\",\"\",VLOOKUP($A50,Competitors!$A$2:$G$60,4,FALSE)))","v":""},{"$f":"IF(VLOOKUP(A50,Competitors!$A$1:$H$41,8,FALSE)=\"\",\"\",VLOOKUP(A50,Competitors!$A$1:$H$41,8,FALSE))","v":""},{"$f":"IF(IFERROR(VLOOKUP(($B$2&\"_\"&$A50),'Time Entry Sheet'!$A$3:$I$499,9,0),\"Error\")=\"Error\",\"\",IF(VLOOKUP(($B$2&\"_\"&$A50),'Time Entry Sheet'!$A$3:$I$499,9,FALSE)=\"wd\",\"wd\",VLOOKUP(($B$2&\"_\"&$A50),'Time Entry Sheet'!$A$3:$I$499,9,FALSE)*1))","v":""},"",{"$f":"IF(IFERROR(VLOOKUP(($B$2&\"_\"&$A50),'Time Entry Sheet'!$A$3:$I$499,8,FALSE),\"Error\")=\"Error\",\"\",IF(VLOOKUP(($B$2&\"_\"&$A50),'Time Entry Sheet'!$A$3:$I$499,8,FALSE)=\"\",\"\",VLOOKUP(($B$2&\"_\"&$A50),'Time Entry Sheet'!$A$3:$I$499,8,FALSE)))","v":""},{"$f":"IF(IFERROR(VLOOKUP(($B$2&\"_\"&$A50),'Time Entry Sheet'!$A$3:$I$499,7,FALSE),\"Error\")=\"Error\",\"\",IF(VLOOKUP(($B$2&\"_\"&$A50),'Time Entry Sheet'!$A$3:$I$499,7,FALSE)=\"\",\"\",VLOOKUP(($B$2&\"_\"&$A50),'Time Entry Sheet'!$A$3:$I$499,7,FALSE)))","v":""},"00:01:12.100","00:01:12.100",20,{"$f":"IF(A50=\"\",\"\",M50+VLOOKUP(A50,'Test 2'!$A$12:$Q$51,16,FALSE))","v":"00:03:50.840"},20,null,null,"00:03:50.840"]
[40,{"$f":"IF($A51=\"\",\"\",IF(VLOOKUP($A51,Competitors!$A$2:$G$60,2,FALSE)=\"\",\"\",VLOOKUP($A51,Competitors!$A$2:$G$60,2,FALSE)))","v":""},{"$f":"IF($A51=\"\",\"\",IF(VLOOKUP($A51,Competitors!$A$2:$G$60,7,FALSE)=\"\",\"\",VLOOKUP($A51,Competitors!$A$2:$G$60,7,FALSE)))","v":""},{"$f":"IF($A51=\"\",\"\",IF(VLOOKUP($A51,Competitors!$A$2:$G$60,5,FALSE)=\"\",\"\",VLOOKUP($A51,Competitors!$A$2:$G$60,5,FALSE)))","v":""},{"$f":"IF($A51=\"\",\"\",IF(VLOOKUP($A51,Competitors!$A$2:$G$60,6,FALSE)=\"\",\"\",VLOOKUP($A51,Competitors!$A$2:$G$60,6,FALSE)))","v":"senior"},{"$f":"IF($A51=\"\",\"\",IF(VLOOKUP($A51,Competitors!$A$2:$G$60,3,FALSE)=\"\",\"\",VLOOKUP($A51,Competitors!$A$2:$G$60,3,FALSE)))","v":""},{"$f":"IF($A51=\"\",\"\",IF(VLOOKUP($A51,Competitors!$A$2:$G$60,4,FALSE)=\"\",\"\",VLOOKUP($A51,Competitors!$A$2:$G$60,4,FALSE)))","v":""},{"$f":"IF(VLOOKUP(A51,Competitors!$A$1:$H$41,8,FALSE)=\"\",\"\",VLOOKUP(A51,Competitors!$A$1:$H$41,8,FALSE))","v":""},{"$f":"IF(IFERROR(VLOOKUP(($B$2&\"_\"&$A51),'Time Entry Sheet'!$A$3:$I$499,9,0),\"Error\")=\"Error\",\"\",IF(VLOOKUP(($B$2&\"_\"&$A51),'Time Entry Sheet'!$A$3:$I$499,9,FALSE)=\"wd\",\"wd\",VLOOKUP(($B$2&\"_\"&$A51),'Time Entry Sheet'!$A$3:$I$499,9,FALSE)*1))","v":""},{"$f":"IF(E51=\"Junior\",\"\",IF(I51=\"wd\",\"\",IF(K51<>\"\",\"\",I51)))","v":""},{"$f":"IF(IFERROR(VLOOKUP(($B$2&\"_\"&$A51),'Time Entry Sheet'!$A$3:$I$499,8,FALSE),\"Error\")=\"Error\",\"\",IF(VLOOKUP(($B$2&\"_\"&$A51),'Time Entry Sheet'!$A$3:$I$499,8,FALSE)=\"\",\"\",VLOOKUP(($B$2&\"_\"&$A51),'Time Entry Sheet'!$A$3:$I$499,8,FALSE)))","v":""},{"$f":"IF(IFERROR(VLOOKUP(($B$2&\"_\"&$A51),'Time Entry Sheet'!$A$3:$I$499,7,FALSE),\"Error\")=\"Error\",\"\",IF(VLOOKUP(($B$2&\"_\"&$A51),'Time Entry Sheet'!$A$3:$I$499,7,FALSE)=\"\",\"\",VLOOKUP(($B$2&\"_\"&$A51),'Time Entry Sheet'!$A$3:$I$499,7,FALSE)))","v":""},{"$f":"IF(A51=\"\",\"\",IF(I51=\"wd\",IF(E51=\"Senior\",$B$7,$C$7),IF(L51<>\"\",$B$7,IF(I51=\"\",IF(E51=\"Senior\",$B$8,$C$8),IF(K51=\"\",I51,I51+($B$5*K51))))))","v":"00:01:12.100"},"00:01:12.100",20,{"$f":"IF(A51=\"\",\"\",M51+VLOOKUP(A51,'Test 2'!$A$12:$Q$51,16,FALSE))","v":"00:03:50.840"},20,null,null,"00:03:50.840"]

{"sheet":"Test 4","index":21,"n_rows":51,"n_cols":20,"rows_kept":51,"cut":false,"hidden":false,"merged":[[0,8,0,10]]}
[]
["TEST",4,null,null,null,null,null,null,null,null,"PROVISIONAL RESULTS",null,{"$f":"NOW()","v":42690.814244444446},null,{"$f":"NOW()","v":"2016-11-16T19:32:30.720"}]
["Date:","2015-10-31",null,null,null,null,null,null,null,null,null,"Junior",{"$f":"MIN( IF( $E$8:$E$51=L3, $S$8:$S$51 ) )","v":"00:00:00"},null,"FASTEST"]
["10 sec penalty","00:00:10",null,null,null,null,null,null,null,null,null,"Junior",{"$f":"MAX( IF( $E$8:$E$51=L4, $S$8:$S$51 ) )","v":"00:00:00"},null,"SLOWEST"]
["Flag penalty","00:00:05",null,null,null,null,"SENIOR"]
[null,null,null,null,null,null,"Fastest test time x 2",null,{"$f":"M6*2","v":"00:01:34.880"},null,null,"Senior",{"$f":"MIN( IF( E11:E51=L6, J11:J51 ) )","v":"00:00:47.440"},null,"FASTEST"]
["Slowest test time + 5 second penalty",{"$f":"MIN($I$6,$I$7)+$B$5","v":"00:01:11.740"},{"$f":"MIN($I$9:$I$10)+$B$5","v":"00:00:05"},null,null,null,"Slowest test time",null,{"$f":"M7","v":"00:01:06.740"},null,null,"Senior",{"$f":"MAX( IF( E11:E51=L7, J11:J51 ) )","v":"00:01:06.740"},null,"SLOWEST"]
["Failure to Attempt Course (Slowest time + 10 sec)",{"$f":"SUM($I$7,$B$4)","v":"00:01:16.740"},{"$f":"SUM($I$10,$B$4)","v":"00:00:10"},null,null,null,"JUNIOR"]
[null,null,null,null,null,null,"Fastest test time x 2",null,{"$f":"M3*2","v":"00:00:00"}]
[null,null,null,null,null,null,"Slowest test time",null,{"$f":"M4","v":"00:00:00"}]
["Car Number","Driver","Rookie?","Female Driver?","Junior Driver?","Vehicle","Class","Senior with Passenger?","Time Taken (MM:SS.00)","Time Taken-PenaltyCalculator (MM:SS.00)","No. of Flags &/or Finishes partly out of garage","Slowest time + 5 sec penalty type","Total Test 4 Time","Total Test 1 Time for ranking","Test 4 Position","Cumulative Time Taken (MM:SS.00)","Cumulative Outright Position","Comments","Time Taken-PenaltyCalculator Junior(MM:SS.00)","Cumulative Time Taken (MM:SS.00) for ranking"]
[1,{"$f":"IF($A12=\"\",\"\",IF(VLOOKUP($A12,Competitors!$A$2:$G$60,2,FALSE)=\"\",\"\",VLOOKUP($A12,Competitors!$A$2:$G$60,2,FALSE)))","v":"Paul Dunn"},{"$f":"IF($A12=\"\",\"\",IF(VLOOKUP($A12,Competitors!$A$2:$G$60,7,FALSE)=\"\",\"\",VLOOKUP($A12,Competitors!$A$2:$G$60,7,FALSE)))","v":""},{"$f":"IF($A12=\"\",\"\",IF(VLOOKUP($A12,Competitors!$A$2:$G$60,5,FALSE)=\"\",\"\",VLOOKUP($A12,Competitors!$A$2:$G$60,5,FALSE)))","v":""},{"$f":"IF($A12=\"\",\"\",IF(VLOOKUP($A12,Competitors!$A$2:$G$60,6,FALSE)=\"\",\"\",VLOOKUP($A12,Competitors!$A$2:$G$60,6,FALSE)))","v":"senior"},{"$f":"IF($A12=\"\",\"\",IF(VLOOKUP($A12,Competitors!$A$2:$G$60,3,FALSE)=\"\",\"\",VLOOKUP($A12,Competitors!$A$2:$G$60,3,FALSE)))","v":"Excel"},{"$f":"IF($A12=\"\",\"\",IF(VLOOKUP($A12,Competitors!$A$2:$G$60,4,FALSE)=\"\",\"\",VLOOKUP($A12,Competitors!$A$2:$G$60,4,FALSE)))","v":""},{"$f":"IF(VLOOKUP(A12,Competitors!$A$1:$H$41,8,FALSE)=\"\",\"\",VLOOKUP(A12,Competitors!$A$1:$H$41,8,FALSE))","v":""},{"$f":"IF(IFERROR(VLOOKUP(($B$2&\"_\"&$A12),'Time Entry Sheet'!$A$3:$I$499,9,0),\"Error\")=\"Error\",\"\",IF(VLOOKUP(($B$2&\"_\"&$A12),'Time Entry Sheet'!$A$3:$I$499,9,FALSE)=\"wd\",\"wd\",VLOOKUP(($B$2&\"_\"&$A12),'Time Entry Sheet'!$A$3:$I$499,9,FALSE)*1))","v":"00:00:52.270"},{"$f":"IF(E12=\"Junior\",\"\",IF(I12=\"wd\",\"\",IF(K12<>\"\",\"\",I12)))","v":""},{"$f":"IF(IFERROR(VLOOKUP(($B$2&\"_\"&$A12),'Time Entry Sheet'!$A$3:$I$499,8,FALSE),\"Error\")=\"Error\",\"\",IF(VLOOKUP(($B$2&\"_\"&$A12),'Time Entry Sheet'!$A$3:$I$499,8,FALSE)=\"\",\"\",VLOOKUP(($B$2&\"_\"&$A12),'Time Entry Sheet'!$A$3:$I$499,8,FALSE)))","v":1},{"$f":"IF(IFERROR(VLOOKUP(($B$2&\"_\"&$A12),'Time Entry Sheet'!$A$3:$I$499,7,FALSE),\"Error\")=\"Error\",\"\",IF(VLOOKUP(($B$2&\"_\"&$A12),'Time Entry Sheet'!$A$3:$I$499,7,FALSE)=\"\",\"\",VLOOKUP(($B$2&\"_\"&$A12),'Time Entry Sheet'!$A$3:$I$499,7,FALSE)))","v":""},{"$f":"IF(A12=\"\",\"\",IF(I12=\"wd\",IF(E12=\"Senior\",$B$7,$C$7),IF(L12<>\"\",$B$7,IF(I12=\"\",IF(E12=\"Senior\",$B$8,$C$8),IF(K12=\"\",I12,I12+($B$5*K12))))))","v":"00:00:57.270"},{"$f":"IF(H12=\"Passenger\",\"\",M12)","v":"00:00:57.270"},{"$f":"IF(A12=\"\",\"\",IF(H12=\"Passenger\",\"P\",RANK(N12,$N$12:$N$51,1)))","v":13},{"$f":"IF(A12=\"\",\"\",M12+VLOOKUP(A12,'Test 3'!$A$12:$Q$51,16,FALSE))","v":"00:03:21.350"},{"$f":"IF(A12=\"\",\"\",IF(H12=\"Passenger\",\"P\",RANK(T12,$T$12:$T$51,1)))","v":3},null,{"$f":"IF(E12=\"Senior\",\"\",IF(I12=\"wd\",\"\",IF(K12<>\"\",\"\",I12)))","v":""},{"$f":"IF(H12=\"Passenger\",\"\",P12)","v":"00:03:21.350"}]
[2,{"$f":"IF($A13=\"\",\"\",IF(VLOOKUP($A13,Competitors!$A$2:$G$60,2,FALSE)=\"\",\"\",VLOOKUP($A13,Competitors!$A$2:$G$60,2,FALSE)))","v":"Stephen Thorne"},{"$f":"IF($A13=\"\",\"\",IF(VLOOKUP($A13,Competitors!$A$2:$G$60,7,FALSE)=\"\",\"\",VLOOKUP($A13,Competitors!$A$2:$G$60,7,FALSE)))","v":""},{"$f":"IF($A13=\"\",\"\",IF(VLOOKUP($A13,Competitors!$A$2:$G$60,5,FALSE)=\"\",\"\",VLOOKUP($A13,Competitors!$A$2:$G$60,5,FALSE)))","v":""},{"$f":"IF($A13=\"\",\"\",IF(VLOOKUP($A13,Competitors!$A$2:$G$60,6,FALSE)=\"\",\"\",VLOOKUP($A13,Competitors!$A$2:$G$60,6,FALSE)))","v":"senior"},{"$f":"IF($A13=\"\",\"\",IF(VLOOKUP($A13,Competitors!$A$2:$G$60,3,FALSE)=\"\",\"\",VLOOKUP($A13,Competitors!$A$2:$G$60,3,FALSE)))","v":""},{"$f":"IF($A13=\"\",\"\",IF(VLOOKUP($A13,Competitors!$A$2:$G$60,4,FALSE)=\"\",\"\",VLOOKUP($A13,Competitors!$A$2:$G$60,4,FALSE)))","v":""},{"$f":"IF(VLOOKUP(A13,Competitors!$A$1:$H$41,8,FALSE)=\"\",\"\",VLOOKUP(A13,Competitors!$A$1:$H$41,8,FALSE))","v":""},{"$f":"IF(IFERROR(VLOOKUP(($B$2&\"_\"&$A13),'Time Entry Sheet'!$A$3:$I$499,9,0),\"Error\")=\"Error\",\"\",IF(VLOOKUP(($B$2&\"_\"&$A13),'Time Entry Sheet'!$A$3:$I$499,9,FALSE)=\"wd\",\"wd\",VLOOKUP(($B$2&\"_\"&$A13),'Time Entry Sheet'!$A$3:$I$499,9,FALSE)*1))","v":"00:00:49.740"},"00:00:49.740",{"$f":"IF(IFERROR(VLOOKUP(($B$2&\"_\"&$A13),'Time Entry Sheet'!$A$3:$I$499,8,FALSE),\"Error\")=\"Error\",\"\",IF(VLOOKUP(($B$2&\"_\"&$A13),'Time Entry Sheet'!$A$3:$I$499,8,FALSE)=\"\",\"\",VLOOKUP(($B$2&\"_\"&$A13),'Time Entry Sheet'!$A$3:$I$499,8,FALSE)))","v":""},{"$f":"IF(IFERROR(VLOOKUP(($B$2&\"_\"&$A13),'Time Entry Sheet'!$A$3:$I$499,7,FALSE),\"Error\")=\"Error\",\"\",IF(VLOOKUP(($B$2&\"_\"&$A13),'Time Entry Sheet'!$A$3:$I$499,7,FALSE)=\"\",\"\",VLOOKUP(($B$2&\"_\"&$A13),'Time Entry Sheet'!$A$3:$I$499,7,FALSE)))","v":""},"00:00:49.740",{"$f":"IF(H13=\"Passenger\",\"\",M13)","v":"00:00:49.740"},{"$f":"IF(A13=\"\",\"\",IF(H13=\"Passenger\",\"P\",RANK(N13,$N$12:$N$51,1)))","v":2},{"$f":"IF(A13=\"\",\"\",M13+VLOOKUP(A13,'Test 3'!$A$12:$Q$51,16,FALSE))","v":"00:03:25.070"},{"$f":"IF(A13=\"\",\"\",IF(H13=\"Passenger\",\"P\",RANK(T13,$T$12:$T$51,1)))","v":5},null,"",{"$f":"IF(H13=\"Passenger\",\"\",P13)","v":"00:03:25.070"}]
[3,{"$f":"IF($A14=\"\",\"\",IF(VLOOKUP($A14,Competitors!$A$2:$G$60,2,FALSE)=\"\",\"\",VLOOKUP($A14,Competitors!$A$2:$G$60,2,FALSE)))","v":"David Ballard"},{"$f":"IF($A14=\"\",\"\",IF(VLOOKUP($A14,Competitors!$A$2:$G$60,7,FALSE)=\"\",\"\",VLOOKUP($A14,Competitors!$A$2:$G$60,7,FALSE)))","v":""},{"$f":"IF($A14=\"\",\"\",IF(VLOOKUP($A14,Competitors!$A$2:$G$60,5,FALSE)=\"\",\"\",VLOOKUP($A14,Competitors!$A$2:$G$60,5,FALSE)))","v":""},{"$f":"IF($A14=\"\",\"\",IF(VLOOKUP($A14,Competitors!$A$2:$G$60,6,FALSE)=\"\",\"\",VLOOKUP($A14,Competitors!$A$2:$G$60,6,FALSE)))","v":"senior"},{"$f":"IF($A14=\"\",\"\",IF(VLOOKUP($A14,Competitors!$A$2:$G$60,3,FALSE)=\"\",\"\",VLOOKUP($A14,Competitors!$A$2:$G$60,3,FALSE)))","v":""},{"$f":"IF($A14=\"\",\"\",IF(VLOOKUP($A14,Competitors!$A$2:$G$60,4,FALSE)=\"\",\"\",VLOOKUP($A14,Competitors!$A$2:$G$60,4,FALSE)))","v":""},{"$f":"IF(VLOOKUP(A14,Competitors!$A$1:$H$41,8,FALSE)=\"\",\"\",VLOOKUP(A14,Competitors!$A$1:$H$41,8,FALSE))","v":""},{"$f":"IF(IFERROR(VLOOKUP(($B$2&\"_\"&$A14),'Time Entry Sheet'!$A$3:$I$499,9,0),\"Error\")=\"Error\",\"\",IF(VLOOKUP(($B$2&\"_\"&$A14),'Time Entry Sheet'!$A$3:$I$499,9,FALSE)=\"wd\",\"wd\",VLOOKUP(($B$2&\"_\"&$A14),'Time Entry Sheet'!$A$3:$I$499,9,FALSE)*1))","v":"00:00:55.020"},"00:00:55.020",{"$f":"IF(IFERROR(VLOOKUP(($B$2&\"_\"&$A14),'Time Entry Sheet'!$A$3:$I$499,8,FALSE),\"Error\")=\"Error\",\"\",IF(VLOOKUP(($B$2&\"_\"&$A14),'Time Entry Sheet'!$A$3:$I$499,8,FALSE)=\"\",\"\",VLOOKUP(($B$2&\"_\"&$A14),'Time Entry Sheet'!$A$3:$I$499,8,FALSE)))","v":""},{"$f":"IF(IFERROR(VLOOKUP(($B$2&\"_\"&$A14),'Time Entry Sheet'!$A$3:$I$499,7,FALSE),\"Error\")=\"Error\",\"\",IF(VLOOKUP(($B$2&\"_\"&$A14),'Time Entry Sheet'!$A$3:$I$499,7,FALSE)=\"\",\"\",VLOOKUP(($B$2&\"_\"&$A14),'Time Entry Sheet'!$A$3:$I$499,7,FALSE)))","v":""},"00:00:55.020","00:00:55.020",8,{"$f":"IF(A14=\"\",\"\",M14+VLOOKUP(A14,'Test 3'!$A$12:$Q$51,16,FALSE))","v":"00:03:47.060"},13,null,"","00:03:47.060"]
[4,{"$f":"IF($A15=\"\",\"\",IF(VLOOKUP($A15,Competitors!$A$2:$G$60,2,FALSE)=\"\",\"\",VLOOKUP($A15,Competitors!$A$2:$G$60,2,FALSE)))","v":"Michaela Ballard"},{"$f":"IF($A15=\"\",\"\",IF(VLOOKUP($A15,Competitors!$A$2:$G$60,7,FALSE)=\"\",\"\",VLOOKUP($A15,Competitors!$A$2:$G$60,7,FALSE)))","v":"rookie"},{"$f":"IF($A15=\"\",\"\",IF(VLOOKUP($A15,Competitors!$A$2:$G$60,5,FALSE)=\"\",\"\",VLOOKUP($A15,Competitors!$A$2:$G$60,5,FALSE)))","v":"female"},{"$f":"IF($A15=\"\",\"\",IF(VLOOKUP($A15,Competitors!$A$2:$G$60,6,FALSE)=\"\",\"\",VLOOKUP($A15,Competitors!$A$2:$G$60,6,FALSE)))","v":"senior"},{"$f":"IF($A15=\"\",\"\",IF(VLOOKUP($A15,Competitors!$A$2:$G$60,3,FALSE)=\"\",\"\",VLOOKUP($A15,Competitors!$A$2:$G$60,3,FALSE)))","v":""},{"$f":"IF($A15=\"\",\"\",IF(VLOOKUP($A15,Competitors!$A$2:$G$60,4,FALSE)=\"\",\"\",VLOOKUP($A15,Competitors!$A$2:$G$60,4,FALSE)))","v":""},{"$f":"IF(VLOOKUP(A15,Competitors!$A$1:$H$41,8,FALSE)=\"\",\"\",VLOOKUP(A15,Competitors!$A$1:$H$41,8,FALSE))","v":""},{"$f":"IF(IFERROR(VLOOKUP(($B$2&\"_\"&$A15),'Time Entry Sheet'!$A$3:$I$499,9,0),\"Error\")=\"Error\",\"\",IF(VLOOKUP(($B$2&\"_\"&$A15),'Time Entry Sheet'!$A$3:$I$499,9,FALSE)=\"wd\",\"wd\",VLOOKUP(($B$2&\"_\"&$A15),'Time Entry Sheet'!$A$3:$I$499,9,FALSE)*1))","v":"00:01:05.670"},"00:01:05.670",{"$f":"IF(IFERROR(VLOOKUP(($B$2&\"_\"&$A15),'Time Entry Sheet'!$A$3:$I$499,8,FALSE),\"Error\")=\"Error\",\"\",IF(VLOOKUP(($B$2&\"_\"&$A15),'Time Entry Sheet'!$A$3:$I$499,8,FALSE)=\"\",\"\",VLOOKUP(($B$2&\"_\"&$A15),'Time Entry Sheet'!$A$3:$I$499,8,FALSE)))","v":""},{"$f":"IF(IFERROR(VLOOKUP(($B$2&\"_\"&$A15),'Time Entry Sheet'!$A$3:$I$499,7,FALSE),\"Error\")=\"Error\",\"\",IF(VLOOKUP(($B$2&\"_\"&$A15),'Time Entry Sheet'!$A$3:$I$499,7,FALSE)=\"\",\"\",VLOOKUP(($B$2&\"_\"&$A15),'Time Entry Sheet'!$A$3:$I$499,7,FALSE)))","v":""},"00:01:05.670","00:01:05.670",18,{"$f":"IF(A15=\"\",\"\",M15+VLOOKUP(A15,'Test 3'!$A$12:$Q$51,16,FALSE))","v":"00:04:15.870"},19,null,"","00:04:15.870"]
[5,{"$f":"IF($A16=\"\",\"\",IF(VLOOKUP($A16,Competitors!$A$2:$G$60,2,FALSE)=\"\",\"\",VLOOKUP($A16,Competitors!$A$2:$G$60,2,FALSE)))","v":"Janelle Ballard"},{"$f":"IF($A16=\"\",\"\",IF(VLOOKUP($A16,Competitors!$A$2:$G$60,7,FALSE)=\"\",\"\",VLOOKUP($A16,Competitors!$A$2:$G$60,7,FALSE)))","v":""},{"$f":"IF($A16=\"\",\"\",IF(VLOOKUP($A16,Competitors!$A$2:$G$60,5,FALSE)=\"\",\"\",VLOOKUP($A16,Competitors!$A$2:$G$60,5,FALSE)))","v":"female"},{"$f":"IF($A16=\"\",\"\",IF(VLOOKUP($A16,Competitors!$A$2:$G$60,6,FALSE)=\"\",\"\",VLOOKUP($A16,Competitors!$A$2:$G$60,6,FALSE)))","v":"senior"},{"$f":"IF($A16=\"\",\"\",IF(VLOOKUP($A16,Competitors!$A$2:$G$60,3,FALSE)=\"\",\"\",VLOOKUP($A16,Competitors!$A$2:$G$60,3,FALSE)))","v":""},{"$f":"IF($A16=\"\",\"\",IF(VLOOKUP($A16,Competitors!$A$2:$G$60,4,FALSE)=\"\",\"\",VLOOKUP($A16,Competitors!$A$2:$G$60,4,FALSE)))","v":""},{"$f":"IF(VLOOKUP(A16,Competitors!$A$1:$H$41,8,FALSE)=\"\",\"\",VLOOKUP(A16,Competitors!$A$1:$H$41,8,FALSE))","v":""},{"$f":"IF(IFERROR(VLOOKUP(($B$2&\"_\"&$A16),'Time Entry Sheet'!$A$3:$I$499,9,0),\"Error\")=\"Error\",\"\",IF(VLOOKUP(($B$2&\"_\"&$A16),'Time Entry Sheet'!$A$3:$I$499,9,FALSE)=\"wd\",\"wd\",VLOOKUP(($B$2&\"_\"&$A16),'Time Entry Sheet'!$A$3:$I$499,9,FALSE)*1))","v":"00:00:55.280"},"00:00:55.280",{"$f":"IF(IFERROR(VLOOKUP(($B$2&\"_\"&$A16),'Time Entry Sheet'!$A$3:$I$499,8,FALSE),\"Error\")=\"Error\",\"\",IF(VLOOKUP(($B$2&\"_\"&$A16),'Time Entry Sheet'!$A$3:$I$499,8,FALSE)=\"\",\"\",VLOOKUP(($B$2&\"_\"&$A16),'Time Entry Sheet'!$A$3:$I$499,8,FALSE)))","v":""},{"$f":"IF(IFERROR(VLOOKUP(($B$2&\"_\"&$A16),'Time Entry Sheet'!$A$3:$I$499,7,FALSE),\"Error\")=\"Error\",\"\",IF(VLOOKUP(($B$2&\"_\"&$A16),'Time Entry Sheet'!$A$3:$I$499,7,FALSE)=\"\",\"\",VLOOKUP(($B$2&\"_\"&$A16),'Time Entry Sheet'!$A$3:$I$499,7,FALSE)))","v":""},"00:00:55.280","00:00:55.280",10,{"$f":"IF(A16=\"\",\"\",M16+VLOOKUP(A16,'Test 3'!$A$12:$Q$51,16,FALSE))","v":"00:03:36.780"},9,null,"","00:03:36.780"]
[6,{"$f":"IF($A17=\"\",\"\",IF(VLOOKUP($A17,Competitors!$A$2:$G$60,2,FALSE)=\"\",\"\",VLOOKUP($A17,Competitors!$A$2:$G$60,2,FALSE)))","v":"Issac Wishart"},{"$f":"IF($A17=\"\",\"\",IF(VLOOKUP($A17,Competitors!$A$2:$G$60,7,FALSE)=\"\",\"\",VLOOKUP($A17,Competitors!$A$2:$G$60,7,FALSE)))","v":"rookie"},{"$f":"IF($A17=\"\",\"\",IF(VLOOKUP($A17,Competitors!$A$2:$G$60,5,FALSE)=\"\",\"\",VLOOKUP($A17,Competitors!$A$2:$G$60,5,FALSE)))","v":""},{"$f":"IF($A17=\"\",\"\",IF(VLOOKUP($A17,Competitors!$A$2:$G$60,6,FALSE)=\"\",\"\",VLOOKUP($A17,Competitors!$A$2:$G$60,6,FALSE)))","v":"senior"},{"$f":"IF($A17=\"\",\"\",IF(VLOOKUP($A17,Competitors!$A$2:$G$60,3,FALSE)=\"\",\"\",VLOOKUP($A17,Competitors!$A$2:$G$60,3,FALSE)))","v":""},{"$f":"IF($A17=\"\",\"\",IF(VLOOKUP($A17,Competitors!$A$2:$G$60,4,FALSE)=\"\",\"\",VLOOKUP($A17,Competitors!$A$2:$G$60,4,FALSE)))","v":""},{"$f":"IF(VLOOKUP(A17,Competitors!$A$1:$H$41,8,FALSE)=\"\",\"\",VLOOKUP(A17,Competitors!$A$1:$H$41,8,FALSE))","v":""},{"$f":"IF(IFERROR(VLOOKUP(($B$2&\"_\"&$A17),'Time Entry Sheet'!$A$3:$I$499,9,0),\"Error\")=\"Error\",\"\",IF(VLOOKUP(($B$2&\"_\"&$A17),'Time Entry Sheet'!$A$3:$I$499,9,FALSE)=\"wd\",\"wd\",VLOOKUP(($B$2&\"_\"&$A17),'Time Entry Sheet'!$A$3:$I$499,9,FALSE)*1))","v":"00:01:06.740"},"00:01:06.740",{"$f":"IF(IFERROR(VLOOKUP(($B$2&\"_\"&$A17),'Time Entry Sheet'!$A$3:$I$499,8,FALSE),\"Error\")=\"Error\",\"\",IF(VLOOKUP(($B$2&\"_\"&$A17),'Time Entry Sheet'!$A$3:$I$499,8,FALSE)=\"\",\"\",VLOOKUP(($B$2&\"_\"&$A17),'Time Entry Sheet'!$A$3:$I$499,8,FALSE)))","v":""},{"$f":"IF(IFERROR(VLOOKUP(($B$2&\"_\"&$A17),'Time Entry Sheet'!$A$3:$I$499,7,FALSE),\"Error\")=\"Error\",\"\",IF(VLOOKUP(($B$2&\"_\"&$A17),'Time Entry Sheet'!$A$3:$I$499,7,FALSE)=\"\",\"\",VLOOKUP(($B$2&\"_\"&$A17),'Time Entry Sheet'!$A$3:$I$499,7,FALSE)))","v":""},"00:01:06.740","00:01:06.740",19,{"$f":"IF(A17=\"\",\"\",M17+VLOOKUP(A17,'Test 3'!$A$12:$Q$51,16,FALSE))","v":"00:04:12.190"},17,null,"","00:04:12.190"]
[7,{"$f":"IF($A18=\"\",\"\",IF(VLOOKUP($A18,Competitors!$A$2:$G$60,2,FALSE)=\"\",\"\",VLOOKUP($A18,Competitors!$A$2:$G$60,2,FALSE)))","v":""},{"$f":"IF($A18=\"\",\"\",IF(VLOOKUP($A18,Competitors!$A$2:$G$60,7,FALSE)=\"\",\"\",VLOOKUP($A18,Competitors!$A$2:$G$60,7,FALSE)))","v":""},{"$f":"IF($A18=\"\",\"\",IF(VLOOKUP($A18,Competitors!$A$2:$G$60,5,FALSE)=\"\",\"\",VLOOKUP($A18,Competitors!$A$2:$G$60,5,FALSE)))","v":""},{"$f":"IF($A18=\"\",\"\",IF(VLOOKUP($A18,Competitors!$A$2:$G$60,6,FALSE)=\"\",\"\",VLOOKUP($A18,Competitors!$A$2:$G$60,6,FALSE)))","v":"senior"},{"$f":"IF($A18=\"\",\"\",IF(VLOOKUP($A18,Competitors!$A$2:$G$60,3,FALSE)=\"\",\"\",VLOOKUP($A18,Competitors!$A$2:$G$60,3,FALSE)))","v":""},{"$f":"IF($A18=\"\",\"\",IF(VLOOKUP($A18,Competitors!$A$2:$G$60,4,FALSE)=\"\",\"\",VLOOKUP($A18,Competitors!$A$2:$G$60,4,FALSE)))","v":""},{"$f":"IF(VLOOKUP(A18,Competitors!$A$1:$H$41,8,FALSE)=\"\",\"\",VLOOKUP(A18,Competitors!$A$1:$H$41,8,FALSE))","v":""},{"$f":"IF(IFERROR(VLOOKUP(($B$2&\"_\"&$A18),'Time Entry Sheet'!$A$3:$I$499,9,0),\"Error\")=\"Error\",\"\",IF(VLOOKUP(($B$2&\"_\"&$A18),'Time Entry Sheet'!$A$3:$I$499,9,FALSE)=\"wd\",\"wd\",VLOOKUP(($B$2&\"_\"&$A18),'Time Entry Sheet'!$A$3:$I$499,9,FALSE)*1))","v":""},"",{"$f":"IF(IFERROR(VLOOKUP(($B$2&\"_\"&$A18),'Time Entry Sheet'!$A$3:$I$499,8,FALSE),\"Error\")=\"Error\",\"\",IF(VLOOKUP(($B$2&\"_\"&$A18),'Time Entry Sheet'!$A$3:$I$499,8,FALSE)=\"\",\"\",VLOOKUP(($B$2&\"_\"&$A18),'Time Entry Sheet'!$A$3:$I$499,8,FALSE)))","v":""},{"$f":"IF(IFERROR(VLOOKUP(($B$2&\"_\"&$A18),'Time Entry Sheet'!$A$3:$I$499,7,FALSE),\"Error\")=\"Error\",\"\",IF(VLOOKUP(($B$2&\"_\"&$A18),'Time Entry Sheet'!$A$3:$I$499,7,FALSE)=\"\",\"\",VLOOKUP(($B$2&\"_\"&$A18),'Time Entry Sheet'!$A$3:$I$499,7,FALSE)))","v":""},"00:01:16.740","00:01:16.740",20,{"$f":"IF(A18=\"\",\"\",M18+VLOOKUP(A18,'Test 3'!$A$12:$Q$51,16,FALSE))","v":"00:05:07.580"},20,null,"","00:05:07.580"]
[8,{"$f":"IF($A19=\"\",\"\",IF(VLOOKUP($A19,Competitors!$A$2:$G$60,2,FALSE)=\"\",\"\",VLOOKUP($A19,Competitors!$A$2:$G$60,2,FALSE)))","v":"Jim Taylor"},{"$f":"IF($A19=\"\",\"\",IF(VLOOKUP($A19,Competitors!$A$2:$G$60,7,FALSE)=\"\",\"\",VLOOKUP($A19,Competitors!$A$2:$G$60,7,FALSE)))","v":""},{"$f":"IF($A19=\"\",\"\",IF(VLOOKUP($A19,Competitors!$A$2:$G$60,5,FALSE)=\"\",\"\",VLOOKUP($A19,Competitors!$A$2:$G$60,5,FALSE)))","v":""},{"$f":"IF($A19=\"\",\"\",IF(VLOOKUP($A19,Competitors!$A$2:$G$60,6,FALSE)=\"\",\"\",VLOOKUP($A19,Competitors!$A$2:$G$60,6,FALSE)))","v":"senior"},{"$f":"IF($A19=\"\",\"\",IF(VLOOKUP($A19,Competitors!$A$2:$G$60,3,FALSE)=\"\",\"\",VLOOKUP($A19,Competitors!$A$2:$G$60,3,FALSE)))","v":""},{"$f":"IF($A19=\"\",\"\",IF(VLOOKUP($A19,Competitors!$A$2:$G$60,4,FALSE)=\"\",\"\",VLOOKUP($A19,Competitors!$A$2:$G$60,4,FALSE)))","v":""},{"$f":"IF(VLOOKUP(A19,Competitors!$A$1:$H$41,8,FALSE)=\"\",\"\",VLOOKUP(A19,Competitors!$A$1:$H$41,8,FALSE))","v":""},{"$f":"IF(IFERROR(VLOOKUP(($B$2&\"_\"&$A19),'Time Entry Sheet'!$A$3:$I$499,9,0),\"Error\")=\"Error\",\"\",IF(VLOOKUP(($B$2&\"_\"&$A19),'Time Entry Sheet'!$A$3:$I$499,9,FALSE)=\"wd\",\"wd\",VLOOKUP(($B$2&\"_\"&$A19),'Time Entry Sheet'!$A$3:$I$499,9,FALSE)*1))","v":"00:00:59.080"},"00:00:59.080",{"$f":"IF(IFERROR(VLOOKUP(($B$2&\"_\"&$A19),'Time Entry Sheet'!$A$3:$I$499,8,FALSE),\"Error\")=\"Error\",\"\",IF(VLOOKUP(($B$2&\"_\"&$A19),'Time Entry Sheet'!$A$3:$I$499,8,FALSE)=\"\",\"\",VLOOKUP(($B$2&\"_\"&$A19),'Time Entry Sheet'!$A$3:$I$499,8,FALSE)))","v":""},{"$f":"IF(IFERROR(VLOOKUP(($B$2&\"_\"&$A19),'Time Entry Sheet'!$A$3:$I$499,7,FALSE),\"Error\")=\"Error\",\"\",IF(VLOOKUP(($B$2&\"_\"&$A19),'Time Entry Sheet'!$A$3:$I$499,7,FALSE)=\"\",\"\",VLOOKUP(($B$2&\"_\"&$A19),'Time Entry Sheet'!$A$3:$I$499,7,FALSE)))","v":""},"00:00:59.080","00:00:59.080",15,{"$f":"IF(A19=\"\",\"\",M19+VLOOKUP(A19,'Test 3'!$A$12:$Q$51,16,FALSE))","v":"00:03:44.760"},12,null,"","00:03:44.760"]
[9,{"$f":"IF($A20=\"\",\"\",IF(VLOOKUP($A20,Competitors!$A$2:$G$60,2,FALSE)=\"\",\"\",VLOOKUP($A20,Competitors!$A$2:$G$60,2,FALSE)))","v":"Brad Firman"},{"$f":"IF($A20=\"\",\"\",IF(VLOOKUP($A20,Competitors!$A$2:$G$60,7,FALSE)=\"\",\"\",VLOOKUP($A20,Competitors!$A$2:$G$60,7,FALSE)))","v":""},{"$f":"IF($A20=\"\",\"\",IF(VLOOKUP($A20,Competitors!$A$2:$G$60,5,FALSE)=\"\",\"\",VLOOKUP($A20,Competitors!$A$2:$G$60,5,FALSE)))","v":""},{"$f":"IF($A20=\"\",\"\",IF(VLOOKUP($A20,Competitors!$A$2:$G$60,6,FALSE)=\"\",\"\",VLOOKUP($A20,Competitors!$A$2:$G$60,6,FALSE)))","v":"senior"},{"$f":"IF($A20=\"\",\"\",IF(VLOOKUP($A20,Competitors!$A$2:$G$60,3,FALSE)=\"\",\"\",VLOOKUP($A20,Competitors!$A$2:$G$60,3,FALSE)))","v":""},{"$f":"IF($A20=\"\",\"\",IF(VLOOKUP($A20,Competitors!$A$2:$G$60,4,FALSE)=\"\",\"\",VLOOKUP($A20,Competitors!$A$2:$G$60,4,FALSE)))","v":""},{"$f":"IF(VLOOKUP(A20,Competitors!$A$1:$H$41,8,FALSE)=\"\",\"\",VLOOKUP(A20,Competitors!$A$1:$H$41,8,FALSE))","v":""},{"$f":"IF(IFERROR(VLOOKUP(($B$2&\"_\"&$A20),'Time Entry Sheet'!$A$3:$I$499,9,0),\"Error\")=\"Error\",\"\",IF(VLOOKUP(($B$2&\"_\"&$A20),'Time Entry Sheet'!$A$3:$I$499,9,FALSE)=\"wd\",\"wd\",VLOOKUP(($B$2&\"_\"&$A20),'Time Entry Sheet'!$A$3:$I$499,9,FALSE)*1))","v":"00:00:50.810"},"00:00:50.810",{"$f":"IF(IFERROR(VLOOKUP(($B$2&\"_\"&$A20),'Time Entry Sheet'!$A$3:$I$499,8,FALSE),\"Error\")=\"Error\",\"\",IF(VLOOKUP(($B$2&\"_\"&$A20),'Time Entry Sheet'!$A$3:$I$499,8,FALSE)=\"\",\"\",VLOOKUP(($B$2&\"_\"&$A20),'Time Entry Sheet'!$A$3:$I$499,8,FALSE)))","v":""},{"$f":"IF(IFERROR(VLOOKUP(($B$2&\"_\"&$A20),'Time Entry Sheet'!$A$3:$I$499,7,FALSE),\"Error\")=\"Error\",\"\",IF(VLOOKUP(($B$2&\"_\"&$A20),'Time Entry Sheet'!$A$3:$I$499,7,FALSE)=\"\",\"\",VLOOKUP(($B$2&\"_\"&$A20),'Time Entry Sheet'!$A$3:$I$499,7,FALSE)))","v":""},"00:00:50.810","00:00:50.810",3,{"$f":"IF(A20=\"\",\"\",M20+VLOOKUP(A20,'Test 3'!$A$12:$Q$51,16,FALSE))","v":"00:03:19.350"},2,null,"","00:03:19.350"]
[10,{"$f":"IF($A21=\"\",\"\",IF(VLOOKUP($A21,Competitors!$A$2:$G$60,2,FALSE)=\"\",\"\",VLOOKUP($A21,Competitors!$A$2:$G$60,2,FALSE)))","v":"Scott Taylor"},{"$f":"IF($A21=\"\",\"\",IF(VLOOKUP($A21,Competitors!$A$2:$G$60,7,FALSE)=\"\",\"\",VLOOKUP($A21,Competitors!$A$2:$G$60,7,FALSE)))","v":""},{"$f":"IF($A21=\"\",\"\",IF(VLOOKUP($A21,Competitors!$A$2:$G$60,5,FALSE)=\"\",\"\",VLOOKUP($A21,Competitors!$A$2:$G$60,5,FALSE)))","v":""},{"$f":"IF($A21=\"\",\"\",IF(VLOOKUP($A21,Competitors!$A$2:$G$60,6,FALSE)=\"\",\"\",VLOOKUP($A21,Competitors!$A$2:$G$60,6,FALSE)))","v":"senior"},{"$f":"IF($A21=\"\",\"\",IF(VLOOKUP($A21,Competitors!$A$2:$G$60,3,FALSE)=\"\",\"\",VLOOKUP($A21,Competitors!$A$2:$G$60,3,FALSE)))","v":""},{"$f":"IF($A21=\"\",\"\",IF(VLOOKUP($A21,Competitors!$A$2:$G$60,4,FALSE)=\"\",\"\",VLOOKUP($A21,Competitors!$A$2:$G$60,4,FALSE)))","v":""},{"$f":"IF(VLOOKUP(A21,Competitors!$A$1:$H$41,8,FALSE)=\"\",\"\",VLOOKUP(A21,Competitors!$A$1:$H$41,8,FALSE))","v":""},{"$f":"IF(IFERROR(VLOOKUP(($B$2&\"_\"&$A21),'Time Entry Sheet'!$A$3:$I$499,9,0),\"Error\")=\"Error\",\"\",IF(VLOOKUP(($B$2&\"_\"&$A21),'Time Entry Sheet'!$A$3:$I$499,9,FALSE)=\"wd\",\"wd\",VLOOKUP(($B$2&\"_\"&$A21),'Time Entry Sheet'!$A$3:$I$499,9,FALSE)*1))","v":"00:00:55.080"},"00:00:55.080",{"$f":"IF(IFERROR(VLOOKUP(($B$2&\"_\"&$A21),'Time Entry Sheet'!$A$3:$I$499,8,FALSE),\"Error\")=\"Error\",\"\",IF(VLOOKUP(($B$2&\"_\"&$A21),'Time Entry Sheet'!$A$3:$I$499,8,FALSE)=\"\",\"\",VLOOKUP(($B$2&\"_\"&$A21),'Time Entry Sheet'!$A$3:$I$499,8,FALSE)))","v":""},{"$f":"IF(IFERROR(VLOOKUP(($B$2&\"_\"&$A21),'Time Entry Sheet'!$A$3:$I$499,7,FALSE),\"Error\")=\"Error\",\"\",IF(VLOOKUP(($B$2&\"_\"&$A21),'Time Entry Sheet'!$A$3:$I$499,7,FALSE)=\"\",\"\",VLOOKUP(($B$2&\"_\"&$A21),'Time Entry Sheet'!$A$3:$I$499,7,FALSE)))","v":""},"00:00:55.080","00:00:55.080",9,{"$f":"IF(A21=\"\",\"\",M21+VLOOKUP(A21,'Test 3'!$A$12:$Q$51,16,FALSE))","v":"00:03:53.420"},15,null,"","00:03:53.420"]
[11,{"$f":"IF($A22=\"\",\"\",IF(VLOOKUP($A22,Competitors!$A$2:$G$60,2,FALSE)=\"\",\"\",VLOOKUP($A22,Competitors!$A$2:$G$60,2,FALSE)))","v":"Russel McKinley"},{"$f":"IF($A22=\"\",\"\",IF(VLOOKUP($A22,Competitors!$A$2:$G$60,7,FALSE)=\"\",\"\",VLOOKUP($A22,Competitors!$A$2:$G$60,7,FALSE)))","v":""},{"$f":"IF($A22=\"\",\"\",IF(VLOOKUP($A22,Competitors!$A$2:$G$60,5,FALSE)=\"\",\"\",VLOOKUP($A22,Competitors!$A$2:$G$60,5,FALSE)))","v":""},{"$f":"IF($A22=\"\",\"\",IF(VLOOKUP($A22,Competitors!$A$2:$G$60,6,FALSE)=\"\",\"\",VLOOKUP($A22,Competitors!$A$2:$G$60,6,FALSE)))","v":"senior"},{"$f":"IF($A22=\"\",\"\",IF(VLOOKUP($A22,Competitors!$A$2:$G$60,3,FALSE)=\"\",\"\",VLOOKUP($A22,Competitors!$A$2:$G$60,3,FALSE)))","v":""},{"$f":"IF($A22=\"\",\"\",IF(VLOOKUP($A22,Competitors!$A$2:$G$60,4,FALSE)=\"\",\"\",VLOOKUP($A22,Competitors!$A$2:$G$60,4,FALSE)))","v":""},{"$f":"IF(VLOOKUP(A22,Competitors!$A$1:$H$41,8,FALSE)=\"\",\"\",VLOOKUP(A22,Competitors!$A$1:$H$41,8,FALSE))","v":""},{"$f":"IF(IFERROR(VLOOKUP(($B$2&\"_\"&$A22),'Time Entry Sheet'!$A$3:$I$499,9,0),\"Error\")=\"Error\",\"\",IF(VLOOKUP(($B$2&\"_\"&$A22),'Time Entry Sheet'!$A$3:$I$499,9,FALSE)=\"wd\",\"wd\",VLOOKUP(($B$2&\"_\"&$A22),'Time Entry Sheet'!$A$3:$I$499,9,FALSE)*1))","v":"00:00:55.400"},"00:00:55.400",{"$f":"IF(IFERROR(VLOOKUP(($B$2&\"_\"&$A22),'Time Entry Sheet'!$A$3:$I$499,8,FALSE),\"Error\")=\"Error\",\"\",IF(VLOOKUP(($B$2&\"_\"&$A22),'Time Entry Sheet'!$A$3:$I$499,8,FALSE)=\"\",\"\",VLOOKUP(($B$2&\"_\"&$A22),'Time Entry Sheet'!$A$3:$I$499,8,FALSE)))","v":""},{"$f":"IF(IFERROR(VLOOKUP(($B$2&\"_\"&$A22),'Time Entry Sheet'!$A$3:$I$499,7,FALSE),\"Error\")=\"Error\",\"\",IF(VLOOKUP(($B$2&\"_\"&$A22),'Time Entry Sheet'!$A$3:$I$499,7,FALSE)=\"\",\"\",VLOOKUP(($B$2&\"_\"&$A22),'Time Entry Sheet'!$A$3:$I$499,7,FALSE)))","v":""},"00:00:55.400","00:00:55.400",11,{"$f":"IF(A22=\"\",\"\",M22+VLOOKUP(A22,'Test 3'!$A$12:$Q$51,16,FALSE))","v":"00:03:52.150"},14,null,"","00:03:52.150"]
[12,{"$f":"IF($A23=\"\",\"\",IF(VLOOKUP($A23,Competitors!$A$2:$G$60,2,FALSE)=\"\",\"\",VLOOKUP($A23,Competitors!$A$2:$G$60,2,FALSE)))","v":"Mat Boorman"},{"$f":"IF($A23=\"\",\"\",IF(VLOOKUP($A23,Competitors!$A$2:$G$60,7,FALSE)=\"\",\"\",VLOOKUP($A23,Competitors!$A$2:$G$60,7,FALSE)))","v":""},{"$f":"IF($A23=\"\",\"\",IF(VLOOKUP($A23,Competitors!$A$2:$G$60,5,FALSE)=\"\",\"\",VLOOKUP($A23,Competitors!$A$2:$G$60,5,FALSE)))","v":""},{"$f":"IF($A23=\"\",\"\",IF(VLOOKUP($A23,Competitors!$A$2:$G$60,6,FALSE)=\"\",\"\",VLOOKUP($A23,Competitors!$A$2:$G$60,6,FALSE)))","v":"senior"},{"$f":"IF($A23=\"\",\"\",IF(VLOOKUP($A23,Competitors!$A$2:$G$60,3,FALSE)=\"\",\"\",VLOOKUP($A23,Competitors!$A$2:$G$60,3,FALSE)))","v":""},{"$f":"IF($A23=\"\",\"\",IF(VLOOKUP($A23,Competitors!$A$2:$G$60,4,FALSE)=\"\",\"\",VLOOKUP($A23,Competitors!$A$2:$G$60,4,FALSE)))","v":""},{"$f":"IF(VLOOKUP(A23,Competitors!$A$1:$H$41,8,FALSE)=\"\",\"\",VLOOKUP(A23,Competitors!$A$1:$H$41,8,FALSE))","v":""},{"$f":"IF(IFERROR(VLOOKUP(($B$2&\"_\"&$A23),'Time Entry Sheet'!$A$3:$I$499,9,0),\"Error\")=\"Error\",\"\",IF(VLOOKUP(($B$2&\"_\"&$A23),'Time Entry Sheet'!$A$3:$I$499,9,FALSE)=\"wd\",\"wd\",VLOOKUP(($B$2&\"_\"&$A23),'Time Entry Sheet'!$A$3:$I$499,9,FALSE)*1))","v":"00:00:54.470"},"00:00:54.470",{"$f":"IF(IFERROR(VLOOKUP(($B$2&\"_\"&$A23),'Time Entry Sheet'!$A$3:$I$499,8,FALSE),\"Error\")=\"Error\",\"\",IF(VLOOKUP(($B$2&\"_\"&$A23),'Time Entry Sheet'!$A$3:$I$499,8,FALSE)=\"\",\"\",VLOOKUP(($B$2&\"_\"&$A23),'Time Entry Sheet'!$A$3:$I$499,8,FALSE)))","v":""},{"$f":"IF(IFERROR(VLOOKUP(($B$2&\"_\"&$A23),'Time Entry Sheet'!$A$3:$I$499,7,FALSE),\"Error\")=\"Error\",\"\",IF(VLOOKUP(($B$2&\"_\"&$A23),'Time Entry Sheet'!$A$3:$I$499,7,FALSE)=\"\",\"\",VLOOKUP(($B$2&\"_\"&$A23),'Time Entry Sheet'!$A$3:$I$499,7,FALSE)))","v":""},"00:00:54.470","00:00:54.470",6,{"$f":"IF(A23=\"\",\"\",M23+VLOOKUP(A23,'Test 3'!$A$12:$Q$51,16,FALSE))","v":"00:03:37.940"},11,null,"","00:03:37.940"]
[13,{"$f":"IF($A24=\"\",\"\",IF(VLOOKUP($A24,Competitors!$A$2:$G$60,2,FALSE)=\"\",\"\",VLOOKUP($A24,Competitors!$A$2:$G$60,2,FALSE)))","v":"Aaron Wishart"},{"$f":"IF($A24=\"\",\"\",IF(VLOOKUP($A24,Competitors!$A$2:$G$60,7,FALSE)=\"\",\"\",VLOOKUP($A24,Competitors!$A$2:$G$60,7,FALSE)))","v":""},{"$f":"IF($A24=\"\",\"\",IF(VLOOKUP($A24,Competitors!$A$2:$G$60,5,FALSE)=\"\",\"\",VLOOKUP($A24,Competitors!$A$2:$G$60,5,FALSE)))","v":""},{"$f":"IF($A24=\"\",\"\",IF(VLOOKUP($A24,Competitors!$A$2:$G$60,6,FALSE)=\"\",\"\",VLOOKUP($A24,Competitors!$A$2:$G$60,6,FALSE)))","v":"senior"},{"$f":"IF($A24=\"\",\"\",IF(VLOOKUP($A24,Competitors!$A$2:$G$60,3,FALSE)=\"\",\"\",VLOOKUP($A24,Competitors!$A$2:$G$60,3,FALSE)))","v":""},{"$f":"IF($A24=\"\",\"\",IF(VLOOKUP($A24,Competitors!$A$2:$G$60,4,FALSE)=\"\",\"\",VLOOKUP($A24,Competitors!$A$2:$G$60,4,FALSE)))","v":""},{"$f":"IF(VLOOKUP(A24,Competitors!$A$1:$H$41,8,FALSE)=\"\",\"\",VLOOKUP(A24,Competitors!$A$1:$H$41,8,FALSE))","v":""},{"$f":"IF(IFERROR(VLOOKUP(($B$2&\"_\"&$A24),'Time Entry Sheet'!$A$3:$I$499,9,0),\"Error\")=\"Error\",\"\",IF(VLOOKUP(($B$2&\"_\"&$A24),'Time Entry Sheet'!$A$3:$I$499,9,FALSE)=\"wd\",\"wd\",VLOOKUP(($B$2&\"_\"&$A24),'Time Entry Sheet'!$A$3:$I$499,9,FALSE)*1))","v":"00:00:58.480"},"",{"$f":"IF(IFERROR(VLOOKUP(($B$2&\"_\"&$A24),'Time Entry Sheet'!$A$3:$I$499,8,FALSE),\"Error\")=\"Error\",\"\",IF(VLOOKUP(($B$2&\"_\"&$A24),'Time Entry Sheet'!$A$3:$I$499,8,FALSE)=\"\",\"\",VLOOKUP(($B$2&\"_\"&$A24),'Time Entry Sheet'!$A$3:$I$499,8,FALSE)))","v":1},{"$f":"IF(IFERROR(VLOOKUP(($B$2&\"_\"&$A24),'Time Entry Sheet'!$A$3:$I$499,7,FALSE),\"Error\")=\"Error\",\"\",IF(VLOOKUP(($B$2&\"_\"&$A24),'Time Entry Sheet'!$A$3:$I$499,7,FALSE)=\"\",\"\",VLOOKUP(($B$2&\"_\"&$A24),'Time Entry Sheet'!$A$3:$I$499,7,FALSE)))","v":""},"00:01:03.480","00:01:03.480",17,{"$f":"IF(A24=\"\",\"\",M24+VLOOKUP(A24,'Test 3'!$A$12:$Q$51,16,FALSE))","v":"00:04:15.820"},18,null,"","00:04:15.820"]
[14,{"$f":"IF($A25=\"\",\"\",IF(VLOOKUP($A25,Competitors!$A$2:$G$60,2,FALSE)=\"\",\"\",VLOOKUP($A25,Competitors!$A$2:$G$60,2,FALSE)))","v":"Bob Fulthorpe"},{"$f":"IF($A25=\"\",\"\",IF(VLOOKUP($A25,Competitors!$A$2:$G$60,7,FALSE)=\"\",\"\",VLOOKUP($A25,Competitors!$A$2:$G$60,7,FALSE)))","v":""},{"$f":"IF($A25=\"\",\"\",IF(VLOOKUP($A25,Competitors!$A$2:$G$60,5,FALSE)=\"\",\"\",VLOOKUP($A25,Competitors!$A$2:$G$60,5,FALSE)))","v":""},{"$f":"IF($A25=\"\",\"\",IF(VLOOKUP($A25,Competitors!$A$2:$G$60,6,FALSE)=\"\",\"\",VLOOKUP($A25,Competitors!$A$2:$G$60,6,FALSE)))","v":"senior"},{"$f":"IF($A25=\"\",\"\",IF(VLOOKUP($A25,Competitors!$A$2:$G$60,3,FALSE)=\"\",\"\",VLOOKUP($A25,Competitors!$A$2:$G$60,3,FALSE)))","v":""},{"$f":"IF($A25=\"\",\"\",IF(VLOOKUP($A25,Competitors!$A$2:$G$60,4,FALSE)=\"\",\"\",VLOOKUP($A25,Competitors!$A$2:$G$60,4,FALSE)))","v":""},{"$f":"IF(VLOOKUP(A25,Competitors!$A$1:$H$41,8,FALSE)=\"\",\"\",VLOOKUP(A25,Competitors!$A$1:$H$41,8,FALSE))","v":""},{"$f":"IF(IFERROR(VLOOKUP(($B$2&\"_\"&$A25),'Time Entry Sheet'!$A$3:$I$499,9,0),\"Error\")=\"Error\",\"\",IF(VLOOKUP(($B$2&\"_\"&$A25),'Time Entry Sheet'!$A$3:$I$499,9,FALSE)=\"wd\",\"wd\",VLOOKUP(($B$2&\"_\"&$A25),'Time Entry Sheet'!$A$3:$I$499,9,FALSE)*1))","v":"00:00:52.270"},"00:00:52.270",{"$f":"IF(IFERROR(VLOOKUP(($B$2&\"_\"&$A25),'Time Entry Sheet'!$A$3:$I$499,8,FALSE),\"Error\")=\"Error\",\"\",IF(VLOOKUP(($B$2&\"_\"&$A25),'Time Entry Sheet'!$A$3:$I$499,8,FALSE)=\"\",\"\",VLOOKUP(($B$2&\"_\"&$A25),'Time Entry Sheet'!$A$3:$I$499,8,FALSE)))","v":""},{"$f":"IF(IFERROR(VLOOKUP(($B$2&\"_\"&$A25),'Time Entry Sheet'!$A$3:$I$499,7,FALSE),\"Error\")=\"Error\",\"\",IF(VLOOKUP(($B$2&\"_\"&$A25),'Time Entry Sheet'!$A$3:$I$499,7,FALSE)=\"\",\"\",VLOOKUP(($B$2&\"_\"&$A25),'Time Entry Sheet'!$A$3:$I$499,7,FALSE)))","v":""},"00:00:52.270","00:00:52.270",4,{"$f":"IF(A25=\"\",\"\",M25+VLOOKUP(A25,'Test 3'!$A$12:$Q$51,16,FALSE))","v":"00:03:24.350"},4,null,"","00:03:24.350"]
[15,{"$f":"IF($A26=\"\",\"\",IF(VLOOKUP($A26,Competitors!$A$2:$G$60,2,FALSE)=\"\",\"\",VLOOKUP($A26,Competitors!$A$2:$G$60,2,FALSE)))","v":"Khi Fulthorpe"},{"$f":"IF($A26=\"\",\"\",IF(VLOOKUP($A26,Competitors!$A$2:$G$60,7,FALSE)=\"\",\"\",VLOOKUP($A26,Competitors!$A$2:$G$60,7,FALSE)))","v":""},{"$f":"IF($A26=\"\",\"\",IF(VLOOKUP($A26,Competitors!$A$2:$G$60,5,FALSE)=\"\",\"\",VLOOKUP($A26,Competitors!$A$2:$G$60,5,FALSE)))","v":""},{"$f":"IF($A26=\"\",\"\",IF(VLOOKUP($A26,Competitors!$A$2:$G$60,6,FALSE)=\"\",\"\",VLOOKUP($A26,Competitors!$A$2:$G$60,6,FALSE)))","v":"senior"},{"$f":"IF($A26=\"\",\"\",IF(VLOOKUP($A26,Competitors!$A$2:$G$60,3,FALSE)=\"\",\"\",VLOOKUP($A26,Competitors!$A$2:$G$60,3,FALSE)))","v":""},{"$f":"IF($A26=\"\",\"\",IF(VLOOKUP($A26,Competitors!$A$2:$G$60,4,FALSE)=\"\",\"\",VLOOKUP($A26,Competitors!$A$2:$G$60,4,FALSE)))","v":""},{"$f":"IF(VLOOKUP(A26,Competitors!$A$1:$H$41,8,FALSE)=\"\",\"\",VLOOKUP(A26,Competitors!$A$1:$H$41,8,FALSE))","v":""},{"$f":"IF(IFERROR(VLOOKUP(($B$2&\"_\"&$A26),'Time Entry Sheet'!$A$3:$I$499,9,0),\"Error\")=\"Error\",\"\",IF(VLOOKUP(($B$2&\"_\"&$A26),'Time Entry Sheet'!$A$3:$I$499,9,FALSE)=\"wd\",\"wd\",VLOOKUP(($B$2&\"_\"&$A26),'Time Entry Sheet'!$A$3:$I$499,9,FALSE)*1))","v":"00:00:55.860"},"00:00:55.860",{"$f":"IF(IFERROR(VLOOKUP(($B$2&\"_\"&$A26),'Time Entry Sheet'!$A$3:$I$499,8,FALSE),\"Error\")=\"Error\",\"\",IF(VLOOKUP(($B$2&\"_\"&$A26),'Time Entry Sheet'!$A$3:$I$499,8,FALSE)=\"\",\"\",VLOOKUP(($B$2&\"_\"&$A26),'Time Entry Sheet'!$A$3:$I$499,8,FALSE)))","v":""},{"$f":"IF(IFERROR(VLOOKUP(($B$2&\"_\"&$A26),'Time Entry Sheet'!$A$3:$I$499,7,FALSE),\"Error\")=\"Error\",\"\",IF(VLOOKUP(($B$2&\"_\"&$A26),'Time Entry Sheet'!$A$3:$I$499,7,FALSE)=\"\",\"\",VLOOKUP(($B$2&\"_\"&$A26),'Time Entry Sheet'!$A$3:$I$499,7,FALSE)))","v":""},"00:00:55.860","00:00:55.860",12,{"$f":"IF(A26=\"\",\"\",M26+VLOOKUP(A26,'Test 3'!$A$12:$Q$51,16,FALSE))","v":"00:03:34.780"},8,null,"","00:03:34.780"]
[16,{"$f":"IF($A27=\"\",\"\",IF(VLOOKUP($A27,Competitors!$A$2:$G$60,2,FALSE)=\"\",\"\",VLOOKUP($A27,Competitors!$A$2:$G$60,2,FALSE)))","v":"Nathan Senior"},{"$f":"IF($A27=\"\",\"\",IF(VLOOKUP($A27,Competitors!$A$2:$G$60,7,FALSE)=\"\",\"\",VLOOKUP($A27,Competitors!$A$2:$G$60,7,FALSE)))","v":""},{"$f":"IF($A27=\"\",\"\",IF(VLOOKUP($A27,Competitors!$A$2:$G$60,5,FALSE)=\"\",\"\",VLOOKUP($A27,Competitors!$A$2:$G$60,5,FALSE)))","v":""},{"$f":"IF($A27=\"\",\"\",IF(VLOOKUP($A27,Competitors!$A$2:$G$60,6,FALSE)=\"\",\"\",VLOOKUP($A27,Competitors!$A$2:$G$60,6,FALSE)))","v":"senior"},{"$f":"IF($A27=\"\",\"\",IF(VLOOKUP($A27,Competitors!$A$2:$G$60,3,FALSE)=\"\",\"\",VLOOKUP($A27,Competitors!$A$2:$G$60,3,FALSE)))","v":""},{"$f":"IF($A27=\"\",\"\",IF(VLOOKUP($A27,Competitors!$A$2:$G$60,4,FALSE)=\"\",\"\",VLOOKUP($A27,Competitors!$A$2:$G$60,4,FALSE)))","v":""},{"$f":"IF(VLOOKUP(A27,Competitors!$A$1:$H$41,8,FALSE)=\"\",\"\",VLOOKUP(A27,Competitors!$A$1:$H$41,8,FALSE))","v":""},{"$f":"IF(IFERROR(VLOOKUP(($B$2&\"_\"&$A27),'Time Entry Sheet'!$A$3:$I$499,9,0),\"Error\")=\"Error\",\"\",IF(VLOOKUP(($B$2&\"_\"&$A27),'Time Entry Sheet'!$A$3:$I$499,9,FALSE)=\"wd\",\"wd\",VLOOKUP(($B$2&\"_\"&$A27),'Time Entry Sheet'!$A$3:$I$499,9,FALSE)*1))","v":"00:00:48.650"},"",{"$f":"IF(IFERROR(VLOOKUP(($B$2&\"_\"&$A27),'Time Entry Sheet'!$A$3:$I$499,8,FALSE),\"Error\")=\"Error\",\"\",IF(VLOOKUP(($B$2&\"_\"&$A27),'Time Entry Sheet'!$A$3:$I$499,8,FALSE)=\"\",\"\",VLOOKUP(($B$2&\"_\"&$A27),'Time Entry Sheet'!$A$3:$I$499,8,FALSE)))","v":1},{"$f":"IF(IFERROR(VLOOKUP(($B$2&\"_\"&$A27),'Time Entry Sheet'!$A$3:$I$499,7,FALSE),\"Error\")=\"Error\",\"\",IF(VLOOKUP(($B$2&\"_\"&$A27),'Time Entry Sheet'!$A$3:$I$499,7,FALSE)=\"\",\"\",VLOOKUP(($B$2&\"_\"&$A27),'Time Entry Sheet'!$A$3:$I$499,7,FALSE)))","v":""},"00:00:53.650","00:00:53.650",5,{"$f":"IF(A27=\"\",\"\",M27+VLOOKUP(A27,'Test 3'!$A$12:$Q$51,16,FALSE))","v":"00:03:36.800"},10,null,"","00:03:36.800"]
[17,{"$f":"IF($A28=\"\",\"\",IF(VLOOKUP($A28,Competitors!$A$2:$G$60,2,FALSE)=\"\",\"\",VLOOKUP($A28,Competitors!$A$2:$G$60,2,FALSE)))","v":"Reece McIntosh"},{"$f":"IF($A28=\"\",\"\",IF(VLOOKUP($A28,Competitors!$A$2:$G$60,7,FALSE)=\"\",\"\",VLOOKUP($A28,Competitors!$A$2:$G$60,7,FALSE)))","v":""},{"$f":"IF($A28=\"\",\"\",IF(VLOOKUP($A28,Competitors!$A$2:$G$60,5,FALSE)=\"\",\"\",VLOOKUP($A28,Competitors!$A$2:$G$60,5,FALSE)))","v":""},{"$f":"IF($A28=\"\",\"\",IF(VLOOKUP($A28,Competitors!$A$2:$G$60,6,FALSE)=\"\",\"\",VLOOKUP($A28,Competitors!$A$2:$G$60,6,FALSE)))","v":"senior"},{"$f":"IF($A28=\"\",\"\",IF(VLOOKUP($A28,Competitors!$A$2:$G$60,3,FALSE)=\"\",\"\",VLOOKUP($A28,Competitors!$A$2:$G$60,3,FALSE)))","v":""},{"$f":"IF($A28=\"\",\"\",IF(VLOOKUP($A28,Competitors!$A$2:$G$60,4,FALSE)=\"\",\"\",VLOOKUP($A28,Competitors!$A$2:$G$60,4,FALSE)))","v":""},{"$f":"IF(VLOOKUP(A28,Competitors!$A$1:$H$41,8,FALSE)=\"\",\"\",VLOOKUP(A28,Competitors!$A$1:$H$41,8,FALSE))","v":""},{"$f":"IF(IFERROR(VLOOKUP(($B$2&\"_\"&$A28),'Time Entry Sheet'!$A$3:$I$499,9,0),\"Error\")=\"Error\",\"\",IF(VLOOKUP(($B$2&\"_\"&$A28),'Time Entry Sheet'!$A$3:$I$499,9,FALSE)=\"wd\",\"wd\",VLOOKUP(($B$2&\"_\"&$A28),'Time Entry Sheet'!$A$3:$I$499,9,FALSE)*1))","v":"00:00:47.440"},"00:00:47.440",{"$f":"IF(IFERROR(VLOOKUP(($B$2&\"_\"&$A28),'Time Entry Sheet'!$A$3:$I$499,8,FALSE),\"Error\")=\"Error\",\"\",IF(VLOOKUP(($B$2&\"_\"&$A28),'Time Entry Sheet'!$A$3:$I$499,8,FALSE)=\"\",\"\",VLOOKUP(($B$2&\"_\"&$A28),'Time Entry Sheet'!$A$3:$I$499,8,FALSE)))","v":""},{"$f":"IF(IFERROR(VLOOKUP(($B$2&\"_\"&$A28),'Time Entry Sheet'!$A$3:$I$499,7,FALSE),\"Error\")=\"Error\",\"\",IF(VLOOKUP(($B$2&\"_\"&$A28),'Time Entry Sheet'!$A$3:$I$499,7,FALSE)=\"\",\"\",VLOOKUP(($B$2&\"_\"&$A28),'Time Entry Sheet'!$A$3:$I$499,7,FALSE)))","v":""},"00:00:47.440","00:00:47.440",1,{"$f":"IF(A28=\"\",\"\",M28+VLOOKUP(A28,'Test 3'!$A$12:$Q$51,16,FALSE))","v":"00:03:09.260"},1,null,"","00:03:09.260"]
[18,{"$f":"IF($A29=\"\",\"\",IF(VLOOKUP($A29,Competitors!$A$2:$G$60,2,FALSE)=\"\",\"\",VLOOKUP($A29,Competitors!$A$2:$G$60,2,FALSE)))","v":"Jack Stanley"},{"$f":"IF($A29=\"\",\"\",IF(VLOOKUP($A29,Competitors!$A$2:$G$60,7,FALSE)=\"\",\"\",VLOOKUP($A29,Competitors!$A$2:$G$60,7,FALSE)))","v":"rookie"},{"$f":"IF($A29=\"\",\"\",IF(VLOOKUP($A29,Competitors!$A$2:$G$60,5,FALSE)=\"\",\"\",VLOOKUP($A29,Competitors!$A$2:$G$60,5,FALSE)))","v":""},{"$f":"IF($A29=\"\",\"\",IF(VLOOKUP($A29,Competitors!$A$2:$G$60,6,FALSE)=\"\",\"\",VLOOKUP($A29,Competitors!$A$2:$G$60,6,FALSE)))","v":"senior"},{"$f":"IF($A29=\"\",\"\",IF(VLOOKUP($A29,Competitors!$A$2:$G$60,3,FALSE)=\"\",\"\",VLOOKUP($A29,Competitors!$A$2:$G$60,3,FALSE)))","v":""},{"$f":"IF($A29=\"\",\"\",IF(VLOOKUP($A29,Competitors!$A$2:$G$60,4,FALSE)=\"\",\"\",VLOOKUP($A29,Competitors!$A$2:$G$60,4,FALSE)))","v":""},{"$f":"IF(VLOOKUP(A29,Competitors!$A$1:$H$41,8,FALSE)=\"\",\"\",VLOOKUP(A29,Competitors!$A$1:$H$41,8,FALSE))","v":""},{"$f":"IF(IFERROR(VLOOKUP(($B$2&\"_\"&$A29),'Time Entry Sheet'!$A$3:$I$499,9,0),\"Error\")=\"Error\",\"\",IF(VLOOKUP(($B$2&\"_\"&$A29),'Time Entry Sheet'!$A$3:$I$499,9,FALSE)=\"wd\",\"wd\",VLOOKUP(($B$2&\"_\"&$A29),'Time Entry Sheet'!$A$3:$I$499,9,FALSE)*1))","v":"00:01:02.920"},"00:01:02.920",{"$f":"IF(IFERROR(VLOOKUP(($B$2&\"_\"&$A29),'Time Entry Sheet'!$A$3:$I$499,8,FALSE),\"Error\")=\"Error\",\"\",IF(VLOOKUP(($B$2&\"_\"&$A29),'Time Entry Sheet'!$A$3:$I$499,8,FALSE)=\"\",\"\",VLOOKUP(($B$2&\"_\"&$A29),'Time Entry Sheet'!$A$3:$I$499,8,FALSE)))","v":""},{"$f":"IF(IFERROR(VLOOKUP(($B$2&\"_\"&$A29),'Time Entry Sheet'!$A$3:$I$499,7,FALSE),\"Error\")=\"Error\",\"\",IF(VLOOKUP(($B$2&\"_\"&$A29),'Time Entry Sheet'!$A$3:$I$499,7,FALSE)=\"\",\"\",VLOOKUP(($B$2&\"_\"&$A29),'Time Entry Sheet'!$A$3:$I$499,7,FALSE)))","v":""},"00:01:02.920","00:01:02.920",16,{"$f":"IF(A29=\"\",\"\",M29+VLOOKUP(A29,'Test 3'!$A$12:$Q$51,16,FALSE))","v":"00:04:07.940"},16,null,"","00:04:07.940"]
[19,{"$f":"IF($A30=\"\",\"\",IF(VLOOKUP($A30,Competitors!$A$2:$G$60,2,FALSE)=\"\",\"\",VLOOKUP($A30,Competitors!$A$2:$G$60,2,FALSE)))","v":"Christopher Northey"},{"$f":"IF($A30=\"\",\"\",IF(VLOOKUP($A30,Competitors!$A$2:$G$60,7,FALSE)=\"\",\"\",VLOOKUP($A30,Competitors!$A$2:$G$60,7,FALSE)))","v":""},{"$f":"IF($A30=\"\",\"\",IF(VLOOKUP($A30,Competitors!$A$2:$G$60,5,FALSE)=\"\",\"\",VLOOKUP($A30,Competitors!$A$2:$G$60,5,FALSE)))","v":""},{"$f":"IF($A30=\"\",\"\",IF(VLOOKUP($A30,Competitors!$A$2:$G$60,6,FALSE)=\"\",\"\",VLOOKUP($A30,Competitors!$A$2:$G$60,6,FALSE)))","v":"senior"},{"$f":"IF($A30=\"\",\"\",IF(VLOOKUP($A30,Competitors!$A$2:$G$60,3,FALSE)=\"\",\"\",VLOOKUP($A30,Competitors!$A$2:$G$60,3,FALSE)))","v":""},{"$f":"IF($A30=\"\",\"\",IF(VLOOKUP($A30,Competitors!$A$2:$G$60,4,FALSE)=\"\",\"\",VLOOKUP($A30,Competitors!$A$2:$G$60,4,FALSE)))","v":""},{"$f":"IF(VLOOKUP(A30,Competitors!$A$1:$H$41,8,FALSE)=\"\",\"\",VLOOKUP(A30,Competitors!$A$1:$H$41,8,FALSE))","v":""},{"$f":"IF(IFERROR(VLOOKUP(($B$2&\"_\"&$A30),'Time Entry Sheet'!$A$3:$I$499,9,0),\"Error\")=\"Error\",\"\",IF(VLOOKUP(($B$2&\"_\"&$A30),'Time Entry Sheet'!$A$3:$I$499,9,FALSE)=\"wd\",\"wd\",VLOOKUP(($B$2&\"_\"&$A30),'Time Entry Sheet'!$A$3:$I$499,9,FALSE)*1))","v":"00:00:54.660"},"00:00:54.660",{"$f":"IF(IFERROR(VLOOKUP(($B$2&\"_\"&$A30),'Time Entry Sheet'!$A$3:$I$499,8,FALSE),\"Error\")=\"Error\",\"\",IF(VLOOKUP(($B$2&\"_\"&$A30),'Time Entry Sheet'!$A$3:$I$499,8,FALSE)=\"\",\"\",VLOOKUP(($B$2&\"_\"&$A30),'Time Entry Sheet'!$A$3:$I$499,8,FALSE)))","v":""},{"$f":"IF(IFERROR(VLOOKUP(($B$2&\"_\"&$A30),'Time Entry Sheet'!$A$3:$I$499,7,FALSE),\"Error\")=\"Error\",\"\",IF(VLOOKUP(($B$2&\"_\"&$A30),'Time Entry Sheet'!$A$3:$I$499,7,FALSE)=\"\",\"\",VLOOKUP(($B$2&\"_\"&$A30),'Time Entry Sheet'!$A$3:$I$499,7,FALSE)))","v":""},"00:00:54.660","00:00:54.660",7,{"$f":"IF(A30=\"\",\"\",M30+VLOOKUP(A30,'Test 3'!$A$12:$Q$51,16,FALSE))","v":"00:03:32.880"},6,null,"","00:03:32.880"]
[20,{"$f":"IF($A31=\"\",\"\",IF(VLOOKUP($A31,Competitors!$A$2:$G$60,2,FALSE)=\"\",\"\",VLOOKUP($A31,Competitors!$A$2:$G$60,2,FALSE)))","v":"Ray Lampl"},{"$f":"IF($A31=\"\",\"\",IF(VLOOKUP($A31,Competitors!$A$2:$G$60,7,FALSE)=\"\",\"\",VLOOKUP($A31,Competitors!$A$2:$G$60,7,FALSE)))","v":""},{"$f":"IF($A31=\"\",\"\",IF(VLOOKUP($A31,Competitors!$A$2:$G$60,5,FALSE)=\"\",\"\",VLOOKUP($A31,Competitors!$A$2:$G$60,5,FALSE)))","v":""},{"$f":"IF($A31=\"\",\"\",IF(VLOOKUP($A31,Competitors!$A$2:$G$60,6,FALSE)=\"\",\"\",VLOOKUP($A31,Competitors!$A$2:$G$60,6,FALSE)))","v":"senior"},{"$f":"IF($A31=\"\",\"\",IF(VLOOKUP($A31,Competitors!$A$2:$G$60,3,FALSE)=\"\",\"\",VLOOKUP($A31,Competitors!$A$2:$G$60,3,FALSE)))","v":""},{"$f":"IF($A31=\"\",\"\",IF(VLOOKUP($A31,Competitors!$A$2:$G$60,4,FALSE)=\"\",\"\",VLOOKUP($A31,Competitors!$A$2:$G$60,4,FALSE)))","v":""},{"$f":"IF(VLOOKUP(A31,Competitors!$A$1:$H$41,8,FALSE)=\"\",\"\",VLOOKUP(A31,Competitors!$A$1:$H$41,8,FALSE))","v":""},{"$f":"IF(IFERROR(VLOOKUP(($B$2&\"_\"&$A31),'Time Entry Sheet'!$A$3:$I$499,9,0),\"Error\")=\"Error\",\"\",IF(VLOOKUP(($B$2&\"_\"&$A31),'Time Entry Sheet'!$A$3:$I$499,9,FALSE)=\"wd\",\"wd\",VLOOKUP(($B$2&\"_\"&$A31),'Time Entry Sheet'!$A$3:$I$499,9,FALSE)*1))","v":"00:00:58.980"},{"$f":"IF(E31=\"Junior\",\"\",IF(I31=\"wd\",\"\",IF(K31<>\"\",\"\",I31)))","v":"00:00:58.980"},{"$f":"IF(IFERROR(VLOOKUP(($B$2&\"_\"&$A31),'Time Entry Sheet'!$A$3:$I$499,8,FALSE),\"Error\")=\"Error\",\"\",IF(VLOOKUP(($B$2&\"_\"&$A31),'Time Entry Sheet'!$A$3:$I$499,8,FALSE)=\"\",\"\",VLOOKUP(($B$2&\"_\"&$A31),'Time Entry Sheet'!$A$3:$I$499,8,FALSE)))","v":""},{"$f":"IF(IFERROR(VLOOKUP(($B$2&\"_\"&$A31),'Time Entry Sheet'!$A$3:$I$499,7,FALSE),\"Error\")=\"Error\",\"\",IF(VLOOKUP(($B$2&\"_\"&$A31),'Time Entry Sheet'!$A$3:$I$499,7,FALSE)=\"\",\"\",VLOOKUP(($B$2&\"_\"&$A31),'Time Entry Sheet'!$A$3:$I$499,7,FALSE)))","v":""},{"$f":"IF(A31=\"\",\"\",IF(I31=\"wd\",IF(E31=\"Senior\",$B$7,$C$7),IF(L31<>\"\",$B$7,IF(I31=\"\",IF(E31=\"Senior\",$B$8,$C$8),IF(K31=\"\",I31,I31+($B$5*K31))))))","v":"00:00:58.980"},{"$f":"IF(H31=\"Passenger\",\"\",M31)","v":"00:00:58.980"},{"$f":"IF(A31=\"\",\"\",IF(H31=\"Passenger\",\"P\",RANK(N31,$N$12:$N$51,1)))","v":14},{"$f":"IF(A31=\"\",\"\",M31+VLOOKUP(A31,'Test 3'!$A$12:$Q$51,16,FALSE))","v":"00:03:34.090"},{"$f":"IF(A31=\"\",\"\",IF(H31=\"Passenger\",\"P\",RANK(T31,$T$12:$T$51,1)))","v":7},null,{"$f":"IF(E31=\"Senior\",\"\",IF(I31=\"wd\",\"\",IF(K31<>\"\",\"\",I31)))","v":""},{"$f":"IF(H31=\"Passenger\",\"\",P31)","v":"00:03:34.090"}]
[21,{"$f":"IF($A32=\"\",\"\",IF(VLOOKUP($A32,Competitors!$A$2:$G$60,2,FALSE)=\"\",\"\",VLOOKUP($A32,Competitors!$A$2:$G$60,2,FALSE)))","v":""},{"$f":"IF($A32=\"\",\"\",IF(VLOOKUP($A32,Competitors!$A$2:$G$60,7,FALSE)=\"\",\"\",VLOOKUP($A32,Competitors!$A$2:$G$60,7,FALSE)))","v":""},{"$f":"IF($A32=\"\",\"\",IF(VLOOKUP($A32,Competitors!$A$2:$G$60,5,FALSE)=\"\",\"\",VLOOKUP($A32,Competitors!$A$2:$G$60,5,FALSE)))","v":""},{"$f":"IF($A32=\"\",\"\",IF(VLOOKUP($A32,Competitors!$A$2:$G$60,6,FALSE)=\"\",\"\",VLOOKUP($A32,Competitors!$A$2:$G$60,6,FALSE)))","v":"senior"},{"$f":"IF($A32=\"\",\"\",IF(VLOOKUP($A32,Competitors!$A$2:$G$60,3,FALSE)=\"\",\"\",VLOOKUP($A32,Competitors!$A$2:$G$60,3,FALSE)))","v":""},{"$f":"IF($A32=\"\",\"\",IF(VLOOKUP($A32,Competitors!$A$2:$G$60,4,FALSE)=\"\",\"\",VLOOKUP($A32,Competitors!$A$2:$G$60,4,FALSE)))","v":""},{"$f":"IF(VLOOKUP(A32,Competitors!$A$1:$H$41,8,FALSE)=\"\",\"\",VLOOKUP(A32,Competitors!$A$1:$H$41,8,FALSE))","v":""},{"$f":"IF(IFERROR(VLOOKUP(($B$2&\"_\"&$A32),'Time Entry Sheet'!$A$3:$I$499,9,0),\"Error\")=\"Error\",\"\",IF(VLOOKUP(($B$2&\"_\"&$A32),'Time Entry Sheet'!$A$3:$I$499,9,FALSE)=\"wd\",\"wd\",VLOOKUP(($B$2&\"_\"&$A32),'Time Entry Sheet'!$A$3:$I$499,9,FALSE)*1))","v":""},"",{"$f":"IF(IFERROR(VLOOKUP(($B$2&\"_\"&$A32),'Time Entry Sheet'!$A$3:$I$499,8,FALSE),\"Error\")=\"Error\",\"\",IF(VLOOKUP(($B$2&\"_\"&$A32),'Time Entry Sheet'!$A$3:$I$499,8,FALSE)=\"\",\"\",VLOOKUP(($B$2&\"_\"&$A32),'Time Entry Sheet'!$A$3:$I$499,8,FALSE)))","v":""},{"$f":"IF(IFERROR(VLOOKUP(($B$2&\"_\"&$A32),'Time Entry Sheet'!$A$3:$I$499,7,FALSE),\"Error\")=\"Error\",\"\",IF(VLOOKUP(($B$2&\"_\"&$A32),'Time Entry Sheet'!$A$3:$I$499,7,FALSE)=\"\",\"\",VLOOKUP(($B$2&\"_\"&$A32),'Time Entry Sheet'!$A$3:$I$499,7,FALSE)))","v":""},"00:01:16.740","00:01:16.740",20,{"$f":"IF(A32=\"\",\"\",M32+VLOOKUP(A32,'Test 3'!$A$12:$Q$51,16,FALSE))","v":"00:05:07.580"},20,null,"","00:05:07.580"]
[22,{"$f":"IF($A33=\"\",\"\",IF(VLOOKUP($A33,Competitors!$A$2:$G$60,2,FALSE)=\"\",\"\",VLOOKUP($A33,Competitors!$A$2:$G$60,2,FALSE)))","v":""},{"$f":"IF($A33=\"\",\"\",IF(VLOOKUP($A33,Competitors!$A$2:$G$60,7,FALSE)=\"\",\"\",VLOOKUP($A33,Competitors!$A$2:$G$60,7,FALSE)))","v":""},{"$f":"IF($A33=\"\",\"\",IF(VLOOKUP($A33,Competitors!$A$2:$G$60,5,FALSE)=\"\",\"\",VLOOKUP($A33,Competitors!$A$2:$G$60,5,FALSE)))","v":""},{"$f":"IF($A33=\"\",\"\",IF(VLOOKUP($A33,Competitors!$A$2:$G$60,6,FALSE)=\"\",\"\",VLOOKUP($A33,Competitors!$A$2:$G$60,6,FALSE)))","v":"senior"},{"$f":"IF($A33=\"\",\"\",IF(VLOOKUP($A33,Competitors!$A$2:$G$60,3,FALSE)=\"\",\"\",VLOOKUP($A33,Competitors!$A$2:$G$60,3,FALSE)))","v":""},{"$f":"IF($A33=\"\",\"\",IF(VLOOKUP($A33,Competitors!$A$2:$G$60,4,FALSE)=\"\",\"\",VLOOKUP($A33,Competitors!$A$2:$G$60,4,FALSE)))","v":""},{"$f":"IF(VLOOKUP(A33,Competitors!$A$1:$H$41,8,FALSE)=\"\",\"\",VLOOKUP(A33,Competitors!$A$1:$H$41,8,FALSE))","v":""},{"$f":"IF(IFERROR(VLOOKUP(($B$2&\"_\"&$A33),'Time Entry Sheet'!$A$3:$I$499,9,0),\"Error\")=\"Error\",\"\",IF(VLOOKUP(($B$2&\"_\"&$A33),'Time Entry Sheet'!$A$3:$I$499,9,FALSE)=\"wd\",\"wd\",VLOOKUP(($B$2&\"_\"&$A33),'Time Entry Sheet'!$A$3:$I$499,9,FALSE)*1))","v":""},"",{"$f":"IF(IFERROR(VLOOKUP(($B$2&\"_\"&$A33),'Time Entry Sheet'!$A$3:$I$499,8,FALSE),\"Error\")=\"Error\",\"\",IF(VLOOKUP(($B$2&\"_\"&$A33),'Time Entry Sheet'!$A$3:$I$499,8,FALSE)=\"\",\"\",VLOOKUP(($B$2&\"_\"&$A33),'Time Entry Sheet'!$A$3:$I$499,8,FALSE)))","v":""},{"$f":"IF(IFERROR(VLOOKUP(($B$2&\"_\"&$A33),'Time Entry Sheet'!$A$3:$I$499,7,FALSE),\"Error\")=\"Error\",\"\",IF(VLOOKUP(($B$2&\"_\"&$A33),'Time Entry Sheet'!$A$3:$I$499,7,FALSE)=\"\",\"\",VLOOKUP(($B$2&\"_\"&$A33),'Time Entry Sheet'!$A$3:$I$499,7,FALSE)))","v":""},"00:01:16.740","00:01:16.740",20,{"$f":"IF(A33=\"\",\"\",M33+VLOOKUP(A33,'Test 3'!$A$12:$Q$51,16,FALSE))","v":"00:05:07.580"},20,null,"","00:05:07.580"]
[23,{"$f":"IF($A34=\"\",\"\",IF(VLOOKUP($A34,Competitors!$A$2:$G$60,2,FALSE)=\"\",\"\",VLOOKUP($A34,Competitors!$A$2:$G$60,2,FALSE)))","v":""},{"$f":"IF($A34=\"\",\"\",IF(VLOOKUP($A34,Competitors!$A$2:$G$60,7,FALSE)=\"\",\"\",VLOOKUP($A34,Competitors!$A$2:$G$60,7,FALSE)))","v":""},{"$f":"IF($A34=\"\",\"\",IF(VLOOKUP($A34,Competitors!$A$2:$G$60,5,FALSE)=\"\",\"\",VLOOKUP($A34,Competitors!$A$2:$G$60,5,FALSE)))","v":""},{"$f":"IF($A34=\"\",\"\",IF(VLOOKUP($A34,Competitors!$A$2:$G$60,6,FALSE)=\"\",\"\",VLOOKUP($A34,Competitors!$A$2:$G$60,6,FALSE)))","v":"senior"},{"$f":"IF($A34=\"\",\"\",IF(VLOOKUP($A34,Competitors!$A$2:$G$60,3,FALSE)=\"\",\"\",VLOOKUP($A34,Competitors!$A$2:$G$60,3,FALSE)))","v":""},{"$f":"IF($A34=\"\",\"\",IF(VLOOKUP($A34,Competitors!$A$2:$G$60,4,FALSE)=\"\",\"\",VLOOKUP($A34,Competitors!$A$2:$G$60,4,FALSE)))","v":""},{"$f":"IF(VLOOKUP(A34,Competitors!$A$1:$H$41,8,FALSE)=\"\",\"\",VLOOKUP(A34,Competitors!$A$1:$H$41,8,FALSE))","v":""},{"$f":"IF(IFERROR(VLOOKUP(($B$2&\"_\"&$A34),'Time Entry Sheet'!$A$3:$I$499,9,0),\"Error\")=\"Error\",\"\",IF(VLOOKUP(($B$2&\"_\"&$A34),'Time Entry Sheet'!$A$3:$I$499,9,FALSE)=\"wd\",\"wd\",VLOOKUP(($B$2&\"_\"&$A34),'Time Entry Sheet'!$A$3:$I$499,9,FALSE)*1))","v":""},"",{"$f":"IF(IFERROR(VLOOKUP(($B$2&\"_\"&$A34),'Time Entry Sheet'!$A$3:$I$499,8,FALSE),\"Error\")=\"Error\",\"\",IF(VLOOKUP(($B$2&\"_\"&$A34),'Time Entry Sheet'!$A$3:$I$499,8,FALSE)=\"\",\"\",VLOOKUP(($B$2&\"_\"&$A34),'Time Entry Sheet'!$A$3:$I$499,8,FALSE)))","v":""},{"$f":"IF(IFERROR(VLOOKUP(($B$2&\"_\"&$A34),'Time Entry Sheet'!$A$3:$I$499,7,FALSE),\"Error\")=\"Error\",\"\",IF(VLOOKUP(($B$2&\"_\"&$A34),'Time Entry Sheet'!$A$3:$I$499,7,FALSE)=\"\",\"\",VLOOKUP(($B$2&\"_\"&$A34),'Time Entry Sheet'!$A$3:$I$499,7,FALSE)))","v":""},"00:01:16.740","00:01:16.740",20,{"$f":"IF(A34=\"\",\"\",M34+VLOOKUP(A34,'Test 3'!$A$12:$Q$51,16,FALSE))","v":"00:05:07.580"},20,null,"","00:05:07.580"]
[24,{"$f":"IF($A35=\"\",\"\",IF(VLOOKUP($A35,Competitors!$A$2:$G$60,2,FALSE)=\"\",\"\",VLOOKUP($A35,Competitors!$A$2:$G$60,2,FALSE)))","v":""},{"$f":"IF($A35=\"\",\"\",IF(VLOOKUP($A35,Competitors!$A$2:$G$60,7,FALSE)=\"\",\"\",VLOOKUP($A35,Competitors!$A$2:$G$60,7,FALSE)))","v":""},{"$f":"IF($A35=\"\",\"\",IF(VLOOKUP($A35,Competitors!$A$2:$G$60,5,FALSE)=\"\",\"\",VLOOKUP($A35,Competitors!$A$2:$G$60,5,FALSE)))","v":""},{"$f":"IF($A35=\"\",\"\",IF(VLOOKUP($A35,Competitors!$A$2:$G$60,6,FALSE)=\"\",\"\",VLOOKUP($A35,Competitors!$A$2:$G$60,6,FALSE)))","v":"senior"},{"$f":"IF($A35=\"\",\"\",IF(VLOOKUP($A35,Competitors!$A$2:$G$60,3,FALSE)=\"\",\"\",VLOOKUP($A35,Competitors!$A$2:$G$60,3,FALSE)))","v":""},{"$f":"IF($A35=\"\",\"\",IF(VLOOKUP($A35,Competitors!$A$2:$G$60,4,FALSE)=\"\",\"\",VLOOKUP($A35,Competitors!$A$2:$G$60,4,FALSE)))","v":""},{"$f":"IF(VLOOKUP(A35,Competitors!$A$1:$H$41,8,FALSE)=\"\",\"\",VLOOKUP(A35,Competitors!$A$1:$H$41,8,FALSE))","v":""},{"$f":"IF(IFERROR(VLOOKUP(($B$2&\"_\"&$A35),'Time Entry Sheet'!$A$3:$I$499,9,0),\"Error\")=\"Error\",\"\",IF(VLOOKUP(($B$2&\"_\"&$A35),'Time Entry Sheet'!$A$3:$I$499,9,FALSE)=\"wd\",\"wd\",VLOOKUP(($B$2&\"_\"&$A35),'Time Entry Sheet'!$A$3:$I$499,9,FALSE)*1))","v":""},"",{"$f":"IF(IFERROR(VLOOKUP(($B$2&\"_\"&$A35),'Time Entry Sheet'!$A$3:$I$499,8,FALSE),\"Error\")=\"Error\",\"\",IF(VLOOKUP(($B$2&\"_\"&$A35),'Time Entry Sheet'!$A$3:$I$499,8,FALSE)=\"\",\"\",VLOOKUP(($B$2&\"_\"&$A35),'Time Entry Sheet'!$A$3:$I$499,8,FALSE)))","v":""},{"$f":"IF(IFERROR(VLOOKUP(($B$2&\"_\"&$A35),'Time Entry Sheet'!$A$3:$I$499,7,FALSE),\"Error\")=\"Error\",\"\",IF(VLOOKUP(($B$2&\"_\"&$A35),'Time Entry Sheet'!$A$3:$I$499,7,FALSE)=\"\",\"\",VLOOKUP(($B$2&\"_\"&$A35),'Time Entry Sheet'!$A$3:$I$499,7,FALSE)))","v":""},"00:01:16.740","00:01:16.740",20,{"$f":"IF(A35=\"\",\"\",M35+VLOOKUP(A35,'Test 3'!$A$12:$Q$51,16,FALSE))","v":"00:05:07.580"},20,null,"","00:05:07.580"]
[25,{"$f":"IF($A36=\"\",\"\",IF(VLOOKUP($A36,Competitors!$A$2:$G$60,2,FALSE)=\"\",\"\",VLOOKUP($A36,Competitors!$A$2:$G$60,2,FALSE)))","v":""},{"$f":"IF($A36=\"\",\"\",IF(VLOOKUP($A36,Competitors!$A$2:$G$60,7,FALSE)=\"\",\"\",VLOOKUP($A36,Competitors!$A$2:$G$60,7,FALSE)))","v":""},{"$f":"IF($A36=\"\",\"\",IF(VLOOKUP($A36,Competitors!$A$2:$G$60,5,FALSE)=\"\",\"\",VLOOKUP($A36,Competitors!$A$2:$G$60,5,FALSE)))","v":""},{"$f":"IF($A36=\"\",\"\",IF(VLOOKUP($A36,Competitors!$A$2:$G$60,6,FALSE)=\"\",\"\",VLOOKUP($A36,Competitors!$A$2:$G$60,6,FALSE)))","v":"senior"},{"$f":"IF($A36=\"\",\"\",IF(VLOOKUP($A36,Competitors!$A$2:$G$60,3,FALSE)=\"\",\"\",VLOOKUP($A36,Competitors!$A$2:$G$60,3,FALSE)))","v":""},{"$f":"IF($A36=\"\",\"\",IF(VLOOKUP($A36,Competitors!$A$2:$G$60,4,FALSE)=\"\",\"\",VLOOKUP($A36,Competitors!$A$2:$G$60,4,FALSE)))","v":""},{"$f":"IF(VLOOKUP(A36,Competitors!$A$1:$H$41,8,FALSE)=\"\",\"\",VLOOKUP(A36,Competitors!$A$1:$H$41,8,FALSE))","v":""},{"$f":"IF(IFERROR(VLOOKUP(($B$2&\"_\"&$A36),'Time Entry Sheet'!$A$3:$I$499,9,0),\"Error\")=\"Error\",\"\",IF(VLOOKUP(($B$2&\"_\"&$A36),'Time Entry Sheet'!$A$3:$I$499,9,FALSE)=\"wd\",\"wd\",VLOOKUP(($B$2&\"_\"&$A36),'Time Entry Sheet'!$A$3:$I$499,9,FALSE)*1))","v":""},"",{"$f":"IF(IFERROR(VLOOKUP(($B$2&\"_\"&$A36),'Time Entry Sheet'!$A$3:$I$499,8,FALSE),\"Error\")=\"Error\",\"\",IF(VLOOKUP(($B$2&\"_\"&$A36),'Time Entry Sheet'!$A$3:$I$499,8,FALSE)=\"\",\"\",VLOOKUP(($B$2&\"_\"&$A36),'Time Entry Sheet'!$A$3:$I$499,8,FALSE)))","v":""},{"$f":"IF(IFERROR(VLOOKUP(($B$2&\"_\"&$A36),'Time Entry Sheet'!$A$3:$I$499,7,FALSE),\"Error\")=\"Error\",\"\",IF(VLOOKUP(($B$2&\"_\"&$A36),'Time Entry Sheet'!$A$3:$I$499,7,FALSE)=\"\",\"\",VLOOKUP(($B$2&\"_\"&$A36),'Time Entry Sheet'!$A$3:$I$499,7,FALSE)))","v":""},"00:01:16.740","00:01:16.740",20,{"$f":"IF(A36=\"\",\"\",M36+VLOOKUP(A36,'Test 3'!$A$12:$Q$51,16,FALSE))","v":"00:05:07.580"},20,null,"","00:05:07.580"]
[26,{"$f":"IF($A37=\"\",\"\",IF(VLOOKUP($A37,Competitors!$A$2:$G$60,2,FALSE)=\"\",\"\",VLOOKUP($A37,Competitors!$A$2:$G$60,2,FALSE)))","v":""},{"$f":"IF($A37=\"\",\"\",IF(VLOOKUP($A37,Competitors!$A$2:$G$60,7,FALSE)=\"\",\"\",VLOOKUP($A37,Competitors!$A$2:$G$60,7,FALSE)))","v":""},{"$f":"IF($A37=\"\",\"\",IF(VLOOKUP($A37,Competitors!$A$2:$G$60,5,FALSE)=\"\",\"\",VLOOKUP($A37,Competitors!$A$2:$G$60,5,FALSE)))","v":""},{"$f":"IF($A37=\"\",\"\",IF(VLOOKUP($A37,Competitors!$A$2:$G$60,6,FALSE)=\"\",\"\",VLOOKUP($A37,Competitors!$A$2:$G$60,6,FALSE)))","v":"senior"},{"$f":"IF($A37=\"\",\"\",IF(VLOOKUP($A37,Competitors!$A$2:$G$60,3,FALSE)=\"\",\"\",VLOOKUP($A37,Competitors!$A$2:$G$60,3,FALSE)))","v":""},{"$f":"IF($A37=\"\",\"\",IF(VLOOKUP($A37,Competitors!$A$2:$G$60,4,FALSE)=\"\",\"\",VLOOKUP($A37,Competitors!$A$2:$G$60,4,FALSE)))","v":""},{"$f":"IF(VLOOKUP(A37,Competitors!$A$1:$H$41,8,FALSE)=\"\",\"\",VLOOKUP(A37,Competitors!$A$1:$H$41,8,FALSE))","v":""},{"$f":"IF(IFERROR(VLOOKUP(($B$2&\"_\"&$A37),'Time Entry Sheet'!$A$3:$I$499,9,0),\"Error\")=\"Error\",\"\",IF(VLOOKUP(($B$2&\"_\"&$A37),'Time Entry Sheet'!$A$3:$I$499,9,FALSE)=\"wd\",\"wd\",VLOOKUP(($B$2&\"_\"&$A37),'Time Entry Sheet'!$A$3:$I$499,9,FALSE)*1))","v":""},"",{"$f":"IF(IFERROR(VLOOKUP(($B$2&\"_\"&$A37),'Time Entry Sheet'!$A$3:$I$499,8,FALSE),\"Error\")=\"Error\",\"\",IF(VLOOKUP(($B$2&\"_\"&$A37),'Time Entry Sheet'!$A$3:$I$499,8,FALSE)=\"\",\"\",VLOOKUP(($B$2&\"_\"&$A37),'Time Entry Sheet'!$A$3:$I$499,8,FALSE)))","v":""},{"$f":"IF(IFERROR(VLOOKUP(($B$2&\"_\"&$A37),'Time Entry Sheet'!$A$3:$I$499,7,FALSE),\"Error\")=\"Error\",\"\",IF(VLOOKUP(($B$2&\"_\"&$A37),'Time Entry Sheet'!$A$3:$I$499,7,FALSE)=\"\",\"\",VLOOKUP(($B$2&\"_\"&$A37),'Time Entry Sheet'!$A$3:$I$499,7,FALSE)))","v":""},"00:01:16.740","00:01:16.740",20,{"$f":"IF(A37=\"\",\"\",M37+VLOOKUP(A37,'Test 3'!$A$12:$Q$51,16,FALSE))","v":"00:05:07.580"},20,null,"","00:05:07.580"]
[27,{"$f":"IF($A38=\"\",\"\",IF(VLOOKUP($A38,Competitors!$A$2:$G$60,2,FALSE)=\"\",\"\",VLOOKUP($A38,Competitors!$A$2:$G$60,2,FALSE)))","v":""},{"$f":"IF($A38=\"\",\"\",IF(VLOOKUP($A38,Competitors!$A$2:$G$60,7,FALSE)=\"\",\"\",VLOOKUP($A38,Competitors!$A$2:$G$60,7,FALSE)))","v":""},{"$f":"IF($A38=\"\",\"\",IF(VLOOKUP($A38,Competitors!$A$2:$G$60,5,FALSE)=\"\",\"\",VLOOKUP($A38,Competitors!$A$2:$G$60,5,FALSE)))","v":""},{"$f":"IF($A38=\"\",\"\",IF(VLOOKUP($A38,Competitors!$A$2:$G$60,6,FALSE)=\"\",\"\",VLOOKUP($A38,Competitors!$A$2:$G$60,6,FALSE)))","v":"senior"},{"$f":"IF($A38=\"\",\"\",IF(VLOOKUP($A38,Competitors!$A$2:$G$60,3,FALSE)=\"\",\"\",VLOOKUP($A38,Competitors!$A$2:$G$60,3,FALSE)))","v":""},{"$f":"IF($A38=\"\",\"\",IF(VLOOKUP($A38,Competitors!$A$2:$G$60,4,FALSE)=\"\",\"\",VLOOKUP($A38,Competitors!$A$2:$G$60,4,FALSE)))","v":""},{"$f":"IF(VLOOKUP(A38,Competitors!$A$1:$H$41,8,FALSE)=\"\",\"\",VLOOKUP(A38,Competitors!$A$1:$H$41,8,FALSE))","v":""},{"$f":"IF(IFERROR(VLOOKUP(($B$2&\"_\"&$A38),'Time Entry Sheet'!$A$3:$I$499,9,0),\"Error\")=\"Error\",\"\",IF(VLOOKUP(($B$2&\"_\"&$A38),'Time Entry Sheet'!$A$3:$I$499,9,FALSE)=\"wd\",\"wd\",VLOOKUP(($B$2&\"_\"&$A38),'Time Entry Sheet'!$A$3:$I$499,9,FALSE)*1))","v":""},"",{"$f":"IF(IFERROR(VLOOKUP(($B$2&\"_\"&$A38),'Time Entry Sheet'!$A$3:$I$499,8,FALSE),\"Error\")=\"Error\",\"\",IF(VLOOKUP(($B$2&\"_\"&$A38),'Time Entry Sheet'!$A$3:$I$499,8,FALSE)=\"\",\"\",VLOOKUP(($B$2&\"_\"&$A38),'Time Entry Sheet'!$A$3:$I$499,8,FALSE)))","v":""},{"$f":"IF(IFERROR(VLOOKUP(($B$2&\"_\"&$A38),'Time Entry Sheet'!$A$3:$I$499,7,FALSE),\"Error\")=\"Error\",\"\",IF(VLOOKUP(($B$2&\"_\"&$A38),'Time Entry Sheet'!$A$3:$I$499,7,FALSE)=\"\",\"\",VLOOKUP(($B$2&\"_\"&$A38),'Time Entry Sheet'!$A$3:$I$499,7,FALSE)))","v":""},"00:01:16.740","00:01:16.740",20,{"$f":"IF(A38=\"\",\"\",M38+VLOOKUP(A38,'Test 3'!$A$12:$Q$51,16,FALSE))","v":"00:05:07.580"},20,null,"","00:05:07.580"]
[28,{"$f":"IF($A39=\"\",\"\",IF(VLOOKUP($A39,Competitors!$A$2:$G$60,2,FALSE)=\"\",\"\",VLOOKUP($A39,Competitors!$A$2:$G$60,2,FALSE)))","v":""},{"$f":"IF($A39=\"\",\"\",IF(VLOOKUP($A39,Competitors!$A$2:$G$60,7,FALSE)=\"\",\"\",VLOOKUP($A39,Competitors!$A$2:$G$60,7,FALSE)))","v":""},{"$f":"IF($A39=\"\",\"\",IF(VLOOKUP($A39,Competitors!$A$2:$G$60,5,FALSE)=\"\",\"\",VLOOKUP($A39,Competitors!$A$2:$G$60,5,FALSE)))","v":""},{"$f":"IF($A39=\"\",\"\",IF(VLOOKUP($A39,Competitors!$A$2:$G$60,6,FALSE)=\"\",\"\",VLOOKUP($A39,Competitors!$A$2:$G$60,6,FALSE)))","v":"senior"},{"$f":"IF($A39=\"\",\"\",IF(VLOOKUP($A39,Competitors!$A$2:$G$60,3,FALSE)=\"\",\"\",VLOOKUP($A39,Competitors!$A$2:$G$60,3,FALSE)))","v":""},{"$f":"IF($A39=\"\",\"\",IF(VLOOKUP($A39,Competitors!$A$2:$G$60,4,FALSE)=\"\",\"\",VLOOKUP($A39,Competitors!$A$2:$G$60,4,FALSE)))","v":""},{"$f":"IF(VLOOKUP(A39,Competitors!$A$1:$H$41,8,FALSE)=\"\",\"\",VLOOKUP(A39,Competitors!$A$1:$H$41,8,FALSE))","v":""},{"$f":"IF(IFERROR(VLOOKUP(($B$2&\"_\"&$A39),'Time Entry Sheet'!$A$3:$I$499,9,0),\"Error\")=\"Error\",\"\",IF(VLOOKUP(($B$2&\"_\"&$A39),'Time Entry Sheet'!$A$3:$I$499,9,FALSE)=\"wd\",\"wd\",VLOOKUP(($B$2&\"_\"&$A39),'Time Entry Sheet'!$A$3:$I$499,9,FALSE)*1))","v":""},"",{"$f":"IF(IFERROR(VLOOKUP(($B$2&\"_\"&$A39),'Time Entry Sheet'!$A$3:$I$499,8,FALSE),\"Error\")=\"Error\",\"\",IF(VLOOKUP(($B$2&\"_\"&$A39),'Time Entry Sheet'!$A$3:$I$499,8,FALSE)=\"\",\"\",VLOOKUP(($B$2&\"_\"&$A39),'Time Entry Sheet'!$A$3:$I$499,8,FALSE)))","v":""},{"$f":"IF(IFERROR(VLOOKUP(($B$2&\"_\"&$A39),'Time Entry Sheet'!$A$3:$I$499,7,FALSE),\"Error\")=\"Error\",\"\",IF(VLOOKUP(($B$2&\"_\"&$A39),'Time Entry Sheet'!$A$3:$I$499,7,FALSE)=\"\",\"\",VLOOKUP(($B$2&\"_\"&$A39),'Time Entry Sheet'!$A$3:$I$499,7,FALSE)))","v":""},"00:01:16.740","00:01:16.740",20,{"$f":"IF(A39=\"\",\"\",M39+VLOOKUP(A39,'Test 3'!$A$12:$Q$51,16,FALSE))","v":"00:05:07.580"},20,null,"","00:05:07.580"]
[29,{"$f":"IF($A40=\"\",\"\",IF(VLOOKUP($A40,Competitors!$A$2:$G$60,2,FALSE)=\"\",\"\",VLOOKUP($A40,Competitors!$A$2:$G$60,2,FALSE)))","v":""},{"$f":"IF($A40=\"\",\"\",IF(VLOOKUP($A40,Competitors!$A$2:$G$60,7,FALSE)=\"\",\"\",VLOOKUP($A40,Competitors!$A$2:$G$60,7,FALSE)))","v":""},{"$f":"IF($A40=\"\",\"\",IF(VLOOKUP($A40,Competitors!$A$2:$G$60,5,FALSE)=\"\",\"\",VLOOKUP($A40,Competitors!$A$2:$G$60,5,FALSE)))","v":""},{"$f":"IF($A40=\"\",\"\",IF(VLOOKUP($A40,Competitors!$A$2:$G$60,6,FALSE)=\"\",\"\",VLOOKUP($A40,Competitors!$A$2:$G$60,6,FALSE)))","v":"senior"},{"$f":"IF($A40=\"\",\"\",IF(VLOOKUP($A40,Competitors!$A$2:$G$60,3,FALSE)=\"\",\"\",VLOOKUP($A40,Competitors!$A$2:$G$60,3,FALSE)))","v":""},{"$f":"IF($A40=\"\",\"\",IF(VLOOKUP($A40,Competitors!$A$2:$G$60,4,FALSE)=\"\",\"\",VLOOKUP($A40,Competitors!$A$2:$G$60,4,FALSE)))","v":""},{"$f":"IF(VLOOKUP(A40,Competitors!$A$1:$H$41,8,FALSE)=\"\",\"\",VLOOKUP(A40,Competitors!$A$1:$H$41,8,FALSE))","v":""},{"$f":"IF(IFERROR(VLOOKUP(($B$2&\"_\"&$A40),'Time Entry Sheet'!$A$3:$I$499,9,0),\"Error\")=\"Error\",\"\",IF(VLOOKUP(($B$2&\"_\"&$A40),'Time Entry Sheet'!$A$3:$I$499,9,FALSE)=\"wd\",\"wd\",VLOOKUP(($B$2&\"_\"&$A40),'Time Entry Sheet'!$A$3:$I$499,9,FALSE)*1))","v":""},"",{"$f":"IF(IFERROR(VLOOKUP(($B$2&\"_\"&$A40),'Time Entry Sheet'!$A$3:$I$499,8,FALSE),\"Error\")=\"Error\",\"\",IF(VLOOKUP(($B$2&\"_\"&$A40),'Time Entry Sheet'!$A$3:$I$499,8,FALSE)=\"\",\"\",VLOOKUP(($B$2&\"_\"&$A40),'Time Entry Sheet'!$A$3:$I$499,8,FALSE)))","v":""},{"$f":"IF(IFERROR(VLOOKUP(($B$2&\"_\"&$A40),'Time Entry Sheet'!$A$3:$I$499,7,FALSE),\"Error\")=\"Error\",\"\",IF(VLOOKUP(($B$2&\"_\"&$A40),'Time Entry Sheet'!$A$3:$I$499,7,FALSE)=\"\",\"\",VLOOKUP(($B$2&\"_\"&$A40),'Time Entry Sheet'!$A$3:$I$499,7,FALSE)))","v":""},"00:01:16.740","00:01:16.740",20,{"$f":"IF(A40=\"\",\"\",M40+VLOOKUP(A40,'Test 3'!$A$12:$Q$51,16,FALSE))","v":"00:05:07.580"},20,null,null,"00:05:07.580"]
[30,{"$f":"IF($A41=\"\",\"\",IF(VLOOKUP($A41,Competitors!$A$2:$G$60,2,FALSE)=\"\",\"\",VLOOKUP($A41,Competitors!$A$2:$G$60,2,FALSE)))","v":""},{"$f":"IF($A41=\"\",\"\",IF(VLOOKUP($A41,Competitors!$A$2:$G$60,7,FALSE)=\"\",\"\",VLOOKUP($A41,Competitors!$A$2:$G$60,7,FALSE)))","v":""},{"$f":"IF($A41=\"\",\"\",IF(VLOOKUP($A41,Competitors!$A$2:$G$60,5,FALSE)=\"\",\"\",VLOOKUP($A41,Competitors!$A$2:$G$60,5,FALSE)))","v":""},{"$f":"IF($A41=\"\",\"\",IF(VLOOKUP($A41,Competitors!$A$2:$G$60,6,FALSE)=\"\",\"\",VLOOKUP($A41,Competitors!$A$2:$G$60,6,FALSE)))","v":"senior"},{"$f":"IF($A41=\"\",\"\",IF(VLOOKUP($A41,Competitors!$A$2:$G$60,3,FALSE)=\"\",\"\",VLOOKUP($A41,Competitors!$A$2:$G$60,3,FALSE)))","v":""},{"$f":"IF($A41=\"\",\"\",IF(VLOOKUP($A41,Competitors!$A$2:$G$60,4,FALSE)=\"\",\"\",VLOOKUP($A41,Competitors!$A$2:$G$60,4,FALSE)))","v":""},{"$f":"IF(VLOOKUP(A41,Competitors!$A$1:$H$41,8,FALSE)=\"\",\"\",VLOOKUP(A41,Competitors!$A$1:$H$41,8,FALSE))","v":""},{"$f":"IF(IFERROR(VLOOKUP(($B$2&\"_\"&$A41),'Time Entry Sheet'!$A$3:$I$499,9,0),\"Error\")=\"Error\",\"\",IF(VLOOKUP(($B$2&\"_\"&$A41),'Time Entry Sheet'!$A$3:$I$499,9,FALSE)=\"wd\",\"wd\",VLOOKUP(($B$2&\"_\"&$A41),'Time Entry Sheet'!$A$3:$I$499,9,FALSE)*1))","v":""},"",{"$f":"IF(IFERROR(VLOOKUP(($B$2&\"_\"&$A41),'Time Entry Sheet'!$A$3:$I$499,8,FALSE),\"Error\")=\"Error\",\"\",IF(VLOOKUP(($B$2&\"_\"&$A41),'Time Entry Sheet'!$A$3:$I$499,8,FALSE)=\"\",\"\",VLOOKUP(($B$2&\"_\"&$A41),'Time Entry Sheet'!$A$3:$I$499,8,FALSE)))","v":""},{"$f":"IF(IFERROR(VLOOKUP(($B$2&\"_\"&$A41),'Time Entry Sheet'!$A$3:$I$499,7,FALSE),\"Error\")=\"Error\",\"\",IF(VLOOKUP(($B$2&\"_\"&$A41),'Time Entry Sheet'!$A$3:$I$499,7,FALSE)=\"\",\"\",VLOOKUP(($B$2&\"_\"&$A41),'Time Entry Sheet'!$A$3:$I$499,7,FALSE)))","v":""},"00:01:16.740","00:01:16.740",20,{"$f":"IF(A41=\"\",\"\",M41+VLOOKUP(A41,'Test 3'!$A$12:$Q$51,16,FALSE))","v":"00:05:07.580"},20,null,"","00:05:07.580"]
[31,{"$f":"IF($A42=\"\",\"\",IF(VLOOKUP($A42,Competitors!$A$2:$G$60,2,FALSE)=\"\",\"\",VLOOKUP($A42,Competitors!$A$2:$G$60,2,FALSE)))","v":""},{"$f":"IF($A42=\"\",\"\",IF(VLOOKUP($A42,Competitors!$A$2:$G$60,7,FALSE)=\"\",\"\",VLOOKUP($A42,Competitors!$A$2:$G$60,7,FALSE)))","v":""},{"$f":"IF($A42=\"\",\"\",IF(VLOOKUP($A42,Competitors!$A$2:$G$60,5,FALSE)=\"\",\"\",VLOOKUP($A42,Competitors!$A$2:$G$60,5,FALSE)))","v":""},{"$f":"IF($A42=\"\",\"\",IF(VLOOKUP($A42,Competitors!$A$2:$G$60,6,FALSE)=\"\",\"\",VLOOKUP($A42,Competitors!$A$2:$G$60,6,FALSE)))","v":"senior"},{"$f":"IF($A42=\"\",\"\",IF(VLOOKUP($A42,Competitors!$A$2:$G$60,3,FALSE)=\"\",\"\",VLOOKUP($A42,Competitors!$A$2:$G$60,3,FALSE)))","v":""},{"$f":"IF($A42=\"\",\"\",IF(VLOOKUP($A42,Competitors!$A$2:$G$60,4,FALSE)=\"\",\"\",VLOOKUP($A42,Competitors!$A$2:$G$60,4,FALSE)))","v":""},{"$f":"IF(VLOOKUP(A42,Competitors!$A$1:$H$41,8,FALSE)=\"\",\"\",VLOOKUP(A42,Competitors!$A$1:$H$41,8,FALSE))","v":""},{"$f":"IF(IFERROR(VLOOKUP(($B$2&\"_\"&$A42),'Time Entry Sheet'!$A$3:$I$499,9,0),\"Error\")=\"Error\",\"\",IF(VLOOKUP(($B$2&\"_\"&$A42),'Time Entry Sheet'!$A$3:$I$499,9,FALSE)=\"wd\",\"wd\",VLOOKUP(($B$2&\"_\"&$A42),'Time Entry Sheet'!$A$3:$I$499,9,FALSE)*1))","v":""},"",{"$f":"IF(IFERROR(VLOOKUP(($B$2&\"_\"&$A42),'Time Entry Sheet'!$A$3:$I$499,8,FALSE),\"Error\")=\"Error\",\"\",IF(VLOOKUP(($B$2&\"_\"&$A42),'Time Entry Sheet'!$A$3:$I$499,8,FALSE)=\"\",\"\",VLOOKUP(($B$2&\"_\"&$A42),'Time Entry Sheet'!$A$3:$I$499,8,FALSE)))","v":""},{"$f":"IF(IFERROR(VLOOKUP(($B$2&\"_\"&$A42),'Time Entry Sheet'!$A$3:$I$499,7,FALSE),\"Error\")=\"Error\",\"\",IF(VLOOKUP(($B$2&\"_\"&$A42),'Time Entry Sheet'!$A$3:$I$499,7,FALSE)=\"\",\"\",VLOOKUP(($B$2&\"_\"&$A42),'Time Entry Sheet'!$A$3:$I$499,7,FALSE)))","v":""},"00:01:16.740","00:01:16.740",20,{"$f":"IF(A42=\"\",\"\",M42+VLOOKUP(A42,'Test 3'!$A$12:$Q$51,16,FALSE))","v":"00:05:07.580"},20,null,"","00:05:07.580"]
[32,{"$f":"IF($A43=\"\",\"\",IF(VLOOKUP($A43,Competitors!$A$2:$G$60,2,FALSE)=\"\",\"\",VLOOKUP($A43,Competitors!$A$2:$G$60,2,FALSE)))","v":""},{"$f":"IF($A43=\"\",\"\",IF(VLOOKUP($A43,Competitors!$A$2:$G$60,7,FALSE)=\"\",\"\",VLOOKUP($A43,Competitors!$A$2:$G$60,7,FALSE)))","v":""},{"$f":"IF($A43=\"\",\"\",IF(VLOOKUP($A43,Competitors!$A$2:$G$60,5,FALSE)=\"\",\"\",VLOOKUP($A43,Competitors!$A$2:$G$60,5,FALSE)))","v":""},{"$f":"IF($A43=\"\",\"\",IF(VLOOKUP($A43,Competitors!$A$2:$G$60,6,FALSE)=\"\",\"\",VLOOKUP($A43,Competitors!$A$2:$G$60,6,FALSE)))","v":"senior"},{"$f":"IF($A43=\"\",\"\",IF(VLOOKUP($A43,Competitors!$A$2:$G$60,3,FALSE)=\"\",\"\",VLOOKUP($A43,Competitors!$A$2:$G$60,3,FALSE)))","v":""},{"$f":"IF($A43=\"\",\"\",IF(VLOOKUP($A43,Competitors!$A$2:$G$60,4,FALSE)=\"\",\"\",VLOOKUP($A43,Competitors!$A$2:$G$60,4,FALSE)))","v":""},{"$f":"IF(VLOOKUP(A43,Competitors!$A$1:$H$41,8,FALSE)=\"\",\"\",VLOOKUP(A43,Competitors!$A$1:$H$41,8,FALSE))","v":""},{"$f":"IF(IFERROR(VLOOKUP(($B$2&\"_\"&$A43),'Time Entry Sheet'!$A$3:$I$499,9,0),\"Error\")=\"Error\",\"\",IF(VLOOKUP(($B$2&\"_\"&$A43),'Time Entry Sheet'!$A$3:$I$499,9,FALSE)=\"wd\",\"wd\",VLOOKUP(($B$2&\"_\"&$A43),'Time Entry Sheet'!$A$3:$I$499,9,FALSE)*1))","v":""},"",{"$f":"IF(IFERROR(VLOOKUP(($B$2&\"_\"&$A43),'Time Entry Sheet'!$A$3:$I$499,8,FALSE),\"Error\")=\"Error\",\"\",IF(VLOOKUP(($B$2&\"_\"&$A43),'Time Entry Sheet'!$A$3:$I$499,8,FALSE)=\"\",\"\",VLOOKUP(($B$2&\"_\"&$A43),'Time Entry Sheet'!$A$3:$I$499,8,FALSE)))","v":""},{"$f":"IF(IFERROR(VLOOKUP(($B$2&\"_\"&$A43),'Time Entry Sheet'!$A$3:$I$499,7,FALSE),\"Error\")=\"Error\",\"\",IF(VLOOKUP(($B$2&\"_\"&$A43),'Time Entry Sheet'!$A$3:$I$499,7,FALSE)=\"\",\"\",VLOOKUP(($B$2&\"_\"&$A43),'Time Entry Sheet'!$A$3:$I$499,7,FALSE)))","v":""},"00:01:16.740","00:01:16.740",20,{"$f":"IF(A43=\"\",\"\",M43+VLOOKUP(A43,'Test 3'!$A$12:$Q$51,16,FALSE))","v":"00:05:07.580"},20,null,"","00:05:07.580"]
[33,{"$f":"IF($A44=\"\",\"\",IF(VLOOKUP($A44,Competitors!$A$2:$G$60,2,FALSE)=\"\",\"\",VLOOKUP($A44,Competitors!$A$2:$G$60,2,FALSE)))","v":""},{"$f":"IF($A44=\"\",\"\",IF(VLOOKUP($A44,Competitors!$A$2:$G$60,7,FALSE)=\"\",\"\",VLOOKUP($A44,Competitors!$A$2:$G$60,7,FALSE)))","v":""},{"$f":"IF($A44=\"\",\"\",IF(VLOOKUP($A44,Competitors!$A$2:$G$60,5,FALSE)=\"\",\"\",VLOOKUP($A44,Competitors!$A$2:$G$60,5,FALSE)))","v":""},{"$f":"IF($A44=\"\",\"\",IF(VLOOKUP($A44,Competitors!$A$2:$G$60,6,FALSE)=\"\",\"\",VLOOKUP($A44,Competitors!$A$2:$G$60,6,FALSE)))","v":"senior"},{"$f":"IF($A44=\"\",\"\",IF(VLOOKUP($A44,Competitors!$A$2:$G$60,3,FALSE)=\"\",\"\",VLOOKUP($A44,Competitors!$A$2:$G$60,3,FALSE)))","v":""},{"$f":"IF($A44=\"\",\"\",IF(VLOOKUP($A44,Competitors!$A$2:$G$60,4,FALSE)=\"\",\"\",VLOOKUP($A44,Competitors!$A$2:$G$60,4,FALSE)))","v":""},{"$f":"IF(VLOOKUP(A44,Competitors!$A$1:$H$41,8,FALSE)=\"\",\"\",VLOOKUP(A44,Competitors!$A$1:$H$41,8,FALSE))","v":""},{"$f":"IF(IFERROR(VLOOKUP(($B$2&\"_\"&$A44),'Time Entry Sheet'!$A$3:$I$499,9,0),\"Error\")=\"Error\",\"\",IF(VLOOKUP(($B$2&\"_\"&$A44),'Time Entry Sheet'!$A$3:$I$499,9,FALSE)=\"wd\",\"wd\",VLOOKUP(($B$2&\"_\"&$A44),'Time Entry Sheet'!$A$3:$I$499,9,FALSE)*1))","v":""},"",{"$f":"IF(IFERROR(VLOOKUP(($B$2&\"_\"&$A44),'Time Entry Sheet'!$A$3:$I$499,8,FALSE),\"Error\")=\"Error\",\"\",IF(VLOOKUP(($B$2&\"_\"&$A44),'Time Entry Sheet'!$A$3:$I$499,8,FALSE)=\"\",\"\",VLOOKUP(($B$2&\"_\"&$A44),'Time Entry Sheet'!$A$3:$I$499,8,FALSE)))","v":""},{"$f":"IF(IFERROR(VLOOKUP(($B$2&\"_\"&$A44),'Time Entry Sheet'!$A$3:$I$499,7,FALSE),\"Error\")=\"Error\",\"\",IF(VLOOKUP(($B$2&\"_\"&$A44),'Time Entry Sheet'!$A$3:$I$499,7,FALSE)=\"\",\"\",VLOOKUP(($B$2&\"_\"&$A44),'Time Entry Sheet'!$A$3:$I$499,7,FALSE)))","v":""},"00:01:16.740","00:01:16.740",20,{"$f":"IF(A44=\"\",\"\",M44+VLOOKUP(A44,'Test 3'!$A$12:$Q$51,16,FALSE))","v":"00:05:07.580"},20,null,"","00:05:07.580"]
[34,{"$f":"IF($A45=\"\",\"\",IF(VLOOKUP($A45,Competitors!$A$2:$G$60,2,FALSE)=\"\",\"\",VLOOKUP($A45,Competitors!$A$2:$G$60,2,FALSE)))","v":""},{"$f":"IF($A45=\"\",\"\",IF(VLOOKUP($A45,Competitors!$A$2:$G$60,7,FALSE)=\"\",\"\",VLOOKUP($A45,Competitors!$A$2:$G$60,7,FALSE)))","v":""},{"$f":"IF($A45=\"\",\"\",IF(VLOOKUP($A45,Competitors!$A$2:$G$60,5,FALSE)=\"\",\"\",VLOOKUP($A45,Competitors!$A$2:$G$60,5,FALSE)))","v":""},{"$f":"IF($A45=\"\",\"\",IF(VLOOKUP($A45,Competitors!$A$2:$G$60,6,FALSE)=\"\",\"\",VLOOKUP($A45,Competitors!$A$2:$G$60,6,FALSE)))","v":"senior"},{"$f":"IF($A45=\"\",\"\",IF(VLOOKUP($A45,Competitors!$A$2:$G$60,3,FALSE)=\"\",\"\",VLOOKUP($A45,Competitors!$A$2:$G$60,3,FALSE)))","v":""},{"$f":"IF($A45=\"\",\"\",IF(VLOOKUP($A45,Competitors!$A$2:$G$60,4,FALSE)=\"\",\"\",VLOOKUP($A45,Competitors!$A$2:$G$60,4,FALSE)))","v":""},{"$f":"IF(VLOOKUP(A45,Competitors!$A$1:$H$41,8,FALSE)=\"\",\"\",VLOOKUP(A45,Competitors!$A$1:$H$41,8,FALSE))","v":""},{"$f":"IF(IFERROR(VLOOKUP(($B$2&\"_\"&$A45),'Time Entry Sheet'!$A$3:$I$499,9,0),\"Error\")=\"Error\",\"\",IF(VLOOKUP(($B$2&\"_\"&$A45),'Time Entry Sheet'!$A$3:$I$499,9,FALSE)=\"wd\",\"wd\",VLOOKUP(($B$2&\"_\"&$A45),'Time Entry Sheet'!$A$3:$I$499,9,FALSE)*1))","v":""},"",{"$f":"IF(IFERROR(VLOOKUP(($B$2&\"_\"&$A45),'Time Entry Sheet'!$A$3:$I$499,8,FALSE),\"Error\")=\"Error\",\"\",IF(VLOOKUP(($B$2&\"_\"&$A45),'Time Entry Sheet'!$A$3:$I$499,8,FALSE)=\"\",\"\",VLOOKUP(($B$2&\"_\"&$A45),'Time Entry Sheet'!$A$3:$I$499,8,FALSE)))","v":""},{"$f":"IF(IFERROR(VLOOKUP(($B$2&\"_\"&$A45),'Time Entry Sheet'!$A$3:$I$499,7,FALSE),\"Error\")=\"Error\",\"\",IF(VLOOKUP(($B$2&\"_\"&$A45),'Time Entry Sheet'!$A$3:$I$499,7,FALSE)=\"\",\"\",VLOOKUP(($B$2&\"_\"&$A45),'Time Entry Sheet'!$A$3:$I$499,7,FALSE)))","v":""},"00:01:16.740","00:01:16.740",20,{"$f":"IF(A45=\"\",\"\",M45+VLOOKUP(A45,'Test 3'!$A$12:$Q$51,16,FALSE))","v":"00:05:07.580"},20,null,"","00:05:07.580"]
[35,{"$f":"IF($A46=\"\",\"\",IF(VLOOKUP($A46,Competitors!$A$2:$G$60,2,FALSE)=\"\",\"\",VLOOKUP($A46,Competitors!$A$2:$G$60,2,FALSE)))","v":""},{"$f":"IF($A46=\"\",\"\",IF(VLOOKUP($A46,Competitors!$A$2:$G$60,7,FALSE)=\"\",\"\",VLOOKUP($A46,Competitors!$A$2:$G$60,7,FALSE)))","v":""},{"$f":"IF($A46=\"\",\"\",IF(VLOOKUP($A46,Competitors!$A$2:$G$60,5,FALSE)=\"\",\"\",VLOOKUP($A46,Competitors!$A$2:$G$60,5,FALSE)))","v":""},{"$f":"IF($A46=\"\",\"\",IF(VLOOKUP($A46,Competitors!$A$2:$G$60,6,FALSE)=\"\",\"\",VLOOKUP($A46,Competitors!$A$2:$G$60,6,FALSE)))","v":"senior"},{"$f":"IF($A46=\"\",\"\",IF(VLOOKUP($A46,Competitors!$A$2:$G$60,3,FALSE)=\"\",\"\",VLOOKUP($A46,Competitors!$A$2:$G$60,3,FALSE)))","v":""},{"$f":"IF($A46=\"\",\"\",IF(VLOOKUP($A46,Competitors!$A$2:$G$60,4,FALSE)=\"\",\"\",VLOOKUP($A46,Competitors!$A$2:$G$60,4,FALSE)))","v":""},{"$f":"IF(VLOOKUP(A46,Competitors!$A$1:$H$41,8,FALSE)=\"\",\"\",VLOOKUP(A46,Competitors!$A$1:$H$41,8,FALSE))","v":""},{"$f":"IF(IFERROR(VLOOKUP(($B$2&\"_\"&$A46),'Time Entry Sheet'!$A$3:$I$499,9,0),\"Error\")=\"Error\",\"\",IF(VLOOKUP(($B$2&\"_\"&$A46),'Time Entry Sheet'!$A$3:$I$499,9,FALSE)=\"wd\",\"wd\",VLOOKUP(($B$2&\"_\"&$A46),'Time Entry Sheet'!$A$3:$I$499,9,FALSE)*1))","v":""},"",{"$f":"IF(IFERROR(VLOOKUP(($B$2&\"_\"&$A46),'Time Entry Sheet'!$A$3:$I$499,8,FALSE),\"Error\")=\"Error\",\"\",IF(VLOOKUP(($B$2&\"_\"&$A46),'Time Entry Sheet'!$A$3:$I$499,8,FALSE)=\"\",\"\",VLOOKUP(($B$2&\"_\"&$A46),'Time Entry Sheet'!$A$3:$I$499,8,FALSE)))","v":""},{"$f":"IF(IFERROR(VLOOKUP(($B$2&\"_\"&$A46),'Time Entry Sheet'!$A$3:$I$499,7,FALSE),\"Error\")=\"Error\",\"\",IF(VLOOKUP(($B$2&\"_\"&$A46),'Time Entry Sheet'!$A$3:$I$499,7,FALSE)=\"\",\"\",VLOOKUP(($B$2&\"_\"&$A46),'Time Entry Sheet'!$A$3:$I$499,7,FALSE)))","v":""},"00:01:16.740","00:01:16.740",20,{"$f":"IF(A46=\"\",\"\",M46+VLOOKUP(A46,'Test 3'!$A$12:$Q$51,16,FALSE))","v":"00:05:07.580"},20,null,"","00:05:07.580"]
[36,{"$f":"IF($A47=\"\",\"\",IF(VLOOKUP($A47,Competitors!$A$2:$G$60,2,FALSE)=\"\",\"\",VLOOKUP($A47,Competitors!$A$2:$G$60,2,FALSE)))","v":""},{"$f":"IF($A47=\"\",\"\",IF(VLOOKUP($A47,Competitors!$A$2:$G$60,7,FALSE)=\"\",\"\",VLOOKUP($A47,Competitors!$A$2:$G$60,7,FALSE)))","v":""},{"$f":"IF($A47=\"\",\"\",IF(VLOOKUP($A47,Competitors!$A$2:$G$60,5,FALSE)=\"\",\"\",VLOOKUP($A47,Competitors!$A$2:$G$60,5,FALSE)))","v":""},{"$f":"IF($A47=\"\",\"\",IF(VLOOKUP($A47,Competitors!$A$2:$G$60,6,FALSE)=\"\",\"\",VLOOKUP($A47,Competitors!$A$2:$G$60,6,FALSE)))","v":"senior"},{"$f":"IF($A47=\"\",\"\",IF(VLOOKUP($A47,Competitors!$A$2:$G$60,3,FALSE)=\"\",\"\",VLOOKUP($A47,Competitors!$A$2:$G$60,3,FALSE)))","v":""},{"$f":"IF($A47=\"\",\"\",IF(VLOOKUP($A47,Competitors!$A$2:$G$60,4,FALSE)=\"\",\"\",VLOOKUP($A47,Competitors!$A$2:$G$60,4,FALSE)))","v":""},{"$f":"IF(VLOOKUP(A47,Competitors!$A$1:$H$41,8,FALSE)=\"\",\"\",VLOOKUP(A47,Competitors!$A$1:$H$41,8,FALSE))","v":""},{"$f":"IF(IFERROR(VLOOKUP(($B$2&\"_\"&$A47),'Time Entry Sheet'!$A$3:$I$499,9,0),\"Error\")=\"Error\",\"\",IF(VLOOKUP(($B$2&\"_\"&$A47),'Time Entry Sheet'!$A$3:$I$499,9,FALSE)=\"wd\",\"wd\",VLOOKUP(($B$2&\"_\"&$A47),'Time Entry Sheet'!$A$3:$I$499,9,FALSE)*1))","v":""},"",{"$f":"IF(IFERROR(VLOOKUP(($B$2&\"_\"&$A47),'Time Entry Sheet'!$A$3:$I$499,8,FALSE),\"Error\")=\"Error\",\"\",IF(VLOOKUP(($B$2&\"_\"&$A47),'Time Entry Sheet'!$A$3:$I$499,8,FALSE)=\"\",\"\",VLOOKUP(($B$2&\"_\"&$A47),'Time Entry Sheet'!$A$3:$I$499,8,FALSE)))","v":""},{"$f":"IF(IFERROR(VLOOKUP(($B$2&\"_\"&$A47),'Time Entry Sheet'!$A$3:$I$499,7,FALSE),\"Error\")=\"Error\",\"\",IF(VLOOKUP(($B$2&\"_\"&$A47),'Time Entry Sheet'!$A$3:$I$499,7,FALSE)=\"\",\"\",VLOOKUP(($B$2&\"_\"&$A47),'Time Entry Sheet'!$A$3:$I$499,7,FALSE)))","v":""},"00:01:16.740","00:01:16.740",20,{"$f":"IF(A47=\"\",\"\",M47+VLOOKUP(A47,'Test 3'!$A$12:$Q$51,16,FALSE))","v":"00:05:07.580"},20,null,"","00:05:07.580"]
[37,{"$f":"IF($A48=\"\",\"\",IF(VLOOKUP($A48,Competitors!$A$2:$G$60,2,FALSE)=\"\",\"\",VLOOKUP($A48,Competitors!$A$2:$G$60,2,FALSE)))","v":""},{"$f":"IF($A48=\"\",\"\",IF(VLOOKUP($A48,Competitors!$A$2:$G$60,7,FALSE)=\"\",\"\",VLOOKUP($A48,Competitors!$A$2:$G$60,7,FALSE)))","v":""},{"$f":"IF($A48=\"\",\"\",IF(VLOOKUP($A48,Competitors!$A$2:$G$60,5,FALSE)=\"\",\"\",VLOOKUP($A48,Competitors!$A$2:$G$60,5,FALSE)))","v":""},{"$f":"IF($A48=\"\",\"\",IF(VLOOKUP($A48,Competitors!$A$2:$G$60,6,FALSE)=\"\",\"\",VLOOKUP($A48,Competitors!$A$2:$G$60,6,FALSE)))","v":"senior"},{"$f":"IF($A48=\"\",\"\",IF(VLOOKUP($A48,Competitors!$A$2:$G$60,3,FALSE)=\"\",\"\",VLOOKUP($A48,Competitors!$A$2:$G$60,3,FALSE)))","v":""},{"$f":"IF($A48=\"\",\"\",IF(VLOOKUP($A48,Competitors!$A$2:$G$60,4,FALSE)=\"\",\"\",VLOOKUP($A48,Competitors!$A$2:$G$60,4,FALSE)))","v":""},{"$f":"IF(VLOOKUP(A48,Competitors!$A$1:$H$41,8,FALSE)=\"\",\"\",VLOOKUP(A48,Competitors!$A$1:$H$41,8,FALSE))","v":""},{"$f":"IF(IFERROR(VLOOKUP(($B$2&\"_\"&$A48),'Time Entry Sheet'!$A$3:$I$499,9,0),\"Error\")=\"Error\",\"\",IF(VLOOKUP(($B$2&\"_\"&$A48),'Time Entry Sheet'!$A$3:$I$499,9,FALSE)=\"wd\",\"wd\",VLOOKUP(($B$2&\"_\"&$A48),'Time Entry Sheet'!$A$3:$I$499,9,FALSE)*1))","v":""},"",{"$f":"IF(IFERROR(VLOOKUP(($B$2&\"_\"&$A48),'Time Entry Sheet'!$A$3:$I$499,8,FALSE),\"Error\")=\"Error\",\"\",IF(VLOOKUP(($B$2&\"_\"&$A48),'Time Entry Sheet'!$A$3:$I$499,8,FALSE)=\"\",\"\",VLOOKUP(($B$2&\"_\"&$A48),'Time Entry Sheet'!$A$3:$I$499,8,FALSE)))","v":""},{"$f":"IF(IFERROR(VLOOKUP(($B$2&\"_\"&$A48),'Time Entry Sheet'!$A$3:$I$499,7,FALSE),\"Error\")=\"Error\",\"\",IF(VLOOKUP(($B$2&\"_\"&$A48),'Time Entry Sheet'!$A$3:$I$499,7,FALSE)=\"\",\"\",VLOOKUP(($B$2&\"_\"&$A48),'Time Entry Sheet'!$A$3:$I$499,7,FALSE)))","v":""},"00:01:16.740","00:01:16.740",20,{"$f":"IF(A48=\"\",\"\",M48+VLOOKUP(A48,'Test 3'!$A$12:$Q$51,16,FALSE))","v":"00:05:07.580"},20,null,"","00:05:07.580"]
[38,{"$f":"IF($A49=\"\",\"\",IF(VLOOKUP($A49,Competitors!$A$2:$G$60,2,FALSE)=\"\",\"\",VLOOKUP($A49,Competitors!$A$2:$G$60,2,FALSE)))","v":""},{"$f":"IF($A49=\"\",\"\",IF(VLOOKUP($A49,Competitors!$A$2:$G$60,7,FALSE)=\"\",\"\",VLOOKUP($A49,Competitors!$A$2:$G$60,7,FALSE)))","v":""},{"$f":"IF($A49=\"\",\"\",IF(VLOOKUP($A49,Competitors!$A$2:$G$60,5,FALSE)=\"\",\"\",VLOOKUP($A49,Competitors!$A$2:$G$60,5,FALSE)))","v":""},{"$f":"IF($A49=\"\",\"\",IF(VLOOKUP($A49,Competitors!$A$2:$G$60,6,FALSE)=\"\",\"\",VLOOKUP($A49,Competitors!$A$2:$G$60,6,FALSE)))","v":"senior"},{"$f":"IF($A49=\"\",\"\",IF(VLOOKUP($A49,Competitors!$A$2:$G$60,3,FALSE)=\"\",\"\",VLOOKUP($A49,Competitors!$A$2:$G$60,3,FALSE)))","v":""},{"$f":"IF($A49=\"\",\"\",IF(VLOOKUP($A49,Competitors!$A$2:$G$60,4,FALSE)=\"\",\"\",VLOOKUP($A49,Competitors!$A$2:$G$60,4,FALSE)))","v":""},{"$f":"IF(VLOOKUP(A49,Competitors!$A$1:$H$41,8,FALSE)=\"\",\"\",VLOOKUP(A49,Competitors!$A$1:$H$41,8,FALSE))","v":""},{"$f":"IF(IFERROR(VLOOKUP(($B$2&\"_\"&$A49),'Time Entry Sheet'!$A$3:$I$499,9,0),\"Error\")=\"Error\",\"\",IF(VLOOKUP(($B$2&\"_\"&$A49),'Time Entry Sheet'!$A$3:$I$499,9,FALSE)=\"wd\",\"wd\",VLOOKUP(($B$2&\"_\"&$A49),'Time Entry Sheet'!$A$3:$I$499,9,FALSE)*1))","v":""},"",{"$f":"IF(IFERROR(VLOOKUP(($B$2&\"_\"&$A49),'Time Entry Sheet'!$A$3:$I$499,8,FALSE),\"Error\")=\"Error\",\"\",IF(VLOOKUP(($B$2&\"_\"&$A49),'Time Entry Sheet'!$A$3:$I$499,8,FALSE)=\"\",\"\",VLOOKUP(($B$2&\"_\"&$A49),'Time Entry Sheet'!$A$3:$I$499,8,FALSE)))","v":""},{"$f":"IF(IFERROR(VLOOKUP(($B$2&\"_\"&$A49),'Time Entry Sheet'!$A$3:$I$499,7,FALSE),\"Error\")=\"Error\",\"\",IF(VLOOKUP(($B$2&\"_\"&$A49),'Time Entry Sheet'!$A$3:$I$499,7,FALSE)=\"\",\"\",VLOOKUP(($B$2&\"_\"&$A49),'Time Entry Sheet'!$A$3:$I$499,7,FALSE)))","v":""},"00:01:16.740","00:01:16.740",20,{"$f":"IF(A49=\"\",\"\",M49+VLOOKUP(A49,'Test 3'!$A$12:$Q$51,16,FALSE))","v":"00:05:07.580"},20,null,"","00:05:07.580"]
[39,{"$f":"IF($A50=\"\",\"\",IF(VLOOKUP($A50,Competitors!$A$2:$G$60,2,FALSE)=\"\",\"\",VLOOKUP($A50,Competitors!$A$2:$G$60,2,FALSE)))","v":""},{"$f":"IF($A50=\"\",\"\",IF(VLOOKUP($A50,Competitors!$A$2:$G$60,7,FALSE)=\"\",\"\",VLOOKUP($A50,Competitors!$A$2:$G$60,7,FALSE)))","v":""},{"$f":"IF($A50=\"\",\"\",IF(VLOOKUP($A50,Competitors!$A$2:$G$60,5,FALSE)=\"\",\"\",VLOOKUP($A50,Competitors!$A$2:$G$60,5,FALSE)))","v":""},{"$f":"IF($A50=\"\",\"\",IF(VLOOKUP($A50,Competitors!$A$2:$G$60,6,FALSE)=\"\",\"\",VLOOKUP($A50,Competitors!$A$2:$G$60,6,FALSE)))","v":"senior"},{"$f":"IF($A50=\"\",\"\",IF(VLOOKUP($A50,Competitors!$A$2:$G$60,3,FALSE)=\"\",\"\",VLOOKUP($A50,Competitors!$A$2:$G$60,3,FALSE)))","v":""},{"$f":"IF($A50=\"\",\"\",IF(VLOOKUP($A50,Competitors!$A$2:$G$60,4,FALSE)=\"\",\"\",VLOOKUP($A50,Competitors!$A$2:$G$60,4,FALSE)))","v":""},{"$f":"IF(VLOOKUP(A50,Competitors!$A$1:$H$41,8,FALSE)=\"\",\"\",VLOOKUP(A50,Competitors!$A$1:$H$41,8,FALSE))","v":""},{"$f":"IF(IFERROR(VLOOKUP(($B$2&\"_\"&$A50),'Time Entry Sheet'!$A$3:$I$499,9,0),\"Error\")=\"Error\",\"\",IF(VLOOKUP(($B$2&\"_\"&$A50),'Time Entry Sheet'!$A$3:$I$499,9,FALSE)=\"wd\",\"wd\",VLOOKUP(($B$2&\"_\"&$A50),'Time Entry Sheet'!$A$3:$I$499,9,FALSE)*1))","v":""},"",{"$f":"IF(IFERROR(VLOOKUP(($B$2&\"_\"&$A50),'Time Entry Sheet'!$A$3:$I$499,8,FALSE),\"Error\")=\"Error\",\"\",IF(VLOOKUP(($B$2&\"_\"&$A50),'Time Entry Sheet'!$A$3:$I$499,8,FALSE)=\"\",\"\",VLOOKUP(($B$2&\"_\"&$A50),'Time Entry Sheet'!$A$3:$I$499,8,FALSE)))","v":""},{"$f":"IF(IFERROR(VLOOKUP(($B$2&\"_\"&$A50),'Time Entry Sheet'!$A$3:$I$499,7,FALSE),\"Error\")=\"Error\",\"\",IF(VLOOKUP(($B$2&\"_\"&$A50),'Time Entry Sheet'!$A$3:$I$499,7,FALSE)=\"\",\"\",VLOOKUP(($B$2&\"_\"&$A50),'Time Entry Sheet'!$A$3:$I$499,7,FALSE)))","v":""},"00:01:16.740","00:01:16.740",20,{"$f":"IF(A50=\"\",\"\",M50+VLOOKUP(A50,'Test 3'!$A$12:$Q$51,16,FALSE))","v":"00:05:07.580"},20,null,null,"00:05:07.580"]
[40,{"$f":"IF($A51=\"\",\"\",IF(VLOOKUP($A51,Competitors!$A$2:$G$60,2,FALSE)=\"\",\"\",VLOOKUP($A51,Competitors!$A$2:$G$60,2,FALSE)))","v":""},{"$f":"IF($A51=\"\",\"\",IF(VLOOKUP($A51,Competitors!$A$2:$G$60,7,FALSE)=\"\",\"\",VLOOKUP($A51,Competitors!$A$2:$G$60,7,FALSE)))","v":""},{"$f":"IF($A51=\"\",\"\",IF(VLOOKUP($A51,Competitors!$A$2:$G$60,5,FALSE)=\"\",\"\",VLOOKUP($A51,Competitors!$A$2:$G$60,5,FALSE)))","v":""},{"$f":"IF($A51=\"\",\"\",IF(VLOOKUP($A51,Competitors!$A$2:$G$60,6,FALSE)=\"\",\"\",VLOOKUP($A51,Competitors!$A$2:$G$60,6,FALSE)))","v":"senior"},{"$f":"IF($A51=\"\",\"\",IF(VLOOKUP($A51,Competitors!$A$2:$G$60,3,FALSE)=\"\",\"\",VLOOKUP($A51,Competitors!$A$2:$G$60,3,FALSE)))","v":""},{"$f":"IF($A51=\"\",\"\",IF(VLOOKUP($A51,Competitors!$A$2:$G$60,4,FALSE)=\"\",\"\",VLOOKUP($A51,Competitors!$A$2:$G$60,4,FALSE)))","v":""},{"$f":"IF(VLOOKUP(A51,Competitors!$A$1:$H$41,8,FALSE)=\"\",\"\",VLOOKUP(A51,Competitors!$A$1:$H$41,8,FALSE))","v":""},{"$f":"IF(IFERROR(VLOOKUP(($B$2&\"_\"&$A51),'Time Entry Sheet'!$A$3:$I$499,9,0),\"Error\")=\"Error\",\"\",IF(VLOOKUP(($B$2&\"_\"&$A51),'Time Entry Sheet'!$A$3:$I$499,9,FALSE)=\"wd\",\"wd\",VLOOKUP(($B$2&\"_\"&$A51),'Time Entry Sheet'!$A$3:$I$499,9,FALSE)*1))","v":""},{"$f":"IF(E51=\"Junior\",\"\",IF(I51=\"wd\",\"\",IF(K51<>\"\",\"\",I51)))","v":""},{"$f":"IF(IFERROR(VLOOKUP(($B$2&\"_\"&$A51),'Time Entry Sheet'!$A$3:$I$499,8,FALSE),\"Error\")=\"Error\",\"\",IF(VLOOKUP(($B$2&\"_\"&$A51),'Time Entry Sheet'!$A$3:$I$499,8,FALSE)=\"\",\"\",VLOOKUP(($B$2&\"_\"&$A51),'Time Entry Sheet'!$A$3:$I$499,8,FALSE)))","v":""},{"$f":"IF(IFERROR(VLOOKUP(($B$2&\"_\"&$A51),'Time Entry Sheet'!$A$3:$I$499,7,FALSE),\"Error\")=\"Error\",\"\",IF(VLOOKUP(($B$2&\"_\"&$A51),'Time Entry Sheet'!$A$3:$I$499,7,FALSE)=\"\",\"\",VLOOKUP(($B$2&\"_\"&$A51),'Time Entry Sheet'!$A$3:$I$499,7,FALSE)))","v":""},{"$f":"IF(A51=\"\",\"\",IF(I51=\"wd\",IF(E51=\"Senior\",$B$7,$C$7),IF(L51<>\"\",$B$7,IF(I51=\"\",IF(E51=\"Senior\",$B$8,$C$8),IF(K51=\"\",I51,I51+($B$5*K51))))))","v":"00:01:16.740"},"00:01:16.740",20,{"$f":"IF(A51=\"\",\"\",M51+VLOOKUP(A51,'Test 3'!$A$12:$Q$51,16,FALSE))","v":"00:05:07.580"},20,null,null,"00:05:07.580"]

{"sheet":"Test 5","index":22,"n_rows":51,"n_cols":20,"rows_kept":51,"cut":false,"hidden":false,"merged":[[0,8,0,10]]}
[]
["TEST",5,null,null,null,null,null,null,null,null,"PROVISIONAL RESULTS",null,{"$f":"NOW()","v":42690.814244444446},null,{"$f":"NOW()","v":"2016-11-16T19:32:30.720"}]
["Date:","2015-10-31",null,null,null,null,null,null,null,null,null,"Junior",{"$f":"MIN( IF( $E$8:$E$51=L3, $S$8:$S$51 ) )","v":"00:00:00"},null,"FASTEST"]
["10 sec penalty","00:00:10",null,null,null,null,null,null,null,null,null,"Junior",{"$f":"MAX( IF( $E$8:$E$51=L4, $S$8:$S$51 ) )","v":"00:00:00"},null,"SLOWEST"]
["Flag penalty","00:00:05",null,null,null,null,"SENIOR"]
[null,null,null,null,null,null,"Fastest test time x 2",null,{"$f":"M6*2","v":"00:01:30.480"},null,null,"Senior",{"$f":"MIN( IF( E11:E51=L6, J11:J51 ) )","v":"00:00:45.240"},null,"FASTEST"]
["Slowest test time + 5 second penalty",{"$f":"MIN($I$6,$I$7)+$B$5","v":"00:01:08.850"},{"$f":"MIN($I$9:$I$10)+$B$5","v":"00:00:05"},null,null,null,"Slowest test time",null,{"$f":"M7","v":"00:01:03.850"},null,null,"Senior",{"$f":"MAX( IF( E11:E51=L7, J11:J51 ) )","v":"00:01:03.850"},null,"SLOWEST"]
["Failure to Attempt Course (Slowest time + 10 sec)",{"$f":"SUM($I$7,$B$4)","v":"00:01:13.850"},{"$f":"SUM($I$10,$B$4)","v":"00:00:10"},null,null,null,"JUNIOR"]
[null,null,null,null,null,null,"Fastest test time x 2",null,{"$f":"M3*2","v":"00:00:00"}]
[null,null,null,null,null,null,"Slowest test time",null,{"$f":"M4","v":"00:00:00"}]
["Car Number","Driver","Rookie?","Female Driver?","Junior Driver?","Vehicle","Class","Senior with Passenger?","Time Taken (MM:SS.00)","Time Taken-PenaltyCalculator (MM:SS.00)","No. of Flags &/or Finishes partly out of garage","Slowest time + 5 sec penalty type","Total Test 5 Time","Total Test 1 Time for ranking","Test 5 Position","Cumulative Time Taken (MM:SS.00)","Cumulative Outright Position","Comments","Time Taken-PenaltyCalculator Junior(MM:SS.00)","Cumulative Time Taken (MM:SS.00) for ranking"]
[1,{"$f":"IF($A12=\"\",\"\",IF(VLOOKUP($A12,Competitors!$A$2:$G$60,2,FALSE)=\"\",\"\",VLOOKUP($A12,Competitors!$A$2:$G$60,2,FALSE)))","v":"Paul Dunn"},{"$f":"IF($A12=\"\",\"\",IF(VLOOKUP($A12,Competitors!$A$2:$G$60,7,FALSE)=\"\",\"\",VLOOKUP($A12,Competitors!$A$2:$G$60,7,FALSE)))","v":""},{"$f":"IF($A12=\"\",\"\",IF(VLOOKUP($A12,Competitors!$A$2:$G$60,5,FALSE)=\"\",\"\",VLOOKUP($A12,Competitors!$A$2:$G$60,5,FALSE)))","v":""},{"$f":"IF($A12=\"\",\"\",IF(VLOOKUP($A12,Competitors!$A$2:$G$60,6,FALSE)=\"\",\"\",VLOOKUP($A12,Competitors!$A$2:$G$60,6,FALSE)))","v":"senior"},{"$f":"IF($A12=\"\",\"\",IF(VLOOKUP($A12,Competitors!$A$2:$G$60,3,FALSE)=\"\",\"\",VLOOKUP($A12,Competitors!$A$2:$G$60,3,FALSE)))","v":"Excel"},{"$f":"IF($A12=\"\",\"\",IF(VLOOKUP($A12,Competitors!$A$2:$G$60,4,FALSE)=\"\",\"\",VLOOKUP($A12,Competitors!$A$2:$G$60,4,FALSE)))","v":""},{"$f":"IF(VLOOKUP(A12,Competitors!$A$1:$H$41,8,FALSE)=\"\",\"\",VLOOKUP(A12,Competitors!$A$1:$H$41,8,FALSE))","v":""},{"$f":"IF(IFERROR(VLOOKUP(($B$2&\"_\"&$A12),'Time Entry Sheet'!$A$3:$I$499,9,0),\"Error\")=\"Error\",\"\",IF(VLOOKUP(($B$2&\"_\"&$A12),'Time Entry Sheet'!$A$3:$I$499,9,FALSE)=\"wd\",\"wd\",VLOOKUP(($B$2&\"_\"&$A12),'Time Entry Sheet'!$A$3:$I$499,9,FALSE)*1))","v":"00:00:46.940"},{"$f":"IF(E12=\"Junior\",\"\",IF(I12=\"wd\",\"\",IF(K12<>\"\",\"\",I12)))","v":"00:00:46.940"},{"$f":"IF(IFERROR(VLOOKUP(($B$2&\"_\"&$A12),'Time Entry Sheet'!$A$3:$I$499,8,FALSE),\"Error\")=\"Error\",\"\",IF(VLOOKUP(($B$2&\"_\"&$A12),'Time Entry Sheet'!$A$3:$I$499,8,FALSE)=\"\",\"\",VLOOKUP(($B$2&\"_\"&$A12),'Time Entry Sheet'!$A$3:$I$499,8,FALSE)))","v":""},{"$f":"IF(IFERROR(VLOOKUP(($B$2&\"_\"&$A12),'Time Entry Sheet'!$A$3:$I$499,7,FALSE),\"Error\")=\"Error\",\"\",IF(VLOOKUP(($B$2&\"_\"&$A12),'Time Entry Sheet'!$A$3:$I$499,7,FALSE)=\"\",\"\",VLOOKUP(($B$2&\"_\"&$A12),'Time Entry Sheet'!$A$3:$I$499,7,FALSE)))","v":""},{"$f":"IF(A12=\"\",\"\",IF(I12=\"wd\",IF(E12=\"Senior\",$B$7,$C$7),IF(L12<>\"\",$B$7,IF(I12=\"\",IF(E12=\"Senior\",$B$8,$C$8),IF(K12=\"\",I12,I12+($B$5*K12))))))","v":"00:00:46.940"},{"$f":"IF(H12=\"Passenger\",\"\",M12)","v":"00:00:46.940"},{"$f":"IF(A12=\"\",\"\",IF(H12=\"Passenger\",\"P\",RANK(N12,$N$12:$N$51,1)))","v":2},{"$f":"IF(A12=\"\",\"\",M12+VLOOKUP(A12,'Test 4'!$A$12:$Q$51,16,FALSE))","v":"00:04:08.290"},{"$f":"IF(A12=\"\",\"\",IF(H12=\"Passenger\",\"P\",RANK(T12,$T$12:$T$51,1)))","v":3},null,{"$f":"IF(E12=\"Senior\",\"\",IF(I12=\"wd\",\"\",IF(K12<>\"\",\"\",I12)))","v":""},{"$f":"IF(H12=\"Passenger\",\"\",P12)","v":"00:04:08.290"}]
[2,{"$f":"IF($A13=\"\",\"\",IF(VLOOKUP($A13,Competitors!$A$2:$G$60,2,FALSE)=\"\",\"\",VLOOKUP($A13,Competitors!$A$2:$G$60,2,FALSE)))","v":"Stephen Thorne"},{"$f":"IF($A13=\"\",\"\",IF(VLOOKUP($A13,Competitors!$A$2:$G$60,7,FALSE)=\"\",\"\",VLOOKUP($A13,Competitors!$A$2:$G$60,7,FALSE)))","v":""},{"$f":"IF($A13=\"\",\"\",IF(VLOOKUP($A13,Competitors!$A$2:$G$60,5,FALSE)=\"\",\"\",VLOOKUP($A13,Competitors!$A$2:$G$60,5,FALSE)))","v":""},{"$f":"IF($A13=\"\",\"\",IF(VLOOKUP($A13,Competitors!$A$2:$G$60,6,FALSE)=\"\",\"\",VLOOKUP($A13,Competitors!$A$2:$G$60,6,FALSE)))","v":"senior"},{"$f":"IF($A13=\"\",\"\",IF(VLOOKUP($A13,Competitors!$A$2:$G$60,3,FALSE)=\"\",\"\",VLOOKUP($A13,Competitors!$A$2:$G$60,3,FALSE)))","v":""},{"$f":"IF($A13=\"\",\"\",IF(VLOOKUP($A13,Competitors!$A$2:$G$60,4,FALSE)=\"\",\"\",VLOOKUP($A13,Competitors!$A$2:$G$60,4,FALSE)))","v":""},{"$f":"IF(VLOOKUP(A13,Competitors!$A$1:$H$41,8,FALSE)=\"\",\"\",VLOOKUP(A13,Competitors!$A$1:$H$41,8,FALSE))","v":""},{"$f":"IF(IFERROR(VLOOKUP(($B$2&\"_\"&$A13),'Time Entry Sheet'!$A$3:$I$499,9,0),\"Error\")=\"Error\",\"\",IF(VLOOKUP(($B$2&\"_\"&$A13),'Time Entry Sheet'!$A$3:$I$499,9,FALSE)=\"wd\",\"wd\",VLOOKUP(($B$2&\"_\"&$A13),'Time Entry Sheet'!$A$3:$I$499,9,FALSE)*1))","v":"00:00:47.810"},{"$f":"IF(E13=\"Junior\",\"\",IF(I13=\"wd\",\"\",IF(K13<>\"\",\"\",I13)))","v":"00:00:47.810"},{"$f":"IF(IFERROR(VLOOKUP(($B$2&\"_\"&$A13),'Time Entry Sheet'!$A$3:$I$499,8,FALSE),\"Error\")=\"Error\",\"\",IF(VLOOKUP(($B$2&\"_\"&$A13),'Time Entry Sheet'!$A$3:$I$499,8,FALSE)=\"\",\"\",VLOOKUP(($B$2&\"_\"&$A13),'Time Entry Sheet'!$A$3:$I$499,8,FALSE)))","v":""},{"$f":"IF(IFERROR(VLOOKUP(($B$2&\"_\"&$A13),'Time Entry Sheet'!$A$3:$I$499,7,FALSE),\"Error\")=\"Error\",\"\",IF(VLOOKUP(($B$2&\"_\"&$A13),'Time Entry Sheet'!$A$3:$I$499,7,FALSE)=\"\",\"\",VLOOKUP(($B$2&\"_\"&$A13),'Time Entry Sheet'!$A$3:$I$499,7,FALSE)))","v":""},{"$f":"IF(A13=\"\",\"\",IF(I13=\"wd\",IF(E13=\"Senior\",$B$7,$C$7),IF(L13<>\"\",$B$7,IF(I13=\"\",IF(E13=\"Senior\",$B$8,$C$8),IF(K13=\"\",I13,I13+($B$5*K13))))))","v":"00:00:47.810"},{"$f":"IF(H13=\"Passenger\",\"\",M13)","v":"00:00:47.810"},{"$f":"IF(A13=\"\",\"\",IF(H13=\"Passenger\",\"P\",RANK(N13,$N$12:$N$51,1)))","v":3},{"$f":"IF(A13=\"\",\"\",M13+VLOOKUP(A13,'Test 4'!$A$12:$Q$51,16,FALSE))","v":"00:04:12.880"},{"$f":"IF(A13=\"\",\"\",IF(H13=\"Passenger\",\"P\",RANK(T13,$T$12:$T$51,1)))","v":5},null,{"$f":"IF(E13=\"Senior\",\"\",IF(I13=\"wd\",\"\",IF(K13<>\"\",\"\",I13)))","v":""},{"$f":"IF(H13=\"Passenger\",\"\",P13)","v":"00:04:12.880"}]
[3,{"$f":"IF($A14=\"\",\"\",IF(VLOOKUP($A14,Competitors!$A$2:$G$60,2,FALSE)=\"\",\"\",VLOOKUP($A14,Competitors!$A$2:$G$60,2,FALSE)))","v":"David Ballard"},{"$f":"IF($A14=\"\",\"\",IF(VLOOKUP($A14,Competitors!$A$2:$G$60,7,FALSE)=\"\",\"\",VLOOKUP($A14,Competitors!$A$2:$G$60,7,FALSE)))","v":""},{"$f":"IF($A14=\"\",\"\",IF(VLOOKUP($A14,Competitors!$A$2:$G$60,5,FALSE)=\"\",\"\",VLOOKUP($A14,Competitors!$A$2:$G$60,5,FALSE)))","v":""},{"$f":"IF($A14=\"\",\"\",IF(VLOOKUP($A14,Competitors!$A$2:$G$60,6,FALSE)=\"\",\"\",VLOOKUP($A14,Competitors!$A$2:$G$60,6,FALSE)))","v":"senior"},{"$f":"IF($A14=\"\",\"\",IF(VLOOKUP($A14,Competitors!$A$2:$G$60,3,FALSE)=\"\",\"\",VLOOKUP($A14,Competitors!$A$2:$G$60,3,FALSE)))","v":""},{"$f":"IF($A14=\"\",\"\",IF(VLOOKUP($A14,Competitors!$A$2:$G$60,4,FALSE)=\"\",\"\",VLOOKUP($A14,Competitors!$A$2:$G$60,4,FALSE)))","v":""},{"$f":"IF(VLOOKUP(A14,Competitors!$A$1:$H$41,8,FALSE)=\"\",\"\",VLOOKUP(A14,Competitors!$A$1:$H$41,8,FALSE))","v":""},{"$f":"IF(IFERROR(VLOOKUP(($B$2&\"_\"&$A14),'Time Entry Sheet'!$A$3:$I$499,9,0),\"Error\")=\"Error\",\"\",IF(VLOOKUP(($B$2&\"_\"&$A14),'Time Entry Sheet'!$A$3:$I$499,9,FALSE)=\"wd\",\"wd\",VLOOKUP(($B$2&\"_\"&$A14),'Time Entry Sheet'!$A$3:$I$499,9,FALSE)*1))","v":"00:00:52.990"},"00:00:52.990",{"$f":"IF(IFERROR(VLOOKUP(($B$2&\"_\"&$A14),'Time Entry Sheet'!$A$3:$I$499,8,FALSE),\"Error\")=\"Error\",\"\",IF(VLOOKUP(($B$2&\"_\"&$A14),'Time Entry Sheet'!$A$3:$I$499,8,FALSE)=\"\",\"\",VLOOKUP(($B$2&\"_\"&$A14),'Time Entry Sheet'!$A$3:$I$499,8,FALSE)))","v":""},{"$f":"IF(IFERROR(VLOOKUP(($B$2&\"_\"&$A14),'Time Entry Sheet'!$A$3:$I$499,7,FALSE),\"Error\")=\"Error\",\"\",IF(VLOOKUP(($B$2&\"_\"&$A14),'Time Entry Sheet'!$A$3:$I$499,7,FALSE)=\"\",\"\",VLOOKUP(($B$2&\"_\"&$A14),'Time Entry Sheet'!$A$3:$I$499,7,FALSE)))","v":""},"00:00:52.990","00:00:52.990",12,{"$f":"IF(A14=\"\",\"\",M14+VLOOKUP(A14,'Test 4'!$A$12:$Q$51,16,FALSE))","v":"00:04:40.050"},13,null,"","00:04:40.050"]
[4,{"$f":"IF($A15=\"\",\"\",IF(VLOOKUP($A15,Competitors!$A$2:$G$60,2,FALSE)=\"\",\"\",VLOOKUP($A15,Competitors!$A$2:$G$60,2,FALSE)))","v":"Michaela Ballard"},{"$f":"IF($A15=\"\",\"\",IF(VLOOKUP($A15,Competitors!$A$2:$G$60,7,FALSE)=\"\",\"\",VLOOKUP($A15,Competitors!$A$2:$G$60,7,FALSE)))","v":"rookie"},{"$f":"IF($A15=\"\",\"\",IF(VLOOKUP($A15,Competitors!$A$2:$G$60,5,FALSE)=\"\",\"\",VLOOKUP($A15,Competitors!$A$2:$G$60,5,FALSE)))","v":"female"},{"$f":"IF($A15=\"\",\"\",IF(VLOOKUP($A15,Competitors!$A$2:$G$60,6,FALSE)=\"\",\"\",VLOOKUP($A15,Competitors!$A$2:$G$60,6,FALSE)))","v":"senior"},{"$f":"IF($A15=\"\",\"\",IF(VLOOKUP($A15,Competitors!$A$2:$G$60,3,FALSE)=\"\",\"\",VLOOKUP($A15,Competitors!$A$2:$G$60,3,FALSE)))","v":""},{"$f":"IF($A15=\"\",\"\",IF(VLOOKUP($A15,Competitors!$A$2:$G$60,4,FALSE)=\"\",\"\",VLOOKUP($A15,Competitors!$A$2:$G$60,4,FALSE)))","v":""},{"$f":"IF(VLOOKUP(A15,Competitors!$A$1:$H$41,8,FALSE)=\"\",\"\",VLOOKUP(A15,Competitors!$A$1:$H$41,8,FALSE))","v":""},{"$f":"IF(IFERROR(VLOOKUP(($B$2&\"_\"&$A15),'Time Entry Sheet'!$A$3:$I$499,9,0),\"Error\")=\"Error\",\"\",IF(VLOOKUP(($B$2&\"_\"&$A15),'Time Entry Sheet'!$A$3:$I$499,9,FALSE)=\"wd\",\"wd\",VLOOKUP(($B$2&\"_\"&$A15),'Time Entry Sheet'!$A$3:$I$499,9,FALSE)*1))","v":"00:01:03.850"},"00:01:03.850",{"$f":"IF(IFERROR(VLOOKUP(($B$2&\"_\"&$A15),'Time Entry Sheet'!$A$3:$I$499,8,FALSE),\"Error\")=\"Error\",\"\",IF(VLOOKUP(($B$2&\"_\"&$A15),'Time Entry Sheet'!$A$3:$I$499,8,FALSE)=\"\",\"\",VLOOKUP(($B$2&\"_\"&$A15),'Time Entry Sheet'!$A$3:$I$499,8,FALSE)))","v":""},{"$f":"IF(IFERROR(VLOOKUP(($B$2&\"_\"&$A15),'Time Entry Sheet'!$A$3:$I$499,7,FALSE),\"Error\")=\"Error\",\"\",IF(VLOOKUP(($B$2&\"_\"&$A15),'Time Entry Sheet'!$A$3:$I$499,7,FALSE)=\"\",\"\",VLOOKUP(($B$2&\"_\"&$A15),'Time Entry Sheet'!$A$3:$I$499,7,FALSE)))","v":""},"00:01:03.850","00:01:03.850",19,{"$f":"IF(A15=\"\",\"\",M15+VLOOKUP(A15,'Test 4'!$A$12:$Q$51,16,FALSE))","v":"00:05:19.720"},19,null,"","00:05:19.720"]
[5,{"$f":"IF($A16=\"\",\"\",IF(VLOOKUP($A16,Competitors!$A$2:$G$60,2,FALSE)=\"\",\"\",VLOOKUP($A16,Competitors!$A$2:$G$60,2,FALSE)))","v":"Janelle Ballard"},{"$f":"IF($A16=\"\",\"\",IF(VLOOKUP($A16,Competitors!$A$2:$G$60,7,FALSE)=\"\",\"\",VLOOKUP($A16,Competitors!$A$2:$G$60,7,FALSE)))","v":""},{"$f":"IF($A16=\"\",\"\",IF(VLOOKUP($A16,Competitors!$A$2:$G$60,5,FALSE)=\"\",\"\",VLOOKUP($A16,Competitors!$A$2:$G$60,5,FALSE)))","v":"female"},{"$f":"IF($A16=\"\",\"\",IF(VLOOKUP($A16,Competitors!$A$2:$G$60,6,FALSE)=\"\",\"\",VLOOKUP($A16,Competitors!$A$2:$G$60,6,FALSE)))","v":"senior"},{"$f":"IF($A16=\"\",\"\",IF(VLOOKUP($A16,Competitors!$A$2:$G$60,3,FALSE)=\"\",\"\",VLOOKUP($A16,Competitors!$A$2:$G$60,3,FALSE)))","v":""},{"$f":"IF($A16=\"\",\"\",IF(VLOOKUP($A16,Competitors!$A$2:$G$60,4,FALSE)=\"\",\"\",VLOOKUP($A16,Competitors!$A$2:$G$60,4,FALSE)))","v":""},{"$f":"IF(VLOOKUP(A16,Competitors!$A$1:$H$41,8,FALSE)=\"\",\"\",VLOOKUP(A16,Competitors!$A$1:$H$41,8,FALSE))","v":""},{"$f":"IF(IFERROR(VLOOKUP(($B$2&\"_\"&$A16),'Time Entry Sheet'!$A$3:$I$499,9,0),\"Error\")=\"Error\",\"\",IF(VLOOKUP(($B$2&\"_\"&$A16),'Time Entry Sheet'!$A$3:$I$499,9,FALSE)=\"wd\",\"wd\",VLOOKUP(($B$2&\"_\"&$A16),'Time Entry Sheet'!$A$3:$I$499,9,FALSE)*1))","v":"00:00:52.490"},"00:00:52.490",{"$f":"IF(IFERROR(VLOOKUP(($B$2&\"_\"&$A16),'Time Entry Sheet'!$A$3:$I$499,8,FALSE),\"Error\")=\"Error\",\"\",IF(VLOOKUP(($B$2&\"_\"&$A16),'Time Entry Sheet'!$A$3:$I$499,8,FALSE)=\"\",\"\",VLOOKUP(($B$2&\"_\"&$A16),'Time Entry Sheet'!$A$3:$I$499,8,FALSE)))","v":""},{"$f":"IF(IFERROR(VLOOKUP(($B$2&\"_\"&$A16),'Time Entry Sheet'!$A$3:$I$499,7,FALSE),\"Error\")=\"Error\",\"\",IF(VLOOKUP(($B$2&\"_\"&$A16),'Time Entry Sheet'!$A$3:$I$499,7,FALSE)=\"\",\"\",VLOOKUP(($B$2&\"_\"&$A16),'Time Entry Sheet'!$A$3:$I$499,7,FALSE)))","v":""},"00:00:52.490","00:00:52.490",9,{"$f":"IF(A16=\"\",\"\",M16+VLOOKUP(A16,'Test 4'!$A$12:$Q$51,16,FALSE))","v":"00:04:29.270"},9,null,"","00:04:29.270"]
[6,{"$f":"IF($A17=\"\",\"\",IF(VLOOKUP($A17,Competitors!$A$2:$G$60,2,FALSE)=\"\",\"\",VLOOKUP($A17,Competitors!$A$2:$G$60,2,FALSE)))","v":"Issac Wishart"},{"$f":"IF($A17=\"\",\"\",IF(VLOOKUP($A17,Competitors!$A$2:$G$60,7,FALSE)=\"\",\"\",VLOOKUP($A17,Competitors!$A$2:$G$60,7,FALSE)))","v":"rookie"},{"$f":"IF($A17=\"\",\"\",IF(VLOOKUP($A17,Competitors!$A$2:$G$60,5,FALSE)=\"\",\"\",VLOOKUP($A17,Competitors!$A$2:$G$60,5,FALSE)))","v":""},{"$f":"IF($A17=\"\",\"\",IF(VLOOKUP($A17,Competitors!$A$2:$G$60,6,FALSE)=\"\",\"\",VLOOKUP($A17,Competitors!$A$2:$G$60,6,FALSE)))","v":"senior"},{"$f":"IF($A17=\"\",\"\",IF(VLOOKUP($A17,Competitors!$A$2:$G$60,3,FALSE)=\"\",\"\",VLOOKUP($A17,Competitors!$A$2:$G$60,3,FALSE)))","v":""},{"$f":"IF($A17=\"\",\"\",IF(VLOOKUP($A17,Competitors!$A$2:$G$60,4,FALSE)=\"\",\"\",VLOOKUP($A17,Competitors!$A$2:$G$60,4,FALSE)))","v":""},{"$f":"IF(VLOOKUP(A17,Competitors!$A$1:$H$41,8,FALSE)=\"\",\"\",VLOOKUP(A17,Competitors!$A$1:$H$41,8,FALSE))","v":""},{"$f":"IF(IFERROR(VLOOKUP(($B$2&\"_\"&$A17),'Time Entry Sheet'!$A$3:$I$499,9,0),\"Error\")=\"Error\",\"\",IF(VLOOKUP(($B$2&\"_\"&$A17),'Time Entry Sheet'!$A$3:$I$499,9,FALSE)=\"wd\",\"wd\",VLOOKUP(($B$2&\"_\"&$A17),'Time Entry Sheet'!$A$3:$I$499,9,FALSE)*1))","v":"00:00:57.230"},"00:00:57.230",{"$f":"IF(IFERROR(VLOOKUP(($B$2&\"_\"&$A17),'Time Entry Sheet'!$A$3:$I$499,8,FALSE),\"Error\")=\"Error\",\"\",IF(VLOOKUP(($B$2&\"_\"&$A17),'Time Entry Sheet'!$A$3:$I$499,8,FALSE)=\"\",\"\",VLOOKUP(($B$2&\"_\"&$A17),'Time Entry Sheet'!$A$3:$I$499,8,FALSE)))","v":""},{"$f":"IF(IFERROR(VLOOKUP(($B$2&\"_\"&$A17),'Time Entry Sheet'!$A$3:$I$499,7,FALSE),\"Error\")=\"Error\",\"\",IF(VLOOKUP(($B$2&\"_\"&$A17),'Time Entry Sheet'!$A$3:$I$499,7,FALSE)=\"\",\"\",VLOOKUP(($B$2&\"_\"&$A17),'Time Entry Sheet'!$A$3:$I$499,7,FALSE)))","v":""},"00:00:57.230","00:00:57.230",16,{"$f":"IF(A17=\"\",\"\",M17+VLOOKUP(A17,'Test 4'!$A$12:$Q$51,16,FALSE))","v":"00:05:09.420"},17,null,"","00:05:09.420"]
[7,{"$f":"IF($A18=\"\",\"\",IF(VLOOKUP($A18,Competitors!$A$2:$G$60,2,FALSE)=\"\",\"\",VLOOKUP($A18,Competitors!$A$2:$G$60,2,FALSE)))","v":""},{"$f":"IF($A18=\"\",\"\",IF(VLOOKUP($A18,Competitors!$A$2:$G$60,7,FALSE)=\"\",\"\",VLOOKUP($A18,Competitors!$A$2:$G$60,7,FALSE)))","v":""},{"$f":"IF($A18=\"\",\"\",IF(VLOOKUP($A18,Competitors!$A$2:$G$60,5,FALSE)=\"\",\"\",VLOOKUP($A18,Competitors!$A$2:$G$60,5,FALSE)))","v":""},{"$f":"IF($A18=\"\",\"\",IF(VLOOKUP($A18,Competitors!$A$2:$G$60,6,FALSE)=\"\",\"\",VLOOKUP($A18,Competitors!$A$2:$G$60,6,FALSE)))","v":"senior"},{"$f":"IF($A18=\"\",\"\",IF(VLOOKUP($A18,Competitors!$A$2:$G$60,3,FALSE)=\"\",\"\",VLOOKUP($A18,Competitors!$A$2:$G$60,3,FALSE)))","v":""},{"$f":"IF($A18=\"\",\"\",IF(VLOOKUP($A18,Competitors!$A$2:$G$60,4,FALSE)=\"\",\"\",VLOOKUP($A18,Competitors!$A$2:$G$60,4,FALSE)))","v":""},{"$f":"IF(VLOOKUP(A18,Competitors!$A$1:$H$41,8,FALSE)=\"\",\"\",VLOOKUP(A18,Competitors!$A$1:$H$41,8,FALSE))","v":""},{"$f":"IF(IFERROR(VLOOKUP(($B$2&\"_\"&$A18),'Time Entry Sheet'!$A$3:$I$499,9,0),\"Error\")=\"Error\",\"\",IF(VLOOKUP(($B$2&\"_\"&$A18),'Time Entry Sheet'!$A$3:$I$499,9,FALSE)=\"wd\",\"wd\",VLOOKUP(($B$2&\"_\"&$A18),'Time Entry Sheet'!$A$3:$I$499,9,FALSE)*1))","v":""},"",{"$f":"IF(IFERROR(VLOOKUP(($B$2&\"_\"&$A18),'Time Entry Sheet'!$A$3:$I$499,8,FALSE),\"Error\")=\"Error\",\"\",IF(VLOOKUP(($B$2&\"_\"&$A18),'Time Entry Sheet'!$A$3:$I$499,8,FALSE)=\"\",\"\",VLOOKUP(($B$2&\"_\"&$A18),'Time Entry Sheet'!$A$3:$I$499,8,FALSE)))","v":""},{"$f":"IF(IFERROR(VLOOKUP(($B$2&\"_\"&$A18),'Time Entry Sheet'!$A$3:$I$499,7,FALSE),\"Error\")=\"Error\",\"\",IF(VLOOKUP(($B$2&\"_\"&$A18),'Time Entry Sheet'!$A$3:$I$499,7,FALSE)=\"\",\"\",VLOOKUP(($B$2&\"_\"&$A18),'Time Entry Sheet'!$A$3:$I$499,7,FALSE)))","v":""},"00:01:13.850","00:01:13.850",20,{"$f":"IF(A18=\"\",\"\",M18+VLOOKUP(A18,'Test 4'!$A$12:$Q$51,16,FALSE))","v":"00:06:21.430"},20,null,"","00:06:21.430"]
[8,{"$f":"IF($A19=\"\",\"\",IF(VLOOKUP($A19,Competitors!$A$2:$G$60,2,FALSE)=\"\",\"\",VLOOKUP($A19,Competitors!$A$2:$G$60,2,FALSE)))","v":"Jim Taylor"},{"$f":"IF($A19=\"\",\"\",IF(VLOOKUP($A19,Competitors!$A$2:$G$60,7,FALSE)=\"\",\"\",VLOOKUP($A19,Competitors!$A$2:$G$60,7,FALSE)))","v":""},{"$f":"IF($A19=\"\",\"\",IF(VLOOKUP($A19,Competitors!$A$2:$G$60,5,FALSE)=\"\",\"\",VLOOKUP($A19,Competitors!$A$2:$G$60,5,FALSE)))","v":""},{"$f":"IF($A19=\"\",\"\",IF(VLOOKUP($A19,Competitors!$A$2:$G$60,6,FALSE)=\"\",\"\",VLOOKUP($A19,Competitors!$A$2:$G$60,6,FALSE)))","v":"senior"},{"$f":"IF($A19=\"\",\"\",IF(VLOOKUP($A19,Competitors!$A$2:$G$60,3,FALSE)=\"\",\"\",VLOOKUP($A19,Competitors!$A$2:$G$60,3,FALSE)))","v":""},{"$f":"IF($A19=\"\",\"\",IF(VLOOKUP($A19,Competitors!$A$2:$G$60,4,FALSE)=\"\",\"\",VLOOKUP($A19,Competitors!$A$2:$G$60,4,FALSE)))","v":""},{"$f":"IF(VLOOKUP(A19,Competitors!$A$1:$H$41,8,FALSE)=\"\",\"\",VLOOKUP(A19,Competitors!$A$1:$H$41,8,FALSE))","v":""},{"$f":"IF(IFERROR(VLOOKUP(($B$2&\"_\"&$A19),'Time Entry Sheet'!$A$3:$I$499,9,0),\"Error\")=\"Error\",\"\",IF(VLOOKUP(($B$2&\"_\"&$A19),'Time Entry Sheet'!$A$3:$I$499,9,FALSE)=\"wd\",\"wd\",VLOOKUP(($B$2&\"_\"&$A19),'Time Entry Sheet'!$A$3:$I$499,9,FALSE)*1))","v":"00:00:53.440"},"00:00:53.440",{"$f":"IF(IFERROR(VLOOKUP(($B$2&\"_\"&$A19),'Time Entry Sheet'!$A$3:$I$499,8,FALSE),\"Error\")=\"Error\",\"\",IF(VLOOKUP(($B$2&\"_\"&$A19),'Time Entry Sheet'!$A$3:$I$499,8,FALSE)=\"\",\"\",VLOOKUP(($B$2&\"_\"&$A19),'Time Entry Sheet'!$A$3:$I$499,8,FALSE)))","v":""},{"$f":"IF(IFERROR(VLOOKUP(($B$2&\"_\"&$A19),'Time Entry Sheet'!$A$3:$I$499,7,FALSE),\"Error\")=\"Error\",\"\",IF(VLOOKUP(($B$2&\"_\"&$A19),'Time Entry Sheet'!$A$3:$I$499,7,FALSE)=\"\",\"\",VLOOKUP(($B$2&\"_\"&$A19),'Time Entry Sheet'!$A$3:$I$499,7,FALSE)))","v":""},"00:00:53.440","00:00:53.440",15,{"$f":"IF(A19=\"\",\"\",M19+VLOOKUP(A19,'Test 4'!$A$12:$Q$51,16,FALSE))","v":"00:04:38.200"},12,null,"","00:04:38.200"]
[9,{"$f":"IF($A20=\"\",\"\",IF(VLOOKUP($A20,Competitors!$A$2:$G$60,2,FALSE)=\"\",\"\",VLOOKUP($A20,Competitors!$A$2:$G$60,2,FALSE)))","v":"Brad Firman"},{"$f":"IF($A20=\"\",\"\",IF(VLOOKUP($A20,Competitors!$A$2:$G$60,7,FALSE)=\"\",\"\",VLOOKUP($A20,Competitors!$A$2:$G$60,7,FALSE)))","v":""},{"$f":"IF($A20=\"\",\"\",IF(VLOOKUP($A20,Competitors!$A$2:$G$60,5,FALSE)=\"\",\"\",VLOOKUP($A20,Competitors!$A$2:$G$60,5,FALSE)))","v":""},{"$f":"IF($A20=\"\",\"\",IF(VLOOKUP($A20,Competitors!$A$2:$G$60,6,FALSE)=\"\",\"\",VLOOKUP($A20,Competitors!$A$2:$G$60,6,FALSE)))","v":"senior"},{"$f":"IF($A20=\"\",\"\",IF(VLOOKUP($A20,Competitors!$A$2:$G$60,3,FALSE)=\"\",\"\",VLOOKUP($A20,Competitors!$A$2:$G$60,3,FALSE)))","v":""},{"$f":"IF($A20=\"\",\"\",IF(VLOOKUP($A20,Competitors!$A$2:$G$60,4,FALSE)=\"\",\"\",VLOOKUP($A20,Competitors!$A$2:$G$60,4,FALSE)))","v":""},{"$f":"IF(VLOOKUP(A20,Competitors!$A$1:$H$41,8,FALSE)=\"\",\"\",VLOOKUP(A20,Competitors!$A$1:$H$41,8,FALSE))","v":""},{"$f":"IF(IFERROR(VLOOKUP(($B$2&\"_\"&$A20),'Time Entry Sheet'!$A$3:$I$499,9,0),\"Error\")=\"Error\",\"\",IF(VLOOKUP(($B$2&\"_\"&$A20),'Time Entry Sheet'!$A$3:$I$499,9,FALSE)=\"wd\",\"wd\",VLOOKUP(($B$2&\"_\"&$A20),'Time Entry Sheet'!$A$3:$I$499,9,FALSE)*1))","v":"00:00:48.390"},"00:00:48.390",{"$f":"IF(IFERROR(VLOOKUP(($B$2&\"_\"&$A20),'Time Entry Sheet'!$A$3:$I$499,8,FALSE),\"Error\")=\"Error\",\"\",IF(VLOOKUP(($B$2&\"_\"&$A20),'Time Entry Sheet'!$A$3:$I$499,8,FALSE)=\"\",\"\",VLOOKUP(($B$2&\"_\"&$A20),'Time Entry Sheet'!$A$3:$I$499,8,FALSE)))","v":""},{"$f":"IF(IFERROR(VLOOKUP(($B$2&\"_\"&$A20),'Time Entry Sheet'!$A$3:$I$499,7,FALSE),\"Error\")=\"Error\",\"\",IF(VLOOKUP(($B$2&\"_\"&$A20),'Time Entry Sheet'!$A$3:$I$499,7,FALSE)=\"\",\"\",VLOOKUP(($B$2&\"_\"&$A20),'Time Entry Sheet'!$A$3:$I$499,7,FALSE)))","v":""},"00:00:48.390","00:00:48.390",5,{"$f":"IF(A20=\"\",\"\",M20+VLOOKUP(A20,'Test 4'!$A$12:$Q$51,16,FALSE))","v":"00:04:07.740"},2,null,"","00:04:07.740"]
[10,{"$f":"IF($A21=\"\",\"\",IF(VLOOKUP($A21,Competitors!$A$2:$G$60,2,FALSE)=\"\",\"\",VLOOKUP($A21,Competitors!$A$2:$G$60,2,FALSE)))","v":"Scott Taylor"},{"$f":"IF($A21=\"\",\"\",IF(VLOOKUP($A21,Competitors!$A$2:$G$60,7,FALSE)=\"\",\"\",VLOOKUP($A21,Competitors!$A$2:$G$60,7,FALSE)))","v":""},{"$f":"IF($A21=\"\",\"\",IF(VLOOKUP($A21,Competitors!$A$2:$G$60,5,FALSE)=\"\",\"\",VLOOKUP($A21,Competitors!$A$2:$G$60,5,FALSE)))","v":""},{"$f":"IF($A21=\"\",\"\",IF(VLOOKUP($A21,Competitors!$A$2:$G$60,6,FALSE)=\"\",\"\",VLOOKUP($A21,Competitors!$A$2:$G$60,6,FALSE)))","v":"senior"},{"$f":"IF($A21=\"\",\"\",IF(VLOOKUP($A21,Competitors!$A$2:$G$60,3,FALSE)=\"\",\"\",VLOOKUP($A21,Competitors!$A$2:$G$60,3,FALSE)))","v":""},{"$f":"IF($A21=\"\",\"\",IF(VLOOKUP($A21,Competitors!$A$2:$G$60,4,FALSE)=\"\",\"\",VLOOKUP($A21,Competitors!$A$2:$G$60,4,FALSE)))","v":""},{"$f":"IF(VLOOKUP(A21,Competitors!$A$1:$H$41,8,FALSE)=\"\",\"\",VLOOKUP(A21,Competitors!$A$1:$H$41,8,FALSE))","v":""},{"$f":"IF(IFERROR(VLOOKUP(($B$2&\"_\"&$A21),'Time Entry Sheet'!$A$3:$I$499,9,0),\"Error\")=\"Error\",\"\",IF(VLOOKUP(($B$2&\"_\"&$A21),'Time Entry Sheet'!$A$3:$I$499,9,FALSE)=\"wd\",\"wd\",VLOOKUP(($B$2&\"_\"&$A21),'Time Entry Sheet'!$A$3:$I$499,9,FALSE)*1))","v":"00:00:52.380"},"00:00:52.380",{"$f":"IF(IFERROR(VLOOKUP(($B$2&\"_\"&$A21),'Time Entry Sheet'!$A$3:$I$499,8,FALSE),\"Error\")=\"Error\",\"\",IF(VLOOKUP(($B$2&\"_\"&$A21),'Time Entry Sheet'!$A$3:$I$499,8,FALSE)=\"\",\"\",VLOOKUP(($B$2&\"_\"&$A21),'Time Entry Sheet'!$A$3:$I$499,8,FALSE)))","v":""},{"$f":"IF(IFERROR(VLOOKUP(($B$2&\"_\"&$A21),'Time Entry Sheet'!$A$3:$I$499,7,FALSE),\"Error\")=\"Error\",\"\",IF(VLOOKUP(($B$2&\"_\"&$A21),'Time Entry Sheet'!$A$3:$I$499,7,FALSE)=\"\",\"\",VLOOKUP(($B$2&\"_\"&$A21),'Time Entry Sheet'!$A$3:$I$499,7,FALSE)))","v":""},"00:00:52.380","00:00:52.380",8,{"$f":"IF(A21=\"\",\"\",M21+VLOOKUP(A21,'Test 4'!$A$12:$Q$51,16,FALSE))","v":"00:04:45.800"},15,null,"","00:04:45.800"]
[11,{"$f":"IF($A22=\"\",\"\",IF(VLOOKUP($A22,Competitors!$A$2:$G$60,2,FALSE)=\"\",\"\",VLOOKUP($A22,Competitors!$A$2:$G$60,2,FALSE)))","v":"Russel McKinley"},{"$f":"IF($A22=\"\",\"\",IF(VLOOKUP($A22,Competitors!$A$2:$G$60,7,FALSE)=\"\",\"\",VLOOKUP($A22,Competitors!$A$2:$G$60,7,FALSE)))","v":""},{"$f":"IF($A22=\"\",\"\",IF(VLOOKUP($A22,Competitors!$A$2:$G$60,5,FALSE)=\"\",\"\",VLOOKUP($A22,Competitors!$A$2:$G$60,5,FALSE)))","v":""},{"$f":"IF($A22=\"\",\"\",IF(VLOOKUP($A22,Competitors!$A$2:$G$60,6,FALSE)=\"\",\"\",VLOOKUP($A22,Competitors!$A$2:$G$60,6,FALSE)))","v":"senior"},{"$f":"IF($A22=\"\",\"\",IF(VLOOKUP($A22,Competitors!$A$2:$G$60,3,FALSE)=\"\",\"\",VLOOKUP($A22,Competitors!$A$2:$G$60,3,FALSE)))","v":""},{"$f":"IF($A22=\"\",\"\",IF(VLOOKUP($A22,Competitors!$A$2:$G$60,4,FALSE)=\"\",\"\",VLOOKUP($A22,Competitors!$A$2:$G$60,4,FALSE)))","v":""},{"$f":"IF(VLOOKUP(A22,Competitors!$A$1:$H$41,8,FALSE)=\"\",\"\",VLOOKUP(A22,Competitors!$A$1:$H$41,8,FALSE))","v":""},{"$f":"IF(IFERROR(VLOOKUP(($B$2&\"_\"&$A22),'Time Entry Sheet'!$A$3:$I$499,9,0),\"Error\")=\"Error\",\"\",IF(VLOOKUP(($B$2&\"_\"&$A22),'Time Entry Sheet'!$A$3:$I$499,9,FALSE)=\"wd\",\"wd\",VLOOKUP(($B$2&\"_\"&$A22),'Time Entry Sheet'!$A$3:$I$499,9,FALSE)*1))","v":"00:00:53.200"},"00:00:53.200",{"$f":"IF(IFERROR(VLOOKUP(($B$2&\"_\"&$A22),'Time Entry Sheet'!$A$3:$I$499,8,FALSE),\"Error\")=\"Error\",\"\",IF(VLOOKUP(($B$2&\"_\"&$A22),'Time Entry Sheet'!$A$3:$I$499,8,FALSE)=\"\",\"\",VLOOKUP(($B$2&\"_\"&$A22),'Time Entry Sheet'!$A$3:$I$499,8,FALSE)))","v":""},{"$f":"IF(IFERROR(VLOOKUP(($B$2&\"_\"&$A22),'Time Entry Sheet'!$A$3:$I$499,7,FALSE),\"Error\")=\"Error\",\"\",IF(VLOOKUP(($B$2&\"_\"&$A22),'Time Entry Sheet'!$A$3:$I$499,7,FALSE)=\"\",\"\",VLOOKUP(($B$2&\"_\"&$A22),'Time Entry Sheet'!$A$3:$I$499,7,FALSE)))","v":""},"00:00:53.200","00:00:53.200",14,{"$f":"IF(A22=\"\",\"\",M22+VLOOKUP(A22,'Test 4'!$A$12:$Q$51,16,FALSE))","v":"00:04:45.350"},14,null,"","00:04:45.350"]
[12,{"$f":"IF($A23=\"\",\"\",IF(VLOOKUP($A23,Competitors!$A$2:$G$60,2,FALSE)=\"\",\"\",VLOOKUP($A23,Competitors!$A$2:$G$60,2,FALSE)))","v":"Mat Boorman"},{"$f":"IF($A23=\"\",\"\",IF(VLOOKUP($A23,Competitors!$A$2:$G$60,7,FALSE)=\"\",\"\",VLOOKUP($A23,Competitors!$A$2:$G$60,7,FALSE)))","v":""},{"$f":"IF($A23=\"\",\"\",IF(VLOOKUP($A23,Competitors!$A$2:$G$60,5,FALSE)=\"\",\"\",VLOOKUP($A23,Competitors!$A$2:$G$60,5,FALSE)))","v":""},{"$f":"IF($A23=\"\",\"\",IF(VLOOKUP($A23,Competitors!$A$2:$G$60,6,FALSE)=\"\",\"\",VLOOKUP($A23,Competitors!$A$2:$G$60,6,FALSE)))","v":"senior"},{"$f":"IF($A23=\"\",\"\",IF(VLOOKUP($A23,Competitors!$A$2:$G$60,3,FALSE)=\"\",\"\",VLOOKUP($A23,Competitors!$A$2:$G$60,3,FALSE)))","v":""},{"$f":"IF($A23=\"\",\"\",IF(VLOOKUP($A23,Competitors!$A$2:$G$60,4,FALSE)=\"\",\"\",VLOOKUP($A23,Competitors!$A$2:$G$60,4,FALSE)))","v":""},{"$f":"IF(VLOOKUP(A23,Competitors!$A$1:$H$41,8,FALSE)=\"\",\"\",VLOOKUP(A23,Competitors!$A$1:$H$41,8,FALSE))","v":""},{"$f":"IF(IFERROR(VLOOKUP(($B$2&\"_\"&$A23),'Time Entry Sheet'!$A$3:$I$499,9,0),\"Error\")=\"Error\",\"\",IF(VLOOKUP(($B$2&\"_\"&$A23),'Time Entry Sheet'!$A$3:$I$499,9,FALSE)=\"wd\",\"wd\",VLOOKUP(($B$2&\"_\"&$A23),'Time Entry Sheet'!$A$3:$I$499,9,FALSE)*1))","v":"00:00:52.910"},"00:00:52.910",{"$f":"IF(IFERROR(VLOOKUP(($B$2&\"_\"&$A23),'Time Entry Sheet'!$A$3:$I$499,8,FALSE),\"Error\")=\"Error\",\"\",IF(VLOOKUP(($B$2&\"_\"&$A23),'Time Entry Sheet'!$A$3:$I$499,8,FALSE)=\"\",\"\",VLOOKUP(($B$2&\"_\"&$A23),'Time Entry Sheet'!$A$3:$I$499,8,FALSE)))","v":""},{"$f":"IF(IFERROR(VLOOKUP(($B$2&\"_\"&$A23),'Time Entry Sheet'!$A$3:$I$499,7,FALSE),\"Error\")=\"Error\",\"\",IF(VLOOKUP(($B$2&\"_\"&$A23),'Time Entry Sheet'!$A$3:$I$499,7,FALSE)=\"\",\"\",VLOOKUP(($B$2&\"_\"&$A23),'Time Entry Sheet'!$A$3:$I$499,7,FALSE)))","v":""},"00:00:52.910","00:00:52.910",10,{"$f":"IF(A23=\"\",\"\",M23+VLOOKUP(A23,'Test 4'!$A$12:$Q$51,16,FALSE))","v":"00:04:30.850"},11,null,"","00:04:30.850"]
[13,{"$f":"IF($A24=\"\",\"\",IF(VLOOKUP($A24,Competitors!$A$2:$G$60,2,FALSE)=\"\",\"\",VLOOKUP($A24,Competitors!$A$2:$G$60,2,FALSE)))","v":"Aaron Wishart"},{"$f":"IF($A24=\"\",\"\",IF(VLOOKUP($A24,Competitors!$A$2:$G$60,7,FALSE)=\"\",\"\",VLOOKUP($A24,Competitors!$A$2:$G$60,7,FALSE)))","v":""},{"$f":"IF($A24=\"\",\"\",IF(VLOOKUP($A24,Competitors!$A$2:$G$60,5,FALSE)=\"\",\"\",VLOOKUP($A24,Competitors!$A$2:$G$60,5,FALSE)))","v":""},{"$f":"IF($A24=\"\",\"\",IF(VLOOKUP($A24,Competitors!$A$2:$G$60,6,FALSE)=\"\",\"\",VLOOKUP($A24,Competitors!$A$2:$G$60,6,FALSE)))","v":"senior"},{"$f":"IF($A24=\"\",\"\",IF(VLOOKUP($A24,Competitors!$A$2:$G$60,3,FALSE)=\"\",\"\",VLOOKUP($A24,Competitors!$A$2:$G$60,3,FALSE)))","v":""},{"$f":"IF($A24=\"\",\"\",IF(VLOOKUP($A24,Competitors!$A$2:$G$60,4,FALSE)=\"\",\"\",VLOOKUP($A24,Competitors!$A$2:$G$60,4,FALSE)))","v":""},{"$f":"IF(VLOOKUP(A24,Competitors!$A$1:$H$41,8,FALSE)=\"\",\"\",VLOOKUP(A24,Competitors!$A$1:$H$41,8,FALSE))","v":""},{"$f":"IF(IFERROR(VLOOKUP(($B$2&\"_\"&$A24),'Time Entry Sheet'!$A$3:$I$499,9,0),\"Error\")=\"Error\",\"\",IF(VLOOKUP(($B$2&\"_\"&$A24),'Time Entry Sheet'!$A$3:$I$499,9,FALSE)=\"wd\",\"wd\",VLOOKUP(($B$2&\"_\"&$A24),'Time Entry Sheet'!$A$3:$I$499,9,FALSE)*1))","v":"00:00:59.440"},"00:00:59.440",{"$f":"IF(IFERROR(VLOOKUP(($B$2&\"_\"&$A24),'Time Entry Sheet'!$A$3:$I$499,8,FALSE),\"Error\")=\"Error\",\"\",IF(VLOOKUP(($B$2&\"_\"&$A24),'Time Entry Sheet'!$A$3:$I$499,8,FALSE)=\"\",\"\",VLOOKUP(($B$2&\"_\"&$A24),'Time Entry Sheet'!$A$3:$I$499,8,FALSE)))","v":""},{"$f":"IF(IFERROR(VLOOKUP(($B$2&\"_\"&$A24),'Time Entry Sheet'!$A$3:$I$499,7,FALSE),\"Error\")=\"Error\",\"\",IF(VLOOKUP(($B$2&\"_\"&$A24),'Time Entry Sheet'!$A$3:$I$499,7,FALSE)=\"\",\"\",VLOOKUP(($B$2&\"_\"&$A24),'Time Entry Sheet'!$A$3:$I$499,7,FALSE)))","v":""},"00:00:59.440","00:00:59.440",18,{"$f":"IF(A24=\"\",\"\",M24+VLOOKUP(A24,'Test 4'!$A$12:$Q$51,16,FALSE))","v":"00:05:15.260"},18,null,"","00:05:15.260"]
[14,{"$f":"IF($A25=\"\",\"\",IF(VLOOKUP($A25,Competitors!$A$2:$G$60,2,FALSE)=\"\",\"\",VLOOKUP($A25,Competitors!$A$2:$G$60,2,FALSE)))","v":"Bob Fulthorpe"},{"$f":"IF($A25=\"\",\"\",IF(VLOOKUP($A25,Competitors!$A$2:$G$60,7,FALSE)=\"\",\"\",VLOOKUP($A25,Competitors!$A$2:$G$60,7,FALSE)))","v":""},{"$f":"IF($A25=\"\",\"\",IF(VLOOKUP($A25,Competitors!$A$2:$G$60,5,FALSE)=\"\",\"\",VLOOKUP($A25,Competitors!$A$2:$G$60,5,FALSE)))","v":""},{"$f":"IF($A25=\"\",\"\",IF(VLOOKUP($A25,Competitors!$A$2:$G$60,6,FALSE)=\"\",\"\",VLOOKUP($A25,Competitors!$A$2:$G$60,6,FALSE)))","v":"senior"},{"$f":"IF($A25=\"\",\"\",IF(VLOOKUP($A25,Competitors!$A$2:$G$60,3,FALSE)=\"\",\"\",VLOOKUP($A25,Competitors!$A$2:$G$60,3,FALSE)))","v":""},{"$f":"IF($A25=\"\",\"\",IF(VLOOKUP($A25,Competitors!$A$2:$G$60,4,FALSE)=\"\",\"\",VLOOKUP($A25,Competitors!$A$2:$G$60,4,FALSE)))","v":""},{"$f":"IF(VLOOKUP(A25,Competitors!$A$1:$H$41,8,FALSE)=\"\",\"\",VLOOKUP(A25,Competitors!$A$1:$H$41,8,FALSE))","v":""},{"$f":"IF(IFERROR(VLOOKUP(($B$2&\"_\"&$A25),'Time Entry Sheet'!$A$3:$I$499,9,0),\"Error\")=\"Error\",\"\",IF(VLOOKUP(($B$2&\"_\"&$A25),'Time Entry Sheet'!$A$3:$I$499,9,FALSE)=\"wd\",\"wd\",VLOOKUP(($B$2&\"_\"&$A25),'Time Entry Sheet'!$A$3:$I$499,9,FALSE)*1))","v":"00:00:48.370"},"00:00:48.370",{"$f":"IF(IFERROR(VLOOKUP(($B$2&\"_\"&$A25),'Time Entry Sheet'!$A$3:$I$499,8,FALSE),\"Error\")=\"Error\",\"\",IF(VLOOKUP(($B$2&\"_\"&$A25),'Time Entry Sheet'!$A$3:$I$499,8,FALSE)=\"\",\"\",VLOOKUP(($B$2&\"_\"&$A25),'Time Entry Sheet'!$A$3:$I$499,8,FALSE)))","v":""},{"$f":"IF(IFERROR(VLOOKUP(($B$2&\"_\"&$A25),'Time Entry Sheet'!$A$3:$I$499,7,FALSE),\"Error\")=\"Error\",\"\",IF(VLOOKUP(($B$2&\"_\"&$A25),'Time Entry Sheet'!$A$3:$I$499,7,FALSE)=\"\",\"\",VLOOKUP(($B$2&\"_\"&$A25),'Time Entry Sheet'!$A$3:$I$499,7,FALSE)))","v":""},"00:00:48.370","00:00:48.370",4,{"$f":"IF(A25=\"\",\"\",M25+VLOOKUP(A25,'Test 4'!$A$12:$Q$51,16,FALSE))","v":"00:04:12.720"},4,null,"","00:04:12.720"]
[15,{"$f":"IF($A26=\"\",\"\",IF(VLOOKUP($A26,Competitors!$A$2:$G$60,2,FALSE)=\"\",\"\",VLOOKUP($A26,Competitors!$A$2:$G$60,2,FALSE)))","v":"Khi Fulthorpe"},{"$f":"IF($A26=\"\",\"\",IF(VLOOKUP($A26,Competitors!$A$2:$G$60,7,FALSE)=\"\",\"\",VLOOKUP($A26,Competitors!$A$2:$G$60,7,FALSE)))","v":""},{"$f":"IF($A26=\"\",\"\",IF(VLOOKUP($A26,Competitors!$A$2:$G$60,5,FALSE)=\"\",\"\",VLOOKUP($A26,Competitors!$A$2:$G$60,5,FALSE)))","v":""},{"$f":"IF($A26=\"\",\"\",IF(VLOOKUP($A26,Competitors!$A$2:$G$60,6,FALSE)=\"\",\"\",VLOOKUP($A26,Competitors!$A$2:$G$60,6,FALSE)))","v":"senior"},{"$f":"IF($A26=\"\",\"\",IF(VLOOKUP($A26,Competitors!$A$2:$G$60,3,FALSE)=\"\",\"\",VLOOKUP($A26,Competitors!$A$2:$G$60,3,FALSE)))","v":""},{"$f":"IF($A26=\"\",\"\",IF(VLOOKUP($A26,Competitors!$A$2:$G$60,4,FALSE)=\"\",\"\",VLOOKUP($A26,Competitors!$A$2:$G$60,4,FALSE)))","v":""},{"$f":"IF(VLOOKUP(A26,Competitors!$A$1:$H$41,8,FALSE)=\"\",\"\",VLOOKUP(A26,Competitors!$A$1:$H$41,8,FALSE))","v":""},{"$f":"IF(IFERROR(VLOOKUP(($B$2&\"_\"&$A26),'Time Entry Sheet'!$A$3:$I$499,9,0),\"Error\")=\"Error\",\"\",IF(VLOOKUP(($B$2&\"_\"&$A26),'Time Entry Sheet'!$A$3:$I$499,9,FALSE)=\"wd\",\"wd\",VLOOKUP(($B$2&\"_\"&$A26),'Time Entry Sheet'!$A$3:$I$499,9,FALSE)*1))","v":"00:00:52.940"},"00:00:52.940",{"$f":"IF(IFERROR(VLOOKUP(($B$2&\"_\"&$A26),'Time Entry Sheet'!$A$3:$I$499,8,FALSE),\"Error\")=\"Error\",\"\",IF(VLOOKUP(($B$2&\"_\"&$A26),'Time Entry Sheet'!$A$3:$I$499,8,FALSE)=\"\",\"\",VLOOKUP(($B$2&\"_\"&$A26),'Time Entry Sheet'!$A$3:$I$499,8,FALSE)))","v":""},{"$f":"IF(IFERROR(VLOOKUP(($B$2&\"_\"&$A26),'Time Entry Sheet'!$A$3:$I$499,7,FALSE),\"Error\")=\"Error\",\"\",IF(VLOOKUP(($B$2&\"_\"&$A26),'Time Entry Sheet'!$A$3:$I$499,7,FALSE)=\"\",\"\",VLOOKUP(($B$2&\"_\"&$A26),'Time Entry Sheet'!$A$3:$I$499,7,FALSE)))","v":""},"00:00:52.940","00:00:52.940",11,{"$f":"IF(A26=\"\",\"\",M26+VLOOKUP(A26,'Test 4'!$A$12:$Q$51,16,FALSE))","v":"00:04:27.720"},8,null,"","00:04:27.720"]
[16,{"$f":"IF($A27=\"\",\"\",IF(VLOOKUP($A27,Competitors!$A$2:$G$60,2,FALSE)=\"\",\"\",VLOOKUP($A27,Competitors!$A$2:$G$60,2,FALSE)))","v":"Nathan Senior"},{"$f":"IF($A27=\"\",\"\",IF(VLOOKUP($A27,Competitors!$A$2:$G$60,7,FALSE)=\"\",\"\",VLOOKUP($A27,Competitors!$A$2:$G$60,7,FALSE)))","v":""},{"$f":"IF($A27=\"\",\"\",IF(VLOOKUP($A27,Competitors!$A$2:$G$60,5,FALSE)=\"\",\"\",VLOOKUP($A27,Competitors!$A$2:$G$60,5,FALSE)))","v":""},{"$f":"IF($A27=\"\",\"\",IF(VLOOKUP($A27,Competitors!$A$2:$G$60,6,FALSE)=\"\",\"\",VLOOKUP($A27,Competitors!$A$2:$G$60,6,FALSE)))","v":"senior"},{"$f":"IF($A27=\"\",\"\",IF(VLOOKUP($A27,Competitors!$A$2:$G$60,3,FALSE)=\"\",\"\",VLOOKUP($A27,Competitors!$A$2:$G$60,3,FALSE)))","v":""},{"$f":"IF($A27=\"\",\"\",IF(VLOOKUP($A27,Competitors!$A$2:$G$60,4,FALSE)=\"\",\"\",VLOOKUP($A27,Competitors!$A$2:$G$60,4,FALSE)))","v":""},{"$f":"IF(VLOOKUP(A27,Competitors!$A$1:$H$41,8,FALSE)=\"\",\"\",VLOOKUP(A27,Competitors!$A$1:$H$41,8,FALSE))","v":""},{"$f":"IF(IFERROR(VLOOKUP(($B$2&\"_\"&$A27),'Time Entry Sheet'!$A$3:$I$499,9,0),\"Error\")=\"Error\",\"\",IF(VLOOKUP(($B$2&\"_\"&$A27),'Time Entry Sheet'!$A$3:$I$499,9,FALSE)=\"wd\",\"wd\",VLOOKUP(($B$2&\"_\"&$A27),'Time Entry Sheet'!$A$3:$I$499,9,FALSE)*1))","v":"00:00:48.030"},"",{"$f":"IF(IFERROR(VLOOKUP(($B$2&\"_\"&$A27),'Time Entry Sheet'!$A$3:$I$499,8,FALSE),\"Error\")=\"Error\",\"\",IF(VLOOKUP(($B$2&\"_\"&$A27),'Time Entry Sheet'!$A$3:$I$499,8,FALSE)=\"\",\"\",VLOOKUP(($B$2&\"_\"&$A27),'Time Entry Sheet'!$A$3:$I$499,8,FALSE)))","v":1},{"$f":"IF(IFERROR(VLOOKUP(($B$2&\"_\"&$A27),'Time Entry Sheet'!$A$3:$I$499,7,FALSE),\"Error\")=\"Error\",\"\",IF(VLOOKUP(($B$2&\"_\"&$A27),'Time Entry Sheet'!$A$3:$I$499,7,FALSE)=\"\",\"\",VLOOKUP(($B$2&\"_\"&$A27),'Time Entry Sheet'!$A$3:$I$499,7,FALSE)))","v":""},"00:00:53.030","00:00:53.030",13,{"$f":"IF(A27=\"\",\"\",M27+VLOOKUP(A27,'Test 4'!$A$12:$Q$51,16,FALSE))","v":"00:04:29.830"},10,null,"","00:04:29.830"]
[17,{"$f":"IF($A28=\"\",\"\",IF(VLOOKUP($A28,Competitors!$A$2:$G$60,2,FALSE)=\"\",\"\",VLOOKUP($A28,Competitors!$A$2:$G$60,2,FALSE)))","v":"Reece McIntosh"},{"$f":"IF($A28=\"\",\"\",IF(VLOOKUP($A28,Competitors!$A$2:$G$60,7,FALSE)=\"\",\"\",VLOOKUP($A28,Competitors!$A$2:$G$60,7,FALSE)))","v":""},{"$f":"IF($A28=\"\",\"\",IF(VLOOKUP($A28,Competitors!$A$2:$G$60,5,FALSE)=\"\",\"\",VLOOKUP($A28,Competitors!$A$2:$G$60,5,FALSE)))","v":""},{"$f":"IF($A28=\"\",\"\",IF(VLOOKUP($A28,Competitors!$A$2:$G$60,6,FALSE)=\"\",\"\",VLOOKUP($A28,Competitors!$A$2:$G$60,6,FALSE)))","v":"senior"},{"$f":"IF($A28=\"\",\"\",IF(VLOOKUP($A28,Competitors!$A$2:$G$60,3,FALSE)=\"\",\"\",VLOOKUP($A28,Competitors!$A$2:$G$60,3,FALSE)))","v":""},{"$f":"IF($A28=\"\",\"\",IF(VLOOKUP($A28,Competitors!$A$2:$G$60,4,FALSE)=\"\",\"\",VLOOKUP($A28,Competitors!$A$2:$G$60,4,FALSE)))","v":""},{"$f":"IF(VLOOKUP(A28,Competitors!$A$1:$H$41,8,FALSE)=\"\",\"\",VLOOKUP(A28,Competitors!$A$1:$H$41,8,FALSE))","v":""},{"$f":"IF(IFERROR(VLOOKUP(($B$2&\"_\"&$A28),'Time Entry Sheet'!$A$3:$I$499,9,0),\"Error\")=\"Error\",\"\",IF(VLOOKUP(($B$2&\"_\"&$A28),'Time Entry Sheet'!$A$3:$I$499,9,FALSE)=\"wd\",\"wd\",VLOOKUP(($B$2&\"_\"&$A28),'Time Entry Sheet'!$A$3:$I$499,9,FALSE)*1))","v":"00:00:45.240"},"00:00:45.240",{"$f":"IF(IFERROR(VLOOKUP(($B$2&\"_\"&$A28),'Time Entry Sheet'!$A$3:$I$499,8,FALSE),\"Error\")=\"Error\",\"\",IF(VLOOKUP(($B$2&\"_\"&$A28),'Time Entry Sheet'!$A$3:$I$499,8,FALSE)=\"\",\"\",VLOOKUP(($B$2&\"_\"&$A28),'Time Entry Sheet'!$A$3:$I$499,8,FALSE)))","v":""},{"$f":"IF(IFERROR(VLOOKUP(($B$2&\"_\"&$A28),'Time Entry Sheet'!$A$3:$I$499,7,FALSE),\"Error\")=\"Error\",\"\",IF(VLOOKUP(($B$2&\"_\"&$A28),'Time Entry Sheet'!$A$3:$I$499,7,FALSE)=\"\",\"\",VLOOKUP(($B$2&\"_\"&$A28),'Time Entry Sheet'!$A$3:$I$499,7,FALSE)))","v":""},"00:00:45.240","00:00:45.240",1,{"$f":"IF(A28=\"\",\"\",M28+VLOOKUP(A28,'Test 4'!$A$12:$Q$51,16,FALSE))","v":"00:03:54.500"},1,null,"","00:03:54.500"]
[18,{"$f":"IF($A29=\"\",\"\",IF(VLOOKUP($A29,Competitors!$A$2:$G$60,2,FALSE)=\"\",\"\",VLOOKUP($A29,Competitors!$A$2:$G$60,2,FALSE)))","v":"Jack Stanley"},{"$f":"IF($A29=\"\",\"\",IF(VLOOKUP($A29,Competitors!$A$2:$G$60,7,FALSE)=\"\",\"\",VLOOKUP($A29,Competitors!$A$2:$G$60,7,FALSE)))","v":"rookie"},{"$f":"IF($A29=\"\",\"\",IF(VLOOKUP($A29,Competitors!$A$2:$G$60,5,FALSE)=\"\",\"\",VLOOKUP($A29,Competitors!$A$2:$G$60,5,FALSE)))","v":""},{"$f":"IF($A29=\"\",\"\",IF(VLOOKUP($A29,Competitors!$A$2:$G$60,6,FALSE)=\"\",\"\",VLOOKUP($A29,Competitors!$A$2:$G$60,6,FALSE)))","v":"senior"},{"$f":"IF($A29=\"\",\"\",IF(VLOOKUP($A29,Competitors!$A$2:$G$60,3,FALSE)=\"\",\"\",VLOOKUP($A29,Competitors!$A$2:$G$60,3,FALSE)))","v":""},{"$f":"IF($A29=\"\",\"\",IF(VLOOKUP($A29,Competitors!$A$2:$G$60,4,FALSE)=\"\",\"\",VLOOKUP($A29,Competitors!$A$2:$G$60,4,FALSE)))","v":""},{"$f":"IF(VLOOKUP(A29,Competitors!$A$1:$H$41,8,FALSE)=\"\",\"\",VLOOKUP(A29,Competitors!$A$1:$H$41,8,FALSE))","v":""},{"$f":"IF(IFERROR(VLOOKUP(($B$2&\"_\"&$A29),'Time Entry Sheet'!$A$3:$I$499,9,0),\"Error\")=\"Error\",\"\",IF(VLOOKUP(($B$2&\"_\"&$A29),'Time Entry Sheet'!$A$3:$I$499,9,FALSE)=\"wd\",\"wd\",VLOOKUP(($B$2&\"_\"&$A29),'Time Entry Sheet'!$A$3:$I$499,9,FALSE)*1))","v":"00:00:58.550"},"00:00:58.550",{"$f":"IF(IFERROR(VLOOKUP(($B$2&\"_\"&$A29),'Time Entry Sheet'!$A$3:$I$499,8,FALSE),\"Error\")=\"Error\",\"\",IF(VLOOKUP(($B$2&\"_\"&$A29),'Time Entry Sheet'!$A$3:$I$499,8,FALSE)=\"\",\"\",VLOOKUP(($B$2&\"_\"&$A29),'Time Entry Sheet'!$A$3:$I$499,8,FALSE)))","v":""},{"$f":"IF(IFERROR(VLOOKUP(($B$2&\"_\"&$A29),'Time Entry Sheet'!$A$3:$I$499,7,FALSE),\"Error\")=\"Error\",\"\",IF(VLOOKUP(($B$2&\"_\"&$A29),'Time Entry Sheet'!$A$3:$I$499,7,FALSE)=\"\",\"\",VLOOKUP(($B$2&\"_\"&$A29),'Time Entry Sheet'!$A$3:$I$499,7,FALSE)))","v":""},"00:00:58.550","00:00:58.550",17,{"$f":"IF(A29=\"\",\"\",M29+VLOOKUP(A29,'Test 4'!$A$12:$Q$51,16,FALSE))","v":"00:05:06.490"},16,null,"","00:05:06.490"]
[19,{"$f":"IF($A30=\"\",\"\",IF(VLOOKUP($A30,Competitors!$A$2:$G$60,2,FALSE)=\"\",\"\",VLOOKUP($A30,Competitors!$A$2:$G$60,2,FALSE)))","v":"Christopher Northey"},{"$f":"IF($A30=\"\",\"\",IF(VLOOKUP($A30,Competitors!$A$2:$G$60,7,FALSE)=\"\",\"\",VLOOKUP($A30,Competitors!$A$2:$G$60,7,FALSE)))","v":""},{"$f":"IF($A30=\"\",\"\",IF(VLOOKUP($A30,Competitors!$A$2:$G$60,5,FALSE)=\"\",\"\",VLOOKUP($A30,Competitors!$A$2:$G$60,5,FALSE)))","v":""},{"$f":"IF($A30=\"\",\"\",IF(VLOOKUP($A30,Competitors!$A$2:$G$60,6,FALSE)=\"\",\"\",VLOOKUP($A30,Competitors!$A$2:$G$60,6,FALSE)))","v":"senior"},{"$f":"IF($A30=\"\",\"\",IF(VLOOKUP($A30,Competitors!$A$2:$G$60,3,FALSE)=\"\",\"\",VLOOKUP($A30,Competitors!$A$2:$G$60,3,FALSE)))","v":""},{"$f":"IF($A30=\"\",\"\",IF(VLOOKUP($A30,Competitors!$A$2:$G$60,4,FALSE)=\"\",\"\",VLOOKUP($A30,Competitors!$A$2:$G$60,4,FALSE)))","v":""},{"$f":"IF(VLOOKUP(A30,Competitors!$A$1:$H$41,8,FALSE)=\"\",\"\",VLOOKUP(A30,Competitors!$A$1:$H$41,8,FALSE))","v":""},{"$f":"IF(IFERROR(VLOOKUP(($B$2&\"_\"&$A30),'Time Entry Sheet'!$A$3:$I$499,9,0),\"Error\")=\"Error\",\"\",IF(VLOOKUP(($B$2&\"_\"&$A30),'Time Entry Sheet'!$A$3:$I$499,9,FALSE)=\"wd\",\"wd\",VLOOKUP(($B$2&\"_\"&$A30),'Time Entry Sheet'!$A$3:$I$499,9,FALSE)*1))","v":"00:00:48.650"},{"$f":"IF(E30=\"Junior\",\"\",IF(I30=\"wd\",\"\",IF(K30<>\"\",\"\",I30)))","v":"00:00:48.650"},{"$f":"IF(IFERROR(VLOOKUP(($B$2&\"_\"&$A30),'Time Entry Sheet'!$A$3:$I$499,8,FALSE),\"Error\")=\"Error\",\"\",IF(VLOOKUP(($B$2&\"_\"&$A30),'Time Entry Sheet'!$A$3:$I$499,8,FALSE)=\"\",\"\",VLOOKUP(($B$2&\"_\"&$A30),'Time Entry Sheet'!$A$3:$I$499,8,FALSE)))","v":""},{"$f":"IF(IFERROR(VLOOKUP(($B$2&\"_\"&$A30),'Time Entry Sheet'!$A$3:$I$499,7,FALSE),\"Error\")=\"Error\",\"\",IF(VLOOKUP(($B$2&\"_\"&$A30),'Time Entry Sheet'!$A$3:$I$499,7,FALSE)=\"\",\"\",VLOOKUP(($B$2&\"_\"&$A30),'Time Entry Sheet'!$A$3:$I$499,7,FALSE)))","v":""},{"$f":"IF(A30=\"\",\"\",IF(I30=\"wd\",IF(E30=\"Senior\",$B$7,$C$7),IF(L30<>\"\",$B$7,IF(I30=\"\",IF(E30=\"Senior\",$B$8,$C$8),IF(K30=\"\",I30,I30+($B$5*K30))))))","v":"00:00:48.650"},{"$f":"IF(H30=\"Passenger\",\"\",M30)","v":"00:00:48.650"},{"$f":"IF(A30=\"\",\"\",IF(H30=\"Passenger\",\"P\",RANK(N30,$N$12:$N$51,1)))","v":6},{"$f":"IF(A30=\"\",\"\",M30+VLOOKUP(A30,'Test 4'!$A$12:$Q$51,16,FALSE))","v":"00:04:21.530"},{"$f":"IF(A30=\"\",\"\",IF(H30=\"Passenger\",\"P\",RANK(T30,$T$12:$T$51,1)))","v":6},null,{"$f":"IF(E30=\"Senior\",\"\",IF(I30=\"wd\",\"\",IF(K30<>\"\",\"\",I30)))","v":""},{"$f":"IF(H30=\"Passenger\",\"\",P30)","v":"00:04:21.530"}]
[20,{"$f":"IF($A31=\"\",\"\",IF(VLOOKUP($A31,Competitors!$A$2:$G$60,2,FALSE)=\"\",\"\",VLOOKUP($A31,Competitors!$A$2:$G$60,2,FALSE)))","v":"Ray Lampl"},{"$f":"IF($A31=\"\",\"\",IF(VLOOKUP($A31,Competitors!$A$2:$G$60,7,FALSE)=\"\",\"\",VLOOKUP($A31,Competitors!$A$2:$G$60,7,FALSE)))","v":""},{"$f":"IF($A31=\"\",\"\",IF(VLOOKUP($A31,Competitors!$A$2:$G$60,5,FALSE)=\"\",\"\",VLOOKUP($A31,Competitors!$A$2:$G$60,5,FALSE)))","v":""},{"$f":"IF($A31=\"\",\"\",IF(VLOOKUP($A31,Competitors!$A$2:$G$60,6,FALSE)=\"\",\"\",VLOOKUP($A31,Competitors!$A$2:$G$60,6,FALSE)))","v":"senior"},{"$f":"IF($A31=\"\",\"\",IF(VLOOKUP($A31,Competitors!$A$2:$G$60,3,FALSE)=\"\",\"\",VLOOKUP($A31,Competitors!$A$2:$G$60,3,FALSE)))","v":""},{"$f":"IF($A31=\"\",\"\",IF(VLOOKUP($A31,Competitors!$A$2:$G$60,4,FALSE)=\"\",\"\",VLOOKUP($A31,Competitors!$A$2:$G$60,4,FALSE)))","v":""},{"$f":"IF(VLOOKUP(A31,Competitors!$A$1:$H$41,8,FALSE)=\"\",\"\",VLOOKUP(A31,Competitors!$A$1:$H$41,8,FALSE))","v":""},{"$f":"IF(IFERROR(VLOOKUP(($B$2&\"_\"&$A31),'Time Entry Sheet'!$A$3:$I$499,9,0),\"Error\")=\"Error\",\"\",IF(VLOOKUP(($B$2&\"_\"&$A31),'Time Entry Sheet'!$A$3:$I$499,9,FALSE)=\"wd\",\"wd\",VLOOKUP(($B$2&\"_\"&$A31),'Time Entry Sheet'!$A$3:$I$499,9,FALSE)*1))","v":"00:00:51.790"},"00:00:51.790",{"$f":"IF(IFERROR(VLOOKUP(($B$2&\"_\"&$A31),'Time Entry Sheet'!$A$3:$I$499,8,FALSE),\"Error\")=\"Error\",\"\",IF(VLOOKUP(($B$2&\"_\"&$A31),'Time Entry Sheet'!$A$3:$I$499,8,FALSE)=\"\",\"\",VLOOKUP(($B$2&\"_\"&$A31),'Time Entry Sheet'!$A$3:$I$499,8,FALSE)))","v":""},{"$f":"IF(IFERROR(VLOOKUP(($B$2&\"_\"&$A31),'Time Entry Sheet'!$A$3:$I$499,7,FALSE),\"Error\")=\"Error\",\"\",IF(VLOOKUP(($B$2&\"_\"&$A31),'Time Entry Sheet'!$A$3:$I$499,7,FALSE)=\"\",\"\",VLOOKUP(($B$2&\"_\"&$A31),'Time Entry Sheet'!$A$3:$I$499,7,FALSE)))","v":""},"00:00:51.790","00:00:51.790",7,{"$f":"IF(A31=\"\",\"\",M31+VLOOKUP(A31,'Test 4'!$A$12:$Q$51,16,FALSE))","v":"00:04:25.880"},7,null,"","00:04:25.880"]
[21,{"$f":"IF($A32=\"\",\"\",IF(VLOOKUP($A32,Competitors!$A$2:$G$60,2,FALSE)=\"\",\"\",VLOOKUP($A32,Competitors!$A$2:$G$60,2,FALSE)))","v":""},{"$f":"IF($A32=\"\",\"\",IF(VLOOKUP($A32,Competitors!$A$2:$G$60,7,FALSE)=\"\",\"\",VLOOKUP($A32,Competitors!$A$2:$G$60,7,FALSE)))","v":""},{"$f":"IF($A32=\"\",\"\",IF(VLOOKUP($A32,Competitors!$A$2:$G$60,5,FALSE)=\"\",\"\",VLOOKUP($A32,Competitors!$A$2:$G$60,5,FALSE)))","v":""},{"$f":"IF($A32=\"\",\"\",IF(VLOOKUP($A32,Competitors!$A$2:$G$60,6,FALSE)=\"\",\"\",VLOOKUP($A32,Competitors!$A$2:$G$60,6,FALSE)))","v":"senior"},{"$f":"IF($A32=\"\",\"\",IF(VLOOKUP($A32,Competitors!$A$2:$G$60,3,FALSE)=\"\",\"\",VLOOKUP($A32,Competitors!$A$2:$G$60,3,FALSE)))","v":""},{"$f":"IF($A32=\"\",\"\",IF(VLOOKUP($A32,Competitors!$A$2:$G$60,4,FALSE)=\"\",\"\",VLOOKUP($A32,Competitors!$A$2:$G$60,4,FALSE)))","v":""},{"$f":"IF(VLOOKUP(A32,Competitors!$A$1:$H$41,8,FALSE)=\"\",\"\",VLOOKUP(A32,Competitors!$A$1:$H$41,8,FALSE))","v":""},{"$f":"IF(IFERROR(VLOOKUP(($B$2&\"_\"&$A32),'Time Entry Sheet'!$A$3:$I$499,9,0),\"Error\")=\"Error\",\"\",IF(VLOOKUP(($B$2&\"_\"&$A32),'Time Entry Sheet'!$A$3:$I$499,9,FALSE)=\"wd\",\"wd\",VLOOKUP(($B$2&\"_\"&$A32),'Time Entry Sheet'!$A$3:$I$499,9,FALSE)*1))","v":""},"",{"$f":"IF(IFERROR(VLOOKUP(($B$2&\"_\"&$A32),'Time Entry Sheet'!$A$3:$I$499,8,FALSE),\"Error\")=\"Error\",\"\",IF(VLOOKUP(($B$2&\"_\"&$A32),'Time Entry Sheet'!$A$3:$I$499,8,FALSE)=\"\",\"\",VLOOKUP(($B$2&\"_\"&$A32),'Time Entry Sheet'!$A$3:$I$499,8,FALSE)))","v":""},{"$f":"IF(IFERROR(VLOOKUP(($B$2&\"_\"&$A32),'Time Entry Sheet'!$A$3:$I$499,7,FALSE),\"Error\")=\"Error\",\"\",IF(VLOOKUP(($B$2&\"_\"&$A32),'Time Entry Sheet'!$A$3:$I$499,7,FALSE)=\"\",\"\",VLOOKUP(($B$2&\"_\"&$A32),'Time Entry Sheet'!$A$3:$I$499,7,FALSE)))","v":""},"00:01:13.850","00:01:13.850",20,{"$f":"IF(A32=\"\",\"\",M32+VLOOKUP(A32,'Test 4'!$A$12:$Q$51,16,FALSE))","v":"00:06:21.430"},20,null,"","00:06:21.430"]
[22,{"$f":"IF($A33=\"\",\"\",IF(VLOOKUP($A33,Competitors!$A$2:$G$60,2,FALSE)=\"\",\"\",VLOOKUP($A33,Competitors!$A$2:$G$60,2,FALSE)))","v":""},{"$f":"IF($A33=\"\",\"\",IF(VLOOKUP($A33,Competitors!$A$2:$G$60,7,FALSE)=\"\",\"\",VLOOKUP($A33,Competitors!$A$2:$G$60,7,FALSE)))","v":""},{"$f":"IF($A33=\"\",\"\",IF(VLOOKUP($A33,Competitors!$A$2:$G$60,5,FALSE)=\"\",\"\",VLOOKUP($A33,Competitors!$A$2:$G$60,5,FALSE)))","v":""},{"$f":"IF($A33=\"\",\"\",IF(VLOOKUP($A33,Competitors!$A$2:$G$60,6,FALSE)=\"\",\"\",VLOOKUP($A33,Competitors!$A$2:$G$60,6,FALSE)))","v":"senior"},{"$f":"IF($A33=\"\",\"\",IF(VLOOKUP($A33,Competitors!$A$2:$G$60,3,FALSE)=\"\",\"\",VLOOKUP($A33,Competitors!$A$2:$G$60,3,FALSE)))","v":""},{"$f":"IF($A33=\"\",\"\",IF(VLOOKUP($A33,Competitors!$A$2:$G$60,4,FALSE)=\"\",\"\",VLOOKUP($A33,Competitors!$A$2:$G$60,4,FALSE)))","v":""},{"$f":"IF(VLOOKUP(A33,Competitors!$A$1:$H$41,8,FALSE)=\"\",\"\",VLOOKUP(A33,Competitors!$A$1:$H$41,8,FALSE))","v":""},{"$f":"IF(IFERROR(VLOOKUP(($B$2&\"_\"&$A33),'Time Entry Sheet'!$A$3:$I$499,9,0),\"Error\")=\"Error\",\"\",IF(VLOOKUP(($B$2&\"_\"&$A33),'Time Entry Sheet'!$A$3:$I$499,9,FALSE)=\"wd\",\"wd\",VLOOKUP(($B$2&\"_\"&$A33),'Time Entry Sheet'!$A$3:$I$499,9,FALSE)*1))","v":""},"",{"$f":"IF(IFERROR(VLOOKUP(($B$2&\"_\"&$A33),'Time Entry Sheet'!$A$3:$I$499,8,FALSE),\"Error\")=\"Error\",\"\",IF(VLOOKUP(($B$2&\"_\"&$A33),'Time Entry Sheet'!$A$3:$I$499,8,FALSE)=\"\",\"\",VLOOKUP(($B$2&\"_\"&$A33),'Time Entry Sheet'!$A$3:$I$499,8,FALSE)))","v":""},{"$f":"IF(IFERROR(VLOOKUP(($B$2&\"_\"&$A33),'Time Entry Sheet'!$A$3:$I$499,7,FALSE),\"Error\")=\"Error\",\"\",IF(VLOOKUP(($B$2&\"_\"&$A33),'Time Entry Sheet'!$A$3:$I$499,7,FALSE)=\"\",\"\",VLOOKUP(($B$2&\"_\"&$A33),'Time Entry Sheet'!$A$3:$I$499,7,FALSE)))","v":""},"00:01:13.850","00:01:13.850",20,{"$f":"IF(A33=\"\",\"\",M33+VLOOKUP(A33,'Test 4'!$A$12:$Q$51,16,FALSE))","v":"00:06:21.430"},20,null,"","00:06:21.430"]
[23,{"$f":"IF($A34=\"\",\"\",IF(VLOOKUP($A34,Competitors!$A$2:$G$60,2,FALSE)=\"\",\"\",VLOOKUP($A34,Competitors!$A$2:$G$60,2,FALSE)))","v":""},{"$f":"IF($A34=\"\",\"\",IF(VLOOKUP($A34,Competitors!$A$2:$G$60,7,FALSE)=\"\",\"\",VLOOKUP($A34,Competitors!$A$2:$G$60,7,FALSE)))","v":""},{"$f":"IF($A34=\"\",\"\",IF(VLOOKUP($A34,Competitors!$A$2:$G$60,5,FALSE)=\"\",\"\",VLOOKUP($A34,Competitors!$A$2:$G$60,5,FALSE)))","v":""},{"$f":"IF($A34=\"\",\"\",IF(VLOOKUP($A34,Competitors!$A$2:$G$60,6,FALSE)=\"\",\"\",VLOOKUP($A34,Competitors!$A$2:$G$60,6,FALSE)))","v":"senior"},{"$f":"IF($A34=\"\",\"\",IF(VLOOKUP($A34,Competitors!$A$2:$G$60,3,FALSE)=\"\",\"\",VLOOKUP($A34,Competitors!$A$2:$G$60,3,FALSE)))","v":""},{"$f":"IF($A34=\"\",\"\",IF(VLOOKUP($A34,Competitors!$A$2:$G$60,4,FALSE)=\"\",\"\",VLOOKUP($A34,Competitors!$A$2:$G$60,4,FALSE)))","v":""},{"$f":"IF(VLOOKUP(A34,Competitors!$A$1:$H$41,8,FALSE)=\"\",\"\",VLOOKUP(A34,Competitors!$A$1:$H$41,8,FALSE))","v":""},{"$f":"IF(IFERROR(VLOOKUP(($B$2&\"_\"&$A34),'Time Entry Sheet'!$A$3:$I$499,9,0),\"Error\")=\"Error\",\"\",IF(VLOOKUP(($B$2&\"_\"&$A34),'Time Entry Sheet'!$A$3:$I$499,9,FALSE)=\"wd\",\"wd\",VLOOKUP(($B$2&\"_\"&$A34),'Time Entry Sheet'!$A$3:$I$499,9,FALSE)*1))","v":""},"",{"$f":"IF(IFERROR(VLOOKUP(($B$2&\"_\"&$A34),'Time Entry Sheet'!$A$3:$I$499,8,FALSE),\"Error\")=\"Error\",\"\",IF(VLOOKUP(($B$2&\"_\"&$A34),'Time Entry Sheet'!$A$3:$I$499,8,FALSE)=\"\",\"\",VLOOKUP(($B$2&\"_\"&$A34),'Time Entry Sheet'!$A$3:$I$499,8,FALSE)))","v":""},{"$f":"IF(IFERROR(VLOOKUP(($B$2&\"_\"&$A34),'Time Entry Sheet'!$A$3:$I$499,7,FALSE),\"Error\")=\"Error\",\"\",IF(VLOOKUP(($B$2&\"_\"&$A34),'Time Entry Sheet'!$A$3:$I$499,7,FALSE)=\"\",\"\",VLOOKUP(($B$2&\"_\"&$A34),'Time Entry Sheet'!$A$3:$I$499,7,FALSE)))","v":""},"00:01:13.850","00:01:13.850",20,{"$f":"IF(A34=\"\",\"\",M34+VLOOKUP(A34,'Test 4'!$A$12:$Q$51,16,FALSE))","v":"00:06:21.430"},20,null,"","00:06:21.430"]
[24,{"$f":"IF($A35=\"\",\"\",IF(VLOOKUP($A35,Competitors!$A$2:$G$60,2,FALSE)=\"\",\"\",VLOOKUP($A35,Competitors!$A$2:$G$60,2,FALSE)))","v":""},{"$f":"IF($A35=\"\",\"\",IF(VLOOKUP($A35,Competitors!$A$2:$G$60,7,FALSE)=\"\",\"\",VLOOKUP($A35,Competitors!$A$2:$G$60,7,FALSE)))","v":""},{"$f":"IF($A35=\"\",\"\",IF(VLOOKUP($A35,Competitors!$A$2:$G$60,5,FALSE)=\"\",\"\",VLOOKUP($A35,Competitors!$A$2:$G$60,5,FALSE)))","v":""},{"$f":"IF($A35=\"\",\"\",IF(VLOOKUP($A35,Competitors!$A$2:$G$60,6,FALSE)=\"\",\"\",VLOOKUP($A35,Competitors!$A$2:$G$60,6,FALSE)))","v":"senior"},{"$f":"IF($A35=\"\",\"\",IF(VLOOKUP($A35,Competitors!$A$2:$G$60,3,FALSE)=\"\",\"\",VLOOKUP($A35,Competitors!$A$2:$G$60,3,FALSE)))","v":""},{"$f":"IF($A35=\"\",\"\",IF(VLOOKUP($A35,Competitors!$A$2:$G$60,4,FALSE)=\"\",\"\",VLOOKUP($A35,Competitors!$A$2:$G$60,4,FALSE)))","v":""},{"$f":"IF(VLOOKUP(A35,Competitors!$A$1:$H$41,8,FALSE)=\"\",\"\",VLOOKUP(A35,Competitors!$A$1:$H$41,8,FALSE))","v":""},{"$f":"IF(IFERROR(VLOOKUP(($B$2&\"_\"&$A35),'Time Entry Sheet'!$A$3:$I$499,9,0),\"Error\")=\"Error\",\"\",IF(VLOOKUP(($B$2&\"_\"&$A35),'Time Entry Sheet'!$A$3:$I$499,9,FALSE)=\"wd\",\"wd\",VLOOKUP(($B$2&\"_\"&$A35),'Time Entry Sheet'!$A$3:$I$499,9,FALSE)*1))","v":""},"",{"$f":"IF(IFERROR(VLOOKUP(($B$2&\"_\"&$A35),'Time Entry Sheet'!$A$3:$I$499,8,FALSE),\"Error\")=\"Error\",\"\",IF(VLOOKUP(($B$2&\"_\"&$A35),'Time Entry Sheet'!$A$3:$I$499,8,FALSE)=\"\",\"\",VLOOKUP(($B$2&\"_\"&$A35),'Time Entry Sheet'!$A$3:$I$499,8,FALSE)))","v":""},{"$f":"IF(IFERROR(VLOOKUP(($B$2&\"_\"&$A35),'Time Entry Sheet'!$A$3:$I$499,7,FALSE),\"Error\")=\"Error\",\"\",IF(VLOOKUP(($B$2&\"_\"&$A35),'Time Entry Sheet'!$A$3:$I$499,7,FALSE)=\"\",\"\",VLOOKUP(($B$2&\"_\"&$A35),'Time Entry Sheet'!$A$3:$I$499,7,FALSE)))","v":""},"00:01:13.850","00:01:13.850",20,{"$f":"IF(A35=\"\",\"\",M35+VLOOKUP(A35,'Test 4'!$A$12:$Q$51,16,FALSE))","v":"00:06:21.430"},20,null,"","00:06:21.430"]
[25,{"$f":"IF($A36=\"\",\"\",IF(VLOOKUP($A36,Competitors!$A$2:$G$60,2,FALSE)=\"\",\"\",VLOOKUP($A36,Competitors!$A$2:$G$60,2,FALSE)))","v":""},{"$f":"IF($A36=\"\",\"\",IF(VLOOKUP($A36,Competitors!$A$2:$G$60,7,FALSE)=\"\",\"\",VLOOKUP($A36,Competitors!$A$2:$G$60,7,FALSE)))","v":""},{"$f":"IF($A36=\"\",\"\",IF(VLOOKUP($A36,Competitors!$A$2:$G$60,5,FALSE)=\"\",\"\",VLOOKUP($A36,Competitors!$A$2:$G$60,5,FALSE)))","v":""},{"$f":"IF($A36=\"\",\"\",IF(VLOOKUP($A36,Competitors!$A$2:$G$60,6,FALSE)=\"\",\"\",VLOOKUP($A36,Competitors!$A$2:$G$60,6,FALSE)))","v":"senior"},{"$f":"IF($A36=\"\",\"\",IF(VLOOKUP($A36,Competitors!$A$2:$G$60,3,FALSE)=\"\",\"\",VLOOKUP($A36,Competitors!$A$2:$G$60,3,FALSE)))","v":""},{"$f":"IF($A36=\"\",\"\",IF(VLOOKUP($A36,Competitors!$A$2:$G$60,4,FALSE)=\"\",\"\",VLOOKUP($A36,Competitors!$A$2:$G$60,4,FALSE)))","v":""},{"$f":"IF(VLOOKUP(A36,Competitors!$A$1:$H$41,8,FALSE)=\"\",\"\",VLOOKUP(A36,Competitors!$A$1:$H$41,8,FALSE))","v":""},{"$f":"IF(IFERROR(VLOOKUP(($B$2&\"_\"&$A36),'Time Entry Sheet'!$A$3:$I$499,9,0),\"Error\")=\"Error\",\"\",IF(VLOOKUP(($B$2&\"_\"&$A36),'Time Entry Sheet'!$A$3:$I$499,9,FALSE)=\"wd\",\"wd\",VLOOKUP(($B$2&\"_\"&$A36),'Time Entry Sheet'!$A$3:$I$499,9,FALSE)*1))","v":""},"",{"$f":"IF(IFERROR(VLOOKUP(($B$2&\"_\"&$A36),'Time Entry Sheet'!$A$3:$I$499,8,FALSE),\"Error\")=\"Error\",\"\",IF(VLOOKUP(($B$2&\"_\"&$A36),'Time Entry Sheet'!$A$3:$I$499,8,FALSE)=\"\",\"\",VLOOKUP(($B$2&\"_\"&$A36),'Time Entry Sheet'!$A$3:$I$499,8,FALSE)))","v":""},{"$f":"IF(IFERROR(VLOOKUP(($B$2&\"_\"&$A36),'Time Entry Sheet'!$A$3:$I$499,7,FALSE),\"Error\")=\"Error\",\"\",IF(VLOOKUP(($B$2&\"_\"&$A36),'Time Entry Sheet'!$A$3:$I$499,7,FALSE)=\"\",\"\",VLOOKUP(($B$2&\"_\"&$A36),'Time Entry Sheet'!$A$3:$I$499,7,FALSE)))","v":""},"00:01:13.850","00:01:13.850",20,{"$f":"IF(A36=\"\",\"\",M36+VLOOKUP(A36,'Test 4'!$A$12:$Q$51,16,FALSE))","v":"00:06:21.430"},20,null,"","00:06:21.430"]
[26,{"$f":"IF($A37=\"\",\"\",IF(VLOOKUP($A37,Competitors!$A$2:$G$60,2,FALSE)=\"\",\"\",VLOOKUP($A37,Competitors!$A$2:$G$60,2,FALSE)))","v":""},{"$f":"IF($A37=\"\",\"\",IF(VLOOKUP($A37,Competitors!$A$2:$G$60,7,FALSE)=\"\",\"\",VLOOKUP($A37,Competitors!$A$2:$G$60,7,FALSE)))","v":""},{"$f":"IF($A37=\"\",\"\",IF(VLOOKUP($A37,Competitors!$A$2:$G$60,5,FALSE)=\"\",\"\",VLOOKUP($A37,Competitors!$A$2:$G$60,5,FALSE)))","v":""},{"$f":"IF($A37=\"\",\"\",IF(VLOOKUP($A37,Competitors!$A$2:$G$60,6,FALSE)=\"\",\"\",VLOOKUP($A37,Competitors!$A$2:$G$60,6,FALSE)))","v":"senior"},{"$f":"IF($A37=\"\",\"\",IF(VLOOKUP($A37,Competitors!$A$2:$G$60,3,FALSE)=\"\",\"\",VLOOKUP($A37,Competitors!$A$2:$G$60,3,FALSE)))","v":""},{"$f":"IF($A37=\"\",\"\",IF(VLOOKUP($A37,Competitors!$A$2:$G$60,4,FALSE)=\"\",\"\",VLOOKUP($A37,Competitors!$A$2:$G$60,4,FALSE)))","v":""},{"$f":"IF(VLOOKUP(A37,Competitors!$A$1:$H$41,8,FALSE)=\"\",\"\",VLOOKUP(A37,Competitors!$A$1:$H$41,8,FALSE))","v":""},{"$f":"IF(IFERROR(VLOOKUP(($B$2&\"_\"&$A37),'Time Entry Sheet'!$A$3:$I$499,9,0),\"Error\")=\"Error\",\"\",IF(VLOOKUP(($B$2&\"_\"&$A37),'Time Entry Sheet'!$A$3:$I$499,9,FALSE)=\"wd\",\"wd\",VLOOKUP(($B$2&\"_\"&$A37),'Time Entry Sheet'!$A$3:$I$499,9,FALSE)*1))","v":""},"",{"$f":"IF(IFERROR(VLOOKUP(($B$2&\"_\"&$A37),'Time Entry Sheet'!$A$3:$I$499,8,FALSE),\"Error\")=\"Error\",\"\",IF(VLOOKUP(($B$2&\"_\"&$A37),'Time Entry Sheet'!$A$3:$I$499,8,FALSE)=\"\",\"\",VLOOKUP(($B$2&\"_\"&$A37),'Time Entry Sheet'!$A$3:$I$499,8,FALSE)))","v":""},{"$f":"IF(IFERROR(VLOOKUP(($B$2&\"_\"&$A37),'Time Entry Sheet'!$A$3:$I$499,7,FALSE),\"Error\")=\"Error\",\"\",IF(VLOOKUP(($B$2&\"_\"&$A37),'Time Entry Sheet'!$A$3:$I$499,7,FALSE)=\"\",\"\",VLOOKUP(($B$2&\"_\"&$A37),'Time Entry Sheet'!$A$3:$I$499,7,FALSE)))","v":""},"00:01:13.850","00:01:13.850",20,{"$f":"IF(A37=\"\",\"\",M37+VLOOKUP(A37,'Test 4'!$A$12:$Q$51,16,FALSE))","v":"00:06:21.430"},20,null,"","00:06:21.430"]
[27,{"$f":"IF($A38=\"\",\"\",IF(VLOOKUP($A38,Competitors!$A$2:$G$60,2,FALSE)=\"\",\"\",VLOOKUP($A38,Competitors!$A$2:$G$60,2,FALSE)))","v":""},{"$f":"IF($A38=\"\",\"\",IF(VLOOKUP($A38,Competitors!$A$2:$G$60,7,FALSE)=\"\",\"\",VLOOKUP($A38,Competitors!$A$2:$G$60,7,FALSE)))","v":""},{"$f":"IF($A38=\"\",\"\",IF(VLOOKUP($A38,Competitors!$A$2:$G$60,5,FALSE)=\"\",\"\",VLOOKUP($A38,Competitors!$A$2:$G$60,5,FALSE)))","v":""},{"$f":"IF($A38=\"\",\"\",IF(VLOOKUP($A38,Competitors!$A$2:$G$60,6,FALSE)=\"\",\"\",VLOOKUP($A38,Competitors!$A$2:$G$60,6,FALSE)))","v":"senior"},{"$f":"IF($A38=\"\",\"\",IF(VLOOKUP($A38,Competitors!$A$2:$G$60,3,FALSE)=\"\",\"\",VLOOKUP($A38,Competitors!$A$2:$G$60,3,FALSE)))","v":""},{"$f":"IF($A38=\"\",\"\",IF(VLOOKUP($A38,Competitors!$A$2:$G$60,4,FALSE)=\"\",\"\",VLOOKUP($A38,Competitors!$A$2:$G$60,4,FALSE)))","v":""},{"$f":"IF(VLOOKUP(A38,Competitors!$A$1:$H$41,8,FALSE)=\"\",\"\",VLOOKUP(A38,Competitors!$A$1:$H$41,8,FALSE))","v":""},{"$f":"IF(IFERROR(VLOOKUP(($B$2&\"_\"&$A38),'Time Entry Sheet'!$A$3:$I$499,9,0),\"Error\")=\"Error\",\"\",IF(VLOOKUP(($B$2&\"_\"&$A38),'Time Entry Sheet'!$A$3:$I$499,9,FALSE)=\"wd\",\"wd\",VLOOKUP(($B$2&\"_\"&$A38),'Time Entry Sheet'!$A$3:$I$499,9,FALSE)*1))","v":""},"",{"$f":"IF(IFERROR(VLOOKUP(($B$2&\"_\"&$A38),'Time Entry Sheet'!$A$3:$I$499,8,FALSE),\"Error\")=\"Error\",\"\",IF(VLOOKUP(($B$2&\"_\"&$A38),'Time Entry Sheet'!$A$3:$I$499,8,FALSE)=\"\",\"\",VLOOKUP(($B$2&\"_\"&$A38),'Time Entry Sheet'!$A$3:$I$499,8,FALSE)))","v":""},{"$f":"IF(IFERROR(VLOOKUP(($B$2&\"_\"&$A38),'Time Entry Sheet'!$A$3:$I$499,7,FALSE),\"Error\")=\"Error\",\"\",IF(VLOOKUP(($B$2&\"_\"&$A38),'Time Entry Sheet'!$A$3:$I$499,7,FALSE)=\"\",\"\",VLOOKUP(($B$2&\"_\"&$A38),'Time Entry Sheet'!$A$3:$I$499,7,FALSE)))","v":""},"00:01:13.850","00:01:13.850",20,{"$f":"IF(A38=\"\",\"\",M38+VLOOKUP(A38,'Test 4'!$A$12:$Q$51,16,FALSE))","v":"00:06:21.430"},20,null,"","00:06:21.430"]
[28,{"$f":"IF($A39=\"\",\"\",IF(VLOOKUP($A39,Competitors!$A$2:$G$60,2,FALSE)=\"\",\"\",VLOOKUP($A39,Competitors!$A$2:$G$60,2,FALSE)))","v":""},{"$f":"IF($A39=\"\",\"\",IF(VLOOKUP($A39,Competitors!$A$2:$G$60,7,FALSE)=\"\",\"\",VLOOKUP($A39,Competitors!$A$2:$G$60,7,FALSE)))","v":""},{"$f":"IF($A39=\"\",\"\",IF(VLOOKUP($A39,Competitors!$A$2:$G$60,5,FALSE)=\"\",\"\",VLOOKUP($A39,Competitors!$A$2:$G$60,5,FALSE)))","v":""},{"$f":"IF($A39=\"\",\"\",IF(VLOOKUP($A39,Competitors!$A$2:$G$60,6,FALSE)=\"\",\"\",VLOOKUP($A39,Competitors!$A$2:$G$60,6,FALSE)))","v":"senior"},{"$f":"IF($A39=\"\",\"\",IF(VLOOKUP($A39,Competitors!$A$2:$G$60,3,FALSE)=\"\",\"\",VLOOKUP($A39,Competitors!$A$2:$G$60,3,FALSE)))","v":""},{"$f":"IF($A39=\"\",\"\",IF(VLOOKUP($A39,Competitors!$A$2:$G$60,4,FALSE)=\"\",\"\",VLOOKUP($A39,Competitors!$A$2:$G$60,4,FALSE)))","v":""},{"$f":"IF(VLOOKUP(A39,Competitors!$A$1:$H$41,8,FALSE)=\"\",\"\",VLOOKUP(A39,Competitors!$A$1:$H$41,8,FALSE))","v":""},{"$f":"IF(IFERROR(VLOOKUP(($B$2&\"_\"&$A39),'Time Entry Sheet'!$A$3:$I$499,9,0),\"Error\")=\"Error\",\"\",IF(VLOOKUP(($B$2&\"_\"&$A39),'Time Entry Sheet'!$A$3:$I$499,9,FALSE)=\"wd\",\"wd\",VLOOKUP(($B$2&\"_\"&$A39),'Time Entry Sheet'!$A$3:$I$499,9,FALSE)*1))","v":""},"",{"$f":"IF(IFERROR(VLOOKUP(($B$2&\"_\"&$A39),'Time Entry Sheet'!$A$3:$I$499,8,FALSE),\"Error\")=\"Error\",\"\",IF(VLOOKUP(($B$2&\"_\"&$A39),'Time Entry Sheet'!$A$3:$I$499,8,FALSE)=\"\",\"\",VLOOKUP(($B$2&\"_\"&$A39),'Time Entry Sheet'!$A$3:$I$499,8,FALSE)))","v":""},{"$f":"IF(IFERROR(VLOOKUP(($B$2&\"_\"&$A39),'Time Entry Sheet'!$A$3:$I$499,7,FALSE),\"Error\")=\"Error\",\"\",IF(VLOOKUP(($B$2&\"_\"&$A39),'Time Entry Sheet'!$A$3:$I$499,7,FALSE)=\"\",\"\",VLOOKUP(($B$2&\"_\"&$A39),'Time Entry Sheet'!$A$3:$I$499,7,FALSE)))","v":""},"00:01:13.850","00:01:13.850",20,{"$f":"IF(A39=\"\",\"\",M39+VLOOKUP(A39,'Test 4'!$A$12:$Q$51,16,FALSE))","v":"00:06:21.430"},20,null,null,"00:06:21.430"]
[29,{"$f":"IF($A40=\"\",\"\",IF(VLOOKUP($A40,Competitors!$A$2:$G$60,2,FALSE)=\"\",\"\",VLOOKUP($A40,Competitors!$A$2:$G$60,2,FALSE)))","v":""},{"$f":"IF($A40=\"\",\"\",IF(VLOOKUP($A40,Competitors!$A$2:$G$60,7,FALSE)=\"\",\"\",VLOOKUP($A40,Competitors!$A$2:$G$60,7,FALSE)))","v":""},{"$f":"IF($A40=\"\",\"\",IF(VLOOKUP($A40,Competitors!$A$2:$G$60,5,FALSE)=\"\",\"\",VLOOKUP($A40,Competitors!$A$2:$G$60,5,FALSE)))","v":""},{"$f":"IF($A40=\"\",\"\",IF(VLOOKUP($A40,Competitors!$A$2:$G$60,6,FALSE)=\"\",\"\",VLOOKUP($A40,Competitors!$A$2:$G$60,6,FALSE)))","v":"senior"},{"$f":"IF($A40=\"\",\"\",IF(VLOOKUP($A40,Competitors!$A$2:$G$60,3,FALSE)=\"\",\"\",VLOOKUP($A40,Competitors!$A$2:$G$60,3,FALSE)))","v":""},{"$f":"IF($A40=\"\",\"\",IF(VLOOKUP($A40,Competitors!$A$2:$G$60,4,FALSE)=\"\",\"\",VLOOKUP($A40,Competitors!$A$2:$G$60,4,FALSE)))","v":""},{"$f":"IF(VLOOKUP(A40,Competitors!$A$1:$H$41,8,FALSE)=\"\",\"\",VLOOKUP(A40,Competitors!$A$1:$H$41,8,FALSE))","v":""},{"$f":"IF(IFERROR(VLOOKUP(($B$2&\"_\"&$A40),'Time Entry Sheet'!$A$3:$I$499,9,0),\"Error\")=\"Error\",\"\",IF(VLOOKUP(($B$2&\"_\"&$A40),'Time Entry Sheet'!$A$3:$I$499,9,FALSE)=\"wd\",\"wd\",VLOOKUP(($B$2&\"_\"&$A40),'Time Entry Sheet'!$A$3:$I$499,9,FALSE)*1))","v":""},"",{"$f":"IF(IFERROR(VLOOKUP(($B$2&\"_\"&$A40),'Time Entry Sheet'!$A$3:$I$499,8,FALSE),\"Error\")=\"Error\",\"\",IF(VLOOKUP(($B$2&\"_\"&$A40),'Time Entry Sheet'!$A$3:$I$499,8,FALSE)=\"\",\"\",VLOOKUP(($B$2&\"_\"&$A40),'Time Entry Sheet'!$A$3:$I$499,8,FALSE)))","v":""},{"$f":"IF(IFERROR(VLOOKUP(($B$2&\"_\"&$A40),'Time Entry Sheet'!$A$3:$I$499,7,FALSE),\"Error\")=\"Error\",\"\",IF(VLOOKUP(($B$2&\"_\"&$A40),'Time Entry Sheet'!$A$3:$I$499,7,FALSE)=\"\",\"\",VLOOKUP(($B$2&\"_\"&$A40),'Time Entry Sheet'!$A$3:$I$499,7,FALSE)))","v":""},"00:01:13.850","00:01:13.850",20,{"$f":"IF(A40=\"\",\"\",M40+VLOOKUP(A40,'Test 4'!$A$12:$Q$51,16,FALSE))","v":"00:06:21.430"},20,null,"","00:06:21.430"]
[30,{"$f":"IF($A41=\"\",\"\",IF(VLOOKUP($A41,Competitors!$A$2:$G$60,2,FALSE)=\"\",\"\",VLOOKUP($A41,Competitors!$A$2:$G$60,2,FALSE)))","v":""},{"$f":"IF($A41=\"\",\"\",IF(VLOOKUP($A41,Competitors!$A$2:$G$60,7,FALSE)=\"\",\"\",VLOOKUP($A41,Competitors!$A$2:$G$60,7,FALSE)))","v":""},{"$f":"IF($A41=\"\",\"\",IF(VLOOKUP($A41,Competitors!$A$2:$G$60,5,FALSE)=\"\",\"\",VLOOKUP($A41,Competitors!$A$2:$G$60,5,FALSE)))","v":""},{"$f":"IF($A41=\"\",\"\",IF(VLOOKUP($A41,Competitors!$A$2:$G$60,6,FALSE)=\"\",\"\",VLOOKUP($A41,Competitors!$A$2:$G$60,6,FALSE)))","v":"senior"},{"$f":"IF($A41=\"\",\"\",IF(VLOOKUP($A41,Competitors!$A$2:$G$60,3,FALSE)=\"\",\"\",VLOOKUP($A41,Competitors!$A$2:$G$60,3,FALSE)))","v":""},{"$f":"IF($A41=\"\",\"\",IF(VLOOKUP($A41,Competitors!$A$2:$G$60,4,FALSE)=\"\",\"\",VLOOKUP($A41,Competitors!$A$2:$G$60,4,FALSE)))","v":""},{"$f":"IF(VLOOKUP(A41,Competitors!$A$1:$H$41,8,FALSE)=\"\",\"\",VLOOKUP(A41,Competitors!$A$1:$H$41,8,FALSE))","v":""},{"$f":"IF(IFERROR(VLOOKUP(($B$2&\"_\"&$A41),'Time Entry Sheet'!$A$3:$I$499,9,0),\"Error\")=\"Error\",\"\",IF(VLOOKUP(($B$2&\"_\"&$A41),'Time Entry Sheet'!$A$3:$I$499,9,FALSE)=\"wd\",\"wd\",VLOOKUP(($B$2&\"_\"&$A41),'Time Entry Sheet'!$A$3:$I$499,9,FALSE)*1))","v":""},"",{"$f":"IF(IFERROR(VLOOKUP(($B$2&\"_\"&$A41),'Time Entry Sheet'!$A$3:$I$499,8,FALSE),\"Error\")=\"Error\",\"\",IF(VLOOKUP(($B$2&\"_\"&$A41),'Time Entry Sheet'!$A$3:$I$499,8,FALSE)=\"\",\"\",VLOOKUP(($B$2&\"_\"&$A41),'Time Entry Sheet'!$A$3:$I$499,8,FALSE)))","v":""},{"$f":"IF(IFERROR(VLOOKUP(($B$2&\"_\"&$A41),'Time Entry Sheet'!$A$3:$I$499,7,FALSE),\"Error\")=\"Error\",\"\",IF(VLOOKUP(($B$2&\"_\"&$A41),'Time Entry Sheet'!$A$3:$I$499,7,FALSE)=\"\",\"\",VLOOKUP(($B$2&\"_\"&$A41),'Time Entry Sheet'!$A$3:$I$499,7,FALSE)))","v":""},"00:01:13.850","00:01:13.850",20,{"$f":"IF(A41=\"\",\"\",M41+VLOOKUP(A41,'Test 4'!$A$12:$Q$51,16,FALSE))","v":"00:06:21.430"},20,null,"","00:06:21.430"]
[31,{"$f":"IF($A42=\"\",\"\",IF(VLOOKUP($A42,Competitors!$A$2:$G$60,2,FALSE)=\"\",\"\",VLOOKUP($A42,Competitors!$A$2:$G$60,2,FALSE)))","v":""},{"$f":"IF($A42=\"\",\"\",IF(VLOOKUP($A42,Competitors!$A$2:$G$60,7,FALSE)=\"\",\"\",VLOOKUP($A42,Competitors!$A$2:$G$60,7,FALSE)))","v":""},{"$f":"IF($A42=\"\",\"\",IF(VLOOKUP($A42,Competitors!$A$2:$G$60,5,FALSE)=\"\",\"\",VLOOKUP($A42,Competitors!$A$2:$G$60,5,FALSE)))","v":""},{"$f":"IF($A42=\"\",\"\",IF(VLOOKUP($A42,Competitors!$A$2:$G$60,6,FALSE)=\"\",\"\",VLOOKUP($A42,Competitors!$A$2:$G$60,6,FALSE)))","v":"senior"},{"$f":"IF($A42=\"\",\"\",IF(VLOOKUP($A42,Competitors!$A$2:$G$60,3,FALSE)=\"\",\"\",VLOOKUP($A42,Competitors!$A$2:$G$60,3,FALSE)))","v":""},{"$f":"IF($A42=\"\",\"\",IF(VLOOKUP($A42,Competitors!$A$2:$G$60,4,FALSE)=\"\",\"\",VLOOKUP($A42,Competitors!$A$2:$G$60,4,FALSE)))","v":""},{"$f":"IF(VLOOKUP(A42,Competitors!$A$1:$H$41,8,FALSE)=\"\",\"\",VLOOKUP(A42,Competitors!$A$1:$H$41,8,FALSE))","v":""},{"$f":"IF(IFERROR(VLOOKUP(($B$2&\"_\"&$A42),'Time Entry Sheet'!$A$3:$I$499,9,0),\"Error\")=\"Error\",\"\",IF(VLOOKUP(($B$2&\"_\"&$A42),'Time Entry Sheet'!$A$3:$I$499,9,FALSE)=\"wd\",\"wd\",VLOOKUP(($B$2&\"_\"&$A42),'Time Entry Sheet'!$A$3:$I$499,9,FALSE)*1))","v":""},"",{"$f":"IF(IFERROR(VLOOKUP(($B$2&\"_\"&$A42),'Time Entry Sheet'!$A$3:$I$499,8,FALSE),\"Error\")=\"Error\",\"\",IF(VLOOKUP(($B$2&\"_\"&$A42),'Time Entry Sheet'!$A$3:$I$499,8,FALSE)=\"\",\"\",VLOOKUP(($B$2&\"_\"&$A42),'Time Entry Sheet'!$A$3:$I$499,8,FALSE)))","v":""},{"$f":"IF(IFERROR(VLOOKUP(($B$2&\"_\"&$A42),'Time Entry Sheet'!$A$3:$I$499,7,FALSE),\"Error\")=\"Error\",\"\",IF(VLOOKUP(($B$2&\"_\"&$A42),'Time Entry Sheet'!$A$3:$I$499,7,FALSE)=\"\",\"\",VLOOKUP(($B$2&\"_\"&$A42),'Time Entry Sheet'!$A$3:$I$499,7,FALSE)))","v":""},"00:01:13.850","00:01:13.850",20,{"$f":"IF(A42=\"\",\"\",M42+VLOOKUP(A42,'Test 4'!$A$12:$Q$51,16,FALSE))","v":"00:06:21.430"},20,null,"","00:06:21.430"]
[32,{"$f":"IF($A43=\"\",\"\",IF(VLOOKUP($A43,Competitors!$A$2:$G$60,2,FALSE)=\"\",\"\",VLOOKUP($A43,Competitors!$A$2:$G$60,2,FALSE)))","v":""},{"$f":"IF($A43=\"\",\"\",IF(VLOOKUP($A43,Competitors!$A$2:$G$60,7,FALSE)=\"\",\"\",VLOOKUP($A43,Competitors!$A$2:$G$60,7,FALSE)))","v":""},{"$f":"IF($A43=\"\",\"\",IF(VLOOKUP($A43,Competitors!$A$2:$G$60,5,FALSE)=\"\",\"\",VLOOKUP($A43,Competitors!$A$2:$G$60,5,FALSE)))","v":""},{"$f":"IF($A43=\"\",\"\",IF(VLOOKUP($A43,Competitors!$A$2:$G$60,6,FALSE)=\"\",\"\",VLOOKUP($A43,Competitors!$A$2:$G$60,6,FALSE)))","v":"senior"},{"$f":"IF($A43=\"\",\"\",IF(VLOOKUP($A43,Competitors!$A$2:$G$60,3,FALSE)=\"\",\"\",VLOOKUP($A43,Competitors!$A$2:$G$60,3,FALSE)))","v":""},{"$f":"IF($A43=\"\",\"\",IF(VLOOKUP($A43,Competitors!$A$2:$G$60,4,FALSE)=\"\",\"\",VLOOKUP($A43,Competitors!$A$2:$G$60,4,FALSE)))","v":""},{"$f":"IF(VLOOKUP(A43,Competitors!$A$1:$H$41,8,FALSE)=\"\",\"\",VLOOKUP(A43,Competitors!$A$1:$H$41,8,FALSE))","v":""},{"$f":"IF(IFERROR(VLOOKUP(($B$2&\"_\"&$A43),'Time Entry Sheet'!$A$3:$I$499,9,0),\"Error\")=\"Error\",\"\",IF(VLOOKUP(($B$2&\"_\"&$A43),'Time Entry Sheet'!$A$3:$I$499,9,FALSE)=\"wd\",\"wd\",VLOOKUP(($B$2&\"_\"&$A43),'Time Entry Sheet'!$A$3:$I$499,9,FALSE)*1))","v":""},"",{"$f":"IF(IFERROR(VLOOKUP(($B$2&\"_\"&$A43),'Time Entry Sheet'!$A$3:$I$499,8,FALSE),\"Error\")=\"Error\",\"\",IF(VLOOKUP(($B$2&\"_\"&$A43),'Time Entry Sheet'!$A$3:$I$499,8,FALSE)=\"\",\"\",VLOOKUP(($B$2&\"_\"&$A43),'Time Entry Sheet'!$A$3:$I$499,8,FALSE)))","v":""},{"$f":"IF(IFERROR(VLOOKUP(($B$2&\"_\"&$A43),'Time Entry Sheet'!$A$3:$I$499,7,FALSE),\"Error\")=\"Error\",\"\",IF(VLOOKUP(($B$2&\"_\"&$A43),'Time Entry Sheet'!$A$3:$I$499,7,FALSE)=\"\",\"\",VLOOKUP(($B$2&\"_\"&$A43),'Time Entry Sheet'!$A$3:$I$499,7,FALSE)))","v":""},"00:01:13.850","00:01:13.850",20,{"$f":"IF(A43=\"\",\"\",M43+VLOOKUP(A43,'Test 4'!$A$12:$Q$51,16,FALSE))","v":"00:06:21.430"},20,null,"","00:06:21.430"]
[33,{"$f":"IF($A44=\"\",\"\",IF(VLOOKUP($A44,Competitors!$A$2:$G$60,2,FALSE)=\"\",\"\",VLOOKUP($A44,Competitors!$A$2:$G$60,2,FALSE)))","v":""},{"$f":"IF($A44=\"\",\"\",IF(VLOOKUP($A44,Competitors!$A$2:$G$60,7,FALSE)=\"\",\"\",VLOOKUP($A44,Competitors!$A$2:$G$60,7,FALSE)))","v":""},{"$f":"IF($A44=\"\",\"\",IF(VLOOKUP($A44,Competitors!$A$2:$G$60,5,FALSE)=\"\",\"\",VLOOKUP($A44,Competitors!$A$2:$G$60,5,FALSE)))","v":""},{"$f":"IF($A44=\"\",\"\",IF(VLOOKUP($A44,Competitors!$A$2:$G$60,6,FALSE)=\"\",\"\",VLOOKUP($A44,Competitors!$A$2:$G$60,6,FALSE)))","v":"senior"},{"$f":"IF($A44=\"\",\"\",IF(VLOOKUP($A44,Competitors!$A$2:$G$60,3,FALSE)=\"\",\"\",VLOOKUP($A44,Competitors!$A$2:$G$60,3,FALSE)))","v":""},{"$f":"IF($A44=\"\",\"\",IF(VLOOKUP($A44,Competitors!$A$2:$G$60,4,FALSE)=\"\",\"\",VLOOKUP($A44,Competitors!$A$2:$G$60,4,FALSE)))","v":""},{"$f":"IF(VLOOKUP(A44,Competitors!$A$1:$H$41,8,FALSE)=\"\",\"\",VLOOKUP(A44,Competitors!$A$1:$H$41,8,FALSE))","v":""},{"$f":"IF(IFERROR(VLOOKUP(($B$2&\"_\"&$A44),'Time Entry Sheet'!$A$3:$I$499,9,0),\"Error\")=\"Error\",\"\",IF(VLOOKUP(($B$2&\"_\"&$A44),'Time Entry Sheet'!$A$3:$I$499,9,FALSE)=\"wd\",\"wd\",VLOOKUP(($B$2&\"_\"&$A44),'Time Entry Sheet'!$A$3:$I$499,9,FALSE)*1))","v":""},"",{"$f":"IF(IFERROR(VLOOKUP(($B$2&\"_\"&$A44),'Time Entry Sheet'!$A$3:$I$499,8,FALSE),\"Error\")=\"Error\",\"\",IF(VLOOKUP(($B$2&\"_\"&$A44),'Time Entry Sheet'!$A$3:$I$499,8,FALSE)=\"\",\"\",VLOOKUP(($B$2&\"_\"&$A44),'Time Entry Sheet'!$A$3:$I$499,8,FALSE)))","v":""},{"$f":"IF(IFERROR(VLOOKUP(($B$2&\"_\"&$A44),'Time Entry Sheet'!$A$3:$I$499,7,FALSE),\"Error\")=\"Error\",\"\",IF(VLOOKUP(($B$2&\"_\"&$A44),'Time Entry Sheet'!$A$3:$I$499,7,FALSE)=\"\",\"\",VLOOKUP(($B$2&\"_\"&$A44),'Time Entry Sheet'!$A$3:$I$499,7,FALSE)))","v":""},"00:01:13.850","00:01:13.850",20,{"$f":"IF(A44=\"\",\"\",M44+VLOOKUP(A44,'Test 4'!$A$12:$Q$51,16,FALSE))","v":"00:06:21.430"},20,null,"","00:06:21.430"]
[34,{"$f":"IF($A45=\"\",\"\",IF(VLOOKUP($A45,Competitors!$A$2:$G$60,2,FALSE)=\"\",\"\",VLOOKUP($A45,Competitors!$A$2:$G$60,2,FALSE)))","v":""},{"$f":"IF($A45=\"\",\"\",IF(VLOOKUP($A45,Competitors!$A$2:$G$60,7,FALSE)=\"\",\"\",VLOOKUP($A45,Competitors!$A$2:$G$60,7,FALSE)))","v":""},{"$f":"IF($A45=\"\",\"\",IF(VLOOKUP($A45,Competitors!$A$2:$G$60,5,FALSE)=\"\",\"\",VLOOKUP($A45,Competitors!$A$2:$G$60,5,FALSE)))","v":""},{"$f":"IF($A45=\"\",\"\",IF(VLOOKUP($A45,Competitors!$A$2:$G$60,6,FALSE)=\"\",\"\",VLOOKUP($A45,Competitors!$A$2:$G$60,6,FALSE)))","v":"senior"},{"$f":"IF($A45=\"\",\"\",IF(VLOOKUP($A45,Competitors!$A$2:$G$60,3,FALSE)=\"\",\"\",VLOOKUP($A45,Competitors!$A$2:$G$60,3,FALSE)))","v":""},{"$f":"IF($A45=\"\",\"\",IF(VLOOKUP($A45,Competitors!$A$2:$G$60,4,FALSE)=\"\",\"\",VLOOKUP($A45,Competitors!$A$2:$G$60,4,FALSE)))","v":""},{"$f":"IF(VLOOKUP(A45,Competitors!$A$1:$H$41,8,FALSE)=\"\",\"\",VLOOKUP(A45,Competitors!$A$1:$H$41,8,FALSE))","v":""},{"$f":"IF(IFERROR(VLOOKUP(($B$2&\"_\"&$A45),'Time Entry Sheet'!$A$3:$I$499,9,0),\"Error\")=\"Error\",\"\",IF(VLOOKUP(($B$2&\"_\"&$A45),'Time Entry Sheet'!$A$3:$I$499,9,FALSE)=\"wd\",\"wd\",VLOOKUP(($B$2&\"_\"&$A45),'Time Entry Sheet'!$A$3:$I$499,9,FALSE)*1))","v":""},"",{"$f":"IF(IFERROR(VLOOKUP(($B$2&\"_\"&$A45),'Time Entry Sheet'!$A$3:$I$499,8,FALSE),\"Error\")=\"Error\",\"\",IF(VLOOKUP(($B$2&\"_\"&$A45),'Time Entry Sheet'!$A$3:$I$499,8,FALSE)=\"\",\"\",VLOOKUP(($B$2&\"_\"&$A45),'Time Entry Sheet'!$A$3:$I$499,8,FALSE)))","v":""},{"$f":"IF(IFERROR(VLOOKUP(($B$2&\"_\"&$A45),'Time Entry Sheet'!$A$3:$I$499,7,FALSE),\"Error\")=\"Error\",\"\",IF(VLOOKUP(($B$2&\"_\"&$A45),'Time Entry Sheet'!$A$3:$I$499,7,FALSE)=\"\",\"\",VLOOKUP(($B$2&\"_\"&$A45),'Time Entry Sheet'!$A$3:$I$499,7,FALSE)))","v":""},"00:01:13.850","00:01:13.850",20,{"$f":"IF(A45=\"\",\"\",M45+VLOOKUP(A45,'Test 4'!$A$12:$Q$51,16,FALSE))","v":"00:06:21.430"},20,null,"","00:06:21.430"]
[35,{"$f":"IF($A46=\"\",\"\",IF(VLOOKUP($A46,Competitors!$A$2:$G$60,2,FALSE)=\"\",\"\",VLOOKUP($A46,Competitors!$A$2:$G$60,2,FALSE)))","v":""},{"$f":"IF($A46=\"\",\"\",IF(VLOOKUP($A46,Competitors!$A$2:$G$60,7,FALSE)=\"\",\"\",VLOOKUP($A46,Competitors!$A$2:$G$60,7,FALSE)))","v":""},{"$f":"IF($A46=\"\",\"\",IF(VLOOKUP($A46,Competitors!$A$2:$G$60,5,FALSE)=\"\",\"\",VLOOKUP($A46,Competitors!$A$2:$G$60,5,FALSE)))","v":""},{"$f":"IF($A46=\"\",\"\",IF(VLOOKUP($A46,Competitors!$A$2:$G$60,6,FALSE)=\"\",\"\",VLOOKUP($A46,Competitors!$A$2:$G$60,6,FALSE)))","v":"senior"},{"$f":"IF($A46=\"\",\"\",IF(VLOOKUP($A46,Competitors!$A$2:$G$60,3,FALSE)=\"\",\"\",VLOOKUP($A46,Competitors!$A$2:$G$60,3,FALSE)))","v":""},{"$f":"IF($A46=\"\",\"\",IF(VLOOKUP($A46,Competitors!$A$2:$G$60,4,FALSE)=\"\",\"\",VLOOKUP($A46,Competitors!$A$2:$G$60,4,FALSE)))","v":""},{"$f":"IF(VLOOKUP(A46,Competitors!$A$1:$H$41,8,FALSE)=\"\",\"\",VLOOKUP(A46,Competitors!$A$1:$H$41,8,FALSE))","v":""},{"$f":"IF(IFERROR(VLOOKUP(($B$2&\"_\"&$A46),'Time Entry Sheet'!$A$3:$I$499,9,0),\"Error\")=\"Error\",\"\",IF(VLOOKUP(($B$2&\"_\"&$A46),'Time Entry Sheet'!$A$3:$I$499,9,FALSE)=\"wd\",\"wd\",VLOOKUP(($B$2&\"_\"&$A46),'Time Entry Sheet'!$A$3:$I$499,9,FALSE)*1))","v":""},"",{"$f":"IF(IFERROR(VLOOKUP(($B$2&\"_\"&$A46),'Time Entry Sheet'!$A$3:$I$499,8,FALSE),\"Error\")=\"Error\",\"\",IF(VLOOKUP(($B$2&\"_\"&$A46),'Time Entry Sheet'!$A$3:$I$499,8,FALSE)=\"\",\"\",VLOOKUP(($B$2&\"_\"&$A46),'Time Entry Sheet'!$A$3:$I$499,8,FALSE)))","v":""},{"$f":"IF(IFERROR(VLOOKUP(($B$2&\"_\"&$A46),'Time Entry Sheet'!$A$3:$I$499,7,FALSE),\"Error\")=\"Error\",\"\",IF(VLOOKUP(($B$2&\"_\"&$A46),'Time Entry Sheet'!$A$3:$I$499,7,FALSE)=\"\",\"\",VLOOKUP(($B$2&\"_\"&$A46),'Time Entry Sheet'!$A$3:$I$499,7,FALSE)))","v":""},"00:01:13.850","00:01:13.850",20,{"$f":"IF(A46=\"\",\"\",M46+VLOOKUP(A46,'Test 4'!$A$12:$Q$51,16,FALSE))","v":"00:06:21.430"},20,null,"","00:06:21.430"]
[36,{"$f":"IF($A47=\"\",\"\",IF(VLOOKUP($A47,Competitors!$A$2:$G$60,2,FALSE)=\"\",\"\",VLOOKUP($A47,Competitors!$A$2:$G$60,2,FALSE)))","v":""},{"$f":"IF($A47=\"\",\"\",IF(VLOOKUP($A47,Competitors!$A$2:$G$60,7,FALSE)=\"\",\"\",VLOOKUP($A47,Competitors!$A$2:$G$60,7,FALSE)))","v":""},{"$f":"IF($A47=\"\",\"\",IF(VLOOKUP($A47,Competitors!$A$2:$G$60,5,FALSE)=\"\",\"\",VLOOKUP($A47,Competitors!$A$2:$G$60,5,FALSE)))","v":""},{"$f":"IF($A47=\"\",\"\",IF(VLOOKUP($A47,Competitors!$A$2:$G$60,6,FALSE)=\"\",\"\",VLOOKUP($A47,Competitors!$A$2:$G$60,6,FALSE)))","v":"senior"},{"$f":"IF($A47=\"\",\"\",IF(VLOOKUP($A47,Competitors!$A$2:$G$60,3,FALSE)=\"\",\"\",VLOOKUP($A47,Competitors!$A$2:$G$60,3,FALSE)))","v":""},{"$f":"IF($A47=\"\",\"\",IF(VLOOKUP($A47,Competitors!$A$2:$G$60,4,FALSE)=\"\",\"\",VLOOKUP($A47,Competitors!$A$2:$G$60,4,FALSE)))","v":""},{"$f":"IF(VLOOKUP(A47,Competitors!$A$1:$H$41,8,FALSE)=\"\",\"\",VLOOKUP(A47,Competitors!$A$1:$H$41,8,FALSE))","v":""},{"$f":"IF(IFERROR(VLOOKUP(($B$2&\"_\"&$A47),'Time Entry Sheet'!$A$3:$I$499,9,0),\"Error\")=\"Error\",\"\",IF(VLOOKUP(($B$2&\"_\"&$A47),'Time Entry Sheet'!$A$3:$I$499,9,FALSE)=\"wd\",\"wd\",VLOOKUP(($B$2&\"_\"&$A47),'Time Entry Sheet'!$A$3:$I$499,9,FALSE)*1))","v":""},"",{"$f":"IF(IFERROR(VLOOKUP(($B$2&\"_\"&$A47),'Time Entry Sheet'!$A$3:$I$499,8,FALSE),\"Error\")=\"Error\",\"\",IF(VLOOKUP(($B$2&\"_\"&$A47),'Time Entry Sheet'!$A$3:$I$499,8,FALSE)=\"\",\"\",VLOOKUP(($B$2&\"_\"&$A47),'Time Entry Sheet'!$A$3:$I$499,8,FALSE)))","v":""},{"$f":"IF(IFERROR(VLOOKUP(($B$2&\"_\"&$A47),'Time Entry Sheet'!$A$3:$I$499,7,FALSE),\"Error\")=\"Error\",\"\",IF(VLOOKUP(($B$2&\"_\"&$A47),'Time Entry Sheet'!$A$3:$I$499,7,FALSE)=\"\",\"\",VLOOKUP(($B$2&\"_\"&$A47),'Time Entry Sheet'!$A$3:$I$499,7,FALSE)))","v":""},"00:01:13.850","00:01:13.850",20,{"$f":"IF(A47=\"\",\"\",M47+VLOOKUP(A47,'Test 4'!$A$12:$Q$51,16,FALSE))","v":"00:06:21.430"},20,null,"","00:06:21.430"]
[37,{"$f":"IF($A48=\"\",\"\",IF(VLOOKUP($A48,Competitors!$A$2:$G$60,2,FALSE)=\"\",\"\",VLOOKUP($A48,Competitors!$A$2:$G$60,2,FALSE)))","v":""},{"$f":"IF($A48=\"\",\"\",IF(VLOOKUP($A48,Competitors!$A$2:$G$60,7,FALSE)=\"\",\"\",VLOOKUP($A48,Competitors!$A$2:$G$60,7,FALSE)))","v":""},{"$f":"IF($A48=\"\",\"\",IF(VLOOKUP($A48,Competitors!$A$2:$G$60,5,FALSE)=\"\",\"\",VLOOKUP($A48,Competitors!$A$2:$G$60,5,FALSE)))","v":""},{"$f":"IF($A48=\"\",\"\",IF(VLOOKUP($A48,Competitors!$A$2:$G$60,6,FALSE)=\"\",\"\",VLOOKUP($A48,Competitors!$A$2:$G$60,6,FALSE)))","v":"senior"},{"$f":"IF($A48=\"\",\"\",IF(VLOOKUP($A48,Competitors!$A$2:$G$60,3,FALSE)=\"\",\"\",VLOOKUP($A48,Competitors!$A$2:$G$60,3,FALSE)))","v":""},{"$f":"IF($A48=\"\",\"\",IF(VLOOKUP($A48,Competitors!$A$2:$G$60,4,FALSE)=\"\",\"\",VLOOKUP($A48,Competitors!$A$2:$G$60,4,FALSE)))","v":""},{"$f":"IF(VLOOKUP(A48,Competitors!$A$1:$H$41,8,FALSE)=\"\",\"\",VLOOKUP(A48,Competitors!$A$1:$H$41,8,FALSE))","v":""},{"$f":"IF(IFERROR(VLOOKUP(($B$2&\"_\"&$A48),'Time Entry Sheet'!$A$3:$I$499,9,0),\"Error\")=\"Error\",\"\",IF(VLOOKUP(($B$2&\"_\"&$A48),'Time Entry Sheet'!$A$3:$I$499,9,FALSE)=\"wd\",\"wd\",VLOOKUP(($B$2&\"_\"&$A48),'Time Entry Sheet'!$A$3:$I$499,9,FALSE)*1))","v":""},"",{"$f":"IF(IFERROR(VLOOKUP(($B$2&\"_\"&$A48),'Time Entry Sheet'!$A$3:$I$499,8,FALSE),\"Error\")=\"Error\",\"\",IF(VLOOKUP(($B$2&\"_\"&$A48),'Time Entry Sheet'!$A$3:$I$499,8,FALSE)=\"\",\"\",VLOOKUP(($B$2&\"_\"&$A48),'Time Entry Sheet'!$A$3:$I$499,8,FALSE)))","v":""},{"$f":"IF(IFERROR(VLOOKUP(($B$2&\"_\"&$A48),'Time Entry Sheet'!$A$3:$I$499,7,FALSE),\"Error\")=\"Error\",\"\",IF(VLOOKUP(($B$2&\"_\"&$A48),'Time Entry Sheet'!$A$3:$I$499,7,FALSE)=\"\",\"\",VLOOKUP(($B$2&\"_\"&$A48),'Time Entry Sheet'!$A$3:$I$499,7,FALSE)))","v":""},{"$f":"IF(A48=\"\",\"\",IF(I48=\"wd\",IF(E48=\"Senior\",$B$7,$C$7),IF(L48<>\"\",$B$7,IF(I48=\"\",IF(E48=\"Senior\",$B$8,$C$8),IF(K48=\"\",I48,I48+($B$5*K48))))))","v":"00:01:13.850"},"00:01:13.850",20,{"$f":"IF(A48=\"\",\"\",M48+VLOOKUP(A48,'Test 4'!$A$12:$Q$51,16,FALSE))","v":"00:06:21.430"},20,null,"","00:06:21.430"]
[38,{"$f":"IF($A49=\"\",\"\",IF(VLOOKUP($A49,Competitors!$A$2:$G$60,2,FALSE)=\"\",\"\",VLOOKUP($A49,Competitors!$A$2:$G$60,2,FALSE)))","v":""},{"$f":"IF($A49=\"\",\"\",IF(VLOOKUP($A49,Competitors!$A$2:$G$60,7,FALSE)=\"\",\"\",VLOOKUP($A49,Competitors!$A$2:$G$60,7,FALSE)))","v":""},{"$f":"IF($A49=\"\",\"\",IF(VLOOKUP($A49,Competitors!$A$2:$G$60,5,FALSE)=\"\",\"\",VLOOKUP($A49,Competitors!$A$2:$G$60,5,FALSE)))","v":""},{"$f":"IF($A49=\"\",\"\",IF(VLOOKUP($A49,Competitors!$A$2:$G$60,6,FALSE)=\"\",\"\",VLOOKUP($A49,Competitors!$A$2:$G$60,6,FALSE)))","v":"senior"},{"$f":"IF($A49=\"\",\"\",IF(VLOOKUP($A49,Competitors!$A$2:$G$60,3,FALSE)=\"\",\"\",VLOOKUP($A49,Competitors!$A$2:$G$60,3,FALSE)))","v":""},{"$f":"IF($A49=\"\",\"\",IF(VLOOKUP($A49,Competitors!$A$2:$G$60,4,FALSE)=\"\",\"\",VLOOKUP($A49,Competitors!$A$2:$G$60,4,FALSE)))","v":""},{"$f":"IF(VLOOKUP(A49,Competitors!$A$1:$H$41,8,FALSE)=\"\",\"\",VLOOKUP(A49,Competitors!$A$1:$H$41,8,FALSE))","v":""},{"$f":"IF(IFERROR(VLOOKUP(($B$2&\"_\"&$A49),'Time Entry Sheet'!$A$3:$I$499,9,0),\"Error\")=\"Error\",\"\",IF(VLOOKUP(($B$2&\"_\"&$A49),'Time Entry Sheet'!$A$3:$I$499,9,FALSE)=\"wd\",\"wd\",VLOOKUP(($B$2&\"_\"&$A49),'Time Entry Sheet'!$A$3:$I$499,9,FALSE)*1))","v":""},"",{"$f":"IF(IFERROR(VLOOKUP(($B$2&\"_\"&$A49),'Time Entry Sheet'!$A$3:$I$499,8,FALSE),\"Error\")=\"Error\",\"\",IF(VLOOKUP(($B$2&\"_\"&$A49),'Time Entry Sheet'!$A$3:$I$499,8,FALSE)=\"\",\"\",VLOOKUP(($B$2&\"_\"&$A49),'Time Entry Sheet'!$A$3:$I$499,8,FALSE)))","v":""},{"$f":"IF(IFERROR(VLOOKUP(($B$2&\"_\"&$A49),'Time Entry Sheet'!$A$3:$I$499,7,FALSE),\"Error\")=\"Error\",\"\",IF(VLOOKUP(($B$2&\"_\"&$A49),'Time Entry Sheet'!$A$3:$I$499,7,FALSE)=\"\",\"\",VLOOKUP(($B$2&\"_\"&$A49),'Time Entry Sheet'!$A$3:$I$499,7,FALSE)))","v":""},"00:01:13.850","00:01:13.850",20,{"$f":"IF(A49=\"\",\"\",M49+VLOOKUP(A49,'Test 4'!$A$12:$Q$51,16,FALSE))","v":"00:06:21.430"},20,null,"","00:06:21.430"]
[39,{"$f":"IF($A50=\"\",\"\",IF(VLOOKUP($A50,Competitors!$A$2:$G$60,2,FALSE)=\"\",\"\",VLOOKUP($A50,Competitors!$A$2:$G$60,2,FALSE)))","v":""},{"$f":"IF($A50=\"\",\"\",IF(VLOOKUP($A50,Competitors!$A$2:$G$60,7,FALSE)=\"\",\"\",VLOOKUP($A50,Competitors!$A$2:$G$60,7,FALSE)))","v":""},{"$f":"IF($A50=\"\",\"\",IF(VLOOKUP($A50,Competitors!$A$2:$G$60,5,FALSE)=\"\",\"\",VLOOKUP($A50,Competitors!$A$2:$G$60,5,FALSE)))","v":""},{"$f":"IF($A50=\"\",\"\",IF(VLOOKUP($A50,Competitors!$A$2:$G$60,6,FALSE)=\"\",\"\",VLOOKUP($A50,Competitors!$A$2:$G$60,6,FALSE)))","v":"senior"},{"$f":"IF($A50=\"\",\"\",IF(VLOOKUP($A50,Competitors!$A$2:$G$60,3,FALSE)=\"\",\"\",VLOOKUP($A50,Competitors!$A$2:$G$60,3,FALSE)))","v":""},{"$f":"IF($A50=\"\",\"\",IF(VLOOKUP($A50,Competitors!$A$2:$G$60,4,FALSE)=\"\",\"\",VLOOKUP($A50,Competitors!$A$2:$G$60,4,FALSE)))","v":""},{"$f":"IF(VLOOKUP(A50,Competitors!$A$1:$H$41,8,FALSE)=\"\",\"\",VLOOKUP(A50,Competitors!$A$1:$H$41,8,FALSE))","v":""},{"$f":"IF(IFERROR(VLOOKUP(($B$2&\"_\"&$A50),'Time Entry Sheet'!$A$3:$I$499,9,0),\"Error\")=\"Error\",\"\",IF(VLOOKUP(($B$2&\"_\"&$A50),'Time Entry Sheet'!$A$3:$I$499,9,FALSE)=\"wd\",\"wd\",VLOOKUP(($B$2&\"_\"&$A50),'Time Entry Sheet'!$A$3:$I$499,9,FALSE)*1))","v":""},"",{"$f":"IF(IFERROR(VLOOKUP(($B$2&\"_\"&$A50),'Time Entry Sheet'!$A$3:$I$499,8,FALSE),\"Error\")=\"Error\",\"\",IF(VLOOKUP(($B$2&\"_\"&$A50),'Time Entry Sheet'!$A$3:$I$499,8,FALSE)=\"\",\"\",VLOOKUP(($B$2&\"_\"&$A50),'Time Entry Sheet'!$A$3:$I$499,8,FALSE)))","v":""},{"$f":"IF(IFERROR(VLOOKUP(($B$2&\"_\"&$A50),'Time Entry Sheet'!$A$3:$I$499,7,FALSE),\"Error\")=\"Error\",\"\",IF(VLOOKUP(($B$2&\"_\"&$A50),'Time Entry Sheet'!$A$3:$I$499,7,FALSE)=\"\",\"\",VLOOKUP(($B$2&\"_\"&$A50),'Time Entry Sheet'!$A$3:$I$499,7,FALSE)))","v":""},"00:01:13.850","00:01:13.850",20,{"$f":"IF(A50=\"\",\"\",M50+VLOOKUP(A50,'Test 4'!$A$12:$Q$51,16,FALSE))","v":"00:06:21.430"},20,null,null,"00:06:21.430"]
[40,{"$f":"IF($A51=\"\",\"\",IF(VLOOKUP($A51,Competitors!$A$2:$G$60,2,FALSE)=\"\",\"\",VLOOKUP($A51,Competitors!$A$2:$G$60,2,FALSE)))","v":""},{"$f":"IF($A51=\"\",\"\",IF(VLOOKUP($A51,Competitors!$A$2:$G$60,7,FALSE)=\"\",\"\",VLOOKUP($A51,Competitors!$A$2:$G$60,7,FALSE)))","v":""},{"$f":"IF($A51=\"\",\"\",IF(VLOOKUP($A51,Competitors!$A$2:$G$60,5,FALSE)=\"\",\"\",VLOOKUP($A51,Competitors!$A$2:$G$60,5,FALSE)))","v":""},{"$f":"IF($A51=\"\",\"\",IF(VLOOKUP($A51,Competitors!$A$2:$G$60,6,FALSE)=\"\",\"\",VLOOKUP($A51,Competitors!$A$2:$G$60,6,FALSE)))","v":"senior"},{"$f":"IF($A51=\"\",\"\",IF(VLOOKUP($A51,Competitors!$A$2:$G$60,3,FALSE)=\"\",\"\",VLOOKUP($A51,Competitors!$A$2:$G$60,3,FALSE)))","v":""},{"$f":"IF($A51=\"\",\"\",IF(VLOOKUP($A51,Competitors!$A$2:$G$60,4,FALSE)=\"\",\"\",VLOOKUP($A51,Competitors!$A$2:$G$60,4,FALSE)))","v":""},{"$f":"IF(VLOOKUP(A51,Competitors!$A$1:$H$41,8,FALSE)=\"\",\"\",VLOOKUP(A51,Competitors!$A$1:$H$41,8,FALSE))","v":""},{"$f":"IF(IFERROR(VLOOKUP(($B$2&\"_\"&$A51),'Time Entry Sheet'!$A$3:$I$499,9,0),\"Error\")=\"Error\",\"\",IF(VLOOKUP(($B$2&\"_\"&$A51),'Time Entry Sheet'!$A$3:$I$499,9,FALSE)=\"wd\",\"wd\",VLOOKUP(($B$2&\"_\"&$A51),'Time Entry Sheet'!$A$3:$I$499,9,FALSE)*1))","v":""},"",{"$f":"IF(IFERROR(VLOOKUP(($B$2&\"_\"&$A51),'Time Entry Sheet'!$A$3:$I$499,8,FALSE),\"Error\")=\"Error\",\"\",IF(VLOOKUP(($B$2&\"_\"&$A51),'Time Entry Sheet'!$A$3:$I$499,8,FALSE)=\"\",\"\",VLOOKUP(($B$2&\"_\"&$A51),'Time Entry Sheet'!$A$3:$I$499,8,FALSE)))","v":""},{"$f":"IF(IFERROR(VLOOKUP(($B$2&\"_\"&$A51),'Time Entry Sheet'!$A$3:$I$499,7,FALSE),\"Error\")=\"Error\",\"\",IF(VLOOKUP(($B$2&\"_\"&$A51),'Time Entry Sheet'!$A$3:$I$499,7,FALSE)=\"\",\"\",VLOOKUP(($B$2&\"_\"&$A51),'Time Entry Sheet'!$A$3:$I$499,7,FALSE)))","v":""},"00:01:13.850","00:01:13.850",20,{"$f":"IF(A51=\"\",\"\",M51+VLOOKUP(A51,'Test 4'!$A$12:$Q$51,16,FALSE))","v":"00:06:21.430"},20,null,null,"00:06:21.430"]

{"sheet":"Test 6","index":23,"n_rows":51,"n_cols":20,"rows_kept":51,"cut":false,"hidden":false,"merged":[[0,8,0,10]]}
[]
["TEST",6,null,null,null,null,null,null,null,null,"PROVISIONAL RESULTS",null,{"$f":"NOW()","v":42690.814244444446},null,{"$f":"NOW()","v":"2016-11-16T19:32:30.720"}]
["Date:","2015-10-31",null,null,null,null,null,null,null,null,null,"Junior",{"$f":"MIN( IF( $E$8:$E$51=L3, $S$8:$S$51 ) )","v":"00:00:00"},null,"FASTEST"]
["10 sec penalty","00:00:10",null,null,null,null,null,null,null,null,null,"Junior",{"$f":"MAX( IF( $E$8:$E$51=L4, $S$8:$S$51 ) )","v":"00:00:00"},null,"SLOWEST"]
["Flag penalty","00:00:05",null,null,null,null,"SENIOR"]
[null,null,null,null,null,null,"Fastest test time x 2",null,{"$f":"M6*2","v":"00:01:47.520"},null,null,"Senior",{"$f":"MIN( IF( E11:E51=L6, J11:J51 ) )","v":"00:00:53.760"},null,"FASTEST"]
["Slowest test time + 5 second penalty",{"$f":"MIN($I$6,$I$7)+$B$5","v":"00:01:12.980"},{"$f":"MIN($I$9:$I$10)+$B$5","v":"00:00:05"},null,null,null,"Slowest test time",null,{"$f":"M7","v":"00:01:07.980"},null,null,"Senior",{"$f":"MAX( IF( E11:E51=L7, J11:J51 ) )","v":"00:01:07.980"},null,"SLOWEST"]
["Failure to Attempt Course (Slowest time + 10 sec)",{"$f":"SUM($I$7,$B$4)","v":"00:01:17.980"},{"$f":"SUM($I$10,$B$4)","v":"00:00:10"},null,null,null,"JUNIOR"]
[null,null,null,null,null,null,"Fastest test time x 2",null,{"$f":"M3*2","v":"00:00:00"}]
[null,null,null,null,null,null,"Slowest test time",null,{"$f":"M4","v":"00:00:00"}]
["Car Number","Driver","Rookie?","Female Driver?","Junior Driver?","Vehicle","Class","Senior with Passenger?","Time Taken (MM:SS.00)","Time Taken-PenaltyCalculator (MM:SS.00)","No. of Flags &/or Finishes partly out of garage","Slowest time + 5 sec penalty type","Total Test 6 Time","Total Test 1 Time for ranking","Test 6 Position","Cumulative Time Taken (MM:SS.00)","Cumulative Outright Position","Comments","Time Taken-PenaltyCalculator Junior(MM:SS.00)","Cumulative Time Taken (MM:SS.00) for ranking"]
[1,{"$f":"IF($A12=\"\",\"\",IF(VLOOKUP($A12,Competitors!$A$2:$G$60,2,FALSE)=\"\",\"\",VLOOKUP($A12,Competitors!$A$2:$G$60,2,FALSE)))","v":"Paul Dunn"},{"$f":"IF($A12=\"\",\"\",IF(VLOOKUP($A12,Competitors!$A$2:$G$60,7,FALSE)=\"\",\"\",VLOOKUP($A12,Competitors!$A$2:$G$60,7,FALSE)))","v":""},{"$f":"IF($A12=\"\",\"\",IF(VLOOKUP($A12,Competitors!$A$2:$G$60,5,FALSE)=\"\",\"\",VLOOKUP($A12,Competitors!$A$2:$G$60,5,FALSE)))","v":""},{"$f":"IF($A12=\"\",\"\",IF(VLOOKUP($A12,Competitors!$A$2:$G$60,6,FALSE)=\"\",\"\",VLOOKUP($A12,Competitors!$A$2:$G$60,6,FALSE)))","v":"senior"},{"$f":"IF($A12=\"\",\"\",IF(VLOOKUP($A12,Competitors!$A$2:$G$60,3,FALSE)=\"\",\"\",VLOOKUP($A12,Competitors!$A$2:$G$60,3,FALSE)))","v":"Excel"},{"$f":"IF($A12=\"\",\"\",IF(VLOOKUP($A12,Competitors!$A$2:$G$60,4,FALSE)=\"\",\"\",VLOOKUP($A12,Competitors!$A$2:$G$60,4,FALSE)))","v":""},{"$f":"IF(VLOOKUP(A12,Competitors!$A$1:$H$41,8,FALSE)=\"\",\"\",VLOOKUP(A12,Competitors!$A$1:$H$41,8,FALSE))","v":""},{"$f":"IF(IFERROR(VLOOKUP(($B$2&\"_\"&$A12),'Time Entry Sheet'!$A$3:$I$499,9,0),\"Error\")=\"Error\",\"\",IF(VLOOKUP(($B$2&\"_\"&$A12),'Time Entry Sheet'!$A$3:$I$499,9,FALSE)=\"wd\",\"wd\",VLOOKUP(($B$2&\"_\"&$A12),'Time Entry Sheet'!$A$3:$I$499,9,FALSE)*1))","v":"00:00:56.770"},{"$f":"IF(E12=\"Junior\",\"\",IF(I12=\"wd\",\"\",IF(K12<>\"\",\"\",I12)))","v":"00:00:56.770"},{"$f":"IF(IFERROR(VLOOKUP(($B$2&\"_\"&$A12),'Time Entry Sheet'!$A$3:$I$499,8,FALSE),\"Error\")=\"Error\",\"\",IF(VLOOKUP(($B$2&\"_\"&$A12),'Time Entry Sheet'!$A$3:$I$499,8,FALSE)=\"\",\"\",VLOOKUP(($B$2&\"_\"&$A12),'Time Entry Sheet'!$A$3:$I$499,8,FALSE)))","v":""},{"$f":"IF(IFERROR(VLOOKUP(($B$2&\"_\"&$A12),'Time Entry Sheet'!$A$3:$I$499,7,FALSE),\"Error\")=\"Error\",\"\",IF(VLOOKUP(($B$2&\"_\"&$A12),'Time Entry Sheet'!$A$3:$I$499,7,FALSE)=\"\",\"\",VLOOKUP(($B$2&\"_\"&$A12),'Time Entry Sheet'!$A$3:$I$499,7,FALSE)))","v":""},{"$f":"IF(A12=\"\",\"\",IF(I12=\"wd\",IF(E12=\"Senior\",$B$7,$C$7),IF(L12<>\"\",$B$7,IF(I12=\"\",IF(E12=\"Senior\",$B$8,$C$8),IF(K12=\"\",I12,I12+($B$5*K12))))))","v":"00:00:56.770"},{"$f":"IF(H12=\"Passenger\",\"\",M12)","v":"00:00:56.770"},{"$f":"IF(A12=\"\",\"\",IF(H12=\"Passenger\",\"P\",RANK(N12,$N$12:$N$51,1)))","v":4},{"$f":"IF(A12=\"\",\"\",M12+VLOOKUP(A12,'Test 5'!$A$12:$Q$51,16,FALSE))","v":"00:05:05.060"},{"$f":"IF(A12=\"\",\"\",IF(H12=\"Passenger\",\"P\",RANK(T12,$T$12:$T$51,1)))","v":3},null,{"$f":"IF(E12=\"Senior\",\"\",IF(I12=\"wd\",\"\",IF(K12<>\"\",\"\",I12)))","v":""},{"$f":"IF(H12=\"Passenger\",\"\",P12)","v":"00:05:05.060"}]
[2,{"$f":"IF($A13=\"\",\"\",IF(VLOOKUP($A13,Competitors!$A$2:$G$60,2,FALSE)=\"\",\"\",VLOOKUP($A13,Competitors!$A$2:$G$60,2,FALSE)))","v":"Stephen Thorne"},{"$f":"IF($A13=\"\",\"\",IF(VLOOKUP($A13,Competitors!$A$2:$G$60,7,FALSE)=\"\",\"\",VLOOKUP($A13,Competitors!$A$2:$G$60,7,FALSE)))","v":""},{"$f":"IF($A13=\"\",\"\",IF(VLOOKUP($A13,Competitors!$A$2:$G$60,5,FALSE)=\"\",\"\",VLOOKUP($A13,Competitors!$A$2:$G$60,5,FALSE)))","v":""},{"$f":"IF($A13=\"\",\"\",IF(VLOOKUP($A13,Competitors!$A$2:$G$60,6,FALSE)=\"\",\"\",VLOOKUP($A13,Competitors!$A$2:$G$60,6,FALSE)))","v":"senior"},{"$f":"IF($A13=\"\",\"\",IF(VLOOKUP($A13,Competitors!$A$2:$G$60,3,FALSE)=\"\",\"\",VLOOKUP($A13,Competitors!$A$2:$G$60,3,FALSE)))","v":""},{"$f":"IF($A13=\"\",\"\",IF(VLOOKUP($A13,Competitors!$A$2:$G$60,4,FALSE)=\"\",\"\",VLOOKUP($A13,Competitors!$A$2:$G$60,4,FALSE)))","v":""},{"$f":"IF(VLOOKUP(A13,Competitors!$A$1:$H$41,8,FALSE)=\"\",\"\",VLOOKUP(A13,Competitors!$A$1:$H$41,8,FALSE))","v":""},{"$f":"IF(IFERROR(VLOOKUP(($B$2&\"_\"&$A13),'Time Entry Sheet'!$A$3:$I$499,9,0),\"Error\")=\"Error\",\"\",IF(VLOOKUP(($B$2&\"_\"&$A13),'Time Entry Sheet'!$A$3:$I$499,9,FALSE)=\"wd\",\"wd\",VLOOKUP(($B$2&\"_\"&$A13),'Time Entry Sheet'!$A$3:$I$499,9,FALSE)*1))","v":"wd"},{"$f":"IF(E13=\"Junior\",\"\",IF(I13=\"wd\",\"\",IF(K13<>\"\",\"\",I13)))","v":""},{"$f":"IF(IFERROR(VLOOKUP(($B$2&\"_\"&$A13),'Time Entry Sheet'!$A$3:$I$499,8,FALSE),\"Error\")=\"Error\",\"\",IF(VLOOKUP(($B$2&\"_\"&$A13),'Time Entry Sheet'!$A$3:$I$499,8,FALSE)=\"\",\"\",VLOOKUP(($B$2&\"_\"&$A13),'Time Entry Sheet'!$A$3:$I$499,8,FALSE)))","v":""},{"$f":"IF(IFERROR(VLOOKUP(($B$2&\"_\"&$A13),'Time Entry Sheet'!$A$3:$I$499,7,FALSE),\"Error\")=\"Error\",\"\",IF(VLOOKUP(($B$2&\"_\"&$A13),'Time Entry Sheet'!$A$3:$I$499,7,FALSE)=\"\",\"\",VLOOKUP(($B$2&\"_\"&$A13),'Time Entry Sheet'!$A$3:$I$499,7,FALSE)))","v":"Wrong direction, any procedure other than that specified as the correct procedure for completing that course "},{"$f":"IF(A13=\"\",\"\",IF(I13=\"wd\",IF(E13=\"Senior\",$B$7,$C$7),IF(L13<>\"\",$B$7,IF(I13=\"\",IF(E13=\"Senior\",$B$8,$C$8),IF(K13=\"\",I13,I13+($B$5*K13))))))","v":"00:01:12.980"},{"$f":"IF(H13=\"Passenger\",\"\",M13)","v":"00:01:12.980"},{"$f":"IF(A13=\"\",\"\",IF(H13=\"Passenger\",\"P\",RANK(N13,$N$12:$N$51,1)))","v":16},{"$f":"IF(A13=\"\",\"\",M13+VLOOKUP(A13,'Test 5'!$A$12:$Q$51,16,FALSE))","v":"00:05:25.860"},{"$f":"IF(A13=\"\",\"\",IF(H13=\"Passenger\",\"P\",RANK(T13,$T$12:$T$51,1)))","v":7},null,{"$f":"IF(E13=\"Senior\",\"\",IF(I13=\"wd\",\"\",IF(K13<>\"\",\"\",I13)))","v":""},{"$f":"IF(H13=\"Passenger\",\"\",P13)","v":"00:05:25.860"}]
[3,{"$f":"IF($A14=\"\",\"\",IF(VLOOKUP($A14,Competitors!$A$2:$G$60,2,FALSE)=\"\",\"\",VLOOKUP($A14,Competitors!$A$2:$G$60,2,FALSE)))","v":"David Ballard"},{"$f":"IF($A14=\"\",\"\",IF(VLOOKUP($A14,Competitors!$A$2:$G$60,7,FALSE)=\"\",\"\",VLOOKUP($A14,Competitors!$A$2:$G$60,7,FALSE)))","v":""},{"$f":"IF($A14=\"\",\"\",IF(VLOOKUP($A14,Competitors!$A$2:$G$60,5,FALSE)=\"\",\"\",VLOOKUP($A14,Competitors!$A$2:$G$60,5,FALSE)))","v":""},{"$f":"IF($A14=\"\",\"\",IF(VLOOKUP($A14,Competitors!$A$2:$G$60,6,FALSE)=\"\",\"\",VLOOKUP($A14,Competitors!$A$2:$G$60,6,FALSE)))","v":"senior"},{"$f":"IF($A14=\"\",\"\",IF(VLOOKUP($A14,Competitors!$A$2:$G$60,3,FALSE)=\"\",\"\",VLOOKUP($A14,Competitors!$A$2:$G$60,3,FALSE)))","v":""},{"$f":"IF($A14=\"\",\"\",IF(VLOOKUP($A14,Competitors!$A$2:$G$60,4,FALSE)=\"\",\"\",VLOOKUP($A14,Competitors!$A$2:$G$60,4,FALSE)))","v":""},{"$f":"IF(VLOOKUP(A14,Competitors!$A$1:$H$41,8,FALSE)=\"\",\"\",VLOOKUP(A14,Competitors!$A$1:$H$41,8,FALSE))","v":""},{"$f":"IF(IFERROR(VLOOKUP(($B$2&\"_\"&$A14),'Time Entry Sheet'!$A$3:$I$499,9,0),\"Error\")=\"Error\",\"\",IF(VLOOKUP(($B$2&\"_\"&$A14),'Time Entry Sheet'!$A$3:$I$499,9,FALSE)=\"wd\",\"wd\",VLOOKUP(($B$2&\"_\"&$A14),'Time Entry Sheet'!$A$3:$I$499,9,FALSE)*1))","v":"wd"},"",{"$f":"IF(IFERROR(VLOOKUP(($B$2&\"_\"&$A14),'Time Entry Sheet'!$A$3:$I$499,8,FALSE),\"Error\")=\"Error\",\"\",IF(VLOOKUP(($B$2&\"_\"&$A14),'Time Entry Sheet'!$A$3:$I$499,8,FALSE)=\"\",\"\",VLOOKUP(($B$2&\"_\"&$A14),'Time Entry Sheet'!$A$3:$I$499,8,FALSE)))","v":""},{"$f":"IF(IFERROR(VLOOKUP(($B$2&\"_\"&$A14),'Time Entry Sheet'!$A$3:$I$499,7,FALSE),\"Error\")=\"Error\",\"\",IF(VLOOKUP(($B$2&\"_\"&$A14),'Time Entry Sheet'!$A$3:$I$499,7,FALSE)=\"\",\"\",VLOOKUP(($B$2&\"_\"&$A14),'Time Entry Sheet'!$A$3:$I$499,7,FALSE)))","v":"Wrong direction, any procedure other than that specified as the correct procedure for completing that course "},"00:01:12.980","00:01:12.980",16,{"$f":"IF(A14=\"\",\"\",M14+VLOOKUP(A14,'Test 5'!$A$12:$Q$51,16,FALSE))","v":"00:05:53.030"},15,null,"","00:05:53.030"]
[4,{"$f":"IF($A15=\"\",\"\",IF(VLOOKUP($A15,Competitors!$A$2:$G$60,2,FALSE)=\"\",\"\",VLOOKUP($A15,Competitors!$A$2:$G$60,2,FALSE)))","v":"Michaela Ballard"},{"$f":"IF($A15=\"\",\"\",IF(VLOOKUP($A15,Competitors!$A$2:$G$60,7,FALSE)=\"\",\"\",VLOOKUP($A15,Competitors!$A$2:$G$60,7,FALSE)))","v":"rookie"},{"$f":"IF($A15=\"\",\"\",IF(VLOOKUP($A15,Competitors!$A$2:$G$60,5,FALSE)=\"\",\"\",VLOOKUP($A15,Competitors!$A$2:$G$60,5,FALSE)))","v":"female"},{"$f":"IF($A15=\"\",\"\",IF(VLOOKUP($A15,Competitors!$A$2:$G$60,6,FALSE)=\"\",\"\",VLOOKUP($A15,Competitors!$A$2:$G$60,6,FALSE)))","v":"senior"},{"$f":"IF($A15=\"\",\"\",IF(VLOOKUP($A15,Competitors!$A$2:$G$60,3,FALSE)=\"\",\"\",VLOOKUP($A15,Competitors!$A$2:$G$60,3,FALSE)))","v":""},{"$f":"IF($A15=\"\",\"\",IF(VLOOKUP($A15,Competitors!$A$2:$G$60,4,FALSE)=\"\",\"\",VLOOKUP($A15,Competitors!$A$2:$G$60,4,FALSE)))","v":""},{"$f":"IF(VLOOKUP(A15,Competitors!$A$1:$H$41,8,FALSE)=\"\",\"\",VLOOKUP(A15,Competitors!$A$1:$H$41,8,FALSE))","v":""},{"$f":"IF(IFERROR(VLOOKUP(($B$2&\"_\"&$A15),'Time Entry Sheet'!$A$3:$I$499,9,0),\"Error\")=\"Error\",\"\",IF(VLOOKUP(($B$2&\"_\"&$A15),'Time Entry Sheet'!$A$3:$I$499,9,FALSE)=\"wd\",\"wd\",VLOOKUP(($B$2&\"_\"&$A15),'Time Entry Sheet'!$A$3:$I$499,9,FALSE)*1))","v":"00:01:05.440"},"00:01:05.440",{"$f":"IF(IFERROR(VLOOKUP(($B$2&\"_\"&$A15),'Time Entry Sheet'!$A$3:$I$499,8,FALSE),\"Error\")=\"Error\",\"\",IF(VLOOKUP(($B$2&\"_\"&$A15),'Time Entry Sheet'!$A$3:$I$499,8,FALSE)=\"\",\"\",VLOOKUP(($B$2&\"_\"&$A15),'Time Entry Sheet'!$A$3:$I$499,8,FALSE)))","v":""},{"$f":"IF(IFERROR(VLOOKUP(($B$2&\"_\"&$A15),'Time Entry Sheet'!$A$3:$I$499,7,FALSE),\"Error\")=\"Error\",\"\",IF(VLOOKUP(($B$2&\"_\"&$A15),'Time Entry Sheet'!$A$3:$I$499,7,FALSE)=\"\",\"\",VLOOKUP(($B$2&\"_\"&$A15),'Time Entry Sheet'!$A$3:$I$499,7,FALSE)))","v":""},"00:01:05.440","00:01:05.440",13,{"$f":"IF(A15=\"\",\"\",M15+VLOOKUP(A15,'Test 5'!$A$12:$Q$51,16,FALSE))","v":"00:06:25.160"},19,null,"","00:06:25.160"]
[5,{"$f":"IF($A16=\"\",\"\",IF(VLOOKUP($A16,Competitors!$A$2:$G$60,2,FALSE)=\"\",\"\",VLOOKUP($A16,Competitors!$A$2:$G$60,2,FALSE)))","v":"Janelle Ballard"},{"$f":"IF($A16=\"\",\"\",IF(VLOOKUP($A16,Competitors!$A$2:$G$60,7,FALSE)=\"\",\"\",VLOOKUP($A16,Competitors!$A$2:$G$60,7,FALSE)))","v":""},{"$f":"IF($A16=\"\",\"\",IF(VLOOKUP($A16,Competitors!$A$2:$G$60,5,FALSE)=\"\",\"\",VLOOKUP($A16,Competitors!$A$2:$G$60,5,FALSE)))","v":"female"},{"$f":"IF($A16=\"\",\"\",IF(VLOOKUP($A16,Competitors!$A$2:$G$60,6,FALSE)=\"\",\"\",VLOOKUP($A16,Competitors!$A$2:$G$60,6,FALSE)))","v":"senior"},{"$f":"IF($A16=\"\",\"\",IF(VLOOKUP($A16,Competitors!$A$2:$G$60,3,FALSE)=\"\",\"\",VLOOKUP($A16,Competitors!$A$2:$G$60,3,FALSE)))","v":""},{"$f":"IF($A16=\"\",\"\",IF(VLOOKUP($A16,Competitors!$A$2:$G$60,4,FALSE)=\"\",\"\",VLOOKUP($A16,Competitors!$A$2:$G$60,4,FALSE)))","v":""},{"$f":"IF(VLOOKUP(A16,Competitors!$A$1:$H$41,8,FALSE)=\"\",\"\",VLOOKUP(A16,Competitors!$A$1:$H$41,8,FALSE))","v":""},{"$f":"IF(IFERROR(VLOOKUP(($B$2&\"_\"&$A16),'Time Entry Sheet'!$A$3:$I$499,9,0),\"Error\")=\"Error\",\"\",IF(VLOOKUP(($B$2&\"_\"&$A16),'Time Entry Sheet'!$A$3:$I$499,9,FALSE)=\"wd\",\"wd\",VLOOKUP(($B$2&\"_\"&$A16),'Time Entry Sheet'!$A$3:$I$499,9,FALSE)*1))","v":"00:01:03.650"},"00:01:03.650",{"$f":"IF(IFERROR(VLOOKUP(($B$2&\"_\"&$A16),'Time Entry Sheet'!$A$3:$I$499,8,FALSE),\"Error\")=\"Error\",\"\",IF(VLOOKUP(($B$2&\"_\"&$A16),'Time Entry Sheet'!$A$3:$I$499,8,FALSE)=\"\",\"\",VLOOKUP(($B$2&\"_\"&$A16),'Time Entry Sheet'!$A$3:$I$499,8,FALSE)))","v":""},{"$f":"IF(IFERROR(VLOOKUP(($B$2&\"_\"&$A16),'Time Entry Sheet'!$A$3:$I$499,7,FALSE),\"Error\")=\"Error\",\"\",IF(VLOOKUP(($B$2&\"_\"&$A16),'Time Entry Sheet'!$A$3:$I$499,7,FALSE)=\"\",\"\",VLOOKUP(($B$2&\"_\"&$A16),'Time Entry Sheet'!$A$3:$I$499,7,FALSE)))","v":""},"00:01:03.650","00:01:03.650",11,{"$f":"IF(A16=\"\",\"\",M16+VLOOKUP(A16,'Test 5'!$A$12:$Q$51,16,FALSE))","v":"00:05:32.920"},9,null,"","00:05:32.920"]
[6,{"$f":"IF($A17=\"\",\"\",IF(VLOOKUP($A17,Competitors!$A$2:$G$60,2,FALSE)=\"\",\"\",VLOOKUP($A17,Competitors!$A$2:$G$60,2,FALSE)))","v":"Issac Wishart"},{"$f":"IF($A17=\"\",\"\",IF(VLOOKUP($A17,Competitors!$A$2:$G$60,7,FALSE)=\"\",\"\",VLOOKUP($A17,Competitors!$A$2:$G$60,7,FALSE)))","v":"rookie"},{"$f":"IF($A17=\"\",\"\",IF(VLOOKUP($A17,Competitors!$A$2:$G$60,5,FALSE)=\"\",\"\",VLOOKUP($A17,Competitors!$A$2:$G$60,5,FALSE)))","v":""},{"$f":"IF($A17=\"\",\"\",IF(VLOOKUP($A17,Competitors!$A$2:$G$60,6,FALSE)=\"\",\"\",VLOOKUP($A17,Competitors!$A$2:$G$60,6,FALSE)))","v":"senior"},{"$f":"IF($A17=\"\",\"\",IF(VLOOKUP($A17,Competitors!$A$2:$G$60,3,FALSE)=\"\",\"\",VLOOKUP($A17,Competitors!$A$2:$G$60,3,FALSE)))","v":""},{"$f":"IF($A17=\"\",\"\",IF(VLOOKUP($A17,Competitors!$A$2:$G$60,4,FALSE)=\"\",\"\",VLOOKUP($A17,Competitors!$A$2:$G$60,4,FALSE)))","v":""},{"$f":"IF(VLOOKUP(A17,Competitors!$A$1:$H$41,8,FALSE)=\"\",\"\",VLOOKUP(A17,Competitors!$A$1:$H$41,8,FALSE))","v":""},{"$f":"IF(IFERROR(VLOOKUP(($B$2&\"_\"&$A17),'Time Entry Sheet'!$A$3:$I$499,9,0),\"Error\")=\"Error\",\"\",IF(VLOOKUP(($B$2&\"_\"&$A17),'Time Entry Sheet'!$A$3:$I$499,9,FALSE)=\"wd\",\"wd\",VLOOKUP(($B$2&\"_\"&$A17),'Time Entry Sheet'!$A$3:$I$499,9,FALSE)*1))","v":"00:01:00.480"},"00:01:00.480",{"$f":"IF(IFERROR(VLOOKUP(($B$2&\"_\"&$A17),'Time Entry Sheet'!$A$3:$I$499,8,FALSE),\"Error\")=\"Error\",\"\",IF(VLOOKUP(($B$2&\"_\"&$A17),'Time Entry Sheet'!$A$3:$I$499,8,FALSE)=\"\",\"\",VLOOKUP(($B$2&\"_\"&$A17),'Time Entry Sheet'!$A$3:$I$499,8,FALSE)))","v":""},{"$f":"IF(IFERROR(VLOOKUP(($B$2&\"_\"&$A17),'Time Entry Sheet'!$A$3:$I$499,7,FALSE),\"Error\")=\"Error\",\"\",IF(VLOOKUP(($B$2&\"_\"&$A17),'Time Entry Sheet'!$A$3:$I$499,7,FALSE)=\"\",\"\",VLOOKUP(($B$2&\"_\"&$A17),'Time Entry Sheet'!$A$3:$I$499,7,FALSE)))","v":""},"00:01:00.480","00:01:00.480",6,{"$f":"IF(A17=\"\",\"\",M17+VLOOKUP(A17,'Test 5'!$A$12:$Q$51,16,FALSE))","v":"00:06:09.900"},16,null,"","00:06:09.900"]
[7,{"$f":"IF($A18=\"\",\"\",IF(VLOOKUP($A18,Competitors!$A$2:$G$60,2,FALSE)=\"\",\"\",VLOOKUP($A18,Competitors!$A$2:$G$60,2,FALSE)))","v":""},{"$f":"IF($A18=\"\",\"\",IF(VLOOKUP($A18,Competitors!$A$2:$G$60,7,FALSE)=\"\",\"\",VLOOKUP($A18,Competitors!$A$2:$G$60,7,FALSE)))","v":""},{"$f":"IF($A18=\"\",\"\",IF(VLOOKUP($A18,Competitors!$A$2:$G$60,5,FALSE)=\"\",\"\",VLOOKUP($A18,Competitors!$A$2:$G$60,5,FALSE)))","v":""},{"$f":"IF($A18=\"\",\"\",IF(VLOOKUP($A18,Competitors!$A$2:$G$60,6,FALSE)=\"\",\"\",VLOOKUP($A18,Competitors!$A$2:$G$60,6,FALSE)))","v":"senior"},{"$f":"IF($A18=\"\",\"\",IF(VLOOKUP($A18,Competitors!$A$2:$G$60,3,FALSE)=\"\",\"\",VLOOKUP($A18,Competitors!$A$2:$G$60,3,FALSE)))","v":""},{"$f":"IF($A18=\"\",\"\",IF(VLOOKUP($A18,Competitors!$A$2:$G$60,4,FALSE)=\"\",\"\",VLOOKUP($A18,Competitors!$A$2:$G$60,4,FALSE)))","v":""},{"$f":"IF(VLOOKUP(A18,Competitors!$A$1:$H$41,8,FALSE)=\"\",\"\",VLOOKUP(A18,Competitors!$A$1:$H$41,8,FALSE))","v":""},{"$f":"IF(IFERROR(VLOOKUP(($B$2&\"_\"&$A18),'Time Entry Sheet'!$A$3:$I$499,9,0),\"Error\")=\"Error\",\"\",IF(VLOOKUP(($B$2&\"_\"&$A18),'Time Entry Sheet'!$A$3:$I$499,9,FALSE)=\"wd\",\"wd\",VLOOKUP(($B$2&\"_\"&$A18),'Time Entry Sheet'!$A$3:$I$499,9,FALSE)*1))","v":""},"",{"$f":"IF(IFERROR(VLOOKUP(($B$2&\"_\"&$A18),'Time Entry Sheet'!$A$3:$I$499,8,FALSE),\"Error\")=\"Error\",\"\",IF(VLOOKUP(($B$2&\"_\"&$A18),'Time Entry Sheet'!$A$3:$I$499,8,FALSE)=\"\",\"\",VLOOKUP(($B$2&\"_\"&$A18),'Time Entry Sheet'!$A$3:$I$499,8,FALSE)))","v":""},{"$f":"IF(IFERROR(VLOOKUP(($B$2&\"_\"&$A18),'Time Entry Sheet'!$A$3:$I$499,7,FALSE),\"Error\")=\"Error\",\"\",IF(VLOOKUP(($B$2&\"_\"&$A18),'Time Entry Sheet'!$A$3:$I$499,7,FALSE)=\"\",\"\",VLOOKUP(($B$2&\"_\"&$A18),'Time Entry Sheet'!$A$3:$I$499,7,FALSE)))","v":""},"00:01:17.980","00:01:17.980",20,{"$f":"IF(A18=\"\",\"\",M18+VLOOKUP(A18,'Test 5'!$A$12:$Q$51,16,FALSE))","v":"00:07:39.410"},20,null,"","00:07:39.410"]
[8,{"$f":"IF($A19=\"\",\"\",IF(VLOOKUP($A19,Competitors!$A$2:$G$60,2,FALSE)=\"\",\"\",VLOOKUP($A19,Competitors!$A$2:$G$60,2,FALSE)))","v":"Jim Taylor"},{"$f":"IF($A19=\"\",\"\",IF(VLOOKUP($A19,Competitors!$A$2:$G$60,7,FALSE)=\"\",\"\",VLOOKUP($A19,Competitors!$A$2:$G$60,7,FALSE)))","v":""},{"$f":"IF($A19=\"\",\"\",IF(VLOOKUP($A19,Competitors!$A$2:$G$60,5,FALSE)=\"\",\"\",VLOOKUP($A19,Competitors!$A$2:$G$60,5,FALSE)))","v":""},{"$f":"IF($A19=\"\",\"\",IF(VLOOKUP($A19,Competitors!$A$2:$G$60,6,FALSE)=\"\",\"\",VLOOKUP($A19,Competitors!$A$2:$G$60,6,FALSE)))","v":"senior"},{"$f":"IF($A19=\"\",\"\",IF(VLOOKUP($A19,Competitors!$A$2:$G$60,3,FALSE)=\"\",\"\",VLOOKUP($A19,Competitors!$A$2:$G$60,3,FALSE)))","v":""},{"$f":"IF($A19=\"\",\"\",IF(VLOOKUP($A19,Competitors!$A$2:$G$60,4,FALSE)=\"\",\"\",VLOOKUP($A19,Competitors!$A$2:$G$60,4,FALSE)))","v":""},{"$f":"IF(VLOOKUP(A19,Competitors!$A$1:$H$41,8,FALSE)=\"\",\"\",VLOOKUP(A19,Competitors!$A$1:$H$41,8,FALSE))","v":""},{"$f":"IF(IFERROR(VLOOKUP(($B$2&\"_\"&$A19),'Time Entry Sheet'!$A$3:$I$499,9,0),\"Error\")=\"Error\",\"\",IF(VLOOKUP(($B$2&\"_\"&$A19),'Time Entry Sheet'!$A$3:$I$499,9,FALSE)=\"wd\",\"wd\",VLOOKUP(($B$2&\"_\"&$A19),'Time Entry Sheet'!$A$3:$I$499,9,FALSE)*1))","v":"00:01:02.880"},"00:01:02.880",{"$f":"IF(IFERROR(VLOOKUP(($B$2&\"_\"&$A19),'Time Entry Sheet'!$A$3:$I$499,8,FALSE),\"Error\")=\"Error\",\"\",IF(VLOOKUP(($B$2&\"_\"&$A19),'Time Entry Sheet'!$A$3:$I$499,8,FALSE)=\"\",\"\",VLOOKUP(($B$2&\"_\"&$A19),'Time Entry Sheet'!$A$3:$I$499,8,FALSE)))","v":""},{"$f":"IF(IFERROR(VLOOKUP(($B$2&\"_\"&$A19),'Time Entry Sheet'!$A$3:$I$499,7,FALSE),\"Error\")=\"Error\",\"\",IF(VLOOKUP(($B$2&\"_\"&$A19),'Time Entry Sheet'!$A$3:$I$499,7,FALSE)=\"\",\"\",VLOOKUP(($B$2&\"_\"&$A19),'Time Entry Sheet'!$A$3:$I$499,7,FALSE)))","v":""},"00:01:02.880","00:01:02.880",10,{"$f":"IF(A19=\"\",\"\",M19+VLOOKUP(A19,'Test 5'!$A$12:$Q$51,16,FALSE))","v":"00:05:41.080"},12,null,"","00:05:41.080"]
[9,{"$f":"IF($A20=\"\",\"\",IF(VLOOKUP($A20,Competitors!$A$2:$G$60,2,FALSE)=\"\",\"\",VLOOKUP($A20,Competitors!$A$2:$G$60,2,FALSE)))","v":"Brad Firman"},{"$f":"IF($A20=\"\",\"\",IF(VLOOKUP($A20,Competitors!$A$2:$G$60,7,FALSE)=\"\",\"\",VLOOKUP($A20,Competitors!$A$2:$G$60,7,FALSE)))","v":""},{"$f":"IF($A20=\"\",\"\",IF(VLOOKUP($A20,Competitors!$A$2:$G$60,5,FALSE)=\"\",\"\",VLOOKUP($A20,Competitors!$A$2:$G$60,5,FALSE)))","v":""},{"$f":"IF($A20=\"\",\"\",IF(VLOOKUP($A20,Competitors!$A$2:$G$60,6,FALSE)=\"\",\"\",VLOOKUP($A20,Competitors!$A$2:$G$60,6,FALSE)))","v":"senior"},{"$f":"IF($A20=\"\",\"\",IF(VLOOKUP($A20,Competitors!$A$2:$G$60,3,FALSE)=\"\",\"\",VLOOKUP($A20,Competitors!$A$2:$G$60,3,FALSE)))","v":""},{"$f":"IF($A20=\"\",\"\",IF(VLOOKUP($A20,Competitors!$A$2:$G$60,4,FALSE)=\"\",\"\",VLOOKUP($A20,Competitors!$A$2:$G$60,4,FALSE)))","v":""},{"$f":"IF(VLOOKUP(A20,Competitors!$A$1:$H$41,8,FALSE)=\"\",\"\",VLOOKUP(A20,Competitors!$A$1:$H$41,8,FALSE))","v":""},{"$f":"IF(IFERROR(VLOOKUP(($B$2&\"_\"&$A20),'Time Entry Sheet'!$A$3:$I$499,9,0),\"Error\")=\"Error\",\"\",IF(VLOOKUP(($B$2&\"_\"&$A20),'Time Entry Sheet'!$A$3:$I$499,9,FALSE)=\"wd\",\"wd\",VLOOKUP(($B$2&\"_\"&$A20),'Time Entry Sheet'!$A$3:$I$499,9,FALSE)*1))","v":"00:00:56.060"},"00:00:56.060",{"$f":"IF(IFERROR(VLOOKUP(($B$2&\"_\"&$A20),'Time Entry Sheet'!$A$3:$I$499,8,FALSE),\"Error\")=\"Error\",\"\",IF(VLOOKUP(($B$2&\"_\"&$A20),'Time Entry Sheet'!$A$3:$I$499,8,FALSE)=\"\",\"\",VLOOKUP(($B$2&\"_\"&$A20),'Time Entry Sheet'!$A$3:$I$499,8,FALSE)))","v":""},{"$f":"IF(IFERROR(VLOOKUP(($B$2&\"_\"&$A20),'Time Entry Sheet'!$A$3:$I$499,7,FALSE),\"Error\")=\"Error\",\"\",IF(VLOOKUP(($B$2&\"_\"&$A20),'Time Entry Sheet'!$A$3:$I$499,7,FALSE)=\"\",\"\",VLOOKUP(($B$2&\"_\"&$A20),'Time Entry Sheet'!$A$3:$I$499,7,FALSE)))","v":""},"00:00:56.060","00:00:56.060",3,{"$f":"IF(A20=\"\",\"\",M20+VLOOKUP(A20,'Test 5'!$A$12:$Q$51,16,FALSE))","v":"00:05:03.800"},2,null,"","00:05:03.800"]
[10,{"$f":"IF($A21=\"\",\"\",IF(VLOOKUP($A21,Competitors!$A$2:$G$60,2,FALSE)=\"\",\"\",VLOOKUP($A21,Competitors!$A$2:$G$60,2,FALSE)))","v":"Scott Taylor"},{"$f":"IF($A21=\"\",\"\",IF(VLOOKUP($A21,Competitors!$A$2:$G$60,7,FALSE)=\"\",\"\",VLOOKUP($A21,Competitors!$A$2:$G$60,7,FALSE)))","v":""},{"$f":"IF($A21=\"\",\"\",IF(VLOOKUP($A21,Competitors!$A$2:$G$60,5,FALSE)=\"\",\"\",VLOOKUP($A21,Competitors!$A$2:$G$60,5,FALSE)))","v":""},{"$f":"IF($A21=\"\",\"\",IF(VLOOKUP($A21,Competitors!$A$2:$G$60,6,FALSE)=\"\",\"\",VLOOKUP($A21,Competitors!$A$2:$G$60,6,FALSE)))","v":"senior"},{"$f":"IF($A21=\"\",\"\",IF(VLOOKUP($A21,Competitors!$A$2:$G$60,3,FALSE)=\"\",\"\",VLOOKUP($A21,Competitors!$A$2:$G$60,3,FALSE)))","v":""},{"$f":"IF($A21=\"\",\"\",IF(VLOOKUP($A21,Competitors!$A$2:$G$60,4,FALSE)=\"\",\"\",VLOOKUP($A21,Competitors!$A$2:$G$60,4,FALSE)))","v":""},{"$f":"IF(VLOOKUP(A21,Competitors!$A$1:$H$41,8,FALSE)=\"\",\"\",VLOOKUP(A21,Competitors!$A$1:$H$41,8,FALSE))","v":""},{"$f":"IF(IFERROR(VLOOKUP(($B$2&\"_\"&$A21),'Time Entry Sheet'!$A$3:$I$499,9,0),\"Error\")=\"Error\",\"\",IF(VLOOKUP(($B$2&\"_\"&$A21),'Time Entry Sheet'!$A$3:$I$499,9,FALSE)=\"wd\",\"wd\",VLOOKUP(($B$2&\"_\"&$A21),'Time Entry Sheet'!$A$3:$I$499,9,FALSE)*1))","v":"00:01:01.450"},"00:01:01.450",{"$f":"IF(IFERROR(VLOOKUP(($B$2&\"_\"&$A21),'Time Entry Sheet'!$A$3:$I$499,8,FALSE),\"Error\")=\"Error\",\"\",IF(VLOOKUP(($B$2&\"_\"&$A21),'Time Entry Sheet'!$A$3:$I$499,8,FALSE)=\"\",\"\",VLOOKUP(($B$2&\"_\"&$A21),'Time Entry Sheet'!$A$3:$I$499,8,FALSE)))","v":""},{"$f":"IF(IFERROR(VLOOKUP(($B$2&\"_\"&$A21),'Time Entry Sheet'!$A$3:$I$499,7,FALSE),\"Error\")=\"Error\",\"\",IF(VLOOKUP(($B$2&\"_\"&$A21),'Time Entry Sheet'!$A$3:$I$499,7,FALSE)=\"\",\"\",VLOOKUP(($B$2&\"_\"&$A21),'Time Entry Sheet'!$A$3:$I$499,7,FALSE)))","v":""},"00:01:01.450","00:01:01.450",8,{"$f":"IF(A21=\"\",\"\",M21+VLOOKUP(A21,'Test 5'!$A$12:$Q$51,16,FALSE))","v":"00:05:47.250"},13,null,"","00:05:47.250"]
[11,{"$f":"IF($A22=\"\",\"\",IF(VLOOKUP($A22,Competitors!$A$2:$G$60,2,FALSE)=\"\",\"\",VLOOKUP($A22,Competitors!$A$2:$G$60,2,FALSE)))","v":"Russel McKinley"},{"$f":"IF($A22=\"\",\"\",IF(VLOOKUP($A22,Competitors!$A$2:$G$60,7,FALSE)=\"\",\"\",VLOOKUP($A22,Competitors!$A$2:$G$60,7,FALSE)))","v":""},{"$f":"IF($A22=\"\",\"\",IF(VLOOKUP($A22,Competitors!$A$2:$G$60,5,FALSE)=\"\",\"\",VLOOKUP($A22,Competitors!$A$2:$G$60,5,FALSE)))","v":""},{"$f":"IF($A22=\"\",\"\",IF(VLOOKUP($A22,Competitors!$A$2:$G$60,6,FALSE)=\"\",\"\",VLOOKUP($A22,Competitors!$A$2:$G$60,6,FALSE)))","v":"senior"},{"$f":"IF($A22=\"\",\"\",IF(VLOOKUP($A22,Competitors!$A$2:$G$60,3,FALSE)=\"\",\"\",VLOOKUP($A22,Competitors!$A$2:$G$60,3,FALSE)))","v":""},{"$f":"IF($A22=\"\",\"\",IF(VLOOKUP($A22,Competitors!$A$2:$G$60,4,FALSE)=\"\",\"\",VLOOKUP($A22,Competitors!$A$2:$G$60,4,FALSE)))","v":""},{"$f":"IF(VLOOKUP(A22,Competitors!$A$1:$H$41,8,FALSE)=\"\",\"\",VLOOKUP(A22,Competitors!$A$1:$H$41,8,FALSE))","v":""},{"$f":"IF(IFERROR(VLOOKUP(($B$2&\"_\"&$A22),'Time Entry Sheet'!$A$3:$I$499,9,0),\"Error\")=\"Error\",\"\",IF(VLOOKUP(($B$2&\"_\"&$A22),'Time Entry Sheet'!$A$3:$I$499,9,FALSE)=\"wd\",\"wd\",VLOOKUP(($B$2&\"_\"&$A22),'Time Entry Sheet'!$A$3:$I$499,9,FALSE)*1))","v":"00:01:04.630"},"00:01:04.630",{"$f":"IF(IFERROR(VLOOKUP(($B$2&\"_\"&$A22),'Time Entry Sheet'!$A$3:$I$499,8,FALSE),\"Error\")=\"Error\",\"\",IF(VLOOKUP(($B$2&\"_\"&$A22),'Time Entry Sheet'!$A$3:$I$499,8,FALSE)=\"\",\"\",VLOOKUP(($B$2&\"_\"&$A22),'Time Entry Sheet'!$A$3:$I$499,8,FALSE)))","v":""},{"$f":"IF(IFERROR(VLOOKUP(($B$2&\"_\"&$A22),'Time Entry Sheet'!$A$3:$I$499,7,FALSE),\"Error\")=\"Error\",\"\",IF(VLOOKUP(($B$2&\"_\"&$A22),'Time Entry Sheet'!$A$3:$I$499,7,FALSE)=\"\",\"\",VLOOKUP(($B$2&\"_\"&$A22),'Time Entry Sheet'!$A$3:$I$499,7,FALSE)))","v":""},"00:01:04.630","00:01:04.630",12,{"$f":"IF(A22=\"\",\"\",M22+VLOOKUP(A22,'Test 5'!$A$12:$Q$51,16,FALSE))","v":"00:05:49.980"},14,null,"","00:05:49.980"]
[12,{"$f":"IF($A23=\"\",\"\",IF(VLOOKUP($A23,Competitors!$A$2:$G$60,2,FALSE)=\"\",\"\",VLOOKUP($A23,Competitors!$A$2:$G$60,2,FALSE)))","v":"Mat Boorman"},{"$f":"IF($A23=\"\",\"\",IF(VLOOKUP($A23,Competitors!$A$2:$G$60,7,FALSE)=\"\",\"\",VLOOKUP($A23,Competitors!$A$2:$G$60,7,FALSE)))","v":""},{"$f":"IF($A23=\"\",\"\",IF(VLOOKUP($A23,Competitors!$A$2:$G$60,5,FALSE)=\"\",\"\",VLOOKUP($A23,Competitors!$A$2:$G$60,5,FALSE)))","v":""},{"$f":"IF($A23=\"\",\"\",IF(VLOOKUP($A23,Competitors!$A$2:$G$60,6,FALSE)=\"\",\"\",VLOOKUP($A23,Competitors!$A$2:$G$60,6,FALSE)))","v":"senior"},{"$f":"IF($A23=\"\",\"\",IF(VLOOKUP($A23,Competitors!$A$2:$G$60,3,FALSE)=\"\",\"\",VLOOKUP($A23,Competitors!$A$2:$G$60,3,FALSE)))","v":""},{"$f":"IF($A23=\"\",\"\",IF(VLOOKUP($A23,Competitors!$A$2:$G$60,4,FALSE)=\"\",\"\",VLOOKUP($A23,Competitors!$A$2:$G$60,4,FALSE)))","v":""},{"$f":"IF(VLOOKUP(A23,Competitors!$A$1:$H$41,8,FALSE)=\"\",\"\",VLOOKUP(A23,Competitors!$A$1:$H$41,8,FALSE))","v":""},{"$f":"IF(IFERROR(VLOOKUP(($B$2&\"_\"&$A23),'Time Entry Sheet'!$A$3:$I$499,9,0),\"Error\")=\"Error\",\"\",IF(VLOOKUP(($B$2&\"_\"&$A23),'Time Entry Sheet'!$A$3:$I$499,9,FALSE)=\"wd\",\"wd\",VLOOKUP(($B$2&\"_\"&$A23),'Time Entry Sheet'!$A$3:$I$499,9,FALSE)*1))","v":"00:01:07.980"},"00:01:07.980",{"$f":"IF(IFERROR(VLOOKUP(($B$2&\"_\"&$A23),'Time Entry Sheet'!$A$3:$I$499,8,FALSE),\"Error\")=\"Error\",\"\",IF(VLOOKUP(($B$2&\"_\"&$A23),'Time Entry Sheet'!$A$3:$I$499,8,FALSE)=\"\",\"\",VLOOKUP(($B$2&\"_\"&$A23),'Time Entry Sheet'!$A$3:$I$499,8,FALSE)))","v":""},{"$f":"IF(IFERROR(VLOOKUP(($B$2&\"_\"&$A23),'Time Entry Sheet'!$A$3:$I$499,7,FALSE),\"Error\")=\"Error\",\"\",IF(VLOOKUP(($B$2&\"_\"&$A23),'Time Entry Sheet'!$A$3:$I$499,7,FALSE)=\"\",\"\",VLOOKUP(($B$2&\"_\"&$A23),'Time Entry Sheet'!$A$3:$I$499,7,FALSE)))","v":""},"00:01:07.980","00:01:07.980",15,{"$f":"IF(A23=\"\",\"\",M23+VLOOKUP(A23,'Test 5'!$A$12:$Q$51,16,FALSE))","v":"00:05:38.830"},10,null,"","00:05:38.830"]
[13,{"$f":"IF($A24=\"\",\"\",IF(VLOOKUP($A24,Competitors!$A$2:$G$60,2,FALSE)=\"\",\"\",VLOOKUP($A24,Competitors!$A$2:$G$60,2,FALSE)))","v":"Aaron Wishart"},{"$f":"IF($A24=\"\",\"\",IF(VLOOKUP($A24,Competitors!$A$2:$G$60,7,FALSE)=\"\",\"\",VLOOKUP($A24,Competitors!$A$2:$G$60,7,FALSE)))","v":""},{"$f":"IF($A24=\"\",\"\",IF(VLOOKUP($A24,Competitors!$A$2:$G$60,5,FALSE)=\"\",\"\",VLOOKUP($A24,Competitors!$A$2:$G$60,5,FALSE)))","v":""},{"$f":"IF($A24=\"\",\"\",IF(VLOOKUP($A24,Competitors!$A$2:$G$60,6,FALSE)=\"\",\"\",VLOOKUP($A24,Competitors!$A$2:$G$60,6,FALSE)))","v":"senior"},{"$f":"IF($A24=\"\",\"\",IF(VLOOKUP($A24,Competitors!$A$2:$G$60,3,FALSE)=\"\",\"\",VLOOKUP($A24,Competitors!$A$2:$G$60,3,FALSE)))","v":""},{"$f":"IF($A24=\"\",\"\",IF(VLOOKUP($A24,Competitors!$A$2:$G$60,4,FALSE)=\"\",\"\",VLOOKUP($A24,Competitors!$A$2:$G$60,4,FALSE)))","v":""},{"$f":"IF(VLOOKUP(A24,Competitors!$A$1:$H$41,8,FALSE)=\"\",\"\",VLOOKUP(A24,Competitors!$A$1:$H$41,8,FALSE))","v":""},{"$f":"IF(IFERROR(VLOOKUP(($B$2&\"_\"&$A24),'Time Entry Sheet'!$A$3:$I$499,9,0),\"Error\")=\"Error\",\"\",IF(VLOOKUP(($B$2&\"_\"&$A24),'Time Entry Sheet'!$A$3:$I$499,9,FALSE)=\"wd\",\"wd\",VLOOKUP(($B$2&\"_\"&$A24),'Time Entry Sheet'!$A$3:$I$499,9,FALSE)*1))","v":"00:01:01.950"},"",{"$f":"IF(IFERROR(VLOOKUP(($B$2&\"_\"&$A24),'Time Entry Sheet'!$A$3:$I$499,8,FALSE),\"Error\")=\"Error\",\"\",IF(VLOOKUP(($B$2&\"_\"&$A24),'Time Entry Sheet'!$A$3:$I$499,8,FALSE)=\"\",\"\",VLOOKUP(($B$2&\"_\"&$A24),'Time Entry Sheet'!$A$3:$I$499,8,FALSE)))","v":1},{"$f":"IF(IFERROR(VLOOKUP(($B$2&\"_\"&$A24),'Time Entry Sheet'!$A$3:$I$499,7,FALSE),\"Error\")=\"Error\",\"\",IF(VLOOKUP(($B$2&\"_\"&$A24),'Time Entry Sheet'!$A$3:$I$499,7,FALSE)=\"\",\"\",VLOOKUP(($B$2&\"_\"&$A24),'Time Entry Sheet'!$A$3:$I$499,7,FALSE)))","v":""},"00:01:06.950","00:01:06.950",14,{"$f":"IF(A24=\"\",\"\",M24+VLOOKUP(A24,'Test 5'!$A$12:$Q$51,16,FALSE))","v":"00:06:22.210"},18,null,"","00:06:22.210"]
[14,{"$f":"IF($A25=\"\",\"\",IF(VLOOKUP($A25,Competitors!$A$2:$G$60,2,FALSE)=\"\",\"\",VLOOKUP($A25,Competitors!$A$2:$G$60,2,FALSE)))","v":"Bob Fulthorpe"},{"$f":"IF($A25=\"\",\"\",IF(VLOOKUP($A25,Competitors!$A$2:$G$60,7,FALSE)=\"\",\"\",VLOOKUP($A25,Competitors!$A$2:$G$60,7,FALSE)))","v":""},{"$f":"IF($A25=\"\",\"\",IF(VLOOKUP($A25,Competitors!$A$2:$G$60,5,FALSE)=\"\",\"\",VLOOKUP($A25,Competitors!$A$2:$G$60,5,FALSE)))","v":""},{"$f":"IF($A25=\"\",\"\",IF(VLOOKUP($A25,Competitors!$A$2:$G$60,6,FALSE)=\"\",\"\",VLOOKUP($A25,Competitors!$A$2:$G$60,6,FALSE)))","v":"senior"},{"$f":"IF($A25=\"\",\"\",IF(VLOOKUP($A25,Competitors!$A$2:$G$60,3,FALSE)=\"\",\"\",VLOOKUP($A25,Competitors!$A$2:$G$60,3,FALSE)))","v":""},{"$f":"IF($A25=\"\",\"\",IF(VLOOKUP($A25,Competitors!$A$2:$G$60,4,FALSE)=\"\",\"\",VLOOKUP($A25,Competitors!$A$2:$G$60,4,FALSE)))","v":""},{"$f":"IF(VLOOKUP(A25,Competitors!$A$1:$H$41,8,FALSE)=\"\",\"\",VLOOKUP(A25,Competitors!$A$1:$H$41,8,FALSE))","v":""},{"$f":"IF(IFERROR(VLOOKUP(($B$2&\"_\"&$A25),'Time Entry Sheet'!$A$3:$I$499,9,0),\"Error\")=\"Error\",\"\",IF(VLOOKUP(($B$2&\"_\"&$A25),'Time Entry Sheet'!$A$3:$I$499,9,FALSE)=\"wd\",\"wd\",VLOOKUP(($B$2&\"_\"&$A25),'Time Entry Sheet'!$A$3:$I$499,9,FALSE)*1))","v":"00:01:00.150"},"00:01:00.150",{"$f":"IF(IFERROR(VLOOKUP(($B$2&\"_\"&$A25),'Time Entry Sheet'!$A$3:$I$499,8,FALSE),\"Error\")=\"Error\",\"\",IF(VLOOKUP(($B$2&\"_\"&$A25),'Time Entry Sheet'!$A$3:$I$499,8,FALSE)=\"\",\"\",VLOOKUP(($B$2&\"_\"&$A25),'Time Entry Sheet'!$A$3:$I$499,8,FALSE)))","v":""},{"$f":"IF(IFERROR(VLOOKUP(($B$2&\"_\"&$A25),'Time Entry Sheet'!$A$3:$I$499,7,FALSE),\"Error\")=\"Error\",\"\",IF(VLOOKUP(($B$2&\"_\"&$A25),'Time Entry Sheet'!$A$3:$I$499,7,FALSE)=\"\",\"\",VLOOKUP(($B$2&\"_\"&$A25),'Time Entry Sheet'!$A$3:$I$499,7,FALSE)))","v":""},"00:01:00.150","00:01:00.150",5,{"$f":"IF(A25=\"\",\"\",M25+VLOOKUP(A25,'Test 5'!$A$12:$Q$51,16,FALSE))","v":"00:05:12.870"},4,null,"","00:05:12.870"]
[15,{"$f":"IF($A26=\"\",\"\",IF(VLOOKUP($A26,Competitors!$A$2:$G$60,2,FALSE)=\"\",\"\",VLOOKUP($A26,Competitors!$A$2:$G$60,2,FALSE)))","v":"Khi Fulthorpe"},{"$f":"IF($A26=\"\",\"\",IF(VLOOKUP($A26,Competitors!$A$2:$G$60,7,FALSE)=\"\",\"\",VLOOKUP($A26,Competitors!$A$2:$G$60,7,FALSE)))","v":""},{"$f":"IF($A26=\"\",\"\",IF(VLOOKUP($A26,Competitors!$A$2:$G$60,5,FALSE)=\"\",\"\",VLOOKUP($A26,Competitors!$A$2:$G$60,5,FALSE)))","v":""},{"$f":"IF($A26=\"\",\"\",IF(VLOOKUP($A26,Competitors!$A$2:$G$60,6,FALSE)=\"\",\"\",VLOOKUP($A26,Competitors!$A$2:$G$60,6,FALSE)))","v":"senior"},{"$f":"IF($A26=\"\",\"\",IF(VLOOKUP($A26,Competitors!$A$2:$G$60,3,FALSE)=\"\",\"\",VLOOKUP($A26,Competitors!$A$2:$G$60,3,FALSE)))","v":""},{"$f":"IF($A26=\"\",\"\",IF(VLOOKUP($A26,Competitors!$A$2:$G$60,4,FALSE)=\"\",\"\",VLOOKUP($A26,Competitors!$A$2:$G$60,4,FALSE)))","v":""},{"$f":"IF(VLOOKUP(A26,Competitors!$A$1:$H$41,8,FALSE)=\"\",\"\",VLOOKUP(A26,Competitors!$A$1:$H$41,8,FALSE))","v":""},{"$f":"IF(IFERROR(VLOOKUP(($B$2&\"_\"&$A26),'Time Entry Sheet'!$A$3:$I$499,9,0),\"Error\")=\"Error\",\"\",IF(VLOOKUP(($B$2&\"_\"&$A26),'Time Entry Sheet'!$A$3:$I$499,9,FALSE)=\"wd\",\"wd\",VLOOKUP(($B$2&\"_\"&$A26),'Time Entry Sheet'!$A$3:$I$499,9,FALSE)*1))","v":"wd"},"",{"$f":"IF(IFERROR(VLOOKUP(($B$2&\"_\"&$A26),'Time Entry Sheet'!$A$3:$I$499,8,FALSE),\"Error\")=\"Error\",\"\",IF(VLOOKUP(($B$2&\"_\"&$A26),'Time Entry Sheet'!$A$3:$I$499,8,FALSE)=\"\",\"\",VLOOKUP(($B$2&\"_\"&$A26),'Time Entry Sheet'!$A$3:$I$499,8,FALSE)))","v":""},{"$f":"IF(IFERROR(VLOOKUP(($B$2&\"_\"&$A26),'Time Entry Sheet'!$A$3:$I$499,7,FALSE),\"Error\")=\"Error\",\"\",IF(VLOOKUP(($B$2&\"_\"&$A26),'Time Entry Sheet'!$A$3:$I$499,7,FALSE)=\"\",\"\",VLOOKUP(($B$2&\"_\"&$A26),'Time Entry Sheet'!$A$3:$I$499,7,FALSE)))","v":"Wrong direction, any procedure other than that specified as the correct procedure for completing that course "},"00:01:12.980","00:01:12.980",16,{"$f":"IF(A26=\"\",\"\",M26+VLOOKUP(A26,'Test 5'!$A$12:$Q$51,16,FALSE))","v":"00:05:40.700"},11,null,"","00:05:40.700"]
[16,{"$f":"IF($A27=\"\",\"\",IF(VLOOKUP($A27,Competitors!$A$2:$G$60,2,FALSE)=\"\",\"\",VLOOKUP($A27,Competitors!$A$2:$G$60,2,FALSE)))","v":"Nathan Senior"},{"$f":"IF($A27=\"\",\"\",IF(VLOOKUP($A27,Competitors!$A$2:$G$60,7,FALSE)=\"\",\"\",VLOOKUP($A27,Competitors!$A$2:$G$60,7,FALSE)))","v":""},{"$f":"IF($A27=\"\",\"\",IF(VLOOKUP($A27,Competitors!$A$2:$G$60,5,FALSE)=\"\",\"\",VLOOKUP($A27,Competitors!$A$2:$G$60,5,FALSE)))","v":""},{"$f":"IF($A27=\"\",\"\",IF(VLOOKUP($A27,Competitors!$A$2:$G$60,6,FALSE)=\"\",\"\",VLOOKUP($A27,Competitors!$A$2:$G$60,6,FALSE)))","v":"senior"},{"$f":"IF($A27=\"\",\"\",IF(VLOOKUP($A27,Competitors!$A$2:$G$60,3,FALSE)=\"\",\"\",VLOOKUP($A27,Competitors!$A$2:$G$60,3,FALSE)))","v":""},{"$f":"IF($A27=\"\",\"\",IF(VLOOKUP($A27,Competitors!$A$2:$G$60,4,FALSE)=\"\",\"\",VLOOKUP($A27,Competitors!$A$2:$G$60,4,FALSE)))","v":""},{"$f":"IF(VLOOKUP(A27,Competitors!$A$1:$H$41,8,FALSE)=\"\",\"\",VLOOKUP(A27,Competitors!$A$1:$H$41,8,FALSE))","v":""},{"$f":"IF(IFERROR(VLOOKUP(($B$2&\"_\"&$A27),'Time Entry Sheet'!$A$3:$I$499,9,0),\"Error\")=\"Error\",\"\",IF(VLOOKUP(($B$2&\"_\"&$A27),'Time Entry Sheet'!$A$3:$I$499,9,FALSE)=\"wd\",\"wd\",VLOOKUP(($B$2&\"_\"&$A27),'Time Entry Sheet'!$A$3:$I$499,9,FALSE)*1))","v":"00:00:55.960"},"00:00:55.960",{"$f":"IF(IFERROR(VLOOKUP(($B$2&\"_\"&$A27),'Time Entry Sheet'!$A$3:$I$499,8,FALSE),\"Error\")=\"Error\",\"\",IF(VLOOKUP(($B$2&\"_\"&$A27),'Time Entry Sheet'!$A$3:$I$499,8,FALSE)=\"\",\"\",VLOOKUP(($B$2&\"_\"&$A27),'Time Entry Sheet'!$A$3:$I$499,8,FALSE)))","v":""},{"$f":"IF(IFERROR(VLOOKUP(($B$2&\"_\"&$A27),'Time Entry Sheet'!$A$3:$I$499,7,FALSE),\"Error\")=\"Error\",\"\",IF(VLOOKUP(($B$2&\"_\"&$A27),'Time Entry Sheet'!$A$3:$I$499,7,FALSE)=\"\",\"\",VLOOKUP(($B$2&\"_\"&$A27),'Time Entry Sheet'!$A$3:$I$499,7,FALSE)))","v":""},"00:00:55.960","00:00:55.960",2,{"$f":"IF(A27=\"\",\"\",M27+VLOOKUP(A27,'Test 5'!$A$12:$Q$51,16,FALSE))","v":"00:05:25.790"},6,null,"","00:05:25.790"]
[17,{"$f":"IF($A28=\"\",\"\",IF(VLOOKUP($A28,Competitors!$A$2:$G$60,2,FALSE)=\"\",\"\",VLOOKUP($A28,Competitors!$A$2:$G$60,2,FALSE)))","v":"Reece McIntosh"},{"$f":"IF($A28=\"\",\"\",IF(VLOOKUP($A28,Competitors!$A$2:$G$60,7,FALSE)=\"\",\"\",VLOOKUP($A28,Competitors!$A$2:$G$60,7,FALSE)))","v":""},{"$f":"IF($A28=\"\",\"\",IF(VLOOKUP($A28,Competitors!$A$2:$G$60,5,FALSE)=\"\",\"\",VLOOKUP($A28,Competitors!$A$2:$G$60,5,FALSE)))","v":""},{"$f":"IF($A28=\"\",\"\",IF(VLOOKUP($A28,Competitors!$A$2:$G$60,6,FALSE)=\"\",\"\",VLOOKUP($A28,Competitors!$A$2:$G$60,6,FALSE)))","v":"senior"},{"$f":"IF($A28=\"\",\"\",IF(VLOOKUP($A28,Competitors!$A$2:$G$60,3,FALSE)=\"\",\"\",VLOOKUP($A28,Competitors!$A$2:$G$60,3,FALSE)))","v":""},{"$f":"IF($A28=\"\",\"\",IF(VLOOKUP($A28,Competitors!$A$2:$G$60,4,FALSE)=\"\",\"\",VLOOKUP($A28,Competitors!$A$2:$G$60,4,FALSE)))","v":""},{"$f":"IF(VLOOKUP(A28,Competitors!$A$1:$H$41,8,FALSE)=\"\",\"\",VLOOKUP(A28,Competitors!$A$1:$H$41,8,FALSE))","v":""},{"$f":"IF(IFERROR(VLOOKUP(($B$2&\"_\"&$A28),'Time Entry Sheet'!$A$3:$I$499,9,0),\"Error\")=\"Error\",\"\",IF(VLOOKUP(($B$2&\"_\"&$A28),'Time Entry Sheet'!$A$3:$I$499,9,FALSE)=\"wd\",\"wd\",VLOOKUP(($B$2&\"_\"&$A28),'Time Entry Sheet'!$A$3:$I$499,9,FALSE)*1))","v":"00:00:53.760"},"00:00:53.760",{"$f":"IF(IFERROR(VLOOKUP(($B$2&\"_\"&$A28),'Time Entry Sheet'!$A$3:$I$499,8,FALSE),\"Error\")=\"Error\",\"\",IF(VLOOKUP(($B$2&\"_\"&$A28),'Time Entry Sheet'!$A$3:$I$499,8,FALSE)=\"\",\"\",VLOOKUP(($B$2&\"_\"&$A28),'Time Entry Sheet'!$A$3:$I$499,8,FALSE)))","v":""},{"$f":"IF(IFERROR(VLOOKUP(($B$2&\"_\"&$A28),'Time Entry Sheet'!$A$3:$I$499,7,FALSE),\"Error\")=\"Error\",\"\",IF(VLOOKUP(($B$2&\"_\"&$A28),'Time Entry Sheet'!$A$3:$I$499,7,FALSE)=\"\",\"\",VLOOKUP(($B$2&\"_\"&$A28),'Time Entry Sheet'!$A$3:$I$499,7,FALSE)))","v":""},"00:00:53.760","00:00:53.760",1,{"$f":"IF(A28=\"\",\"\",M28+VLOOKUP(A28,'Test 5'!$A$12:$Q$51,16,FALSE))","v":"00:04:48.260"},1,null,"","00:04:48.260"]
[18,{"$f":"IF($A29=\"\",\"\",IF(VLOOKUP($A29,Competitors!$A$2:$G$60,2,FALSE)=\"\",\"\",VLOOKUP($A29,Competitors!$A$2:$G$60,2,FALSE)))","v":"Jack Stanley"},{"$f":"IF($A29=\"\",\"\",IF(VLOOKUP($A29,Competitors!$A$2:$G$60,7,FALSE)=\"\",\"\",VLOOKUP($A29,Competitors!$A$2:$G$60,7,FALSE)))","v":"rookie"},{"$f":"IF($A29=\"\",\"\",IF(VLOOKUP($A29,Competitors!$A$2:$G$60,5,FALSE)=\"\",\"\",VLOOKUP($A29,Competitors!$A$2:$G$60,5,FALSE)))","v":""},{"$f":"IF($A29=\"\",\"\",IF(VLOOKUP($A29,Competitors!$A$2:$G$60,6,FALSE)=\"\",\"\",VLOOKUP($A29,Competitors!$A$2:$G$60,6,FALSE)))","v":"senior"},{"$f":"IF($A29=\"\",\"\",IF(VLOOKUP($A29,Competitors!$A$2:$G$60,3,FALSE)=\"\",\"\",VLOOKUP($A29,Competitors!$A$2:$G$60,3,FALSE)))","v":""},{"$f":"IF($A29=\"\",\"\",IF(VLOOKUP($A29,Competitors!$A$2:$G$60,4,FALSE)=\"\",\"\",VLOOKUP($A29,Competitors!$A$2:$G$60,4,FALSE)))","v":""},{"$f":"IF(VLOOKUP(A29,Competitors!$A$1:$H$41,8,FALSE)=\"\",\"\",VLOOKUP(A29,Competitors!$A$1:$H$41,8,FALSE))","v":""},{"$f":"IF(IFERROR(VLOOKUP(($B$2&\"_\"&$A29),'Time Entry Sheet'!$A$3:$I$499,9,0),\"Error\")=\"Error\",\"\",IF(VLOOKUP(($B$2&\"_\"&$A29),'Time Entry Sheet'!$A$3:$I$499,9,FALSE)=\"wd\",\"wd\",VLOOKUP(($B$2&\"_\"&$A29),'Time Entry Sheet'!$A$3:$I$499,9,FALSE)*1))","v":"wd"},"",{"$f":"IF(IFERROR(VLOOKUP(($B$2&\"_\"&$A29),'Time Entry Sheet'!$A$3:$I$499,8,FALSE),\"Error\")=\"Error\",\"\",IF(VLOOKUP(($B$2&\"_\"&$A29),'Time Entry Sheet'!$A$3:$I$499,8,FALSE)=\"\",\"\",VLOOKUP(($B$2&\"_\"&$A29),'Time Entry Sheet'!$A$3:$I$499,8,FALSE)))","v":""},{"$f":"IF(IFERROR(VLOOKUP(($B$2&\"_\"&$A29),'Time Entry Sheet'!$A$3:$I$499,7,FALSE),\"Error\")=\"Error\",\"\",IF(VLOOKUP(($B$2&\"_\"&$A29),'Time Entry Sheet'!$A$3:$I$499,7,FALSE)=\"\",\"\",VLOOKUP(($B$2&\"_\"&$A29),'Time Entry Sheet'!$A$3:$I$499,7,FALSE)))","v":"Wrong direction, any procedure other than that specified as the correct procedure for completing that course "},"00:01:12.980","00:01:12.980",16,{"$f":"IF(A29=\"\",\"\",M29+VLOOKUP(A29,'Test 5'!$A$12:$Q$51,16,FALSE))","v":"00:06:19.470"},17,null,"","00:06:19.470"]
[19,{"$f":"IF($A30=\"\",\"\",IF(VLOOKUP($A30,Competitors!$A$2:$G$60,2,FALSE)=\"\",\"\",VLOOKUP($A30,Competitors!$A$2:$G$60,2,FALSE)))","v":"Christopher Northey"},{"$f":"IF($A30=\"\",\"\",IF(VLOOKUP($A30,Competitors!$A$2:$G$60,7,FALSE)=\"\",\"\",VLOOKUP($A30,Competitors!$A$2:$G$60,7,FALSE)))","v":""},{"$f":"IF($A30=\"\",\"\",IF(VLOOKUP($A30,Competitors!$A$2:$G$60,5,FALSE)=\"\",\"\",VLOOKUP($A30,Competitors!$A$2:$G$60,5,FALSE)))","v":""},{"$f":"IF($A30=\"\",\"\",IF(VLOOKUP($A30,Competitors!$A$2:$G$60,6,FALSE)=\"\",\"\",VLOOKUP($A30,Competitors!$A$2:$G$60,6,FALSE)))","v":"senior"},{"$f":"IF($A30=\"\",\"\",IF(VLOOKUP($A30,Competitors!$A$2:$G$60,3,FALSE)=\"\",\"\",VLOOKUP($A30,Competitors!$A$2:$G$60,3,FALSE)))","v":""},{"$f":"IF($A30=\"\",\"\",IF(VLOOKUP($A30,Competitors!$A$2:$G$60,4,FALSE)=\"\",\"\",VLOOKUP($A30,Competitors!$A$2:$G$60,4,FALSE)))","v":""},{"$f":"IF(VLOOKUP(A30,Competitors!$A$1:$H$41,8,FALSE)=\"\",\"\",VLOOKUP(A30,Competitors!$A$1:$H$41,8,FALSE))","v":""},{"$f":"IF(IFERROR(VLOOKUP(($B$2&\"_\"&$A30),'Time Entry Sheet'!$A$3:$I$499,9,0),\"Error\")=\"Error\",\"\",IF(VLOOKUP(($B$2&\"_\"&$A30),'Time Entry Sheet'!$A$3:$I$499,9,FALSE)=\"wd\",\"wd\",VLOOKUP(($B$2&\"_\"&$A30),'Time Entry Sheet'!$A$3:$I$499,9,FALSE)*1))","v":"00:01:01.900"},{"$f":"IF(E30=\"Junior\",\"\",IF(I30=\"wd\",\"\",IF(K30<>\"\",\"\",I30)))","v":"00:01:01.900"},{"$f":"IF(IFERROR(VLOOKUP(($B$2&\"_\"&$A30),'Time Entry Sheet'!$A$3:$I$499,8,FALSE),\"Error\")=\"Error\",\"\",IF(VLOOKUP(($B$2&\"_\"&$A30),'Time Entry Sheet'!$A$3:$I$499,8,FALSE)=\"\",\"\",VLOOKUP(($B$2&\"_\"&$A30),'Time Entry Sheet'!$A$3:$I$499,8,FALSE)))","v":""},{"$f":"IF(IFERROR(VLOOKUP(($B$2&\"_\"&$A30),'Time Entry Sheet'!$A$3:$I$499,7,FALSE),\"Error\")=\"Error\",\"\",IF(VLOOKUP(($B$2&\"_\"&$A30),'Time Entry Sheet'!$A$3:$I$499,7,FALSE)=\"\",\"\",VLOOKUP(($B$2&\"_\"&$A30),'Time Entry Sheet'!$A$3:$I$499,7,FALSE)))","v":""},{"$f":"IF(A30=\"\",\"\",IF(I30=\"wd\",IF(E30=\"Senior\",$B$7,$C$7),IF(L30<>\"\",$B$7,IF(I30=\"\",IF(E30=\"Senior\",$B$8,$C$8),IF(K30=\"\",I30,I30+($B$5*K30))))))","v":"00:01:01.900"},{"$f":"IF(H30=\"Passenger\",\"\",M30)","v":"00:01:01.900"},{"$f":"IF(A30=\"\",\"\",IF(H30=\"Passenger\",\"P\",RANK(N30,$N$12:$N$51,1)))","v":9},{"$f":"IF(A30=\"\",\"\",M30+VLOOKUP(A30,'Test 5'!$A$12:$Q$51,16,FALSE))","v":"00:05:23.430"},{"$f":"IF(A30=\"\",\"\",IF(H30=\"Passenger\",\"P\",RANK(T30,$T$12:$T$51,1)))","v":5},null,{"$f":"IF(E30=\"Senior\",\"\",IF(I30=\"wd\",\"\",IF(K30<>\"\",\"\",I30)))","v":""},{"$f":"IF(H30=\"Passenger\",\"\",P30)","v":"00:05:23.430"}]
[20,{"$f":"IF($A31=\"\",\"\",IF(VLOOKUP($A31,Competitors!$A$2:$G$60,2,FALSE)=\"\",\"\",VLOOKUP($A31,Competitors!$A$2:$G$60,2,FALSE)))","v":"Ray Lampl"},{"$f":"IF($A31=\"\",\"\",IF(VLOOKUP($A31,Competitors!$A$2:$G$60,7,FALSE)=\"\",\"\",VLOOKUP($A31,Competitors!$A$2:$G$60,7,FALSE)))","v":""},{"$f":"IF($A31=\"\",\"\",IF(VLOOKUP($A31,Competitors!$A$2:$G$60,5,FALSE)=\"\",\"\",VLOOKUP($A31,Competitors!$A$2:$G$60,5,FALSE)))","v":""},{"$f":"IF($A31=\"\",\"\",IF(VLOOKUP($A31,Competitors!$A$2:$G$60,6,FALSE)=\"\",\"\",VLOOKUP($A31,Competitors!$A$2:$G$60,6,FALSE)))","v":"senior"},{"$f":"IF($A31=\"\",\"\",IF(VLOOKUP($A31,Competitors!$A$2:$G$60,3,FALSE)=\"\",\"\",VLOOKUP($A31,Competitors!$A$2:$G$60,3,FALSE)))","v":""},{"$f":"IF($A31=\"\",\"\",IF(VLOOKUP($A31,Competitors!$A$2:$G$60,4,FALSE)=\"\",\"\",VLOOKUP($A31,Competitors!$A$2:$G$60,4,FALSE)))","v":""},{"$f":"IF(VLOOKUP(A31,Competitors!$A$1:$H$41,8,FALSE)=\"\",\"\",VLOOKUP(A31,Competitors!$A$1:$H$41,8,FALSE))","v":""},{"$f":"IF(IFERROR(VLOOKUP(($B$2&\"_\"&$A31),'Time Entry Sheet'!$A$3:$I$499,9,0),\"Error\")=\"Error\",\"\",IF(VLOOKUP(($B$2&\"_\"&$A31),'Time Entry Sheet'!$A$3:$I$499,9,FALSE)=\"wd\",\"wd\",VLOOKUP(($B$2&\"_\"&$A31),'Time Entry Sheet'!$A$3:$I$499,9,FALSE)*1))","v":"00:01:00.980"},"00:01:00.980",{"$f":"IF(IFERROR(VLOOKUP(($B$2&\"_\"&$A31),'Time Entry Sheet'!$A$3:$I$499,8,FALSE),\"Error\")=\"Error\",\"\",IF(VLOOKUP(($B$2&\"_\"&$A31),'Time Entry Sheet'!$A$3:$I$499,8,FALSE)=\"\",\"\",VLOOKUP(($B$2&\"_\"&$A31),'Time Entry Sheet'!$A$3:$I$499,8,FALSE)))","v":""},{"$f":"IF(IFERROR(VLOOKUP(($B$2&\"_\"&$A31),'Time Entry Sheet'!$A$3:$I$499,7,FALSE),\"Error\")=\"Error\",\"\",IF(VLOOKUP(($B$2&\"_\"&$A31),'Time Entry Sheet'!$A$3:$I$499,7,FALSE)=\"\",\"\",VLOOKUP(($B$2&\"_\"&$A31),'Time Entry Sheet'!$A$3:$I$499,7,FALSE)))","v":""},"00:01:00.980","00:01:00.980",7,{"$f":"IF(A31=\"\",\"\",M31+VLOOKUP(A31,'Test 5'!$A$12:$Q$51,16,FALSE))","v":"00:05:26.860"},8,null,"","00:05:26.860"]
[21,{"$f":"IF($A32=\"\",\"\",IF(VLOOKUP($A32,Competitors!$A$2:$G$60,2,FALSE)=\"\",\"\",VLOOKUP($A32,Competitors!$A$2:$G$60,2,FALSE)))","v":""},{"$f":"IF($A32=\"\",\"\",IF(VLOOKUP($A32,Competitors!$A$2:$G$60,7,FALSE)=\"\",\"\",VLOOKUP($A32,Competitors!$A$2:$G$60,7,FALSE)))","v":""},{"$f":"IF($A32=\"\",\"\",IF(VLOOKUP($A32,Competitors!$A$2:$G$60,5,FALSE)=\"\",\"\",VLOOKUP($A32,Competitors!$A$2:$G$60,5,FALSE)))","v":""},{"$f":"IF($A32=\"\",\"\",IF(VLOOKUP($A32,Competitors!$A$2:$G$60,6,FALSE)=\"\",\"\",VLOOKUP($A32,Competitors!$A$2:$G$60,6,FALSE)))","v":"senior"},{"$f":"IF($A32=\"\",\"\",IF(VLOOKUP($A32,Competitors!$A$2:$G$60,3,FALSE)=\"\",\"\",VLOOKUP($A32,Competitors!$A$2:$G$60,3,FALSE)))","v":""},{"$f":"IF($A32=\"\",\"\",IF(VLOOKUP($A32,Competitors!$A$2:$G$60,4,FALSE)=\"\",\"\",VLOOKUP($A32,Competitors!$A$2:$G$60,4,FALSE)))","v":""},{"$f":"IF(VLOOKUP(A32,Competitors!$A$1:$H$41,8,FALSE)=\"\",\"\",VLOOKUP(A32,Competitors!$A$1:$H$41,8,FALSE))","v":""},{"$f":"IF(IFERROR(VLOOKUP(($B$2&\"_\"&$A32),'Time Entry Sheet'!$A$3:$I$499,9,0),\"Error\")=\"Error\",\"\",IF(VLOOKUP(($B$2&\"_\"&$A32),'Time Entry Sheet'!$A$3:$I$499,9,FALSE)=\"wd\",\"wd\",VLOOKUP(($B$2&\"_\"&$A32),'Time Entry Sheet'!$A$3:$I$499,9,FALSE)*1))","v":""},"",{"$f":"IF(IFERROR(VLOOKUP(($B$2&\"_\"&$A32),'Time Entry Sheet'!$A$3:$I$499,8,FALSE),\"Error\")=\"Error\",\"\",IF(VLOOKUP(($B$2&\"_\"&$A32),'Time Entry Sheet'!$A$3:$I$499,8,FALSE)=\"\",\"\",VLOOKUP(($B$2&\"_\"&$A32),'Time Entry Sheet'!$A$3:$I$499,8,FALSE)))","v":""},{"$f":"IF(IFERROR(VLOOKUP(($B$2&\"_\"&$A32),'Time Entry Sheet'!$A$3:$I$499,7,FALSE),\"Error\")=\"Error\",\"\",IF(VLOOKUP(($B$2&\"_\"&$A32),'Time Entry Sheet'!$A$3:$I$499,7,FALSE)=\"\",\"\",VLOOKUP(($B$2&\"_\"&$A32),'Time Entry Sheet'!$A$3:$I$499,7,FALSE)))","v":""},"00:01:17.980","00:01:17.980",20,{"$f":"IF(A32=\"\",\"\",M32+VLOOKUP(A32,'Test 5'!$A$12:$Q$51,16,FALSE))","v":"00:07:39.410"},20,null,"","00:07:39.410"]
[22,{"$f":"IF($A33=\"\",\"\",IF(VLOOKUP($A33,Competitors!$A$2:$G$60,2,FALSE)=\"\",\"\",VLOOKUP($A33,Competitors!$A$2:$G$60,2,FALSE)))","v":""},{"$f":"IF($A33=\"\",\"\",IF(VLOOKUP($A33,Competitors!$A$2:$G$60,7,FALSE)=\"\",\"\",VLOOKUP($A33,Competitors!$A$2:$G$60,7,FALSE)))","v":""},{"$f":"IF($A33=\"\",\"\",IF(VLOOKUP($A33,Competitors!$A$2:$G$60,5,FALSE)=\"\",\"\",VLOOKUP($A33,Competitors!$A$2:$G$60,5,FALSE)))","v":""},{"$f":"IF($A33=\"\",\"\",IF(VLOOKUP($A33,Competitors!$A$2:$G$60,6,FALSE)=\"\",\"\",VLOOKUP($A33,Competitors!$A$2:$G$60,6,FALSE)))","v":"senior"},{"$f":"IF($A33=\"\",\"\",IF(VLOOKUP($A33,Competitors!$A$2:$G$60,3,FALSE)=\"\",\"\",VLOOKUP($A33,Competitors!$A$2:$G$60,3,FALSE)))","v":""},{"$f":"IF($A33=\"\",\"\",IF(VLOOKUP($A33,Competitors!$A$2:$G$60,4,FALSE)=\"\",\"\",VLOOKUP($A33,Competitors!$A$2:$G$60,4,FALSE)))","v":""},{"$f":"IF(VLOOKUP(A33,Competitors!$A$1:$H$41,8,FALSE)=\"\",\"\",VLOOKUP(A33,Competitors!$A$1:$H$41,8,FALSE))","v":""},{"$f":"IF(IFERROR(VLOOKUP(($B$2&\"_\"&$A33),'Time Entry Sheet'!$A$3:$I$499,9,0),\"Error\")=\"Error\",\"\",IF(VLOOKUP(($B$2&\"_\"&$A33),'Time Entry Sheet'!$A$3:$I$499,9,FALSE)=\"wd\",\"wd\",VLOOKUP(($B$2&\"_\"&$A33),'Time Entry Sheet'!$A$3:$I$499,9,FALSE)*1))","v":""},"",{"$f":"IF(IFERROR(VLOOKUP(($B$2&\"_\"&$A33),'Time Entry Sheet'!$A$3:$I$499,8,FALSE),\"Error\")=\"Error\",\"\",IF(VLOOKUP(($B$2&\"_\"&$A33),'Time Entry Sheet'!$A$3:$I$499,8,FALSE)=\"\",\"\",VLOOKUP(($B$2&\"_\"&$A33),'Time Entry Sheet'!$A$3:$I$499,8,FALSE)))","v":""},{"$f":"IF(IFERROR(VLOOKUP(($B$2&\"_\"&$A33),'Time Entry Sheet'!$A$3:$I$499,7,FALSE),\"Error\")=\"Error\",\"\",IF(VLOOKUP(($B$2&\"_\"&$A33),'Time Entry Sheet'!$A$3:$I$499,7,FALSE)=\"\",\"\",VLOOKUP(($B$2&\"_\"&$A33),'Time Entry Sheet'!$A$3:$I$499,7,FALSE)))","v":""},"00:01:17.980","00:01:17.980",20,{"$f":"IF(A33=\"\",\"\",M33+VLOOKUP(A33,'Test 5'!$A$12:$Q$51,16,FALSE))","v":"00:07:39.410"},20,null,"","00:07:39.410"]
[23,{"$f":"IF($A34=\"\",\"\",IF(VLOOKUP($A34,Competitors!$A$2:$G$60,2,FALSE)=\"\",\"\",VLOOKUP($A34,Competitors!$A$2:$G$60,2,FALSE)))","v":""},{"$f":"IF($A34=\"\",\"\",IF(VLOOKUP($A34,Competitors!$A$2:$G$60,7,FALSE)=\"\",\"\",VLOOKUP($A34,Competitors!$A$2:$G$60,7,FALSE)))","v":""},{"$f":"IF($A34=\"\",\"\",IF(VLOOKUP($A34,Competitors!$A$2:$G$60,5,FALSE)=\"\",\"\",VLOOKUP($A34,Competitors!$A$2:$G$60,5,FALSE)))","v":""},{"$f":"IF($A34=\"\",\"\",IF(VLOOKUP($A34,Competitors!$A$2:$G$60,6,FALSE)=\"\",\"\",VLOOKUP($A34,Competitors!$A$2:$G$60,6,FALSE)))","v":"senior"},{"$f":"IF($A34=\"\",\"\",IF(VLOOKUP($A34,Competitors!$A$2:$G$60,3,FALSE)=\"\",\"\",VLOOKUP($A34,Competitors!$A$2:$G$60,3,FALSE)))","v":""},{"$f":"IF($A34=\"\",\"\",IF(VLOOKUP($A34,Competitors!$A$2:$G$60,4,FALSE)=\"\",\"\",VLOOKUP($A34,Competitors!$A$2:$G$60,4,FALSE)))","v":""},{"$f":"IF(VLOOKUP(A34,Competitors!$A$1:$H$41,8,FALSE)=\"\",\"\",VLOOKUP(A34,Competitors!$A$1:$H$41,8,FALSE))","v":""},{"$f":"IF(IFERROR(VLOOKUP(($B$2&\"_\"&$A34),'Time Entry Sheet'!$A$3:$I$499,9,0),\"Error\")=\"Error\",\"\",IF(VLOOKUP(($B$2&\"_\"&$A34),'Time Entry Sheet'!$A$3:$I$499,9,FALSE)=\"wd\",\"wd\",VLOOKUP(($B$2&\"_\"&$A34),'Time Entry Sheet'!$A$3:$I$499,9,FALSE)*1))","v":""},"",{"$f":"IF(IFERROR(VLOOKUP(($B$2&\"_\"&$A34),'Time Entry Sheet'!$A$3:$I$499,8,FALSE),\"Error\")=\"Error\",\"\",IF(VLOOKUP(($B$2&\"_\"&$A34),'Time Entry Sheet'!$A$3:$I$499,8,FALSE)=\"\",\"\",VLOOKUP(($B$2&\"_\"&$A34),'Time Entry Sheet'!$A$3:$I$499,8,FALSE)))","v":""},{"$f":"IF(IFERROR(VLOOKUP(($B$2&\"_\"&$A34),'Time Entry Sheet'!$A$3:$I$499,7,FALSE),\"Error\")=\"Error\",\"\",IF(VLOOKUP(($B$2&\"_\"&$A34),'Time Entry Sheet'!$A$3:$I$499,7,FALSE)=\"\",\"\",VLOOKUP(($B$2&\"_\"&$A34),'Time Entry Sheet'!$A$3:$I$499,7,FALSE)))","v":""},"00:01:17.980","00:01:17.980",20,{"$f":"IF(A34=\"\",\"\",M34+VLOOKUP(A34,'Test 5'!$A$12:$Q$51,16,FALSE))","v":"00:07:39.410"},20,null,"","00:07:39.410"]
[24,{"$f":"IF($A35=\"\",\"\",IF(VLOOKUP($A35,Competitors!$A$2:$G$60,2,FALSE)=\"\",\"\",VLOOKUP($A35,Competitors!$A$2:$G$60,2,FALSE)))","v":""},{"$f":"IF($A35=\"\",\"\",IF(VLOOKUP($A35,Competitors!$A$2:$G$60,7,FALSE)=\"\",\"\",VLOOKUP($A35,Competitors!$A$2:$G$60,7,FALSE)))","v":""},{"$f":"IF($A35=\"\",\"\",IF(VLOOKUP($A35,Competitors!$A$2:$G$60,5,FALSE)=\"\",\"\",VLOOKUP($A35,Competitors!$A$2:$G$60,5,FALSE)))","v":""},{"$f":"IF($A35=\"\",\"\",IF(VLOOKUP($A35,Competitors!$A$2:$G$60,6,FALSE)=\"\",\"\",VLOOKUP($A35,Competitors!$A$2:$G$60,6,FALSE)))","v":"senior"},{"$f":"IF($A35=\"\",\"\",IF(VLOOKUP($A35,Competitors!$A$2:$G$60,3,FALSE)=\"\",\"\",VLOOKUP($A35,Competitors!$A$2:$G$60,3,FALSE)))","v":""},{"$f":"IF($A35=\"\",\"\",IF(VLOOKUP($A35,Competitors!$A$2:$G$60,4,FALSE)=\"\",\"\",VLOOKUP($A35,Competitors!$A$2:$G$60,4,FALSE)))","v":""},{"$f":"IF(VLOOKUP(A35,Competitors!$A$1:$H$41,8,FALSE)=\"\",\"\",VLOOKUP(A35,Competitors!$A$1:$H$41,8,FALSE))","v":""},{"$f":"IF(IFERROR(VLOOKUP(($B$2&\"_\"&$A35),'Time Entry Sheet'!$A$3:$I$499,9,0),\"Error\")=\"Error\",\"\",IF(VLOOKUP(($B$2&\"_\"&$A35),'Time Entry Sheet'!$A$3:$I$499,9,FALSE)=\"wd\",\"wd\",VLOOKUP(($B$2&\"_\"&$A35),'Time Entry Sheet'!$A$3:$I$499,9,FALSE)*1))","v":""},"",{"$f":"IF(IFERROR(VLOOKUP(($B$2&\"_\"&$A35),'Time Entry Sheet'!$A$3:$I$499,8,FALSE),\"Error\")=\"Error\",\"\",IF(VLOOKUP(($B$2&\"_\"&$A35),'Time Entry Sheet'!$A$3:$I$499,8,FALSE)=\"\",\"\",VLOOKUP(($B$2&\"_\"&$A35),'Time Entry Sheet'!$A$3:$I$499,8,FALSE)))","v":""},{"$f":"IF(IFERROR(VLOOKUP(($B$2&\"_\"&$A35),'Time Entry Sheet'!$A$3:$I$499,7,FALSE),\"Error\")=\"Error\",\"\",IF(VLOOKUP(($B$2&\"_\"&$A35),'Time Entry Sheet'!$A$3:$I$499,7,FALSE)=\"\",\"\",VLOOKUP(($B$2&\"_\"&$A35),'Time Entry Sheet'!$A$3:$I$499,7,FALSE)))","v":""},"00:01:17.980","00:01:17.980",20,{"$f":"IF(A35=\"\",\"\",M35+VLOOKUP(A35,'Test 5'!$A$12:$Q$51,16,FALSE))","v":"00:07:39.410"},20,null,"","00:07:39.410"]
[25,{"$f":"IF($A36=\"\",\"\",IF(VLOOKUP($A36,Competitors!$A$2:$G$60,2,FALSE)=\"\",\"\",VLOOKUP($A36,Competitors!$A$2:$G$60,2,FALSE)))","v":""},{"$f":"IF($A36=\"\",\"\",IF(VLOOKUP($A36,Competitors!$A$2:$G$60,7,FALSE)=\"\",\"\",VLOOKUP($A36,Competitors!$A$2:$G$60,7,FALSE)))","v":""},{"$f":"IF($A36=\"\",\"\",IF(VLOOKUP($A36,Competitors!$A$2:$G$60,5,FALSE)=\"\",\"\",VLOOKUP($A36,Competitors!$A$2:$G$60,5,FALSE)))","v":""},{"$f":"IF($A36=\"\",\"\",IF(VLOOKUP($A36,Competitors!$A$2:$G$60,6,FALSE)=\"\",\"\",VLOOKUP($A36,Competitors!$A$2:$G$60,6,FALSE)))","v":"senior"},{"$f":"IF($A36=\"\",\"\",IF(VLOOKUP($A36,Competitors!$A$2:$G$60,3,FALSE)=\"\",\"\",VLOOKUP($A36,Competitors!$A$2:$G$60,3,FALSE)))","v":""},{"$f":"IF($A36=\"\",\"\",IF(VLOOKUP($A36,Competitors!$A$2:$G$60,4,FALSE)=\"\",\"\",VLOOKUP($A36,Competitors!$A$2:$G$60,4,FALSE)))","v":""},{"$f":"IF(VLOOKUP(A36,Competitors!$A$1:$H$41,8,FALSE)=\"\",\"\",VLOOKUP(A36,Competitors!$A$1:$H$41,8,FALSE))","v":""},{"$f":"IF(IFERROR(VLOOKUP(($B$2&\"_\"&$A36),'Time Entry Sheet'!$A$3:$I$499,9,0),\"Error\")=\"Error\",\"\",IF(VLOOKUP(($B$2&\"_\"&$A36),'Time Entry Sheet'!$A$3:$I$499,9,FALSE)=\"wd\",\"wd\",VLOOKUP(($B$2&\"_\"&$A36),'Time Entry Sheet'!$A$3:$I$499,9,FALSE)*1))","v":""},"",{"$f":"IF(IFERROR(VLOOKUP(($B$2&\"_\"&$A36),'Time Entry Sheet'!$A$3:$I$499,8,FALSE),\"Error\")=\"Error\",\"\",IF(VLOOKUP(($B$2&\"_\"&$A36),'Time Entry Sheet'!$A$3:$I$499,8,FALSE)=\"\",\"\",VLOOKUP(($B$2&\"_\"&$A36),'Time Entry Sheet'!$A$3:$I$499,8,FALSE)))","v":""},{"$f":"IF(IFERROR(VLOOKUP(($B$2&\"_\"&$A36),'Time Entry Sheet'!$A$3:$I$499,7,FALSE),\"Error\")=\"Error\",\"\",IF(VLOOKUP(($B$2&\"_\"&$A36),'Time Entry Sheet'!$A$3:$I$499,7,FALSE)=\"\",\"\",VLOOKUP(($B$2&\"_\"&$A36),'Time Entry Sheet'!$A$3:$I$499,7,FALSE)))","v":""},"00:01:17.980","00:01:17.980",20,{"$f":"IF(A36=\"\",\"\",M36+VLOOKUP(A36,'Test 5'!$A$12:$Q$51,16,FALSE))","v":"00:07:39.410"},20,null,"","00:07:39.410"]
[26,{"$f":"IF($A37=\"\",\"\",IF(VLOOKUP($A37,Competitors!$A$2:$G$60,2,FALSE)=\"\",\"\",VLOOKUP($A37,Competitors!$A$2:$G$60,2,FALSE)))","v":""},{"$f":"IF($A37=\"\",\"\",IF(VLOOKUP($A37,Competitors!$A$2:$G$60,7,FALSE)=\"\",\"\",VLOOKUP($A37,Competitors!$A$2:$G$60,7,FALSE)))","v":""},{"$f":"IF($A37=\"\",\"\",IF(VLOOKUP($A37,Competitors!$A$2:$G$60,5,FALSE)=\"\",\"\",VLOOKUP($A37,Competitors!$A$2:$G$60,5,FALSE)))","v":""},{"$f":"IF($A37=\"\",\"\",IF(VLOOKUP($A37,Competitors!$A$2:$G$60,6,FALSE)=\"\",\"\",VLOOKUP($A37,Competitors!$A$2:$G$60,6,FALSE)))","v":"senior"},{"$f":"IF($A37=\"\",\"\",IF(VLOOKUP($A37,Competitors!$A$2:$G$60,3,FALSE)=\"\",\"\",VLOOKUP($A37,Competitors!$A$2:$G$60,3,FALSE)))","v":""},{"$f":"IF($A37=\"\",\"\",IF(VLOOKUP($A37,Competitors!$A$2:$G$60,4,FALSE)=\"\",\"\",VLOOKUP($A37,Competitors!$A$2:$G$60,4,FALSE)))","v":""},{"$f":"IF(VLOOKUP(A37,Competitors!$A$1:$H$41,8,FALSE)=\"\",\"\",VLOOKUP(A37,Competitors!$A$1:$H$41,8,FALSE))","v":""},{"$f":"IF(IFERROR(VLOOKUP(($B$2&\"_\"&$A37),'Time Entry Sheet'!$A$3:$I$499,9,0),\"Error\")=\"Error\",\"\",IF(VLOOKUP(($B$2&\"_\"&$A37),'Time Entry Sheet'!$A$3:$I$499,9,FALSE)=\"wd\",\"wd\",VLOOKUP(($B$2&\"_\"&$A37),'Time Entry Sheet'!$A$3:$I$499,9,FALSE)*1))","v":""},"",{"$f":"IF(IFERROR(VLOOKUP(($B$2&\"_\"&$A37),'Time Entry Sheet'!$A$3:$I$499,8,FALSE),\"Error\")=\"Error\",\"\",IF(VLOOKUP(($B$2&\"_\"&$A37),'Time Entry Sheet'!$A$3:$I$499,8,FALSE)=\"\",\"\",VLOOKUP(($B$2&\"_\"&$A37),'Time Entry Sheet'!$A$3:$I$499,8,FALSE)))","v":""},{"$f":"IF(IFERROR(VLOOKUP(($B$2&\"_\"&$A37),'Time Entry Sheet'!$A$3:$I$499,7,FALSE),\"Error\")=\"Error\",\"\",IF(VLOOKUP(($B$2&\"_\"&$A37),'Time Entry Sheet'!$A$3:$I$499,7,FALSE)=\"\",\"\",VLOOKUP(($B$2&\"_\"&$A37),'Time Entry Sheet'!$A$3:$I$499,7,FALSE)))","v":""},"00:01:17.980","00:01:17.980",20,{"$f":"IF(A37=\"\",\"\",M37+VLOOKUP(A37,'Test 5'!$A$12:$Q$51,16,FALSE))","v":"00:07:39.410"},20,null,"","00:07:39.410"]
[27,{"$f":"IF($A38=\"\",\"\",IF(VLOOKUP($A38,Competitors!$A$2:$G$60,2,FALSE)=\"\",\"\",VLOOKUP($A38,Competitors!$A$2:$G$60,2,FALSE)))","v":""},{"$f":"IF($A38=\"\",\"\",IF(VLOOKUP($A38,Competitors!$A$2:$G$60,7,FALSE)=\"\",\"\",VLOOKUP($A38,Competitors!$A$2:$G$60,7,FALSE)))","v":""},{"$f":"IF($A38=\"\",\"\",IF(VLOOKUP($A38,Competitors!$A$2:$G$60,5,FALSE)=\"\",\"\",VLOOKUP($A38,Competitors!$A$2:$G$60,5,FALSE)))","v":""},{"$f":"IF($A38=\"\",\"\",IF(VLOOKUP($A38,Competitors!$A$2:$G$60,6,FALSE)=\"\",\"\",VLOOKUP($A38,Competitors!$A$2:$G$60,6,FALSE)))","v":"senior"},{"$f":"IF($A38=\"\",\"\",IF(VLOOKUP($A38,Competitors!$A$2:$G$60,3,FALSE)=\"\",\"\",VLOOKUP($A38,Competitors!$A$2:$G$60,3,FALSE)))","v":""},{"$f":"IF($A38=\"\",\"\",IF(VLOOKUP($A38,Competitors!$A$2:$G$60,4,FALSE)=\"\",\"\",VLOOKUP($A38,Competitors!$A$2:$G$60,4,FALSE)))","v":""},{"$f":"IF(VLOOKUP(A38,Competitors!$A$1:$H$41,8,FALSE)=\"\",\"\",VLOOKUP(A38,Competitors!$A$1:$H$41,8,FALSE))","v":""},{"$f":"IF(IFERROR(VLOOKUP(($B$2&\"_\"&$A38),'Time Entry Sheet'!$A$3:$I$499,9,0),\"Error\")=\"Error\",\"\",IF(VLOOKUP(($B$2&\"_\"&$A38),'Time Entry Sheet'!$A$3:$I$499,9,FALSE)=\"wd\",\"wd\",VLOOKUP(($B$2&\"_\"&$A38),'Time Entry Sheet'!$A$3:$I$499,9,FALSE)*1))","v":""},"",{"$f":"IF(IFERROR(VLOOKUP(($B$2&\"_\"&$A38),'Time Entry Sheet'!$A$3:$I$499,8,FALSE),\"Error\")=\"Error\",\"\",IF(VLOOKUP(($B$2&\"_\"&$A38),'Time Entry Sheet'!$A$3:$I$499,8,FALSE)=\"\",\"\",VLOOKUP(($B$2&\"_\"&$A38),'Time Entry Sheet'!$A$3:$I$499,8,FALSE)))","v":""},{"$f":"IF(IFERROR(VLOOKUP(($B$2&\"_\"&$A38),'Time Entry Sheet'!$A$3:$I$499,7,FALSE),\"Error\")=\"Error\",\"\",IF(VLOOKUP(($B$2&\"_\"&$A38),'Time Entry Sheet'!$A$3:$I$499,7,FALSE)=\"\",\"\",VLOOKUP(($B$2&\"_\"&$A38),'Time Entry Sheet'!$A$3:$I$499,7,FALSE)))","v":""},"00:01:17.980","00:01:17.980",20,{"$f":"IF(A38=\"\",\"\",M38+VLOOKUP(A38,'Test 5'!$A$12:$Q$51,16,FALSE))","v":"00:07:39.410"},20,null,"","00:07:39.410"]
[28,{"$f":"IF($A39=\"\",\"\",IF(VLOOKUP($A39,Competitors!$A$2:$G$60,2,FALSE)=\"\",\"\",VLOOKUP($A39,Competitors!$A$2:$G$60,2,FALSE)))","v":""},{"$f":"IF($A39=\"\",\"\",IF(VLOOKUP($A39,Competitors!$A$2:$G$60,7,FALSE)=\"\",\"\",VLOOKUP($A39,Competitors!$A$2:$G$60,7,FALSE)))","v":""},{"$f":"IF($A39=\"\",\"\",IF(VLOOKUP($A39,Competitors!$A$2:$G$60,5,FALSE)=\"\",\"\",VLOOKUP($A39,Competitors!$A$2:$G$60,5,FALSE)))","v":""},{"$f":"IF($A39=\"\",\"\",IF(VLOOKUP($A39,Competitors!$A$2:$G$60,6,FALSE)=\"\",\"\",VLOOKUP($A39,Competitors!$A$2:$G$60,6,FALSE)))","v":"senior"},{"$f":"IF($A39=\"\",\"\",IF(VLOOKUP($A39,Competitors!$A$2:$G$60,3,FALSE)=\"\",\"\",VLOOKUP($A39,Competitors!$A$2:$G$60,3,FALSE)))","v":""},{"$f":"IF($A39=\"\",\"\",IF(VLOOKUP($A39,Competitors!$A$2:$G$60,4,FALSE)=\"\",\"\",VLOOKUP($A39,Competitors!$A$2:$G$60,4,FALSE)))","v":""},{"$f":"IF(VLOOKUP(A39,Competitors!$A$1:$H$41,8,FALSE)=\"\",\"\",VLOOKUP(A39,Competitors!$A$1:$H$41,8,FALSE))","v":""},{"$f":"IF(IFERROR(VLOOKUP(($B$2&\"_\"&$A39),'Time Entry Sheet'!$A$3:$I$499,9,0),\"Error\")=\"Error\",\"\",IF(VLOOKUP(($B$2&\"_\"&$A39),'Time Entry Sheet'!$A$3:$I$499,9,FALSE)=\"wd\",\"wd\",VLOOKUP(($B$2&\"_\"&$A39),'Time Entry Sheet'!$A$3:$I$499,9,FALSE)*1))","v":""},"",{"$f":"IF(IFERROR(VLOOKUP(($B$2&\"_\"&$A39),'Time Entry Sheet'!$A$3:$I$499,8,FALSE),\"Error\")=\"Error\",\"\",IF(VLOOKUP(($B$2&\"_\"&$A39),'Time Entry Sheet'!$A$3:$I$499,8,FALSE)=\"\",\"\",VLOOKUP(($B$2&\"_\"&$A39),'Time Entry Sheet'!$A$3:$I$499,8,FALSE)))","v":""},{"$f":"IF(IFERROR(VLOOKUP(($B$2&\"_\"&$A39),'Time Entry Sheet'!$A$3:$I$499,7,FALSE),\"Error\")=\"Error\",\"\",IF(VLOOKUP(($B$2&\"_\"&$A39),'Time Entry Sheet'!$A$3:$I$499,7,FALSE)=\"\",\"\",VLOOKUP(($B$2&\"_\"&$A39),'Time Entry Sheet'!$A$3:$I$499,7,FALSE)))","v":""},"00:01:17.980","00:01:17.980",20,{"$f":"IF(A39=\"\",\"\",M39+VLOOKUP(A39,'Test 5'!$A$12:$Q$51,16,FALSE))","v":"00:07:39.410"},20,null,null,"00:07:39.410"]
[29,{"$f":"IF($A40=\"\",\"\",IF(VLOOKUP($A40,Competitors!$A$2:$G$60,2,FALSE)=\"\",\"\",VLOOKUP($A40,Competitors!$A$2:$G$60,2,FALSE)))","v":""},{"$f":"IF($A40=\"\",\"\",IF(VLOOKUP($A40,Competitors!$A$2:$G$60,7,FALSE)=\"\",\"\",VLOOKUP($A40,Competitors!$A$2:$G$60,7,FALSE)))","v":""},{"$f":"IF($A40=\"\",\"\",IF(VLOOKUP($A40,Competitors!$A$2:$G$60,5,FALSE)=\"\",\"\",VLOOKUP($A40,Competitors!$A$2:$G$60,5,FALSE)))","v":""},{"$f":"IF($A40=\"\",\"\",IF(VLOOKUP($A40,Competitors!$A$2:$G$60,6,FALSE)=\"\",\"\",VLOOKUP($A40,Competitors!$A$2:$G$60,6,FALSE)))","v":"senior"},{"$f":"IF($A40=\"\",\"\",IF(VLOOKUP($A40,Competitors!$A$2:$G$60,3,FALSE)=\"\",\"\",VLOOKUP($A40,Competitors!$A$2:$G$60,3,FALSE)))","v":""},{"$f":"IF($A40=\"\",\"\",IF(VLOOKUP($A40,Competitors!$A$2:$G$60,4,FALSE)=\"\",\"\",VLOOKUP($A40,Competitors!$A$2:$G$60,4,FALSE)))","v":""},{"$f":"IF(VLOOKUP(A40,Competitors!$A$1:$H$41,8,FALSE)=\"\",\"\",VLOOKUP(A40,Competitors!$A$1:$H$41,8,FALSE))","v":""},{"$f":"IF(IFERROR(VLOOKUP(($B$2&\"_\"&$A40),'Time Entry Sheet'!$A$3:$I$499,9,0),\"Error\")=\"Error\",\"\",IF(VLOOKUP(($B$2&\"_\"&$A40),'Time Entry Sheet'!$A$3:$I$499,9,FALSE)=\"wd\",\"wd\",VLOOKUP(($B$2&\"_\"&$A40),'Time Entry Sheet'!$A$3:$I$499,9,FALSE)*1))","v":""},"",{"$f":"IF(IFERROR(VLOOKUP(($B$2&\"_\"&$A40),'Time Entry Sheet'!$A$3:$I$499,8,FALSE),\"Error\")=\"Error\",\"\",IF(VLOOKUP(($B$2&\"_\"&$A40),'Time Entry Sheet'!$A$3:$I$499,8,FALSE)=\"\",\"\",VLOOKUP(($B$2&\"_\"&$A40),'Time Entry Sheet'!$A$3:$I$499,8,FALSE)))","v":""},{"$f":"IF(IFERROR(VLOOKUP(($B$2&\"_\"&$A40),'Time Entry Sheet'!$A$3:$I$499,7,FALSE),\"Error\")=\"Error\",\"\",IF(VLOOKUP(($B$2&\"_\"&$A40),'Time Entry Sheet'!$A$3:$I$499,7,FALSE)=\"\",\"\",VLOOKUP(($B$2&\"_\"&$A40),'Time Entry Sheet'!$A$3:$I$499,7,FALSE)))","v":""},"00:01:17.980","00:01:17.980",20,{"$f":"IF(A40=\"\",\"\",M40+VLOOKUP(A40,'Test 5'!$A$12:$Q$51,16,FALSE))","v":"00:07:39.410"},20,null,"","00:07:39.410"]
[30,{"$f":"IF($A41=\"\",\"\",IF(VLOOKUP($A41,Competitors!$A$2:$G$60,2,FALSE)=\"\",\"\",VLOOKUP($A41,Competitors!$A$2:$G$60,2,FALSE)))","v":""},{"$f":"IF($A41=\"\",\"\",IF(VLOOKUP($A41,Competitors!$A$2:$G$60,7,FALSE)=\"\",\"\",VLOOKUP($A41,Competitors!$A$2:$G$60,7,FALSE)))","v":""},{"$f":"IF($A41=\"\",\"\",IF(VLOOKUP($A41,Competitors!$A$2:$G$60,5,FALSE)=\"\",\"\",VLOOKUP($A41,Competitors!$A$2:$G$60,5,FALSE)))","v":""},{"$f":"IF($A41=\"\",\"\",IF(VLOOKUP($A41,Competitors!$A$2:$G$60,6,FALSE)=\"\",\"\",VLOOKUP($A41,Competitors!$A$2:$G$60,6,FALSE)))","v":"senior"},{"$f":"IF($A41=\"\",\"\",IF(VLOOKUP($A41,Competitors!$A$2:$G$60,3,FALSE)=\"\",\"\",VLOOKUP($A41,Competitors!$A$2:$G$60,3,FALSE)))","v":""},{"$f":"IF($A41=\"\",\"\",IF(VLOOKUP($A41,Competitors!$A$2:$G$60,4,FALSE)=\"\",\"\",VLOOKUP($A41,Competitors!$A$2:$G$60,4,FALSE)))","v":""},{"$f":"IF(VLOOKUP(A41,Competitors!$A$1:$H$41,8,FALSE)=\"\",\"\",VLOOKUP(A41,Competitors!$A$1:$H$41,8,FALSE))","v":""},{"$f":"IF(IFERROR(VLOOKUP(($B$2&\"_\"&$A41),'Time Entry Sheet'!$A$3:$I$499,9,0),\"Error\")=\"Error\",\"\",IF(VLOOKUP(($B$2&\"_\"&$A41),'Time Entry Sheet'!$A$3:$I$499,9,FALSE)=\"wd\",\"wd\",VLOOKUP(($B$2&\"_\"&$A41),'Time Entry Sheet'!$A$3:$I$499,9,FALSE)*1))","v":""},"",{"$f":"IF(IFERROR(VLOOKUP(($B$2&\"_\"&$A41),'Time Entry Sheet'!$A$3:$I$499,8,FALSE),\"Error\")=\"Error\",\"\",IF(VLOOKUP(($B$2&\"_\"&$A41),'Time Entry Sheet'!$A$3:$I$499,8,FALSE)=\"\",\"\",VLOOKUP(($B$2&\"_\"&$A41),'Time Entry Sheet'!$A$3:$I$499,8,FALSE)))","v":""},{"$f":"IF(IFERROR(VLOOKUP(($B$2&\"_\"&$A41),'Time Entry Sheet'!$A$3:$I$499,7,FALSE),\"Error\")=\"Error\",\"\",IF(VLOOKUP(($B$2&\"_\"&$A41),'Time Entry Sheet'!$A$3:$I$499,7,FALSE)=\"\",\"\",VLOOKUP(($B$2&\"_\"&$A41),'Time Entry Sheet'!$A$3:$I$499,7,FALSE)))","v":""},"00:01:17.980","00:01:17.980",20,{"$f":"IF(A41=\"\",\"\",M41+VLOOKUP(A41,'Test 5'!$A$12:$Q$51,16,FALSE))","v":"00:07:39.410"},20,null,"","00:07:39.410"]
[31,{"$f":"IF($A42=\"\",\"\",IF(VLOOKUP($A42,Competitors!$A$2:$G$60,2,FALSE)=\"\",\"\",VLOOKUP($A42,Competitors!$A$2:$G$60,2,FALSE)))","v":""},{"$f":"IF($A42=\"\",\"\",IF(VLOOKUP($A42,Competitors!$A$2:$G$60,7,FALSE)=\"\",\"\",VLOOKUP($A42,Competitors!$A$2:$G$60,7,FALSE)))","v":""},{"$f":"IF($A42=\"\",\"\",IF(VLOOKUP($A42,Competitors!$A$2:$G$60,5,FALSE)=\"\",\"\",VLOOKUP($A42,Competitors!$A$2:$G$60,5,FALSE)))","v":""},{"$f":"IF($A42=\"\",\"\",IF(VLOOKUP($A42,Competitors!$A$2:$G$60,6,FALSE)=\"\",\"\",VLOOKUP($A42,Competitors!$A$2:$G$60,6,FALSE)))","v":"senior"},{"$f":"IF($A42=\"\",\"\",IF(VLOOKUP($A42,Competitors!$A$2:$G$60,3,FALSE)=\"\",\"\",VLOOKUP($A42,Competitors!$A$2:$G$60,3,FALSE)))","v":""},{"$f":"IF($A42=\"\",\"\",IF(VLOOKUP($A42,Competitors!$A$2:$G$60,4,FALSE)=\"\",\"\",VLOOKUP($A42,Competitors!$A$2:$G$60,4,FALSE)))","v":""},{"$f":"IF(VLOOKUP(A42,Competitors!$A$1:$H$41,8,FALSE)=\"\",\"\",VLOOKUP(A42,Competitors!$A$1:$H$41,8,FALSE))","v":""},{"$f":"IF(IFERROR(VLOOKUP(($B$2&\"_\"&$A42),'Time Entry Sheet'!$A$3:$I$499,9,0),\"Error\")=\"Error\",\"\",IF(VLOOKUP(($B$2&\"_\"&$A42),'Time Entry Sheet'!$A$3:$I$499,9,FALSE)=\"wd\",\"wd\",VLOOKUP(($B$2&\"_\"&$A42),'Time Entry Sheet'!$A$3:$I$499,9,FALSE)*1))","v":""},"",{"$f":"IF(IFERROR(VLOOKUP(($B$2&\"_\"&$A42),'Time Entry Sheet'!$A$3:$I$499,8,FALSE),\"Error\")=\"Error\",\"\",IF(VLOOKUP(($B$2&\"_\"&$A42),'Time Entry Sheet'!$A$3:$I$499,8,FALSE)=\"\",\"\",VLOOKUP(($B$2&\"_\"&$A42),'Time Entry Sheet'!$A$3:$I$499,8,FALSE)))","v":""},{"$f":"IF(IFERROR(VLOOKUP(($B$2&\"_\"&$A42),'Time Entry Sheet'!$A$3:$I$499,7,FALSE),\"Error\")=\"Error\",\"\",IF(VLOOKUP(($B$2&\"_\"&$A42),'Time Entry Sheet'!$A$3:$I$499,7,FALSE)=\"\",\"\",VLOOKUP(($B$2&\"_\"&$A42),'Time Entry Sheet'!$A$3:$I$499,7,FALSE)))","v":""},"00:01:17.980","00:01:17.980",20,{"$f":"IF(A42=\"\",\"\",M42+VLOOKUP(A42,'Test 5'!$A$12:$Q$51,16,FALSE))","v":"00:07:39.410"},20,null,"","00:07:39.410"]
[32,{"$f":"IF($A43=\"\",\"\",IF(VLOOKUP($A43,Competitors!$A$2:$G$60,2,FALSE)=\"\",\"\",VLOOKUP($A43,Competitors!$A$2:$G$60,2,FALSE)))","v":""},{"$f":"IF($A43=\"\",\"\",IF(VLOOKUP($A43,Competitors!$A$2:$G$60,7,FALSE)=\"\",\"\",VLOOKUP($A43,Competitors!$A$2:$G$60,7,FALSE)))","v":""},{"$f":"IF($A43=\"\",\"\",IF(VLOOKUP($A43,Competitors!$A$2:$G$60,5,FALSE)=\"\",\"\",VLOOKUP($A43,Competitors!$A$2:$G$60,5,FALSE)))","v":""},{"$f":"IF($A43=\"\",\"\",IF(VLOOKUP($A43,Competitors!$A$2:$G$60,6,FALSE)=\"\",\"\",VLOOKUP($A43,Competitors!$A$2:$G$60,6,FALSE)))","v":"senior"},{"$f":"IF($A43=\"\",\"\",IF(VLOOKUP($A43,Competitors!$A$2:$G$60,3,FALSE)=\"\",\"\",VLOOKUP($A43,Competitors!$A$2:$G$60,3,FALSE)))","v":""},{"$f":"IF($A43=\"\",\"\",IF(VLOOKUP($A43,Competitors!$A$2:$G$60,4,FALSE)=\"\",\"\",VLOOKUP($A43,Competitors!$A$2:$G$60,4,FALSE)))","v":""},{"$f":"IF(VLOOKUP(A43,Competitors!$A$1:$H$41,8,FALSE)=\"\",\"\",VLOOKUP(A43,Competitors!$A$1:$H$41,8,FALSE))","v":""},{"$f":"IF(IFERROR(VLOOKUP(($B$2&\"_\"&$A43),'Time Entry Sheet'!$A$3:$I$499,9,0),\"Error\")=\"Error\",\"\",IF(VLOOKUP(($B$2&\"_\"&$A43),'Time Entry Sheet'!$A$3:$I$499,9,FALSE)=\"wd\",\"wd\",VLOOKUP(($B$2&\"_\"&$A43),'Time Entry Sheet'!$A$3:$I$499,9,FALSE)*1))","v":""},"",{"$f":"IF(IFERROR(VLOOKUP(($B$2&\"_\"&$A43),'Time Entry Sheet'!$A$3:$I$499,8,FALSE),\"Error\")=\"Error\",\"\",IF(VLOOKUP(($B$2&\"_\"&$A43),'Time Entry Sheet'!$A$3:$I$499,8,FALSE)=\"\",\"\",VLOOKUP(($B$2&\"_\"&$A43),'Time Entry Sheet'!$A$3:$I$499,8,FALSE)))","v":""},{"$f":"IF(IFERROR(VLOOKUP(($B$2&\"_\"&$A43),'Time Entry Sheet'!$A$3:$I$499,7,FALSE),\"Error\")=\"Error\",\"\",IF(VLOOKUP(($B$2&\"_\"&$A43),'Time Entry Sheet'!$A$3:$I$499,7,FALSE)=\"\",\"\",VLOOKUP(($B$2&\"_\"&$A43),'Time Entry Sheet'!$A$3:$I$499,7,FALSE)))","v":""},"00:01:17.980","00:01:17.980",20,{"$f":"IF(A43=\"\",\"\",M43+VLOOKUP(A43,'Test 5'!$A$12:$Q$51,16,FALSE))","v":"00:07:39.410"},20,null,"","00:07:39.410"]
[33,{"$f":"IF($A44=\"\",\"\",IF(VLOOKUP($A44,Competitors!$A$2:$G$60,2,FALSE)=\"\",\"\",VLOOKUP($A44,Competitors!$A$2:$G$60,2,FALSE)))","v":""},{"$f":"IF($A44=\"\",\"\",IF(VLOOKUP($A44,Competitors!$A$2:$G$60,7,FALSE)=\"\",\"\",VLOOKUP($A44,Competitors!$A$2:$G$60,7,FALSE)))","v":""},{"$f":"IF($A44=\"\",\"\",IF(VLOOKUP($A44,Competitors!$A$2:$G$60,5,FALSE)=\"\",\"\",VLOOKUP($A44,Competitors!$A$2:$G$60,5,FALSE)))","v":""},{"$f":"IF($A44=\"\",\"\",IF(VLOOKUP($A44,Competitors!$A$2:$G$60,6,FALSE)=\"\",\"\",VLOOKUP($A44,Competitors!$A$2:$G$60,6,FALSE)))","v":"senior"},{"$f":"IF($A44=\"\",\"\",IF(VLOOKUP($A44,Competitors!$A$2:$G$60,3,FALSE)=\"\",\"\",VLOOKUP($A44,Competitors!$A$2:$G$60,3,FALSE)))","v":""},{"$f":"IF($A44=\"\",\"\",IF(VLOOKUP($A44,Competitors!$A$2:$G$60,4,FALSE)=\"\",\"\",VLOOKUP($A44,Competitors!$A$2:$G$60,4,FALSE)))","v":""},{"$f":"IF(VLOOKUP(A44,Competitors!$A$1:$H$41,8,FALSE)=\"\",\"\",VLOOKUP(A44,Competitors!$A$1:$H$41,8,FALSE))","v":""},{"$f":"IF(IFERROR(VLOOKUP(($B$2&\"_\"&$A44),'Time Entry Sheet'!$A$3:$I$499,9,0),\"Error\")=\"Error\",\"\",IF(VLOOKUP(($B$2&\"_\"&$A44),'Time Entry Sheet'!$A$3:$I$499,9,FALSE)=\"wd\",\"wd\",VLOOKUP(($B$2&\"_\"&$A44),'Time Entry Sheet'!$A$3:$I$499,9,FALSE)*1))","v":""},"",{"$f":"IF(IFERROR(VLOOKUP(($B$2&\"_\"&$A44),'Time Entry Sheet'!$A$3:$I$499,8,FALSE),\"Error\")=\"Error\",\"\",IF(VLOOKUP(($B$2&\"_\"&$A44),'Time Entry Sheet'!$A$3:$I$499,8,FALSE)=\"\",\"\",VLOOKUP(($B$2&\"_\"&$A44),'Time Entry Sheet'!$A$3:$I$499,8,FALSE)))","v":""},{"$f":"IF(IFERROR(VLOOKUP(($B$2&\"_\"&$A44),'Time Entry Sheet'!$A$3:$I$499,7,FALSE),\"Error\")=\"Error\",\"\",IF(VLOOKUP(($B$2&\"_\"&$A44),'Time Entry Sheet'!$A$3:$I$499,7,FALSE)=\"\",\"\",VLOOKUP(($B$2&\"_\"&$A44),'Time Entry Sheet'!$A$3:$I$499,7,FALSE)))","v":""},"00:01:17.980","00:01:17.980",20,{"$f":"IF(A44=\"\",\"\",M44+VLOOKUP(A44,'Test 5'!$A$12:$Q$51,16,FALSE))","v":"00:07:39.410"},20,null,"","00:07:39.410"]
[34,{"$f":"IF($A45=\"\",\"\",IF(VLOOKUP($A45,Competitors!$A$2:$G$60,2,FALSE)=\"\",\"\",VLOOKUP($A45,Competitors!$A$2:$G$60,2,FALSE)))","v":""},{"$f":"IF($A45=\"\",\"\",IF(VLOOKUP($A45,Competitors!$A$2:$G$60,7,FALSE)=\"\",\"\",VLOOKUP($A45,Competitors!$A$2:$G$60,7,FALSE)))","v":""},{"$f":"IF($A45=\"\",\"\",IF(VLOOKUP($A45,Competitors!$A$2:$G$60,5,FALSE)=\"\",\"\",VLOOKUP($A45,Competitors!$A$2:$G$60,5,FALSE)))","v":""},{"$f":"IF($A45=\"\",\"\",IF(VLOOKUP($A45,Competitors!$A$2:$G$60,6,FALSE)=\"\",\"\",VLOOKUP($A45,Competitors!$A$2:$G$60,6,FALSE)))","v":"senior"},{"$f":"IF($A45=\"\",\"\",IF(VLOOKUP($A45,Competitors!$A$2:$G$60,3,FALSE)=\"\",\"\",VLOOKUP($A45,Competitors!$A$2:$G$60,3,FALSE)))","v":""},{"$f":"IF($A45=\"\",\"\",IF(VLOOKUP($A45,Competitors!$A$2:$G$60,4,FALSE)=\"\",\"\",VLOOKUP($A45,Competitors!$A$2:$G$60,4,FALSE)))","v":""},{"$f":"IF(VLOOKUP(A45,Competitors!$A$1:$H$41,8,FALSE)=\"\",\"\",VLOOKUP(A45,Competitors!$A$1:$H$41,8,FALSE))","v":""},{"$f":"IF(IFERROR(VLOOKUP(($B$2&\"_\"&$A45),'Time Entry Sheet'!$A$3:$I$499,9,0),\"Error\")=\"Error\",\"\",IF(VLOOKUP(($B$2&\"_\"&$A45),'Time Entry Sheet'!$A$3:$I$499,9,FALSE)=\"wd\",\"wd\",VLOOKUP(($B$2&\"_\"&$A45),'Time Entry Sheet'!$A$3:$I$499,9,FALSE)*1))","v":""},"",{"$f":"IF(IFERROR(VLOOKUP(($B$2&\"_\"&$A45),'Time Entry Sheet'!$A$3:$I$499,8,FALSE),\"Error\")=\"Error\",\"\",IF(VLOOKUP(($B$2&\"_\"&$A45),'Time Entry Sheet'!$A$3:$I$499,8,FALSE)=\"\",\"\",VLOOKUP(($B$2&\"_\"&$A45),'Time Entry Sheet'!$A$3:$I$499,8,FALSE)))","v":""},{"$f":"IF(IFERROR(VLOOKUP(($B$2&\"_\"&$A45),'Time Entry Sheet'!$A$3:$I$499,7,FALSE),\"Error\")=\"Error\",\"\",IF(VLOOKUP(($B$2&\"_\"&$A45),'Time Entry Sheet'!$A$3:$I$499,7,FALSE)=\"\",\"\",VLOOKUP(($B$2&\"_\"&$A45),'Time Entry Sheet'!$A$3:$I$499,7,FALSE)))","v":""},"00:01:17.980","00:01:17.980",20,{"$f":"IF(A45=\"\",\"\",M45+VLOOKUP(A45,'Test 5'!$A$12:$Q$51,16,FALSE))","v":"00:07:39.410"},20,null,"","00:07:39.410"]
[35,{"$f":"IF($A46=\"\",\"\",IF(VLOOKUP($A46,Competitors!$A$2:$G$60,2,FALSE)=\"\",\"\",VLOOKUP($A46,Competitors!$A$2:$G$60,2,FALSE)))","v":""},{"$f":"IF($A46=\"\",\"\",IF(VLOOKUP($A46,Competitors!$A$2:$G$60,7,FALSE)=\"\",\"\",VLOOKUP($A46,Competitors!$A$2:$G$60,7,FALSE)))","v":""},{"$f":"IF($A46=\"\",\"\",IF(VLOOKUP($A46,Competitors!$A$2:$G$60,5,FALSE)=\"\",\"\",VLOOKUP($A46,Competitors!$A$2:$G$60,5,FALSE)))","v":""},{"$f":"IF($A46=\"\",\"\",IF(VLOOKUP($A46,Competitors!$A$2:$G$60,6,FALSE)=\"\",\"\",VLOOKUP($A46,Competitors!$A$2:$G$60,6,FALSE)))","v":"senior"},{"$f":"IF($A46=\"\",\"\",IF(VLOOKUP($A46,Competitors!$A$2:$G$60,3,FALSE)=\"\",\"\",VLOOKUP($A46,Competitors!$A$2:$G$60,3,FALSE)))","v":""},{"$f":"IF($A46=\"\",\"\",IF(VLOOKUP($A46,Competitors!$A$2:$G$60,4,FALSE)=\"\",\"\",VLOOKUP($A46,Competitors!$A$2:$G$60,4,FALSE)))","v":""},{"$f":"IF(VLOOKUP(A46,Competitors!$A$1:$H$41,8,FALSE)=\"\",\"\",VLOOKUP(A46,Competitors!$A$1:$H$41,8,FALSE))","v":""},{"$f":"IF(IFERROR(VLOOKUP(($B$2&\"_\"&$A46),'Time Entry Sheet'!$A$3:$I$499,9,0),\"Error\")=\"Error\",\"\",IF(VLOOKUP(($B$2&\"_\"&$A46),'Time Entry Sheet'!$A$3:$I$499,9,FALSE)=\"wd\",\"wd\",VLOOKUP(($B$2&\"_\"&$A46),'Time Entry Sheet'!$A$3:$I$499,9,FALSE)*1))","v":""},"",{"$f":"IF(IFERROR(VLOOKUP(($B$2&\"_\"&$A46),'Time Entry Sheet'!$A$3:$I$499,8,FALSE),\"Error\")=\"Error\",\"\",IF(VLOOKUP(($B$2&\"_\"&$A46),'Time Entry Sheet'!$A$3:$I$499,8,FALSE)=\"\",\"\",VLOOKUP(($B$2&\"_\"&$A46),'Time Entry Sheet'!$A$3:$I$499,8,FALSE)))","v":""},{"$f":"IF(IFERROR(VLOOKUP(($B$2&\"_\"&$A46),'Time Entry Sheet'!$A$3:$I$499,7,FALSE),\"Error\")=\"Error\",\"\",IF(VLOOKUP(($B$2&\"_\"&$A46),'Time Entry Sheet'!$A$3:$I$499,7,FALSE)=\"\",\"\",VLOOKUP(($B$2&\"_\"&$A46),'Time Entry Sheet'!$A$3:$I$499,7,FALSE)))","v":""},"00:01:17.980","00:01:17.980",20,{"$f":"IF(A46=\"\",\"\",M46+VLOOKUP(A46,'Test 5'!$A$12:$Q$51,16,FALSE))","v":"00:07:39.410"},20,null,"","00:07:39.410"]
[36,{"$f":"IF($A47=\"\",\"\",IF(VLOOKUP($A47,Competitors!$A$2:$G$60,2,FALSE)=\"\",\"\",VLOOKUP($A47,Competitors!$A$2:$G$60,2,FALSE)))","v":""},{"$f":"IF($A47=\"\",\"\",IF(VLOOKUP($A47,Competitors!$A$2:$G$60,7,FALSE)=\"\",\"\",VLOOKUP($A47,Competitors!$A$2:$G$60,7,FALSE)))","v":""},{"$f":"IF($A47=\"\",\"\",IF(VLOOKUP($A47,Competitors!$A$2:$G$60,5,FALSE)=\"\",\"\",VLOOKUP($A47,Competitors!$A$2:$G$60,5,FALSE)))","v":""},{"$f":"IF($A47=\"\",\"\",IF(VLOOKUP($A47,Competitors!$A$2:$G$60,6,FALSE)=\"\",\"\",VLOOKUP($A47,Competitors!$A$2:$G$60,6,FALSE)))","v":"senior"},{"$f":"IF($A47=\"\",\"\",IF(VLOOKUP($A47,Competitors!$A$2:$G$60,3,FALSE)=\"\",\"\",VLOOKUP($A47,Competitors!$A$2:$G$60,3,FALSE)))","v":""},{"$f":"IF($A47=\"\",\"\",IF(VLOOKUP($A47,Competitors!$A$2:$G$60,4,FALSE)=\"\",\"\",VLOOKUP($A47,Competitors!$A$2:$G$60,4,FALSE)))","v":""},{"$f":"IF(VLOOKUP(A47,Competitors!$A$1:$H$41,8,FALSE)=\"\",\"\",VLOOKUP(A47,Competitors!$A$1:$H$41,8,FALSE))","v":""},{"$f":"IF(IFERROR(VLOOKUP(($B$2&\"_\"&$A47),'Time Entry Sheet'!$A$3:$I$499,9,0),\"Error\")=\"Error\",\"\",IF(VLOOKUP(($B$2&\"_\"&$A47),'Time Entry Sheet'!$A$3:$I$499,9,FALSE)=\"wd\",\"wd\",VLOOKUP(($B$2&\"_\"&$A47),'Time Entry Sheet'!$A$3:$I$499,9,FALSE)*1))","v":""},"",{"$f":"IF(IFERROR(VLOOKUP(($B$2&\"_\"&$A47),'Time Entry Sheet'!$A$3:$I$499,8,FALSE),\"Error\")=\"Error\",\"\",IF(VLOOKUP(($B$2&\"_\"&$A47),'Time Entry Sheet'!$A$3:$I$499,8,FALSE)=\"\",\"\",VLOOKUP(($B$2&\"_\"&$A47),'Time Entry Sheet'!$A$3:$I$499,8,FALSE)))","v":""},{"$f":"IF(IFERROR(VLOOKUP(($B$2&\"_\"&$A47),'Time Entry Sheet'!$A$3:$I$499,7,FALSE),\"Error\")=\"Error\",\"\",IF(VLOOKUP(($B$2&\"_\"&$A47),'Time Entry Sheet'!$A$3:$I$499,7,FALSE)=\"\",\"\",VLOOKUP(($B$2&\"_\"&$A47),'Time Entry Sheet'!$A$3:$I$499,7,FALSE)))","v":""},"00:01:17.980","00:01:17.980",20,{"$f":"IF(A47=\"\",\"\",M47+VLOOKUP(A47,'Test 5'!$A$12:$Q$51,16,FALSE))","v":"00:07:39.410"},20,null,"","00:07:39.410"]
[37,{"$f":"IF($A48=\"\",\"\",IF(VLOOKUP($A48,Competitors!$A$2:$G$60,2,FALSE)=\"\",\"\",VLOOKUP($A48,Competitors!$A$2:$G$60,2,FALSE)))","v":""},{"$f":"IF($A48=\"\",\"\",IF(VLOOKUP($A48,Competitors!$A$2:$G$60,7,FALSE)=\"\",\"\",VLOOKUP($A48,Competitors!$A$2:$G$60,7,FALSE)))","v":""},{"$f":"IF($A48=\"\",\"\",IF(VLOOKUP($A48,Competitors!$A$2:$G$60,5,FALSE)=\"\",\"\",VLOOKUP($A48,Competitors!$A$2:$G$60,5,FALSE)))","v":""},{"$f":"IF($A48=\"\",\"\",IF(VLOOKUP($A48,Competitors!$A$2:$G$60,6,FALSE)=\"\",\"\",VLOOKUP($A48,Competitors!$A$2:$G$60,6,FALSE)))","v":"senior"},{"$f":"IF($A48=\"\",\"\",IF(VLOOKUP($A48,Competitors!$A$2:$G$60,3,FALSE)=\"\",\"\",VLOOKUP($A48,Competitors!$A$2:$G$60,3,FALSE)))","v":""},{"$f":"IF($A48=\"\",\"\",IF(VLOOKUP($A48,Competitors!$A$2:$G$60,4,FALSE)=\"\",\"\",VLOOKUP($A48,Competitors!$A$2:$G$60,4,FALSE)))","v":""},{"$f":"IF(VLOOKUP(A48,Competitors!$A$1:$H$41,8,FALSE)=\"\",\"\",VLOOKUP(A48,Competitors!$A$1:$H$41,8,FALSE))","v":""},{"$f":"IF(IFERROR(VLOOKUP(($B$2&\"_\"&$A48),'Time Entry Sheet'!$A$3:$I$499,9,0),\"Error\")=\"Error\",\"\",IF(VLOOKUP(($B$2&\"_\"&$A48),'Time Entry Sheet'!$A$3:$I$499,9,FALSE)=\"wd\",\"wd\",VLOOKUP(($B$2&\"_\"&$A48),'Time Entry Sheet'!$A$3:$I$499,9,FALSE)*1))","v":""},"",{"$f":"IF(IFERROR(VLOOKUP(($B$2&\"_\"&$A48),'Time Entry Sheet'!$A$3:$I$499,8,FALSE),\"Error\")=\"Error\",\"\",IF(VLOOKUP(($B$2&\"_\"&$A48),'Time Entry Sheet'!$A$3:$I$499,8,FALSE)=\"\",\"\",VLOOKUP(($B$2&\"_\"&$A48),'Time Entry Sheet'!$A$3:$I$499,8,FALSE)))","v":""},{"$f":"IF(IFERROR(VLOOKUP(($B$2&\"_\"&$A48),'Time Entry Sheet'!$A$3:$I$499,7,FALSE),\"Error\")=\"Error\",\"\",IF(VLOOKUP(($B$2&\"_\"&$A48),'Time Entry Sheet'!$A$3:$I$499,7,FALSE)=\"\",\"\",VLOOKUP(($B$2&\"_\"&$A48),'Time Entry Sheet'!$A$3:$I$499,7,FALSE)))","v":""},{"$f":"IF(A48=\"\",\"\",IF(I48=\"wd\",IF(E48=\"Senior\",$B$7,$C$7),IF(L48<>\"\",$B$7,IF(I48=\"\",IF(E48=\"Senior\",$B$8,$C$8),IF(K48=\"\",I48,I48+($B$5*K48))))))","v":"00:01:17.980"},"00:01:17.980",20,{"$f":"IF(A48=\"\",\"\",M48+VLOOKUP(A48,'Test 5'!$A$12:$Q$51,16,FALSE))","v":"00:07:39.410"},20,null,"","00:07:39.410"]
[38,{"$f":"IF($A49=\"\",\"\",IF(VLOOKUP($A49,Competitors!$A$2:$G$60,2,FALSE)=\"\",\"\",VLOOKUP($A49,Competitors!$A$2:$G$60,2,FALSE)))","v":""},{"$f":"IF($A49=\"\",\"\",IF(VLOOKUP($A49,Competitors!$A$2:$G$60,7,FALSE)=\"\",\"\",VLOOKUP($A49,Competitors!$A$2:$G$60,7,FALSE)))","v":""},{"$f":"IF($A49=\"\",\"\",IF(VLOOKUP($A49,Competitors!$A$2:$G$60,5,FALSE)=\"\",\"\",VLOOKUP($A49,Competitors!$A$2:$G$60,5,FALSE)))","v":""},{"$f":"IF($A49=\"\",\"\",IF(VLOOKUP($A49,Competitors!$A$2:$G$60,6,FALSE)=\"\",\"\",VLOOKUP($A49,Competitors!$A$2:$G$60,6,FALSE)))","v":"senior"},{"$f":"IF($A49=\"\",\"\",IF(VLOOKUP($A49,Competitors!$A$2:$G$60,3,FALSE)=\"\",\"\",VLOOKUP($A49,Competitors!$A$2:$G$60,3,FALSE)))","v":""},{"$f":"IF($A49=\"\",\"\",IF(VLOOKUP($A49,Competitors!$A$2:$G$60,4,FALSE)=\"\",\"\",VLOOKUP($A49,Competitors!$A$2:$G$60,4,FALSE)))","v":""},{"$f":"IF(VLOOKUP(A49,Competitors!$A$1:$H$41,8,FALSE)=\"\",\"\",VLOOKUP(A49,Competitors!$A$1:$H$41,8,FALSE))","v":""},{"$f":"IF(IFERROR(VLOOKUP(($B$2&\"_\"&$A49),'Time Entry Sheet'!$A$3:$I$499,9,0),\"Error\")=\"Error\",\"\",IF(VLOOKUP(($B$2&\"_\"&$A49),'Time Entry Sheet'!$A$3:$I$499,9,FALSE)=\"wd\",\"wd\",VLOOKUP(($B$2&\"_\"&$A49),'Time Entry Sheet'!$A$3:$I$499,9,FALSE)*1))","v":""},"",{"$f":"IF(IFERROR(VLOOKUP(($B$2&\"_\"&$A49),'Time Entry Sheet'!$A$3:$I$499,8,FALSE),\"Error\")=\"Error\",\"\",IF(VLOOKUP(($B$2&\"_\"&$A49),'Time Entry Sheet'!$A$3:$I$499,8,FALSE)=\"\",\"\",VLOOKUP(($B$2&\"_\"&$A49),'Time Entry Sheet'!$A$3:$I$499,8,FALSE)))","v":""},{"$f":"IF(IFERROR(VLOOKUP(($B$2&\"_\"&$A49),'Time Entry Sheet'!$A$3:$I$499,7,FALSE),\"Error\")=\"Error\",\"\",IF(VLOOKUP(($B$2&\"_\"&$A49),'Time Entry Sheet'!$A$3:$I$499,7,FALSE)=\"\",\"\",VLOOKUP(($B$2&\"_\"&$A49),'Time Entry Sheet'!$A$3:$I$499,7,FALSE)))","v":""},"00:01:17.980","00:01:17.980",20,{"$f":"IF(A49=\"\",\"\",M49+VLOOKUP(A49,'Test 5'!$A$12:$Q$51,16,FALSE))","v":"00:07:39.410"},20,null,"","00:07:39.410"]
[39,{"$f":"IF($A50=\"\",\"\",IF(VLOOKUP($A50,Competitors!$A$2:$G$60,2,FALSE)=\"\",\"\",VLOOKUP($A50,Competitors!$A$2:$G$60,2,FALSE)))","v":""},{"$f":"IF($A50=\"\",\"\",IF(VLOOKUP($A50,Competitors!$A$2:$G$60,7,FALSE)=\"\",\"\",VLOOKUP($A50,Competitors!$A$2:$G$60,7,FALSE)))","v":""},{"$f":"IF($A50=\"\",\"\",IF(VLOOKUP($A50,Competitors!$A$2:$G$60,5,FALSE)=\"\",\"\",VLOOKUP($A50,Competitors!$A$2:$G$60,5,FALSE)))","v":""},{"$f":"IF($A50=\"\",\"\",IF(VLOOKUP($A50,Competitors!$A$2:$G$60,6,FALSE)=\"\",\"\",VLOOKUP($A50,Competitors!$A$2:$G$60,6,FALSE)))","v":"senior"},{"$f":"IF($A50=\"\",\"\",IF(VLOOKUP($A50,Competitors!$A$2:$G$60,3,FALSE)=\"\",\"\",VLOOKUP($A50,Competitors!$A$2:$G$60,3,FALSE)))","v":""},{"$f":"IF($A50=\"\",\"\",IF(VLOOKUP($A50,Competitors!$A$2:$G$60,4,FALSE)=\"\",\"\",VLOOKUP($A50,Competitors!$A$2:$G$60,4,FALSE)))","v":""},{"$f":"IF(VLOOKUP(A50,Competitors!$A$1:$H$41,8,FALSE)=\"\",\"\",VLOOKUP(A50,Competitors!$A$1:$H$41,8,FALSE))","v":""},{"$f":"IF(IFERROR(VLOOKUP(($B$2&\"_\"&$A50),'Time Entry Sheet'!$A$3:$I$499,9,0),\"Error\")=\"Error\",\"\",IF(VLOOKUP(($B$2&\"_\"&$A50),'Time Entry Sheet'!$A$3:$I$499,9,FALSE)=\"wd\",\"wd\",VLOOKUP(($B$2&\"_\"&$A50),'Time Entry Sheet'!$A$3:$I$499,9,FALSE)*1))","v":""},"",{"$f":"IF(IFERROR(VLOOKUP(($B$2&\"_\"&$A50),'Time Entry Sheet'!$A$3:$I$499,8,FALSE),\"Error\")=\"Error\",\"\",IF(VLOOKUP(($B$2&\"_\"&$A50),'Time Entry Sheet'!$A$3:$I$499,8,FALSE)=\"\",\"\",VLOOKUP(($B$2&\"_\"&$A50),'Time Entry Sheet'!$A$3:$I$499,8,FALSE)))","v":""},{"$f":"IF(IFERROR(VLOOKUP(($B$2&\"_\"&$A50),'Time Entry Sheet'!$A$3:$I$499,7,FALSE),\"Error\")=\"Error\",\"\",IF(VLOOKUP(($B$2&\"_\"&$A50),'Time Entry Sheet'!$A$3:$I$499,7,FALSE)=\"\",\"\",VLOOKUP(($B$2&\"_\"&$A50),'Time Entry Sheet'!$A$3:$I$499,7,FALSE)))","v":""},"00:01:17.980","00:01:17.980",20,{"$f":"IF(A50=\"\",\"\",M50+VLOOKUP(A50,'Test 5'!$A$12:$Q$51,16,FALSE))","v":"00:07:39.410"},20,null,null,"00:07:39.410"]
[40,{"$f":"IF($A51=\"\",\"\",IF(VLOOKUP($A51,Competitors!$A$2:$G$60,2,FALSE)=\"\",\"\",VLOOKUP($A51,Competitors!$A$2:$G$60,2,FALSE)))","v":""},{"$f":"IF($A51=\"\",\"\",IF(VLOOKUP($A51,Competitors!$A$2:$G$60,7,FALSE)=\"\",\"\",VLOOKUP($A51,Competitors!$A$2:$G$60,7,FALSE)))","v":""},{"$f":"IF($A51=\"\",\"\",IF(VLOOKUP($A51,Competitors!$A$2:$G$60,5,FALSE)=\"\",\"\",VLOOKUP($A51,Competitors!$A$2:$G$60,5,FALSE)))","v":""},{"$f":"IF($A51=\"\",\"\",IF(VLOOKUP($A51,Competitors!$A$2:$G$60,6,FALSE)=\"\",\"\",VLOOKUP($A51,Competitors!$A$2:$G$60,6,FALSE)))","v":"senior"},{"$f":"IF($A51=\"\",\"\",IF(VLOOKUP($A51,Competitors!$A$2:$G$60,3,FALSE)=\"\",\"\",VLOOKUP($A51,Competitors!$A$2:$G$60,3,FALSE)))","v":""},{"$f":"IF($A51=\"\",\"\",IF(VLOOKUP($A51,Competitors!$A$2:$G$60,4,FALSE)=\"\",\"\",VLOOKUP($A51,Competitors!$A$2:$G$60,4,FALSE)))","v":""},{"$f":"IF(VLOOKUP(A51,Competitors!$A$1:$H$41,8,FALSE)=\"\",\"\",VLOOKUP(A51,Competitors!$A$1:$H$41,8,FALSE))","v":""},{"$f":"IF(IFERROR(VLOOKUP(($B$2&\"_\"&$A51),'Time Entry Sheet'!$A$3:$I$499,9,0),\"Error\")=\"Error\",\"\",IF(VLOOKUP(($B$2&\"_\"&$A51),'Time Entry Sheet'!$A$3:$I$499,9,FALSE)=\"wd\",\"wd\",VLOOKUP(($B$2&\"_\"&$A51),'Time Entry Sheet'!$A$3:$I$499,9,FALSE)*1))","v":""},"",{"$f":"IF(IFERROR(VLOOKUP(($B$2&\"_\"&$A51),'Time Entry Sheet'!$A$3:$I$499,8,FALSE),\"Error\")=\"Error\",\"\",IF(VLOOKUP(($B$2&\"_\"&$A51),'Time Entry Sheet'!$A$3:$I$499,8,FALSE)=\"\",\"\",VLOOKUP(($B$2&\"_\"&$A51),'Time Entry Sheet'!$A$3:$I$499,8,FALSE)))","v":""},{"$f":"IF(IFERROR(VLOOKUP(($B$2&\"_\"&$A51),'Time Entry Sheet'!$A$3:$I$499,7,FALSE),\"Error\")=\"Error\",\"\",IF(VLOOKUP(($B$2&\"_\"&$A51),'Time Entry Sheet'!$A$3:$I$499,7,FALSE)=\"\",\"\",VLOOKUP(($B$2&\"_\"&$A51),'Time Entry Sheet'!$A$3:$I$499,7,FALSE)))","v":""},"00:01:17.980","00:01:17.980",20,{"$f":"IF(A51=\"\",\"\",M51+VLOOKUP(A51,'Test 5'!$A$12:$Q$51,16,FALSE))","v":"00:07:39.410"},20,null,null,"00:07:39.410"]

{"sheet":"Test 7","index":24,"n_rows":51,"n_cols":20,"rows_kept":51,"cut":false,"hidden":false,"merged":[[0,8,0,10]]}
[]
["TEST",7,null,null,null,null,null,null,null,null,"PROVISIONAL RESULTS",null,{"$f":"NOW()","v":42690.814244444446},null,{"$f":"NOW()","v":"2016-11-16T19:32:30.720"}]
["Date:","2015-10-31",null,null,null,null,null,null,null,null,null,"Junior",{"$f":"MIN( IF( $E$8:$E$51=L3, $S$8:$S$51 ) )","v":"00:00:00"},null,"FASTEST"]
["10 sec penalty","00:00:10",null,null,null,null,null,null,null,null,null,"Junior",{"$f":"MAX( IF( $E$8:$E$51=L4, $S$8:$S$51 ) )","v":"00:00:00"},null,"SLOWEST"]
["Flag penalty","00:00:05",null,null,null,null,"SENIOR"]
[null,null,null,null,null,null,"Fastest test time x 2",null,{"$f":"M6*2","v":"00:01:08.620"},null,null,"Senior",{"$f":"MIN( IF( E11:E51=L6, J11:J51 ) )","v":"00:00:34.310"},null,"FASTEST"]
["Slowest test time + 5 second penalty",{"$f":"MIN($I$6,$I$7)+$B$5","v":"00:00:50.750"},{"$f":"MIN($I$9:$I$10)+$B$5","v":"00:00:05"},null,null,null,"Slowest test time",null,{"$f":"M7","v":"00:00:45.750"},null,null,"Senior",{"$f":"MAX( IF( E11:E51=L7, J11:J51 ) )","v":"00:00:45.750"},null,"SLOWEST"]
["Failure to Attempt Course (Slowest time + 10 sec)",{"$f":"SUM($I$7,$B$4)","v":"00:00:55.750"},{"$f":"SUM($I$10,$B$4)","v":"00:00:10"},null,null,null,"JUNIOR"]
[null,null,null,null,null,null,"Fastest test time x 2",null,{"$f":"M3*2","v":"00:00:00"}]
[null,null,null,null,null,null,"Slowest test time",null,{"$f":"M4","v":"00:00:00"}]
["Car Number","Driver","Rookie?","Female Driver?","Junior Driver?","Vehicle","Class","Senior with Passenger?","Time Taken (MM:SS.00)","Time Taken-PenaltyCalculator (MM:SS.00)","No. of Flags &/or Finishes partly out of garage","Slowest time + 5 sec penalty type","Total Test 7 Time","Total Test 1 Time for ranking","Test 7 Position","Cumulative Time Taken (MM:SS.00)","Cumulative Outright Position","Comments","Time Taken-PenaltyCalculator Junior(MM:SS.00)","Cumulative Time Taken (MM:SS.00) for ranking"]
[1,{"$f":"IF($A12=\"\",\"\",IF(VLOOKUP($A12,Competitors!$A$2:$G$60,2,FALSE)=\"\",\"\",VLOOKUP($A12,Competitors!$A$2:$G$60,2,FALSE)))","v":"Paul Dunn"},{"$f":"IF($A12=\"\",\"\",IF(VLOOKUP($A12,Competitors!$A$2:$G$60,7,FALSE)=\"\",\"\",VLOOKUP($A12,Competitors!$A$2:$G$60,7,FALSE)))","v":""},{"$f":"IF($A12=\"\",\"\",IF(VLOOKUP($A12,Competitors!$A$2:$G$60,5,FALSE)=\"\",\"\",VLOOKUP($A12,Competitors!$A$2:$G$60,5,FALSE)))","v":""},{"$f":"IF($A12=\"\",\"\",IF(VLOOKUP($A12,Competitors!$A$2:$G$60,6,FALSE)=\"\",\"\",VLOOKUP($A12,Competitors!$A$2:$G$60,6,FALSE)))","v":"senior"},{"$f":"IF($A12=\"\",\"\",IF(VLOOKUP($A12,Competitors!$A$2:$G$60,3,FALSE)=\"\",\"\",VLOOKUP($A12,Competitors!$A$2:$G$60,3,FALSE)))","v":"Excel"},{"$f":"IF($A12=\"\",\"\",IF(VLOOKUP($A12,Competitors!$A$2:$G$60,4,FALSE)=\"\",\"\",VLOOKUP($A12,Competitors!$A$2:$G$60,4,FALSE)))","v":""},{"$f":"IF(VLOOKUP(A12,Competitors!$A$1:$H$41,8,FALSE)=\"\",\"\",VLOOKUP(A12,Competitors!$A$1:$H$41,8,FALSE))","v":""},{"$f":"IF(IFERROR(VLOOKUP(($B$2&\"_\"&$A12),'Time Entry Sheet'!$A$3:$I$499,9,0),\"Error\")=\"Error\",\"\",IF(VLOOKUP(($B$2&\"_\"&$A12),'Time Entry Sheet'!$A$3:$I$499,9,FALSE)=\"wd\",\"wd\",VLOOKUP(($B$2&\"_\"&$A12),'Time Entry Sheet'!$A$3:$I$499,9,FALSE)*1))","v":"00:00:35.250"},{"$f":"IF(E12=\"Junior\",\"\",IF(I12=\"wd\",\"\",IF(K12<>\"\",\"\",I12)))","v":"00:00:35.250"},{"$f":"IF(IFERROR(VLOOKUP(($B$2&\"_\"&$A12),'Time Entry Sheet'!$A$3:$I$499,8,FALSE),\"Error\")=\"Error\",\"\",IF(VLOOKUP(($B$2&\"_\"&$A12),'Time Entry Sheet'!$A$3:$I$499,8,FALSE)=\"\",\"\",VLOOKUP(($B$2&\"_\"&$A12),'Time Entry Sheet'!$A$3:$I$499,8,FALSE)))","v":""},{"$f":"IF(IFERROR(VLOOKUP(($B$2&\"_\"&$A12),'Time Entry Sheet'!$A$3:$I$499,7,FALSE),\"Error\")=\"Error\",\"\",IF(VLOOKUP(($B$2&\"_\"&$A12),'Time Entry Sheet'!$A$3:$I$499,7,FALSE)=\"\",\"\",VLOOKUP(($B$2&\"_\"&$A12),'Time Entry Sheet'!$A$3:$I$499,7,FALSE)))","v":""},{"$f":"IF(A12=\"\",\"\",IF(I12=\"wd\",IF(E12=\"Senior\",$B$7,$C$7),IF(L12<>\"\",$B$7,IF(I12=\"\",IF(E12=\"Senior\",$B$8,$C$8),IF(K12=\"\",I12,I12+($B$5*K12))))))","v":"00:00:35.250"},{"$f":"IF(H12=\"Passenger\",\"\",M12)","v":"00:00:35.250"},{"$f":"IF(A12=\"\",\"\",IF(H12=\"Passenger\",\"P\",RANK(N12,$N$12:$N$51,1)))","v":2},{"$f":"IF(A12=\"\",\"\",M12+VLOOKUP(A12,'Test 6'!$A$12:$Q$51,16,FALSE))","v":"00:05:40.310"},{"$f":"IF(A12=\"\",\"\",IF(H12=\"Passenger\",\"P\",RANK(T12,$T$12:$T$51,1)))","v":2},null,{"$f":"IF(E12=\"Senior\",\"\",IF(I12=\"wd\",\"\",IF(K12<>\"\",\"\",I12)))","v":""},{"$f":"IF(H12=\"Passenger\",\"\",P12)","v":"00:05:40.310"}]
[2,{"$f":"IF($A13=\"\",\"\",IF(VLOOKUP($A13,Competitors!$A$2:$G$60,2,FALSE)=\"\",\"\",VLOOKUP($A13,Competitors!$A$2:$G$60,2,FALSE)))","v":"Stephen Thorne"},{"$f":"IF($A13=\"\",\"\",IF(VLOOKUP($A13,Competitors!$A$2:$G$60,7,FALSE)=\"\",\"\",VLOOKUP($A13,Competitors!$A$2:$G$60,7,FALSE)))","v":""},{"$f":"IF($A13=\"\",\"\",IF(VLOOKUP($A13,Competitors!$A$2:$G$60,5,FALSE)=\"\",\"\",VLOOKUP($A13,Competitors!$A$2:$G$60,5,FALSE)))","v":""},{"$f":"IF($A13=\"\",\"\",IF(VLOOKUP($A13,Competitors!$A$2:$G$60,6,FALSE)=\"\",\"\",VLOOKUP($A13,Competitors!$A$2:$G$60,6,FALSE)))","v":"senior"},{"$f":"IF($A13=\"\",\"\",IF(VLOOKUP($A13,Competitors!$A$2:$G$60,3,FALSE)=\"\",\"\",VLOOKUP($A13,Competitors!$A$2:$G$60,3,FALSE)))","v":""},{"$f":"IF($A13=\"\",\"\",IF(VLOOKUP($A13,Competitors!$A$2:$G$60,4,FALSE)=\"\",\"\",VLOOKUP($A13,Competitors!$A$2:$G$60,4,FALSE)))","v":""},{"$f":"IF(VLOOKUP(A13,Competitors!$A$1:$H$41,8,FALSE)=\"\",\"\",VLOOKUP(A13,Competitors!$A$1:$H$41,8,FALSE))","v":""},{"$f":"IF(IFERROR(VLOOKUP(($B$2&\"_\"&$A13),'Time Entry Sheet'!$A$3:$I$499,9,0),\"Error\")=\"Error\",\"\",IF(VLOOKUP(($B$2&\"_\"&$A13),'Time Entry Sheet'!$A$3:$I$499,9,FALSE)=\"wd\",\"wd\",VLOOKUP(($B$2&\"_\"&$A13),'Time Entry Sheet'!$A$3:$I$499,9,FALSE)*1))","v":"00:00:36.690"},{"$f":"IF(E13=\"Junior\",\"\",IF(I13=\"wd\",\"\",IF(K13<>\"\",\"\",I13)))","v":"00:00:36.690"},{"$f":"IF(IFERROR(VLOOKUP(($B$2&\"_\"&$A13),'Time Entry Sheet'!$A$3:$I$499,8,FALSE),\"Error\")=\"Error\",\"\",IF(VLOOKUP(($B$2&\"_\"&$A13),'Time Entry Sheet'!$A$3:$I$499,8,FALSE)=\"\",\"\",VLOOKUP(($B$2&\"_\"&$A13),'Time Entry Sheet'!$A$3:$I$499,8,FALSE)))","v":""},{"$f":"IF(IFERROR(VLOOKUP(($B$2&\"_\"&$A13),'Time Entry Sheet'!$A$3:$I$499,7,FALSE),\"Error\")=\"Error\",\"\",IF(VLOOKUP(($B$2&\"_\"&$A13),'Time Entry Sheet'!$A$3:$I$499,7,FALSE)=\"\",\"\",VLOOKUP(($B$2&\"_\"&$A13),'Time Entry Sheet'!$A$3:$I$499,7,FALSE)))","v":""},{"$f":"IF(A13=\"\",\"\",IF(I13=\"wd\",IF(E13=\"Senior\",$B$7,$C$7),IF(L13<>\"\",$B$7,IF(I13=\"\",IF(E13=\"Senior\",$B$8,$C$8),IF(K13=\"\",I13,I13+($B$5*K13))))))","v":"00:00:36.690"},{"$f":"IF(H13=\"Passenger\",\"\",M13)","v":"00:00:36.690"},{"$f":"IF(A13=\"\",\"\",IF(H13=\"Passenger\",\"P\",RANK(N13,$N$12:$N$51,1)))","v":4},{"$f":"IF(A13=\"\",\"\",M13+VLOOKUP(A13,'Test 6'!$A$12:$Q$51,16,FALSE))","v":"00:06:02.550"},{"$f":"IF(A13=\"\",\"\",IF(H13=\"Passenger\",\"P\",RANK(T13,$T$12:$T$51,1)))","v":5},null,{"$f":"IF(E13=\"Senior\",\"\",IF(I13=\"wd\",\"\",IF(K13<>\"\",\"\",I13)))","v":""},{"$f":"IF(H13=\"Passenger\",\"\",P13)","v":"00:06:02.550"}]
[3,{"$f":"IF($A14=\"\",\"\",IF(VLOOKUP($A14,Competitors!$A$2:$G$60,2,FALSE)=\"\",\"\",VLOOKUP($A14,Competitors!$A$2:$G$60,2,FALSE)))","v":"David Ballard"},{"$f":"IF($A14=\"\",\"\",IF(VLOOKUP($A14,Competitors!$A$2:$G$60,7,FALSE)=\"\",\"\",VLOOKUP($A14,Competitors!$A$2:$G$60,7,FALSE)))","v":""},{"$f":"IF($A14=\"\",\"\",IF(VLOOKUP($A14,Competitors!$A$2:$G$60,5,FALSE)=\"\",\"\",VLOOKUP($A14,Competitors!$A$2:$G$60,5,FALSE)))","v":""},{"$f":"IF($A14=\"\",\"\",IF(VLOOKUP($A14,Competitors!$A$2:$G$60,6,FALSE)=\"\",\"\",VLOOKUP($A14,Competitors!$A$2:$G$60,6,FALSE)))","v":"senior"},{"$f":"IF($A14=\"\",\"\",IF(VLOOKUP($A14,Competitors!$A$2:$G$60,3,FALSE)=\"\",\"\",VLOOKUP($A14,Competitors!$A$2:$G$60,3,FALSE)))","v":""},{"$f":"IF($A14=\"\",\"\",IF(VLOOKUP($A14,Competitors!$A$2:$G$60,4,FALSE)=\"\",\"\",VLOOKUP($A14,Competitors!$A$2:$G$60,4,FALSE)))","v":""},{"$f":"IF(VLOOKUP(A14,Competitors!$A$1:$H$41,8,FALSE)=\"\",\"\",VLOOKUP(A14,Competitors!$A$1:$H$41,8,FALSE))","v":""},{"$f":"IF(IFERROR(VLOOKUP(($B$2&\"_\"&$A14),'Time Entry Sheet'!$A$3:$I$499,9,0),\"Error\")=\"Error\",\"\",IF(VLOOKUP(($B$2&\"_\"&$A14),'Time Entry Sheet'!$A$3:$I$499,9,FALSE)=\"wd\",\"wd\",VLOOKUP(($B$2&\"_\"&$A14),'Time Entry Sheet'!$A$3:$I$499,9,FALSE)*1))","v":"00:00:38.880"},"00:00:38.880",{"$f":"IF(IFERROR(VLOOKUP(($B$2&\"_\"&$A14),'Time Entry Sheet'!$A$3:$I$499,8,FALSE),\"Error\")=\"Error\",\"\",IF(VLOOKUP(($B$2&\"_\"&$A14),'Time Entry Sheet'!$A$3:$I$499,8,FALSE)=\"\",\"\",VLOOKUP(($B$2&\"_\"&$A14),'Time Entry Sheet'!$A$3:$I$499,8,FALSE)))","v":""},{"$f":"IF(IFERROR(VLOOKUP(($B$2&\"_\"&$A14),'Time Entry Sheet'!$A$3:$I$499,7,FALSE),\"Error\")=\"Error\",\"\",IF(VLOOKUP(($B$2&\"_\"&$A14),'Time Entry Sheet'!$A$3:$I$499,7,FALSE)=\"\",\"\",VLOOKUP(($B$2&\"_\"&$A14),'Time Entry Sheet'!$A$3:$I$499,7,FALSE)))","v":""},"00:00:38.880","00:00:38.880",9,{"$f":"IF(A14=\"\",\"\",M14+VLOOKUP(A14,'Test 6'!$A$12:$Q$51,16,FALSE))","v":"00:06:31.910"},14,null,"","00:06:31.910"]
[4,{"$f":"IF($A15=\"\",\"\",IF(VLOOKUP($A15,Competitors!$A$2:$G$60,2,FALSE)=\"\",\"\",VLOOKUP($A15,Competitors!$A$2:$G$60,2,FALSE)))","v":"Michaela Ballard"},{"$f":"IF($A15=\"\",\"\",IF(VLOOKUP($A15,Competitors!$A$2:$G$60,7,FALSE)=\"\",\"\",VLOOKUP($A15,Competitors!$A$2:$G$60,7,FALSE)))","v":"rookie"},{"$f":"IF($A15=\"\",\"\",IF(VLOOKUP($A15,Competitors!$A$2:$G$60,5,FALSE)=\"\",\"\",VLOOKUP($A15,Competitors!$A$2:$G$60,5,FALSE)))","v":"female"},{"$f":"IF($A15=\"\",\"\",IF(VLOOKUP($A15,Competitors!$A$2:$G$60,6,FALSE)=\"\",\"\",VLOOKUP($A15,Competitors!$A$2:$G$60,6,FALSE)))","v":"senior"},{"$f":"IF($A15=\"\",\"\",IF(VLOOKUP($A15,Competitors!$A$2:$G$60,3,FALSE)=\"\",\"\",VLOOKUP($A15,Competitors!$A$2:$G$60,3,FALSE)))","v":""},{"$f":"IF($A15=\"\",\"\",IF(VLOOKUP($A15,Competitors!$A$2:$G$60,4,FALSE)=\"\",\"\",VLOOKUP($A15,Competitors!$A$2:$G$60,4,FALSE)))","v":""},{"$f":"IF(VLOOKUP(A15,Competitors!$A$1:$H$41,8,FALSE)=\"\",\"\",VLOOKUP(A15,Competitors!$A$1:$H$41,8,FALSE))","v":""},{"$f":"IF(IFERROR(VLOOKUP(($B$2&\"_\"&$A15),'Time Entry Sheet'!$A$3:$I$499,9,0),\"Error\")=\"Error\",\"\",IF(VLOOKUP(($B$2&\"_\"&$A15),'Time Entry Sheet'!$A$3:$I$499,9,FALSE)=\"wd\",\"wd\",VLOOKUP(($B$2&\"_\"&$A15),'Time Entry Sheet'!$A$3:$I$499,9,FALSE)*1))","v":"00:00:41.250"},"00:00:41.250",{"$f":"IF(IFERROR(VLOOKUP(($B$2&\"_\"&$A15),'Time Entry Sheet'!$A$3:$I$499,8,FALSE),\"Error\")=\"Error\",\"\",IF(VLOOKUP(($B$2&\"_\"&$A15),'Time Entry Sheet'!$A$3:$I$499,8,FALSE)=\"\",\"\",VLOOKUP(($B$2&\"_\"&$A15),'Time Entry Sheet'!$A$3:$I$499,8,FALSE)))","v":""},{"$f":"IF(IFERROR(VLOOKUP(($B$2&\"_\"&$A15),'Time Entry Sheet'!$A$3:$I$499,7,FALSE),\"Error\")=\"Error\",\"\",IF(VLOOKUP(($B$2&\"_\"&$A15),'Time Entry Sheet'!$A$3:$I$499,7,FALSE)=\"\",\"\",VLOOKUP(($B$2&\"_\"&$A15),'Time Entry Sheet'!$A$3:$I$499,7,FALSE)))","v":""},"00:00:41.250","00:00:41.250",15,{"$f":"IF(A15=\"\",\"\",M15+VLOOKUP(A15,'Test 6'!$A$12:$Q$51,16,FALSE))","v":"00:07:06.410"},19,null,"","00:07:06.410"]
[5,{"$f":"IF($A16=\"\",\"\",IF(VLOOKUP($A16,Competitors!$A$2:$G$60,2,FALSE)=\"\",\"\",VLOOKUP($A16,Competitors!$A$2:$G$60,2,FALSE)))","v":"Janelle Ballard"},{"$f":"IF($A16=\"\",\"\",IF(VLOOKUP($A16,Competitors!$A$2:$G$60,7,FALSE)=\"\",\"\",VLOOKUP($A16,Competitors!$A$2:$G$60,7,FALSE)))","v":""},{"$f":"IF($A16=\"\",\"\",IF(VLOOKUP($A16,Competitors!$A$2:$G$60,5,FALSE)=\"\",\"\",VLOOKUP($A16,Competitors!$A$2:$G$60,5,FALSE)))","v":"female"},{"$f":"IF($A16=\"\",\"\",IF(VLOOKUP($A16,Competitors!$A$2:$G$60,6,FALSE)=\"\",\"\",VLOOKUP($A16,Competitors!$A$2:$G$60,6,FALSE)))","v":"senior"},{"$f":"IF($A16=\"\",\"\",IF(VLOOKUP($A16,Competitors!$A$2:$G$60,3,FALSE)=\"\",\"\",VLOOKUP($A16,Competitors!$A$2:$G$60,3,FALSE)))","v":""},{"$f":"IF($A16=\"\",\"\",IF(VLOOKUP($A16,Competitors!$A$2:$G$60,4,FALSE)=\"\",\"\",VLOOKUP($A16,Competitors!$A$2:$G$60,4,FALSE)))","v":""},{"$f":"IF(VLOOKUP(A16,Competitors!$A$1:$H$41,8,FALSE)=\"\",\"\",VLOOKUP(A16,Competitors!$A$1:$H$41,8,FALSE))","v":""},{"$f":"IF(IFERROR(VLOOKUP(($B$2&\"_\"&$A16),'Time Entry Sheet'!$A$3:$I$499,9,0),\"Error\")=\"Error\",\"\",IF(VLOOKUP(($B$2&\"_\"&$A16),'Time Entry Sheet'!$A$3:$I$499,9,FALSE)=\"wd\",\"wd\",VLOOKUP(($B$2&\"_\"&$A16),'Time Entry Sheet'!$A$3:$I$499,9,FALSE)*1))","v":"00:00:38.420"},"00:00:38.420",{"$f":"IF(IFERROR(VLOOKUP(($B$2&\"_\"&$A16),'Time Entry Sheet'!$A$3:$I$499,8,FALSE),\"Error\")=\"Error\",\"\",IF(VLOOKUP(($B$2&\"_\"&$A16),'Time Entry Sheet'!$A$3:$I$499,8,FALSE)=\"\",\"\",VLOOKUP(($B$2&\"_\"&$A16),'Time Entry Sheet'!$A$3:$I$499,8,FALSE)))","v":""},{"$f":"IF(IFERROR(VLOOKUP(($B$2&\"_\"&$A16),'Time Entry Sheet'!$A$3:$I$499,7,FALSE),\"Error\")=\"Error\",\"\",IF(VLOOKUP(($B$2&\"_\"&$A16),'Time Entry Sheet'!$A$3:$I$499,7,FALSE)=\"\",\"\",VLOOKUP(($B$2&\"_\"&$A16),'Time Entry Sheet'!$A$3:$I$499,7,FALSE)))","v":""},"00:00:38.420","00:00:38.420",8,{"$f":"IF(A16=\"\",\"\",M16+VLOOKUP(A16,'Test 6'!$A$12:$Q$51,16,FALSE))","v":"00:06:11.340"},8,null,"","00:06:11.340"]
[6,{"$f":"IF($A17=\"\",\"\",IF(VLOOKUP($A17,Competitors!$A$2:$G$60,2,FALSE)=\"\",\"\",VLOOKUP($A17,Competitors!$A$2:$G$60,2,FALSE)))","v":"Issac Wishart"},{"$f":"IF($A17=\"\",\"\",IF(VLOOKUP($A17,Competitors!$A$2:$G$60,7,FALSE)=\"\",\"\",VLOOKUP($A17,Competitors!$A$2:$G$60,7,FALSE)))","v":"rookie"},{"$f":"IF($A17=\"\",\"\",IF(VLOOKUP($A17,Competitors!$A$2:$G$60,5,FALSE)=\"\",\"\",VLOOKUP($A17,Competitors!$A$2:$G$60,5,FALSE)))","v":""},{"$f":"IF($A17=\"\",\"\",IF(VLOOKUP($A17,Competitors!$A$2:$G$60,6,FALSE)=\"\",\"\",VLOOKUP($A17,Competitors!$A$2:$G$60,6,FALSE)))","v":"senior"},{"$f":"IF($A17=\"\",\"\",IF(VLOOKUP($A17,Competitors!$A$2:$G$60,3,FALSE)=\"\",\"\",VLOOKUP($A17,Competitors!$A$2:$G$60,3,FALSE)))","v":""},{"$f":"IF($A17=\"\",\"\",IF(VLOOKUP($A17,Competitors!$A$2:$G$60,4,FALSE)=\"\",\"\",VLOOKUP($A17,Competitors!$A$2:$G$60,4,FALSE)))","v":""},{"$f":"IF(VLOOKUP(A17,Competitors!$A$1:$H$41,8,FALSE)=\"\",\"\",VLOOKUP(A17,Competitors!$A$1:$H$41,8,FALSE))","v":""},{"$f":"IF(IFERROR(VLOOKUP(($B$2&\"_\"&$A17),'Time Entry Sheet'!$A$3:$I$499,9,0),\"Error\")=\"Error\",\"\",IF(VLOOKUP(($B$2&\"_\"&$A17),'Time Entry Sheet'!$A$3:$I$499,9,FALSE)=\"wd\",\"wd\",VLOOKUP(($B$2&\"_\"&$A17),'Time Entry Sheet'!$A$3:$I$499,9,FALSE)*1))","v":"00:00:38.130"},"00:00:38.130",{"$f":"IF(IFERROR(VLOOKUP(($B$2&\"_\"&$A17),'Time Entry Sheet'!$A$3:$I$499,8,FALSE),\"Error\")=\"Error\",\"\",IF(VLOOKUP(($B$2&\"_\"&$A17),'Time Entry Sheet'!$A$3:$I$499,8,FALSE)=\"\",\"\",VLOOKUP(($B$2&\"_\"&$A17),'Time Entry Sheet'!$A$3:$I$499,8,FALSE)))","v":""},{"$f":"IF(IFERROR(VLOOKUP(($B$2&\"_\"&$A17),'Time Entry Sheet'!$A$3:$I$499,7,FALSE),\"Error\")=\"Error\",\"\",IF(VLOOKUP(($B$2&\"_\"&$A17),'Time Entry Sheet'!$A$3:$I$499,7,FALSE)=\"\",\"\",VLOOKUP(($B$2&\"_\"&$A17),'Time Entry Sheet'!$A$3:$I$499,7,FALSE)))","v":""},"00:00:38.130","00:00:38.130",7,{"$f":"IF(A17=\"\",\"\",M17+VLOOKUP(A17,'Test 6'!$A$12:$Q$51,16,FALSE))","v":"00:06:48.030"},16,null,"","00:06:48.030"]
[7,{"$f":"IF($A18=\"\",\"\",IF(VLOOKUP($A18,Competitors!$A$2:$G$60,2,FALSE)=\"\",\"\",VLOOKUP($A18,Competitors!$A$2:$G$60,2,FALSE)))","v":""},{"$f":"IF($A18=\"\",\"\",IF(VLOOKUP($A18,Competitors!$A$2:$G$60,7,FALSE)=\"\",\"\",VLOOKUP($A18,Competitors!$A$2:$G$60,7,FALSE)))","v":""},{"$f":"IF($A18=\"\",\"\",IF(VLOOKUP($A18,Competitors!$A$2:$G$60,5,FALSE)=\"\",\"\",VLOOKUP($A18,Competitors!$A$2:$G$60,5,FALSE)))","v":""},{"$f":"IF($A18=\"\",\"\",IF(VLOOKUP($A18,Competitors!$A$2:$G$60,6,FALSE)=\"\",\"\",VLOOKUP($A18,Competitors!$A$2:$G$60,6,FALSE)))","v":"senior"},{"$f":"IF($A18=\"\",\"\",IF(VLOOKUP($A18,Competitors!$A$2:$G$60,3,FALSE)=\"\",\"\",VLOOKUP($A18,Competitors!$A$2:$G$60,3,FALSE)))","v":""},{"$f":"IF($A18=\"\",\"\",IF(VLOOKUP($A18,Competitors!$A$2:$G$60,4,FALSE)=\"\",\"\",VLOOKUP($A18,Competitors!$A$2:$G$60,4,FALSE)))","v":""},{"$f":"IF(VLOOKUP(A18,Competitors!$A$1:$H$41,8,FALSE)=\"\",\"\",VLOOKUP(A18,Competitors!$A$1:$H$41,8,FALSE))","v":""},{"$f":"IF(IFERROR(VLOOKUP(($B$2&\"_\"&$A18),'Time Entry Sheet'!$A$3:$I$499,9,0),\"Error\")=\"Error\",\"\",IF(VLOOKUP(($B$2&\"_\"&$A18),'Time Entry Sheet'!$A$3:$I$499,9,FALSE)=\"wd\",\"wd\",VLOOKUP(($B$2&\"_\"&$A18),'Time Entry Sheet'!$A$3:$I$499,9,FALSE)*1))","v":""},"",{"$f":"IF(IFERROR(VLOOKUP(($B$2&\"_\"&$A18),'Time Entry Sheet'!$A$3:$I$499,8,FALSE),\"Error\")=\"Error\",\"\",IF(VLOOKUP(($B$2&\"_\"&$A18),'Time Entry Sheet'!$A$3:$I$499,8,FALSE)=\"\",\"\",VLOOKUP(($B$2&\"_\"&$A18),'Time Entry Sheet'!$A$3:$I$499,8,FALSE)))","v":""},{"$f":"IF(IFERROR(VLOOKUP(($B$2&\"_\"&$A18),'Time Entry Sheet'!$A$3:$I$499,7,FALSE),\"Error\")=\"Error\",\"\",IF(VLOOKUP(($B$2&\"_\"&$A18),'Time Entry Sheet'!$A$3:$I$499,7,FALSE)=\"\",\"\",VLOOKUP(($B$2&\"_\"&$A18),'Time Entry Sheet'!$A$3:$I$499,7,FALSE)))","v":""},"00:00:55.750","00:00:55.750",20,{"$f":"IF(A18=\"\",\"\",M18+VLOOKUP(A18,'Test 6'!$A$12:$Q$51,16,FALSE))","v":"00:08:35.160"},20,null,"","00:08:35.160"]
[8,{"$f":"IF($A19=\"\",\"\",IF(VLOOKUP($A19,Competitors!$A$2:$G$60,2,FALSE)=\"\",\"\",VLOOKUP($A19,Competitors!$A$2:$G$60,2,FALSE)))","v":"Jim Taylor"},{"$f":"IF($A19=\"\",\"\",IF(VLOOKUP($A19,Competitors!$A$2:$G$60,7,FALSE)=\"\",\"\",VLOOKUP($A19,Competitors!$A$2:$G$60,7,FALSE)))","v":""},{"$f":"IF($A19=\"\",\"\",IF(VLOOKUP($A19,Competitors!$A$2:$G$60,5,FALSE)=\"\",\"\",VLOOKUP($A19,Competitors!$A$2:$G$60,5,FALSE)))","v":""},{"$f":"IF($A19=\"\",\"\",IF(VLOOKUP($A19,Competitors!$A$2:$G$60,6,FALSE)=\"\",\"\",VLOOKUP($A19,Competitors!$A$2:$G$60,6,FALSE)))","v":"senior"},{"$f":"IF($A19=\"\",\"\",IF(VLOOKUP($A19,Competitors!$A$2:$G$60,3,FALSE)=\"\",\"\",VLOOKUP($A19,Competitors!$A$2:$G$60,3,FALSE)))","v":""},{"$f":"IF($A19=\"\",\"\",IF(VLOOKUP($A19,Competitors!$A$2:$G$60,4,FALSE)=\"\",\"\",VLOOKUP($A19,Competitors!$A$2:$G$60,4,FALSE)))","v":""},{"$f":"IF(VLOOKUP(A19,Competitors!$A$1:$H$41,8,FALSE)=\"\",\"\",VLOOKUP(A19,Competitors!$A$1:$H$41,8,FALSE))","v":""},{"$f":"IF(IFERROR(VLOOKUP(($B$2&\"_\"&$A19),'Time Entry Sheet'!$A$3:$I$499,9,0),\"Error\")=\"Error\",\"\",IF(VLOOKUP(($B$2&\"_\"&$A19),'Time Entry Sheet'!$A$3:$I$499,9,FALSE)=\"wd\",\"wd\",VLOOKUP(($B$2&\"_\"&$A19),'Time Entry Sheet'!$A$3:$I$499,9,FALSE)*1))","v":"00:00:39.600"},"00:00:39.600",{"$f":"IF(IFERROR(VLOOKUP(($B$2&\"_\"&$A19),'Time Entry Sheet'!$A$3:$I$499,8,FALSE),\"Error\")=\"Error\",\"\",IF(VLOOKUP(($B$2&\"_\"&$A19),'Time Entry Sheet'!$A$3:$I$499,8,FALSE)=\"\",\"\",VLOOKUP(($B$2&\"_\"&$A19),'Time Entry Sheet'!$A$3:$I$499,8,FALSE)))","v":""},{"$f":"IF(IFERROR(VLOOKUP(($B$2&\"_\"&$A19),'Time Entry Sheet'!$A$3:$I$499,7,FALSE),\"Error\")=\"Error\",\"\",IF(VLOOKUP(($B$2&\"_\"&$A19),'Time Entry Sheet'!$A$3:$I$499,7,FALSE)=\"\",\"\",VLOOKUP(($B$2&\"_\"&$A19),'Time Entry Sheet'!$A$3:$I$499,7,FALSE)))","v":""},"00:00:39.600","00:00:39.600",12,{"$f":"IF(A19=\"\",\"\",M19+VLOOKUP(A19,'Test 6'!$A$12:$Q$51,16,FALSE))","v":"00:06:20.680"},10,null,"","00:06:20.680"]
[9,{"$f":"IF($A20=\"\",\"\",IF(VLOOKUP($A20,Competitors!$A$2:$G$60,2,FALSE)=\"\",\"\",VLOOKUP($A20,Competitors!$A$2:$G$60,2,FALSE)))","v":"Brad Firman"},{"$f":"IF($A20=\"\",\"\",IF(VLOOKUP($A20,Competitors!$A$2:$G$60,7,FALSE)=\"\",\"\",VLOOKUP($A20,Competitors!$A$2:$G$60,7,FALSE)))","v":""},{"$f":"IF($A20=\"\",\"\",IF(VLOOKUP($A20,Competitors!$A$2:$G$60,5,FALSE)=\"\",\"\",VLOOKUP($A20,Competitors!$A$2:$G$60,5,FALSE)))","v":""},{"$f":"IF($A20=\"\",\"\",IF(VLOOKUP($A20,Competitors!$A$2:$G$60,6,FALSE)=\"\",\"\",VLOOKUP($A20,Competitors!$A$2:$G$60,6,FALSE)))","v":"senior"},{"$f":"IF($A20=\"\",\"\",IF(VLOOKUP($A20,Competitors!$A$2:$G$60,3,FALSE)=\"\",\"\",VLOOKUP($A20,Competitors!$A$2:$G$60,3,FALSE)))","v":""},{"$f":"IF($A20=\"\",\"\",IF(VLOOKUP($A20,Competitors!$A$2:$G$60,4,FALSE)=\"\",\"\",VLOOKUP($A20,Competitors!$A$2:$G$60,4,FALSE)))","v":""},{"$f":"IF(VLOOKUP(A20,Competitors!$A$1:$H$41,8,FALSE)=\"\",\"\",VLOOKUP(A20,Competitors!$A$1:$H$41,8,FALSE))","v":""},{"$f":"IF(IFERROR(VLOOKUP(($B$2&\"_\"&$A20),'Time Entry Sheet'!$A$3:$I$499,9,0),\"Error\")=\"Error\",\"\",IF(VLOOKUP(($B$2&\"_\"&$A20),'Time Entry Sheet'!$A$3:$I$499,9,FALSE)=\"wd\",\"wd\",VLOOKUP(($B$2&\"_\"&$A20),'Time Entry Sheet'!$A$3:$I$499,9,FALSE)*1))","v":"00:00:37.410"},"00:00:37.410",{"$f":"IF(IFERROR(VLOOKUP(($B$2&\"_\"&$A20),'Time Entry Sheet'!$A$3:$I$499,8,FALSE),\"Error\")=\"Error\",\"\",IF(VLOOKUP(($B$2&\"_\"&$A20),'Time Entry Sheet'!$A$3:$I$499,8,FALSE)=\"\",\"\",VLOOKUP(($B$2&\"_\"&$A20),'Time Entry Sheet'!$A$3:$I$499,8,FALSE)))","v":""},{"$f":"IF(IFERROR(VLOOKUP(($B$2&\"_\"&$A20),'Time Entry Sheet'!$A$3:$I$499,7,FALSE),\"Error\")=\"Error\",\"\",IF(VLOOKUP(($B$2&\"_\"&$A20),'Time Entry Sheet'!$A$3:$I$499,7,FALSE)=\"\",\"\",VLOOKUP(($B$2&\"_\"&$A20),'Time Entry Sheet'!$A$3:$I$499,7,FALSE)))","v":""},"00:00:37.410","00:00:37.410",6,{"$f":"IF(A20=\"\",\"\",M20+VLOOKUP(A20,'Test 6'!$A$12:$Q$51,16,FALSE))","v":"00:05:41.210"},3,null,"","00:05:41.210"]
[10,{"$f":"IF($A21=\"\",\"\",IF(VLOOKUP($A21,Competitors!$A$2:$G$60,2,FALSE)=\"\",\"\",VLOOKUP($A21,Competitors!$A$2:$G$60,2,FALSE)))","v":"Scott Taylor"},{"$f":"IF($A21=\"\",\"\",IF(VLOOKUP($A21,Competitors!$A$2:$G$60,7,FALSE)=\"\",\"\",VLOOKUP($A21,Competitors!$A$2:$G$60,7,FALSE)))","v":""},{"$f":"IF($A21=\"\",\"\",IF(VLOOKUP($A21,Competitors!$A$2:$G$60,5,FALSE)=\"\",\"\",VLOOKUP($A21,Competitors!$A$2:$G$60,5,FALSE)))","v":""},{"$f":"IF($A21=\"\",\"\",IF(VLOOKUP($A21,Competitors!$A$2:$G$60,6,FALSE)=\"\",\"\",VLOOKUP($A21,Competitors!$A$2:$G$60,6,FALSE)))","v":"senior"},{"$f":"IF($A21=\"\",\"\",IF(VLOOKUP($A21,Competitors!$A$2:$G$60,3,FALSE)=\"\",\"\",VLOOKUP($A21,Competitors!$A$2:$G$60,3,FALSE)))","v":""},{"$f":"IF($A21=\"\",\"\",IF(VLOOKUP($A21,Competitors!$A$2:$G$60,4,FALSE)=\"\",\"\",VLOOKUP($A21,Competitors!$A$2:$G$60,4,FALSE)))","v":""},{"$f":"IF(VLOOKUP(A21,Competitors!$A$1:$H$41,8,FALSE)=\"\",\"\",VLOOKUP(A21,Competitors!$A$1:$H$41,8,FALSE))","v":""},{"$f":"IF(IFERROR(VLOOKUP(($B$2&\"_\"&$A21),'Time Entry Sheet'!$A$3:$I$499,9,0),\"Error\")=\"Error\",\"\",IF(VLOOKUP(($B$2&\"_\"&$A21),'Time Entry Sheet'!$A$3:$I$499,9,FALSE)=\"wd\",\"wd\",VLOOKUP(($B$2&\"_\"&$A21),'Time Entry Sheet'!$A$3:$I$499,9,FALSE)*1))","v":"00:00:45.750"},"00:00:45.750",{"$f":"IF(IFERROR(VLOOKUP(($B$2&\"_\"&$A21),'Time Entry Sheet'!$A$3:$I$499,8,FALSE),\"Error\")=\"Error\",\"\",IF(VLOOKUP(($B$2&\"_\"&$A21),'Time Entry Sheet'!$A$3:$I$499,8,FALSE)=\"\",\"\",VLOOKUP(($B$2&\"_\"&$A21),'Time Entry Sheet'!$A$3:$I$499,8,FALSE)))","v":""},{"$f":"IF(IFERROR(VLOOKUP(($B$2&\"_\"&$A21),'Time Entry Sheet'!$A$3:$I$499,7,FALSE),\"Error\")=\"Error\",\"\",IF(VLOOKUP(($B$2&\"_\"&$A21),'Time Entry Sheet'!$A$3:$I$499,7,FALSE)=\"\",\"\",VLOOKUP(($B$2&\"_\"&$A21),'Time Entry Sheet'!$A$3:$I$499,7,FALSE)))","v":""},"00:00:45.750","00:00:45.750",18,{"$f":"IF(A21=\"\",\"\",M21+VLOOKUP(A21,'Test 6'!$A$12:$Q$51,16,FALSE))","v":"00:06:33"},15,null,"","00:06:33"]
[11,{"$f":"IF($A22=\"\",\"\",IF(VLOOKUP($A22,Competitors!$A$2:$G$60,2,FALSE)=\"\",\"\",VLOOKUP($A22,Competitors!$A$2:$G$60,2,FALSE)))","v":"Russel McKinley"},{"$f":"IF($A22=\"\",\"\",IF(VLOOKUP($A22,Competitors!$A$2:$G$60,7,FALSE)=\"\",\"\",VLOOKUP($A22,Competitors!$A$2:$G$60,7,FALSE)))","v":""},{"$f":"IF($A22=\"\",\"\",IF(VLOOKUP($A22,Competitors!$A$2:$G$60,5,FALSE)=\"\",\"\",VLOOKUP($A22,Competitors!$A$2:$G$60,5,FALSE)))","v":""},{"$f":"IF($A22=\"\",\"\",IF(VLOOKUP($A22,Competitors!$A$2:$G$60,6,FALSE)=\"\",\"\",VLOOKUP($A22,Competitors!$A$2:$G$60,6,FALSE)))","v":"senior"},{"$f":"IF($A22=\"\",\"\",IF(VLOOKUP($A22,Competitors!$A$2:$G$60,3,FALSE)=\"\",\"\",VLOOKUP($A22,Competitors!$A$2:$G$60,3,FALSE)))","v":""},{"$f":"IF($A22=\"\",\"\",IF(VLOOKUP($A22,Competitors!$A$2:$G$60,4,FALSE)=\"\",\"\",VLOOKUP($A22,Competitors!$A$2:$G$60,4,FALSE)))","v":""},{"$f":"IF(VLOOKUP(A22,Competitors!$A$1:$H$41,8,FALSE)=\"\",\"\",VLOOKUP(A22,Competitors!$A$1:$H$41,8,FALSE))","v":""},{"$f":"IF(IFERROR(VLOOKUP(($B$2&\"_\"&$A22),'Time Entry Sheet'!$A$3:$I$499,9,0),\"Error\")=\"Error\",\"\",IF(VLOOKUP(($B$2&\"_\"&$A22),'Time Entry Sheet'!$A$3:$I$499,9,FALSE)=\"wd\",\"wd\",VLOOKUP(($B$2&\"_\"&$A22),'Time Entry Sheet'!$A$3:$I$499,9,FALSE)*1))","v":"00:00:39.560"},"00:00:39.560",{"$f":"IF(IFERROR(VLOOKUP(($B$2&\"_\"&$A22),'Time Entry Sheet'!$A$3:$I$499,8,FALSE),\"Error\")=\"Error\",\"\",IF(VLOOKUP(($B$2&\"_\"&$A22),'Time Entry Sheet'!$A$3:$I$499,8,FALSE)=\"\",\"\",VLOOKUP(($B$2&\"_\"&$A22),'Time Entry Sheet'!$A$3:$I$499,8,FALSE)))","v":""},{"$f":"IF(IFERROR(VLOOKUP(($B$2&\"_\"&$A22),'Time Entry Sheet'!$A$3:$I$499,7,FALSE),\"Error\")=\"Error\",\"\",IF(VLOOKUP(($B$2&\"_\"&$A22),'Time Entry Sheet'!$A$3:$I$499,7,FALSE)=\"\",\"\",VLOOKUP(($B$2&\"_\"&$A22),'Time Entry Sheet'!$A$3:$I$499,7,FALSE)))","v":""},"00:00:39.560","00:00:39.560",11,{"$f":"IF(A22=\"\",\"\",M22+VLOOKUP(A22,'Test 6'!$A$12:$Q$51,16,FALSE))","v":"00:06:29.540"},13,null,"","00:06:29.540"]
[12,{"$f":"IF($A23=\"\",\"\",IF(VLOOKUP($A23,Competitors!$A$2:$G$60,2,FALSE)=\"\",\"\",VLOOKUP($A23,Competitors!$A$2:$G$60,2,FALSE)))","v":"Mat Boorman"},{"$f":"IF($A23=\"\",\"\",IF(VLOOKUP($A23,Competitors!$A$2:$G$60,7,FALSE)=\"\",\"\",VLOOKUP($A23,Competitors!$A$2:$G$60,7,FALSE)))","v":""},{"$f":"IF($A23=\"\",\"\",IF(VLOOKUP($A23,Competitors!$A$2:$G$60,5,FALSE)=\"\",\"\",VLOOKUP($A23,Competitors!$A$2:$G$60,5,FALSE)))","v":""},{"$f":"IF($A23=\"\",\"\",IF(VLOOKUP($A23,Competitors!$A$2:$G$60,6,FALSE)=\"\",\"\",VLOOKUP($A23,Competitors!$A$2:$G$60,6,FALSE)))","v":"senior"},{"$f":"IF($A23=\"\",\"\",IF(VLOOKUP($A23,Competitors!$A$2:$G$60,3,FALSE)=\"\",\"\",VLOOKUP($A23,Competitors!$A$2:$G$60,3,FALSE)))","v":""},{"$f":"IF($A23=\"\",\"\",IF(VLOOKUP($A23,Competitors!$A$2:$G$60,4,FALSE)=\"\",\"\",VLOOKUP($A23,Competitors!$A$2:$G$60,4,FALSE)))","v":""},{"$f":"IF(VLOOKUP(A23,Competitors!$A$1:$H$41,8,FALSE)=\"\",\"\",VLOOKUP(A23,Competitors!$A$1:$H$41,8,FALSE))","v":""},{"$f":"IF(IFERROR(VLOOKUP(($B$2&\"_\"&$A23),'Time Entry Sheet'!$A$3:$I$499,9,0),\"Error\")=\"Error\",\"\",IF(VLOOKUP(($B$2&\"_\"&$A23),'Time Entry Sheet'!$A$3:$I$499,9,FALSE)=\"wd\",\"wd\",VLOOKUP(($B$2&\"_\"&$A23),'Time Entry Sheet'!$A$3:$I$499,9,FALSE)*1))","v":"00:00:41.910"},"00:00:41.910",{"$f":"IF(IFERROR(VLOOKUP(($B$2&\"_\"&$A23),'Time Entry Sheet'!$A$3:$I$499,8,FALSE),\"Error\")=\"Error\",\"\",IF(VLOOKUP(($B$2&\"_\"&$A23),'Time Entry Sheet'!$A$3:$I$499,8,FALSE)=\"\",\"\",VLOOKUP(($B$2&\"_\"&$A23),'Time Entry Sheet'!$A$3:$I$499,8,FALSE)))","v":""},{"$f":"IF(IFERROR(VLOOKUP(($B$2&\"_\"&$A23),'Time Entry Sheet'!$A$3:$I$499,7,FALSE),\"Error\")=\"Error\",\"\",IF(VLOOKUP(($B$2&\"_\"&$A23),'Time Entry Sheet'!$A$3:$I$499,7,FALSE)=\"\",\"\",VLOOKUP(($B$2&\"_\"&$A23),'Time Entry Sheet'!$A$3:$I$499,7,FALSE)))","v":""},"00:00:41.910","00:00:41.910",16,{"$f":"IF(A23=\"\",\"\",M23+VLOOKUP(A23,'Test 6'!$A$12:$Q$51,16,FALSE))","v":"00:06:20.740"},11,null,"","00:06:20.740"]
[13,{"$f":"IF($A24=\"\",\"\",IF(VLOOKUP($A24,Competitors!$A$2:$G$60,2,FALSE)=\"\",\"\",VLOOKUP($A24,Competitors!$A$2:$G$60,2,FALSE)))","v":"Aaron Wishart"},{"$f":"IF($A24=\"\",\"\",IF(VLOOKUP($A24,Competitors!$A$2:$G$60,7,FALSE)=\"\",\"\",VLOOKUP($A24,Competitors!$A$2:$G$60,7,FALSE)))","v":""},{"$f":"IF($A24=\"\",\"\",IF(VLOOKUP($A24,Competitors!$A$2:$G$60,5,FALSE)=\"\",\"\",VLOOKUP($A24,Competitors!$A$2:$G$60,5,FALSE)))","v":""},{"$f":"IF($A24=\"\",\"\",IF(VLOOKUP($A24,Competitors!$A$2:$G$60,6,FALSE)=\"\",\"\",VLOOKUP($A24,Competitors!$A$2:$G$60,6,FALSE)))","v":"senior"},{"$f":"IF($A24=\"\",\"\",IF(VLOOKUP($A24,Competitors!$A$2:$G$60,3,FALSE)=\"\",\"\",VLOOKUP($A24,Competitors!$A$2:$G$60,3,FALSE)))","v":""},{"$f":"IF($A24=\"\",\"\",IF(VLOOKUP($A24,Competitors!$A$2:$G$60,4,FALSE)=\"\",\"\",VLOOKUP($A24,Competitors!$A$2:$G$60,4,FALSE)))","v":""},{"$f":"IF(VLOOKUP(A24,Competitors!$A$1:$H$41,8,FALSE)=\"\",\"\",VLOOKUP(A24,Competitors!$A$1:$H$41,8,FALSE))","v":""},{"$f":"IF(IFERROR(VLOOKUP(($B$2&\"_\"&$A24),'Time Entry Sheet'!$A$3:$I$499,9,0),\"Error\")=\"Error\",\"\",IF(VLOOKUP(($B$2&\"_\"&$A24),'Time Entry Sheet'!$A$3:$I$499,9,FALSE)=\"wd\",\"wd\",VLOOKUP(($B$2&\"_\"&$A24),'Time Entry Sheet'!$A$3:$I$499,9,FALSE)*1))","v":"00:00:42.260"},"00:00:42.260",{"$f":"IF(IFERROR(VLOOKUP(($B$2&\"_\"&$A24),'Time Entry Sheet'!$A$3:$I$499,8,FALSE),\"Error\")=\"Error\",\"\",IF(VLOOKUP(($B$2&\"_\"&$A24),'Time Entry Sheet'!$A$3:$I$499,8,FALSE)=\"\",\"\",VLOOKUP(($B$2&\"_\"&$A24),'Time Entry Sheet'!$A$3:$I$499,8,FALSE)))","v":""},{"$f":"IF(IFERROR(VLOOKUP(($B$2&\"_\"&$A24),'Time Entry Sheet'!$A$3:$I$499,7,FALSE),\"Error\")=\"Error\",\"\",IF(VLOOKUP(($B$2&\"_\"&$A24),'Time Entry Sheet'!$A$3:$I$499,7,FALSE)=\"\",\"\",VLOOKUP(($B$2&\"_\"&$A24),'Time Entry Sheet'!$A$3:$I$499,7,FALSE)))","v":""},"00:00:42.260","00:00:42.260",17,{"$f":"IF(A24=\"\",\"\",M24+VLOOKUP(A24,'Test 6'!$A$12:$Q$51,16,FALSE))","v":"00:07:04.470"},18,null,"","00:07:04.470"]
[14,{"$f":"IF($A25=\"\",\"\",IF(VLOOKUP($A25,Competitors!$A$2:$G$60,2,FALSE)=\"\",\"\",VLOOKUP($A25,Competitors!$A$2:$G$60,2,FALSE)))","v":"Bob Fulthorpe"},{"$f":"IF($A25=\"\",\"\",IF(VLOOKUP($A25,Competitors!$A$2:$G$60,7,FALSE)=\"\",\"\",VLOOKUP($A25,Competitors!$A$2:$G$60,7,FALSE)))","v":""},{"$f":"IF($A25=\"\",\"\",IF(VLOOKUP($A25,Competitors!$A$2:$G$60,5,FALSE)=\"\",\"\",VLOOKUP($A25,Competitors!$A$2:$G$60,5,FALSE)))","v":""},{"$f":"IF($A25=\"\",\"\",IF(VLOOKUP($A25,Competitors!$A$2:$G$60,6,FALSE)=\"\",\"\",VLOOKUP($A25,Competitors!$A$2:$G$60,6,FALSE)))","v":"senior"},{"$f":"IF($A25=\"\",\"\",IF(VLOOKUP($A25,Competitors!$A$2:$G$60,3,FALSE)=\"\",\"\",VLOOKUP($A25,Competitors!$A$2:$G$60,3,FALSE)))","v":""},{"$f":"IF($A25=\"\",\"\",IF(VLOOKUP($A25,Competitors!$A$2:$G$60,4,FALSE)=\"\",\"\",VLOOKUP($A25,Competitors!$A$2:$G$60,4,FALSE)))","v":""},{"$f":"IF(VLOOKUP(A25,Competitors!$A$1:$H$41,8,FALSE)=\"\",\"\",VLOOKUP(A25,Competitors!$A$1:$H$41,8,FALSE))","v":""},{"$f":"IF(IFERROR(VLOOKUP(($B$2&\"_\"&$A25),'Time Entry Sheet'!$A$3:$I$499,9,0),\"Error\")=\"Error\",\"\",IF(VLOOKUP(($B$2&\"_\"&$A25),'Time Entry Sheet'!$A$3:$I$499,9,FALSE)=\"wd\",\"wd\",VLOOKUP(($B$2&\"_\"&$A25),'Time Entry Sheet'!$A$3:$I$499,9,FALSE)*1))","v":"00:00:35.940"},"00:00:35.940",{"$f":"IF(IFERROR(VLOOKUP(($B$2&\"_\"&$A25),'Time Entry Sheet'!$A$3:$I$499,8,FALSE),\"Error\")=\"Error\",\"\",IF(VLOOKUP(($B$2&\"_\"&$A25),'Time Entry Sheet'!$A$3:$I$499,8,FALSE)=\"\",\"\",VLOOKUP(($B$2&\"_\"&$A25),'Time Entry Sheet'!$A$3:$I$499,8,FALSE)))","v":""},{"$f":"IF(IFERROR(VLOOKUP(($B$2&\"_\"&$A25),'Time Entry Sheet'!$A$3:$I$499,7,FALSE),\"Error\")=\"Error\",\"\",IF(VLOOKUP(($B$2&\"_\"&$A25),'Time Entry Sheet'!$A$3:$I$499,7,FALSE)=\"\",\"\",VLOOKUP(($B$2&\"_\"&$A25),'Time Entry Sheet'!$A$3:$I$499,7,FALSE)))","v":""},"00:00:35.940","00:00:35.940",3,{"$f":"IF(A25=\"\",\"\",M25+VLOOKUP(A25,'Test 6'!$A$12:$Q$51,16,FALSE))","v":"00:05:48.810"},4,null,"","00:05:48.810"]
[15,{"$f":"IF($A26=\"\",\"\",IF(VLOOKUP($A26,Competitors!$A$2:$G$60,2,FALSE)=\"\",\"\",VLOOKUP($A26,Competitors!$A$2:$G$60,2,FALSE)))","v":"Khi Fulthorpe"},{"$f":"IF($A26=\"\",\"\",IF(VLOOKUP($A26,Competitors!$A$2:$G$60,7,FALSE)=\"\",\"\",VLOOKUP($A26,Competitors!$A$2:$G$60,7,FALSE)))","v":""},{"$f":"IF($A26=\"\",\"\",IF(VLOOKUP($A26,Competitors!$A$2:$G$60,5,FALSE)=\"\",\"\",VLOOKUP($A26,Competitors!$A$2:$G$60,5,FALSE)))","v":""},{"$f":"IF($A26=\"\",\"\",IF(VLOOKUP($A26,Competitors!$A$2:$G$60,6,FALSE)=\"\",\"\",VLOOKUP($A26,Competitors!$A$2:$G$60,6,FALSE)))","v":"senior"},{"$f":"IF($A26=\"\",\"\",IF(VLOOKUP($A26,Competitors!$A$2:$G$60,3,FALSE)=\"\",\"\",VLOOKUP($A26,Competitors!$A$2:$G$60,3,FALSE)))","v":""},{"$f":"IF($A26=\"\",\"\",IF(VLOOKUP($A26,Competitors!$A$2:$G$60,4,FALSE)=\"\",\"\",VLOOKUP($A26,Competitors!$A$2:$G$60,4,FALSE)))","v":""},{"$f":"IF(VLOOKUP(A26,Competitors!$A$1:$H$41,8,FALSE)=\"\",\"\",VLOOKUP(A26,Competitors!$A$1:$H$41,8,FALSE))","v":""},{"$f":"IF(IFERROR(VLOOKUP(($B$2&\"_\"&$A26),'Time Entry Sheet'!$A$3:$I$499,9,0),\"Error\")=\"Error\",\"\",IF(VLOOKUP(($B$2&\"_\"&$A26),'Time Entry Sheet'!$A$3:$I$499,9,FALSE)=\"wd\",\"wd\",VLOOKUP(($B$2&\"_\"&$A26),'Time Entry Sheet'!$A$3:$I$499,9,FALSE)*1))","v":"00:00:40.180"},"00:00:40.180",{"$f":"IF(IFERROR(VLOOKUP(($B$2&\"_\"&$A26),'Time Entry Sheet'!$A$3:$I$499,8,FALSE),\"Error\")=\"Error\",\"\",IF(VLOOKUP(($B$2&\"_\"&$A26),'Time Entry Sheet'!$A$3:$I$499,8,FALSE)=\"\",\"\",VLOOKUP(($B$2&\"_\"&$A26),'Time Entry Sheet'!$A$3:$I$499,8,FALSE)))","v":""},{"$f":"IF(IFERROR(VLOOKUP(($B$2&\"_\"&$A26),'Time Entry Sheet'!$A$3:$I$499,7,FALSE),\"Error\")=\"Error\",\"\",IF(VLOOKUP(($B$2&\"_\"&$A26),'Time Entry Sheet'!$A$3:$I$499,7,FALSE)=\"\",\"\",VLOOKUP(($B$2&\"_\"&$A26),'Time Entry Sheet'!$A$3:$I$499,7,FALSE)))","v":""},"00:00:40.180","00:00:40.180",14,{"$f":"IF(A26=\"\",\"\",M26+VLOOKUP(A26,'Test 6'!$A$12:$Q$51,16,FALSE))","v":"00:06:20.880"},12,null,"","00:06:20.880"]
[16,{"$f":"IF($A27=\"\",\"\",IF(VLOOKUP($A27,Competitors!$A$2:$G$60,2,FALSE)=\"\",\"\",VLOOKUP($A27,Competitors!$A$2:$G$60,2,FALSE)))","v":"Nathan Senior"},{"$f":"IF($A27=\"\",\"\",IF(VLOOKUP($A27,Competitors!$A$2:$G$60,7,FALSE)=\"\",\"\",VLOOKUP($A27,Competitors!$A$2:$G$60,7,FALSE)))","v":""},{"$f":"IF($A27=\"\",\"\",IF(VLOOKUP($A27,Competitors!$A$2:$G$60,5,FALSE)=\"\",\"\",VLOOKUP($A27,Competitors!$A$2:$G$60,5,FALSE)))","v":""},{"$f":"IF($A27=\"\",\"\",IF(VLOOKUP($A27,Competitors!$A$2:$G$60,6,FALSE)=\"\",\"\",VLOOKUP($A27,Competitors!$A$2:$G$60,6,FALSE)))","v":"senior"},{"$f":"IF($A27=\"\",\"\",IF(VLOOKUP($A27,Competitors!$A$2:$G$60,3,FALSE)=\"\",\"\",VLOOKUP($A27,Competitors!$A$2:$G$60,3,FALSE)))","v":""},{"$f":"IF($A27=\"\",\"\",IF(VLOOKUP($A27,Competitors!$A$2:$G$60,4,FALSE)=\"\",\"\",VLOOKUP($A27,Competitors!$A$2:$G$60,4,FALSE)))","v":""},{"$f":"IF(VLOOKUP(A27,Competitors!$A$1:$H$41,8,FALSE)=\"\",\"\",VLOOKUP(A27,Competitors!$A$1:$H$41,8,FALSE))","v":""},{"$f":"IF(IFERROR(VLOOKUP(($B$2&\"_\"&$A27),'Time Entry Sheet'!$A$3:$I$499,9,0),\"Error\")=\"Error\",\"\",IF(VLOOKUP(($B$2&\"_\"&$A27),'Time Entry Sheet'!$A$3:$I$499,9,FALSE)=\"wd\",\"wd\",VLOOKUP(($B$2&\"_\"&$A27),'Time Entry Sheet'!$A$3:$I$499,9,FALSE)*1))","v":"00:00:36.790"},"00:00:36.790",{"$f":"IF(IFERROR(VLOOKUP(($B$2&\"_\"&$A27),'Time Entry Sheet'!$A$3:$I$499,8,FALSE),\"Error\")=\"Error\",\"\",IF(VLOOKUP(($B$2&\"_\"&$A27),'Time Entry Sheet'!$A$3:$I$499,8,FALSE)=\"\",\"\",VLOOKUP(($B$2&\"_\"&$A27),'Time Entry Sheet'!$A$3:$I$499,8,FALSE)))","v":""},{"$f":"IF(IFERROR(VLOOKUP(($B$2&\"_\"&$A27),'Time Entry Sheet'!$A$3:$I$499,7,FALSE),\"Error\")=\"Error\",\"\",IF(VLOOKUP(($B$2&\"_\"&$A27),'Time Entry Sheet'!$A$3:$I$499,7,FALSE)=\"\",\"\",VLOOKUP(($B$2&\"_\"&$A27),'Time Entry Sheet'!$A$3:$I$499,7,FALSE)))","v":""},"00:00:36.790","00:00:36.790",5,{"$f":"IF(A27=\"\",\"\",M27+VLOOKUP(A27,'Test 6'!$A$12:$Q$51,16,FALSE))","v":"00:06:02.580"},6,null,"","00:06:02.580"]
[17,{"$f":"IF($A28=\"\",\"\",IF(VLOOKUP($A28,Competitors!$A$2:$G$60,2,FALSE)=\"\",\"\",VLOOKUP($A28,Competitors!$A$2:$G$60,2,FALSE)))","v":"Reece McIntosh"},{"$f":"IF($A28=\"\",\"\",IF(VLOOKUP($A28,Competitors!$A$2:$G$60,7,FALSE)=\"\",\"\",VLOOKUP($A28,Competitors!$A$2:$G$60,7,FALSE)))","v":""},{"$f":"IF($A28=\"\",\"\",IF(VLOOKUP($A28,Competitors!$A$2:$G$60,5,FALSE)=\"\",\"\",VLOOKUP($A28,Competitors!$A$2:$G$60,5,FALSE)))","v":""},{"$f":"IF($A28=\"\",\"\",IF(VLOOKUP($A28,Competitors!$A$2:$G$60,6,FALSE)=\"\",\"\",VLOOKUP($A28,Competitors!$A$2:$G$60,6,FALSE)))","v":"senior"},{"$f":"IF($A28=\"\",\"\",IF(VLOOKUP($A28,Competitors!$A$2:$G$60,3,FALSE)=\"\",\"\",VLOOKUP($A28,Competitors!$A$2:$G$60,3,FALSE)))","v":""},{"$f":"IF($A28=\"\",\"\",IF(VLOOKUP($A28,Competitors!$A$2:$G$60,4,FALSE)=\"\",\"\",VLOOKUP($A28,Competitors!$A$2:$G$60,4,FALSE)))","v":""},{"$f":"IF(VLOOKUP(A28,Competitors!$A$1:$H$41,8,FALSE)=\"\",\"\",VLOOKUP(A28,Competitors!$A$1:$H$41,8,FALSE))","v":""},{"$f":"IF(IFERROR(VLOOKUP(($B$2&\"_\"&$A28),'Time Entry Sheet'!$A$3:$I$499,9,0),\"Error\")=\"Error\",\"\",IF(VLOOKUP(($B$2&\"_\"&$A28),'Time Entry Sheet'!$A$3:$I$499,9,FALSE)=\"wd\",\"wd\",VLOOKUP(($B$2&\"_\"&$A28),'Time Entry Sheet'!$A$3:$I$499,9,FALSE)*1))","v":"00:00:34.310"},"00:00:34.310",{"$f":"IF(IFERROR(VLOOKUP(($B$2&\"_\"&$A28),'Time Entry Sheet'!$A$3:$I$499,8,FALSE),\"Error\")=\"Error\",\"\",IF(VLOOKUP(($B$2&\"_\"&$A28),'Time Entry Sheet'!$A$3:$I$499,8,FALSE)=\"\",\"\",VLOOKUP(($B$2&\"_\"&$A28),'Time Entry Sheet'!$A$3:$I$499,8,FALSE)))","v":""},{"$f":"IF(IFERROR(VLOOKUP(($B$2&\"_\"&$A28),'Time Entry Sheet'!$A$3:$I$499,7,FALSE),\"Error\")=\"Error\",\"\",IF(VLOOKUP(($B$2&\"_\"&$A28),'Time Entry Sheet'!$A$3:$I$499,7,FALSE)=\"\",\"\",VLOOKUP(($B$2&\"_\"&$A28),'Time Entry Sheet'!$A$3:$I$499,7,FALSE)))","v":""},"00:00:34.310","00:00:34.310",1,{"$f":"IF(A28=\"\",\"\",M28+VLOOKUP(A28,'Test 6'!$A$12:$Q$51,16,FALSE))","v":"00:05:22.570"},1,null,"","00:05:22.570"]
[18,{"$f":"IF($A29=\"\",\"\",IF(VLOOKUP($A29,Competitors!$A$2:$G$60,2,FALSE)=\"\",\"\",VLOOKUP($A29,Competitors!$A$2:$G$60,2,FALSE)))","v":"Jack Stanley"},{"$f":"IF($A29=\"\",\"\",IF(VLOOKUP($A29,Competitors!$A$2:$G$60,7,FALSE)=\"\",\"\",VLOOKUP($A29,Competitors!$A$2:$G$60,7,FALSE)))","v":"rookie"},{"$f":"IF($A29=\"\",\"\",IF(VLOOKUP($A29,Competitors!$A$2:$G$60,5,FALSE)=\"\",\"\",VLOOKUP($A29,Competitors!$A$2:$G$60,5,FALSE)))","v":""},{"$f":"IF($A29=\"\",\"\",IF(VLOOKUP($A29,Competitors!$A$2:$G$60,6,FALSE)=\"\",\"\",VLOOKUP($A29,Competitors!$A$2:$G$60,6,FALSE)))","v":"senior"},{"$f":"IF($A29=\"\",\"\",IF(VLOOKUP($A29,Competitors!$A$2:$G$60,3,FALSE)=\"\",\"\",VLOOKUP($A29,Competitors!$A$2:$G$60,3,FALSE)))","v":""},{"$f":"IF($A29=\"\",\"\",IF(VLOOKUP($A29,Competitors!$A$2:$G$60,4,FALSE)=\"\",\"\",VLOOKUP($A29,Competitors!$A$2:$G$60,4,FALSE)))","v":""},{"$f":"IF(VLOOKUP(A29,Competitors!$A$1:$H$41,8,FALSE)=\"\",\"\",VLOOKUP(A29,Competitors!$A$1:$H$41,8,FALSE))","v":""},{"$f":"IF(IFERROR(VLOOKUP(($B$2&\"_\"&$A29),'Time Entry Sheet'!$A$3:$I$499,9,0),\"Error\")=\"Error\",\"\",IF(VLOOKUP(($B$2&\"_\"&$A29),'Time Entry Sheet'!$A$3:$I$499,9,FALSE)=\"wd\",\"wd\",VLOOKUP(($B$2&\"_\"&$A29),'Time Entry Sheet'!$A$3:$I$499,9,FALSE)*1))","v":"00:00:39.680"},{"$f":"IF(E29=\"Junior\",\"\",IF(I29=\"wd\",\"\",IF(K29<>\"\",\"\",I29)))","v":"00:00:39.680"},{"$f":"IF(IFERROR(VLOOKUP(($B$2&\"_\"&$A29),'Time Entry Sheet'!$A$3:$I$499,8,FALSE),\"Error\")=\"Error\",\"\",IF(VLOOKUP(($B$2&\"_\"&$A29),'Time Entry Sheet'!$A$3:$I$499,8,FALSE)=\"\",\"\",VLOOKUP(($B$2&\"_\"&$A29),'Time Entry Sheet'!$A$3:$I$499,8,FALSE)))","v":""},{"$f":"IF(IFERROR(VLOOKUP(($B$2&\"_\"&$A29),'Time Entry Sheet'!$A$3:$I$499,7,FALSE),\"Error\")=\"Error\",\"\",IF(VLOOKUP(($B$2&\"_\"&$A29),'Time Entry Sheet'!$A$3:$I$499,7,FALSE)=\"\",\"\",VLOOKUP(($B$2&\"_\"&$A29),'Time Entry Sheet'!$A$3:$I$499,7,FALSE)))","v":""},{"$f":"IF(A29=\"\",\"\",IF(I29=\"wd\",IF(E29=\"Senior\",$B$7,$C$7),IF(L29<>\"\",$B$7,IF(I29=\"\",IF(E29=\"Senior\",$B$8,$C$8),IF(K29=\"\",I29,I29+($B$5*K29))))))","v":"00:00:39.680"},{"$f":"IF(H29=\"Passenger\",\"\",M29)","v":"00:00:39.680"},{"$f":"IF(A29=\"\",\"\",IF(H29=\"Passenger\",\"P\",RANK(N29,$N$12:$N$51,1)))","v":13},{"$f":"IF(A29=\"\",\"\",M29+VLOOKUP(A29,'Test 6'!$A$12:$Q$51,16,FALSE))","v":"00:06:59.150"},{"$f":"IF(A29=\"\",\"\",IF(H29=\"Passenger\",\"P\",RANK(T29,$T$12:$T$51,1)))","v":17},null,{"$f":"IF(E29=\"Senior\",\"\",IF(I29=\"wd\",\"\",IF(K29<>\"\",\"\",I29)))","v":""},{"$f":"IF(H29=\"Passenger\",\"\",P29)","v":"00:06:59.150"}]
[19,{"$f":"IF($A30=\"\",\"\",IF(VLOOKUP($A30,Competitors!$A$2:$G$60,2,FALSE)=\"\",\"\",VLOOKUP($A30,Competitors!$A$2:$G$60,2,FALSE)))","v":"Christopher Northey"},{"$f":"IF($A30=\"\",\"\",IF(VLOOKUP($A30,Competitors!$A$2:$G$60,7,FALSE)=\"\",\"\",VLOOKUP($A30,Competitors!$A$2:$G$60,7,FALSE)))","v":""},{"$f":"IF($A30=\"\",\"\",IF(VLOOKUP($A30,Competitors!$A$2:$G$60,5,FALSE)=\"\",\"\",VLOOKUP($A30,Competitors!$A$2:$G$60,5,FALSE)))","v":""},{"$f":"IF($A30=\"\",\"\",IF(VLOOKUP($A30,Competitors!$A$2:$G$60,6,FALSE)=\"\",\"\",VLOOKUP($A30,Competitors!$A$2:$G$60,6,FALSE)))","v":"senior"},{"$f":"IF($A30=\"\",\"\",IF(VLOOKUP($A30,Competitors!$A$2:$G$60,3,FALSE)=\"\",\"\",VLOOKUP($A30,Competitors!$A$2:$G$60,3,FALSE)))","v":""},{"$f":"IF($A30=\"\",\"\",IF(VLOOKUP($A30,Competitors!$A$2:$G$60,4,FALSE)=\"\",\"\",VLOOKUP($A30,Competitors!$A$2:$G$60,4,FALSE)))","v":""},{"$f":"IF(VLOOKUP(A30,Competitors!$A$1:$H$41,8,FALSE)=\"\",\"\",VLOOKUP(A30,Competitors!$A$1:$H$41,8,FALSE))","v":""},{"$f":"IF(IFERROR(VLOOKUP(($B$2&\"_\"&$A30),'Time Entry Sheet'!$A$3:$I$499,9,0),\"Error\")=\"Error\",\"\",IF(VLOOKUP(($B$2&\"_\"&$A30),'Time Entry Sheet'!$A$3:$I$499,9,FALSE)=\"wd\",\"wd\",VLOOKUP(($B$2&\"_\"&$A30),'Time Entry Sheet'!$A$3:$I$499,9,FALSE)*1))","v":"wd"},"",{"$f":"IF(IFERROR(VLOOKUP(($B$2&\"_\"&$A30),'Time Entry Sheet'!$A$3:$I$499,8,FALSE),\"Error\")=\"Error\",\"\",IF(VLOOKUP(($B$2&\"_\"&$A30),'Time Entry Sheet'!$A$3:$I$499,8,FALSE)=\"\",\"\",VLOOKUP(($B$2&\"_\"&$A30),'Time Entry Sheet'!$A$3:$I$499,8,FALSE)))","v":""},{"$f":"IF(IFERROR(VLOOKUP(($B$2&\"_\"&$A30),'Time Entry Sheet'!$A$3:$I$499,7,FALSE),\"Error\")=\"Error\",\"\",IF(VLOOKUP(($B$2&\"_\"&$A30),'Time Entry Sheet'!$A$3:$I$499,7,FALSE)=\"\",\"\",VLOOKUP(($B$2&\"_\"&$A30),'Time Entry Sheet'!$A$3:$I$499,7,FALSE)))","v":"Wrong direction, any procedure other than that specified as the correct procedure for completing that course "},"00:00:50.750","00:00:50.750",19,{"$f":"IF(A30=\"\",\"\",M30+VLOOKUP(A30,'Test 6'!$A$12:$Q$51,16,FALSE))","v":"00:06:14.180"},9,null,"","00:06:14.180"]
[20,{"$f":"IF($A31=\"\",\"\",IF(VLOOKUP($A31,Competitors!$A$2:$G$60,2,FALSE)=\"\",\"\",VLOOKUP($A31,Competitors!$A$2:$G$60,2,FALSE)))","v":"Ray Lampl"},{"$f":"IF($A31=\"\",\"\",IF(VLOOKUP($A31,Competitors!$A$2:$G$60,7,FALSE)=\"\",\"\",VLOOKUP($A31,Competitors!$A$2:$G$60,7,FALSE)))","v":""},{"$f":"IF($A31=\"\",\"\",IF(VLOOKUP($A31,Competitors!$A$2:$G$60,5,FALSE)=\"\",\"\",VLOOKUP($A31,Competitors!$A$2:$G$60,5,FALSE)))","v":""},{"$f":"IF($A31=\"\",\"\",IF(VLOOKUP($A31,Competitors!$A$2:$G$60,6,FALSE)=\"\",\"\",VLOOKUP($A31,Competitors!$A$2:$G$60,6,FALSE)))","v":"senior"},{"$f":"IF($A31=\"\",\"\",IF(VLOOKUP($A31,Competitors!$A$2:$G$60,3,FALSE)=\"\",\"\",VLOOKUP($A31,Competitors!$A$2:$G$60,3,FALSE)))","v":""},{"$f":"IF($A31=\"\",\"\",IF(VLOOKUP($A31,Competitors!$A$2:$G$60,4,FALSE)=\"\",\"\",VLOOKUP($A31,Competitors!$A$2:$G$60,4,FALSE)))","v":""},{"$f":"IF(VLOOKUP(A31,Competitors!$A$1:$H$41,8,FALSE)=\"\",\"\",VLOOKUP(A31,Competitors!$A$1:$H$41,8,FALSE))","v":""},{"$f":"IF(IFERROR(VLOOKUP(($B$2&\"_\"&$A31),'Time Entry Sheet'!$A$3:$I$499,9,0),\"Error\")=\"Error\",\"\",IF(VLOOKUP(($B$2&\"_\"&$A31),'Time Entry Sheet'!$A$3:$I$499,9,FALSE)=\"wd\",\"wd\",VLOOKUP(($B$2&\"_\"&$A31),'Time Entry Sheet'!$A$3:$I$499,9,FALSE)*1))","v":"00:00:38.930"},"00:00:38.930",{"$f":"IF(IFERROR(VLOOKUP(($B$2&\"_\"&$A31),'Time Entry Sheet'!$A$3:$I$499,8,FALSE),\"Error\")=\"Error\",\"\",IF(VLOOKUP(($B$2&\"_\"&$A31),'Time Entry Sheet'!$A$3:$I$499,8,FALSE)=\"\",\"\",VLOOKUP(($B$2&\"_\"&$A31),'Time Entry Sheet'!$A$3:$I$499,8,FALSE)))","v":""},{"$f":"IF(IFERROR(VLOOKUP(($B$2&\"_\"&$A31),'Time Entry Sheet'!$A$3:$I$499,7,FALSE),\"Error\")=\"Error\",\"\",IF(VLOOKUP(($B$2&\"_\"&$A31),'Time Entry Sheet'!$A$3:$I$499,7,FALSE)=\"\",\"\",VLOOKUP(($B$2&\"_\"&$A31),'Time Entry Sheet'!$A$3:$I$499,7,FALSE)))","v":""},"00:00:38.930","00:00:38.930",10,{"$f":"IF(A31=\"\",\"\",M31+VLOOKUP(A31,'Test 6'!$A$12:$Q$51,16,FALSE))","v":"00:06:05.790"},7,null,"","00:06:05.790"]
[21,{"$f":"IF($A32=\"\",\"\",IF(VLOOKUP($A32,Competitors!$A$2:$G$60,2,FALSE)=\"\",\"\",VLOOKUP($A32,Competitors!$A$2:$G$60,2,FALSE)))","v":""},{"$f":"IF($A32=\"\",\"\",IF(VLOOKUP($A32,Competitors!$A$2:$G$60,7,FALSE)=\"\",\"\",VLOOKUP($A32,Competitors!$A$2:$G$60,7,FALSE)))","v":""},{"$f":"IF($A32=\"\",\"\",IF(VLOOKUP($A32,Competitors!$A$2:$G$60,5,FALSE)=\"\",\"\",VLOOKUP($A32,Competitors!$A$2:$G$60,5,FALSE)))","v":""},{"$f":"IF($A32=\"\",\"\",IF(VLOOKUP($A32,Competitors!$A$2:$G$60,6,FALSE)=\"\",\"\",VLOOKUP($A32,Competitors!$A$2:$G$60,6,FALSE)))","v":"senior"},{"$f":"IF($A32=\"\",\"\",IF(VLOOKUP($A32,Competitors!$A$2:$G$60,3,FALSE)=\"\",\"\",VLOOKUP($A32,Competitors!$A$2:$G$60,3,FALSE)))","v":""},{"$f":"IF($A32=\"\",\"\",IF(VLOOKUP($A32,Competitors!$A$2:$G$60,4,FALSE)=\"\",\"\",VLOOKUP($A32,Competitors!$A$2:$G$60,4,FALSE)))","v":""},{"$f":"IF(VLOOKUP(A32,Competitors!$A$1:$H$41,8,FALSE)=\"\",\"\",VLOOKUP(A32,Competitors!$A$1:$H$41,8,FALSE))","v":""},{"$f":"IF(IFERROR(VLOOKUP(($B$2&\"_\"&$A32),'Time Entry Sheet'!$A$3:$I$499,9,0),\"Error\")=\"Error\",\"\",IF(VLOOKUP(($B$2&\"_\"&$A32),'Time Entry Sheet'!$A$3:$I$499,9,FALSE)=\"wd\",\"wd\",VLOOKUP(($B$2&\"_\"&$A32),'Time Entry Sheet'!$A$3:$I$499,9,FALSE)*1))","v":""},"",{"$f":"IF(IFERROR(VLOOKUP(($B$2&\"_\"&$A32),'Time Entry Sheet'!$A$3:$I$499,8,FALSE),\"Error\")=\"Error\",\"\",IF(VLOOKUP(($B$2&\"_\"&$A32),'Time Entry Sheet'!$A$3:$I$499,8,FALSE)=\"\",\"\",VLOOKUP(($B$2&\"_\"&$A32),'Time Entry Sheet'!$A$3:$I$499,8,FALSE)))","v":""},{"$f":"IF(IFERROR(VLOOKUP(($B$2&\"_\"&$A32),'Time Entry Sheet'!$A$3:$I$499,7,FALSE),\"Error\")=\"Error\",\"\",IF(VLOOKUP(($B$2&\"_\"&$A32),'Time Entry Sheet'!$A$3:$I$499,7,FALSE)=\"\",\"\",VLOOKUP(($B$2&\"_\"&$A32),'Time Entry Sheet'!$A$3:$I$499,7,FALSE)))","v":""},"00:00:55.750","00:00:55.750",20,{"$f":"IF(A32=\"\",\"\",M32+VLOOKUP(A32,'Test 6'!$A$12:$Q$51,16,FALSE))","v":"00:08:35.160"},20,null,"","00:08:35.160"]
[22,{"$f":"IF($A33=\"\",\"\",IF(VLOOKUP($A33,Competitors!$A$2:$G$60,2,FALSE)=\"\",\"\",VLOOKUP($A33,Competitors!$A$2:$G$60,2,FALSE)))","v":""},{"$f":"IF($A33=\"\",\"\",IF(VLOOKUP($A33,Competitors!$A$2:$G$60,7,FALSE)=\"\",\"\",VLOOKUP($A33,Competitors!$A$2:$G$60,7,FALSE)))","v":""},{"$f":"IF($A33=\"\",\"\",IF(VLOOKUP($A33,Competitors!$A$2:$G$60,5,FALSE)=\"\",\"\",VLOOKUP($A33,Competitors!$A$2:$G$60,5,FALSE)))","v":""},{"$f":"IF($A33=\"\",\"\",IF(VLOOKUP($A33,Competitors!$A$2:$G$60,6,FALSE)=\"\",\"\",VLOOKUP($A33,Competitors!$A$2:$G$60,6,FALSE)))","v":"senior"},{"$f":"IF($A33=\"\",\"\",IF(VLOOKUP($A33,Competitors!$A$2:$G$60,3,FALSE)=\"\",\"\",VLOOKUP($A33,Competitors!$A$2:$G$60,3,FALSE)))","v":""},{"$f":"IF($A33=\"\",\"\",IF(VLOOKUP($A33,Competitors!$A$2:$G$60,4,FALSE)=\"\",\"\",VLOOKUP($A33,Competitors!$A$2:$G$60,4,FALSE)))","v":""},{"$f":"IF(VLOOKUP(A33,Competitors!$A$1:$H$41,8,FALSE)=\"\",\"\",VLOOKUP(A33,Competitors!$A$1:$H$41,8,FALSE))","v":""},{"$f":"IF(IFERROR(VLOOKUP(($B$2&\"_\"&$A33),'Time Entry Sheet'!$A$3:$I$499,9,0),\"Error\")=\"Error\",\"\",IF(VLOOKUP(($B$2&\"_\"&$A33),'Time Entry Sheet'!$A$3:$I$499,9,FALSE)=\"wd\",\"wd\",VLOOKUP(($B$2&\"_\"&$A33),'Time Entry Sheet'!$A$3:$I$499,9,FALSE)*1))","v":""},"",{"$f":"IF(IFERROR(VLOOKUP(($B$2&\"_\"&$A33),'Time Entry Sheet'!$A$3:$I$499,8,FALSE),\"Error\")=\"Error\",\"\",IF(VLOOKUP(($B$2&\"_\"&$A33),'Time Entry Sheet'!$A$3:$I$499,8,FALSE)=\"\",\"\",VLOOKUP(($B$2&\"_\"&$A33),'Time Entry Sheet'!$A$3:$I$499,8,FALSE)))","v":""},{"$f":"IF(IFERROR(VLOOKUP(($B$2&\"_\"&$A33),'Time Entry Sheet'!$A$3:$I$499,7,FALSE),\"Error\")=\"Error\",\"\",IF(VLOOKUP(($B$2&\"_\"&$A33),'Time Entry Sheet'!$A$3:$I$499,7,FALSE)=\"\",\"\",VLOOKUP(($B$2&\"_\"&$A33),'Time Entry Sheet'!$A$3:$I$499,7,FALSE)))","v":""},"00:00:55.750","00:00:55.750",20,{"$f":"IF(A33=\"\",\"\",M33+VLOOKUP(A33,'Test 6'!$A$12:$Q$51,16,FALSE))","v":"00:08:35.160"},20,null,"","00:08:35.160"]
[23,{"$f":"IF($A34=\"\",\"\",IF(VLOOKUP($A34,Competitors!$A$2:$G$60,2,FALSE)=\"\",\"\",VLOOKUP($A34,Competitors!$A$2:$G$60,2,FALSE)))","v":""},{"$f":"IF($A34=\"\",\"\",IF(VLOOKUP($A34,Competitors!$A$2:$G$60,7,FALSE)=\"\",\"\",VLOOKUP($A34,Competitors!$A$2:$G$60,7,FALSE)))","v":""},{"$f":"IF($A34=\"\",\"\",IF(VLOOKUP($A34,Competitors!$A$2:$G$60,5,FALSE)=\"\",\"\",VLOOKUP($A34,Competitors!$A$2:$G$60,5,FALSE)))","v":""},{"$f":"IF($A34=\"\",\"\",IF(VLOOKUP($A34,Competitors!$A$2:$G$60,6,FALSE)=\"\",\"\",VLOOKUP($A34,Competitors!$A$2:$G$60,6,FALSE)))","v":"senior"},{"$f":"IF($A34=\"\",\"\",IF(VLOOKUP($A34,Competitors!$A$2:$G$60,3,FALSE)=\"\",\"\",VLOOKUP($A34,Competitors!$A$2:$G$60,3,FALSE)))","v":""},{"$f":"IF($A34=\"\",\"\",IF(VLOOKUP($A34,Competitors!$A$2:$G$60,4,FALSE)=\"\",\"\",VLOOKUP($A34,Competitors!$A$2:$G$60,4,FALSE)))","v":""},{"$f":"IF(VLOOKUP(A34,Competitors!$A$1:$H$41,8,FALSE)=\"\",\"\",VLOOKUP(A34,Competitors!$A$1:$H$41,8,FALSE))","v":""},{"$f":"IF(IFERROR(VLOOKUP(($B$2&\"_\"&$A34),'Time Entry Sheet'!$A$3:$I$499,9,0),\"Error\")=\"Error\",\"\",IF(VLOOKUP(($B$2&\"_\"&$A34),'Time Entry Sheet'!$A$3:$I$499,9,FALSE)=\"wd\",\"wd\",VLOOKUP(($B$2&\"_\"&$A34),'Time Entry Sheet'!$A$3:$I$499,9,FALSE)*1))","v":""},"",{"$f":"IF(IFERROR(VLOOKUP(($B$2&\"_\"&$A34),'Time Entry Sheet'!$A$3:$I$499,8,FALSE),\"Error\")=\"Error\",\"\",IF(VLOOKUP(($B$2&\"_\"&$A34),'Time Entry Sheet'!$A$3:$I$499,8,FALSE)=\"\",\"\",VLOOKUP(($B$2&\"_\"&$A34),'Time Entry Sheet'!$A$3:$I$499,8,FALSE)))","v":""},{"$f":"IF(IFERROR(VLOOKUP(($B$2&\"_\"&$A34),'Time Entry Sheet'!$A$3:$I$499,7,FALSE),\"Error\")=\"Error\",\"\",IF(VLOOKUP(($B$2&\"_\"&$A34),'Time Entry Sheet'!$A$3:$I$499,7,FALSE)=\"\",\"\",VLOOKUP(($B$2&\"_\"&$A34),'Time Entry Sheet'!$A$3:$I$499,7,FALSE)))","v":""},"00:00:55.750","00:00:55.750",20,{"$f":"IF(A34=\"\",\"\",M34+VLOOKUP(A34,'Test 6'!$A$12:$Q$51,16,FALSE))","v":"00:08:35.160"},20,null,"","00:08:35.160"]
[24,{"$f":"IF($A35=\"\",\"\",IF(VLOOKUP($A35,Competitors!$A$2:$G$60,2,FALSE)=\"\",\"\",VLOOKUP($A35,Competitors!$A$2:$G$60,2,FALSE)))","v":""},{"$f":"IF($A35=\"\",\"\",IF(VLOOKUP($A35,Competitors!$A$2:$G$60,7,FALSE)=\"\",\"\",VLOOKUP($A35,Competitors!$A$2:$G$60,7,FALSE)))","v":""},{"$f":"IF($A35=\"\",\"\",IF(VLOOKUP($A35,Competitors!$A$2:$G$60,5,FALSE)=\"\",\"\",VLOOKUP($A35,Competitors!$A$2:$G$60,5,FALSE)))","v":""},{"$f":"IF($A35=\"\",\"\",IF(VLOOKUP($A35,Competitors!$A$2:$G$60,6,FALSE)=\"\",\"\",VLOOKUP($A35,Competitors!$A$2:$G$60,6,FALSE)))","v":"senior"},{"$f":"IF($A35=\"\",\"\",IF(VLOOKUP($A35,Competitors!$A$2:$G$60,3,FALSE)=\"\",\"\",VLOOKUP($A35,Competitors!$A$2:$G$60,3,FALSE)))","v":""},{"$f":"IF($A35=\"\",\"\",IF(VLOOKUP($A35,Competitors!$A$2:$G$60,4,FALSE)=\"\",\"\",VLOOKUP($A35,Competitors!$A$2:$G$60,4,FALSE)))","v":""},{"$f":"IF(VLOOKUP(A35,Competitors!$A$1:$H$41,8,FALSE)=\"\",\"\",VLOOKUP(A35,Competitors!$A$1:$H$41,8,FALSE))","v":""},{"$f":"IF(IFERROR(VLOOKUP(($B$2&\"_\"&$A35),'Time Entry Sheet'!$A$3:$I$499,9,0),\"Error\")=\"Error\",\"\",IF(VLOOKUP(($B$2&\"_\"&$A35),'Time Entry Sheet'!$A$3:$I$499,9,FALSE)=\"wd\",\"wd\",VLOOKUP(($B$2&\"_\"&$A35),'Time Entry Sheet'!$A$3:$I$499,9,FALSE)*1))","v":""},"",{"$f":"IF(IFERROR(VLOOKUP(($B$2&\"_\"&$A35),'Time Entry Sheet'!$A$3:$I$499,8,FALSE),\"Error\")=\"Error\",\"\",IF(VLOOKUP(($B$2&\"_\"&$A35),'Time Entry Sheet'!$A$3:$I$499,8,FALSE)=\"\",\"\",VLOOKUP(($B$2&\"_\"&$A35),'Time Entry Sheet'!$A$3:$I$499,8,FALSE)))","v":""},{"$f":"IF(IFERROR(VLOOKUP(($B$2&\"_\"&$A35),'Time Entry Sheet'!$A$3:$I$499,7,FALSE),\"Error\")=\"Error\",\"\",IF(VLOOKUP(($B$2&\"_\"&$A35),'Time Entry Sheet'!$A$3:$I$499,7,FALSE)=\"\",\"\",VLOOKUP(($B$2&\"_\"&$A35),'Time Entry Sheet'!$A$3:$I$499,7,FALSE)))","v":""},"00:00:55.750","00:00:55.750",20,{"$f":"IF(A35=\"\",\"\",M35+VLOOKUP(A35,'Test 6'!$A$12:$Q$51,16,FALSE))","v":"00:08:35.160"},20,null,"","00:08:35.160"]
[25,{"$f":"IF($A36=\"\",\"\",IF(VLOOKUP($A36,Competitors!$A$2:$G$60,2,FALSE)=\"\",\"\",VLOOKUP($A36,Competitors!$A$2:$G$60,2,FALSE)))","v":""},{"$f":"IF($A36=\"\",\"\",IF(VLOOKUP($A36,Competitors!$A$2:$G$60,7,FALSE)=\"\",\"\",VLOOKUP($A36,Competitors!$A$2:$G$60,7,FALSE)))","v":""},{"$f":"IF($A36=\"\",\"\",IF(VLOOKUP($A36,Competitors!$A$2:$G$60,5,FALSE)=\"\",\"\",VLOOKUP($A36,Competitors!$A$2:$G$60,5,FALSE)))","v":""},{"$f":"IF($A36=\"\",\"\",IF(VLOOKUP($A36,Competitors!$A$2:$G$60,6,FALSE)=\"\",\"\",VLOOKUP($A36,Competitors!$A$2:$G$60,6,FALSE)))","v":"senior"},{"$f":"IF($A36=\"\",\"\",IF(VLOOKUP($A36,Competitors!$A$2:$G$60,3,FALSE)=\"\",\"\",VLOOKUP($A36,Competitors!$A$2:$G$60,3,FALSE)))","v":""},{"$f":"IF($A36=\"\",\"\",IF(VLOOKUP($A36,Competitors!$A$2:$G$60,4,FALSE)=\"\",\"\",VLOOKUP($A36,Competitors!$A$2:$G$60,4,FALSE)))","v":""},{"$f":"IF(VLOOKUP(A36,Competitors!$A$1:$H$41,8,FALSE)=\"\",\"\",VLOOKUP(A36,Competitors!$A$1:$H$41,8,FALSE))","v":""},{"$f":"IF(IFERROR(VLOOKUP(($B$2&\"_\"&$A36),'Time Entry Sheet'!$A$3:$I$499,9,0),\"Error\")=\"Error\",\"\",IF(VLOOKUP(($B$2&\"_\"&$A36),'Time Entry Sheet'!$A$3:$I$499,9,FALSE)=\"wd\",\"wd\",VLOOKUP(($B$2&\"_\"&$A36),'Time Entry Sheet'!$A$3:$I$499,9,FALSE)*1))","v":""},"",{"$f":"IF(IFERROR(VLOOKUP(($B$2&\"_\"&$A36),'Time Entry Sheet'!$A$3:$I$499,8,FALSE),\"Error\")=\"Error\",\"\",IF(VLOOKUP(($B$2&\"_\"&$A36),'Time Entry Sheet'!$A$3:$I$499,8,FALSE)=\"\",\"\",VLOOKUP(($B$2&\"_\"&$A36),'Time Entry Sheet'!$A$3:$I$499,8,FALSE)))","v":""},{"$f":"IF(IFERROR(VLOOKUP(($B$2&\"_\"&$A36),'Time Entry Sheet'!$A$3:$I$499,7,FALSE),\"Error\")=\"Error\",\"\",IF(VLOOKUP(($B$2&\"_\"&$A36),'Time Entry Sheet'!$A$3:$I$499,7,FALSE)=\"\",\"\",VLOOKUP(($B$2&\"_\"&$A36),'Time Entry Sheet'!$A$3:$I$499,7,FALSE)))","v":""},"00:00:55.750","00:00:55.750",20,{"$f":"IF(A36=\"\",\"\",M36+VLOOKUP(A36,'Test 6'!$A$12:$Q$51,16,FALSE))","v":"00:08:35.160"},20,null,"","00:08:35.160"]
[26,{"$f":"IF($A37=\"\",\"\",IF(VLOOKUP($A37,Competitors!$A$2:$G$60,2,FALSE)=\"\",\"\",VLOOKUP($A37,Competitors!$A$2:$G$60,2,FALSE)))","v":""},{"$f":"IF($A37=\"\",\"\",IF(VLOOKUP($A37,Competitors!$A$2:$G$60,7,FALSE)=\"\",\"\",VLOOKUP($A37,Competitors!$A$2:$G$60,7,FALSE)))","v":""},{"$f":"IF($A37=\"\",\"\",IF(VLOOKUP($A37,Competitors!$A$2:$G$60,5,FALSE)=\"\",\"\",VLOOKUP($A37,Competitors!$A$2:$G$60,5,FALSE)))","v":""},{"$f":"IF($A37=\"\",\"\",IF(VLOOKUP($A37,Competitors!$A$2:$G$60,6,FALSE)=\"\",\"\",VLOOKUP($A37,Competitors!$A$2:$G$60,6,FALSE)))","v":"senior"},{"$f":"IF($A37=\"\",\"\",IF(VLOOKUP($A37,Competitors!$A$2:$G$60,3,FALSE)=\"\",\"\",VLOOKUP($A37,Competitors!$A$2:$G$60,3,FALSE)))","v":""},{"$f":"IF($A37=\"\",\"\",IF(VLOOKUP($A37,Competitors!$A$2:$G$60,4,FALSE)=\"\",\"\",VLOOKUP($A37,Competitors!$A$2:$G$60,4,FALSE)))","v":""},{"$f":"IF(VLOOKUP(A37,Competitors!$A$1:$H$41,8,FALSE)=\"\",\"\",VLOOKUP(A37,Competitors!$A$1:$H$41,8,FALSE))","v":""},{"$f":"IF(IFERROR(VLOOKUP(($B$2&\"_\"&$A37),'Time Entry Sheet'!$A$3:$I$499,9,0),\"Error\")=\"Error\",\"\",IF(VLOOKUP(($B$2&\"_\"&$A37),'Time Entry Sheet'!$A$3:$I$499,9,FALSE)=\"wd\",\"wd\",VLOOKUP(($B$2&\"_\"&$A37),'Time Entry Sheet'!$A$3:$I$499,9,FALSE)*1))","v":""},"",{"$f":"IF(IFERROR(VLOOKUP(($B$2&\"_\"&$A37),'Time Entry Sheet'!$A$3:$I$499,8,FALSE),\"Error\")=\"Error\",\"\",IF(VLOOKUP(($B$2&\"_\"&$A37),'Time Entry Sheet'!$A$3:$I$499,8,FALSE)=\"\",\"\",VLOOKUP(($B$2&\"_\"&$A37),'Time Entry Sheet'!$A$3:$I$499,8,FALSE)))","v":""},{"$f":"IF(IFERROR(VLOOKUP(($B$2&\"_\"&$A37),'Time Entry Sheet'!$A$3:$I$499,7,FALSE),\"Error\")=\"Error\",\"\",IF(VLOOKUP(($B$2&\"_\"&$A37),'Time Entry Sheet'!$A$3:$I$499,7,FALSE)=\"\",\"\",VLOOKUP(($B$2&\"_\"&$A37),'Time Entry Sheet'!$A$3:$I$499,7,FALSE)))","v":""},"00:00:55.750","00:00:55.750",20,{"$f":"IF(A37=\"\",\"\",M37+VLOOKUP(A37,'Test 6'!$A$12:$Q$51,16,FALSE))","v":"00:08:35.160"},20,null,"","00:08:35.160"]
[27,{"$f":"IF($A38=\"\",\"\",IF(VLOOKUP($A38,Competitors!$A$2:$G$60,2,FALSE)=\"\",\"\",VLOOKUP($A38,Competitors!$A$2:$G$60,2,FALSE)))","v":""},{"$f":"IF($A38=\"\",\"\",IF(VLOOKUP($A38,Competitors!$A$2:$G$60,7,FALSE)=\"\",\"\",VLOOKUP($A38,Competitors!$A$2:$G$60,7,FALSE)))","v":""},{"$f":"IF($A38=\"\",\"\",IF(VLOOKUP($A38,Competitors!$A$2:$G$60,5,FALSE)=\"\",\"\",VLOOKUP($A38,Competitors!$A$2:$G$60,5,FALSE)))","v":""},{"$f":"IF($A38=\"\",\"\",IF(VLOOKUP($A38,Competitors!$A$2:$G$60,6,FALSE)=\"\",\"\",VLOOKUP($A38,Competitors!$A$2:$G$60,6,FALSE)))","v":"senior"},{"$f":"IF($A38=\"\",\"\",IF(VLOOKUP($A38,Competitors!$A$2:$G$60,3,FALSE)=\"\",\"\",VLOOKUP($A38,Competitors!$A$2:$G$60,3,FALSE)))","v":""},{"$f":"IF($A38=\"\",\"\",IF(VLOOKUP($A38,Competitors!$A$2:$G$60,4,FALSE)=\"\",\"\",VLOOKUP($A38,Competitors!$A$2:$G$60,4,FALSE)))","v":""},{"$f":"IF(VLOOKUP(A38,Competitors!$A$1:$H$41,8,FALSE)=\"\",\"\",VLOOKUP(A38,Competitors!$A$1:$H$41,8,FALSE))","v":""},{"$f":"IF(IFERROR(VLOOKUP(($B$2&\"_\"&$A38),'Time Entry Sheet'!$A$3:$I$499,9,0),\"Error\")=\"Error\",\"\",IF(VLOOKUP(($B$2&\"_\"&$A38),'Time Entry Sheet'!$A$3:$I$499,9,FALSE)=\"wd\",\"wd\",VLOOKUP(($B$2&\"_\"&$A38),'Time Entry Sheet'!$A$3:$I$499,9,FALSE)*1))","v":""},"",{"$f":"IF(IFERROR(VLOOKUP(($B$2&\"_\"&$A38),'Time Entry Sheet'!$A$3:$I$499,8,FALSE),\"Error\")=\"Error\",\"\",IF(VLOOKUP(($B$2&\"_\"&$A38),'Time Entry Sheet'!$A$3:$I$499,8,FALSE)=\"\",\"\",VLOOKUP(($B$2&\"_\"&$A38),'Time Entry Sheet'!$A$3:$I$499,8,FALSE)))","v":""},{"$f":"IF(IFERROR(VLOOKUP(($B$2&\"_\"&$A38),'Time Entry Sheet'!$A$3:$I$499,7,FALSE),\"Error\")=\"Error\",\"\",IF(VLOOKUP(($B$2&\"_\"&$A38),'Time Entry Sheet'!$A$3:$I$499,7,FALSE)=\"\",\"\",VLOOKUP(($B$2&\"_\"&$A38),'Time Entry Sheet'!$A$3:$I$499,7,FALSE)))","v":""},"00:00:55.750","00:00:55.750",20,{"$f":"IF(A38=\"\",\"\",M38+VLOOKUP(A38,'Test 6'!$A$12:$Q$51,16,FALSE))","v":"00:08:35.160"},20,null,null,"00:08:35.160"]
[28,{"$f":"IF($A39=\"\",\"\",IF(VLOOKUP($A39,Competitors!$A$2:$G$60,2,FALSE)=\"\",\"\",VLOOKUP($A39,Competitors!$A$2:$G$60,2,FALSE)))","v":""},{"$f":"IF($A39=\"\",\"\",IF(VLOOKUP($A39,Competitors!$A$2:$G$60,7,FALSE)=\"\",\"\",VLOOKUP($A39,Competitors!$A$2:$G$60,7,FALSE)))","v":""},{"$f":"IF($A39=\"\",\"\",IF(VLOOKUP($A39,Competitors!$A$2:$G$60,5,FALSE)=\"\",\"\",VLOOKUP($A39,Competitors!$A$2:$G$60,5,FALSE)))","v":""},{"$f":"IF($A39=\"\",\"\",IF(VLOOKUP($A39,Competitors!$A$2:$G$60,6,FALSE)=\"\",\"\",VLOOKUP($A39,Competitors!$A$2:$G$60,6,FALSE)))","v":"senior"},{"$f":"IF($A39=\"\",\"\",IF(VLOOKUP($A39,Competitors!$A$2:$G$60,3,FALSE)=\"\",\"\",VLOOKUP($A39,Competitors!$A$2:$G$60,3,FALSE)))","v":""},{"$f":"IF($A39=\"\",\"\",IF(VLOOKUP($A39,Competitors!$A$2:$G$60,4,FALSE)=\"\",\"\",VLOOKUP($A39,Competitors!$A$2:$G$60,4,FALSE)))","v":""},{"$f":"IF(VLOOKUP(A39,Competitors!$A$1:$H$41,8,FALSE)=\"\",\"\",VLOOKUP(A39,Competitors!$A$1:$H$41,8,FALSE))","v":""},{"$f":"IF(IFERROR(VLOOKUP(($B$2&\"_\"&$A39),'Time Entry Sheet'!$A$3:$I$499,9,0),\"Error\")=\"Error\",\"\",IF(VLOOKUP(($B$2&\"_\"&$A39),'Time Entry Sheet'!$A$3:$I$499,9,FALSE)=\"wd\",\"wd\",VLOOKUP(($B$2&\"_\"&$A39),'Time Entry Sheet'!$A$3:$I$499,9,FALSE)*1))","v":""},"",{"$f":"IF(IFERROR(VLOOKUP(($B$2&\"_\"&$A39),'Time Entry Sheet'!$A$3:$I$499,8,FALSE),\"Error\")=\"Error\",\"\",IF(VLOOKUP(($B$2&\"_\"&$A39),'Time Entry Sheet'!$A$3:$I$499,8,FALSE)=\"\",\"\",VLOOKUP(($B$2&\"_\"&$A39),'Time Entry Sheet'!$A$3:$I$499,8,FALSE)))","v":""},{"$f":"IF(IFERROR(VLOOKUP(($B$2&\"_\"&$A39),'Time Entry Sheet'!$A$3:$I$499,7,FALSE),\"Error\")=\"Error\",\"\",IF(VLOOKUP(($B$2&\"_\"&$A39),'Time Entry Sheet'!$A$3:$I$499,7,FALSE)=\"\",\"\",VLOOKUP(($B$2&\"_\"&$A39),'Time Entry Sheet'!$A$3:$I$499,7,FALSE)))","v":""},"00:00:55.750","00:00:55.750",20,{"$f":"IF(A39=\"\",\"\",M39+VLOOKUP(A39,'Test 6'!$A$12:$Q$51,16,FALSE))","v":"00:08:35.160"},20,null,"","00:08:35.160"]
[29,{"$f":"IF($A40=\"\",\"\",IF(VLOOKUP($A40,Competitors!$A$2:$G$60,2,FALSE)=\"\",\"\",VLOOKUP($A40,Competitors!$A$2:$G$60,2,FALSE)))","v":""},{"$f":"IF($A40=\"\",\"\",IF(VLOOKUP($A40,Competitors!$A$2:$G$60,7,FALSE)=\"\",\"\",VLOOKUP($A40,Competitors!$A$2:$G$60,7,FALSE)))","v":""},{"$f":"IF($A40=\"\",\"\",IF(VLOOKUP($A40,Competitors!$A$2:$G$60,5,FALSE)=\"\",\"\",VLOOKUP($A40,Competitors!$A$2:$G$60,5,FALSE)))","v":""},{"$f":"IF($A40=\"\",\"\",IF(VLOOKUP($A40,Competitors!$A$2:$G$60,6,FALSE)=\"\",\"\",VLOOKUP($A40,Competitors!$A$2:$G$60,6,FALSE)))","v":"senior"},{"$f":"IF($A40=\"\",\"\",IF(VLOOKUP($A40,Competitors!$A$2:$G$60,3,FALSE)=\"\",\"\",VLOOKUP($A40,Competitors!$A$2:$G$60,3,FALSE)))","v":""},{"$f":"IF($A40=\"\",\"\",IF(VLOOKUP($A40,Competitors!$A$2:$G$60,4,FALSE)=\"\",\"\",VLOOKUP($A40,Competitors!$A$2:$G$60,4,FALSE)))","v":""},{"$f":"IF(VLOOKUP(A40,Competitors!$A$1:$H$41,8,FALSE)=\"\",\"\",VLOOKUP(A40,Competitors!$A$1:$H$41,8,FALSE))","v":""},{"$f":"IF(IFERROR(VLOOKUP(($B$2&\"_\"&$A40),'Time Entry Sheet'!$A$3:$I$499,9,0),\"Error\")=\"Error\",\"\",IF(VLOOKUP(($B$2&\"_\"&$A40),'Time Entry Sheet'!$A$3:$I$499,9,FALSE)=\"wd\",\"wd\",VLOOKUP(($B$2&\"_\"&$A40),'Time Entry Sheet'!$A$3:$I$499,9,FALSE)*1))","v":""},"",{"$f":"IF(IFERROR(VLOOKUP(($B$2&\"_\"&$A40),'Time Entry Sheet'!$A$3:$I$499,8,FALSE),\"Error\")=\"Error\",\"\",IF(VLOOKUP(($B$2&\"_\"&$A40),'Time Entry Sheet'!$A$3:$I$499,8,FALSE)=\"\",\"\",VLOOKUP(($B$2&\"_\"&$A40),'Time Entry Sheet'!$A$3:$I$499,8,FALSE)))","v":""},{"$f":"IF(IFERROR(VLOOKUP(($B$2&\"_\"&$A40),'Time Entry Sheet'!$A$3:$I$499,7,FALSE),\"Error\")=\"Error\",\"\",IF(VLOOKUP(($B$2&\"_\"&$A40),'Time Entry Sheet'!$A$3:$I$499,7,FALSE)=\"\",\"\",VLOOKUP(($B$2&\"_\"&$A40),'Time Entry Sheet'!$A$3:$I$499,7,FALSE)))","v":""},"00:00:55.750","00:00:55.750",20,{"$f":"IF(A40=\"\",\"\",M40+VLOOKUP(A40,'Test 6'!$A$12:$Q$51,16,FALSE))","v":"00:08:35.160"},20,null,"","00:08:35.160"]
[30,{"$f":"IF($A41=\"\",\"\",IF(VLOOKUP($A41,Competitors!$A$2:$G$60,2,FALSE)=\"\",\"\",VLOOKUP($A41,Competitors!$A$2:$G$60,2,FALSE)))","v":""},{"$f":"IF($A41=\"\",\"\",IF(VLOOKUP($A41,Competitors!$A$2:$G$60,7,FALSE)=\"\",\"\",VLOOKUP($A41,Competitors!$A$2:$G$60,7,FALSE)))","v":""},{"$f":"IF($A41=\"\",\"\",IF(VLOOKUP($A41,Competitors!$A$2:$G$60,5,FALSE)=\"\",\"\",VLOOKUP($A41,Competitors!$A$2:$G$60,5,FALSE)))","v":""},{"$f":"IF($A41=\"\",\"\",IF(VLOOKUP($A41,Competitors!$A$2:$G$60,6,FALSE)=\"\",\"\",VLOOKUP($A41,Competitors!$A$2:$G$60,6,FALSE)))","v":"senior"},{"$f":"IF($A41=\"\",\"\",IF(VLOOKUP($A41,Competitors!$A$2:$G$60,3,FALSE)=\"\",\"\",VLOOKUP($A41,Competitors!$A$2:$G$60,3,FALSE)))","v":""},{"$f":"IF($A41=\"\",\"\",IF(VLOOKUP($A41,Competitors!$A$2:$G$60,4,FALSE)=\"\",\"\",VLOOKUP($A41,Competitors!$A$2:$G$60,4,FALSE)))","v":""},{"$f":"IF(VLOOKUP(A41,Competitors!$A$1:$H$41,8,FALSE)=\"\",\"\",VLOOKUP(A41,Competitors!$A$1:$H$41,8,FALSE))","v":""},{"$f":"IF(IFERROR(VLOOKUP(($B$2&\"_\"&$A41),'Time Entry Sheet'!$A$3:$I$499,9,0),\"Error\")=\"Error\",\"\",IF(VLOOKUP(($B$2&\"_\"&$A41),'Time Entry Sheet'!$A$3:$I$499,9,FALSE)=\"wd\",\"wd\",VLOOKUP(($B$2&\"_\"&$A41),'Time Entry Sheet'!$A$3:$I$499,9,FALSE)*1))","v":""},"",{"$f":"IF(IFERROR(VLOOKUP(($B$2&\"_\"&$A41),'Time Entry Sheet'!$A$3:$I$499,8,FALSE),\"Error\")=\"Error\",\"\",IF(VLOOKUP(($B$2&\"_\"&$A41),'Time Entry Sheet'!$A$3:$I$499,8,FALSE)=\"\",\"\",VLOOKUP(($B$2&\"_\"&$A41),'Time Entry Sheet'!$A$3:$I$499,8,FALSE)))","v":""},{"$f":"IF(IFERROR(VLOOKUP(($B$2&\"_\"&$A41),'Time Entry Sheet'!$A$3:$I$499,7,FALSE),\"Error\")=\"Error\",\"\",IF(VLOOKUP(($B$2&\"_\"&$A41),'Time Entry Sheet'!$A$3:$I$499,7,FALSE)=\"\",\"\",VLOOKUP(($B$2&\"_\"&$A41),'Time Entry Sheet'!$A$3:$I$499,7,FALSE)))","v":""},"00:00:55.750","00:00:55.750",20,{"$f":"IF(A41=\"\",\"\",M41+VLOOKUP(A41,'Test 6'!$A$12:$Q$51,16,FALSE))","v":"00:08:35.160"},20,null,"","00:08:35.160"]
[31,{"$f":"IF($A42=\"\",\"\",IF(VLOOKUP($A42,Competitors!$A$2:$G$60,2,FALSE)=\"\",\"\",VLOOKUP($A42,Competitors!$A$2:$G$60,2,FALSE)))","v":""},{"$f":"IF($A42=\"\",\"\",IF(VLOOKUP($A42,Competitors!$A$2:$G$60,7,FALSE)=\"\",\"\",VLOOKUP($A42,Competitors!$A$2:$G$60,7,FALSE)))","v":""},{"$f":"IF($A42=\"\",\"\",IF(VLOOKUP($A42,Competitors!$A$2:$G$60,5,FALSE)=\"\",\"\",VLOOKUP($A42,Competitors!$A$2:$G$60,5,FALSE)))","v":""},{"$f":"IF($A42=\"\",\"\",IF(VLOOKUP($A42,Competitors!$A$2:$G$60,6,FALSE)=\"\",\"\",VLOOKUP($A42,Competitors!$A$2:$G$60,6,FALSE)))","v":"senior"},{"$f":"IF($A42=\"\",\"\",IF(VLOOKUP($A42,Competitors!$A$2:$G$60,3,FALSE)=\"\",\"\",VLOOKUP($A42,Competitors!$A$2:$G$60,3,FALSE)))","v":""},{"$f":"IF($A42=\"\",\"\",IF(VLOOKUP($A42,Competitors!$A$2:$G$60,4,FALSE)=\"\",\"\",VLOOKUP($A42,Competitors!$A$2:$G$60,4,FALSE)))","v":""},{"$f":"IF(VLOOKUP(A42,Competitors!$A$1:$H$41,8,FALSE)=\"\",\"\",VLOOKUP(A42,Competitors!$A$1:$H$41,8,FALSE))","v":""},{"$f":"IF(IFERROR(VLOOKUP(($B$2&\"_\"&$A42),'Time Entry Sheet'!$A$3:$I$499,9,0),\"Error\")=\"Error\",\"\",IF(VLOOKUP(($B$2&\"_\"&$A42),'Time Entry Sheet'!$A$3:$I$499,9,FALSE)=\"wd\",\"wd\",VLOOKUP(($B$2&\"_\"&$A42),'Time Entry Sheet'!$A$3:$I$499,9,FALSE)*1))","v":""},"",{"$f":"IF(IFERROR(VLOOKUP(($B$2&\"_\"&$A42),'Time Entry Sheet'!$A$3:$I$499,8,FALSE),\"Error\")=\"Error\",\"\",IF(VLOOKUP(($B$2&\"_\"&$A42),'Time Entry Sheet'!$A$3:$I$499,8,FALSE)=\"\",\"\",VLOOKUP(($B$2&\"_\"&$A42),'Time Entry Sheet'!$A$3:$I$499,8,FALSE)))","v":""},{"$f":"IF(IFERROR(VLOOKUP(($B$2&\"_\"&$A42),'Time Entry Sheet'!$A$3:$I$499,7,FALSE),\"Error\")=\"Error\",\"\",IF(VLOOKUP(($B$2&\"_\"&$A42),'Time Entry Sheet'!$A$3:$I$499,7,FALSE)=\"\",\"\",VLOOKUP(($B$2&\"_\"&$A42),'Time Entry Sheet'!$A$3:$I$499,7,FALSE)))","v":""},"00:00:55.750","00:00:55.750",20,{"$f":"IF(A42=\"\",\"\",M42+VLOOKUP(A42,'Test 6'!$A$12:$Q$51,16,FALSE))","v":"00:08:35.160"},20,null,"","00:08:35.160"]
[32,{"$f":"IF($A43=\"\",\"\",IF(VLOOKUP($A43,Competitors!$A$2:$G$60,2,FALSE)=\"\",\"\",VLOOKUP($A43,Competitors!$A$2:$G$60,2,FALSE)))","v":""},{"$f":"IF($A43=\"\",\"\",IF(VLOOKUP($A43,Competitors!$A$2:$G$60,7,FALSE)=\"\",\"\",VLOOKUP($A43,Competitors!$A$2:$G$60,7,FALSE)))","v":""},{"$f":"IF($A43=\"\",\"\",IF(VLOOKUP($A43,Competitors!$A$2:$G$60,5,FALSE)=\"\",\"\",VLOOKUP($A43,Competitors!$A$2:$G$60,5,FALSE)))","v":""},{"$f":"IF($A43=\"\",\"\",IF(VLOOKUP($A43,Competitors!$A$2:$G$60,6,FALSE)=\"\",\"\",VLOOKUP($A43,Competitors!$A$2:$G$60,6,FALSE)))","v":"senior"},{"$f":"IF($A43=\"\",\"\",IF(VLOOKUP($A43,Competitors!$A$2:$G$60,3,FALSE)=\"\",\"\",VLOOKUP($A43,Competitors!$A$2:$G$60,3,FALSE)))","v":""},{"$f":"IF($A43=\"\",\"\",IF(VLOOKUP($A43,Competitors!$A$2:$G$60,4,FALSE)=\"\",\"\",VLOOKUP($A43,Competitors!$A$2:$G$60,4,FALSE)))","v":""},{"$f":"IF(VLOOKUP(A43,Competitors!$A$1:$H$41,8,FALSE)=\"\",\"\",VLOOKUP(A43,Competitors!$A$1:$H$41,8,FALSE))","v":""},{"$f":"IF(IFERROR(VLOOKUP(($B$2&\"_\"&$A43),'Time Entry Sheet'!$A$3:$I$499,9,0),\"Error\")=\"Error\",\"\",IF(VLOOKUP(($B$2&\"_\"&$A43),'Time Entry Sheet'!$A$3:$I$499,9,FALSE)=\"wd\",\"wd\",VLOOKUP(($B$2&\"_\"&$A43),'Time Entry Sheet'!$A$3:$I$499,9,FALSE)*1))","v":""},"",{"$f":"IF(IFERROR(VLOOKUP(($B$2&\"_\"&$A43),'Time Entry Sheet'!$A$3:$I$499,8,FALSE),\"Error\")=\"Error\",\"\",IF(VLOOKUP(($B$2&\"_\"&$A43),'Time Entry Sheet'!$A$3:$I$499,8,FALSE)=\"\",\"\",VLOOKUP(($B$2&\"_\"&$A43),'Time Entry Sheet'!$A$3:$I$499,8,FALSE)))","v":""},{"$f":"IF(IFERROR(VLOOKUP(($B$2&\"_\"&$A43),'Time Entry Sheet'!$A$3:$I$499,7,FALSE),\"Error\")=\"Error\",\"\",IF(VLOOKUP(($B$2&\"_\"&$A43),'Time Entry Sheet'!$A$3:$I$499,7,FALSE)=\"\",\"\",VLOOKUP(($B$2&\"_\"&$A43),'Time Entry Sheet'!$A$3:$I$499,7,FALSE)))","v":""},"00:00:55.750","00:00:55.750",20,{"$f":"IF(A43=\"\",\"\",M43+VLOOKUP(A43,'Test 6'!$A$12:$Q$51,16,FALSE))","v":"00:08:35.160"},20,null,"","00:08:35.160"]
[33,{"$f":"IF($A44=\"\",\"\",IF(VLOOKUP($A44,Competitors!$A$2:$G$60,2,FALSE)=\"\",\"\",VLOOKUP($A44,Competitors!$A$2:$G$60,2,FALSE)))","v":""},{"$f":"IF($A44=\"\",\"\",IF(VLOOKUP($A44,Competitors!$A$2:$G$60,7,FALSE)=\"\",\"\",VLOOKUP($A44,Competitors!$A$2:$G$60,7,FALSE)))","v":""},{"$f":"IF($A44=\"\",\"\",IF(VLOOKUP($A44,Competitors!$A$2:$G$60,5,FALSE)=\"\",\"\",VLOOKUP($A44,Competitors!$A$2:$G$60,5,FALSE)))","v":""},{"$f":"IF($A44=\"\",\"\",IF(VLOOKUP($A44,Competitors!$A$2:$G$60,6,FALSE)=\"\",\"\",VLOOKUP($A44,Competitors!$A$2:$G$60,6,FALSE)))","v":"senior"},{"$f":"IF($A44=\"\",\"\",IF(VLOOKUP($A44,Competitors!$A$2:$G$60,3,FALSE)=\"\",\"\",VLOOKUP($A44,Competitors!$A$2:$G$60,3,FALSE)))","v":""},{"$f":"IF($A44=\"\",\"\",IF(VLOOKUP($A44,Competitors!$A$2:$G$60,4,FALSE)=\"\",\"\",VLOOKUP($A44,Competitors!$A$2:$G$60,4,FALSE)))","v":""},{"$f":"IF(VLOOKUP(A44,Competitors!$A$1:$H$41,8,FALSE)=\"\",\"\",VLOOKUP(A44,Competitors!$A$1:$H$41,8,FALSE))","v":""},{"$f":"IF(IFERROR(VLOOKUP(($B$2&\"_\"&$A44),'Time Entry Sheet'!$A$3:$I$499,9,0),\"Error\")=\"Error\",\"\",IF(VLOOKUP(($B$2&\"_\"&$A44),'Time Entry Sheet'!$A$3:$I$499,9,FALSE)=\"wd\",\"wd\",VLOOKUP(($B$2&\"_\"&$A44),'Time Entry Sheet'!$A$3:$I$499,9,FALSE)*1))","v":""},"",{"$f":"IF(IFERROR(VLOOKUP(($B$2&\"_\"&$A44),'Time Entry Sheet'!$A$3:$I$499,8,FALSE),\"Error\")=\"Error\",\"\",IF(VLOOKUP(($B$2&\"_\"&$A44),'Time Entry Sheet'!$A$3:$I$499,8,FALSE)=\"\",\"\",VLOOKUP(($B$2&\"_\"&$A44),'Time Entry Sheet'!$A$3:$I$499,8,FALSE)))","v":""},{"$f":"IF(IFERROR(VLOOKUP(($B$2&\"_\"&$A44),'Time Entry Sheet'!$A$3:$I$499,7,FALSE),\"Error\")=\"Error\",\"\",IF(VLOOKUP(($B$2&\"_\"&$A44),'Time Entry Sheet'!$A$3:$I$499,7,FALSE)=\"\",\"\",VLOOKUP(($B$2&\"_\"&$A44),'Time Entry Sheet'!$A$3:$I$499,7,FALSE)))","v":""},"00:00:55.750","00:00:55.750",20,{"$f":"IF(A44=\"\",\"\",M44+VLOOKUP(A44,'Test 6'!$A$12:$Q$51,16,FALSE))","v":"00:08:35.160"},20,null,"","00:08:35.160"]
[34,{"$f":"IF($A45=\"\",\"\",IF(VLOOKUP($A45,Competitors!$A$2:$G$60,2,FALSE)=\"\",\"\",VLOOKUP($A45,Competitors!$A$2:$G$60,2,FALSE)))","v":""},{"$f":"IF($A45=\"\",\"\",IF(VLOOKUP($A45,Competitors!$A$2:$G$60,7,FALSE)=\"\",\"\",VLOOKUP($A45,Competitors!$A$2:$G$60,7,FALSE)))","v":""},{"$f":"IF($A45=\"\",\"\",IF(VLOOKUP($A45,Competitors!$A$2:$G$60,5,FALSE)=\"\",\"\",VLOOKUP($A45,Competitors!$A$2:$G$60,5,FALSE)))","v":""},{"$f":"IF($A45=\"\",\"\",IF(VLOOKUP($A45,Competitors!$A$2:$G$60,6,FALSE)=\"\",\"\",VLOOKUP($A45,Competitors!$A$2:$G$60,6,FALSE)))","v":"senior"},{"$f":"IF($A45=\"\",\"\",IF(VLOOKUP($A45,Competitors!$A$2:$G$60,3,FALSE)=\"\",\"\",VLOOKUP($A45,Competitors!$A$2:$G$60,3,FALSE)))","v":""},{"$f":"IF($A45=\"\",\"\",IF(VLOOKUP($A45,Competitors!$A$2:$G$60,4,FALSE)=\"\",\"\",VLOOKUP($A45,Competitors!$A$2:$G$60,4,FALSE)))","v":""},{"$f":"IF(VLOOKUP(A45,Competitors!$A$1:$H$41,8,FALSE)=\"\",\"\",VLOOKUP(A45,Competitors!$A$1:$H$41,8,FALSE))","v":""},{"$f":"IF(IFERROR(VLOOKUP(($B$2&\"_\"&$A45),'Time Entry Sheet'!$A$3:$I$499,9,0),\"Error\")=\"Error\",\"\",IF(VLOOKUP(($B$2&\"_\"&$A45),'Time Entry Sheet'!$A$3:$I$499,9,FALSE)=\"wd\",\"wd\",VLOOKUP(($B$2&\"_\"&$A45),'Time Entry Sheet'!$A$3:$I$499,9,FALSE)*1))","v":""},"",{"$f":"IF(IFERROR(VLOOKUP(($B$2&\"_\"&$A45),'Time Entry Sheet'!$A$3:$I$499,8,FALSE),\"Error\")=\"Error\",\"\",IF(VLOOKUP(($B$2&\"_\"&$A45),'Time Entry Sheet'!$A$3:$I$499,8,FALSE)=\"\",\"\",VLOOKUP(($B$2&\"_\"&$A45),'Time Entry Sheet'!$A$3:$I$499,8,FALSE)))","v":""},{"$f":"IF(IFERROR(VLOOKUP(($B$2&\"_\"&$A45),'Time Entry Sheet'!$A$3:$I$499,7,FALSE),\"Error\")=\"Error\",\"\",IF(VLOOKUP(($B$2&\"_\"&$A45),'Time Entry Sheet'!$A$3:$I$499,7,FALSE)=\"\",\"\",VLOOKUP(($B$2&\"_\"&$A45),'Time Entry Sheet'!$A$3:$I$499,7,FALSE)))","v":""},"00:00:55.750","00:00:55.750",20,{"$f":"IF(A45=\"\",\"\",M45+VLOOKUP(A45,'Test 6'!$A$12:$Q$51,16,FALSE))","v":"00:08:35.160"},20,null,"","00:08:35.160"]
[35,{"$f":"IF($A46=\"\",\"\",IF(VLOOKUP($A46,Competitors!$A$2:$G$60,2,FALSE)=\"\",\"\",VLOOKUP($A46,Competitors!$A$2:$G$60,2,FALSE)))","v":""},{"$f":"IF($A46=\"\",\"\",IF(VLOOKUP($A46,Competitors!$A$2:$G$60,7,FALSE)=\"\",\"\",VLOOKUP($A46,Competitors!$A$2:$G$60,7,FALSE)))","v":""},{"$f":"IF($A46=\"\",\"\",IF(VLOOKUP($A46,Competitors!$A$2:$G$60,5,FALSE)=\"\",\"\",VLOOKUP($A46,Competitors!$A$2:$G$60,5,FALSE)))","v":""},{"$f":"IF($A46=\"\",\"\",IF(VLOOKUP($A46,Competitors!$A$2:$G$60,6,FALSE)=\"\",\"\",VLOOKUP($A46,Competitors!$A$2:$G$60,6,FALSE)))","v":"senior"},{"$f":"IF($A46=\"\",\"\",IF(VLOOKUP($A46,Competitors!$A$2:$G$60,3,FALSE)=\"\",\"\",VLOOKUP($A46,Competitors!$A$2:$G$60,3,FALSE)))","v":""},{"$f":"IF($A46=\"\",\"\",IF(VLOOKUP($A46,Competitors!$A$2:$G$60,4,FALSE)=\"\",\"\",VLOOKUP($A46,Competitors!$A$2:$G$60,4,FALSE)))","v":""},{"$f":"IF(VLOOKUP(A46,Competitors!$A$1:$H$41,8,FALSE)=\"\",\"\",VLOOKUP(A46,Competitors!$A$1:$H$41,8,FALSE))","v":""},{"$f":"IF(IFERROR(VLOOKUP(($B$2&\"_\"&$A46),'Time Entry Sheet'!$A$3:$I$499,9,0),\"Error\")=\"Error\",\"\",IF(VLOOKUP(($B$2&\"_\"&$A46),'Time Entry Sheet'!$A$3:$I$499,9,FALSE)=\"wd\",\"wd\",VLOOKUP(($B$2&\"_\"&$A46),'Time Entry Sheet'!$A$3:$I$499,9,FALSE)*1))","v":""},"",{"$f":"IF(IFERROR(VLOOKUP(($B$2&\"_\"&$A46),'Time Entry Sheet'!$A$3:$I$499,8,FALSE),\"Error\")=\"Error\",\"\",IF(VLOOKUP(($B$2&\"_\"&$A46),'Time Entry Sheet'!$A$3:$I$499,8,FALSE)=\"\",\"\",VLOOKUP(($B$2&\"_\"&$A46),'Time Entry Sheet'!$A$3:$I$499,8,FALSE)))","v":""},{"$f":"IF(IFERROR(VLOOKUP(($B$2&\"_\"&$A46),'Time Entry Sheet'!$A$3:$I$499,7,FALSE),\"Error\")=\"Error\",\"\",IF(VLOOKUP(($B$2&\"_\"&$A46),'Time Entry Sheet'!$A$3:$I$499,7,FALSE)=\"\",\"\",VLOOKUP(($B$2&\"_\"&$A46),'Time Entry Sheet'!$A$3:$I$499,7,FALSE)))","v":""},"00:00:55.750","00:00:55.750",20,{"$f":"IF(A46=\"\",\"\",M46+VLOOKUP(A46,'Test 6'!$A$12:$Q$51,16,FALSE))","v":"00:08:35.160"},20,null,"","00:08:35.160"]
[36,{"$f":"IF($A47=\"\",\"\",IF(VLOOKUP($A47,Competitors!$A$2:$G$60,2,FALSE)=\"\",\"\",VLOOKUP($A47,Competitors!$A$2:$G$60,2,FALSE)))","v":""},{"$f":"IF($A47=\"\",\"\",IF(VLOOKUP($A47,Competitors!$A$2:$G$60,7,FALSE)=\"\",\"\",VLOOKUP($A47,Competitors!$A$2:$G$60,7,FALSE)))","v":""},{"$f":"IF($A47=\"\",\"\",IF(VLOOKUP($A47,Competitors!$A$2:$G$60,5,FALSE)=\"\",\"\",VLOOKUP($A47,Competitors!$A$2:$G$60,5,FALSE)))","v":""},{"$f":"IF($A47=\"\",\"\",IF(VLOOKUP($A47,Competitors!$A$2:$G$60,6,FALSE)=\"\",\"\",VLOOKUP($A47,Competitors!$A$2:$G$60,6,FALSE)))","v":"senior"},{"$f":"IF($A47=\"\",\"\",IF(VLOOKUP($A47,Competitors!$A$2:$G$60,3,FALSE)=\"\",\"\",VLOOKUP($A47,Competitors!$A$2:$G$60,3,FALSE)))","v":""},{"$f":"IF($A47=\"\",\"\",IF(VLOOKUP($A47,Competitors!$A$2:$G$60,4,FALSE)=\"\",\"\",VLOOKUP($A47,Competitors!$A$2:$G$60,4,FALSE)))","v":""},{"$f":"IF(VLOOKUP(A47,Competitors!$A$1:$H$41,8,FALSE)=\"\",\"\",VLOOKUP(A47,Competitors!$A$1:$H$41,8,FALSE))","v":""},{"$f":"IF(IFERROR(VLOOKUP(($B$2&\"_\"&$A47),'Time Entry Sheet'!$A$3:$I$499,9,0),\"Error\")=\"Error\",\"\",IF(VLOOKUP(($B$2&\"_\"&$A47),'Time Entry Sheet'!$A$3:$I$499,9,FALSE)=\"wd\",\"wd\",VLOOKUP(($B$2&\"_\"&$A47),'Time Entry Sheet'!$A$3:$I$499,9,FALSE)*1))","v":""},"",{"$f":"IF(IFERROR(VLOOKUP(($B$2&\"_\"&$A47),'Time Entry Sheet'!$A$3:$I$499,8,FALSE),\"Error\")=\"Error\",\"\",IF(VLOOKUP(($B$2&\"_\"&$A47),'Time Entry Sheet'!$A$3:$I$499,8,FALSE)=\"\",\"\",VLOOKUP(($B$2&\"_\"&$A47),'Time Entry Sheet'!$A$3:$I$499,8,FALSE)))","v":""},{"$f":"IF(IFERROR(VLOOKUP(($B$2&\"_\"&$A47),'Time Entry Sheet'!$A$3:$I$499,7,FALSE),\"Error\")=\"Error\",\"\",IF(VLOOKUP(($B$2&\"_\"&$A47),'Time Entry Sheet'!$A$3:$I$499,7,FALSE)=\"\",\"\",VLOOKUP(($B$2&\"_\"&$A47),'Time Entry Sheet'!$A$3:$I$499,7,FALSE)))","v":""},"00:00:55.750","00:00:55.750",20,{"$f":"IF(A47=\"\",\"\",M47+VLOOKUP(A47,'Test 6'!$A$12:$Q$51,16,FALSE))","v":"00:08:35.160"},20,null,"","00:08:35.160"]
[37,{"$f":"IF($A48=\"\",\"\",IF(VLOOKUP($A48,Competitors!$A$2:$G$60,2,FALSE)=\"\",\"\",VLOOKUP($A48,Competitors!$A$2:$G$60,2,FALSE)))","v":""},{"$f":"IF($A48=\"\",\"\",IF(VLOOKUP($A48,Competitors!$A$2:$G$60,7,FALSE)=\"\",\"\",VLOOKUP($A48,Competitors!$A$2:$G$60,7,FALSE)))","v":""},{"$f":"IF($A48=\"\",\"\",IF(VLOOKUP($A48,Competitors!$A$2:$G$60,5,FALSE)=\"\",\"\",VLOOKUP($A48,Competitors!$A$2:$G$60,5,FALSE)))","v":""},{"$f":"IF($A48=\"\",\"\",IF(VLOOKUP($A48,Competitors!$A$2:$G$60,6,FALSE)=\"\",\"\",VLOOKUP($A48,Competitors!$A$2:$G$60,6,FALSE)))","v":"senior"},{"$f":"IF($A48=\"\",\"\",IF(VLOOKUP($A48,Competitors!$A$2:$G$60,3,FALSE)=\"\",\"\",VLOOKUP($A48,Competitors!$A$2:$G$60,3,FALSE)))","v":""},{"$f":"IF($A48=\"\",\"\",IF(VLOOKUP($A48,Competitors!$A$2:$G$60,4,FALSE)=\"\",\"\",VLOOKUP($A48,Competitors!$A$2:$G$60,4,FALSE)))","v":""},{"$f":"IF(VLOOKUP(A48,Competitors!$A$1:$H$41,8,FALSE)=\"\",\"\",VLOOKUP(A48,Competitors!$A$1:$H$41,8,FALSE))","v":""},{"$f":"IF(IFERROR(VLOOKUP(($B$2&\"_\"&$A48),'Time Entry Sheet'!$A$3:$I$499,9,0),\"Error\")=\"Error\",\"\",IF(VLOOKUP(($B$2&\"_\"&$A48),'Time Entry Sheet'!$A$3:$I$499,9,FALSE)=\"wd\",\"wd\",VLOOKUP(($B$2&\"_\"&$A48),'Time Entry Sheet'!$A$3:$I$499,9,FALSE)*1))","v":""},"",{"$f":"IF(IFERROR(VLOOKUP(($B$2&\"_\"&$A48),'Time Entry Sheet'!$A$3:$I$499,8,FALSE),\"Error\")=\"Error\",\"\",IF(VLOOKUP(($B$2&\"_\"&$A48),'Time Entry Sheet'!$A$3:$I$499,8,FALSE)=\"\",\"\",VLOOKUP(($B$2&\"_\"&$A48),'Time Entry Sheet'!$A$3:$I$499,8,FALSE)))","v":""},{"$f":"IF(IFERROR(VLOOKUP(($B$2&\"_\"&$A48),'Time Entry Sheet'!$A$3:$I$499,7,FALSE),\"Error\")=\"Error\",\"\",IF(VLOOKUP(($B$2&\"_\"&$A48),'Time Entry Sheet'!$A$3:$I$499,7,FALSE)=\"\",\"\",VLOOKUP(($B$2&\"_\"&$A48),'Time Entry Sheet'!$A$3:$I$499,7,FALSE)))","v":""},{"$f":"IF(A48=\"\",\"\",IF(I48=\"wd\",IF(E48=\"Senior\",$B$7,$C$7),IF(L48<>\"\",$B$7,IF(I48=\"\",IF(E48=\"Senior\",$B$8,$C$8),IF(K48=\"\",I48,I48+($B$5*K48))))))","v":"00:00:55.750"},"00:00:55.750",20,{"$f":"IF(A48=\"\",\"\",M48+VLOOKUP(A48,'Test 6'!$A$12:$Q$51,16,FALSE))","v":"00:08:35.160"},20,null,"","00:08:35.160"]
[38,{"$f":"IF($A49=\"\",\"\",IF(VLOOKUP($A49,Competitors!$A$2:$G$60,2,FALSE)=\"\",\"\",VLOOKUP($A49,Competitors!$A$2:$G$60,2,FALSE)))","v":""},{"$f":"IF($A49=\"\",\"\",IF(VLOOKUP($A49,Competitors!$A$2:$G$60,7,FALSE)=\"\",\"\",VLOOKUP($A49,Competitors!$A$2:$G$60,7,FALSE)))","v":""},{"$f":"IF($A49=\"\",\"\",IF(VLOOKUP($A49,Competitors!$A$2:$G$60,5,FALSE)=\"\",\"\",VLOOKUP($A49,Competitors!$A$2:$G$60,5,FALSE)))","v":""},{"$f":"IF($A49=\"\",\"\",IF(VLOOKUP($A49,Competitors!$A$2:$G$60,6,FALSE)=\"\",\"\",VLOOKUP($A49,Competitors!$A$2:$G$60,6,FALSE)))","v":"senior"},{"$f":"IF($A49=\"\",\"\",IF(VLOOKUP($A49,Competitors!$A$2:$G$60,3,FALSE)=\"\",\"\",VLOOKUP($A49,Competitors!$A$2:$G$60,3,FALSE)))","v":""},{"$f":"IF($A49=\"\",\"\",IF(VLOOKUP($A49,Competitors!$A$2:$G$60,4,FALSE)=\"\",\"\",VLOOKUP($A49,Competitors!$A$2:$G$60,4,FALSE)))","v":""},{"$f":"IF(VLOOKUP(A49,Competitors!$A$1:$H$41,8,FALSE)=\"\",\"\",VLOOKUP(A49,Competitors!$A$1:$H$41,8,FALSE))","v":""},{"$f":"IF(IFERROR(VLOOKUP(($B$2&\"_\"&$A49),'Time Entry Sheet'!$A$3:$I$499,9,0),\"Error\")=\"Error\",\"\",IF(VLOOKUP(($B$2&\"_\"&$A49),'Time Entry Sheet'!$A$3:$I$499,9,FALSE)=\"wd\",\"wd\",VLOOKUP(($B$2&\"_\"&$A49),'Time Entry Sheet'!$A$3:$I$499,9,FALSE)*1))","v":""},"",{"$f":"IF(IFERROR(VLOOKUP(($B$2&\"_\"&$A49),'Time Entry Sheet'!$A$3:$I$499,8,FALSE),\"Error\")=\"Error\",\"\",IF(VLOOKUP(($B$2&\"_\"&$A49),'Time Entry Sheet'!$A$3:$I$499,8,FALSE)=\"\",\"\",VLOOKUP(($B$2&\"_\"&$A49),'Time Entry Sheet'!$A$3:$I$499,8,FALSE)))","v":""},{"$f":"IF(IFERROR(VLOOKUP(($B$2&\"_\"&$A49),'Time Entry Sheet'!$A$3:$I$499,7,FALSE),\"Error\")=\"Error\",\"\",IF(VLOOKUP(($B$2&\"_\"&$A49),'Time Entry Sheet'!$A$3:$I$499,7,FALSE)=\"\",\"\",VLOOKUP(($B$2&\"_\"&$A49),'Time Entry Sheet'!$A$3:$I$499,7,FALSE)))","v":""},"00:00:55.750","00:00:55.750",20,{"$f":"IF(A49=\"\",\"\",M49+VLOOKUP(A49,'Test 6'!$A$12:$Q$51,16,FALSE))","v":"00:08:35.160"},20,null,"","00:08:35.160"]
[39,{"$f":"IF($A50=\"\",\"\",IF(VLOOKUP($A50,Competitors!$A$2:$G$60,2,FALSE)=\"\",\"\",VLOOKUP($A50,Competitors!$A$2:$G$60,2,FALSE)))","v":""},{"$f":"IF($A50=\"\",\"\",IF(VLOOKUP($A50,Competitors!$A$2:$G$60,7,FALSE)=\"\",\"\",VLOOKUP($A50,Competitors!$A$2:$G$60,7,FALSE)))","v":""},{"$f":"IF($A50=\"\",\"\",IF(VLOOKUP($A50,Competitors!$A$2:$G$60,5,FALSE)=\"\",\"\",VLOOKUP($A50,Competitors!$A$2:$G$60,5,FALSE)))","v":""},{"$f":"IF($A50=\"\",\"\",IF(VLOOKUP($A50,Competitors!$A$2:$G$60,6,FALSE)=\"\",\"\",VLOOKUP($A50,Competitors!$A$2:$G$60,6,FALSE)))","v":"senior"},{"$f":"IF($A50=\"\",\"\",IF(VLOOKUP($A50,Competitors!$A$2:$G$60,3,FALSE)=\"\",\"\",VLOOKUP($A50,Competitors!$A$2:$G$60,3,FALSE)))","v":""},{"$f":"IF($A50=\"\",\"\",IF(VLOOKUP($A50,Competitors!$A$2:$G$60,4,FALSE)=\"\",\"\",VLOOKUP($A50,Competitors!$A$2:$G$60,4,FALSE)))","v":""},{"$f":"IF(VLOOKUP(A50,Competitors!$A$1:$H$41,8,FALSE)=\"\",\"\",VLOOKUP(A50,Competitors!$A$1:$H$41,8,FALSE))","v":""},{"$f":"IF(IFERROR(VLOOKUP(($B$2&\"_\"&$A50),'Time Entry Sheet'!$A$3:$I$499,9,0),\"Error\")=\"Error\",\"\",IF(VLOOKUP(($B$2&\"_\"&$A50),'Time Entry Sheet'!$A$3:$I$499,9,FALSE)=\"wd\",\"wd\",VLOOKUP(($B$2&\"_\"&$A50),'Time Entry Sheet'!$A$3:$I$499,9,FALSE)*1))","v":""},"",{"$f":"IF(IFERROR(VLOOKUP(($B$2&\"_\"&$A50),'Time Entry Sheet'!$A$3:$I$499,8,FALSE),\"Error\")=\"Error\",\"\",IF(VLOOKUP(($B$2&\"_\"&$A50),'Time Entry Sheet'!$A$3:$I$499,8,FALSE)=\"\",\"\",VLOOKUP(($B$2&\"_\"&$A50),'Time Entry Sheet'!$A$3:$I$499,8,FALSE)))","v":""},{"$f":"IF(IFERROR(VLOOKUP(($B$2&\"_\"&$A50),'Time Entry Sheet'!$A$3:$I$499,7,FALSE),\"Error\")=\"Error\",\"\",IF(VLOOKUP(($B$2&\"_\"&$A50),'Time Entry Sheet'!$A$3:$I$499,7,FALSE)=\"\",\"\",VLOOKUP(($B$2&\"_\"&$A50),'Time Entry Sheet'!$A$3:$I$499,7,FALSE)))","v":""},"00:00:55.750","00:00:55.750",20,{"$f":"IF(A50=\"\",\"\",M50+VLOOKUP(A50,'Test 6'!$A$12:$Q$51,16,FALSE))","v":"00:08:35.160"},20,null,null,"00:08:35.160"]
[40,{"$f":"IF($A51=\"\",\"\",IF(VLOOKUP($A51,Competitors!$A$2:$G$60,2,FALSE)=\"\",\"\",VLOOKUP($A51,Competitors!$A$2:$G$60,2,FALSE)))","v":""},{"$f":"IF($A51=\"\",\"\",IF(VLOOKUP($A51,Competitors!$A$2:$G$60,7,FALSE)=\"\",\"\",VLOOKUP($A51,Competitors!$A$2:$G$60,7,FALSE)))","v":""},{"$f":"IF($A51=\"\",\"\",IF(VLOOKUP($A51,Competitors!$A$2:$G$60,5,FALSE)=\"\",\"\",VLOOKUP($A51,Competitors!$A$2:$G$60,5,FALSE)))","v":""},{"$f":"IF($A51=\"\",\"\",IF(VLOOKUP($A51,Competitors!$A$2:$G$60,6,FALSE)=\"\",\"\",VLOOKUP($A51,Competitors!$A$2:$G$60,6,FALSE)))","v":"senior"},{"$f":"IF($A51=\"\",\"\",IF(VLOOKUP($A51,Competitors!$A$2:$G$60,3,FALSE)=\"\",\"\",VLOOKUP($A51,Competitors!$A$2:$G$60,3,FALSE)))","v":""},{"$f":"IF($A51=\"\",\"\",IF(VLOOKUP($A51,Competitors!$A$2:$G$60,4,FALSE)=\"\",\"\",VLOOKUP($A51,Competitors!$A$2:$G$60,4,FALSE)))","v":""},{"$f":"IF(VLOOKUP(A51,Competitors!$A$1:$H$41,8,FALSE)=\"\",\"\",VLOOKUP(A51,Competitors!$A$1:$H$41,8,FALSE))","v":""},{"$f":"IF(IFERROR(VLOOKUP(($B$2&\"_\"&$A51),'Time Entry Sheet'!$A$3:$I$499,9,0),\"Error\")=\"Error\",\"\",IF(VLOOKUP(($B$2&\"_\"&$A51),'Time Entry Sheet'!$A$3:$I$499,9,FALSE)=\"wd\",\"wd\",VLOOKUP(($B$2&\"_\"&$A51),'Time Entry Sheet'!$A$3:$I$499,9,FALSE)*1))","v":""},"",{"$f":"IF(IFERROR(VLOOKUP(($B$2&\"_\"&$A51),'Time Entry Sheet'!$A$3:$I$499,8,FALSE),\"Error\")=\"Error\",\"\",IF(VLOOKUP(($B$2&\"_\"&$A51),'Time Entry Sheet'!$A$3:$I$499,8,FALSE)=\"\",\"\",VLOOKUP(($B$2&\"_\"&$A51),'Time Entry Sheet'!$A$3:$I$499,8,FALSE)))","v":""},{"$f":"IF(IFERROR(VLOOKUP(($B$2&\"_\"&$A51),'Time Entry Sheet'!$A$3:$I$499,7,FALSE),\"Error\")=\"Error\",\"\",IF(VLOOKUP(($B$2&\"_\"&$A51),'Time Entry Sheet'!$A$3:$I$499,7,FALSE)=\"\",\"\",VLOOKUP(($B$2&\"_\"&$A51),'Time Entry Sheet'!$A$3:$I$499,7,FALSE)))","v":""},"00:00:55.750","00:00:55.750",20,{"$f":"IF(A51=\"\",\"\",M51+VLOOKUP(A51,'Test 6'!$A$12:$Q$51,16,FALSE))","v":"00:08:35.160"},20,null,null,"00:08:35.160"]

{"sheet":"Test 8","index":25,"n_rows":51,"n_cols":20,"rows_kept":51,"cut":false,"hidden":false,"merged":[[0,8,0,10]]}
[]
["TEST",8,null,null,null,null,null,null,null,null,"PROVISIONAL RESULTS",null,{"$f":"NOW()","v":42690.814244444446},null,{"$f":"NOW()","v":"2016-11-16T19:32:30.720"}]
["Date:","2015-10-31",null,null,null,null,null,null,null,null,null,"Junior",{"$f":"MIN( IF( $E$8:$E$51=L3, $S$8:$S$51 ) )","v":"00:00:00"},null,"FASTEST"]
["10 sec penalty","00:00:10",null,null,null,null,null,null,null,null,null,"Junior",{"$f":"MAX( IF( $E$8:$E$51=L4, $S$8:$S$51 ) )","v":"00:00:00"},null,"SLOWEST"]
["Flag penalty","00:00:05",null,null,null,null,"SENIOR"]
[null,null,null,null,null,null,"Fastest test time x 2",null,{"$f":"M6*2","v":"00:01:31.780"},null,null,"Senior",{"$f":"MIN( IF( E11:E51=L6, J11:J51 ) )","v":"00:00:45.890"},null,"FASTEST"]
["Slowest test time + 5 second penalty",{"$f":"MIN($I$6,$I$7)+$B$5","v":"00:00:59.310"},{"$f":"MIN($I$9:$I$10)+$B$5","v":"00:00:05"},null,null,null,"Slowest test time",null,{"$f":"M7","v":"00:00:54.310"},null,null,"Senior",{"$f":"MAX( IF( E11:E51=L7, J11:J51 ) )","v":"00:00:54.310"},null,"SLOWEST"]
["Failure to Attempt Course (Slowest time + 10 sec)",{"$f":"SUM($I$7,$B$4)","v":"00:01:04.310"},{"$f":"SUM($I$10,$B$4)","v":"00:00:10"},null,null,null,"JUNIOR"]
[null,null,null,null,null,null,"Fastest test time x 2",null,{"$f":"M3*2","v":"00:00:00"}]
[null,null,null,null,null,null,"Slowest test time",null,{"$f":"M4","v":"00:00:00"}]
["Car Number","Driver","Rookie?","Female Driver?","Junior Driver?","Vehicle","Class","Senior with Passenger?","Time Taken (MM:SS.00)","Time Taken-PenaltyCalculator (MM:SS.00)","No. of Flags &/or Finishes partly out of garage","Slowest time + 5 sec penalty type","Total Test 8 Time","Total Test 1 Time for ranking","Test 8 Position","Cumulative Time Taken (MM:SS.00)","Cumulative Outright Position","Comments","Time Taken-PenaltyCalculator Junior(MM:SS.00)","Cumulative Time Taken (MM:SS.00) for ranking"]
[1,{"$f":"IF($A12=\"\",\"\",IF(VLOOKUP($A12,Competitors!$A$2:$G$60,2,FALSE)=\"\",\"\",VLOOKUP($A12,Competitors!$A$2:$G$60,2,FALSE)))","v":"Paul Dunn"},{"$f":"IF($A12=\"\",\"\",IF(VLOOKUP($A12,Competitors!$A$2:$G$60,7,FALSE)=\"\",\"\",VLOOKUP($A12,Competitors!$A$2:$G$60,7,FALSE)))","v":""},{"$f":"IF($A12=\"\",\"\",IF(VLOOKUP($A12,Competitors!$A$2:$G$60,5,FALSE)=\"\",\"\",VLOOKUP($A12,Competitors!$A$2:$G$60,5,FALSE)))","v":""},{"$f":"IF($A12=\"\",\"\",IF(VLOOKUP($A12,Competitors!$A$2:$G$60,6,FALSE)=\"\",\"\",VLOOKUP($A12,Competitors!$A$2:$G$60,6,FALSE)))","v":"senior"},{"$f":"IF($A12=\"\",\"\",IF(VLOOKUP($A12,Competitors!$A$2:$G$60,3,FALSE)=\"\",\"\",VLOOKUP($A12,Competitors!$A$2:$G$60,3,FALSE)))","v":"Excel"},{"$f":"IF($A12=\"\",\"\",IF(VLOOKUP($A12,Competitors!$A$2:$G$60,4,FALSE)=\"\",\"\",VLOOKUP($A12,Competitors!$A$2:$G$60,4,FALSE)))","v":""},{"$f":"IF(VLOOKUP(A12,Competitors!$A$1:$H$41,8,FALSE)=\"\",\"\",VLOOKUP(A12,Competitors!$A$1:$H$41,8,FALSE))","v":""},{"$f":"IF(IFERROR(VLOOKUP(($B$2&\"_\"&$A12),'Time Entry Sheet'!$A$3:$I$499,9,0),\"Error\")=\"Error\",\"\",IF(VLOOKUP(($B$2&\"_\"&$A12),'Time Entry Sheet'!$A$3:$I$499,9,FALSE)=\"wd\",\"wd\",VLOOKUP(($B$2&\"_\"&$A12),'Time Entry Sheet'!$A$3:$I$499,9,FALSE)*1))","v":"00:00:45.890"},{"$f":"IF(E12=\"Junior\",\"\",IF(I12=\"wd\",\"\",IF(K12<>\"\",\"\",I12)))","v":"00:00:45.890"},{"$f":"IF(IFERROR(VLOOKUP(($B$2&\"_\"&$A12),'Time Entry Sheet'!$A$3:$I$499,8,FALSE),\"Error\")=\"Error\",\"\",IF(VLOOKUP(($B$2&\"_\"&$A12),'Time Entry Sheet'!$A$3:$I$499,8,FALSE)=\"\",\"\",VLOOKUP(($B$2&\"_\"&$A12),'Time Entry Sheet'!$A$3:$I$499,8,FALSE)))","v":""},{"$f":"IF(IFERROR(VLOOKUP(($B$2&\"_\"&$A12),'Time Entry Sheet'!$A$3:$I$499,7,FALSE),\"Error\")=\"Error\",\"\",IF(VLOOKUP(($B$2&\"_\"&$A12),'Time Entry Sheet'!$A$3:$I$499,7,FALSE)=\"\",\"\",VLOOKUP(($B$2&\"_\"&$A12),'Time Entry Sheet'!$A$3:$I$499,7,FALSE)))","v":""},{"$f":"IF(A12=\"\",\"\",IF(I12=\"wd\",IF(E12=\"Senior\",$B$7,$C$7),IF(L12<>\"\",$B$7,IF(I12=\"\",IF(E12=\"Senior\",$B$8,$C$8),IF(K12=\"\",I12,I12+($B$5*K12))))))","v":"00:00:45.890"},{"$f":"IF(H12=\"Passenger\",\"\",M12)","v":"00:00:45.890"},{"$f":"IF(A12=\"\",\"\",IF(H12=\"Passenger\",\"P\",RANK(N12,$N$12:$N$51,1)))","v":1},{"$f":"IF(A12=\"\",\"\",M12+VLOOKUP(A12,'Test 7'!$A$12:$Q$51,16,FALSE))","v":"00:06:26.200"},{"$f":"IF(A12=\"\",\"\",IF(H12=\"Passenger\",\"P\",RANK(T12,$T$12:$T$51,1)))","v":2},null,{"$f":"IF(E12=\"Senior\",\"\",IF(I12=\"wd\",\"\",IF(K12<>\"\",\"\",I12)))","v":""},{"$f":"IF(H12=\"Passenger\",\"\",P12)","v":"00:06:26.200"}]
[2,{"$f":"IF($A13=\"\",\"\",IF(VLOOKUP($A13,Competitors!$A$2:$G$60,2,FALSE)=\"\",\"\",VLOOKUP($A13,Competitors!$A$2:$G$60,2,FALSE)))","v":"Stephen Thorne"},{"$f":"IF($A13=\"\",\"\",IF(VLOOKUP($A13,Competitors!$A$2:$G$60,7,FALSE)=\"\",\"\",VLOOKUP($A13,Competitors!$A$2:$G$60,7,FALSE)))","v":""},{"$f":"IF($A13=\"\",\"\",IF(VLOOKUP($A13,Competitors!$A$2:$G$60,5,FALSE)=\"\",\"\",VLOOKUP($A13,Competitors!$A$2:$G$60,5,FALSE)))","v":""},{"$f":"IF($A13=\"\",\"\",IF(VLOOKUP($A13,Competitors!$A$2:$G$60,6,FALSE)=\"\",\"\",VLOOKUP($A13,Competitors!$A$2:$G$60,6,FALSE)))","v":"senior"},{"$f":"IF($A13=\"\",\"\",IF(VLOOKUP($A13,Competitors!$A$2:$G$60,3,FALSE)=\"\",\"\",VLOOKUP($A13,Competitors!$A$2:$G$60,3,FALSE)))","v":""},{"$f":"IF($A13=\"\",\"\",IF(VLOOKUP($A13,Competitors!$A$2:$G$60,4,FALSE)=\"\",\"\",VLOOKUP($A13,Competitors!$A$2:$G$60,4,FALSE)))","v":""},{"$f":"IF(VLOOKUP(A13,Competitors!$A$1:$H$41,8,FALSE)=\"\",\"\",VLOOKUP(A13,Competitors!$A$1:$H$41,8,FALSE))","v":""},{"$f":"IF(IFERROR(VLOOKUP(($B$2&\"_\"&$A13),'Time Entry Sheet'!$A$3:$I$499,9,0),\"Error\")=\"Error\",\"\",IF(VLOOKUP(($B$2&\"_\"&$A13),'Time Entry Sheet'!$A$3:$I$499,9,FALSE)=\"wd\",\"wd\",VLOOKUP(($B$2&\"_\"&$A13),'Time Entry Sheet'!$A$3:$I$499,9,FALSE)*1))","v":"00:00:46.650"},{"$f":"IF(E13=\"Junior\",\"\",IF(I13=\"wd\",\"\",IF(K13<>\"\",\"\",I13)))","v":"00:00:46.650"},{"$f":"IF(IFERROR(VLOOKUP(($B$2&\"_\"&$A13),'Time Entry Sheet'!$A$3:$I$499,8,FALSE),\"Error\")=\"Error\",\"\",IF(VLOOKUP(($B$2&\"_\"&$A13),'Time Entry Sheet'!$A$3:$I$499,8,FALSE)=\"\",\"\",VLOOKUP(($B$2&\"_\"&$A13),'Time Entry Sheet'!$A$3:$I$499,8,FALSE)))","v":""},{"$f":"IF(IFERROR(VLOOKUP(($B$2&\"_\"&$A13),'Time Entry Sheet'!$A$3:$I$499,7,FALSE),\"Error\")=\"Error\",\"\",IF(VLOOKUP(($B$2&\"_\"&$A13),'Time Entry Sheet'!$A$3:$I$499,7,FALSE)=\"\",\"\",VLOOKUP(($B$2&\"_\"&$A13),'Time Entry Sheet'!$A$3:$I$499,7,FALSE)))","v":""},{"$f":"IF(A13=\"\",\"\",IF(I13=\"wd\",IF(E13=\"Senior\",$B$7,$C$7),IF(L13<>\"\",$B$7,IF(I13=\"\",IF(E13=\"Senior\",$B$8,$C$8),IF(K13=\"\",I13,I13+($B$5*K13))))))","v":"00:00:46.650"},{"$f":"IF(H13=\"Passenger\",\"\",M13)","v":"00:00:46.650"},{"$f":"IF(A13=\"\",\"\",IF(H13=\"Passenger\",\"P\",RANK(N13,$N$12:$N$51,1)))","v":2},{"$f":"IF(A13=\"\",\"\",M13+VLOOKUP(A13,'Test 7'!$A$12:$Q$51,16,FALSE))","v":"00:06:49.200"},{"$f":"IF(A13=\"\",\"\",IF(H13=\"Passenger\",\"P\",RANK(T13,$T$12:$T$51,1)))","v":5},null,{"$f":"IF(E13=\"Senior\",\"\",IF(I13=\"wd\",\"\",IF(K13<>\"\",\"\",I13)))","v":""},{"$f":"IF(H13=\"Passenger\",\"\",P13)","v":"00:06:49.200"}]
[3,{"$f":"IF($A14=\"\",\"\",IF(VLOOKUP($A14,Competitors!$A$2:$G$60,2,FALSE)=\"\",\"\",VLOOKUP($A14,Competitors!$A$2:$G$60,2,FALSE)))","v":"David Ballard"},{"$f":"IF($A14=\"\",\"\",IF(VLOOKUP($A14,Competitors!$A$2:$G$60,7,FALSE)=\"\",\"\",VLOOKUP($A14,Competitors!$A$2:$G$60,7,FALSE)))","v":""},{"$f":"IF($A14=\"\",\"\",IF(VLOOKUP($A14,Competitors!$A$2:$G$60,5,FALSE)=\"\",\"\",VLOOKUP($A14,Competitors!$A$2:$G$60,5,FALSE)))","v":""},{"$f":"IF($A14=\"\",\"\",IF(VLOOKUP($A14,Competitors!$A$2:$G$60,6,FALSE)=\"\",\"\",VLOOKUP($A14,Competitors!$A$2:$G$60,6,FALSE)))","v":"senior"},{"$f":"IF($A14=\"\",\"\",IF(VLOOKUP($A14,Competitors!$A$2:$G$60,3,FALSE)=\"\",\"\",VLOOKUP($A14,Competitors!$A$2:$G$60,3,FALSE)))","v":""},{"$f":"IF($A14=\"\",\"\",IF(VLOOKUP($A14,Competitors!$A$2:$G$60,4,FALSE)=\"\",\"\",VLOOKUP($A14,Competitors!$A$2:$G$60,4,FALSE)))","v":""},{"$f":"IF(VLOOKUP(A14,Competitors!$A$1:$H$41,8,FALSE)=\"\",\"\",VLOOKUP(A14,Competitors!$A$1:$H$41,8,FALSE))","v":""},{"$f":"IF(IFERROR(VLOOKUP(($B$2&\"_\"&$A14),'Time Entry Sheet'!$A$3:$I$499,9,0),\"Error\")=\"Error\",\"\",IF(VLOOKUP(($B$2&\"_\"&$A14),'Time Entry Sheet'!$A$3:$I$499,9,FALSE)=\"wd\",\"wd\",VLOOKUP(($B$2&\"_\"&$A14),'Time Entry Sheet'!$A$3:$I$499,9,FALSE)*1))","v":"00:00:50.120"},"00:00:50.120",{"$f":"IF(IFERROR(VLOOKUP(($B$2&\"_\"&$A14),'Time Entry Sheet'!$A$3:$I$499,8,FALSE),\"Error\")=\"Error\",\"\",IF(VLOOKUP(($B$2&\"_\"&$A14),'Time Entry Sheet'!$A$3:$I$499,8,FALSE)=\"\",\"\",VLOOKUP(($B$2&\"_\"&$A14),'Time Entry Sheet'!$A$3:$I$499,8,FALSE)))","v":""},{"$f":"IF(IFERROR(VLOOKUP(($B$2&\"_\"&$A14),'Time Entry Sheet'!$A$3:$I$499,7,FALSE),\"Error\")=\"Error\",\"\",IF(VLOOKUP(($B$2&\"_\"&$A14),'Time Entry Sheet'!$A$3:$I$499,7,FALSE)=\"\",\"\",VLOOKUP(($B$2&\"_\"&$A14),'Time Entry Sheet'!$A$3:$I$499,7,FALSE)))","v":""},"00:00:50.120","00:00:50.120",7,{"$f":"IF(A14=\"\",\"\",M14+VLOOKUP(A14,'Test 7'!$A$12:$Q$51,16,FALSE))","v":"00:07:22.030"},12,null,"","00:07:22.030"]
[4,{"$f":"IF($A15=\"\",\"\",IF(VLOOKUP($A15,Competitors!$A$2:$G$60,2,FALSE)=\"\",\"\",VLOOKUP($A15,Competitors!$A$2:$G$60,2,FALSE)))","v":"Michaela Ballard"},{"$f":"IF($A15=\"\",\"\",IF(VLOOKUP($A15,Competitors!$A$2:$G$60,7,FALSE)=\"\",\"\",VLOOKUP($A15,Competitors!$A$2:$G$60,7,FALSE)))","v":"rookie"},{"$f":"IF($A15=\"\",\"\",IF(VLOOKUP($A15,Competitors!$A$2:$G$60,5,FALSE)=\"\",\"\",VLOOKUP($A15,Competitors!$A$2:$G$60,5,FALSE)))","v":"female"},{"$f":"IF($A15=\"\",\"\",IF(VLOOKUP($A15,Competitors!$A$2:$G$60,6,FALSE)=\"\",\"\",VLOOKUP($A15,Competitors!$A$2:$G$60,6,FALSE)))","v":"senior"},{"$f":"IF($A15=\"\",\"\",IF(VLOOKUP($A15,Competitors!$A$2:$G$60,3,FALSE)=\"\",\"\",VLOOKUP($A15,Competitors!$A$2:$G$60,3,FALSE)))","v":""},{"$f":"IF($A15=\"\",\"\",IF(VLOOKUP($A15,Competitors!$A$2:$G$60,4,FALSE)=\"\",\"\",VLOOKUP($A15,Competitors!$A$2:$G$60,4,FALSE)))","v":""},{"$f":"IF(VLOOKUP(A15,Competitors!$A$1:$H$41,8,FALSE)=\"\",\"\",VLOOKUP(A15,Competitors!$A$1:$H$41,8,FALSE))","v":""},{"$f":"IF(IFERROR(VLOOKUP(($B$2&\"_\"&$A15),'Time Entry Sheet'!$A$3:$I$499,9,0),\"Error\")=\"Error\",\"\",IF(VLOOKUP(($B$2&\"_\"&$A15),'Time Entry Sheet'!$A$3:$I$499,9,FALSE)=\"wd\",\"wd\",VLOOKUP(($B$2&\"_\"&$A15),'Time Entry Sheet'!$A$3:$I$499,9,FALSE)*1))","v":"00:00:57.170"},"",{"$f":"IF(IFERROR(VLOOKUP(($B$2&\"_\"&$A15),'Time Entry Sheet'!$A$3:$I$499,8,FALSE),\"Error\")=\"Error\",\"\",IF(VLOOKUP(($B$2&\"_\"&$A15),'Time Entry Sheet'!$A$3:$I$499,8,FALSE)=\"\",\"\",VLOOKUP(($B$2&\"_\"&$A15),'Time Entry Sheet'!$A$3:$I$499,8,FALSE)))","v":1},{"$f":"IF(IFERROR(VLOOKUP(($B$2&\"_\"&$A15),'Time Entry Sheet'!$A$3:$I$499,7,FALSE),\"Error\")=\"Error\",\"\",IF(VLOOKUP(($B$2&\"_\"&$A15),'Time Entry Sheet'!$A$3:$I$499,7,FALSE)=\"\",\"\",VLOOKUP(($B$2&\"_\"&$A15),'Time Entry Sheet'!$A$3:$I$499,7,FALSE)))","v":""},"00:01:02.170","00:01:02.170",18,{"$f":"IF(A15=\"\",\"\",M15+VLOOKUP(A15,'Test 7'!$A$12:$Q$51,16,FALSE))","v":"00:08:08.580"},19,null,"","00:08:08.580"]
[5,{"$f":"IF($A16=\"\",\"\",IF(VLOOKUP($A16,Competitors!$A$2:$G$60,2,FALSE)=\"\",\"\",VLOOKUP($A16,Competitors!$A$2:$G$60,2,FALSE)))","v":"Janelle Ballard"},{"$f":"IF($A16=\"\",\"\",IF(VLOOKUP($A16,Competitors!$A$2:$G$60,7,FALSE)=\"\",\"\",VLOOKUP($A16,Competitors!$A$2:$G$60,7,FALSE)))","v":""},{"$f":"IF($A16=\"\",\"\",IF(VLOOKUP($A16,Competitors!$A$2:$G$60,5,FALSE)=\"\",\"\",VLOOKUP($A16,Competitors!$A$2:$G$60,5,FALSE)))","v":"female"},{"$f":"IF($A16=\"\",\"\",IF(VLOOKUP($A16,Competitors!$A$2:$G$60,6,FALSE)=\"\",\"\",VLOOKUP($A16,Competitors!$A$2:$G$60,6,FALSE)))","v":"senior"},{"$f":"IF($A16=\"\",\"\",IF(VLOOKUP($A16,Competitors!$A$2:$G$60,3,FALSE)=\"\",\"\",VLOOKUP($A16,Competitors!$A$2:$G$60,3,FALSE)))","v":""},{"$f":"IF($A16=\"\",\"\",IF(VLOOKUP($A16,Competitors!$A$2:$G$60,4,FALSE)=\"\",\"\",VLOOKUP($A16,Competitors!$A$2:$G$60,4,FALSE)))","v":""},{"$f":"IF(VLOOKUP(A16,Competitors!$A$1:$H$41,8,FALSE)=\"\",\"\",VLOOKUP(A16,Competitors!$A$1:$H$41,8,FALSE))","v":""},{"$f":"IF(IFERROR(VLOOKUP(($B$2&\"_\"&$A16),'Time Entry Sheet'!$A$3:$I$499,9,0),\"Error\")=\"Error\",\"\",IF(VLOOKUP(($B$2&\"_\"&$A16),'Time Entry Sheet'!$A$3:$I$499,9,FALSE)=\"wd\",\"wd\",VLOOKUP(($B$2&\"_\"&$A16),'Time Entry Sheet'!$A$3:$I$499,9,FALSE)*1))","v":"00:00:52.140"},"00:00:52.140",{"$f":"IF(IFERROR(VLOOKUP(($B$2&\"_\"&$A16),'Time Entry Sheet'!$A$3:$I$499,8,FALSE),\"Error\")=\"Error\",\"\",IF(VLOOKUP(($B$2&\"_\"&$A16),'Time Entry Sheet'!$A$3:$I$499,8,FALSE)=\"\",\"\",VLOOKUP(($B$2&\"_\"&$A16),'Time Entry Sheet'!$A$3:$I$499,8,FALSE)))","v":""},{"$f":"IF(IFERROR(VLOOKUP(($B$2&\"_\"&$A16),'Time Entry Sheet'!$A$3:$I$499,7,FALSE),\"Error\")=\"Error\",\"\",IF(VLOOKUP(($B$2&\"_\"&$A16),'Time Entry Sheet'!$A$3:$I$499,7,FALSE)=\"\",\"\",VLOOKUP(($B$2&\"_\"&$A16),'Time Entry Sheet'!$A$3:$I$499,7,FALSE)))","v":""},"00:00:52.140","00:00:52.140",10,{"$f":"IF(A16=\"\",\"\",M16+VLOOKUP(A16,'Test 7'!$A$12:$Q$51,16,FALSE))","v":"00:07:03.480"},8,null,"","00:07:03.480"]
[6,{"$f":"IF($A17=\"\",\"\",IF(VLOOKUP($A17,Competitors!$A$2:$G$60,2,FALSE)=\"\",\"\",VLOOKUP($A17,Competitors!$A$2:$G$60,2,FALSE)))","v":"Issac Wishart"},{"$f":"IF($A17=\"\",\"\",IF(VLOOKUP($A17,Competitors!$A$2:$G$60,7,FALSE)=\"\",\"\",VLOOKUP($A17,Competitors!$A$2:$G$60,7,FALSE)))","v":"rookie"},{"$f":"IF($A17=\"\",\"\",IF(VLOOKUP($A17,Competitors!$A$2:$G$60,5,FALSE)=\"\",\"\",VLOOKUP($A17,Competitors!$A$2:$G$60,5,FALSE)))","v":""},{"$f":"IF($A17=\"\",\"\",IF(VLOOKUP($A17,Competitors!$A$2:$G$60,6,FALSE)=\"\",\"\",VLOOKUP($A17,Competitors!$A$2:$G$60,6,FALSE)))","v":"senior"},{"$f":"IF($A17=\"\",\"\",IF(VLOOKUP($A17,Competitors!$A$2:$G$60,3,FALSE)=\"\",\"\",VLOOKUP($A17,Competitors!$A$2:$G$60,3,FALSE)))","v":""},{"$f":"IF($A17=\"\",\"\",IF(VLOOKUP($A17,Competitors!$A$2:$G$60,4,FALSE)=\"\",\"\",VLOOKUP($A17,Competitors!$A$2:$G$60,4,FALSE)))","v":""},{"$f":"IF(VLOOKUP(A17,Competitors!$A$1:$H$41,8,FALSE)=\"\",\"\",VLOOKUP(A17,Competitors!$A$1:$H$41,8,FALSE))","v":""},{"$f":"IF(IFERROR(VLOOKUP(($B$2&\"_\"&$A17),'Time Entry Sheet'!$A$3:$I$499,9,0),\"Error\")=\"Error\",\"\",IF(VLOOKUP(($B$2&\"_\"&$A17),'Time Entry Sheet'!$A$3:$I$499,9,FALSE)=\"wd\",\"wd\",VLOOKUP(($B$2&\"_\"&$A17),'Time Entry Sheet'!$A$3:$I$499,9,FALSE)*1))","v":"00:00:54.280"},"00:00:54.280",{"$f":"IF(IFERROR(VLOOKUP(($B$2&\"_\"&$A17),'Time Entry Sheet'!$A$3:$I$499,8,FALSE),\"Error\")=\"Error\",\"\",IF(VLOOKUP(($B$2&\"_\"&$A17),'Time Entry Sheet'!$A$3:$I$499,8,FALSE)=\"\",\"\",VLOOKUP(($B$2&\"_\"&$A17),'Time Entry Sheet'!$A$3:$I$499,8,FALSE)))","v":""},{"$f":"IF(IFERROR(VLOOKUP(($B$2&\"_\"&$A17),'Time Entry Sheet'!$A$3:$I$499,7,FALSE),\"Error\")=\"Error\",\"\",IF(VLOOKUP(($B$2&\"_\"&$A17),'Time Entry Sheet'!$A$3:$I$499,7,FALSE)=\"\",\"\",VLOOKUP(($B$2&\"_\"&$A17),'Time Entry Sheet'!$A$3:$I$499,7,FALSE)))","v":""},"00:00:54.280","00:00:54.280",16,{"$f":"IF(A17=\"\",\"\",M17+VLOOKUP(A17,'Test 7'!$A$12:$Q$51,16,FALSE))","v":"00:07:42.310"},16,null,"","00:07:42.310"]
[7,{"$f":"IF($A18=\"\",\"\",IF(VLOOKUP($A18,Competitors!$A$2:$G$60,2,FALSE)=\"\",\"\",VLOOKUP($A18,Competitors!$A$2:$G$60,2,FALSE)))","v":""},{"$f":"IF($A18=\"\",\"\",IF(VLOOKUP($A18,Competitors!$A$2:$G$60,7,FALSE)=\"\",\"\",VLOOKUP($A18,Competitors!$A$2:$G$60,7,FALSE)))","v":""},{"$f":"IF($A18=\"\",\"\",IF(VLOOKUP($A18,Competitors!$A$2:$G$60,5,FALSE)=\"\",\"\",VLOOKUP($A18,Competitors!$A$2:$G$60,5,FALSE)))","v":""},{"$f":"IF($A18=\"\",\"\",IF(VLOOKUP($A18,Competitors!$A$2:$G$60,6,FALSE)=\"\",\"\",VLOOKUP($A18,Competitors!$A$2:$G$60,6,FALSE)))","v":"senior"},{"$f":"IF($A18=\"\",\"\",IF(VLOOKUP($A18,Competitors!$A$2:$G$60,3,FALSE)=\"\",\"\",VLOOKUP($A18,Competitors!$A$2:$G$60,3,FALSE)))","v":""},{"$f":"IF($A18=\"\",\"\",IF(VLOOKUP($A18,Competitors!$A$2:$G$60,4,FALSE)=\"\",\"\",VLOOKUP($A18,Competitors!$A$2:$G$60,4,FALSE)))","v":""},{"$f":"IF(VLOOKUP(A18,Competitors!$A$1:$H$41,8,FALSE)=\"\",\"\",VLOOKUP(A18,Competitors!$A$1:$H$41,8,FALSE))","v":""},{"$f":"IF(IFERROR(VLOOKUP(($B$2&\"_\"&$A18),'Time Entry Sheet'!$A$3:$I$499,9,0),\"Error\")=\"Error\",\"\",IF(VLOOKUP(($B$2&\"_\"&$A18),'Time Entry Sheet'!$A$3:$I$499,9,FALSE)=\"wd\",\"wd\",VLOOKUP(($B$2&\"_\"&$A18),'Time Entry Sheet'!$A$3:$I$499,9,FALSE)*1))","v":""},"",{"$f":"IF(IFERROR(VLOOKUP(($B$2&\"_\"&$A18),'Time Entry Sheet'!$A$3:$I$499,8,FALSE),\"Error\")=\"Error\",\"\",IF(VLOOKUP(($B$2&\"_\"&$A18),'Time Entry Sheet'!$A$3:$I$499,8,FALSE)=\"\",\"\",VLOOKUP(($B$2&\"_\"&$A18),'Time Entry Sheet'!$A$3:$I$499,8,FALSE)))","v":""},{"$f":"IF(IFERROR(VLOOKUP(($B$2&\"_\"&$A18),'Time Entry Sheet'!$A$3:$I$499,7,FALSE),\"Error\")=\"Error\",\"\",IF(VLOOKUP(($B$2&\"_\"&$A18),'Time Entry Sheet'!$A$3:$I$499,7,FALSE)=\"\",\"\",VLOOKUP(($B$2&\"_\"&$A18),'Time Entry Sheet'!$A$3:$I$499,7,FALSE)))","v":""},"00:01:04.310","00:01:04.310",19,{"$f":"IF(A18=\"\",\"\",M18+VLOOKUP(A18,'Test 7'!$A$12:$Q$51,16,FALSE))","v":"00:09:39.470"},20,null,"","00:09:39.470"]
[8,{"$f":"IF($A19=\"\",\"\",IF(VLOOKUP($A19,Competitors!$A$2:$G$60,2,FALSE)=\"\",\"\",VLOOKUP($A19,Competitors!$A$2:$G$60,2,FALSE)))","v":"Jim Taylor"},{"$f":"IF($A19=\"\",\"\",IF(VLOOKUP($A19,Competitors!$A$2:$G$60,7,FALSE)=\"\",\"\",VLOOKUP($A19,Competitors!$A$2:$G$60,7,FALSE)))","v":""},{"$f":"IF($A19=\"\",\"\",IF(VLOOKUP($A19,Competitors!$A$2:$G$60,5,FALSE)=\"\",\"\",VLOOKUP($A19,Competitors!$A$2:$G$60,5,FALSE)))","v":""},{"$f":"IF($A19=\"\",\"\",IF(VLOOKUP($A19,Competitors!$A$2:$G$60,6,FALSE)=\"\",\"\",VLOOKUP($A19,Competitors!$A$2:$G$60,6,FALSE)))","v":"senior"},{"$f":"IF($A19=\"\",\"\",IF(VLOOKUP($A19,Competitors!$A$2:$G$60,3,FALSE)=\"\",\"\",VLOOKUP($A19,Competitors!$A$2:$G$60,3,FALSE)))","v":""},{"$f":"IF($A19=\"\",\"\",IF(VLOOKUP($A19,Competitors!$A$2:$G$60,4,FALSE)=\"\",\"\",VLOOKUP($A19,Competitors!$A$2:$G$60,4,FALSE)))","v":""},{"$f":"IF(VLOOKUP(A19,Competitors!$A$1:$H$41,8,FALSE)=\"\",\"\",VLOOKUP(A19,Competitors!$A$1:$H$41,8,FALSE))","v":""},{"$f":"IF(IFERROR(VLOOKUP(($B$2&\"_\"&$A19),'Time Entry Sheet'!$A$3:$I$499,9,0),\"Error\")=\"Error\",\"\",IF(VLOOKUP(($B$2&\"_\"&$A19),'Time Entry Sheet'!$A$3:$I$499,9,FALSE)=\"wd\",\"wd\",VLOOKUP(($B$2&\"_\"&$A19),'Time Entry Sheet'!$A$3:$I$499,9,FALSE)*1))","v":"00:00:53.770"},"00:00:53.770",{"$f":"IF(IFERROR(VLOOKUP(($B$2&\"_\"&$A19),'Time Entry Sheet'!$A$3:$I$499,8,FALSE),\"Error\")=\"Error\",\"\",IF(VLOOKUP(($B$2&\"_\"&$A19),'Time Entry Sheet'!$A$3:$I$499,8,FALSE)=\"\",\"\",VLOOKUP(($B$2&\"_\"&$A19),'Time Entry Sheet'!$A$3:$I$499,8,FALSE)))","v":""},{"$f":"IF(IFERROR(VLOOKUP(($B$2&\"_\"&$A19),'Time Entry Sheet'!$A$3:$I$499,7,FALSE),\"Error\")=\"Error\",\"\",IF(VLOOKUP(($B$2&\"_\"&$A19),'Time Entry Sheet'!$A$3:$I$499,7,FALSE)=\"\",\"\",VLOOKUP(($B$2&\"_\"&$A19),'Time Entry Sheet'!$A$3:$I$499,7,FALSE)))","v":""},"00:00:53.770","00:00:53.770",14,{"$f":"IF(A19=\"\",\"\",M19+VLOOKUP(A19,'Test 7'!$A$12:$Q$51,16,FALSE))","v":"00:07:14.450"},11,null,"","00:07:14.450"]
[9,{"$f":"IF($A20=\"\",\"\",IF(VLOOKUP($A20,Competitors!$A$2:$G$60,2,FALSE)=\"\",\"\",VLOOKUP($A20,Competitors!$A$2:$G$60,2,FALSE)))","v":"Brad Firman"},{"$f":"IF($A20=\"\",\"\",IF(VLOOKUP($A20,Competitors!$A$2:$G$60,7,FALSE)=\"\",\"\",VLOOKUP($A20,Competitors!$A$2:$G$60,7,FALSE)))","v":""},{"$f":"IF($A20=\"\",\"\",IF(VLOOKUP($A20,Competitors!$A$2:$G$60,5,FALSE)=\"\",\"\",VLOOKUP($A20,Competitors!$A$2:$G$60,5,FALSE)))","v":""},{"$f":"IF($A20=\"\",\"\",IF(VLOOKUP($A20,Competitors!$A$2:$G$60,6,FALSE)=\"\",\"\",VLOOKUP($A20,Competitors!$A$2:$G$60,6,FALSE)))","v":"senior"},{"$f":"IF($A20=\"\",\"\",IF(VLOOKUP($A20,Competitors!$A$2:$G$60,3,FALSE)=\"\",\"\",VLOOKUP($A20,Competitors!$A$2:$G$60,3,FALSE)))","v":""},{"$f":"IF($A20=\"\",\"\",IF(VLOOKUP($A20,Competitors!$A$2:$G$60,4,FALSE)=\"\",\"\",VLOOKUP($A20,Competitors!$A$2:$G$60,4,FALSE)))","v":""},{"$f":"IF(VLOOKUP(A20,Competitors!$A$1:$H$41,8,FALSE)=\"\",\"\",VLOOKUP(A20,Competitors!$A$1:$H$41,8,FALSE))","v":""},{"$f":"IF(IFERROR(VLOOKUP(($B$2&\"_\"&$A20),'Time Entry Sheet'!$A$3:$I$499,9,0),\"Error\")=\"Error\",\"\",IF(VLOOKUP(($B$2&\"_\"&$A20),'Time Entry Sheet'!$A$3:$I$499,9,FALSE)=\"wd\",\"wd\",VLOOKUP(($B$2&\"_\"&$A20),'Time Entry Sheet'!$A$3:$I$499,9,FALSE)*1))","v":"00:00:47.930"},"00:00:47.930",{"$f":"IF(IFERROR(VLOOKUP(($B$2&\"_\"&$A20),'Time Entry Sheet'!$A$3:$I$499,8,FALSE),\"Error\")=\"Error\",\"\",IF(VLOOKUP(($B$2&\"_\"&$A20),'Time Entry Sheet'!$A$3:$I$499,8,FALSE)=\"\",\"\",VLOOKUP(($B$2&\"_\"&$A20),'Time Entry Sheet'!$A$3:$I$499,8,FALSE)))","v":""},{"$f":"IF(IFERROR(VLOOKUP(($B$2&\"_\"&$A20),'Time Entry Sheet'!$A$3:$I$499,7,FALSE),\"Error\")=\"Error\",\"\",IF(VLOOKUP(($B$2&\"_\"&$A20),'Time Entry Sheet'!$A$3:$I$499,7,FALSE)=\"\",\"\",VLOOKUP(($B$2&\"_\"&$A20),'Time Entry Sheet'!$A$3:$I$499,7,FALSE)))","v":""},"00:00:47.930","00:00:47.930",4,{"$f":"IF(A20=\"\",\"\",M20+VLOOKUP(A20,'Test 7'!$A$12:$Q$51,16,FALSE))","v":"00:06:29.140"},3,null,"","00:06:29.140"]
[10,{"$f":"IF($A21=\"\",\"\",IF(VLOOKUP($A21,Competitors!$A$2:$G$60,2,FALSE)=\"\",\"\",VLOOKUP($A21,Competitors!$A$2:$G$60,2,FALSE)))","v":"Scott Taylor"},{"$f":"IF($A21=\"\",\"\",IF(VLOOKUP($A21,Competitors!$A$2:$G$60,7,FALSE)=\"\",\"\",VLOOKUP($A21,Competitors!$A$2:$G$60,7,FALSE)))","v":""},{"$f":"IF($A21=\"\",\"\",IF(VLOOKUP($A21,Competitors!$A$2:$G$60,5,FALSE)=\"\",\"\",VLOOKUP($A21,Competitors!$A$2:$G$60,5,FALSE)))","v":""},{"$f":"IF($A21=\"\",\"\",IF(VLOOKUP($A21,Competitors!$A$2:$G$60,6,FALSE)=\"\",\"\",VLOOKUP($A21,Competitors!$A$2:$G$60,6,FALSE)))","v":"senior"},{"$f":"IF($A21=\"\",\"\",IF(VLOOKUP($A21,Competitors!$A$2:$G$60,3,FALSE)=\"\",\"\",VLOOKUP($A21,Competitors!$A$2:$G$60,3,FALSE)))","v":""},{"$f":"IF($A21=\"\",\"\",IF(VLOOKUP($A21,Competitors!$A$2:$G$60,4,FALSE)=\"\",\"\",VLOOKUP($A21,Competitors!$A$2:$G$60,4,FALSE)))","v":""},{"$f":"IF(VLOOKUP(A21,Competitors!$A$1:$H$41,8,FALSE)=\"\",\"\",VLOOKUP(A21,Competitors!$A$1:$H$41,8,FALSE))","v":""},{"$f":"IF(IFERROR(VLOOKUP(($B$2&\"_\"&$A21),'Time Entry Sheet'!$A$3:$I$499,9,0),\"Error\")=\"Error\",\"\",IF(VLOOKUP(($B$2&\"_\"&$A21),'Time Entry Sheet'!$A$3:$I$499,9,FALSE)=\"wd\",\"wd\",VLOOKUP(($B$2&\"_\"&$A21),'Time Entry Sheet'!$A$3:$I$499,9,FALSE)*1))","v":"00:00:50.160"},"00:00:50.160",{"$f":"IF(IFERROR(VLOOKUP(($B$2&\"_\"&$A21),'Time Entry Sheet'!$A$3:$I$499,8,FALSE),\"Error\")=\"Error\",\"\",IF(VLOOKUP(($B$2&\"_\"&$A21),'Time Entry Sheet'!$A$3:$I$499,8,FALSE)=\"\",\"\",VLOOKUP(($B$2&\"_\"&$A21),'Time Entry Sheet'!$A$3:$I$499,8,FALSE)))","v":""},{"$f":"IF(IFERROR(VLOOKUP(($B$2&\"_\"&$A21),'Time Entry Sheet'!$A$3:$I$499,7,FALSE),\"Error\")=\"Error\",\"\",IF(VLOOKUP(($B$2&\"_\"&$A21),'Time Entry Sheet'!$A$3:$I$499,7,FALSE)=\"\",\"\",VLOOKUP(($B$2&\"_\"&$A21),'Time Entry Sheet'!$A$3:$I$499,7,FALSE)))","v":""},"00:00:50.160","00:00:50.160",8,{"$f":"IF(A21=\"\",\"\",M21+VLOOKUP(A21,'Test 7'!$A$12:$Q$51,16,FALSE))","v":"00:07:23.160"},14,null,"","00:07:23.160"]
[11,{"$f":"IF($A22=\"\",\"\",IF(VLOOKUP($A22,Competitors!$A$2:$G$60,2,FALSE)=\"\",\"\",VLOOKUP($A22,Competitors!$A$2:$G$60,2,FALSE)))","v":"Russel McKinley"},{"$f":"IF($A22=\"\",\"\",IF(VLOOKUP($A22,Competitors!$A$2:$G$60,7,FALSE)=\"\",\"\",VLOOKUP($A22,Competitors!$A$2:$G$60,7,FALSE)))","v":""},{"$f":"IF($A22=\"\",\"\",IF(VLOOKUP($A22,Competitors!$A$2:$G$60,5,FALSE)=\"\",\"\",VLOOKUP($A22,Competitors!$A$2:$G$60,5,FALSE)))","v":""},{"$f":"IF($A22=\"\",\"\",IF(VLOOKUP($A22,Competitors!$A$2:$G$60,6,FALSE)=\"\",\"\",VLOOKUP($A22,Competitors!$A$2:$G$60,6,FALSE)))","v":"senior"},{"$f":"IF($A22=\"\",\"\",IF(VLOOKUP($A22,Competitors!$A$2:$G$60,3,FALSE)=\"\",\"\",VLOOKUP($A22,Competitors!$A$2:$G$60,3,FALSE)))","v":""},{"$f":"IF($A22=\"\",\"\",IF(VLOOKUP($A22,Competitors!$A$2:$G$60,4,FALSE)=\"\",\"\",VLOOKUP($A22,Competitors!$A$2:$G$60,4,FALSE)))","v":""},{"$f":"IF(VLOOKUP(A22,Competitors!$A$1:$H$41,8,FALSE)=\"\",\"\",VLOOKUP(A22,Competitors!$A$1:$H$41,8,FALSE))","v":""},{"$f":"IF(IFERROR(VLOOKUP(($B$2&\"_\"&$A22),'Time Entry Sheet'!$A$3:$I$499,9,0),\"Error\")=\"Error\",\"\",IF(VLOOKUP(($B$2&\"_\"&$A22),'Time Entry Sheet'!$A$3:$I$499,9,FALSE)=\"wd\",\"wd\",VLOOKUP(($B$2&\"_\"&$A22),'Time Entry Sheet'!$A$3:$I$499,9,FALSE)*1))","v":"00:00:52.850"},"00:00:52.850",{"$f":"IF(IFERROR(VLOOKUP(($B$2&\"_\"&$A22),'Time Entry Sheet'!$A$3:$I$499,8,FALSE),\"Error\")=\"Error\",\"\",IF(VLOOKUP(($B$2&\"_\"&$A22),'Time Entry Sheet'!$A$3:$I$499,8,FALSE)=\"\",\"\",VLOOKUP(($B$2&\"_\"&$A22),'Time Entry Sheet'!$A$3:$I$499,8,FALSE)))","v":""},{"$f":"IF(IFERROR(VLOOKUP(($B$2&\"_\"&$A22),'Time Entry Sheet'!$A$3:$I$499,7,FALSE),\"Error\")=\"Error\",\"\",IF(VLOOKUP(($B$2&\"_\"&$A22),'Time Entry Sheet'!$A$3:$I$499,7,FALSE)=\"\",\"\",VLOOKUP(($B$2&\"_\"&$A22),'Time Entry Sheet'!$A$3:$I$499,7,FALSE)))","v":""},"00:00:52.850","00:00:52.850",11,{"$f":"IF(A22=\"\",\"\",M22+VLOOKUP(A22,'Test 7'!$A$12:$Q$51,16,FALSE))","v":"00:07:22.390"},13,null,"","00:07:22.390"]
[12,{"$f":"IF($A23=\"\",\"\",IF(VLOOKUP($A23,Competitors!$A$2:$G$60,2,FALSE)=\"\",\"\",VLOOKUP($A23,Competitors!$A$2:$G$60,2,FALSE)))","v":"Mat Boorman"},{"$f":"IF($A23=\"\",\"\",IF(VLOOKUP($A23,Competitors!$A$2:$G$60,7,FALSE)=\"\",\"\",VLOOKUP($A23,Competitors!$A$2:$G$60,7,FALSE)))","v":""},{"$f":"IF($A23=\"\",\"\",IF(VLOOKUP($A23,Competitors!$A$2:$G$60,5,FALSE)=\"\",\"\",VLOOKUP($A23,Competitors!$A$2:$G$60,5,FALSE)))","v":""},{"$f":"IF($A23=\"\",\"\",IF(VLOOKUP($A23,Competitors!$A$2:$G$60,6,FALSE)=\"\",\"\",VLOOKUP($A23,Competitors!$A$2:$G$60,6,FALSE)))","v":"senior"},{"$f":"IF($A23=\"\",\"\",IF(VLOOKUP($A23,Competitors!$A$2:$G$60,3,FALSE)=\"\",\"\",VLOOKUP($A23,Competitors!$A$2:$G$60,3,FALSE)))","v":""},{"$f":"IF($A23=\"\",\"\",IF(VLOOKUP($A23,Competitors!$A$2:$G$60,4,FALSE)=\"\",\"\",VLOOKUP($A23,Competitors!$A$2:$G$60,4,FALSE)))","v":""},{"$f":"IF(VLOOKUP(A23,Competitors!$A$1:$H$41,8,FALSE)=\"\",\"\",VLOOKUP(A23,Competitors!$A$1:$H$41,8,FALSE))","v":""},{"$f":"IF(IFERROR(VLOOKUP(($B$2&\"_\"&$A23),'Time Entry Sheet'!$A$3:$I$499,9,0),\"Error\")=\"Error\",\"\",IF(VLOOKUP(($B$2&\"_\"&$A23),'Time Entry Sheet'!$A$3:$I$499,9,FALSE)=\"wd\",\"wd\",VLOOKUP(($B$2&\"_\"&$A23),'Time Entry Sheet'!$A$3:$I$499,9,FALSE)*1))","v":"00:00:52.080"},"",{"$f":"IF(IFERROR(VLOOKUP(($B$2&\"_\"&$A23),'Time Entry Sheet'!$A$3:$I$499,8,FALSE),\"Error\")=\"Error\",\"\",IF(VLOOKUP(($B$2&\"_\"&$A23),'Time Entry Sheet'!$A$3:$I$499,8,FALSE)=\"\",\"\",VLOOKUP(($B$2&\"_\"&$A23),'Time Entry Sheet'!$A$3:$I$499,8,FALSE)))","v":3},{"$f":"IF(IFERROR(VLOOKUP(($B$2&\"_\"&$A23),'Time Entry Sheet'!$A$3:$I$499,7,FALSE),\"Error\")=\"Error\",\"\",IF(VLOOKUP(($B$2&\"_\"&$A23),'Time Entry Sheet'!$A$3:$I$499,7,FALSE)=\"\",\"\",VLOOKUP(($B$2&\"_\"&$A23),'Time Entry Sheet'!$A$3:$I$499,7,FALSE)))","v":""},"00:01:07.080","00:01:07.080",40,{"$f":"IF(A23=\"\",\"\",M23+VLOOKUP(A23,'Test 7'!$A$12:$Q$51,16,FALSE))","v":"00:07:27.820"},15,null,"","00:07:27.820"]
[13,{"$f":"IF($A24=\"\",\"\",IF(VLOOKUP($A24,Competitors!$A$2:$G$60,2,FALSE)=\"\",\"\",VLOOKUP($A24,Competitors!$A$2:$G$60,2,FALSE)))","v":"Aaron Wishart"},{"$f":"IF($A24=\"\",\"\",IF(VLOOKUP($A24,Competitors!$A$2:$G$60,7,FALSE)=\"\",\"\",VLOOKUP($A24,Competitors!$A$2:$G$60,7,FALSE)))","v":""},{"$f":"IF($A24=\"\",\"\",IF(VLOOKUP($A24,Competitors!$A$2:$G$60,5,FALSE)=\"\",\"\",VLOOKUP($A24,Competitors!$A$2:$G$60,5,FALSE)))","v":""},{"$f":"IF($A24=\"\",\"\",IF(VLOOKUP($A24,Competitors!$A$2:$G$60,6,FALSE)=\"\",\"\",VLOOKUP($A24,Competitors!$A$2:$G$60,6,FALSE)))","v":"senior"},{"$f":"IF($A24=\"\",\"\",IF(VLOOKUP($A24,Competitors!$A$2:$G$60,3,FALSE)=\"\",\"\",VLOOKUP($A24,Competitors!$A$2:$G$60,3,FALSE)))","v":""},{"$f":"IF($A24=\"\",\"\",IF(VLOOKUP($A24,Competitors!$A$2:$G$60,4,FALSE)=\"\",\"\",VLOOKUP($A24,Competitors!$A$2:$G$60,4,FALSE)))","v":""},{"$f":"IF(VLOOKUP(A24,Competitors!$A$1:$H$41,8,FALSE)=\"\",\"\",VLOOKUP(A24,Competitors!$A$1:$H$41,8,FALSE))","v":""},{"$f":"IF(IFERROR(VLOOKUP(($B$2&\"_\"&$A24),'Time Entry Sheet'!$A$3:$I$499,9,0),\"Error\")=\"Error\",\"\",IF(VLOOKUP(($B$2&\"_\"&$A24),'Time Entry Sheet'!$A$3:$I$499,9,FALSE)=\"wd\",\"wd\",VLOOKUP(($B$2&\"_\"&$A24),'Time Entry Sheet'!$A$3:$I$499,9,FALSE)*1))","v":"00:00:53.550"},"00:00:53.550",{"$f":"IF(IFERROR(VLOOKUP(($B$2&\"_\"&$A24),'Time Entry Sheet'!$A$3:$I$499,8,FALSE),\"Error\")=\"Error\",\"\",IF(VLOOKUP(($B$2&\"_\"&$A24),'Time Entry Sheet'!$A$3:$I$499,8,FALSE)=\"\",\"\",VLOOKUP(($B$2&\"_\"&$A24),'Time Entry Sheet'!$A$3:$I$499,8,FALSE)))","v":""},{"$f":"IF(IFERROR(VLOOKUP(($B$2&\"_\"&$A24),'Time Entry Sheet'!$A$3:$I$499,7,FALSE),\"Error\")=\"Error\",\"\",IF(VLOOKUP(($B$2&\"_\"&$A24),'Time Entry Sheet'!$A$3:$I$499,7,FALSE)=\"\",\"\",VLOOKUP(($B$2&\"_\"&$A24),'Time Entry Sheet'!$A$3:$I$499,7,FALSE)))","v":""},"00:00:53.550","00:00:53.550",13,{"$f":"IF(A24=\"\",\"\",M24+VLOOKUP(A24,'Test 7'!$A$12:$Q$51,16,FALSE))","v":"00:07:58.020"},18,null,"","00:07:58.020"]
[14,{"$f":"IF($A25=\"\",\"\",IF(VLOOKUP($A25,Competitors!$A$2:$G$60,2,FALSE)=\"\",\"\",VLOOKUP($A25,Competitors!$A$2:$G$60,2,FALSE)))","v":"Bob Fulthorpe"},{"$f":"IF($A25=\"\",\"\",IF(VLOOKUP($A25,Competitors!$A$2:$G$60,7,FALSE)=\"\",\"\",VLOOKUP($A25,Competitors!$A$2:$G$60,7,FALSE)))","v":""},{"$f":"IF($A25=\"\",\"\",IF(VLOOKUP($A25,Competitors!$A$2:$G$60,5,FALSE)=\"\",\"\",VLOOKUP($A25,Competitors!$A$2:$G$60,5,FALSE)))","v":""},{"$f":"IF($A25=\"\",\"\",IF(VLOOKUP($A25,Competitors!$A$2:$G$60,6,FALSE)=\"\",\"\",VLOOKUP($A25,Competitors!$A$2:$G$60,6,FALSE)))","v":"senior"},{"$f":"IF($A25=\"\",\"\",IF(VLOOKUP($A25,Competitors!$A$2:$G$60,3,FALSE)=\"\",\"\",VLOOKUP($A25,Competitors!$A$2:$G$60,3,FALSE)))","v":""},{"$f":"IF($A25=\"\",\"\",IF(VLOOKUP($A25,Competitors!$A$2:$G$60,4,FALSE)=\"\",\"\",VLOOKUP($A25,Competitors!$A$2:$G$60,4,FALSE)))","v":""},{"$f":"IF(VLOOKUP(A25,Competitors!$A$1:$H$41,8,FALSE)=\"\",\"\",VLOOKUP(A25,Competitors!$A$1:$H$41,8,FALSE))","v":""},{"$f":"IF(IFERROR(VLOOKUP(($B$2&\"_\"&$A25),'Time Entry Sheet'!$A$3:$I$499,9,0),\"Error\")=\"Error\",\"\",IF(VLOOKUP(($B$2&\"_\"&$A25),'Time Entry Sheet'!$A$3:$I$499,9,FALSE)=\"wd\",\"wd\",VLOOKUP(($B$2&\"_\"&$A25),'Time Entry Sheet'!$A$3:$I$499,9,FALSE)*1))","v":"00:00:47.480"},"00:00:47.480",{"$f":"IF(IFERROR(VLOOKUP(($B$2&\"_\"&$A25),'Time Entry Sheet'!$A$3:$I$499,8,FALSE),\"Error\")=\"Error\",\"\",IF(VLOOKUP(($B$2&\"_\"&$A25),'Time Entry Sheet'!$A$3:$I$499,8,FALSE)=\"\",\"\",VLOOKUP(($B$2&\"_\"&$A25),'Time Entry Sheet'!$A$3:$I$499,8,FALSE)))","v":""},{"$f":"IF(IFERROR(VLOOKUP(($B$2&\"_\"&$A25),'Time Entry Sheet'!$A$3:$I$499,7,FALSE),\"Error\")=\"Error\",\"\",IF(VLOOKUP(($B$2&\"_\"&$A25),'Time Entry Sheet'!$A$3:$I$499,7,FALSE)=\"\",\"\",VLOOKUP(($B$2&\"_\"&$A25),'Time Entry Sheet'!$A$3:$I$499,7,FALSE)))","v":""},"00:00:47.480","00:00:47.480",3,{"$f":"IF(A25=\"\",\"\",M25+VLOOKUP(A25,'Test 7'!$A$12:$Q$51,16,FALSE))","v":"00:06:36.290"},4,null,"","00:06:36.290"]
[15,{"$f":"IF($A26=\"\",\"\",IF(VLOOKUP($A26,Competitors!$A$2:$G$60,2,FALSE)=\"\",\"\",VLOOKUP($A26,Competitors!$A$2:$G$60,2,FALSE)))","v":"Khi Fulthorpe"},{"$f":"IF($A26=\"\",\"\",IF(VLOOKUP($A26,Competitors!$A$2:$G$60,7,FALSE)=\"\",\"\",VLOOKUP($A26,Competitors!$A$2:$G$60,7,FALSE)))","v":""},{"$f":"IF($A26=\"\",\"\",IF(VLOOKUP($A26,Competitors!$A$2:$G$60,5,FALSE)=\"\",\"\",VLOOKUP($A26,Competitors!$A$2:$G$60,5,FALSE)))","v":""},{"$f":"IF($A26=\"\",\"\",IF(VLOOKUP($A26,Competitors!$A$2:$G$60,6,FALSE)=\"\",\"\",VLOOKUP($A26,Competitors!$A$2:$G$60,6,FALSE)))","v":"senior"},{"$f":"IF($A26=\"\",\"\",IF(VLOOKUP($A26,Competitors!$A$2:$G$60,3,FALSE)=\"\",\"\",VLOOKUP($A26,Competitors!$A$2:$G$60,3,FALSE)))","v":""},{"$f":"IF($A26=\"\",\"\",IF(VLOOKUP($A26,Competitors!$A$2:$G$60,4,FALSE)=\"\",\"\",VLOOKUP($A26,Competitors!$A$2:$G$60,4,FALSE)))","v":""},{"$f":"IF(VLOOKUP(A26,Competitors!$A$1:$H$41,8,FALSE)=\"\",\"\",VLOOKUP(A26,Competitors!$A$1:$H$41,8,FALSE))","v":""},{"$f":"IF(IFERROR(VLOOKUP(($B$2&\"_\"&$A26),'Time Entry Sheet'!$A$3:$I$499,9,0),\"Error\")=\"Error\",\"\",IF(VLOOKUP(($B$2&\"_\"&$A26),'Time Entry Sheet'!$A$3:$I$499,9,FALSE)=\"wd\",\"wd\",VLOOKUP(($B$2&\"_\"&$A26),'Time Entry Sheet'!$A$3:$I$499,9,FALSE)*1))","v":"00:00:51.820"},"00:00:51.820",{"$f":"IF(IFERROR(VLOOKUP(($B$2&\"_\"&$A26),'Time Entry Sheet'!$A$3:$I$499,8,FALSE),\"Error\")=\"Error\",\"\",IF(VLOOKUP(($B$2&\"_\"&$A26),'Time Entry Sheet'!$A$3:$I$499,8,FALSE)=\"\",\"\",VLOOKUP(($B$2&\"_\"&$A26),'Time Entry Sheet'!$A$3:$I$499,8,FALSE)))","v":""},{"$f":"IF(IFERROR(VLOOKUP(($B$2&\"_\"&$A26),'Time Entry Sheet'!$A$3:$I$499,7,FALSE),\"Error\")=\"Error\",\"\",IF(VLOOKUP(($B$2&\"_\"&$A26),'Time Entry Sheet'!$A$3:$I$499,7,FALSE)=\"\",\"\",VLOOKUP(($B$2&\"_\"&$A26),'Time Entry Sheet'!$A$3:$I$499,7,FALSE)))","v":""},"00:00:51.820","00:00:51.820",9,{"$f":"IF(A26=\"\",\"\",M26+VLOOKUP(A26,'Test 7'!$A$12:$Q$51,16,FALSE))","v":"00:07:12.700"},10,null,"","00:07:12.700"]
[16,{"$f":"IF($A27=\"\",\"\",IF(VLOOKUP($A27,Competitors!$A$2:$G$60,2,FALSE)=\"\",\"\",VLOOKUP($A27,Competitors!$A$2:$G$60,2,FALSE)))","v":"Nathan Senior"},{"$f":"IF($A27=\"\",\"\",IF(VLOOKUP($A27,Competitors!$A$2:$G$60,7,FALSE)=\"\",\"\",VLOOKUP($A27,Competitors!$A$2:$G$60,7,FALSE)))","v":""},{"$f":"IF($A27=\"\",\"\",IF(VLOOKUP($A27,Competitors!$A$2:$G$60,5,FALSE)=\"\",\"\",VLOOKUP($A27,Competitors!$A$2:$G$60,5,FALSE)))","v":""},{"$f":"IF($A27=\"\",\"\",IF(VLOOKUP($A27,Competitors!$A$2:$G$60,6,FALSE)=\"\",\"\",VLOOKUP($A27,Competitors!$A$2:$G$60,6,FALSE)))","v":"senior"},{"$f":"IF($A27=\"\",\"\",IF(VLOOKUP($A27,Competitors!$A$2:$G$60,3,FALSE)=\"\",\"\",VLOOKUP($A27,Competitors!$A$2:$G$60,3,FALSE)))","v":""},{"$f":"IF($A27=\"\",\"\",IF(VLOOKUP($A27,Competitors!$A$2:$G$60,4,FALSE)=\"\",\"\",VLOOKUP($A27,Competitors!$A$2:$G$60,4,FALSE)))","v":""},{"$f":"IF(VLOOKUP(A27,Competitors!$A$1:$H$41,8,FALSE)=\"\",\"\",VLOOKUP(A27,Competitors!$A$1:$H$41,8,FALSE))","v":""},{"$f":"IF(IFERROR(VLOOKUP(($B$2&\"_\"&$A27),'Time Entry Sheet'!$A$3:$I$499,9,0),\"Error\")=\"Error\",\"\",IF(VLOOKUP(($B$2&\"_\"&$A27),'Time Entry Sheet'!$A$3:$I$499,9,FALSE)=\"wd\",\"wd\",VLOOKUP(($B$2&\"_\"&$A27),'Time Entry Sheet'!$A$3:$I$499,9,FALSE)*1))","v":"00:00:49.290"},"00:00:49.290",{"$f":"IF(IFERROR(VLOOKUP(($B$2&\"_\"&$A27),'Time Entry Sheet'!$A$3:$I$499,8,FALSE),\"Error\")=\"Error\",\"\",IF(VLOOKUP(($B$2&\"_\"&$A27),'Time Entry Sheet'!$A$3:$I$499,8,FALSE)=\"\",\"\",VLOOKUP(($B$2&\"_\"&$A27),'Time Entry Sheet'!$A$3:$I$499,8,FALSE)))","v":""},{"$f":"IF(IFERROR(VLOOKUP(($B$2&\"_\"&$A27),'Time Entry Sheet'!$A$3:$I$499,7,FALSE),\"Error\")=\"Error\",\"\",IF(VLOOKUP(($B$2&\"_\"&$A27),'Time Entry Sheet'!$A$3:$I$499,7,FALSE)=\"\",\"\",VLOOKUP(($B$2&\"_\"&$A27),'Time Entry Sheet'!$A$3:$I$499,7,FALSE)))","v":""},"00:00:49.290","00:00:49.290",5,{"$f":"IF(A27=\"\",\"\",M27+VLOOKUP(A27,'Test 7'!$A$12:$Q$51,16,FALSE))","v":"00:06:51.870"},6,null,"","00:06:51.870"]
[17,{"$f":"IF($A28=\"\",\"\",IF(VLOOKUP($A28,Competitors!$A$2:$G$60,2,FALSE)=\"\",\"\",VLOOKUP($A28,Competitors!$A$2:$G$60,2,FALSE)))","v":"Reece McIntosh"},{"$f":"IF($A28=\"\",\"\",IF(VLOOKUP($A28,Competitors!$A$2:$G$60,7,FALSE)=\"\",\"\",VLOOKUP($A28,Competitors!$A$2:$G$60,7,FALSE)))","v":""},{"$f":"IF($A28=\"\",\"\",IF(VLOOKUP($A28,Competitors!$A$2:$G$60,5,FALSE)=\"\",\"\",VLOOKUP($A28,Competitors!$A$2:$G$60,5,FALSE)))","v":""},{"$f":"IF($A28=\"\",\"\",IF(VLOOKUP($A28,Competitors!$A$2:$G$60,6,FALSE)=\"\",\"\",VLOOKUP($A28,Competitors!$A$2:$G$60,6,FALSE)))","v":"senior"},{"$f":"IF($A28=\"\",\"\",IF(VLOOKUP($A28,Competitors!$A$2:$G$60,3,FALSE)=\"\",\"\",VLOOKUP($A28,Competitors!$A$2:$G$60,3,FALSE)))","v":""},{"$f":"IF($A28=\"\",\"\",IF(VLOOKUP($A28,Competitors!$A$2:$G$60,4,FALSE)=\"\",\"\",VLOOKUP($A28,Competitors!$A$2:$G$60,4,FALSE)))","v":""},{"$f":"IF(VLOOKUP(A28,Competitors!$A$1:$H$41,8,FALSE)=\"\",\"\",VLOOKUP(A28,Competitors!$A$1:$H$41,8,FALSE))","v":""},{"$f":"IF(IFERROR(VLOOKUP(($B$2&\"_\"&$A28),'Time Entry Sheet'!$A$3:$I$499,9,0),\"Error\")=\"Error\",\"\",IF(VLOOKUP(($B$2&\"_\"&$A28),'Time Entry Sheet'!$A$3:$I$499,9,FALSE)=\"wd\",\"wd\",VLOOKUP(($B$2&\"_\"&$A28),'Time Entry Sheet'!$A$3:$I$499,9,FALSE)*1))","v":"00:00:53.280"},"00:00:53.280",{"$f":"IF(IFERROR(VLOOKUP(($B$2&\"_\"&$A28),'Time Entry Sheet'!$A$3:$I$499,8,FALSE),\"Error\")=\"Error\",\"\",IF(VLOOKUP(($B$2&\"_\"&$A28),'Time Entry Sheet'!$A$3:$I$499,8,FALSE)=\"\",\"\",VLOOKUP(($B$2&\"_\"&$A28),'Time Entry Sheet'!$A$3:$I$499,8,FALSE)))","v":""},{"$f":"IF(IFERROR(VLOOKUP(($B$2&\"_\"&$A28),'Time Entry Sheet'!$A$3:$I$499,7,FALSE),\"Error\")=\"Error\",\"\",IF(VLOOKUP(($B$2&\"_\"&$A28),'Time Entry Sheet'!$A$3:$I$499,7,FALSE)=\"\",\"\",VLOOKUP(($B$2&\"_\"&$A28),'Time Entry Sheet'!$A$3:$I$499,7,FALSE)))","v":""},"00:00:53.280","00:00:53.280",12,{"$f":"IF(A28=\"\",\"\",M28+VLOOKUP(A28,'Test 7'!$A$12:$Q$51,16,FALSE))","v":"00:06:15.850"},1,null,"","00:06:15.850"]
[18,{"$f":"IF($A29=\"\",\"\",IF(VLOOKUP($A29,Competitors!$A$2:$G$60,2,FALSE)=\"\",\"\",VLOOKUP($A29,Competitors!$A$2:$G$60,2,FALSE)))","v":"Jack Stanley"},{"$f":"IF($A29=\"\",\"\",IF(VLOOKUP($A29,Competitors!$A$2:$G$60,7,FALSE)=\"\",\"\",VLOOKUP($A29,Competitors!$A$2:$G$60,7,FALSE)))","v":"rookie"},{"$f":"IF($A29=\"\",\"\",IF(VLOOKUP($A29,Competitors!$A$2:$G$60,5,FALSE)=\"\",\"\",VLOOKUP($A29,Competitors!$A$2:$G$60,5,FALSE)))","v":""},{"$f":"IF($A29=\"\",\"\",IF(VLOOKUP($A29,Competitors!$A$2:$G$60,6,FALSE)=\"\",\"\",VLOOKUP($A29,Competitors!$A$2:$G$60,6,FALSE)))","v":"senior"},{"$f":"IF($A29=\"\",\"\",IF(VLOOKUP($A29,Competitors!$A$2:$G$60,3,FALSE)=\"\",\"\",VLOOKUP($A29,Competitors!$A$2:$G$60,3,FALSE)))","v":""},{"$f":"IF($A29=\"\",\"\",IF(VLOOKUP($A29,Competitors!$A$2:$G$60,4,FALSE)=\"\",\"\",VLOOKUP($A29,Competitors!$A$2:$G$60,4,FALSE)))","v":""},{"$f":"IF(VLOOKUP(A29,Competitors!$A$1:$H$41,8,FALSE)=\"\",\"\",VLOOKUP(A29,Competitors!$A$1:$H$41,8,FALSE))","v":""},{"$f":"IF(IFERROR(VLOOKUP(($B$2&\"_\"&$A29),'Time Entry Sheet'!$A$3:$I$499,9,0),\"Error\")=\"Error\",\"\",IF(VLOOKUP(($B$2&\"_\"&$A29),'Time Entry Sheet'!$A$3:$I$499,9,FALSE)=\"wd\",\"wd\",VLOOKUP(($B$2&\"_\"&$A29),'Time Entry Sheet'!$A$3:$I$499,9,FALSE)*1))","v":"00:00:53.950"},"00:00:53.950",{"$f":"IF(IFERROR(VLOOKUP(($B$2&\"_\"&$A29),'Time Entry Sheet'!$A$3:$I$499,8,FALSE),\"Error\")=\"Error\",\"\",IF(VLOOKUP(($B$2&\"_\"&$A29),'Time Entry Sheet'!$A$3:$I$499,8,FALSE)=\"\",\"\",VLOOKUP(($B$2&\"_\"&$A29),'Time Entry Sheet'!$A$3:$I$499,8,FALSE)))","v":""},{"$f":"IF(IFERROR(VLOOKUP(($B$2&\"_\"&$A29),'Time Entry Sheet'!$A$3:$I$499,7,FALSE),\"Error\")=\"Error\",\"\",IF(VLOOKUP(($B$2&\"_\"&$A29),'Time Entry Sheet'!$A$3:$I$499,7,FALSE)=\"\",\"\",VLOOKUP(($B$2&\"_\"&$A29),'Time Entry Sheet'!$A$3:$I$499,7,FALSE)))","v":""},"00:00:53.950","00:00:53.950",15,{"$f":"IF(A29=\"\",\"\",M29+VLOOKUP(A29,'Test 7'!$A$12:$Q$51,16,FALSE))","v":"00:07:53.100"},17,null,"","00:07:53.100"]
[19,{"$f":"IF($A30=\"\",\"\",IF(VLOOKUP($A30,Competitors!$A$2:$G$60,2,FALSE)=\"\",\"\",VLOOKUP($A30,Competitors!$A$2:$G$60,2,FALSE)))","v":"Christopher Northey"},{"$f":"IF($A30=\"\",\"\",IF(VLOOKUP($A30,Competitors!$A$2:$G$60,7,FALSE)=\"\",\"\",VLOOKUP($A30,Competitors!$A$2:$G$60,7,FALSE)))","v":""},{"$f":"IF($A30=\"\",\"\",IF(VLOOKUP($A30,Competitors!$A$2:$G$60,5,FALSE)=\"\",\"\",VLOOKUP($A30,Competitors!$A$2:$G$60,5,FALSE)))","v":""},{"$f":"IF($A30=\"\",\"\",IF(VLOOKUP($A30,Competitors!$A$2:$G$60,6,FALSE)=\"\",\"\",VLOOKUP($A30,Competitors!$A$2:$G$60,6,FALSE)))","v":"senior"},{"$f":"IF($A30=\"\",\"\",IF(VLOOKUP($A30,Competitors!$A$2:$G$60,3,FALSE)=\"\",\"\",VLOOKUP($A30,Competitors!$A$2:$G$60,3,FALSE)))","v":""},{"$f":"IF($A30=\"\",\"\",IF(VLOOKUP($A30,Competitors!$A$2:$G$60,4,FALSE)=\"\",\"\",VLOOKUP($A30,Competitors!$A$2:$G$60,4,FALSE)))","v":""},{"$f":"IF(VLOOKUP(A30,Competitors!$A$1:$H$41,8,FALSE)=\"\",\"\",VLOOKUP(A30,Competitors!$A$1:$H$41,8,FALSE))","v":""},{"$f":"IF(IFERROR(VLOOKUP(($B$2&\"_\"&$A30),'Time Entry Sheet'!$A$3:$I$499,9,0),\"Error\")=\"Error\",\"\",IF(VLOOKUP(($B$2&\"_\"&$A30),'Time Entry Sheet'!$A$3:$I$499,9,FALSE)=\"wd\",\"wd\",VLOOKUP(($B$2&\"_\"&$A30),'Time Entry Sheet'!$A$3:$I$499,9,FALSE)*1))","v":"00:00:54.310"},{"$f":"IF(E30=\"Junior\",\"\",IF(I30=\"wd\",\"\",IF(K30<>\"\",\"\",I30)))","v":"00:00:54.310"},{"$f":"IF(IFERROR(VLOOKUP(($B$2&\"_\"&$A30),'Time Entry Sheet'!$A$3:$I$499,8,FALSE),\"Error\")=\"Error\",\"\",IF(VLOOKUP(($B$2&\"_\"&$A30),'Time Entry Sheet'!$A$3:$I$499,8,FALSE)=\"\",\"\",VLOOKUP(($B$2&\"_\"&$A30),'Time Entry Sheet'!$A$3:$I$499,8,FALSE)))","v":""},{"$f":"IF(IFERROR(VLOOKUP(($B$2&\"_\"&$A30),'Time Entry Sheet'!$A$3:$I$499,7,FALSE),\"Error\")=\"Error\",\"\",IF(VLOOKUP(($B$2&\"_\"&$A30),'Time Entry Sheet'!$A$3:$I$499,7,FALSE)=\"\",\"\",VLOOKUP(($B$2&\"_\"&$A30),'Time Entry Sheet'!$A$3:$I$499,7,FALSE)))","v":""},{"$f":"IF(A30=\"\",\"\",IF(I30=\"wd\",IF(E30=\"Senior\",$B$7,$C$7),IF(L30<>\"\",$B$7,IF(I30=\"\",IF(E30=\"Senior\",$B$8,$C$8),IF(K30=\"\",I30,I30+($B$5*K30))))))","v":"00:00:54.310"},{"$f":"IF(H30=\"Passenger\",\"\",M30)","v":"00:00:54.310"},{"$f":"IF(A30=\"\",\"\",IF(H30=\"Passenger\",\"P\",RANK(N30,$N$12:$N$51,1)))","v":17},{"$f":"IF(A30=\"\",\"\",M30+VLOOKUP(A30,'Test 7'!$A$12:$Q$51,16,FALSE))","v":"00:07:08.490"},{"$f":"IF(A30=\"\",\"\",IF(H30=\"Passenger\",\"P\",RANK(T30,$T$12:$T$51,1)))","v":9},null,{"$f":"IF(E30=\"Senior\",\"\",IF(I30=\"wd\",\"\",IF(K30<>\"\",\"\",I30)))","v":""},{"$f":"IF(H30=\"Passenger\",\"\",P30)","v":"00:07:08.490"}]
[20,{"$f":"IF($A31=\"\",\"\",IF(VLOOKUP($A31,Competitors!$A$2:$G$60,2,FALSE)=\"\",\"\",VLOOKUP($A31,Competitors!$A$2:$G$60,2,FALSE)))","v":"Ray Lampl"},{"$f":"IF($A31=\"\",\"\",IF(VLOOKUP($A31,Competitors!$A$2:$G$60,7,FALSE)=\"\",\"\",VLOOKUP($A31,Competitors!$A$2:$G$60,7,FALSE)))","v":""},{"$f":"IF($A31=\"\",\"\",IF(VLOOKUP($A31,Competitors!$A$2:$G$60,5,FALSE)=\"\",\"\",VLOOKUP($A31,Competitors!$A$2:$G$60,5,FALSE)))","v":""},{"$f":"IF($A31=\"\",\"\",IF(VLOOKUP($A31,Competitors!$A$2:$G$60,6,FALSE)=\"\",\"\",VLOOKUP($A31,Competitors!$A$2:$G$60,6,FALSE)))","v":"senior"},{"$f":"IF($A31=\"\",\"\",IF(VLOOKUP($A31,Competitors!$A$2:$G$60,3,FALSE)=\"\",\"\",VLOOKUP($A31,Competitors!$A$2:$G$60,3,FALSE)))","v":""},{"$f":"IF($A31=\"\",\"\",IF(VLOOKUP($A31,Competitors!$A$2:$G$60,4,FALSE)=\"\",\"\",VLOOKUP($A31,Competitors!$A$2:$G$60,4,FALSE)))","v":""},{"$f":"IF(VLOOKUP(A31,Competitors!$A$1:$H$41,8,FALSE)=\"\",\"\",VLOOKUP(A31,Competitors!$A$1:$H$41,8,FALSE))","v":""},{"$f":"IF(IFERROR(VLOOKUP(($B$2&\"_\"&$A31),'Time Entry Sheet'!$A$3:$I$499,9,0),\"Error\")=\"Error\",\"\",IF(VLOOKUP(($B$2&\"_\"&$A31),'Time Entry Sheet'!$A$3:$I$499,9,FALSE)=\"wd\",\"wd\",VLOOKUP(($B$2&\"_\"&$A31),'Time Entry Sheet'!$A$3:$I$499,9,FALSE)*1))","v":"00:00:49.410"},"00:00:49.410",{"$f":"IF(IFERROR(VLOOKUP(($B$2&\"_\"&$A31),'Time Entry Sheet'!$A$3:$I$499,8,FALSE),\"Error\")=\"Error\",\"\",IF(VLOOKUP(($B$2&\"_\"&$A31),'Time Entry Sheet'!$A$3:$I$499,8,FALSE)=\"\",\"\",VLOOKUP(($B$2&\"_\"&$A31),'Time Entry Sheet'!$A$3:$I$499,8,FALSE)))","v":""},{"$f":"IF(IFERROR(VLOOKUP(($B$2&\"_\"&$A31),'Time Entry Sheet'!$A$3:$I$499,7,FALSE),\"Error\")=\"Error\",\"\",IF(VLOOKUP(($B$2&\"_\"&$A31),'Time Entry Sheet'!$A$3:$I$499,7,FALSE)=\"\",\"\",VLOOKUP(($B$2&\"_\"&$A31),'Time Entry Sheet'!$A$3:$I$499,7,FALSE)))","v":""},"00:00:49.410","00:00:49.410",6,{"$f":"IF(A31=\"\",\"\",M31+VLOOKUP(A31,'Test 7'!$A$12:$Q$51,16,FALSE))","v":"00:06:55.200"},7,null,"","00:06:55.200"]
[21,{"$f":"IF($A32=\"\",\"\",IF(VLOOKUP($A32,Competitors!$A$2:$G$60,2,FALSE)=\"\",\"\",VLOOKUP($A32,Competitors!$A$2:$G$60,2,FALSE)))","v":""},{"$f":"IF($A32=\"\",\"\",IF(VLOOKUP($A32,Competitors!$A$2:$G$60,7,FALSE)=\"\",\"\",VLOOKUP($A32,Competitors!$A$2:$G$60,7,FALSE)))","v":""},{"$f":"IF($A32=\"\",\"\",IF(VLOOKUP($A32,Competitors!$A$2:$G$60,5,FALSE)=\"\",\"\",VLOOKUP($A32,Competitors!$A$2:$G$60,5,FALSE)))","v":""},{"$f":"IF($A32=\"\",\"\",IF(VLOOKUP($A32,Competitors!$A$2:$G$60,6,FALSE)=\"\",\"\",VLOOKUP($A32,Competitors!$A$2:$G$60,6,FALSE)))","v":"senior"},{"$f":"IF($A32=\"\",\"\",IF(VLOOKUP($A32,Competitors!$A$2:$G$60,3,FALSE)=\"\",\"\",VLOOKUP($A32,Competitors!$A$2:$G$60,3,FALSE)))","v":""},{"$f":"IF($A32=\"\",\"\",IF(VLOOKUP($A32,Competitors!$A$2:$G$60,4,FALSE)=\"\",\"\",VLOOKUP($A32,Competitors!$A$2:$G$60,4,FALSE)))","v":""},{"$f":"IF(VLOOKUP(A32,Competitors!$A$1:$H$41,8,FALSE)=\"\",\"\",VLOOKUP(A32,Competitors!$A$1:$H$41,8,FALSE))","v":""},{"$f":"IF(IFERROR(VLOOKUP(($B$2&\"_\"&$A32),'Time Entry Sheet'!$A$3:$I$499,9,0),\"Error\")=\"Error\",\"\",IF(VLOOKUP(($B$2&\"_\"&$A32),'Time Entry Sheet'!$A$3:$I$499,9,FALSE)=\"wd\",\"wd\",VLOOKUP(($B$2&\"_\"&$A32),'Time Entry Sheet'!$A$3:$I$499,9,FALSE)*1))","v":""},"",{"$f":"IF(IFERROR(VLOOKUP(($B$2&\"_\"&$A32),'Time Entry Sheet'!$A$3:$I$499,8,FALSE),\"Error\")=\"Error\",\"\",IF(VLOOKUP(($B$2&\"_\"&$A32),'Time Entry Sheet'!$A$3:$I$499,8,FALSE)=\"\",\"\",VLOOKUP(($B$2&\"_\"&$A32),'Time Entry Sheet'!$A$3:$I$499,8,FALSE)))","v":""},{"$f":"IF(IFERROR(VLOOKUP(($B$2&\"_\"&$A32),'Time Entry Sheet'!$A$3:$I$499,7,FALSE),\"Error\")=\"Error\",\"\",IF(VLOOKUP(($B$2&\"_\"&$A32),'Time Entry Sheet'!$A$3:$I$499,7,FALSE)=\"\",\"\",VLOOKUP(($B$2&\"_\"&$A32),'Time Entry Sheet'!$A$3:$I$499,7,FALSE)))","v":""},"00:01:04.310","00:01:04.310",19,{"$f":"IF(A32=\"\",\"\",M32+VLOOKUP(A32,'Test 7'!$A$12:$Q$51,16,FALSE))","v":"00:09:39.470"},20,null,"","00:09:39.470"]
[22,{"$f":"IF($A33=\"\",\"\",IF(VLOOKUP($A33,Competitors!$A$2:$G$60,2,FALSE)=\"\",\"\",VLOOKUP($A33,Competitors!$A$2:$G$60,2,FALSE)))","v":""},{"$f":"IF($A33=\"\",\"\",IF(VLOOKUP($A33,Competitors!$A$2:$G$60,7,FALSE)=\"\",\"\",VLOOKUP($A33,Competitors!$A$2:$G$60,7,FALSE)))","v":""},{"$f":"IF($A33=\"\",\"\",IF(VLOOKUP($A33,Competitors!$A$2:$G$60,5,FALSE)=\"\",\"\",VLOOKUP($A33,Competitors!$A$2:$G$60,5,FALSE)))","v":""},{"$f":"IF($A33=\"\",\"\",IF(VLOOKUP($A33,Competitors!$A$2:$G$60,6,FALSE)=\"\",\"\",VLOOKUP($A33,Competitors!$A$2:$G$60,6,FALSE)))","v":"senior"},{"$f":"IF($A33=\"\",\"\",IF(VLOOKUP($A33,Competitors!$A$2:$G$60,3,FALSE)=\"\",\"\",VLOOKUP($A33,Competitors!$A$2:$G$60,3,FALSE)))","v":""},{"$f":"IF($A33=\"\",\"\",IF(VLOOKUP($A33,Competitors!$A$2:$G$60,4,FALSE)=\"\",\"\",VLOOKUP($A33,Competitors!$A$2:$G$60,4,FALSE)))","v":""},{"$f":"IF(VLOOKUP(A33,Competitors!$A$1:$H$41,8,FALSE)=\"\",\"\",VLOOKUP(A33,Competitors!$A$1:$H$41,8,FALSE))","v":""},{"$f":"IF(IFERROR(VLOOKUP(($B$2&\"_\"&$A33),'Time Entry Sheet'!$A$3:$I$499,9,0),\"Error\")=\"Error\",\"\",IF(VLOOKUP(($B$2&\"_\"&$A33),'Time Entry Sheet'!$A$3:$I$499,9,FALSE)=\"wd\",\"wd\",VLOOKUP(($B$2&\"_\"&$A33),'Time Entry Sheet'!$A$3:$I$499,9,FALSE)*1))","v":""},"",{"$f":"IF(IFERROR(VLOOKUP(($B$2&\"_\"&$A33),'Time Entry Sheet'!$A$3:$I$499,8,FALSE),\"Error\")=\"Error\",\"\",IF(VLOOKUP(($B$2&\"_\"&$A33),'Time Entry Sheet'!$A$3:$I$499,8,FALSE)=\"\",\"\",VLOOKUP(($B$2&\"_\"&$A33),'Time Entry Sheet'!$A$3:$I$499,8,FALSE)))","v":""},{"$f":"IF(IFERROR(VLOOKUP(($B$2&\"_\"&$A33),'Time Entry Sheet'!$A$3:$I$499,7,FALSE),\"Error\")=\"Error\",\"\",IF(VLOOKUP(($B$2&\"_\"&$A33),'Time Entry Sheet'!$A$3:$I$499,7,FALSE)=\"\",\"\",VLOOKUP(($B$2&\"_\"&$A33),'Time Entry Sheet'!$A$3:$I$499,7,FALSE)))","v":""},"00:01:04.310","00:01:04.310",19,{"$f":"IF(A33=\"\",\"\",M33+VLOOKUP(A33,'Test 7'!$A$12:$Q$51,16,FALSE))","v":"00:09:39.470"},20,null,"","00:09:39.470"]
[23,{"$f":"IF($A34=\"\",\"\",IF(VLOOKUP($A34,Competitors!$A$2:$G$60,2,FALSE)=\"\",\"\",VLOOKUP($A34,Competitors!$A$2:$G$60,2,FALSE)))","v":""},{"$f":"IF($A34=\"\",\"\",IF(VLOOKUP($A34,Competitors!$A$2:$G$60,7,FALSE)=\"\",\"\",VLOOKUP($A34,Competitors!$A$2:$G$60,7,FALSE)))","v":""},{"$f":"IF($A34=\"\",\"\",IF(VLOOKUP($A34,Competitors!$A$2:$G$60,5,FALSE)=\"\",\"\",VLOOKUP($A34,Competitors!$A$2:$G$60,5,FALSE)))","v":""},{"$f":"IF($A34=\"\",\"\",IF(VLOOKUP($A34,Competitors!$A$2:$G$60,6,FALSE)=\"\",\"\",VLOOKUP($A34,Competitors!$A$2:$G$60,6,FALSE)))","v":"senior"},{"$f":"IF($A34=\"\",\"\",IF(VLOOKUP($A34,Competitors!$A$2:$G$60,3,FALSE)=\"\",\"\",VLOOKUP($A34,Competitors!$A$2:$G$60,3,FALSE)))","v":""},{"$f":"IF($A34=\"\",\"\",IF(VLOOKUP($A34,Competitors!$A$2:$G$60,4,FALSE)=\"\",\"\",VLOOKUP($A34,Competitors!$A$2:$G$60,4,FALSE)))","v":""},{"$f":"IF(VLOOKUP(A34,Competitors!$A$1:$H$41,8,FALSE)=\"\",\"\",VLOOKUP(A34,Competitors!$A$1:$H$41,8,FALSE))","v":""},{"$f":"IF(IFERROR(VLOOKUP(($B$2&\"_\"&$A34),'Time Entry Sheet'!$A$3:$I$499,9,0),\"Error\")=\"Error\",\"\",IF(VLOOKUP(($B$2&\"_\"&$A34),'Time Entry Sheet'!$A$3:$I$499,9,FALSE)=\"wd\",\"wd\",VLOOKUP(($B$2&\"_\"&$A34),'Time Entry Sheet'!$A$3:$I$499,9,FALSE)*1))","v":""},"",{"$f":"IF(IFERROR(VLOOKUP(($B$2&\"_\"&$A34),'Time Entry Sheet'!$A$3:$I$499,8,FALSE),\"Error\")=\"Error\",\"\",IF(VLOOKUP(($B$2&\"_\"&$A34),'Time Entry Sheet'!$A$3:$I$499,8,FALSE)=\"\",\"\",VLOOKUP(($B$2&\"_\"&$A34),'Time Entry Sheet'!$A$3:$I$499,8,FALSE)))","v":""},{"$f":"IF(IFERROR(VLOOKUP(($B$2&\"_\"&$A34),'Time Entry Sheet'!$A$3:$I$499,7,FALSE),\"Error\")=\"Error\",\"\",IF(VLOOKUP(($B$2&\"_\"&$A34),'Time Entry Sheet'!$A$3:$I$499,7,FALSE)=\"\",\"\",VLOOKUP(($B$2&\"_\"&$A34),'Time Entry Sheet'!$A$3:$I$499,7,FALSE)))","v":""},"00:01:04.310","00:01:04.310",19,{"$f":"IF(A34=\"\",\"\",M34+VLOOKUP(A34,'Test 7'!$A$12:$Q$51,16,FALSE))","v":"00:09:39.470"},20,null,"","00:09:39.470"]
[24,{"$f":"IF($A35=\"\",\"\",IF(VLOOKUP($A35,Competitors!$A$2:$G$60,2,FALSE)=\"\",\"\",VLOOKUP($A35,Competitors!$A$2:$G$60,2,FALSE)))","v":""},{"$f":"IF($A35=\"\",\"\",IF(VLOOKUP($A35,Competitors!$A$2:$G$60,7,FALSE)=\"\",\"\",VLOOKUP($A35,Competitors!$A$2:$G$60,7,FALSE)))","v":""},{"$f":"IF($A35=\"\",\"\",IF(VLOOKUP($A35,Competitors!$A$2:$G$60,5,FALSE)=\"\",\"\",VLOOKUP($A35,Competitors!$A$2:$G$60,5,FALSE)))","v":""},{"$f":"IF($A35=\"\",\"\",IF(VLOOKUP($A35,Competitors!$A$2:$G$60,6,FALSE)=\"\",\"\",VLOOKUP($A35,Competitors!$A$2:$G$60,6,FALSE)))","v":"senior"},{"$f":"IF($A35=\"\",\"\",IF(VLOOKUP($A35,Competitors!$A$2:$G$60,3,FALSE)=\"\",\"\",VLOOKUP($A35,Competitors!$A$2:$G$60,3,FALSE)))","v":""},{"$f":"IF($A35=\"\",\"\",IF(VLOOKUP($A35,Competitors!$A$2:$G$60,4,FALSE)=\"\",\"\",VLOOKUP($A35,Competitors!$A$2:$G$60,4,FALSE)))","v":""},{"$f":"IF(VLOOKUP(A35,Competitors!$A$1:$H$41,8,FALSE)=\"\",\"\",VLOOKUP(A35,Competitors!$A$1:$H$41,8,FALSE))","v":""},{"$f":"IF(IFERROR(VLOOKUP(($B$2&\"_\"&$A35),'Time Entry Sheet'!$A$3:$I$499,9,0),\"Error\")=\"Error\",\"\",IF(VLOOKUP(($B$2&\"_\"&$A35),'Time Entry Sheet'!$A$3:$I$499,9,FALSE)=\"wd\",\"wd\",VLOOKUP(($B$2&\"_\"&$A35),'Time Entry Sheet'!$A$3:$I$499,9,FALSE)*1))","v":""},"",{"$f":"IF(IFERROR(VLOOKUP(($B$2&\"_\"&$A35),'Time Entry Sheet'!$A$3:$I$499,8,FALSE),\"Error\")=\"Error\",\"\",IF(VLOOKUP(($B$2&\"_\"&$A35),'Time Entry Sheet'!$A$3:$I$499,8,FALSE)=\"\",\"\",VLOOKUP(($B$2&\"_\"&$A35),'Time Entry Sheet'!$A$3:$I$499,8,FALSE)))","v":""},{"$f":"IF(IFERROR(VLOOKUP(($B$2&\"_\"&$A35),'Time Entry Sheet'!$A$3:$I$499,7,FALSE),\"Error\")=\"Error\",\"\",IF(VLOOKUP(($B$2&\"_\"&$A35),'Time Entry Sheet'!$A$3:$I$499,7,FALSE)=\"\",\"\",VLOOKUP(($B$2&\"_\"&$A35),'Time Entry Sheet'!$A$3:$I$499,7,FALSE)))","v":""},"00:01:04.310","00:01:04.310",19,{"$f":"IF(A35=\"\",\"\",M35+VLOOKUP(A35,'Test 7'!$A$12:$Q$51,16,FALSE))","v":"00:09:39.470"},20,null,"","00:09:39.470"]
[25,{"$f":"IF($A36=\"\",\"\",IF(VLOOKUP($A36,Competitors!$A$2:$G$60,2,FALSE)=\"\",\"\",VLOOKUP($A36,Competitors!$A$2:$G$60,2,FALSE)))","v":""},{"$f":"IF($A36=\"\",\"\",IF(VLOOKUP($A36,Competitors!$A$2:$G$60,7,FALSE)=\"\",\"\",VLOOKUP($A36,Competitors!$A$2:$G$60,7,FALSE)))","v":""},{"$f":"IF($A36=\"\",\"\",IF(VLOOKUP($A36,Competitors!$A$2:$G$60,5,FALSE)=\"\",\"\",VLOOKUP($A36,Competitors!$A$2:$G$60,5,FALSE)))","v":""},{"$f":"IF($A36=\"\",\"\",IF(VLOOKUP($A36,Competitors!$A$2:$G$60,6,FALSE)=\"\",\"\",VLOOKUP($A36,Competitors!$A$2:$G$60,6,FALSE)))","v":"senior"},{"$f":"IF($A36=\"\",\"\",IF(VLOOKUP($A36,Competitors!$A$2:$G$60,3,FALSE)=\"\",\"\",VLOOKUP($A36,Competitors!$A$2:$G$60,3,FALSE)))","v":""},{"$f":"IF($A36=\"\",\"\",IF(VLOOKUP($A36,Competitors!$A$2:$G$60,4,FALSE)=\"\",\"\",VLOOKUP($A36,Competitors!$A$2:$G$60,4,FALSE)))","v":""},{"$f":"IF(VLOOKUP(A36,Competitors!$A$1:$H$41,8,FALSE)=\"\",\"\",VLOOKUP(A36,Competitors!$A$1:$H$41,8,FALSE))","v":""},{"$f":"IF(IFERROR(VLOOKUP(($B$2&\"_\"&$A36),'Time Entry Sheet'!$A$3:$I$499,9,0),\"Error\")=\"Error\",\"\",IF(VLOOKUP(($B$2&\"_\"&$A36),'Time Entry Sheet'!$A$3:$I$499,9,FALSE)=\"wd\",\"wd\",VLOOKUP(($B$2&\"_\"&$A36),'Time Entry Sheet'!$A$3:$I$499,9,FALSE)*1))","v":""},"",{"$f":"IF(IFERROR(VLOOKUP(($B$2&\"_\"&$A36),'Time Entry Sheet'!$A$3:$I$499,8,FALSE),\"Error\")=\"Error\",\"\",IF(VLOOKUP(($B$2&\"_\"&$A36),'Time Entry Sheet'!$A$3:$I$499,8,FALSE)=\"\",\"\",VLOOKUP(($B$2&\"_\"&$A36),'Time Entry Sheet'!$A$3:$I$499,8,FALSE)))","v":""},{"$f":"IF(IFERROR(VLOOKUP(($B$2&\"_\"&$A36),'Time Entry Sheet'!$A$3:$I$499,7,FALSE),\"Error\")=\"Error\",\"\",IF(VLOOKUP(($B$2&\"_\"&$A36),'Time Entry Sheet'!$A$3:$I$499,7,FALSE)=\"\",\"\",VLOOKUP(($B$2&\"_\"&$A36),'Time Entry Sheet'!$A$3:$I$499,7,FALSE)))","v":""},"00:01:04.310","00:01:04.310",19,{"$f":"IF(A36=\"\",\"\",M36+VLOOKUP(A36,'Test 7'!$A$12:$Q$51,16,FALSE))","v":"00:09:39.470"},20,null,"","00:09:39.470"]
[26,{"$f":"IF($A37=\"\",\"\",IF(VLOOKUP($A37,Competitors!$A$2:$G$60,2,FALSE)=\"\",\"\",VLOOKUP($A37,Competitors!$A$2:$G$60,2,FALSE)))","v":""},{"$f":"IF($A37=\"\",\"\",IF(VLOOKUP($A37,Competitors!$A$2:$G$60,7,FALSE)=\"\",\"\",VLOOKUP($A37,Competitors!$A$2:$G$60,7,FALSE)))","v":""},{"$f":"IF($A37=\"\",\"\",IF(VLOOKUP($A37,Competitors!$A$2:$G$60,5,FALSE)=\"\",\"\",VLOOKUP($A37,Competitors!$A$2:$G$60,5,FALSE)))","v":""},{"$f":"IF($A37=\"\",\"\",IF(VLOOKUP($A37,Competitors!$A$2:$G$60,6,FALSE)=\"\",\"\",VLOOKUP($A37,Competitors!$A$2:$G$60,6,FALSE)))","v":"senior"},{"$f":"IF($A37=\"\",\"\",IF(VLOOKUP($A37,Competitors!$A$2:$G$60,3,FALSE)=\"\",\"\",VLOOKUP($A37,Competitors!$A$2:$G$60,3,FALSE)))","v":""},{"$f":"IF($A37=\"\",\"\",IF(VLOOKUP($A37,Competitors!$A$2:$G$60,4,FALSE)=\"\",\"\",VLOOKUP($A37,Competitors!$A$2:$G$60,4,FALSE)))","v":""},{"$f":"IF(VLOOKUP(A37,Competitors!$A$1:$H$41,8,FALSE)=\"\",\"\",VLOOKUP(A37,Competitors!$A$1:$H$41,8,FALSE))","v":""},{"$f":"IF(IFERROR(VLOOKUP(($B$2&\"_\"&$A37),'Time Entry Sheet'!$A$3:$I$499,9,0),\"Error\")=\"Error\",\"\",IF(VLOOKUP(($B$2&\"_\"&$A37),'Time Entry Sheet'!$A$3:$I$499,9,FALSE)=\"wd\",\"wd\",VLOOKUP(($B$2&\"_\"&$A37),'Time Entry Sheet'!$A$3:$I$499,9,FALSE)*1))","v":""},"",{"$f":"IF(IFERROR(VLOOKUP(($B$2&\"_\"&$A37),'Time Entry Sheet'!$A$3:$I$499,8,FALSE),\"Error\")=\"Error\",\"\",IF(VLOOKUP(($B$2&\"_\"&$A37),'Time Entry Sheet'!$A$3:$I$499,8,FALSE)=\"\",\"\",VLOOKUP(($B$2&\"_\"&$A37),'Time Entry Sheet'!$A$3:$I$499,8,FALSE)))","v":""},{"$f":"IF(IFERROR(VLOOKUP(($B$2&\"_\"&$A37),'Time Entry Sheet'!$A$3:$I$499,7,FALSE),\"Error\")=\"Error\",\"\",IF(VLOOKUP(($B$2&\"_\"&$A37),'Time Entry Sheet'!$A$3:$I$499,7,FALSE)=\"\",\"\",VLOOKUP(($B$2&\"_\"&$A37),'Time Entry Sheet'!$A$3:$I$499,7,FALSE)))","v":""},"00:01:04.310","00:01:04.310",19,{"$f":"IF(A37=\"\",\"\",M37+VLOOKUP(A37,'Test 7'!$A$12:$Q$51,16,FALSE))","v":"00:09:39.470"},20,null,"","00:09:39.470"]
[27,{"$f":"IF($A38=\"\",\"\",IF(VLOOKUP($A38,Competitors!$A$2:$G$60,2,FALSE)=\"\",\"\",VLOOKUP($A38,Competitors!$A$2:$G$60,2,FALSE)))","v":""},{"$f":"IF($A38=\"\",\"\",IF(VLOOKUP($A38,Competitors!$A$2:$G$60,7,FALSE)=\"\",\"\",VLOOKUP($A38,Competitors!$A$2:$G$60,7,FALSE)))","v":""},{"$f":"IF($A38=\"\",\"\",IF(VLOOKUP($A38,Competitors!$A$2:$G$60,5,FALSE)=\"\",\"\",VLOOKUP($A38,Competitors!$A$2:$G$60,5,FALSE)))","v":""},{"$f":"IF($A38=\"\",\"\",IF(VLOOKUP($A38,Competitors!$A$2:$G$60,6,FALSE)=\"\",\"\",VLOOKUP($A38,Competitors!$A$2:$G$60,6,FALSE)))","v":"senior"},{"$f":"IF($A38=\"\",\"\",IF(VLOOKUP($A38,Competitors!$A$2:$G$60,3,FALSE)=\"\",\"\",VLOOKUP($A38,Competitors!$A$2:$G$60,3,FALSE)))","v":""},{"$f":"IF($A38=\"\",\"\",IF(VLOOKUP($A38,Competitors!$A$2:$G$60,4,FALSE)=\"\",\"\",VLOOKUP($A38,Competitors!$A$2:$G$60,4,FALSE)))","v":""},{"$f":"IF(VLOOKUP(A38,Competitors!$A$1:$H$41,8,FALSE)=\"\",\"\",VLOOKUP(A38,Competitors!$A$1:$H$41,8,FALSE))","v":""},{"$f":"IF(IFERROR(VLOOKUP(($B$2&\"_\"&$A38),'Time Entry Sheet'!$A$3:$I$499,9,0),\"Error\")=\"Error\",\"\",IF(VLOOKUP(($B$2&\"_\"&$A38),'Time Entry Sheet'!$A$3:$I$499,9,FALSE)=\"wd\",\"wd\",VLOOKUP(($B$2&\"_\"&$A38),'Time Entry Sheet'!$A$3:$I$499,9,FALSE)*1))","v":""},"",{"$f":"IF(IFERROR(VLOOKUP(($B$2&\"_\"&$A38),'Time Entry Sheet'!$A$3:$I$499,8,FALSE),\"Error\")=\"Error\",\"\",IF(VLOOKUP(($B$2&\"_\"&$A38),'Time Entry Sheet'!$A$3:$I$499,8,FALSE)=\"\",\"\",VLOOKUP(($B$2&\"_\"&$A38),'Time Entry Sheet'!$A$3:$I$499,8,FALSE)))","v":""},{"$f":"IF(IFERROR(VLOOKUP(($B$2&\"_\"&$A38),'Time Entry Sheet'!$A$3:$I$499,7,FALSE),\"Error\")=\"Error\",\"\",IF(VLOOKUP(($B$2&\"_\"&$A38),'Time Entry Sheet'!$A$3:$I$499,7,FALSE)=\"\",\"\",VLOOKUP(($B$2&\"_\"&$A38),'Time Entry Sheet'!$A$3:$I$499,7,FALSE)))","v":""},"00:01:04.310","00:01:04.310",19,{"$f":"IF(A38=\"\",\"\",M38+VLOOKUP(A38,'Test 7'!$A$12:$Q$51,16,FALSE))","v":"00:09:39.470"},20,null,"","00:09:39.470"]
[28,{"$f":"IF($A39=\"\",\"\",IF(VLOOKUP($A39,Competitors!$A$2:$G$60,2,FALSE)=\"\",\"\",VLOOKUP($A39,Competitors!$A$2:$G$60,2,FALSE)))","v":""},{"$f":"IF($A39=\"\",\"\",IF(VLOOKUP($A39,Competitors!$A$2:$G$60,7,FALSE)=\"\",\"\",VLOOKUP($A39,Competitors!$A$2:$G$60,7,FALSE)))","v":""},{"$f":"IF($A39=\"\",\"\",IF(VLOOKUP($A39,Competitors!$A$2:$G$60,5,FALSE)=\"\",\"\",VLOOKUP($A39,Competitors!$A$2:$G$60,5,FALSE)))","v":""},{"$f":"IF($A39=\"\",\"\",IF(VLOOKUP($A39,Competitors!$A$2:$G$60,6,FALSE)=\"\",\"\",VLOOKUP($A39,Competitors!$A$2:$G$60,6,FALSE)))","v":"senior"},{"$f":"IF($A39=\"\",\"\",IF(VLOOKUP($A39,Competitors!$A$2:$G$60,3,FALSE)=\"\",\"\",VLOOKUP($A39,Competitors!$A$2:$G$60,3,FALSE)))","v":""},{"$f":"IF($A39=\"\",\"\",IF(VLOOKUP($A39,Competitors!$A$2:$G$60,4,FALSE)=\"\",\"\",VLOOKUP($A39,Competitors!$A$2:$G$60,4,FALSE)))","v":""},{"$f":"IF(VLOOKUP(A39,Competitors!$A$1:$H$41,8,FALSE)=\"\",\"\",VLOOKUP(A39,Competitors!$A$1:$H$41,8,FALSE))","v":""},{"$f":"IF(IFERROR(VLOOKUP(($B$2&\"_\"&$A39),'Time Entry Sheet'!$A$3:$I$499,9,0),\"Error\")=\"Error\",\"\",IF(VLOOKUP(($B$2&\"_\"&$A39),'Time Entry Sheet'!$A$3:$I$499,9,FALSE)=\"wd\",\"wd\",VLOOKUP(($B$2&\"_\"&$A39),'Time Entry Sheet'!$A$3:$I$499,9,FALSE)*1))","v":""},"",{"$f":"IF(IFERROR(VLOOKUP(($B$2&\"_\"&$A39),'Time Entry Sheet'!$A$3:$I$499,8,FALSE),\"Error\")=\"Error\",\"\",IF(VLOOKUP(($B$2&\"_\"&$A39),'Time Entry Sheet'!$A$3:$I$499,8,FALSE)=\"\",\"\",VLOOKUP(($B$2&\"_\"&$A39),'Time Entry Sheet'!$A$3:$I$499,8,FALSE)))","v":""},{"$f":"IF(IFERROR(VLOOKUP(($B$2&\"_\"&$A39),'Time Entry Sheet'!$A$3:$I$499,7,FALSE),\"Error\")=\"Error\",\"\",IF(VLOOKUP(($B$2&\"_\"&$A39),'Time Entry Sheet'!$A$3:$I$499,7,FALSE)=\"\",\"\",VLOOKUP(($B$2&\"_\"&$A39),'Time Entry Sheet'!$A$3:$I$499,7,FALSE)))","v":""},"00:01:04.310","00:01:04.310",19,{"$f":"IF(A39=\"\",\"\",M39+VLOOKUP(A39,'Test 7'!$A$12:$Q$51,16,FALSE))","v":"00:09:39.470"},20,null,null,"00:09:39.470"]
[29,{"$f":"IF($A40=\"\",\"\",IF(VLOOKUP($A40,Competitors!$A$2:$G$60,2,FALSE)=\"\",\"\",VLOOKUP($A40,Competitors!$A$2:$G$60,2,FALSE)))","v":""},{"$f":"IF($A40=\"\",\"\",IF(VLOOKUP($A40,Competitors!$A$2:$G$60,7,FALSE)=\"\",\"\",VLOOKUP($A40,Competitors!$A$2:$G$60,7,FALSE)))","v":""},{"$f":"IF($A40=\"\",\"\",IF(VLOOKUP($A40,Competitors!$A$2:$G$60,5,FALSE)=\"\",\"\",VLOOKUP($A40,Competitors!$A$2:$G$60,5,FALSE)))","v":""},{"$f":"IF($A40=\"\",\"\",IF(VLOOKUP($A40,Competitors!$A$2:$G$60,6,FALSE)=\"\",\"\",VLOOKUP($A40,Competitors!$A$2:$G$60,6,FALSE)))","v":"senior"},{"$f":"IF($A40=\"\",\"\",IF(VLOOKUP($A40,Competitors!$A$2:$G$60,3,FALSE)=\"\",\"\",VLOOKUP($A40,Competitors!$A$2:$G$60,3,FALSE)))","v":""},{"$f":"IF($A40=\"\",\"\",IF(VLOOKUP($A40,Competitors!$A$2:$G$60,4,FALSE)=\"\",\"\",VLOOKUP($A40,Competitors!$A$2:$G$60,4,FALSE)))","v":""},{"$f":"IF(VLOOKUP(A40,Competitors!$A$1:$H$41,8,FALSE)=\"\",\"\",VLOOKUP(A40,Competitors!$A$1:$H$41,8,FALSE))","v":""},{"$f":"IF(IFERROR(VLOOKUP(($B$2&\"_\"&$A40),'Time Entry Sheet'!$A$3:$I$499,9,0),\"Error\")=\"Error\",\"\",IF(VLOOKUP(($B$2&\"_\"&$A40),'Time Entry Sheet'!$A$3:$I$499,9,FALSE)=\"wd\",\"wd\",VLOOKUP(($B$2&\"_\"&$A40),'Time Entry Sheet'!$A$3:$I$499,9,FALSE)*1))","v":""},"",{"$f":"IF(IFERROR(VLOOKUP(($B$2&\"_\"&$A40),'Time Entry Sheet'!$A$3:$I$499,8,FALSE),\"Error\")=\"Error\",\"\",IF(VLOOKUP(($B$2&\"_\"&$A40),'Time Entry Sheet'!$A$3:$I$499,8,FALSE)=\"\",\"\",VLOOKUP(($B$2&\"_\"&$A40),'Time Entry Sheet'!$A$3:$I$499,8,FALSE)))","v":""},{"$f":"IF(IFERROR(VLOOKUP(($B$2&\"_\"&$A40),'Time Entry Sheet'!$A$3:$I$499,7,FALSE),\"Error\")=\"Error\",\"\",IF(VLOOKUP(($B$2&\"_\"&$A40),'Time Entry Sheet'!$A$3:$I$499,7,FALSE)=\"\",\"\",VLOOKUP(($B$2&\"_\"&$A40),'Time Entry Sheet'!$A$3:$I$499,7,FALSE)))","v":""},"00:01:04.310","00:01:04.310",19,{"$f":"IF(A40=\"\",\"\",M40+VLOOKUP(A40,'Test 7'!$A$12:$Q$51,16,FALSE))","v":"00:09:39.470"},20,null,"","00:09:39.470"]
[30,{"$f":"IF($A41=\"\",\"\",IF(VLOOKUP($A41,Competitors!$A$2:$G$60,2,FALSE)=\"\",\"\",VLOOKUP($A41,Competitors!$A$2:$G$60,2,FALSE)))","v":""},{"$f":"IF($A41=\"\",\"\",IF(VLOOKUP($A41,Competitors!$A$2:$G$60,7,FALSE)=\"\",\"\",VLOOKUP($A41,Competitors!$A$2:$G$60,7,FALSE)))","v":""},{"$f":"IF($A41=\"\",\"\",IF(VLOOKUP($A41,Competitors!$A$2:$G$60,5,FALSE)=\"\",\"\",VLOOKUP($A41,Competitors!$A$2:$G$60,5,FALSE)))","v":""},{"$f":"IF($A41=\"\",\"\",IF(VLOOKUP($A41,Competitors!$A$2:$G$60,6,FALSE)=\"\",\"\",VLOOKUP($A41,Competitors!$A$2:$G$60,6,FALSE)))","v":"senior"},{"$f":"IF($A41=\"\",\"\",IF(VLOOKUP($A41,Competitors!$A$2:$G$60,3,FALSE)=\"\",\"\",VLOOKUP($A41,Competitors!$A$2:$G$60,3,FALSE)))","v":""},{"$f":"IF($A41=\"\",\"\",IF(VLOOKUP($A41,Competitors!$A$2:$G$60,4,FALSE)=\"\",\"\",VLOOKUP($A41,Competitors!$A$2:$G$60,4,FALSE)))","v":""},{"$f":"IF(VLOOKUP(A41,Competitors!$A$1:$H$41,8,FALSE)=\"\",\"\",VLOOKUP(A41,Competitors!$A$1:$H$41,8,FALSE))","v":""},{"$f":"IF(IFERROR(VLOOKUP(($B$2&\"_\"&$A41),'Time Entry Sheet'!$A$3:$I$499,9,0),\"Error\")=\"Error\",\"\",IF(VLOOKUP(($B$2&\"_\"&$A41),'Time Entry Sheet'!$A$3:$I$499,9,FALSE)=\"wd\",\"wd\",VLOOKUP(($B$2&\"_\"&$A41),'Time Entry Sheet'!$A$3:$I$499,9,FALSE)*1))","v":""},"",{"$f":"IF(IFERROR(VLOOKUP(($B$2&\"_\"&$A41),'Time Entry Sheet'!$A$3:$I$499,8,FALSE),\"Error\")=\"Error\",\"\",IF(VLOOKUP(($B$2&\"_\"&$A41),'Time Entry Sheet'!$A$3:$I$499,8,FALSE)=\"\",\"\",VLOOKUP(($B$2&\"_\"&$A41),'Time Entry Sheet'!$A$3:$I$499,8,FALSE)))","v":""},{"$f":"IF(IFERROR(VLOOKUP(($B$2&\"_\"&$A41),'Time Entry Sheet'!$A$3:$I$499,7,FALSE),\"Error\")=\"Error\",\"\",IF(VLOOKUP(($B$2&\"_\"&$A41),'Time Entry Sheet'!$A$3:$I$499,7,FALSE)=\"\",\"\",VLOOKUP(($B$2&\"_\"&$A41),'Time Entry Sheet'!$A$3:$I$499,7,FALSE)))","v":""},"00:01:04.310","00:01:04.310",19,{"$f":"IF(A41=\"\",\"\",M41+VLOOKUP(A41,'Test 7'!$A$12:$Q$51,16,FALSE))","v":"00:09:39.470"},20,null,"","00:09:39.470"]
[31,{"$f":"IF($A42=\"\",\"\",IF(VLOOKUP($A42,Competitors!$A$2:$G$60,2,FALSE)=\"\",\"\",VLOOKUP($A42,Competitors!$A$2:$G$60,2,FALSE)))","v":""},{"$f":"IF($A42=\"\",\"\",IF(VLOOKUP($A42,Competitors!$A$2:$G$60,7,FALSE)=\"\",\"\",VLOOKUP($A42,Competitors!$A$2:$G$60,7,FALSE)))","v":""},{"$f":"IF($A42=\"\",\"\",IF(VLOOKUP($A42,Competitors!$A$2:$G$60,5,FALSE)=\"\",\"\",VLOOKUP($A42,Competitors!$A$2:$G$60,5,FALSE)))","v":""},{"$f":"IF($A42=\"\",\"\",IF(VLOOKUP($A42,Competitors!$A$2:$G$60,6,FALSE)=\"\",\"\",VLOOKUP($A42,Competitors!$A$2:$G$60,6,FALSE)))","v":"senior"},{"$f":"IF($A42=\"\",\"\",IF(VLOOKUP($A42,Competitors!$A$2:$G$60,3,FALSE)=\"\",\"\",VLOOKUP($A42,Competitors!$A$2:$G$60,3,FALSE)))","v":""},{"$f":"IF($A42=\"\",\"\",IF(VLOOKUP($A42,Competitors!$A$2:$G$60,4,FALSE)=\"\",\"\",VLOOKUP($A42,Competitors!$A$2:$G$60,4,FALSE)))","v":""},{"$f":"IF(VLOOKUP(A42,Competitors!$A$1:$H$41,8,FALSE)=\"\",\"\",VLOOKUP(A42,Competitors!$A$1:$H$41,8,FALSE))","v":""},{"$f":"IF(IFERROR(VLOOKUP(($B$2&\"_\"&$A42),'Time Entry Sheet'!$A$3:$I$499,9,0),\"Error\")=\"Error\",\"\",IF(VLOOKUP(($B$2&\"_\"&$A42),'Time Entry Sheet'!$A$3:$I$499,9,FALSE)=\"wd\",\"wd\",VLOOKUP(($B$2&\"_\"&$A42),'Time Entry Sheet'!$A$3:$I$499,9,FALSE)*1))","v":""},"",{"$f":"IF(IFERROR(VLOOKUP(($B$2&\"_\"&$A42),'Time Entry Sheet'!$A$3:$I$499,8,FALSE),\"Error\")=\"Error\",\"\",IF(VLOOKUP(($B$2&\"_\"&$A42),'Time Entry Sheet'!$A$3:$I$499,8,FALSE)=\"\",\"\",VLOOKUP(($B$2&\"_\"&$A42),'Time Entry Sheet'!$A$3:$I$499,8,FALSE)))","v":""},{"$f":"IF(IFERROR(VLOOKUP(($B$2&\"_\"&$A42),'Time Entry Sheet'!$A$3:$I$499,7,FALSE),\"Error\")=\"Error\",\"\",IF(VLOOKUP(($B$2&\"_\"&$A42),'Time Entry Sheet'!$A$3:$I$499,7,FALSE)=\"\",\"\",VLOOKUP(($B$2&\"_\"&$A42),'Time Entry Sheet'!$A$3:$I$499,7,FALSE)))","v":""},"00:01:04.310","00:01:04.310",19,{"$f":"IF(A42=\"\",\"\",M42+VLOOKUP(A42,'Test 7'!$A$12:$Q$51,16,FALSE))","v":"00:09:39.470"},20,null,"","00:09:39.470"]
[32,{"$f":"IF($A43=\"\",\"\",IF(VLOOKUP($A43,Competitors!$A$2:$G$60,2,FALSE)=\"\",\"\",VLOOKUP($A43,Competitors!$A$2:$G$60,2,FALSE)))","v":""},{"$f":"IF($A43=\"\",\"\",IF(VLOOKUP($A43,Competitors!$A$2:$G$60,7,FALSE)=\"\",\"\",VLOOKUP($A43,Competitors!$A$2:$G$60,7,FALSE)))","v":""},{"$f":"IF($A43=\"\",\"\",IF(VLOOKUP($A43,Competitors!$A$2:$G$60,5,FALSE)=\"\",\"\",VLOOKUP($A43,Competitors!$A$2:$G$60,5,FALSE)))","v":""},{"$f":"IF($A43=\"\",\"\",IF(VLOOKUP($A43,Competitors!$A$2:$G$60,6,FALSE)=\"\",\"\",VLOOKUP($A43,Competitors!$A$2:$G$60,6,FALSE)))","v":"senior"},{"$f":"IF($A43=\"\",\"\",IF(VLOOKUP($A43,Competitors!$A$2:$G$60,3,FALSE)=\"\",\"\",VLOOKUP($A43,Competitors!$A$2:$G$60,3,FALSE)))","v":""},{"$f":"IF($A43=\"\",\"\",IF(VLOOKUP($A43,Competitors!$A$2:$G$60,4,FALSE)=\"\",\"\",VLOOKUP($A43,Competitors!$A$2:$G$60,4,FALSE)))","v":""},{"$f":"IF(VLOOKUP(A43,Competitors!$A$1:$H$41,8,FALSE)=\"\",\"\",VLOOKUP(A43,Competitors!$A$1:$H$41,8,FALSE))","v":""},{"$f":"IF(IFERROR(VLOOKUP(($B$2&\"_\"&$A43),'Time Entry Sheet'!$A$3:$I$499,9,0),\"Error\")=\"Error\",\"\",IF(VLOOKUP(($B$2&\"_\"&$A43),'Time Entry Sheet'!$A$3:$I$499,9,FALSE)=\"wd\",\"wd\",VLOOKUP(($B$2&\"_\"&$A43),'Time Entry Sheet'!$A$3:$I$499,9,FALSE)*1))","v":""},"",{"$f":"IF(IFERROR(VLOOKUP(($B$2&\"_\"&$A43),'Time Entry Sheet'!$A$3:$I$499,8,FALSE),\"Error\")=\"Error\",\"\",IF(VLOOKUP(($B$2&\"_\"&$A43),'Time Entry Sheet'!$A$3:$I$499,8,FALSE)=\"\",\"\",VLOOKUP(($B$2&\"_\"&$A43),'Time Entry Sheet'!$A$3:$I$499,8,FALSE)))","v":""},{"$f":"IF(IFERROR(VLOOKUP(($B$2&\"_\"&$A43),'Time Entry Sheet'!$A$3:$I$499,7,FALSE),\"Error\")=\"Error\",\"\",IF(VLOOKUP(($B$2&\"_\"&$A43),'Time Entry Sheet'!$A$3:$I$499,7,FALSE)=\"\",\"\",VLOOKUP(($B$2&\"_\"&$A43),'Time Entry Sheet'!$A$3:$I$499,7,FALSE)))","v":""},"00:01:04.310","00:01:04.310",19,{"$f":"IF(A43=\"\",\"\",M43+VLOOKUP(A43,'Test 7'!$A$12:$Q$51,16,FALSE))","v":"00:09:39.470"},20,null,"","00:09:39.470"]
[33,{"$f":"IF($A44=\"\",\"\",IF(VLOOKUP($A44,Competitors!$A$2:$G$60,2,FALSE)=\"\",\"\",VLOOKUP($A44,Competitors!$A$2:$G$60,2,FALSE)))","v":""},{"$f":"IF($A44=\"\",\"\",IF(VLOOKUP($A44,Competitors!$A$2:$G$60,7,FALSE)=\"\",\"\",VLOOKUP($A44,Competitors!$A$2:$G$60,7,FALSE)))","v":""},{"$f":"IF($A44=\"\",\"\",IF(VLOOKUP($A44,Competitors!$A$2:$G$60,5,FALSE)=\"\",\"\",VLOOKUP($A44,Competitors!$A$2:$G$60,5,FALSE)))","v":""},{"$f":"IF($A44=\"\",\"\",IF(VLOOKUP($A44,Competitors!$A$2:$G$60,6,FALSE)=\"\",\"\",VLOOKUP($A44,Competitors!$A$2:$G$60,6,FALSE)))","v":"senior"},{"$f":"IF($A44=\"\",\"\",IF(VLOOKUP($A44,Competitors!$A$2:$G$60,3,FALSE)=\"\",\"\",VLOOKUP($A44,Competitors!$A$2:$G$60,3,FALSE)))","v":""},{"$f":"IF($A44=\"\",\"\",IF(VLOOKUP($A44,Competitors!$A$2:$G$60,4,FALSE)=\"\",\"\",VLOOKUP($A44,Competitors!$A$2:$G$60,4,FALSE)))","v":""},{"$f":"IF(VLOOKUP(A44,Competitors!$A$1:$H$41,8,FALSE)=\"\",\"\",VLOOKUP(A44,Competitors!$A$1:$H$41,8,FALSE))","v":""},{"$f":"IF(IFERROR(VLOOKUP(($B$2&\"_\"&$A44),'Time Entry Sheet'!$A$3:$I$499,9,0),\"Error\")=\"Error\",\"\",IF(VLOOKUP(($B$2&\"_\"&$A44),'Time Entry Sheet'!$A$3:$I$499,9,FALSE)=\"wd\",\"wd\",VLOOKUP(($B$2&\"_\"&$A44),'Time Entry Sheet'!$A$3:$I$499,9,FALSE)*1))","v":""},"",{"$f":"IF(IFERROR(VLOOKUP(($B$2&\"_\"&$A44),'Time Entry Sheet'!$A$3:$I$499,8,FALSE),\"Error\")=\"Error\",\"\",IF(VLOOKUP(($B$2&\"_\"&$A44),'Time Entry Sheet'!$A$3:$I$499,8,FALSE)=\"\",\"\",VLOOKUP(($B$2&\"_\"&$A44),'Time Entry Sheet'!$A$3:$I$499,8,FALSE)))","v":""},{"$f":"IF(IFERROR(VLOOKUP(($B$2&\"_\"&$A44),'Time Entry Sheet'!$A$3:$I$499,7,FALSE),\"Error\")=\"Error\",\"\",IF(VLOOKUP(($B$2&\"_\"&$A44),'Time Entry Sheet'!$A$3:$I$499,7,FALSE)=\"\",\"\",VLOOKUP(($B$2&\"_\"&$A44),'Time Entry Sheet'!$A$3:$I$499,7,FALSE)))","v":""},"00:01:04.310","00:01:04.310",19,{"$f":"IF(A44=\"\",\"\",M44+VLOOKUP(A44,'Test 7'!$A$12:$Q$51,16,FALSE))","v":"00:09:39.470"},20,null,"","00:09:39.470"]
[34,{"$f":"IF($A45=\"\",\"\",IF(VLOOKUP($A45,Competitors!$A$2:$G$60,2,FALSE)=\"\",\"\",VLOOKUP($A45,Competitors!$A$2:$G$60,2,FALSE)))","v":""},{"$f":"IF($A45=\"\",\"\",IF(VLOOKUP($A45,Competitors!$A$2:$G$60,7,FALSE)=\"\",\"\",VLOOKUP($A45,Competitors!$A$2:$G$60,7,FALSE)))","v":""},{"$f":"IF($A45=\"\",\"\",IF(VLOOKUP($A45,Competitors!$A$2:$G$60,5,FALSE)=\"\",\"\",VLOOKUP($A45,Competitors!$A$2:$G$60,5,FALSE)))","v":""},{"$f":"IF($A45=\"\",\"\",IF(VLOOKUP($A45,Competitors!$A$2:$G$60,6,FALSE)=\"\",\"\",VLOOKUP($A45,Competitors!$A$2:$G$60,6,FALSE)))","v":"senior"},{"$f":"IF($A45=\"\",\"\",IF(VLOOKUP($A45,Competitors!$A$2:$G$60,3,FALSE)=\"\",\"\",VLOOKUP($A45,Competitors!$A$2:$G$60,3,FALSE)))","v":""},{"$f":"IF($A45=\"\",\"\",IF(VLOOKUP($A45,Competitors!$A$2:$G$60,4,FALSE)=\"\",\"\",VLOOKUP($A45,Competitors!$A$2:$G$60,4,FALSE)))","v":""},{"$f":"IF(VLOOKUP(A45,Competitors!$A$1:$H$41,8,FALSE)=\"\",\"\",VLOOKUP(A45,Competitors!$A$1:$H$41,8,FALSE))","v":""},{"$f":"IF(IFERROR(VLOOKUP(($B$2&\"_\"&$A45),'Time Entry Sheet'!$A$3:$I$499,9,0),\"Error\")=\"Error\",\"\",IF(VLOOKUP(($B$2&\"_\"&$A45),'Time Entry Sheet'!$A$3:$I$499,9,FALSE)=\"wd\",\"wd\",VLOOKUP(($B$2&\"_\"&$A45),'Time Entry Sheet'!$A$3:$I$499,9,FALSE)*1))","v":""},"",{"$f":"IF(IFERROR(VLOOKUP(($B$2&\"_\"&$A45),'Time Entry Sheet'!$A$3:$I$499,8,FALSE),\"Error\")=\"Error\",\"\",IF(VLOOKUP(($B$2&\"_\"&$A45),'Time Entry Sheet'!$A$3:$I$499,8,FALSE)=\"\",\"\",VLOOKUP(($B$2&\"_\"&$A45),'Time Entry Sheet'!$A$3:$I$499,8,FALSE)))","v":""},{"$f":"IF(IFERROR(VLOOKUP(($B$2&\"_\"&$A45),'Time Entry Sheet'!$A$3:$I$499,7,FALSE),\"Error\")=\"Error\",\"\",IF(VLOOKUP(($B$2&\"_\"&$A45),'Time Entry Sheet'!$A$3:$I$499,7,FALSE)=\"\",\"\",VLOOKUP(($B$2&\"_\"&$A45),'Time Entry Sheet'!$A$3:$I$499,7,FALSE)))","v":""},"00:01:04.310","00:01:04.310",19,{"$f":"IF(A45=\"\",\"\",M45+VLOOKUP(A45,'Test 7'!$A$12:$Q$51,16,FALSE))","v":"00:09:39.470"},20,null,"","00:09:39.470"]
[35,{"$f":"IF($A46=\"\",\"\",IF(VLOOKUP($A46,Competitors!$A$2:$G$60,2,FALSE)=\"\",\"\",VLOOKUP($A46,Competitors!$A$2:$G$60,2,FALSE)))","v":""},{"$f":"IF($A46=\"\",\"\",IF(VLOOKUP($A46,Competitors!$A$2:$G$60,7,FALSE)=\"\",\"\",VLOOKUP($A46,Competitors!$A$2:$G$60,7,FALSE)))","v":""},{"$f":"IF($A46=\"\",\"\",IF(VLOOKUP($A46,Competitors!$A$2:$G$60,5,FALSE)=\"\",\"\",VLOOKUP($A46,Competitors!$A$2:$G$60,5,FALSE)))","v":""},{"$f":"IF($A46=\"\",\"\",IF(VLOOKUP($A46,Competitors!$A$2:$G$60,6,FALSE)=\"\",\"\",VLOOKUP($A46,Competitors!$A$2:$G$60,6,FALSE)))","v":"senior"},{"$f":"IF($A46=\"\",\"\",IF(VLOOKUP($A46,Competitors!$A$2:$G$60,3,FALSE)=\"\",\"\",VLOOKUP($A46,Competitors!$A$2:$G$60,3,FALSE)))","v":""},{"$f":"IF($A46=\"\",\"\",IF(VLOOKUP($A46,Competitors!$A$2:$G$60,4,FALSE)=\"\",\"\",VLOOKUP($A46,Competitors!$A$2:$G$60,4,FALSE)))","v":""},{"$f":"IF(VLOOKUP(A46,Competitors!$A$1:$H$41,8,FALSE)=\"\",\"\",VLOOKUP(A46,Competitors!$A$1:$H$41,8,FALSE))","v":""},{"$f":"IF(IFERROR(VLOOKUP(($B$2&\"_\"&$A46),'Time Entry Sheet'!$A$3:$I$499,9,0),\"Error\")=\"Error\",\"\",IF(VLOOKUP(($B$2&\"_\"&$A46),'Time Entry Sheet'!$A$3:$I$499,9,FALSE)=\"wd\",\"wd\",VLOOKUP(($B$2&\"_\"&$A46),'Time Entry Sheet'!$A$3:$I$499,9,FALSE)*1))","v":""},"",{"$f":"IF(IFERROR(VLOOKUP(($B$2&\"_\"&$A46),'Time Entry Sheet'!$A$3:$I$499,8,FALSE),\"Error\")=\"Error\",\"\",IF(VLOOKUP(($B$2&\"_\"&$A46),'Time Entry Sheet'!$A$3:$I$499,8,FALSE)=\"\",\"\",VLOOKUP(($B$2&\"_\"&$A46),'Time Entry Sheet'!$A$3:$I$499,8,FALSE)))","v":""},{"$f":"IF(IFERROR(VLOOKUP(($B$2&\"_\"&$A46),'Time Entry Sheet'!$A$3:$I$499,7,FALSE),\"Error\")=\"Error\",\"\",IF(VLOOKUP(($B$2&\"_\"&$A46),'Time Entry Sheet'!$A$3:$I$499,7,FALSE)=\"\",\"\",VLOOKUP(($B$2&\"_\"&$A46),'Time Entry Sheet'!$A$3:$I$499,7,FALSE)))","v":""},"00:01:04.310","00:01:04.310",19,{"$f":"IF(A46=\"\",\"\",M46+VLOOKUP(A46,'Test 7'!$A$12:$Q$51,16,FALSE))","v":"00:09:39.470"},20,null,"","00:09:39.470"]
[36,{"$f":"IF($A47=\"\",\"\",IF(VLOOKUP($A47,Competitors!$A$2:$G$60,2,FALSE)=\"\",\"\",VLOOKUP($A47,Competitors!$A$2:$G$60,2,FALSE)))","v":""},{"$f":"IF($A47=\"\",\"\",IF(VLOOKUP($A47,Competitors!$A$2:$G$60,7,FALSE)=\"\",\"\",VLOOKUP($A47,Competitors!$A$2:$G$60,7,FALSE)))","v":""},{"$f":"IF($A47=\"\",\"\",IF(VLOOKUP($A47,Competitors!$A$2:$G$60,5,FALSE)=\"\",\"\",VLOOKUP($A47,Competitors!$A$2:$G$60,5,FALSE)))","v":""},{"$f":"IF($A47=\"\",\"\",IF(VLOOKUP($A47,Competitors!$A$2:$G$60,6,FALSE)=\"\",\"\",VLOOKUP($A47,Competitors!$A$2:$G$60,6,FALSE)))","v":"senior"},{"$f":"IF($A47=\"\",\"\",IF(VLOOKUP($A47,Competitors!$A$2:$G$60,3,FALSE)=\"\",\"\",VLOOKUP($A47,Competitors!$A$2:$G$60,3,FALSE)))","v":""},{"$f":"IF($A47=\"\",\"\",IF(VLOOKUP($A47,Competitors!$A$2:$G$60,4,FALSE)=\"\",\"\",VLOOKUP($A47,Competitors!$A$2:$G$60,4,FALSE)))","v":""},{"$f":"IF(VLOOKUP(A47,Competitors!$A$1:$H$41,8,FALSE)=\"\",\"\",VLOOKUP(A47,Competitors!$A$1:$H$41,8,FALSE))","v":""},{"$f":"IF(IFERROR(VLOOKUP(($B$2&\"_\"&$A47),'Time Entry Sheet'!$A$3:$I$499,9,0),\"Error\")=\"Error\",\"\",IF(VLOOKUP(($B$2&\"_\"&$A47),'Time Entry Sheet'!$A$3:$I$499,9,FALSE)=\"wd\",\"wd\",VLOOKUP(($B$2&\"_\"&$A47),'Time Entry Sheet'!$A$3:$I$499,9,FALSE)*1))","v":""},"",{"$f":"IF(IFERROR(VLOOKUP(($B$2&\"_\"&$A47),'Time Entry Sheet'!$A$3:$I$499,8,FALSE),\"Error\")=\"Error\",\"\",IF(VLOOKUP(($B$2&\"_\"&$A47),'Time Entry Sheet'!$A$3:$I$499,8,FALSE)=\"\",\"\",VLOOKUP(($B$2&\"_\"&$A47),'Time Entry Sheet'!$A$3:$I$499,8,FALSE)))","v":""},{"$f":"IF(IFERROR(VLOOKUP(($B$2&\"_\"&$A47),'Time Entry Sheet'!$A$3:$I$499,7,FALSE),\"Error\")=\"Error\",\"\",IF(VLOOKUP(($B$2&\"_\"&$A47),'Time Entry Sheet'!$A$3:$I$499,7,FALSE)=\"\",\"\",VLOOKUP(($B$2&\"_\"&$A47),'Time Entry Sheet'!$A$3:$I$499,7,FALSE)))","v":""},"00:01:04.310","00:01:04.310",19,{"$f":"IF(A47=\"\",\"\",M47+VLOOKUP(A47,'Test 7'!$A$12:$Q$51,16,FALSE))","v":"00:09:39.470"},20,null,"","00:09:39.470"]
[37,{"$f":"IF($A48=\"\",\"\",IF(VLOOKUP($A48,Competitors!$A$2:$G$60,2,FALSE)=\"\",\"\",VLOOKUP($A48,Competitors!$A$2:$G$60,2,FALSE)))","v":""},{"$f":"IF($A48=\"\",\"\",IF(VLOOKUP($A48,Competitors!$A$2:$G$60,7,FALSE)=\"\",\"\",VLOOKUP($A48,Competitors!$A$2:$G$60,7,FALSE)))","v":""},{"$f":"IF($A48=\"\",\"\",IF(VLOOKUP($A48,Competitors!$A$2:$G$60,5,FALSE)=\"\",\"\",VLOOKUP($A48,Competitors!$A$2:$G$60,5,FALSE)))","v":""},{"$f":"IF($A48=\"\",\"\",IF(VLOOKUP($A48,Competitors!$A$2:$G$60,6,FALSE)=\"\",\"\",VLOOKUP($A48,Competitors!$A$2:$G$60,6,FALSE)))","v":"senior"},{"$f":"IF($A48=\"\",\"\",IF(VLOOKUP($A48,Competitors!$A$2:$G$60,3,FALSE)=\"\",\"\",VLOOKUP($A48,Competitors!$A$2:$G$60,3,FALSE)))","v":""},{"$f":"IF($A48=\"\",\"\",IF(VLOOKUP($A48,Competitors!$A$2:$G$60,4,FALSE)=\"\",\"\",VLOOKUP($A48,Competitors!$A$2:$G$60,4,FALSE)))","v":""},{"$f":"IF(VLOOKUP(A48,Competitors!$A$1:$H$41,8,FALSE)=\"\",\"\",VLOOKUP(A48,Competitors!$A$1:$H$41,8,FALSE))","v":""},{"$f":"IF(IFERROR(VLOOKUP(($B$2&\"_\"&$A48),'Time Entry Sheet'!$A$3:$I$499,9,0),\"Error\")=\"Error\",\"\",IF(VLOOKUP(($B$2&\"_\"&$A48),'Time Entry Sheet'!$A$3:$I$499,9,FALSE)=\"wd\",\"wd\",VLOOKUP(($B$2&\"_\"&$A48),'Time Entry Sheet'!$A$3:$I$499,9,FALSE)*1))","v":""},"",{"$f":"IF(IFERROR(VLOOKUP(($B$2&\"_\"&$A48),'Time Entry Sheet'!$A$3:$I$499,8,FALSE),\"Error\")=\"Error\",\"\",IF(VLOOKUP(($B$2&\"_\"&$A48),'Time Entry Sheet'!$A$3:$I$499,8,FALSE)=\"\",\"\",VLOOKUP(($B$2&\"_\"&$A48),'Time Entry Sheet'!$A$3:$I$499,8,FALSE)))","v":""},{"$f":"IF(IFERROR(VLOOKUP(($B$2&\"_\"&$A48),'Time Entry Sheet'!$A$3:$I$499,7,FALSE),\"Error\")=\"Error\",\"\",IF(VLOOKUP(($B$2&\"_\"&$A48),'Time Entry Sheet'!$A$3:$I$499,7,FALSE)=\"\",\"\",VLOOKUP(($B$2&\"_\"&$A48),'Time Entry Sheet'!$A$3:$I$499,7,FALSE)))","v":""},{"$f":"IF(A48=\"\",\"\",IF(I48=\"wd\",IF(E48=\"Senior\",$B$7,$C$7),IF(L48<>\"\",$B$7,IF(I48=\"\",IF(E48=\"Senior\",$B$8,$C$8),IF(K48=\"\",I48,I48+($B$5*K48))))))","v":"00:01:04.310"},"00:01:04.310",19,{"$f":"IF(A48=\"\",\"\",M48+VLOOKUP(A48,'Test 7'!$A$12:$Q$51,16,FALSE))","v":"00:09:39.470"},20,null,"","00:09:39.470"]
[38,{"$f":"IF($A49=\"\",\"\",IF(VLOOKUP($A49,Competitors!$A$2:$G$60,2,FALSE)=\"\",\"\",VLOOKUP($A49,Competitors!$A$2:$G$60,2,FALSE)))","v":""},{"$f":"IF($A49=\"\",\"\",IF(VLOOKUP($A49,Competitors!$A$2:$G$60,7,FALSE)=\"\",\"\",VLOOKUP($A49,Competitors!$A$2:$G$60,7,FALSE)))","v":""},{"$f":"IF($A49=\"\",\"\",IF(VLOOKUP($A49,Competitors!$A$2:$G$60,5,FALSE)=\"\",\"\",VLOOKUP($A49,Competitors!$A$2:$G$60,5,FALSE)))","v":""},{"$f":"IF($A49=\"\",\"\",IF(VLOOKUP($A49,Competitors!$A$2:$G$60,6,FALSE)=\"\",\"\",VLOOKUP($A49,Competitors!$A$2:$G$60,6,FALSE)))","v":"senior"},{"$f":"IF($A49=\"\",\"\",IF(VLOOKUP($A49,Competitors!$A$2:$G$60,3,FALSE)=\"\",\"\",VLOOKUP($A49,Competitors!$A$2:$G$60,3,FALSE)))","v":""},{"$f":"IF($A49=\"\",\"\",IF(VLOOKUP($A49,Competitors!$A$2:$G$60,4,FALSE)=\"\",\"\",VLOOKUP($A49,Competitors!$A$2:$G$60,4,FALSE)))","v":""},{"$f":"IF(VLOOKUP(A49,Competitors!$A$1:$H$41,8,FALSE)=\"\",\"\",VLOOKUP(A49,Competitors!$A$1:$H$41,8,FALSE))","v":""},{"$f":"IF(IFERROR(VLOOKUP(($B$2&\"_\"&$A49),'Time Entry Sheet'!$A$3:$I$499,9,0),\"Error\")=\"Error\",\"\",IF(VLOOKUP(($B$2&\"_\"&$A49),'Time Entry Sheet'!$A$3:$I$499,9,FALSE)=\"wd\",\"wd\",VLOOKUP(($B$2&\"_\"&$A49),'Time Entry Sheet'!$A$3:$I$499,9,FALSE)*1))","v":""},"",{"$f":"IF(IFERROR(VLOOKUP(($B$2&\"_\"&$A49),'Time Entry Sheet'!$A$3:$I$499,8,FALSE),\"Error\")=\"Error\",\"\",IF(VLOOKUP(($B$2&\"_\"&$A49),'Time Entry Sheet'!$A$3:$I$499,8,FALSE)=\"\",\"\",VLOOKUP(($B$2&\"_\"&$A49),'Time Entry Sheet'!$A$3:$I$499,8,FALSE)))","v":""},{"$f":"IF(IFERROR(VLOOKUP(($B$2&\"_\"&$A49),'Time Entry Sheet'!$A$3:$I$499,7,FALSE),\"Error\")=\"Error\",\"\",IF(VLOOKUP(($B$2&\"_\"&$A49),'Time Entry Sheet'!$A$3:$I$499,7,FALSE)=\"\",\"\",VLOOKUP(($B$2&\"_\"&$A49),'Time Entry Sheet'!$A$3:$I$499,7,FALSE)))","v":""},"00:01:04.310","00:01:04.310",19,{"$f":"IF(A49=\"\",\"\",M49+VLOOKUP(A49,'Test 7'!$A$12:$Q$51,16,FALSE))","v":"00:09:39.470"},20,null,"","00:09:39.470"]
[39,{"$f":"IF($A50=\"\",\"\",IF(VLOOKUP($A50,Competitors!$A$2:$G$60,2,FALSE)=\"\",\"\",VLOOKUP($A50,Competitors!$A$2:$G$60,2,FALSE)))","v":""},{"$f":"IF($A50=\"\",\"\",IF(VLOOKUP($A50,Competitors!$A$2:$G$60,7,FALSE)=\"\",\"\",VLOOKUP($A50,Competitors!$A$2:$G$60,7,FALSE)))","v":""},{"$f":"IF($A50=\"\",\"\",IF(VLOOKUP($A50,Competitors!$A$2:$G$60,5,FALSE)=\"\",\"\",VLOOKUP($A50,Competitors!$A$2:$G$60,5,FALSE)))","v":""},{"$f":"IF($A50=\"\",\"\",IF(VLOOKUP($A50,Competitors!$A$2:$G$60,6,FALSE)=\"\",\"\",VLOOKUP($A50,Competitors!$A$2:$G$60,6,FALSE)))","v":"senior"},{"$f":"IF($A50=\"\",\"\",IF(VLOOKUP($A50,Competitors!$A$2:$G$60,3,FALSE)=\"\",\"\",VLOOKUP($A50,Competitors!$A$2:$G$60,3,FALSE)))","v":""},{"$f":"IF($A50=\"\",\"\",IF(VLOOKUP($A50,Competitors!$A$2:$G$60,4,FALSE)=\"\",\"\",VLOOKUP($A50,Competitors!$A$2:$G$60,4,FALSE)))","v":""},{"$f":"IF(VLOOKUP(A50,Competitors!$A$1:$H$41,8,FALSE)=\"\",\"\",VLOOKUP(A50,Competitors!$A$1:$H$41,8,FALSE))","v":""},{"$f":"IF(IFERROR(VLOOKUP(($B$2&\"_\"&$A50),'Time Entry Sheet'!$A$3:$I$499,9,0),\"Error\")=\"Error\",\"\",IF(VLOOKUP(($B$2&\"_\"&$A50),'Time Entry Sheet'!$A$3:$I$499,9,FALSE)=\"wd\",\"wd\",VLOOKUP(($B$2&\"_\"&$A50),'Time Entry Sheet'!$A$3:$I$499,9,FALSE)*1))","v":""},"",{"$f":"IF(IFERROR(VLOOKUP(($B$2&\"_\"&$A50),'Time Entry Sheet'!$A$3:$I$499,8,FALSE),\"Error\")=\"Error\",\"\",IF(VLOOKUP(($B$2&\"_\"&$A50),'Time Entry Sheet'!$A$3:$I$499,8,FALSE)=\"\",\"\",VLOOKUP(($B$2&\"_\"&$A50),'Time Entry Sheet'!$A$3:$I$499,8,FALSE)))","v":""},{"$f":"IF(IFERROR(VLOOKUP(($B$2&\"_\"&$A50),'Time Entry Sheet'!$A$3:$I$499,7,FALSE),\"Error\")=\"Error\",\"\",IF(VLOOKUP(($B$2&\"_\"&$A50),'Time Entry Sheet'!$A$3:$I$499,7,FALSE)=\"\",\"\",VLOOKUP(($B$2&\"_\"&$A50),'Time Entry Sheet'!$A$3:$I$499,7,FALSE)))","v":""},"00:01:04.310","00:01:04.310",19,{"$f":"IF(A50=\"\",\"\",M50+VLOOKUP(A50,'Test 7'!$A$12:$Q$51,16,FALSE))","v":"00:09:39.470"},20,null,null,"00:09:39.470"]
[40,{"$f":"IF($A51=\"\",\"\",IF(VLOOKUP($A51,Competitors!$A$2:$G$60,2,FALSE)=\"\",\"\",VLOOKUP($A51,Competitors!$A$2:$G$60,2,FALSE)))","v":""},{"$f":"IF($A51=\"\",\"\",IF(VLOOKUP($A51,Competitors!$A$2:$G$60,7,FALSE)=\"\",\"\",VLOOKUP($A51,Competitors!$A$2:$G$60,7,FALSE)))","v":""},{"$f":"IF($A51=\"\",\"\",IF(VLOOKUP($A51,Competitors!$A$2:$G$60,5,FALSE)=\"\",\"\",VLOOKUP($A51,Competitors!$A$2:$G$60,5,FALSE)))","v":""},{"$f":"IF($A51=\"\",\"\",IF(VLOOKUP($A51,Competitors!$A$2:$G$60,6,FALSE)=\"\",\"\",VLOOKUP($A51,Competitors!$A$2:$G$60,6,FALSE)))","v":"senior"},{"$f":"IF($A51=\"\",\"\",IF(VLOOKUP($A51,Competitors!$A$2:$G$60,3,FALSE)=\"\",\"\",VLOOKUP($A51,Competitors!$A$2:$G$60,3,FALSE)))","v":""},{"$f":"IF($A51=\"\",\"\",IF(VLOOKUP($A51,Competitors!$A$2:$G$60,4,FALSE)=\"\",\"\",VLOOKUP($A51,Competitors!$A$2:$G$60,4,FALSE)))","v":""},{"$f":"IF(VLOOKUP(A51,Competitors!$A$1:$H$41,8,FALSE)=\"\",\"\",VLOOKUP(A51,Competitors!$A$1:$H$41,8,FALSE))","v":""},{"$f":"IF(IFERROR(VLOOKUP(($B$2&\"_\"&$A51),'Time Entry Sheet'!$A$3:$I$499,9,0),\"Error\")=\"Error\",\"\",IF(VLOOKUP(($B$2&\"_\"&$A51),'Time Entry Sheet'!$A$3:$I$499,9,FALSE)=\"wd\",\"wd\",VLOOKUP(($B$2&\"_\"&$A51),'Time Entry Sheet'!$A$3:$I$499,9,FALSE)*1))","v":""},"",{"$f":"IF(IFERROR(VLOOKUP(($B$2&\"_\"&$A51),'Time Entry Sheet'!$A$3:$I$499,8,FALSE),\"Error\")=\"Error\",\"\",IF(VLOOKUP(($B$2&\"_\"&$A51),'Time Entry Sheet'!$A$3:$I$499,8,FALSE)=\"\",\"\",VLOOKUP(($B$2&\"_\"&$A51),'Time Entry Sheet'!$A$3:$I$499,8,FALSE)))","v":""},{"$f":"IF(IFERROR(VLOOKUP(($B$2&\"_\"&$A51),'Time Entry Sheet'!$A$3:$I$499,7,FALSE),\"Error\")=\"Error\",\"\",IF(VLOOKUP(($B$2&\"_\"&$A51),'Time Entry Sheet'!$A$3:$I$499,7,FALSE)=\"\",\"\",VLOOKUP(($B$2&\"_\"&$A51),'Time Entry Sheet'!$A$3:$I$499,7,FALSE)))","v":""},"00:01:04.310","00:01:04.310",19,{"$f":"IF(A51=\"\",\"\",M51+VLOOKUP(A51,'Test 7'!$A$12:$Q$51,16,FALSE))","v":"00:09:39.470"},20,null,null,"00:09:39.470"]

{"sheet":"Test 9","index":26,"n_rows":51,"n_cols":20,"rows_kept":51,"cut":false,"hidden":false,"merged":[[0,8,0,10]]}
[]
["TEST",9,null,null,null,null,null,null,null,null,"PROVISIONAL RESULTS",null,{"$f":"NOW()","v":42690.814244444446},null,{"$f":"NOW()","v":"2016-11-16T19:32:30.720"}]
["Date:","2015-10-31",null,null,null,null,null,null,null,null,null,"Junior",{"$f":"MIN( IF( $E$8:$E$55=L3, $S$8:$S$55 ) )","v":"00:00:00"},null,"FASTEST"]
["10 sec penalty","00:00:10",null,null,null,null,null,null,null,null,null,"Junior",{"$f":"MAX( IF( $E$8:$E$55=L4, $S$8:$S$55 ) )","v":"00:00:00"},null,"SLOWEST"]
["Flag penalty","00:00:05",null,null,null,null,"SENIOR"]
[null,null,null,null,null,null,"Fastest test time x 2",null,{"$f":"M6*2","v":"00:01:28.500"},null,null,"Senior",{"$f":"MIN( IF( E11:E58=L6, J11:J58 ) )","v":"00:00:44.250"},null,"FASTEST"]
["Slowest test time + 5 second penalty",{"$f":"MIN($I$6,$I$7)+$B$5","v":"00:01:01.570"},{"$f":"MIN($I$9:$I$10)+$B$5","v":"00:00:05"},null,null,null,"Slowest test time",null,{"$f":"M7","v":"00:00:56.570"},null,null,"Senior",{"$f":"MAX( IF( E11:E58=L7, J11:J58 ) )","v":"00:00:56.570"},null,"SLOWEST"]
["Failure to Attempt Course (Slowest time + 10 sec)",{"$f":"SUM($I$7,$B$4)","v":"00:01:06.570"},{"$f":"SUM($I$10,$B$4)","v":"00:00:10"},null,null,null,"JUNIOR"]
[null,null,null,null,null,null,"Fastest test time x 2",null,{"$f":"M3*2","v":"00:00:00"}]
[null,null,null,null,null,null,"Slowest test time",null,{"$f":"M4","v":"00:00:00"}]
["Car Number","Driver","Rookie?","Female Driver?","Junior Driver?","Vehicle","Class","Senior with Passenger?","Time Taken (MM:SS.00)","Time Taken-PenaltyCalculator (MM:SS.00)","No. of Flags &/or Finishes partly out of garage","Slowest time + 5 sec penalty type","Total Test 9 Time","Total Test 1 Time for ranking","Test 9 Position","Cumulative Time Taken (MM:SS.00)","Cumulative Outright Position","Comments","Time Taken-PenaltyCalculator Junior(MM:SS.00)","Cumulative Time Taken (MM:SS.00) for ranking"]
[1,{"$f":"IF($A12=\"\",\"\",IF(VLOOKUP($A12,Competitors!$A$2:$G$60,2,FALSE)=\"\",\"\",VLOOKUP($A12,Competitors!$A$2:$G$60,2,FALSE)))","v":"Paul Dunn"},{"$f":"IF($A12=\"\",\"\",IF(VLOOKUP($A12,Competitors!$A$2:$G$60,7,FALSE)=\"\",\"\",VLOOKUP($A12,Competitors!$A$2:$G$60,7,FALSE)))","v":""},{"$f":"IF($A12=\"\",\"\",IF(VLOOKUP($A12,Competitors!$A$2:$G$60,5,FALSE)=\"\",\"\",VLOOKUP($A12,Competitors!$A$2:$G$60,5,FALSE)))","v":""},{"$f":"IF($A12=\"\",\"\",IF(VLOOKUP($A12,Competitors!$A$2:$G$60,6,FALSE)=\"\",\"\",VLOOKUP($A12,Competitors!$A$2:$G$60,6,FALSE)))","v":"senior"},{"$f":"IF($A12=\"\",\"\",IF(VLOOKUP($A12,Competitors!$A$2:$G$60,3,FALSE)=\"\",\"\",VLOOKUP($A12,Competitors!$A$2:$G$60,3,FALSE)))","v":"Excel"},{"$f":"IF($A12=\"\",\"\",IF(VLOOKUP($A12,Competitors!$A$2:$G$60,4,FALSE)=\"\",\"\",VLOOKUP($A12,Competitors!$A$2:$G$60,4,FALSE)))","v":""},{"$f":"IF(VLOOKUP(A12,Competitors!$A$1:$H$41,8,FALSE)=\"\",\"\",VLOOKUP(A12,Competitors!$A$1:$H$41,8,FALSE))","v":""},{"$f":"IF(IFERROR(VLOOKUP(($B$2&\"_\"&$A12),'Time Entry Sheet'!$A$3:$I$499,9,0),\"Error\")=\"Error\",\"\",IF(VLOOKUP(($B$2&\"_\"&$A12),'Time Entry Sheet'!$A$3:$I$499,9,FALSE)=\"wd\",\"wd\",VLOOKUP(($B$2&\"_\"&$A12),'Time Entry Sheet'!$A$3:$I$499,9,FALSE)*1))","v":"00:00:45.520"},{"$f":"IF(E12=\"Junior\",\"\",IF(I12=\"wd\",\"\",IF(K12<>\"\",\"\",I12)))","v":"00:00:45.520"},{"$f":"IF(IFERROR(VLOOKUP(($B$2&\"_\"&$A12),'Time Entry Sheet'!$A$3:$I$499,8,FALSE),\"Error\")=\"Error\",\"\",IF(VLOOKUP(($B$2&\"_\"&$A12),'Time Entry Sheet'!$A$3:$I$499,8,FALSE)=\"\",\"\",VLOOKUP(($B$2&\"_\"&$A12),'Time Entry Sheet'!$A$3:$I$499,8,FALSE)))","v":""},{"$f":"IF(IFERROR(VLOOKUP(($B$2&\"_\"&$A12),'Time Entry Sheet'!$A$3:$I$499,7,FALSE),\"Error\")=\"Error\",\"\",IF(VLOOKUP(($B$2&\"_\"&$A12),'Time Entry Sheet'!$A$3:$I$499,7,FALSE)=\"\",\"\",VLOOKUP(($B$2&\"_\"&$A12),'Time Entry Sheet'!$A$3:$I$499,7,FALSE)))","v":""},{"$f":"IF(A12=\"\",\"\",IF(I12=\"wd\",IF(E12=\"Senior\",$B$7,$C$7),IF(L12<>\"\",$B$7,IF(I12=\"\",IF(E12=\"Senior\",$B$8,$C$8),IF(K12=\"\",I12,I12+($B$5*K12))))))","v":"00:00:45.520"},{"$f":"IF(H12=\"Passenger\",\"\",M12)","v":"00:00:45.520"},{"$f":"IF(A12=\"\",\"\",IF(H12=\"Passenger\",\"P\",RANK(N12,$N$12:$N$51,1)))","v":3},{"$f":"IF(A12=\"\",\"\",M12+VLOOKUP(A12,'Test 8'!$A$12:$Q$51,16,FALSE))","v":"00:07:11.720"},{"$f":"IF(A12=\"\",\"\",IF(H12=\"Passenger\",\"P\",RANK(T12,$T$12:$T$51,1)))","v":2},null,{"$f":"IF(E12=\"Senior\",\"\",IF(I12=\"wd\",\"\",IF(K12<>\"\",\"\",I12)))","v":""},{"$f":"IF(H12=\"Passenger\",\"\",P12)","v":"00:07:11.720"}]
[2,{"$f":"IF($A13=\"\",\"\",IF(VLOOKUP($A13,Competitors!$A$2:$G$60,2,FALSE)=\"\",\"\",VLOOKUP($A13,Competitors!$A$2:$G$60,2,FALSE)))","v":"Stephen Thorne"},{"$f":"IF($A13=\"\",\"\",IF(VLOOKUP($A13,Competitors!$A$2:$G$60,7,FALSE)=\"\",\"\",VLOOKUP($A13,Competitors!$A$2:$G$60,7,FALSE)))","v":""},{"$f":"IF($A13=\"\",\"\",IF(VLOOKUP($A13,Competitors!$A$2:$G$60,5,FALSE)=\"\",\"\",VLOOKUP($A13,Competitors!$A$2:$G$60,5,FALSE)))","v":""},{"$f":"IF($A13=\"\",\"\",IF(VLOOKUP($A13,Competitors!$A$2:$G$60,6,FALSE)=\"\",\"\",VLOOKUP($A13,Competitors!$A$2:$G$60,6,FALSE)))","v":"senior"},{"$f":"IF($A13=\"\",\"\",IF(VLOOKUP($A13,Competitors!$A$2:$G$60,3,FALSE)=\"\",\"\",VLOOKUP($A13,Competitors!$A$2:$G$60,3,FALSE)))","v":""},{"$f":"IF($A13=\"\",\"\",IF(VLOOKUP($A13,Competitors!$A$2:$G$60,4,FALSE)=\"\",\"\",VLOOKUP($A13,Competitors!$A$2:$G$60,4,FALSE)))","v":""},{"$f":"IF(VLOOKUP(A13,Competitors!$A$1:$H$41,8,FALSE)=\"\",\"\",VLOOKUP(A13,Competitors!$A$1:$H$41,8,FALSE))","v":""},{"$f":"IF(IFERROR(VLOOKUP(($B$2&\"_\"&$A13),'Time Entry Sheet'!$A$3:$I$499,9,0),\"Error\")=\"Error\",\"\",IF(VLOOKUP(($B$2&\"_\"&$A13),'Time Entry Sheet'!$A$3:$I$499,9,FALSE)=\"wd\",\"wd\",VLOOKUP(($B$2&\"_\"&$A13),'Time Entry Sheet'!$A$3:$I$499,9,FALSE)*1))","v":"00:00:46.750"},{"$f":"IF(E13=\"Junior\",\"\",IF(I13=\"wd\",\"\",IF(K13<>\"\",\"\",I13)))","v":"00:00:46.750"},{"$f":"IF(IFERROR(VLOOKUP(($B$2&\"_\"&$A13),'Time Entry Sheet'!$A$3:$I$499,8,FALSE),\"Error\")=\"Error\",\"\",IF(VLOOKUP(($B$2&\"_\"&$A13),'Time Entry Sheet'!$A$3:$I$499,8,FALSE)=\"\",\"\",VLOOKUP(($B$2&\"_\"&$A13),'Time Entry Sheet'!$A$3:$I$499,8,FALSE)))","v":""},{"$f":"IF(IFERROR(VLOOKUP(($B$2&\"_\"&$A13),'Time Entry Sheet'!$A$3:$I$499,7,FALSE),\"Error\")=\"Error\",\"\",IF(VLOOKUP(($B$2&\"_\"&$A13),'Time Entry Sheet'!$A$3:$I$499,7,FALSE)=\"\",\"\",VLOOKUP(($B$2&\"_\"&$A13),'Time Entry Sheet'!$A$3:$I$499,7,FALSE)))","v":""},{"$f":"IF(A13=\"\",\"\",IF(I13=\"wd\",IF(E13=\"Senior\",$B$7,$C$7),IF(L13<>\"\",$B$7,IF(I13=\"\",IF(E13=\"Senior\",$B$8,$C$8),IF(K13=\"\",I13,I13+($B$5*K13))))))","v":"00:00:46.750"},{"$f":"IF(H13=\"Passenger\",\"\",M13)","v":"00:00:46.750"},{"$f":"IF(A13=\"\",\"\",IF(H13=\"Passenger\",\"P\",RANK(N13,$N$12:$N$51,1)))","v":5},{"$f":"IF(A13=\"\",\"\",M13+VLOOKUP(A13,'Test 8'!$A$12:$Q$51,16,FALSE))","v":"00:07:35.950"},{"$f":"IF(A13=\"\",\"\",IF(H13=\"Passenger\",\"P\",RANK(T13,$T$12:$T$51,1)))","v":5},null,{"$f":"IF(E13=\"Senior\",\"\",IF(I13=\"wd\",\"\",IF(K13<>\"\",\"\",I13)))","v":""},{"$f":"IF(H13=\"Passenger\",\"\",P13)","v":"00:07:35.950"}]
[3,{"$f":"IF($A14=\"\",\"\",IF(VLOOKUP($A14,Competitors!$A$2:$G$60,2,FALSE)=\"\",\"\",VLOOKUP($A14,Competitors!$A$2:$G$60,2,FALSE)))","v":"David Ballard"},{"$f":"IF($A14=\"\",\"\",IF(VLOOKUP($A14,Competitors!$A$2:$G$60,7,FALSE)=\"\",\"\",VLOOKUP($A14,Competitors!$A$2:$G$60,7,FALSE)))","v":""},{"$f":"IF($A14=\"\",\"\",IF(VLOOKUP($A14,Competitors!$A$2:$G$60,5,FALSE)=\"\",\"\",VLOOKUP($A14,Competitors!$A$2:$G$60,5,FALSE)))","v":""},{"$f":"IF($A14=\"\",\"\",IF(VLOOKUP($A14,Competitors!$A$2:$G$60,6,FALSE)=\"\",\"\",VLOOKUP($A14,Competitors!$A$2:$G$60,6,FALSE)))","v":"senior"},{"$f":"IF($A14=\"\",\"\",IF(VLOOKUP($A14,Competitors!$A$2:$G$60,3,FALSE)=\"\",\"\",VLOOKUP($A14,Competitors!$A$2:$G$60,3,FALSE)))","v":""},{"$f":"IF($A14=\"\",\"\",IF(VLOOKUP($A14,Competitors!$A$2:$G$60,4,FALSE)=\"\",\"\",VLOOKUP($A14,Competitors!$A$2:$G$60,4,FALSE)))","v":""},{"$f":"IF(VLOOKUP(A14,Competitors!$A$1:$H$41,8,FALSE)=\"\",\"\",VLOOKUP(A14,Competitors!$A$1:$H$41,8,FALSE))","v":""},{"$f":"IF(IFERROR(VLOOKUP(($B$2&\"_\"&$A14),'Time Entry Sheet'!$A$3:$I$499,9,0),\"Error\")=\"Error\",\"\",IF(VLOOKUP(($B$2&\"_\"&$A14),'Time Entry Sheet'!$A$3:$I$499,9,FALSE)=\"wd\",\"wd\",VLOOKUP(($B$2&\"_\"&$A14),'Time Entry Sheet'!$A$3:$I$499,9,FALSE)*1))","v":"00:00:49.030"},"00:00:49.030",{"$f":"IF(IFERROR(VLOOKUP(($B$2&\"_\"&$A14),'Time Entry Sheet'!$A$3:$I$499,8,FALSE),\"Error\")=\"Error\",\"\",IF(VLOOKUP(($B$2&\"_\"&$A14),'Time Entry Sheet'!$A$3:$I$499,8,FALSE)=\"\",\"\",VLOOKUP(($B$2&\"_\"&$A14),'Time Entry Sheet'!$A$3:$I$499,8,FALSE)))","v":""},{"$f":"IF(IFERROR(VLOOKUP(($B$2&\"_\"&$A14),'Time Entry Sheet'!$A$3:$I$499,7,FALSE),\"Error\")=\"Error\",\"\",IF(VLOOKUP(($B$2&\"_\"&$A14),'Time Entry Sheet'!$A$3:$I$499,7,FALSE)=\"\",\"\",VLOOKUP(($B$2&\"_\"&$A14),'Time Entry Sheet'!$A$3:$I$499,7,FALSE)))","v":""},"00:00:49.030","00:00:49.030",8,{"$f":"IF(A14=\"\",\"\",M14+VLOOKUP(A14,'Test 8'!$A$12:$Q$51,16,FALSE))","v":"00:08:11.060"},12,null,"","00:08:11.060"]
[4,{"$f":"IF($A15=\"\",\"\",IF(VLOOKUP($A15,Competitors!$A$2:$G$60,2,FALSE)=\"\",\"\",VLOOKUP($A15,Competitors!$A$2:$G$60,2,FALSE)))","v":"Michaela Ballard"},{"$f":"IF($A15=\"\",\"\",IF(VLOOKUP($A15,Competitors!$A$2:$G$60,7,FALSE)=\"\",\"\",VLOOKUP($A15,Competitors!$A$2:$G$60,7,FALSE)))","v":"rookie"},{"$f":"IF($A15=\"\",\"\",IF(VLOOKUP($A15,Competitors!$A$2:$G$60,5,FALSE)=\"\",\"\",VLOOKUP($A15,Competitors!$A$2:$G$60,5,FALSE)))","v":"female"},{"$f":"IF($A15=\"\",\"\",IF(VLOOKUP($A15,Competitors!$A$2:$G$60,6,FALSE)=\"\",\"\",VLOOKUP($A15,Competitors!$A$2:$G$60,6,FALSE)))","v":"senior"},{"$f":"IF($A15=\"\",\"\",IF(VLOOKUP($A15,Competitors!$A$2:$G$60,3,FALSE)=\"\",\"\",VLOOKUP($A15,Competitors!$A$2:$G$60,3,FALSE)))","v":""},{"$f":"IF($A15=\"\",\"\",IF(VLOOKUP($A15,Competitors!$A$2:$G$60,4,FALSE)=\"\",\"\",VLOOKUP($A15,Competitors!$A$2:$G$60,4,FALSE)))","v":""},{"$f":"IF(VLOOKUP(A15,Competitors!$A$1:$H$41,8,FALSE)=\"\",\"\",VLOOKUP(A15,Competitors!$A$1:$H$41,8,FALSE))","v":""},{"$f":"IF(IFERROR(VLOOKUP(($B$2&\"_\"&$A15),'Time Entry Sheet'!$A$3:$I$499,9,0),\"Error\")=\"Error\",\"\",IF(VLOOKUP(($B$2&\"_\"&$A15),'Time Entry Sheet'!$A$3:$I$499,9,FALSE)=\"wd\",\"wd\",VLOOKUP(($B$2&\"_\"&$A15),'Time Entry Sheet'!$A$3:$I$499,9,FALSE)*1))","v":"00:00:56.570"},"00:00:56.570",{"$f":"IF(IFERROR(VLOOKUP(($B$2&\"_\"&$A15),'Time Entry Sheet'!$A$3:$I$499,8,FALSE),\"Error\")=\"Error\",\"\",IF(VLOOKUP(($B$2&\"_\"&$A15),'Time Entry Sheet'!$A$3:$I$499,8,FALSE)=\"\",\"\",VLOOKUP(($B$2&\"_\"&$A15),'Time Entry Sheet'!$A$3:$I$499,8,FALSE)))","v":""},{"$f":"IF(IFERROR(VLOOKUP(($B$2&\"_\"&$A15),'Time Entry Sheet'!$A$3:$I$499,7,FALSE),\"Error\")=\"Error\",\"\",IF(VLOOKUP(($B$2&\"_\"&$A15),'Time Entry Sheet'!$A$3:$I$499,7,FALSE)=\"\",\"\",VLOOKUP(($B$2&\"_\"&$A15),'Time Entry Sheet'!$A$3:$I$499,7,FALSE)))","v":""},"00:00:56.570","00:00:56.570",18,{"$f":"IF(A15=\"\",\"\",M15+VLOOKUP(A15,'Test 8'!$A$12:$Q$51,16,FALSE))","v":"00:09:05.150"},19,null,"","00:09:05.150"]
[5,{"$f":"IF($A16=\"\",\"\",IF(VLOOKUP($A16,Competitors!$A$2:$G$60,2,FALSE)=\"\",\"\",VLOOKUP($A16,Competitors!$A$2:$G$60,2,FALSE)))","v":"Janelle Ballard"},{"$f":"IF($A16=\"\",\"\",IF(VLOOKUP($A16,Competitors!$A$2:$G$60,7,FALSE)=\"\",\"\",VLOOKUP($A16,Competitors!$A$2:$G$60,7,FALSE)))","v":""},{"$f":"IF($A16=\"\",\"\",IF(VLOOKUP($A16,Competitors!$A$2:$G$60,5,FALSE)=\"\",\"\",VLOOKUP($A16,Competitors!$A$2:$G$60,5,FALSE)))","v":"female"},{"$f":"IF($A16=\"\",\"\",IF(VLOOKUP($A16,Competitors!$A$2:$G$60,6,FALSE)=\"\",\"\",VLOOKUP($A16,Competitors!$A$2:$G$60,6,FALSE)))","v":"senior"},{"$f":"IF($A16=\"\",\"\",IF(VLOOKUP($A16,Competitors!$A$2:$G$60,3,FALSE)=\"\",\"\",VLOOKUP($A16,Competitors!$A$2:$G$60,3,FALSE)))","v":""},{"$f":"IF($A16=\"\",\"\",IF(VLOOKUP($A16,Competitors!$A$2:$G$60,4,FALSE)=\"\",\"\",VLOOKUP($A16,Competitors!$A$2:$G$60,4,FALSE)))","v":""},{"$f":"IF(VLOOKUP(A16,Competitors!$A$1:$H$41,8,FALSE)=\"\",\"\",VLOOKUP(A16,Competitors!$A$1:$H$41,8,FALSE))","v":""},{"$f":"IF(IFERROR(VLOOKUP(($B$2&\"_\"&$A16),'Time Entry Sheet'!$A$3:$I$499,9,0),\"Error\")=\"Error\",\"\",IF(VLOOKUP(($B$2&\"_\"&$A16),'Time Entry Sheet'!$A$3:$I$499,9,FALSE)=\"wd\",\"wd\",VLOOKUP(($B$2&\"_\"&$A16),'Time Entry Sheet'!$A$3:$I$499,9,FALSE)*1))","v":"00:00:49.050"},"00:00:49.050",{"$f":"IF(IFERROR(VLOOKUP(($B$2&\"_\"&$A16),'Time Entry Sheet'!$A$3:$I$499,8,FALSE),\"Error\")=\"Error\",\"\",IF(VLOOKUP(($B$2&\"_\"&$A16),'Time Entry Sheet'!$A$3:$I$499,8,FALSE)=\"\",\"\",VLOOKUP(($B$2&\"_\"&$A16),'Time Entry Sheet'!$A$3:$I$499,8,FALSE)))","v":""},{"$f":"IF(IFERROR(VLOOKUP(($B$2&\"_\"&$A16),'Time Entry Sheet'!$A$3:$I$499,7,FALSE),\"Error\")=\"Error\",\"\",IF(VLOOKUP(($B$2&\"_\"&$A16),'Time Entry Sheet'!$A$3:$I$499,7,FALSE)=\"\",\"\",VLOOKUP(($B$2&\"_\"&$A16),'Time Entry Sheet'!$A$3:$I$499,7,FALSE)))","v":""},"00:00:49.050","00:00:49.050",9,{"$f":"IF(A16=\"\",\"\",M16+VLOOKUP(A16,'Test 8'!$A$12:$Q$51,16,FALSE))","v":"00:07:52.530"},8,null,"","00:07:52.530"]
[6,{"$f":"IF($A17=\"\",\"\",IF(VLOOKUP($A17,Competitors!$A$2:$G$60,2,FALSE)=\"\",\"\",VLOOKUP($A17,Competitors!$A$2:$G$60,2,FALSE)))","v":"Issac Wishart"},{"$f":"IF($A17=\"\",\"\",IF(VLOOKUP($A17,Competitors!$A$2:$G$60,7,FALSE)=\"\",\"\",VLOOKUP($A17,Competitors!$A$2:$G$60,7,FALSE)))","v":"rookie"},{"$f":"IF($A17=\"\",\"\",IF(VLOOKUP($A17,Competitors!$A$2:$G$60,5,FALSE)=\"\",\"\",VLOOKUP($A17,Competitors!$A$2:$G$60,5,FALSE)))","v":""},{"$f":"IF($A17=\"\",\"\",IF(VLOOKUP($A17,Competitors!$A$2:$G$60,6,FALSE)=\"\",\"\",VLOOKUP($A17,Competitors!$A$2:$G$60,6,FALSE)))","v":"senior"},{"$f":"IF($A17=\"\",\"\",IF(VLOOKUP($A17,Competitors!$A$2:$G$60,3,FALSE)=\"\",\"\",VLOOKUP($A17,Competitors!$A$2:$G$60,3,FALSE)))","v":""},{"$f":"IF($A17=\"\",\"\",IF(VLOOKUP($A17,Competitors!$A$2:$G$60,4,FALSE)=\"\",\"\",VLOOKUP($A17,Competitors!$A$2:$G$60,4,FALSE)))","v":""},{"$f":"IF(VLOOKUP(A17,Competitors!$A$1:$H$41,8,FALSE)=\"\",\"\",VLOOKUP(A17,Competitors!$A$1:$H$41,8,FALSE))","v":""},{"$f":"IF(IFERROR(VLOOKUP(($B$2&\"_\"&$A17),'Time Entry Sheet'!$A$3:$I$499,9,0),\"Error\")=\"Error\",\"\",IF(VLOOKUP(($B$2&\"_\"&$A17),'Time Entry Sheet'!$A$3:$I$499,9,FALSE)=\"wd\",\"wd\",VLOOKUP(($B$2&\"_\"&$A17),'Time Entry Sheet'!$A$3:$I$499,9,FALSE)*1))","v":"00:00:53.130"},"00:00:53.130",{"$f":"IF(IFERROR(VLOOKUP(($B$2&\"_\"&$A17),'Time Entry Sheet'!$A$3:$I$499,8,FALSE),\"Error\")=\"Error\",\"\",IF(VLOOKUP(($B$2&\"_\"&$A17),'Time Entry Sheet'!$A$3:$I$499,8,FALSE)=\"\",\"\",VLOOKUP(($B$2&\"_\"&$A17),'Time Entry Sheet'!$A$3:$I$499,8,FALSE)))","v":""},{"$f":"IF(IFERROR(VLOOKUP(($B$2&\"_\"&$A17),'Time Entry Sheet'!$A$3:$I$499,7,FALSE),\"Error\")=\"Error\",\"\",IF(VLOOKUP(($B$2&\"_\"&$A17),'Time Entry Sheet'!$A$3:$I$499,7,FALSE)=\"\",\"\",VLOOKUP(($B$2&\"_\"&$A17),'Time Entry Sheet'!$A$3:$I$499,7,FALSE)))","v":""},"00:00:53.130","00:00:53.130",14,{"$f":"IF(A17=\"\",\"\",M17+VLOOKUP(A17,'Test 8'!$A$12:$Q$51,16,FALSE))","v":"00:08:35.440"},16,null,"","00:08:35.440"]
[7,{"$f":"IF($A18=\"\",\"\",IF(VLOOKUP($A18,Competitors!$A$2:$G$60,2,FALSE)=\"\",\"\",VLOOKUP($A18,Competitors!$A$2:$G$60,2,FALSE)))","v":""},{"$f":"IF($A18=\"\",\"\",IF(VLOOKUP($A18,Competitors!$A$2:$G$60,7,FALSE)=\"\",\"\",VLOOKUP($A18,Competitors!$A$2:$G$60,7,FALSE)))","v":""},{"$f":"IF($A18=\"\",\"\",IF(VLOOKUP($A18,Competitors!$A$2:$G$60,5,FALSE)=\"\",\"\",VLOOKUP($A18,Competitors!$A$2:$G$60,5,FALSE)))","v":""},{"$f":"IF($A18=\"\",\"\",IF(VLOOKUP($A18,Competitors!$A$2:$G$60,6,FALSE)=\"\",\"\",VLOOKUP($A18,Competitors!$A$2:$G$60,6,FALSE)))","v":"senior"},{"$f":"IF($A18=\"\",\"\",IF(VLOOKUP($A18,Competitors!$A$2:$G$60,3,FALSE)=\"\",\"\",VLOOKUP($A18,Competitors!$A$2:$G$60,3,FALSE)))","v":""},{"$f":"IF($A18=\"\",\"\",IF(VLOOKUP($A18,Competitors!$A$2:$G$60,4,FALSE)=\"\",\"\",VLOOKUP($A18,Competitors!$A$2:$G$60,4,FALSE)))","v":""},{"$f":"IF(VLOOKUP(A18,Competitors!$A$1:$H$41,8,FALSE)=\"\",\"\",VLOOKUP(A18,Competitors!$A$1:$H$41,8,FALSE))","v":""},{"$f":"IF(IFERROR(VLOOKUP(($B$2&\"_\"&$A18),'Time Entry Sheet'!$A$3:$I$499,9,0),\"Error\")=\"Error\",\"\",IF(VLOOKUP(($B$2&\"_\"&$A18),'Time Entry Sheet'!$A$3:$I$499,9,FALSE)=\"wd\",\"wd\",VLOOKUP(($B$2&\"_\"&$A18),'Time Entry Sheet'!$A$3:$I$499,9,FALSE)*1))","v":""},"",{"$f":"IF(IFERROR(VLOOKUP(($B$2&\"_\"&$A18),'Time Entry Sheet'!$A$3:$I$499,8,FALSE),\"Error\")=\"Error\",\"\",IF(VLOOKUP(($B$2&\"_\"&$A18),'Time Entry Sheet'!$A$3:$I$499,8,FALSE)=\"\",\"\",VLOOKUP(($B$2&\"_\"&$A18),'Time Entry Sheet'!$A$3:$I$499,8,FALSE)))","v":""},{"$f":"IF(IFERROR(VLOOKUP(($B$2&\"_\"&$A18),'Time Entry Sheet'!$A$3:$I$499,7,FALSE),\"Error\")=\"Error\",\"\",IF(VLOOKUP(($B$2&\"_\"&$A18),'Time Entry Sheet'!$A$3:$I$499,7,FALSE)=\"\",\"\",VLOOKUP(($B$2&\"_\"&$A18),'Time Entry Sheet'!$A$3:$I$499,7,FALSE)))","v":""},"00:01:06.570","00:01:06.570",19,{"$f":"IF(A18=\"\",\"\",M18+VLOOKUP(A18,'Test 8'!$A$12:$Q$51,16,FALSE))","v":"00:10:46.040"},20,null,"","00:10:46.040"]
[8,{"$f":"IF($A19=\"\",\"\",IF(VLOOKUP($A19,Competitors!$A$2:$G$60,2,FALSE)=\"\",\"\",VLOOKUP($A19,Competitors!$A$2:$G$60,2,FALSE)))","v":"Jim Taylor"},{"$f":"IF($A19=\"\",\"\",IF(VLOOKUP($A19,Competitors!$A$2:$G$60,7,FALSE)=\"\",\"\",VLOOKUP($A19,Competitors!$A$2:$G$60,7,FALSE)))","v":""},{"$f":"IF($A19=\"\",\"\",IF(VLOOKUP($A19,Competitors!$A$2:$G$60,5,FALSE)=\"\",\"\",VLOOKUP($A19,Competitors!$A$2:$G$60,5,FALSE)))","v":""},{"$f":"IF($A19=\"\",\"\",IF(VLOOKUP($A19,Competitors!$A$2:$G$60,6,FALSE)=\"\",\"\",VLOOKUP($A19,Competitors!$A$2:$G$60,6,FALSE)))","v":"senior"},{"$f":"IF($A19=\"\",\"\",IF(VLOOKUP($A19,Competitors!$A$2:$G$60,3,FALSE)=\"\",\"\",VLOOKUP($A19,Competitors!$A$2:$G$60,3,FALSE)))","v":""},{"$f":"IF($A19=\"\",\"\",IF(VLOOKUP($A19,Competitors!$A$2:$G$60,4,FALSE)=\"\",\"\",VLOOKUP($A19,Competitors!$A$2:$G$60,4,FALSE)))","v":""},{"$f":"IF(VLOOKUP(A19,Competitors!$A$1:$H$41,8,FALSE)=\"\",\"\",VLOOKUP(A19,Competitors!$A$1:$H$41,8,FALSE))","v":""},{"$f":"IF(IFERROR(VLOOKUP(($B$2&\"_\"&$A19),'Time Entry Sheet'!$A$3:$I$499,9,0),\"Error\")=\"Error\",\"\",IF(VLOOKUP(($B$2&\"_\"&$A19),'Time Entry Sheet'!$A$3:$I$499,9,FALSE)=\"wd\",\"wd\",VLOOKUP(($B$2&\"_\"&$A19),'Time Entry Sheet'!$A$3:$I$499,9,FALSE)*1))","v":"00:00:53.510"},"00:00:53.510",{"$f":"IF(IFERROR(VLOOKUP(($B$2&\"_\"&$A19),'Time Entry Sheet'!$A$3:$I$499,8,FALSE),\"Error\")=\"Error\",\"\",IF(VLOOKUP(($B$2&\"_\"&$A19),'Time Entry Sheet'!$A$3:$I$499,8,FALSE)=\"\",\"\",VLOOKUP(($B$2&\"_\"&$A19),'Time Entry Sheet'!$A$3:$I$499,8,FALSE)))","v":""},{"$f":"IF(IFERROR(VLOOKUP(($B$2&\"_\"&$A19),'Time Entry Sheet'!$A$3:$I$499,7,FALSE),\"Error\")=\"Error\",\"\",IF(VLOOKUP(($B$2&\"_\"&$A19),'Time Entry Sheet'!$A$3:$I$499,7,FALSE)=\"\",\"\",VLOOKUP(($B$2&\"_\"&$A19),'Time Entry Sheet'!$A$3:$I$499,7,FALSE)))","v":""},"00:00:53.510","00:00:53.510",16,{"$f":"IF(A19=\"\",\"\",M19+VLOOKUP(A19,'Test 8'!$A$12:$Q$51,16,FALSE))","v":"00:08:07.960"},11,null,"","00:08:07.960"]
[9,{"$f":"IF($A20=\"\",\"\",IF(VLOOKUP($A20,Competitors!$A$2:$G$60,2,FALSE)=\"\",\"\",VLOOKUP($A20,Competitors!$A$2:$G$60,2,FALSE)))","v":"Brad Firman"},{"$f":"IF($A20=\"\",\"\",IF(VLOOKUP($A20,Competitors!$A$2:$G$60,7,FALSE)=\"\",\"\",VLOOKUP($A20,Competitors!$A$2:$G$60,7,FALSE)))","v":""},{"$f":"IF($A20=\"\",\"\",IF(VLOOKUP($A20,Competitors!$A$2:$G$60,5,FALSE)=\"\",\"\",VLOOKUP($A20,Competitors!$A$2:$G$60,5,FALSE)))","v":""},{"$f":"IF($A20=\"\",\"\",IF(VLOOKUP($A20,Competitors!$A$2:$G$60,6,FALSE)=\"\",\"\",VLOOKUP($A20,Competitors!$A$2:$G$60,6,FALSE)))","v":"senior"},{"$f":"IF($A20=\"\",\"\",IF(VLOOKUP($A20,Competitors!$A$2:$G$60,3,FALSE)=\"\",\"\",VLOOKUP($A20,Competitors!$A$2:$G$60,3,FALSE)))","v":""},{"$f":"IF($A20=\"\",\"\",IF(VLOOKUP($A20,Competitors!$A$2:$G$60,4,FALSE)=\"\",\"\",VLOOKUP($A20,Competitors!$A$2:$G$60,4,FALSE)))","v":""},{"$f":"IF(VLOOKUP(A20,Competitors!$A$1:$H$41,8,FALSE)=\"\",\"\",VLOOKUP(A20,Competitors!$A$1:$H$41,8,FALSE))","v":""},{"$f":"IF(IFERROR(VLOOKUP(($B$2&\"_\"&$A20),'Time Entry Sheet'!$A$3:$I$499,9,0),\"Error\")=\"Error\",\"\",IF(VLOOKUP(($B$2&\"_\"&$A20),'Time Entry Sheet'!$A$3:$I$499,9,FALSE)=\"wd\",\"wd\",VLOOKUP(($B$2&\"_\"&$A20),'Time Entry Sheet'!$A$3:$I$499,9,FALSE)*1))","v":"00:00:46.740"},"00:00:46.740",{"$f":"IF(IFERROR(VLOOKUP(($B$2&\"_\"&$A20),'Time Entry Sheet'!$A$3:$I$499,8,FALSE),\"Error\")=\"Error\",\"\",IF(VLOOKUP(($B$2&\"_\"&$A20),'Time Entry Sheet'!$A$3:$I$499,8,FALSE)=\"\",\"\",VLOOKUP(($B$2&\"_\"&$A20),'Time Entry Sheet'!$A$3:$I$499,8,FALSE)))","v":""},{"$f":"IF(IFERROR(VLOOKUP(($B$2&\"_\"&$A20),'Time Entry Sheet'!$A$3:$I$499,7,FALSE),\"Error\")=\"Error\",\"\",IF(VLOOKUP(($B$2&\"_\"&$A20),'Time Entry Sheet'!$A$3:$I$499,7,FALSE)=\"\",\"\",VLOOKUP(($B$2&\"_\"&$A20),'Time Entry Sheet'!$A$3:$I$499,7,FALSE)))","v":""},"00:00:46.740","00:00:46.740",4,{"$f":"IF(A20=\"\",\"\",M20+VLOOKUP(A20,'Test 8'!$A$12:$Q$51,16,FALSE))","v":"00:07:15.880"},3,null,"","00:07:15.880"]
[10,{"$f":"IF($A21=\"\",\"\",IF(VLOOKUP($A21,Competitors!$A$2:$G$60,2,FALSE)=\"\",\"\",VLOOKUP($A21,Competitors!$A$2:$G$60,2,FALSE)))","v":"Scott Taylor"},{"$f":"IF($A21=\"\",\"\",IF(VLOOKUP($A21,Competitors!$A$2:$G$60,7,FALSE)=\"\",\"\",VLOOKUP($A21,Competitors!$A$2:$G$60,7,FALSE)))","v":""},{"$f":"IF($A21=\"\",\"\",IF(VLOOKUP($A21,Competitors!$A$2:$G$60,5,FALSE)=\"\",\"\",VLOOKUP($A21,Competitors!$A$2:$G$60,5,FALSE)))","v":""},{"$f":"IF($A21=\"\",\"\",IF(VLOOKUP($A21,Competitors!$A$2:$G$60,6,FALSE)=\"\",\"\",VLOOKUP($A21,Competitors!$A$2:$G$60,6,FALSE)))","v":"senior"},{"$f":"IF($A21=\"\",\"\",IF(VLOOKUP($A21,Competitors!$A$2:$G$60,3,FALSE)=\"\",\"\",VLOOKUP($A21,Competitors!$A$2:$G$60,3,FALSE)))","v":""},{"$f":"IF($A21=\"\",\"\",IF(VLOOKUP($A21,Competitors!$A$2:$G$60,4,FALSE)=\"\",\"\",VLOOKUP($A21,Competitors!$A$2:$G$60,4,FALSE)))","v":""},{"$f":"IF(VLOOKUP(A21,Competitors!$A$1:$H$41,8,FALSE)=\"\",\"\",VLOOKUP(A21,Competitors!$A$1:$H$41,8,FALSE))","v":""},{"$f":"IF(IFERROR(VLOOKUP(($B$2&\"_\"&$A21),'Time Entry Sheet'!$A$3:$I$499,9,0),\"Error\")=\"Error\",\"\",IF(VLOOKUP(($B$2&\"_\"&$A21),'Time Entry Sheet'!$A$3:$I$499,9,FALSE)=\"wd\",\"wd\",VLOOKUP(($B$2&\"_\"&$A21),'Time Entry Sheet'!$A$3:$I$499,9,FALSE)*1))","v":"00:00:49.200"},"",{"$f":"IF(IFERROR(VLOOKUP(($B$2&\"_\"&$A21),'Time Entry Sheet'!$A$3:$I$499,8,FALSE),\"Error\")=\"Error\",\"\",IF(VLOOKUP(($B$2&\"_\"&$A21),'Time Entry Sheet'!$A$3:$I$499,8,FALSE)=\"\",\"\",VLOOKUP(($B$2&\"_\"&$A21),'Time Entry Sheet'!$A$3:$I$499,8,FALSE)))","v":1},{"$f":"IF(IFERROR(VLOOKUP(($B$2&\"_\"&$A21),'Time Entry Sheet'!$A$3:$I$499,7,FALSE),\"Error\")=\"Error\",\"\",IF(VLOOKUP(($B$2&\"_\"&$A21),'Time Entry Sheet'!$A$3:$I$499,7,FALSE)=\"\",\"\",VLOOKUP(($B$2&\"_\"&$A21),'Time Entry Sheet'!$A$3:$I$499,7,FALSE)))","v":""},"00:00:54.200","00:00:54.200",17,{"$f":"IF(A21=\"\",\"\",M21+VLOOKUP(A21,'Test 8'!$A$12:$Q$51,16,FALSE))","v":"00:08:17.360"},13,null,"","00:08:17.360"]
[11,{"$f":"IF($A22=\"\",\"\",IF(VLOOKUP($A22,Competitors!$A$2:$G$60,2,FALSE)=\"\",\"\",VLOOKUP($A22,Competitors!$A$2:$G$60,2,FALSE)))","v":"Russel McKinley"},{"$f":"IF($A22=\"\",\"\",IF(VLOOKUP($A22,Competitors!$A$2:$G$60,7,FALSE)=\"\",\"\",VLOOKUP($A22,Competitors!$A$2:$G$60,7,FALSE)))","v":""},{"$f":"IF($A22=\"\",\"\",IF(VLOOKUP($A22,Competitors!$A$2:$G$60,5,FALSE)=\"\",\"\",VLOOKUP($A22,Competitors!$A$2:$G$60,5,FALSE)))","v":""},{"$f":"IF($A22=\"\",\"\",IF(VLOOKUP($A22,Competitors!$A$2:$G$60,6,FALSE)=\"\",\"\",VLOOKUP($A22,Competitors!$A$2:$G$60,6,FALSE)))","v":"senior"},{"$f":"IF($A22=\"\",\"\",IF(VLOOKUP($A22,Competitors!$A$2:$G$60,3,FALSE)=\"\",\"\",VLOOKUP($A22,Competitors!$A$2:$G$60,3,FALSE)))","v":""},{"$f":"IF($A22=\"\",\"\",IF(VLOOKUP($A22,Competitors!$A$2:$G$60,4,FALSE)=\"\",\"\",VLOOKUP($A22,Competitors!$A$2:$G$60,4,FALSE)))","v":""},{"$f":"IF(VLOOKUP(A22,Competitors!$A$1:$H$41,8,FALSE)=\"\",\"\",VLOOKUP(A22,Competitors!$A$1:$H$41,8,FALSE))","v":""},{"$f":"IF(IFERROR(VLOOKUP(($B$2&\"_\"&$A22),'Time Entry Sheet'!$A$3:$I$499,9,0),\"Error\")=\"Error\",\"\",IF(VLOOKUP(($B$2&\"_\"&$A22),'Time Entry Sheet'!$A$3:$I$499,9,FALSE)=\"wd\",\"wd\",VLOOKUP(($B$2&\"_\"&$A22),'Time Entry Sheet'!$A$3:$I$499,9,FALSE)*1))","v":""},"",{"$f":"IF(IFERROR(VLOOKUP(($B$2&\"_\"&$A22),'Time Entry Sheet'!$A$3:$I$499,8,FALSE),\"Error\")=\"Error\",\"\",IF(VLOOKUP(($B$2&\"_\"&$A22),'Time Entry Sheet'!$A$3:$I$499,8,FALSE)=\"\",\"\",VLOOKUP(($B$2&\"_\"&$A22),'Time Entry Sheet'!$A$3:$I$499,8,FALSE)))","v":""},{"$f":"IF(IFERROR(VLOOKUP(($B$2&\"_\"&$A22),'Time Entry Sheet'!$A$3:$I$499,7,FALSE),\"Error\")=\"Error\",\"\",IF(VLOOKUP(($B$2&\"_\"&$A22),'Time Entry Sheet'!$A$3:$I$499,7,FALSE)=\"\",\"\",VLOOKUP(($B$2&\"_\"&$A22),'Time Entry Sheet'!$A$3:$I$499,7,FALSE)))","v":""},"00:01:06.570","00:01:06.570",19,{"$f":"IF(A22=\"\",\"\",M22+VLOOKUP(A22,'Test 8'!$A$12:$Q$51,16,FALSE))","v":"00:08:28.960"},15,null,"","00:08:28.960"]
[12,{"$f":"IF($A23=\"\",\"\",IF(VLOOKUP($A23,Competitors!$A$2:$G$60,2,FALSE)=\"\",\"\",VLOOKUP($A23,Competitors!$A$2:$G$60,2,FALSE)))","v":"Mat Boorman"},{"$f":"IF($A23=\"\",\"\",IF(VLOOKUP($A23,Competitors!$A$2:$G$60,7,FALSE)=\"\",\"\",VLOOKUP($A23,Competitors!$A$2:$G$60,7,FALSE)))","v":""},{"$f":"IF($A23=\"\",\"\",IF(VLOOKUP($A23,Competitors!$A$2:$G$60,5,FALSE)=\"\",\"\",VLOOKUP($A23,Competitors!$A$2:$G$60,5,FALSE)))","v":""},{"$f":"IF($A23=\"\",\"\",IF(VLOOKUP($A23,Competitors!$A$2:$G$60,6,FALSE)=\"\",\"\",VLOOKUP($A23,Competitors!$A$2:$G$60,6,FALSE)))","v":"senior"},{"$f":"IF($A23=\"\",\"\",IF(VLOOKUP($A23,Competitors!$A$2:$G$60,3,FALSE)=\"\",\"\",VLOOKUP($A23,Competitors!$A$2:$G$60,3,FALSE)))","v":""},{"$f":"IF($A23=\"\",\"\",IF(VLOOKUP($A23,Competitors!$A$2:$G$60,4,FALSE)=\"\",\"\",VLOOKUP($A23,Competitors!$A$2:$G$60,4,FALSE)))","v":""},{"$f":"IF(VLOOKUP(A23,Competitors!$A$1:$H$41,8,FALSE)=\"\",\"\",VLOOKUP(A23,Competitors!$A$1:$H$41,8,FALSE))","v":""},{"$f":"IF(IFERROR(VLOOKUP(($B$2&\"_\"&$A23),'Time Entry Sheet'!$A$3:$I$499,9,0),\"Error\")=\"Error\",\"\",IF(VLOOKUP(($B$2&\"_\"&$A23),'Time Entry Sheet'!$A$3:$I$499,9,FALSE)=\"wd\",\"wd\",VLOOKUP(($B$2&\"_\"&$A23),'Time Entry Sheet'!$A$3:$I$499,9,FALSE)*1))","v":"00:00:50.440"},"00:00:50.440",{"$f":"IF(IFERROR(VLOOKUP(($B$2&\"_\"&$A23),'Time Entry Sheet'!$A$3:$I$499,8,FALSE),\"Error\")=\"Error\",\"\",IF(VLOOKUP(($B$2&\"_\"&$A23),'Time Entry Sheet'!$A$3:$I$499,8,FALSE)=\"\",\"\",VLOOKUP(($B$2&\"_\"&$A23),'Time Entry Sheet'!$A$3:$I$499,8,FALSE)))","v":""},{"$f":"IF(IFERROR(VLOOKUP(($B$2&\"_\"&$A23),'Time Entry Sheet'!$A$3:$I$499,7,FALSE),\"Error\")=\"Error\",\"\",IF(VLOOKUP(($B$2&\"_\"&$A23),'Time Entry Sheet'!$A$3:$I$499,7,FALSE)=\"\",\"\",VLOOKUP(($B$2&\"_\"&$A23),'Time Entry Sheet'!$A$3:$I$499,7,FALSE)))","v":""},"00:00:50.440","00:00:50.440",11,{"$f":"IF(A23=\"\",\"\",M23+VLOOKUP(A23,'Test 8'!$A$12:$Q$51,16,FALSE))","v":"00:08:18.260"},14,null,"","00:08:18.260"]
[13,{"$f":"IF($A24=\"\",\"\",IF(VLOOKUP($A24,Competitors!$A$2:$G$60,2,FALSE)=\"\",\"\",VLOOKUP($A24,Competitors!$A$2:$G$60,2,FALSE)))","v":"Aaron Wishart"},{"$f":"IF($A24=\"\",\"\",IF(VLOOKUP($A24,Competitors!$A$2:$G$60,7,FALSE)=\"\",\"\",VLOOKUP($A24,Competitors!$A$2:$G$60,7,FALSE)))","v":""},{"$f":"IF($A24=\"\",\"\",IF(VLOOKUP($A24,Competitors!$A$2:$G$60,5,FALSE)=\"\",\"\",VLOOKUP($A24,Competitors!$A$2:$G$60,5,FALSE)))","v":""},{"$f":"IF($A24=\"\",\"\",IF(VLOOKUP($A24,Competitors!$A$2:$G$60,6,FALSE)=\"\",\"\",VLOOKUP($A24,Competitors!$A$2:$G$60,6,FALSE)))","v":"senior"},{"$f":"IF($A24=\"\",\"\",IF(VLOOKUP($A24,Competitors!$A$2:$G$60,3,FALSE)=\"\",\"\",VLOOKUP($A24,Competitors!$A$2:$G$60,3,FALSE)))","v":""},{"$f":"IF($A24=\"\",\"\",IF(VLOOKUP($A24,Competitors!$A$2:$G$60,4,FALSE)=\"\",\"\",VLOOKUP($A24,Competitors!$A$2:$G$60,4,FALSE)))","v":""},{"$f":"IF(VLOOKUP(A24,Competitors!$A$1:$H$41,8,FALSE)=\"\",\"\",VLOOKUP(A24,Competitors!$A$1:$H$41,8,FALSE))","v":""},{"$f":"IF(IFERROR(VLOOKUP(($B$2&\"_\"&$A24),'Time Entry Sheet'!$A$3:$I$499,9,0),\"Error\")=\"Error\",\"\",IF(VLOOKUP(($B$2&\"_\"&$A24),'Time Entry Sheet'!$A$3:$I$499,9,FALSE)=\"wd\",\"wd\",VLOOKUP(($B$2&\"_\"&$A24),'Time Entry Sheet'!$A$3:$I$499,9,FALSE)*1))","v":"00:00:51.980"},"00:00:51.980",{"$f":"IF(IFERROR(VLOOKUP(($B$2&\"_\"&$A24),'Time Entry Sheet'!$A$3:$I$499,8,FALSE),\"Error\")=\"Error\",\"\",IF(VLOOKUP(($B$2&\"_\"&$A24),'Time Entry Sheet'!$A$3:$I$499,8,FALSE)=\"\",\"\",VLOOKUP(($B$2&\"_\"&$A24),'Time Entry Sheet'!$A$3:$I$499,8,FALSE)))","v":""},{"$f":"IF(IFERROR(VLOOKUP(($B$2&\"_\"&$A24),'Time Entry Sheet'!$A$3:$I$499,7,FALSE),\"Error\")=\"Error\",\"\",IF(VLOOKUP(($B$2&\"_\"&$A24),'Time Entry Sheet'!$A$3:$I$499,7,FALSE)=\"\",\"\",VLOOKUP(($B$2&\"_\"&$A24),'Time Entry Sheet'!$A$3:$I$499,7,FALSE)))","v":""},"00:00:51.980","00:00:51.980",13,{"$f":"IF(A24=\"\",\"\",M24+VLOOKUP(A24,'Test 8'!$A$12:$Q$51,16,FALSE))","v":"00:08:50"},18,null,"","00:08:50"]
[14,{"$f":"IF($A25=\"\",\"\",IF(VLOOKUP($A25,Competitors!$A$2:$G$60,2,FALSE)=\"\",\"\",VLOOKUP($A25,Competitors!$A$2:$G$60,2,FALSE)))","v":"Bob Fulthorpe"},{"$f":"IF($A25=\"\",\"\",IF(VLOOKUP($A25,Competitors!$A$2:$G$60,7,FALSE)=\"\",\"\",VLOOKUP($A25,Competitors!$A$2:$G$60,7,FALSE)))","v":""},{"$f":"IF($A25=\"\",\"\",IF(VLOOKUP($A25,Competitors!$A$2:$G$60,5,FALSE)=\"\",\"\",VLOOKUP($A25,Competitors!$A$2:$G$60,5,FALSE)))","v":""},{"$f":"IF($A25=\"\",\"\",IF(VLOOKUP($A25,Competitors!$A$2:$G$60,6,FALSE)=\"\",\"\",VLOOKUP($A25,Competitors!$A$2:$G$60,6,FALSE)))","v":"senior"},{"$f":"IF($A25=\"\",\"\",IF(VLOOKUP($A25,Competitors!$A$2:$G$60,3,FALSE)=\"\",\"\",VLOOKUP($A25,Competitors!$A$2:$G$60,3,FALSE)))","v":""},{"$f":"IF($A25=\"\",\"\",IF(VLOOKUP($A25,Competitors!$A$2:$G$60,4,FALSE)=\"\",\"\",VLOOKUP($A25,Competitors!$A$2:$G$60,4,FALSE)))","v":""},{"$f":"IF(VLOOKUP(A25,Competitors!$A$1:$H$41,8,FALSE)=\"\",\"\",VLOOKUP(A25,Competitors!$A$1:$H$41,8,FALSE))","v":""},{"$f":"IF(IFERROR(VLOOKUP(($B$2&\"_\"&$A25),'Time Entry Sheet'!$A$3:$I$499,9,0),\"Error\")=\"Error\",\"\",IF(VLOOKUP(($B$2&\"_\"&$A25),'Time Entry Sheet'!$A$3:$I$499,9,FALSE)=\"wd\",\"wd\",VLOOKUP(($B$2&\"_\"&$A25),'Time Entry Sheet'!$A$3:$I$499,9,FALSE)*1))","v":"00:00:47.820"},"00:00:47.820",{"$f":"IF(IFERROR(VLOOKUP(($B$2&\"_\"&$A25),'Time Entry Sheet'!$A$3:$I$499,8,FALSE),\"Error\")=\"Error\",\"\",IF(VLOOKUP(($B$2&\"_\"&$A25),'Time Entry Sheet'!$A$3:$I$499,8,FALSE)=\"\",\"\",VLOOKUP(($B$2&\"_\"&$A25),'Time Entry Sheet'!$A$3:$I$499,8,FALSE)))","v":""},{"$f":"IF(IFERROR(VLOOKUP(($B$2&\"_\"&$A25),'Time Entry Sheet'!$A$3:$I$499,7,FALSE),\"Error\")=\"Error\",\"\",IF(VLOOKUP(($B$2&\"_\"&$A25),'Time Entry Sheet'!$A$3:$I$499,7,FALSE)=\"\",\"\",VLOOKUP(($B$2&\"_\"&$A25),'Time Entry Sheet'!$A$3:$I$499,7,FALSE)))","v":""},"00:00:47.820","00:00:47.820",6,{"$f":"IF(A25=\"\",\"\",M25+VLOOKUP(A25,'Test 8'!$A$12:$Q$51,16,FALSE))","v":"00:07:24.110"},4,null,"","00:07:24.110"]
[15,{"$f":"IF($A26=\"\",\"\",IF(VLOOKUP($A26,Competitors!$A$2:$G$60,2,FALSE)=\"\",\"\",VLOOKUP($A26,Competitors!$A$2:$G$60,2,FALSE)))","v":"Khi Fulthorpe"},{"$f":"IF($A26=\"\",\"\",IF(VLOOKUP($A26,Competitors!$A$2:$G$60,7,FALSE)=\"\",\"\",VLOOKUP($A26,Competitors!$A$2:$G$60,7,FALSE)))","v":""},{"$f":"IF($A26=\"\",\"\",IF(VLOOKUP($A26,Competitors!$A$2:$G$60,5,FALSE)=\"\",\"\",VLOOKUP($A26,Competitors!$A$2:$G$60,5,FALSE)))","v":""},{"$f":"IF($A26=\"\",\"\",IF(VLOOKUP($A26,Competitors!$A$2:$G$60,6,FALSE)=\"\",\"\",VLOOKUP($A26,Competitors!$A$2:$G$60,6,FALSE)))","v":"senior"},{"$f":"IF($A26=\"\",\"\",IF(VLOOKUP($A26,Competitors!$A$2:$G$60,3,FALSE)=\"\",\"\",VLOOKUP($A26,Competitors!$A$2:$G$60,3,FALSE)))","v":""},{"$f":"IF($A26=\"\",\"\",IF(VLOOKUP($A26,Competitors!$A$2:$G$60,4,FALSE)=\"\",\"\",VLOOKUP($A26,Competitors!$A$2:$G$60,4,FALSE)))","v":""},{"$f":"IF(VLOOKUP(A26,Competitors!$A$1:$H$41,8,FALSE)=\"\",\"\",VLOOKUP(A26,Competitors!$A$1:$H$41,8,FALSE))","v":""},{"$f":"IF(IFERROR(VLOOKUP(($B$2&\"_\"&$A26),'Time Entry Sheet'!$A$3:$I$499,9,0),\"Error\")=\"Error\",\"\",IF(VLOOKUP(($B$2&\"_\"&$A26),'Time Entry Sheet'!$A$3:$I$499,9,FALSE)=\"wd\",\"wd\",VLOOKUP(($B$2&\"_\"&$A26),'Time Entry Sheet'!$A$3:$I$499,9,FALSE)*1))","v":"00:00:50.050"},"00:00:50.050",{"$f":"IF(IFERROR(VLOOKUP(($B$2&\"_\"&$A26),'Time Entry Sheet'!$A$3:$I$499,8,FALSE),\"Error\")=\"Error\",\"\",IF(VLOOKUP(($B$2&\"_\"&$A26),'Time Entry Sheet'!$A$3:$I$499,8,FALSE)=\"\",\"\",VLOOKUP(($B$2&\"_\"&$A26),'Time Entry Sheet'!$A$3:$I$499,8,FALSE)))","v":""},{"$f":"IF(IFERROR(VLOOKUP(($B$2&\"_\"&$A26),'Time Entry Sheet'!$A$3:$I$499,7,FALSE),\"Error\")=\"Error\",\"\",IF(VLOOKUP(($B$2&\"_\"&$A26),'Time Entry Sheet'!$A$3:$I$499,7,FALSE)=\"\",\"\",VLOOKUP(($B$2&\"_\"&$A26),'Time Entry Sheet'!$A$3:$I$499,7,FALSE)))","v":""},"00:00:50.050","00:00:50.050",10,{"$f":"IF(A26=\"\",\"\",M26+VLOOKUP(A26,'Test 8'!$A$12:$Q$51,16,FALSE))","v":"00:08:02.750"},10,null,"","00:08:02.750"]
[16,{"$f":"IF($A27=\"\",\"\",IF(VLOOKUP($A27,Competitors!$A$2:$G$60,2,FALSE)=\"\",\"\",VLOOKUP($A27,Competitors!$A$2:$G$60,2,FALSE)))","v":"Nathan Senior"},{"$f":"IF($A27=\"\",\"\",IF(VLOOKUP($A27,Competitors!$A$2:$G$60,7,FALSE)=\"\",\"\",VLOOKUP($A27,Competitors!$A$2:$G$60,7,FALSE)))","v":""},{"$f":"IF($A27=\"\",\"\",IF(VLOOKUP($A27,Competitors!$A$2:$G$60,5,FALSE)=\"\",\"\",VLOOKUP($A27,Competitors!$A$2:$G$60,5,FALSE)))","v":""},{"$f":"IF($A27=\"\",\"\",IF(VLOOKUP($A27,Competitors!$A$2:$G$60,6,FALSE)=\"\",\"\",VLOOKUP($A27,Competitors!$A$2:$G$60,6,FALSE)))","v":"senior"},{"$f":"IF($A27=\"\",\"\",IF(VLOOKUP($A27,Competitors!$A$2:$G$60,3,FALSE)=\"\",\"\",VLOOKUP($A27,Competitors!$A$2:$G$60,3,FALSE)))","v":""},{"$f":"IF($A27=\"\",\"\",IF(VLOOKUP($A27,Competitors!$A$2:$G$60,4,FALSE)=\"\",\"\",VLOOKUP($A27,Competitors!$A$2:$G$60,4,FALSE)))","v":""},{"$f":"IF(VLOOKUP(A27,Competitors!$A$1:$H$41,8,FALSE)=\"\",\"\",VLOOKUP(A27,Competitors!$A$1:$H$41,8,FALSE))","v":""},{"$f":"IF(IFERROR(VLOOKUP(($B$2&\"_\"&$A27),'Time Entry Sheet'!$A$3:$I$499,9,0),\"Error\")=\"Error\",\"\",IF(VLOOKUP(($B$2&\"_\"&$A27),'Time Entry Sheet'!$A$3:$I$499,9,FALSE)=\"wd\",\"wd\",VLOOKUP(($B$2&\"_\"&$A27),'Time Entry Sheet'!$A$3:$I$499,9,FALSE)*1))","v":"00:00:44.250"},"00:00:44.250",{"$f":"IF(IFERROR(VLOOKUP(($B$2&\"_\"&$A27),'Time Entry Sheet'!$A$3:$I$499,8,FALSE),\"Error\")=\"Error\",\"\",IF(VLOOKUP(($B$2&\"_\"&$A27),'Time Entry Sheet'!$A$3:$I$499,8,FALSE)=\"\",\"\",VLOOKUP(($B$2&\"_\"&$A27),'Time Entry Sheet'!$A$3:$I$499,8,FALSE)))","v":""},{"$f":"IF(IFERROR(VLOOKUP(($B$2&\"_\"&$A27),'Time Entry Sheet'!$A$3:$I$499,7,FALSE),\"Error\")=\"Error\",\"\",IF(VLOOKUP(($B$2&\"_\"&$A27),'Time Entry Sheet'!$A$3:$I$499,7,FALSE)=\"\",\"\",VLOOKUP(($B$2&\"_\"&$A27),'Time Entry Sheet'!$A$3:$I$499,7,FALSE)))","v":""},"00:00:44.250","00:00:44.250",1,{"$f":"IF(A27=\"\",\"\",M27+VLOOKUP(A27,'Test 8'!$A$12:$Q$51,16,FALSE))","v":"00:07:36.120"},6,null,"","00:07:36.120"]
[17,{"$f":"IF($A28=\"\",\"\",IF(VLOOKUP($A28,Competitors!$A$2:$G$60,2,FALSE)=\"\",\"\",VLOOKUP($A28,Competitors!$A$2:$G$60,2,FALSE)))","v":"Reece McIntosh"},{"$f":"IF($A28=\"\",\"\",IF(VLOOKUP($A28,Competitors!$A$2:$G$60,7,FALSE)=\"\",\"\",VLOOKUP($A28,Competitors!$A$2:$G$60,7,FALSE)))","v":""},{"$f":"IF($A28=\"\",\"\",IF(VLOOKUP($A28,Competitors!$A$2:$G$60,5,FALSE)=\"\",\"\",VLOOKUP($A28,Competitors!$A$2:$G$60,5,FALSE)))","v":""},{"$f":"IF($A28=\"\",\"\",IF(VLOOKUP($A28,Competitors!$A$2:$G$60,6,FALSE)=\"\",\"\",VLOOKUP($A28,Competitors!$A$2:$G$60,6,FALSE)))","v":"senior"},{"$f":"IF($A28=\"\",\"\",IF(VLOOKUP($A28,Competitors!$A$2:$G$60,3,FALSE)=\"\",\"\",VLOOKUP($A28,Competitors!$A$2:$G$60,3,FALSE)))","v":""},{"$f":"IF($A28=\"\",\"\",IF(VLOOKUP($A28,Competitors!$A$2:$G$60,4,FALSE)=\"\",\"\",VLOOKUP($A28,Competitors!$A$2:$G$60,4,FALSE)))","v":""},{"$f":"IF(VLOOKUP(A28,Competitors!$A$1:$H$41,8,FALSE)=\"\",\"\",VLOOKUP(A28,Competitors!$A$1:$H$41,8,FALSE))","v":""},{"$f":"IF(IFERROR(VLOOKUP(($B$2&\"_\"&$A28),'Time Entry Sheet'!$A$3:$I$499,9,0),\"Error\")=\"Error\",\"\",IF(VLOOKUP(($B$2&\"_\"&$A28),'Time Entry Sheet'!$A$3:$I$499,9,FALSE)=\"wd\",\"wd\",VLOOKUP(($B$2&\"_\"&$A28),'Time Entry Sheet'!$A$3:$I$499,9,FALSE)*1))","v":"00:00:44.910"},"00:00:44.910",{"$f":"IF(IFERROR(VLOOKUP(($B$2&\"_\"&$A28),'Time Entry Sheet'!$A$3:$I$499,8,FALSE),\"Error\")=\"Error\",\"\",IF(VLOOKUP(($B$2&\"_\"&$A28),'Time Entry Sheet'!$A$3:$I$499,8,FALSE)=\"\",\"\",VLOOKUP(($B$2&\"_\"&$A28),'Time Entry Sheet'!$A$3:$I$499,8,FALSE)))","v":""},{"$f":"IF(IFERROR(VLOOKUP(($B$2&\"_\"&$A28),'Time Entry Sheet'!$A$3:$I$499,7,FALSE),\"Error\")=\"Error\",\"\",IF(VLOOKUP(($B$2&\"_\"&$A28),'Time Entry Sheet'!$A$3:$I$499,7,FALSE)=\"\",\"\",VLOOKUP(($B$2&\"_\"&$A28),'Time Entry Sheet'!$A$3:$I$499,7,FALSE)))","v":""},"00:00:44.910","00:00:44.910",2,{"$f":"IF(A28=\"\",\"\",M28+VLOOKUP(A28,'Test 8'!$A$12:$Q$51,16,FALSE))","v":"00:07:00.760"},1,null,"","00:07:00.760"]
[18,{"$f":"IF($A29=\"\",\"\",IF(VLOOKUP($A29,Competitors!$A$2:$G$60,2,FALSE)=\"\",\"\",VLOOKUP($A29,Competitors!$A$2:$G$60,2,FALSE)))","v":"Jack Stanley"},{"$f":"IF($A29=\"\",\"\",IF(VLOOKUP($A29,Competitors!$A$2:$G$60,7,FALSE)=\"\",\"\",VLOOKUP($A29,Competitors!$A$2:$G$60,7,FALSE)))","v":"rookie"},{"$f":"IF($A29=\"\",\"\",IF(VLOOKUP($A29,Competitors!$A$2:$G$60,5,FALSE)=\"\",\"\",VLOOKUP($A29,Competitors!$A$2:$G$60,5,FALSE)))","v":""},{"$f":"IF($A29=\"\",\"\",IF(VLOOKUP($A29,Competitors!$A$2:$G$60,6,FALSE)=\"\",\"\",VLOOKUP($A29,Competitors!$A$2:$G$60,6,FALSE)))","v":"senior"},{"$f":"IF($A29=\"\",\"\",IF(VLOOKUP($A29,Competitors!$A$2:$G$60,3,FALSE)=\"\",\"\",VLOOKUP($A29,Competitors!$A$2:$G$60,3,FALSE)))","v":""},{"$f":"IF($A29=\"\",\"\",IF(VLOOKUP($A29,Competitors!$A$2:$G$60,4,FALSE)=\"\",\"\",VLOOKUP($A29,Competitors!$A$2:$G$60,4,FALSE)))","v":""},{"$f":"IF(VLOOKUP(A29,Competitors!$A$1:$H$41,8,FALSE)=\"\",\"\",VLOOKUP(A29,Competitors!$A$1:$H$41,8,FALSE))","v":""},{"$f":"IF(IFERROR(VLOOKUP(($B$2&\"_\"&$A29),'Time Entry Sheet'!$A$3:$I$499,9,0),\"Error\")=\"Error\",\"\",IF(VLOOKUP(($B$2&\"_\"&$A29),'Time Entry Sheet'!$A$3:$I$499,9,FALSE)=\"wd\",\"wd\",VLOOKUP(($B$2&\"_\"&$A29),'Time Entry Sheet'!$A$3:$I$499,9,FALSE)*1))","v":"00:00:53.340"},"00:00:53.340",{"$f":"IF(IFERROR(VLOOKUP(($B$2&\"_\"&$A29),'Time Entry Sheet'!$A$3:$I$499,8,FALSE),\"Error\")=\"Error\",\"\",IF(VLOOKUP(($B$2&\"_\"&$A29),'Time Entry Sheet'!$A$3:$I$499,8,FALSE)=\"\",\"\",VLOOKUP(($B$2&\"_\"&$A29),'Time Entry Sheet'!$A$3:$I$499,8,FALSE)))","v":""},{"$f":"IF(IFERROR(VLOOKUP(($B$2&\"_\"&$A29),'Time Entry Sheet'!$A$3:$I$499,7,FALSE),\"Error\")=\"Error\",\"\",IF(VLOOKUP(($B$2&\"_\"&$A29),'Time Entry Sheet'!$A$3:$I$499,7,FALSE)=\"\",\"\",VLOOKUP(($B$2&\"_\"&$A29),'Time Entry Sheet'!$A$3:$I$499,7,FALSE)))","v":""},"00:00:53.340","00:00:53.340",15,{"$f":"IF(A29=\"\",\"\",M29+VLOOKUP(A29,'Test 8'!$A$12:$Q$51,16,FALSE))","v":"00:08:46.440"},17,null,"","00:08:46.440"]
[19,{"$f":"IF($A30=\"\",\"\",IF(VLOOKUP($A30,Competitors!$A$2:$G$60,2,FALSE)=\"\",\"\",VLOOKUP($A30,Competitors!$A$2:$G$60,2,FALSE)))","v":"Christopher Northey"},{"$f":"IF($A30=\"\",\"\",IF(VLOOKUP($A30,Competitors!$A$2:$G$60,7,FALSE)=\"\",\"\",VLOOKUP($A30,Competitors!$A$2:$G$60,7,FALSE)))","v":""},{"$f":"IF($A30=\"\",\"\",IF(VLOOKUP($A30,Competitors!$A$2:$G$60,5,FALSE)=\"\",\"\",VLOOKUP($A30,Competitors!$A$2:$G$60,5,FALSE)))","v":""},{"$f":"IF($A30=\"\",\"\",IF(VLOOKUP($A30,Competitors!$A$2:$G$60,6,FALSE)=\"\",\"\",VLOOKUP($A30,Competitors!$A$2:$G$60,6,FALSE)))","v":"senior"},{"$f":"IF($A30=\"\",\"\",IF(VLOOKUP($A30,Competitors!$A$2:$G$60,3,FALSE)=\"\",\"\",VLOOKUP($A30,Competitors!$A$2:$G$60,3,FALSE)))","v":""},{"$f":"IF($A30=\"\",\"\",IF(VLOOKUP($A30,Competitors!$A$2:$G$60,4,FALSE)=\"\",\"\",VLOOKUP($A30,Competitors!$A$2:$G$60,4,FALSE)))","v":""},{"$f":"IF(VLOOKUP(A30,Competitors!$A$1:$H$41,8,FALSE)=\"\",\"\",VLOOKUP(A30,Competitors!$A$1:$H$41,8,FALSE))","v":""},{"$f":"IF(IFERROR(VLOOKUP(($B$2&\"_\"&$A30),'Time Entry Sheet'!$A$3:$I$499,9,0),\"Error\")=\"Error\",\"\",IF(VLOOKUP(($B$2&\"_\"&$A30),'Time Entry Sheet'!$A$3:$I$499,9,FALSE)=\"wd\",\"wd\",VLOOKUP(($B$2&\"_\"&$A30),'Time Entry Sheet'!$A$3:$I$499,9,FALSE)*1))","v":"00:00:51.250"},{"$f":"IF(E30=\"Junior\",\"\",IF(I30=\"wd\",\"\",IF(K30<>\"\",\"\",I30)))","v":"00:00:51.250"},{"$f":"IF(IFERROR(VLOOKUP(($B$2&\"_\"&$A30),'Time Entry Sheet'!$A$3:$I$499,8,FALSE),\"Error\")=\"Error\",\"\",IF(VLOOKUP(($B$2&\"_\"&$A30),'Time Entry Sheet'!$A$3:$I$499,8,FALSE)=\"\",\"\",VLOOKUP(($B$2&\"_\"&$A30),'Time Entry Sheet'!$A$3:$I$499,8,FALSE)))","v":""},{"$f":"IF(IFERROR(VLOOKUP(($B$2&\"_\"&$A30),'Time Entry Sheet'!$A$3:$I$499,7,FALSE),\"Error\")=\"Error\",\"\",IF(VLOOKUP(($B$2&\"_\"&$A30),'Time Entry Sheet'!$A$3:$I$499,7,FALSE)=\"\",\"\",VLOOKUP(($B$2&\"_\"&$A30),'Time Entry Sheet'!$A$3:$I$499,7,FALSE)))","v":""},{"$f":"IF(A30=\"\",\"\",IF(I30=\"wd\",IF(E30=\"Senior\",$B$7,$C$7),IF(L30<>\"\",$B$7,IF(I30=\"\",IF(E30=\"Senior\",$B$8,$C$8),IF(K30=\"\",I30,I30+($B$5*K30))))))","v":"00:00:51.250"},{"$f":"IF(H30=\"Passenger\",\"\",M30)","v":"00:00:51.250"},{"$f":"IF(A30=\"\",\"\",IF(H30=\"Passenger\",\"P\",RANK(N30,$N$12:$N$51,1)))","v":12},{"$f":"IF(A30=\"\",\"\",M30+VLOOKUP(A30,'Test 8'!$A$12:$Q$51,16,FALSE))","v":"00:07:59.740"},{"$f":"IF(A30=\"\",\"\",IF(H30=\"Passenger\",\"P\",RANK(T30,$T$12:$T$51,1)))","v":9},null,{"$f":"IF(E30=\"Senior\",\"\",IF(I30=\"wd\",\"\",IF(K30<>\"\",\"\",I30)))","v":""},{"$f":"IF(H30=\"Passenger\",\"\",P30)","v":"00:07:59.740"}]
[20,{"$f":"IF($A31=\"\",\"\",IF(VLOOKUP($A31,Competitors!$A$2:$G$60,2,FALSE)=\"\",\"\",VLOOKUP($A31,Competitors!$A$2:$G$60,2,FALSE)))","v":"Ray Lampl"},{"$f":"IF($A31=\"\",\"\",IF(VLOOKUP($A31,Competitors!$A$2:$G$60,7,FALSE)=\"\",\"\",VLOOKUP($A31,Competitors!$A$2:$G$60,7,FALSE)))","v":""},{"$f":"IF($A31=\"\",\"\",IF(VLOOKUP($A31,Competitors!$A$2:$G$60,5,FALSE)=\"\",\"\",VLOOKUP($A31,Competitors!$A$2:$G$60,5,FALSE)))","v":""},{"$f":"IF($A31=\"\",\"\",IF(VLOOKUP($A31,Competitors!$A$2:$G$60,6,FALSE)=\"\",\"\",VLOOKUP($A31,Competitors!$A$2:$G$60,6,FALSE)))","v":"senior"},{"$f":"IF($A31=\"\",\"\",IF(VLOOKUP($A31,Competitors!$A$2:$G$60,3,FALSE)=\"\",\"\",VLOOKUP($A31,Competitors!$A$2:$G$60,3,FALSE)))","v":""},{"$f":"IF($A31=\"\",\"\",IF(VLOOKUP($A31,Competitors!$A$2:$G$60,4,FALSE)=\"\",\"\",VLOOKUP($A31,Competitors!$A$2:$G$60,4,FALSE)))","v":""},{"$f":"IF(VLOOKUP(A31,Competitors!$A$1:$H$41,8,FALSE)=\"\",\"\",VLOOKUP(A31,Competitors!$A$1:$H$41,8,FALSE))","v":""},{"$f":"IF(IFERROR(VLOOKUP(($B$2&\"_\"&$A31),'Time Entry Sheet'!$A$3:$I$499,9,0),\"Error\")=\"Error\",\"\",IF(VLOOKUP(($B$2&\"_\"&$A31),'Time Entry Sheet'!$A$3:$I$499,9,FALSE)=\"wd\",\"wd\",VLOOKUP(($B$2&\"_\"&$A31),'Time Entry Sheet'!$A$3:$I$499,9,FALSE)*1))","v":"00:00:48.720"},"00:00:48.720",{"$f":"IF(IFERROR(VLOOKUP(($B$2&\"_\"&$A31),'Time Entry Sheet'!$A$3:$I$499,8,FALSE),\"Error\")=\"Error\",\"\",IF(VLOOKUP(($B$2&\"_\"&$A31),'Time Entry Sheet'!$A$3:$I$499,8,FALSE)=\"\",\"\",VLOOKUP(($B$2&\"_\"&$A31),'Time Entry Sheet'!$A$3:$I$499,8,FALSE)))","v":""},{"$f":"IF(IFERROR(VLOOKUP(($B$2&\"_\"&$A31),'Time Entry Sheet'!$A$3:$I$499,7,FALSE),\"Error\")=\"Error\",\"\",IF(VLOOKUP(($B$2&\"_\"&$A31),'Time Entry Sheet'!$A$3:$I$499,7,FALSE)=\"\",\"\",VLOOKUP(($B$2&\"_\"&$A31),'Time Entry Sheet'!$A$3:$I$499,7,FALSE)))","v":""},"00:00:48.720","00:00:48.720",7,{"$f":"IF(A31=\"\",\"\",M31+VLOOKUP(A31,'Test 8'!$A$12:$Q$51,16,FALSE))","v":"00:07:43.920"},7,null,"","00:07:43.920"]
[21,{"$f":"IF($A32=\"\",\"\",IF(VLOOKUP($A32,Competitors!$A$2:$G$60,2,FALSE)=\"\",\"\",VLOOKUP($A32,Competitors!$A$2:$G$60,2,FALSE)))","v":""},{"$f":"IF($A32=\"\",\"\",IF(VLOOKUP($A32,Competitors!$A$2:$G$60,7,FALSE)=\"\",\"\",VLOOKUP($A32,Competitors!$A$2:$G$60,7,FALSE)))","v":""},{"$f":"IF($A32=\"\",\"\",IF(VLOOKUP($A32,Competitors!$A$2:$G$60,5,FALSE)=\"\",\"\",VLOOKUP($A32,Competitors!$A$2:$G$60,5,FALSE)))","v":""},{"$f":"IF($A32=\"\",\"\",IF(VLOOKUP($A32,Competitors!$A$2:$G$60,6,FALSE)=\"\",\"\",VLOOKUP($A32,Competitors!$A$2:$G$60,6,FALSE)))","v":"senior"},{"$f":"IF($A32=\"\",\"\",IF(VLOOKUP($A32,Competitors!$A$2:$G$60,3,FALSE)=\"\",\"\",VLOOKUP($A32,Competitors!$A$2:$G$60,3,FALSE)))","v":""},{"$f":"IF($A32=\"\",\"\",IF(VLOOKUP($A32,Competitors!$A$2:$G$60,4,FALSE)=\"\",\"\",VLOOKUP($A32,Competitors!$A$2:$G$60,4,FALSE)))","v":""},{"$f":"IF(VLOOKUP(A32,Competitors!$A$1:$H$41,8,FALSE)=\"\",\"\",VLOOKUP(A32,Competitors!$A$1:$H$41,8,FALSE))","v":""},{"$f":"IF(IFERROR(VLOOKUP(($B$2&\"_\"&$A32),'Time Entry Sheet'!$A$3:$I$499,9,0),\"Error\")=\"Error\",\"\",IF(VLOOKUP(($B$2&\"_\"&$A32),'Time Entry Sheet'!$A$3:$I$499,9,FALSE)=\"wd\",\"wd\",VLOOKUP(($B$2&\"_\"&$A32),'Time Entry Sheet'!$A$3:$I$499,9,FALSE)*1))","v":""},"",{"$f":"IF(IFERROR(VLOOKUP(($B$2&\"_\"&$A32),'Time Entry Sheet'!$A$3:$I$499,8,FALSE),\"Error\")=\"Error\",\"\",IF(VLOOKUP(($B$2&\"_\"&$A32),'Time Entry Sheet'!$A$3:$I$499,8,FALSE)=\"\",\"\",VLOOKUP(($B$2&\"_\"&$A32),'Time Entry Sheet'!$A$3:$I$499,8,FALSE)))","v":""},{"$f":"IF(IFERROR(VLOOKUP(($B$2&\"_\"&$A32),'Time Entry Sheet'!$A$3:$I$499,7,FALSE),\"Error\")=\"Error\",\"\",IF(VLOOKUP(($B$2&\"_\"&$A32),'Time Entry Sheet'!$A$3:$I$499,7,FALSE)=\"\",\"\",VLOOKUP(($B$2&\"_\"&$A32),'Time Entry Sheet'!$A$3:$I$499,7,FALSE)))","v":""},"00:01:06.570","00:01:06.570",19,{"$f":"IF(A32=\"\",\"\",M32+VLOOKUP(A32,'Test 8'!$A$12:$Q$51,16,FALSE))","v":"00:10:46.040"},20,null,"","00:10:46.040"]
[22,{"$f":"IF($A33=\"\",\"\",IF(VLOOKUP($A33,Competitors!$A$2:$G$60,2,FALSE)=\"\",\"\",VLOOKUP($A33,Competitors!$A$2:$G$60,2,FALSE)))","v":""},{"$f":"IF($A33=\"\",\"\",IF(VLOOKUP($A33,Competitors!$A$2:$G$60,7,FALSE)=\"\",\"\",VLOOKUP($A33,Competitors!$A$2:$G$60,7,FALSE)))","v":""},{"$f":"IF($A33=\"\",\"\",IF(VLOOKUP($A33,Competitors!$A$2:$G$60,5,FALSE)=\"\",\"\",VLOOKUP($A33,Competitors!$A$2:$G$60,5,FALSE)))","v":""},{"$f":"IF($A33=\"\",\"\",IF(VLOOKUP($A33,Competitors!$A$2:$G$60,6,FALSE)=\"\",\"\",VLOOKUP($A33,Competitors!$A$2:$G$60,6,FALSE)))","v":"senior"},{"$f":"IF($A33=\"\",\"\",IF(VLOOKUP($A33,Competitors!$A$2:$G$60,3,FALSE)=\"\",\"\",VLOOKUP($A33,Competitors!$A$2:$G$60,3,FALSE)))","v":""},{"$f":"IF($A33=\"\",\"\",IF(VLOOKUP($A33,Competitors!$A$2:$G$60,4,FALSE)=\"\",\"\",VLOOKUP($A33,Competitors!$A$2:$G$60,4,FALSE)))","v":""},{"$f":"IF(VLOOKUP(A33,Competitors!$A$1:$H$41,8,FALSE)=\"\",\"\",VLOOKUP(A33,Competitors!$A$1:$H$41,8,FALSE))","v":""},{"$f":"IF(IFERROR(VLOOKUP(($B$2&\"_\"&$A33),'Time Entry Sheet'!$A$3:$I$499,9,0),\"Error\")=\"Error\",\"\",IF(VLOOKUP(($B$2&\"_\"&$A33),'Time Entry Sheet'!$A$3:$I$499,9,FALSE)=\"wd\",\"wd\",VLOOKUP(($B$2&\"_\"&$A33),'Time Entry Sheet'!$A$3:$I$499,9,FALSE)*1))","v":""},"",{"$f":"IF(IFERROR(VLOOKUP(($B$2&\"_\"&$A33),'Time Entry Sheet'!$A$3:$I$499,8,FALSE),\"Error\")=\"Error\",\"\",IF(VLOOKUP(($B$2&\"_\"&$A33),'Time Entry Sheet'!$A$3:$I$499,8,FALSE)=\"\",\"\",VLOOKUP(($B$2&\"_\"&$A33),'Time Entry Sheet'!$A$3:$I$499,8,FALSE)))","v":""},{"$f":"IF(IFERROR(VLOOKUP(($B$2&\"_\"&$A33),'Time Entry Sheet'!$A$3:$I$499,7,FALSE),\"Error\")=\"Error\",\"\",IF(VLOOKUP(($B$2&\"_\"&$A33),'Time Entry Sheet'!$A$3:$I$499,7,FALSE)=\"\",\"\",VLOOKUP(($B$2&\"_\"&$A33),'Time Entry Sheet'!$A$3:$I$499,7,FALSE)))","v":""},"00:01:06.570","00:01:06.570",19,{"$f":"IF(A33=\"\",\"\",M33+VLOOKUP(A33,'Test 8'!$A$12:$Q$51,16,FALSE))","v":"00:10:46.040"},20,null,"","00:10:46.040"]
[23,{"$f":"IF($A34=\"\",\"\",IF(VLOOKUP($A34,Competitors!$A$2:$G$60,2,FALSE)=\"\",\"\",VLOOKUP($A34,Competitors!$A$2:$G$60,2,FALSE)))","v":""},{"$f":"IF($A34=\"\",\"\",IF(VLOOKUP($A34,Competitors!$A$2:$G$60,7,FALSE)=\"\",\"\",VLOOKUP($A34,Competitors!$A$2:$G$60,7,FALSE)))","v":""},{"$f":"IF($A34=\"\",\"\",IF(VLOOKUP($A34,Competitors!$A$2:$G$60,5,FALSE)=\"\",\"\",VLOOKUP($A34,Competitors!$A$2:$G$60,5,FALSE)))","v":""},{"$f":"IF($A34=\"\",\"\",IF(VLOOKUP($A34,Competitors!$A$2:$G$60,6,FALSE)=\"\",\"\",VLOOKUP($A34,Competitors!$A$2:$G$60,6,FALSE)))","v":"senior"},{"$f":"IF($A34=\"\",\"\",IF(VLOOKUP($A34,Competitors!$A$2:$G$60,3,FALSE)=\"\",\"\",VLOOKUP($A34,Competitors!$A$2:$G$60,3,FALSE)))","v":""},{"$f":"IF($A34=\"\",\"\",IF(VLOOKUP($A34,Competitors!$A$2:$G$60,4,FALSE)=\"\",\"\",VLOOKUP($A34,Competitors!$A$2:$G$60,4,FALSE)))","v":""},{"$f":"IF(VLOOKUP(A34,Competitors!$A$1:$H$41,8,FALSE)=\"\",\"\",VLOOKUP(A34,Competitors!$A$1:$H$41,8,FALSE))","v":""},{"$f":"IF(IFERROR(VLOOKUP(($B$2&\"_\"&$A34),'Time Entry Sheet'!$A$3:$I$499,9,0),\"Error\")=\"Error\",\"\",IF(VLOOKUP(($B$2&\"_\"&$A34),'Time Entry Sheet'!$A$3:$I$499,9,FALSE)=\"wd\",\"wd\",VLOOKUP(($B$2&\"_\"&$A34),'Time Entry Sheet'!$A$3:$I$499,9,FALSE)*1))","v":""},"",{"$f":"IF(IFERROR(VLOOKUP(($B$2&\"_\"&$A34),'Time Entry Sheet'!$A$3:$I$499,8,FALSE),\"Error\")=\"Error\",\"\",IF(VLOOKUP(($B$2&\"_\"&$A34),'Time Entry Sheet'!$A$3:$I$499,8,FALSE)=\"\",\"\",VLOOKUP(($B$2&\"_\"&$A34),'Time Entry Sheet'!$A$3:$I$499,8,FALSE)))","v":""},{"$f":"IF(IFERROR(VLOOKUP(($B$2&\"_\"&$A34),'Time Entry Sheet'!$A$3:$I$499,7,FALSE),\"Error\")=\"Error\",\"\",IF(VLOOKUP(($B$2&\"_\"&$A34),'Time Entry Sheet'!$A$3:$I$499,7,FALSE)=\"\",\"\",VLOOKUP(($B$2&\"_\"&$A34),'Time Entry Sheet'!$A$3:$I$499,7,FALSE)))","v":""},"00:01:06.570","00:01:06.570",19,{"$f":"IF(A34=\"\",\"\",M34+VLOOKUP(A34,'Test 8'!$A$12:$Q$51,16,FALSE))","v":"00:10:46.040"},20,null,"","00:10:46.040"]
[24,{"$f":"IF($A35=\"\",\"\",IF(VLOOKUP($A35,Competitors!$A$2:$G$60,2,FALSE)=\"\",\"\",VLOOKUP($A35,Competitors!$A$2:$G$60,2,FALSE)))","v":""},{"$f":"IF($A35=\"\",\"\",IF(VLOOKUP($A35,Competitors!$A$2:$G$60,7,FALSE)=\"\",\"\",VLOOKUP($A35,Competitors!$A$2:$G$60,7,FALSE)))","v":""},{"$f":"IF($A35=\"\",\"\",IF(VLOOKUP($A35,Competitors!$A$2:$G$60,5,FALSE)=\"\",\"\",VLOOKUP($A35,Competitors!$A$2:$G$60,5,FALSE)))","v":""},{"$f":"IF($A35=\"\",\"\",IF(VLOOKUP($A35,Competitors!$A$2:$G$60,6,FALSE)=\"\",\"\",VLOOKUP($A35,Competitors!$A$2:$G$60,6,FALSE)))","v":"senior"},{"$f":"IF($A35=\"\",\"\",IF(VLOOKUP($A35,Competitors!$A$2:$G$60,3,FALSE)=\"\",\"\",VLOOKUP($A35,Competitors!$A$2:$G$60,3,FALSE)))","v":""},{"$f":"IF($A35=\"\",\"\",IF(VLOOKUP($A35,Competitors!$A$2:$G$60,4,FALSE)=\"\",\"\",VLOOKUP($A35,Competitors!$A$2:$G$60,4,FALSE)))","v":""},{"$f":"IF(VLOOKUP(A35,Competitors!$A$1:$H$41,8,FALSE)=\"\",\"\",VLOOKUP(A35,Competitors!$A$1:$H$41,8,FALSE))","v":""},{"$f":"IF(IFERROR(VLOOKUP(($B$2&\"_\"&$A35),'Time Entry Sheet'!$A$3:$I$499,9,0),\"Error\")=\"Error\",\"\",IF(VLOOKUP(($B$2&\"_\"&$A35),'Time Entry Sheet'!$A$3:$I$499,9,FALSE)=\"wd\",\"wd\",VLOOKUP(($B$2&\"_\"&$A35),'Time Entry Sheet'!$A$3:$I$499,9,FALSE)*1))","v":""},"",{"$f":"IF(IFERROR(VLOOKUP(($B$2&\"_\"&$A35),'Time Entry Sheet'!$A$3:$I$499,8,FALSE),\"Error\")=\"Error\",\"\",IF(VLOOKUP(($B$2&\"_\"&$A35),'Time Entry Sheet'!$A$3:$I$499,8,FALSE)=\"\",\"\",VLOOKUP(($B$2&\"_\"&$A35),'Time Entry Sheet'!$A$3:$I$499,8,FALSE)))","v":""},{"$f":"IF(IFERROR(VLOOKUP(($B$2&\"_\"&$A35),'Time Entry Sheet'!$A$3:$I$499,7,FALSE),\"Error\")=\"Error\",\"\",IF(VLOOKUP(($B$2&\"_\"&$A35),'Time Entry Sheet'!$A$3:$I$499,7,FALSE)=\"\",\"\",VLOOKUP(($B$2&\"_\"&$A35),'Time Entry Sheet'!$A$3:$I$499,7,FALSE)))","v":""},"00:01:06.570","00:01:06.570",19,{"$f":"IF(A35=\"\",\"\",M35+VLOOKUP(A35,'Test 8'!$A$12:$Q$51,16,FALSE))","v":"00:10:46.040"},20,null,"","00:10:46.040"]
[25,{"$f":"IF($A36=\"\",\"\",IF(VLOOKUP($A36,Competitors!$A$2:$G$60,2,FALSE)=\"\",\"\",VLOOKUP($A36,Competitors!$A$2:$G$60,2,FALSE)))","v":""},{"$f":"IF($A36=\"\",\"\",IF(VLOOKUP($A36,Competitors!$A$2:$G$60,7,FALSE)=\"\",\"\",VLOOKUP($A36,Competitors!$A$2:$G$60,7,FALSE)))","v":""},{"$f":"IF($A36=\"\",\"\",IF(VLOOKUP($A36,Competitors!$A$2:$G$60,5,FALSE)=\"\",\"\",VLOOKUP($A36,Competitors!$A$2:$G$60,5,FALSE)))","v":""},{"$f":"IF($A36=\"\",\"\",IF(VLOOKUP($A36,Competitors!$A$2:$G$60,6,FALSE)=\"\",\"\",VLOOKUP($A36,Competitors!$A$2:$G$60,6,FALSE)))","v":"senior"},{"$f":"IF($A36=\"\",\"\",IF(VLOOKUP($A36,Competitors!$A$2:$G$60,3,FALSE)=\"\",\"\",VLOOKUP($A36,Competitors!$A$2:$G$60,3,FALSE)))","v":""},{"$f":"IF($A36=\"\",\"\",IF(VLOOKUP($A36,Competitors!$A$2:$G$60,4,FALSE)=\"\",\"\",VLOOKUP($A36,Competitors!$A$2:$G$60,4,FALSE)))","v":""},{"$f":"IF(VLOOKUP(A36,Competitors!$A$1:$H$41,8,FALSE)=\"\",\"\",VLOOKUP(A36,Competitors!$A$1:$H$41,8,FALSE))","v":""},{"$f":"IF(IFERROR(VLOOKUP(($B$2&\"_\"&$A36),'Time Entry Sheet'!$A$3:$I$499,9,0),\"Error\")=\"Error\",\"\",IF(VLOOKUP(($B$2&\"_\"&$A36),'Time Entry Sheet'!$A$3:$I$499,9,FALSE)=\"wd\",\"wd\",VLOOKUP(($B$2&\"_\"&$A36),'Time Entry Sheet'!$A$3:$I$499,9,FALSE)*1))","v":""},"",{"$f":"IF(IFERROR(VLOOKUP(($B$2&\"_\"&$A36),'Time Entry Sheet'!$A$3:$I$499,8,FALSE),\"Error\")=\"Error\",\"\",IF(VLOOKUP(($B$2&\"_\"&$A36),'Time Entry Sheet'!$A$3:$I$499,8,FALSE)=\"\",\"\",VLOOKUP(($B$2&\"_\"&$A36),'Time Entry Sheet'!$A$3:$I$499,8,FALSE)))","v":""},{"$f":"IF(IFERROR(VLOOKUP(($B$2&\"_\"&$A36),'Time Entry Sheet'!$A$3:$I$499,7,FALSE),\"Error\")=\"Error\",\"\",IF(VLOOKUP(($B$2&\"_\"&$A36),'Time Entry Sheet'!$A$3:$I$499,7,FALSE)=\"\",\"\",VLOOKUP(($B$2&\"_\"&$A36),'Time Entry Sheet'!$A$3:$I$499,7,FALSE)))","v":""},"00:01:06.570","00:01:06.570",19,{"$f":"IF(A36=\"\",\"\",M36+VLOOKUP(A36,'Test 8'!$A$12:$Q$51,16,FALSE))","v":"00:10:46.040"},20,null,"","00:10:46.040"]
[26,{"$f":"IF($A37=\"\",\"\",IF(VLOOKUP($A37,Competitors!$A$2:$G$60,2,FALSE)=\"\",\"\",VLOOKUP($A37,Competitors!$A$2:$G$60,2,FALSE)))","v":""},{"$f":"IF($A37=\"\",\"\",IF(VLOOKUP($A37,Competitors!$A$2:$G$60,7,FALSE)=\"\",\"\",VLOOKUP($A37,Competitors!$A$2:$G$60,7,FALSE)))","v":""},{"$f":"IF($A37=\"\",\"\",IF(VLOOKUP($A37,Competitors!$A$2:$G$60,5,FALSE)=\"\",\"\",VLOOKUP($A37,Competitors!$A$2:$G$60,5,FALSE)))","v":""},{"$f":"IF($A37=\"\",\"\",IF(VLOOKUP($A37,Competitors!$A$2:$G$60,6,FALSE)=\"\",\"\",VLOOKUP($A37,Competitors!$A$2:$G$60,6,FALSE)))","v":"senior"},{"$f":"IF($A37=\"\",\"\",IF(VLOOKUP($A37,Competitors!$A$2:$G$60,3,FALSE)=\"\",\"\",VLOOKUP($A37,Competitors!$A$2:$G$60,3,FALSE)))","v":""},{"$f":"IF($A37=\"\",\"\",IF(VLOOKUP($A37,Competitors!$A$2:$G$60,4,FALSE)=\"\",\"\",VLOOKUP($A37,Competitors!$A$2:$G$60,4,FALSE)))","v":""},{"$f":"IF(VLOOKUP(A37,Competitors!$A$1:$H$41,8,FALSE)=\"\",\"\",VLOOKUP(A37,Competitors!$A$1:$H$41,8,FALSE))","v":""},{"$f":"IF(IFERROR(VLOOKUP(($B$2&\"_\"&$A37),'Time Entry Sheet'!$A$3:$I$499,9,0),\"Error\")=\"Error\",\"\",IF(VLOOKUP(($B$2&\"_\"&$A37),'Time Entry Sheet'!$A$3:$I$499,9,FALSE)=\"wd\",\"wd\",VLOOKUP(($B$2&\"_\"&$A37),'Time Entry Sheet'!$A$3:$I$499,9,FALSE)*1))","v":""},"",{"$f":"IF(IFERROR(VLOOKUP(($B$2&\"_\"&$A37),'Time Entry Sheet'!$A$3:$I$499,8,FALSE),\"Error\")=\"Error\",\"\",IF(VLOOKUP(($B$2&\"_\"&$A37),'Time Entry Sheet'!$A$3:$I$499,8,FALSE)=\"\",\"\",VLOOKUP(($B$2&\"_\"&$A37),'Time Entry Sheet'!$A$3:$I$499,8,FALSE)))","v":""},{"$f":"IF(IFERROR(VLOOKUP(($B$2&\"_\"&$A37),'Time Entry Sheet'!$A$3:$I$499,7,FALSE),\"Error\")=\"Error\",\"\",IF(VLOOKUP(($B$2&\"_\"&$A37),'Time Entry Sheet'!$A$3:$I$499,7,FALSE)=\"\",\"\",VLOOKUP(($B$2&\"_\"&$A37),'Time Entry Sheet'!$A$3:$I$499,7,FALSE)))","v":""},"00:01:06.570","00:01:06.570",19,{"$f":"IF(A37=\"\",\"\",M37+VLOOKUP(A37,'Test 8'!$A$12:$Q$51,16,FALSE))","v":"00:10:46.040"},20,null,"","00:10:46.040"]
[27,{"$f":"IF($A38=\"\",\"\",IF(VLOOKUP($A38,Competitors!$A$2:$G$60,2,FALSE)=\"\",\"\",VLOOKUP($A38,Competitors!$A$2:$G$60,2,FALSE)))","v":""},{"$f":"IF($A38=\"\",\"\",IF(VLOOKUP($A38,Competitors!$A$2:$G$60,7,FALSE)=\"\",\"\",VLOOKUP($A38,Competitors!$A$2:$G$60,7,FALSE)))","v":""},{"$f":"IF($A38=\"\",\"\",IF(VLOOKUP($A38,Competitors!$A$2:$G$60,5,FALSE)=\"\",\"\",VLOOKUP($A38,Competitors!$A$2:$G$60,5,FALSE)))","v":""},{"$f":"IF($A38=\"\",\"\",IF(VLOOKUP($A38,Competitors!$A$2:$G$60,6,FALSE)=\"\",\"\",VLOOKUP($A38,Competitors!$A$2:$G$60,6,FALSE)))","v":"senior"},{"$f":"IF($A38=\"\",\"\",IF(VLOOKUP($A38,Competitors!$A$2:$G$60,3,FALSE)=\"\",\"\",VLOOKUP($A38,Competitors!$A$2:$G$60,3,FALSE)))","v":""},{"$f":"IF($A38=\"\",\"\",IF(VLOOKUP($A38,Competitors!$A$2:$G$60,4,FALSE)=\"\",\"\",VLOOKUP($A38,Competitors!$A$2:$G$60,4,FALSE)))","v":""},{"$f":"IF(VLOOKUP(A38,Competitors!$A$1:$H$41,8,FALSE)=\"\",\"\",VLOOKUP(A38,Competitors!$A$1:$H$41,8,FALSE))","v":""},{"$f":"IF(IFERROR(VLOOKUP(($B$2&\"_\"&$A38),'Time Entry Sheet'!$A$3:$I$499,9,0),\"Error\")=\"Error\",\"\",IF(VLOOKUP(($B$2&\"_\"&$A38),'Time Entry Sheet'!$A$3:$I$499,9,FALSE)=\"wd\",\"wd\",VLOOKUP(($B$2&\"_\"&$A38),'Time Entry Sheet'!$A$3:$I$499,9,FALSE)*1))","v":""},"",{"$f":"IF(IFERROR(VLOOKUP(($B$2&\"_\"&$A38),'Time Entry Sheet'!$A$3:$I$499,8,FALSE),\"Error\")=\"Error\",\"\",IF(VLOOKUP(($B$2&\"_\"&$A38),'Time Entry Sheet'!$A$3:$I$499,8,FALSE)=\"\",\"\",VLOOKUP(($B$2&\"_\"&$A38),'Time Entry Sheet'!$A$3:$I$499,8,FALSE)))","v":""},{"$f":"IF(IFERROR(VLOOKUP(($B$2&\"_\"&$A38),'Time Entry Sheet'!$A$3:$I$499,7,FALSE),\"Error\")=\"Error\",\"\",IF(VLOOKUP(($B$2&\"_\"&$A38),'Time Entry Sheet'!$A$3:$I$499,7,FALSE)=\"\",\"\",VLOOKUP(($B$2&\"_\"&$A38),'Time Entry Sheet'!$A$3:$I$499,7,FALSE)))","v":""},"00:01:06.570","00:01:06.570",19,{"$f":"IF(A38=\"\",\"\",M38+VLOOKUP(A38,'Test 8'!$A$12:$Q$51,16,FALSE))","v":"00:10:46.040"},20,null,"","00:10:46.040"]
[28,{"$f":"IF($A39=\"\",\"\",IF(VLOOKUP($A39,Competitors!$A$2:$G$60,2,FALSE)=\"\",\"\",VLOOKUP($A39,Competitors!$A$2:$G$60,2,FALSE)))","v":""},{"$f":"IF($A39=\"\",\"\",IF(VLOOKUP($A39,Competitors!$A$2:$G$60,7,FALSE)=\"\",\"\",VLOOKUP($A39,Competitors!$A$2:$G$60,7,FALSE)))","v":""},{"$f":"IF($A39=\"\",\"\",IF(VLOOKUP($A39,Competitors!$A$2:$G$60,5,FALSE)=\"\",\"\",VLOOKUP($A39,Competitors!$A$2:$G$60,5,FALSE)))","v":""},{"$f":"IF($A39=\"\",\"\",IF(VLOOKUP($A39,Competitors!$A$2:$G$60,6,FALSE)=\"\",\"\",VLOOKUP($A39,Competitors!$A$2:$G$60,6,FALSE)))","v":"senior"},{"$f":"IF($A39=\"\",\"\",IF(VLOOKUP($A39,Competitors!$A$2:$G$60,3,FALSE)=\"\",\"\",VLOOKUP($A39,Competitors!$A$2:$G$60,3,FALSE)))","v":""},{"$f":"IF($A39=\"\",\"\",IF(VLOOKUP($A39,Competitors!$A$2:$G$60,4,FALSE)=\"\",\"\",VLOOKUP($A39,Competitors!$A$2:$G$60,4,FALSE)))","v":""},{"$f":"IF(VLOOKUP(A39,Competitors!$A$1:$H$41,8,FALSE)=\"\",\"\",VLOOKUP(A39,Competitors!$A$1:$H$41,8,FALSE))","v":""},{"$f":"IF(IFERROR(VLOOKUP(($B$2&\"_\"&$A39),'Time Entry Sheet'!$A$3:$I$499,9,0),\"Error\")=\"Error\",\"\",IF(VLOOKUP(($B$2&\"_\"&$A39),'Time Entry Sheet'!$A$3:$I$499,9,FALSE)=\"wd\",\"wd\",VLOOKUP(($B$2&\"_\"&$A39),'Time Entry Sheet'!$A$3:$I$499,9,FALSE)*1))","v":""},"",{"$f":"IF(IFERROR(VLOOKUP(($B$2&\"_\"&$A39),'Time Entry Sheet'!$A$3:$I$499,8,FALSE),\"Error\")=\"Error\",\"\",IF(VLOOKUP(($B$2&\"_\"&$A39),'Time Entry Sheet'!$A$3:$I$499,8,FALSE)=\"\",\"\",VLOOKUP(($B$2&\"_\"&$A39),'Time Entry Sheet'!$A$3:$I$499,8,FALSE)))","v":""},{"$f":"IF(IFERROR(VLOOKUP(($B$2&\"_\"&$A39),'Time Entry Sheet'!$A$3:$I$499,7,FALSE),\"Error\")=\"Error\",\"\",IF(VLOOKUP(($B$2&\"_\"&$A39),'Time Entry Sheet'!$A$3:$I$499,7,FALSE)=\"\",\"\",VLOOKUP(($B$2&\"_\"&$A39),'Time Entry Sheet'!$A$3:$I$499,7,FALSE)))","v":""},"00:01:06.570","00:01:06.570",19,{"$f":"IF(A39=\"\",\"\",M39+VLOOKUP(A39,'Test 8'!$A$12:$Q$51,16,FALSE))","v":"00:10:46.040"},20,null,null,"00:10:46.040"]
[29,{"$f":"IF($A40=\"\",\"\",IF(VLOOKUP($A40,Competitors!$A$2:$G$60,2,FALSE)=\"\",\"\",VLOOKUP($A40,Competitors!$A$2:$G$60,2,FALSE)))","v":""},{"$f":"IF($A40=\"\",\"\",IF(VLOOKUP($A40,Competitors!$A$2:$G$60,7,FALSE)=\"\",\"\",VLOOKUP($A40,Competitors!$A$2:$G$60,7,FALSE)))","v":""},{"$f":"IF($A40=\"\",\"\",IF(VLOOKUP($A40,Competitors!$A$2:$G$60,5,FALSE)=\"\",\"\",VLOOKUP($A40,Competitors!$A$2:$G$60,5,FALSE)))","v":""},{"$f":"IF($A40=\"\",\"\",IF(VLOOKUP($A40,Competitors!$A$2:$G$60,6,FALSE)=\"\",\"\",VLOOKUP($A40,Competitors!$A$2:$G$60,6,FALSE)))","v":"senior"},{"$f":"IF($A40=\"\",\"\",IF(VLOOKUP($A40,Competitors!$A$2:$G$60,3,FALSE)=\"\",\"\",VLOOKUP($A40,Competitors!$A$2:$G$60,3,FALSE)))","v":""},{"$f":"IF($A40=\"\",\"\",IF(VLOOKUP($A40,Competitors!$A$2:$G$60,4,FALSE)=\"\",\"\",VLOOKUP($A40,Competitors!$A$2:$G$60,4,FALSE)))","v":""},{"$f":"IF(VLOOKUP(A40,Competitors!$A$1:$H$41,8,FALSE)=\"\",\"\",VLOOKUP(A40,Competitors!$A$1:$H$41,8,FALSE))","v":""},{"$f":"IF(IFERROR(VLOOKUP(($B$2&\"_\"&$A40),'Time Entry Sheet'!$A$3:$I$499,9,0),\"Error\")=\"Error\",\"\",IF(VLOOKUP(($B$2&\"_\"&$A40),'Time Entry Sheet'!$A$3:$I$499,9,FALSE)=\"wd\",\"wd\",VLOOKUP(($B$2&\"_\"&$A40),'Time Entry Sheet'!$A$3:$I$499,9,FALSE)*1))","v":""},"",{"$f":"IF(IFERROR(VLOOKUP(($B$2&\"_\"&$A40),'Time Entry Sheet'!$A$3:$I$499,8,FALSE),\"Error\")=\"Error\",\"\",IF(VLOOKUP(($B$2&\"_\"&$A40),'Time Entry Sheet'!$A$3:$I$499,8,FALSE)=\"\",\"\",VLOOKUP(($B$2&\"_\"&$A40),'Time Entry Sheet'!$A$3:$I$499,8,FALSE)))","v":""},{"$f":"IF(IFERROR(VLOOKUP(($B$2&\"_\"&$A40),'Time Entry Sheet'!$A$3:$I$499,7,FALSE),\"Error\")=\"Error\",\"\",IF(VLOOKUP(($B$2&\"_\"&$A40),'Time Entry Sheet'!$A$3:$I$499,7,FALSE)=\"\",\"\",VLOOKUP(($B$2&\"_\"&$A40),'Time Entry Sheet'!$A$3:$I$499,7,FALSE)))","v":""},"00:01:06.570","00:01:06.570",19,{"$f":"IF(A40=\"\",\"\",M40+VLOOKUP(A40,'Test 8'!$A$12:$Q$51,16,FALSE))","v":"00:10:46.040"},20,null,"","00:10:46.040"]
[30,{"$f":"IF($A41=\"\",\"\",IF(VLOOKUP($A41,Competitors!$A$2:$G$60,2,FALSE)=\"\",\"\",VLOOKUP($A41,Competitors!$A$2:$G$60,2,FALSE)))","v":""},{"$f":"IF($A41=\"\",\"\",IF(VLOOKUP($A41,Competitors!$A$2:$G$60,7,FALSE)=\"\",\"\",VLOOKUP($A41,Competitors!$A$2:$G$60,7,FALSE)))","v":""},{"$f":"IF($A41=\"\",\"\",IF(VLOOKUP($A41,Competitors!$A$2:$G$60,5,FALSE)=\"\",\"\",VLOOKUP($A41,Competitors!$A$2:$G$60,5,FALSE)))","v":""},{"$f":"IF($A41=\"\",\"\",IF(VLOOKUP($A41,Competitors!$A$2:$G$60,6,FALSE)=\"\",\"\",VLOOKUP($A41,Competitors!$A$2:$G$60,6,FALSE)))","v":"senior"},{"$f":"IF($A41=\"\",\"\",IF(VLOOKUP($A41,Competitors!$A$2:$G$60,3,FALSE)=\"\",\"\",VLOOKUP($A41,Competitors!$A$2:$G$60,3,FALSE)))","v":""},{"$f":"IF($A41=\"\",\"\",IF(VLOOKUP($A41,Competitors!$A$2:$G$60,4,FALSE)=\"\",\"\",VLOOKUP($A41,Competitors!$A$2:$G$60,4,FALSE)))","v":""},{"$f":"IF(VLOOKUP(A41,Competitors!$A$1:$H$41,8,FALSE)=\"\",\"\",VLOOKUP(A41,Competitors!$A$1:$H$41,8,FALSE))","v":""},{"$f":"IF(IFERROR(VLOOKUP(($B$2&\"_\"&$A41),'Time Entry Sheet'!$A$3:$I$499,9,0),\"Error\")=\"Error\",\"\",IF(VLOOKUP(($B$2&\"_\"&$A41),'Time Entry Sheet'!$A$3:$I$499,9,FALSE)=\"wd\",\"wd\",VLOOKUP(($B$2&\"_\"&$A41),'Time Entry Sheet'!$A$3:$I$499,9,FALSE)*1))","v":""},"",{"$f":"IF(IFERROR(VLOOKUP(($B$2&\"_\"&$A41),'Time Entry Sheet'!$A$3:$I$499,8,FALSE),\"Error\")=\"Error\",\"\",IF(VLOOKUP(($B$2&\"_\"&$A41),'Time Entry Sheet'!$A$3:$I$499,8,FALSE)=\"\",\"\",VLOOKUP(($B$2&\"_\"&$A41),'Time Entry Sheet'!$A$3:$I$499,8,FALSE)))","v":""},{"$f":"IF(IFERROR(VLOOKUP(($B$2&\"_\"&$A41),'Time Entry Sheet'!$A$3:$I$499,7,FALSE),\"Error\")=\"Error\",\"\",IF(VLOOKUP(($B$2&\"_\"&$A41),'Time Entry Sheet'!$A$3:$I$499,7,FALSE)=\"\",\"\",VLOOKUP(($B$2&\"_\"&$A41),'Time Entry Sheet'!$A$3:$I$499,7,FALSE)))","v":""},"00:01:06.570","00:01:06.570",19,{"$f":"IF(A41=\"\",\"\",M41+VLOOKUP(A41,'Test 8'!$A$12:$Q$51,16,FALSE))","v":"00:10:46.040"},20,null,"","00:10:46.040"]
[31,{"$f":"IF($A42=\"\",\"\",IF(VLOOKUP($A42,Competitors!$A$2:$G$60,2,FALSE)=\"\",\"\",VLOOKUP($A42,Competitors!$A$2:$G$60,2,FALSE)))","v":""},{"$f":"IF($A42=\"\",\"\",IF(VLOOKUP($A42,Competitors!$A$2:$G$60,7,FALSE)=\"\",\"\",VLOOKUP($A42,Competitors!$A$2:$G$60,7,FALSE)))","v":""},{"$f":"IF($A42=\"\",\"\",IF(VLOOKUP($A42,Competitors!$A$2:$G$60,5,FALSE)=\"\",\"\",VLOOKUP($A42,Competitors!$A$2:$G$60,5,FALSE)))","v":""},{"$f":"IF($A42=\"\",\"\",IF(VLOOKUP($A42,Competitors!$A$2:$G$60,6,FALSE)=\"\",\"\",VLOOKUP($A42,Competitors!$A$2:$G$60,6,FALSE)))","v":"senior"},{"$f":"IF($A42=\"\",\"\",IF(VLOOKUP($A42,Competitors!$A$2:$G$60,3,FALSE)=\"\",\"\",VLOOKUP($A42,Competitors!$A$2:$G$60,3,FALSE)))","v":""},{"$f":"IF($A42=\"\",\"\",IF(VLOOKUP($A42,Competitors!$A$2:$G$60,4,FALSE)=\"\",\"\",VLOOKUP($A42,Competitors!$A$2:$G$60,4,FALSE)))","v":""},{"$f":"IF(VLOOKUP(A42,Competitors!$A$1:$H$41,8,FALSE)=\"\",\"\",VLOOKUP(A42,Competitors!$A$1:$H$41,8,FALSE))","v":""},{"$f":"IF(IFERROR(VLOOKUP(($B$2&\"_\"&$A42),'Time Entry Sheet'!$A$3:$I$499,9,0),\"Error\")=\"Error\",\"\",IF(VLOOKUP(($B$2&\"_\"&$A42),'Time Entry Sheet'!$A$3:$I$499,9,FALSE)=\"wd\",\"wd\",VLOOKUP(($B$2&\"_\"&$A42),'Time Entry Sheet'!$A$3:$I$499,9,FALSE)*1))","v":""},"",{"$f":"IF(IFERROR(VLOOKUP(($B$2&\"_\"&$A42),'Time Entry Sheet'!$A$3:$I$499,8,FALSE),\"Error\")=\"Error\",\"\",IF(VLOOKUP(($B$2&\"_\"&$A42),'Time Entry Sheet'!$A$3:$I$499,8,FALSE)=\"\",\"\",VLOOKUP(($B$2&\"_\"&$A42),'Time Entry Sheet'!$A$3:$I$499,8,FALSE)))","v":""},{"$f":"IF(IFERROR(VLOOKUP(($B$2&\"_\"&$A42),'Time Entry Sheet'!$A$3:$I$499,7,FALSE),\"Error\")=\"Error\",\"\",IF(VLOOKUP(($B$2&\"_\"&$A42),'Time Entry Sheet'!$A$3:$I$499,7,FALSE)=\"\",\"\",VLOOKUP(($B$2&\"_\"&$A42),'Time Entry Sheet'!$A$3:$I$499,7,FALSE)))","v":""},"00:01:06.570","00:01:06.570",19,{"$f":"IF(A42=\"\",\"\",M42+VLOOKUP(A42,'Test 8'!$A$12:$Q$51,16,FALSE))","v":"00:10:46.040"},20,null,"","00:10:46.040"]
[32,{"$f":"IF($A43=\"\",\"\",IF(VLOOKUP($A43,Competitors!$A$2:$G$60,2,FALSE)=\"\",\"\",VLOOKUP($A43,Competitors!$A$2:$G$60,2,FALSE)))","v":""},{"$f":"IF($A43=\"\",\"\",IF(VLOOKUP($A43,Competitors!$A$2:$G$60,7,FALSE)=\"\",\"\",VLOOKUP($A43,Competitors!$A$2:$G$60,7,FALSE)))","v":""},{"$f":"IF($A43=\"\",\"\",IF(VLOOKUP($A43,Competitors!$A$2:$G$60,5,FALSE)=\"\",\"\",VLOOKUP($A43,Competitors!$A$2:$G$60,5,FALSE)))","v":""},{"$f":"IF($A43=\"\",\"\",IF(VLOOKUP($A43,Competitors!$A$2:$G$60,6,FALSE)=\"\",\"\",VLOOKUP($A43,Competitors!$A$2:$G$60,6,FALSE)))","v":"senior"},{"$f":"IF($A43=\"\",\"\",IF(VLOOKUP($A43,Competitors!$A$2:$G$60,3,FALSE)=\"\",\"\",VLOOKUP($A43,Competitors!$A$2:$G$60,3,FALSE)))","v":""},{"$f":"IF($A43=\"\",\"\",IF(VLOOKUP($A43,Competitors!$A$2:$G$60,4,FALSE)=\"\",\"\",VLOOKUP($A43,Competitors!$A$2:$G$60,4,FALSE)))","v":""},{"$f":"IF(VLOOKUP(A43,Competitors!$A$1:$H$41,8,FALSE)=\"\",\"\",VLOOKUP(A43,Competitors!$A$1:$H$41,8,FALSE))","v":""},{"$f":"IF(IFERROR(VLOOKUP(($B$2&\"_\"&$A43),'Time Entry Sheet'!$A$3:$I$499,9,0),\"Error\")=\"Error\",\"\",IF(VLOOKUP(($B$2&\"_\"&$A43),'Time Entry Sheet'!$A$3:$I$499,9,FALSE)=\"wd\",\"wd\",VLOOKUP(($B$2&\"_\"&$A43),'Time Entry Sheet'!$A$3:$I$499,9,FALSE)*1))","v":""},"",{"$f":"IF(IFERROR(VLOOKUP(($B$2&\"_\"&$A43),'Time Entry Sheet'!$A$3:$I$499,8,FALSE),\"Error\")=\"Error\",\"\",IF(VLOOKUP(($B$2&\"_\"&$A43),'Time Entry Sheet'!$A$3:$I$499,8,FALSE)=\"\",\"\",VLOOKUP(($B$2&\"_\"&$A43),'Time Entry Sheet'!$A$3:$I$499,8,FALSE)))","v":""},{"$f":"IF(IFERROR(VLOOKUP(($B$2&\"_\"&$A43),'Time Entry Sheet'!$A$3:$I$499,7,FALSE),\"Error\")=\"Error\",\"\",IF(VLOOKUP(($B$2&\"_\"&$A43),'Time Entry Sheet'!$A$3:$I$499,7,FALSE)=\"\",\"\",VLOOKUP(($B$2&\"_\"&$A43),'Time Entry Sheet'!$A$3:$I$499,7,FALSE)))","v":""},"00:01:06.570","00:01:06.570",19,{"$f":"IF(A43=\"\",\"\",M43+VLOOKUP(A43,'Test 8'!$A$12:$Q$51,16,FALSE))","v":"00:10:46.040"},20,null,"","00:10:46.040"]
[33,{"$f":"IF($A44=\"\",\"\",IF(VLOOKUP($A44,Competitors!$A$2:$G$60,2,FALSE)=\"\",\"\",VLOOKUP($A44,Competitors!$A$2:$G$60,2,FALSE)))","v":""},{"$f":"IF($A44=\"\",\"\",IF(VLOOKUP($A44,Competitors!$A$2:$G$60,7,FALSE)=\"\",\"\",VLOOKUP($A44,Competitors!$A$2:$G$60,7,FALSE)))","v":""},{"$f":"IF($A44=\"\",\"\",IF(VLOOKUP($A44,Competitors!$A$2:$G$60,5,FALSE)=\"\",\"\",VLOOKUP($A44,Competitors!$A$2:$G$60,5,FALSE)))","v":""},{"$f":"IF($A44=\"\",\"\",IF(VLOOKUP($A44,Competitors!$A$2:$G$60,6,FALSE)=\"\",\"\",VLOOKUP($A44,Competitors!$A$2:$G$60,6,FALSE)))","v":"senior"},{"$f":"IF($A44=\"\",\"\",IF(VLOOKUP($A44,Competitors!$A$2:$G$60,3,FALSE)=\"\",\"\",VLOOKUP($A44,Competitors!$A$2:$G$60,3,FALSE)))","v":""},{"$f":"IF($A44=\"\",\"\",IF(VLOOKUP($A44,Competitors!$A$2:$G$60,4,FALSE)=\"\",\"\",VLOOKUP($A44,Competitors!$A$2:$G$60,4,FALSE)))","v":""},{"$f":"IF(VLOOKUP(A44,Competitors!$A$1:$H$41,8,FALSE)=\"\",\"\",VLOOKUP(A44,Competitors!$A$1:$H$41,8,FALSE))","v":""},{"$f":"IF(IFERROR(VLOOKUP(($B$2&\"_\"&$A44),'Time Entry Sheet'!$A$3:$I$499,9,0),\"Error\")=\"Error\",\"\",IF(VLOOKUP(($B$2&\"_\"&$A44),'Time Entry Sheet'!$A$3:$I$499,9,FALSE)=\"wd\",\"wd\",VLOOKUP(($B$2&\"_\"&$A44),'Time Entry Sheet'!$A$3:$I$499,9,FALSE)*1))","v":""},"",{"$f":"IF(IFERROR(VLOOKUP(($B$2&\"_\"&$A44),'Time Entry Sheet'!$A$3:$I$499,8,FALSE),\"Error\")=\"Error\",\"\",IF(VLOOKUP(($B$2&\"_\"&$A44),'Time Entry Sheet'!$A$3:$I$499,8,FALSE)=\"\",\"\",VLOOKUP(($B$2&\"_\"&$A44),'Time Entry Sheet'!$A$3:$I$499,8,FALSE)))","v":""},{"$f":"IF(IFERROR(VLOOKUP(($B$2&\"_\"&$A44),'Time Entry Sheet'!$A$3:$I$499,7,FALSE),\"Error\")=\"Error\",\"\",IF(VLOOKUP(($B$2&\"_\"&$A44),'Time Entry Sheet'!$A$3:$I$499,7,FALSE)=\"\",\"\",VLOOKUP(($B$2&\"_\"&$A44),'Time Entry Sheet'!$A$3:$I$499,7,FALSE)))","v":""},"00:01:06.570","00:01:06.570",19,{"$f":"IF(A44=\"\",\"\",M44+VLOOKUP(A44,'Test 8'!$A$12:$Q$51,16,FALSE))","v":"00:10:46.040"},20,null,"","00:10:46.040"]
[34,{"$f":"IF($A45=\"\",\"\",IF(VLOOKUP($A45,Competitors!$A$2:$G$60,2,FALSE)=\"\",\"\",VLOOKUP($A45,Competitors!$A$2:$G$60,2,FALSE)))","v":""},{"$f":"IF($A45=\"\",\"\",IF(VLOOKUP($A45,Competitors!$A$2:$G$60,7,FALSE)=\"\",\"\",VLOOKUP($A45,Competitors!$A$2:$G$60,7,FALSE)))","v":""},{"$f":"IF($A45=\"\",\"\",IF(VLOOKUP($A45,Competitors!$A$2:$G$60,5,FALSE)=\"\",\"\",VLOOKUP($A45,Competitors!$A$2:$G$60,5,FALSE)))","v":""},{"$f":"IF($A45=\"\",\"\",IF(VLOOKUP($A45,Competitors!$A$2:$G$60,6,FALSE)=\"\",\"\",VLOOKUP($A45,Competitors!$A$2:$G$60,6,FALSE)))","v":"senior"},{"$f":"IF($A45=\"\",\"\",IF(VLOOKUP($A45,Competitors!$A$2:$G$60,3,FALSE)=\"\",\"\",VLOOKUP($A45,Competitors!$A$2:$G$60,3,FALSE)))","v":""},{"$f":"IF($A45=\"\",\"\",IF(VLOOKUP($A45,Competitors!$A$2:$G$60,4,FALSE)=\"\",\"\",VLOOKUP($A45,Competitors!$A$2:$G$60,4,FALSE)))","v":""},{"$f":"IF(VLOOKUP(A45,Competitors!$A$1:$H$41,8,FALSE)=\"\",\"\",VLOOKUP(A45,Competitors!$A$1:$H$41,8,FALSE))","v":""},{"$f":"IF(IFERROR(VLOOKUP(($B$2&\"_\"&$A45),'Time Entry Sheet'!$A$3:$I$499,9,0),\"Error\")=\"Error\",\"\",IF(VLOOKUP(($B$2&\"_\"&$A45),'Time Entry Sheet'!$A$3:$I$499,9,FALSE)=\"wd\",\"wd\",VLOOKUP(($B$2&\"_\"&$A45),'Time Entry Sheet'!$A$3:$I$499,9,FALSE)*1))","v":""},"",{"$f":"IF(IFERROR(VLOOKUP(($B$2&\"_\"&$A45),'Time Entry Sheet'!$A$3:$I$499,8,FALSE),\"Error\")=\"Error\",\"\",IF(VLOOKUP(($B$2&\"_\"&$A45),'Time Entry Sheet'!$A$3:$I$499,8,FALSE)=\"\",\"\",VLOOKUP(($B$2&\"_\"&$A45),'Time Entry Sheet'!$A$3:$I$499,8,FALSE)))","v":""},{"$f":"IF(IFERROR(VLOOKUP(($B$2&\"_\"&$A45),'Time Entry Sheet'!$A$3:$I$499,7,FALSE),\"Error\")=\"Error\",\"\",IF(VLOOKUP(($B$2&\"_\"&$A45),'Time Entry Sheet'!$A$3:$I$499,7,FALSE)=\"\",\"\",VLOOKUP(($B$2&\"_\"&$A45),'Time Entry Sheet'!$A$3:$I$499,7,FALSE)))","v":""},"00:01:06.570","00:01:06.570",19,{"$f":"IF(A45=\"\",\"\",M45+VLOOKUP(A45,'Test 8'!$A$12:$Q$51,16,FALSE))","v":"00:10:46.040"},20,null,"","00:10:46.040"]
[35,{"$f":"IF($A46=\"\",\"\",IF(VLOOKUP($A46,Competitors!$A$2:$G$60,2,FALSE)=\"\",\"\",VLOOKUP($A46,Competitors!$A$2:$G$60,2,FALSE)))","v":""},{"$f":"IF($A46=\"\",\"\",IF(VLOOKUP($A46,Competitors!$A$2:$G$60,7,FALSE)=\"\",\"\",VLOOKUP($A46,Competitors!$A$2:$G$60,7,FALSE)))","v":""},{"$f":"IF($A46=\"\",\"\",IF(VLOOKUP($A46,Competitors!$A$2:$G$60,5,FALSE)=\"\",\"\",VLOOKUP($A46,Competitors!$A$2:$G$60,5,FALSE)))","v":""},{"$f":"IF($A46=\"\",\"\",IF(VLOOKUP($A46,Competitors!$A$2:$G$60,6,FALSE)=\"\",\"\",VLOOKUP($A46,Competitors!$A$2:$G$60,6,FALSE)))","v":"senior"},{"$f":"IF($A46=\"\",\"\",IF(VLOOKUP($A46,Competitors!$A$2:$G$60,3,FALSE)=\"\",\"\",VLOOKUP($A46,Competitors!$A$2:$G$60,3,FALSE)))","v":""},{"$f":"IF($A46=\"\",\"\",IF(VLOOKUP($A46,Competitors!$A$2:$G$60,4,FALSE)=\"\",\"\",VLOOKUP($A46,Competitors!$A$2:$G$60,4,FALSE)))","v":""},{"$f":"IF(VLOOKUP(A46,Competitors!$A$1:$H$41,8,FALSE)=\"\",\"\",VLOOKUP(A46,Competitors!$A$1:$H$41,8,FALSE))","v":""},{"$f":"IF(IFERROR(VLOOKUP(($B$2&\"_\"&$A46),'Time Entry Sheet'!$A$3:$I$499,9,0),\"Error\")=\"Error\",\"\",IF(VLOOKUP(($B$2&\"_\"&$A46),'Time Entry Sheet'!$A$3:$I$499,9,FALSE)=\"wd\",\"wd\",VLOOKUP(($B$2&\"_\"&$A46),'Time Entry Sheet'!$A$3:$I$499,9,FALSE)*1))","v":""},"",{"$f":"IF(IFERROR(VLOOKUP(($B$2&\"_\"&$A46),'Time Entry Sheet'!$A$3:$I$499,8,FALSE),\"Error\")=\"Error\",\"\",IF(VLOOKUP(($B$2&\"_\"&$A46),'Time Entry Sheet'!$A$3:$I$499,8,FALSE)=\"\",\"\",VLOOKUP(($B$2&\"_\"&$A46),'Time Entry Sheet'!$A$3:$I$499,8,FALSE)))","v":""},{"$f":"IF(IFERROR(VLOOKUP(($B$2&\"_\"&$A46),'Time Entry Sheet'!$A$3:$I$499,7,FALSE),\"Error\")=\"Error\",\"\",IF(VLOOKUP(($B$2&\"_\"&$A46),'Time Entry Sheet'!$A$3:$I$499,7,FALSE)=\"\",\"\",VLOOKUP(($B$2&\"_\"&$A46),'Time Entry Sheet'!$A$3:$I$499,7,FALSE)))","v":""},"00:01:06.570","00:01:06.570",19,{"$f":"IF(A46=\"\",\"\",M46+VLOOKUP(A46,'Test 8'!$A$12:$Q$51,16,FALSE))","v":"00:10:46.040"},20,null,"","00:10:46.040"]
[36,{"$f":"IF($A47=\"\",\"\",IF(VLOOKUP($A47,Competitors!$A$2:$G$60,2,FALSE)=\"\",\"\",VLOOKUP($A47,Competitors!$A$2:$G$60,2,FALSE)))","v":""},{"$f":"IF($A47=\"\",\"\",IF(VLOOKUP($A47,Competitors!$A$2:$G$60,7,FALSE)=\"\",\"\",VLOOKUP($A47,Competitors!$A$2:$G$60,7,FALSE)))","v":""},{"$f":"IF($A47=\"\",\"\",IF(VLOOKUP($A47,Competitors!$A$2:$G$60,5,FALSE)=\"\",\"\",VLOOKUP($A47,Competitors!$A$2:$G$60,5,FALSE)))","v":""},{"$f":"IF($A47=\"\",\"\",IF(VLOOKUP($A47,Competitors!$A$2:$G$60,6,FALSE)=\"\",\"\",VLOOKUP($A47,Competitors!$A$2:$G$60,6,FALSE)))","v":"senior"},{"$f":"IF($A47=\"\",\"\",IF(VLOOKUP($A47,Competitors!$A$2:$G$60,3,FALSE)=\"\",\"\",VLOOKUP($A47,Competitors!$A$2:$G$60,3,FALSE)))","v":""},{"$f":"IF($A47=\"\",\"\",IF(VLOOKUP($A47,Competitors!$A$2:$G$60,4,FALSE)=\"\",\"\",VLOOKUP($A47,Competitors!$A$2:$G$60,4,FALSE)))","v":""},{"$f":"IF(VLOOKUP(A47,Competitors!$A$1:$H$41,8,FALSE)=\"\",\"\",VLOOKUP(A47,Competitors!$A$1:$H$41,8,FALSE))","v":""},{"$f":"IF(IFERROR(VLOOKUP(($B$2&\"_\"&$A47),'Time Entry Sheet'!$A$3:$I$499,9,0),\"Error\")=\"Error\",\"\",IF(VLOOKUP(($B$2&\"_\"&$A47),'Time Entry Sheet'!$A$3:$I$499,9,FALSE)=\"wd\",\"wd\",VLOOKUP(($B$2&\"_\"&$A47),'Time Entry Sheet'!$A$3:$I$499,9,FALSE)*1))","v":""},"",{"$f":"IF(IFERROR(VLOOKUP(($B$2&\"_\"&$A47),'Time Entry Sheet'!$A$3:$I$499,8,FALSE),\"Error\")=\"Error\",\"\",IF(VLOOKUP(($B$2&\"_\"&$A47),'Time Entry Sheet'!$A$3:$I$499,8,FALSE)=\"\",\"\",VLOOKUP(($B$2&\"_\"&$A47),'Time Entry Sheet'!$A$3:$I$499,8,FALSE)))","v":""},{"$f":"IF(IFERROR(VLOOKUP(($B$2&\"_\"&$A47),'Time Entry Sheet'!$A$3:$I$499,7,FALSE),\"Error\")=\"Error\",\"\",IF(VLOOKUP(($B$2&\"_\"&$A47),'Time Entry Sheet'!$A$3:$I$499,7,FALSE)=\"\",\"\",VLOOKUP(($B$2&\"_\"&$A47),'Time Entry Sheet'!$A$3:$I$499,7,FALSE)))","v":""},"00:01:06.570","00:01:06.570",19,{"$f":"IF(A47=\"\",\"\",M47+VLOOKUP(A47,'Test 8'!$A$12:$Q$51,16,FALSE))","v":"00:10:46.040"},20,null,"","00:10:46.040"]
[37,{"$f":"IF($A48=\"\",\"\",IF(VLOOKUP($A48,Competitors!$A$2:$G$60,2,FALSE)=\"\",\"\",VLOOKUP($A48,Competitors!$A$2:$G$60,2,FALSE)))","v":""},{"$f":"IF($A48=\"\",\"\",IF(VLOOKUP($A48,Competitors!$A$2:$G$60,7,FALSE)=\"\",\"\",VLOOKUP($A48,Competitors!$A$2:$G$60,7,FALSE)))","v":""},{"$f":"IF($A48=\"\",\"\",IF(VLOOKUP($A48,Competitors!$A$2:$G$60,5,FALSE)=\"\",\"\",VLOOKUP($A48,Competitors!$A$2:$G$60,5,FALSE)))","v":""},{"$f":"IF($A48=\"\",\"\",IF(VLOOKUP($A48,Competitors!$A$2:$G$60,6,FALSE)=\"\",\"\",VLOOKUP($A48,Competitors!$A$2:$G$60,6,FALSE)))","v":"senior"},{"$f":"IF($A48=\"\",\"\",IF(VLOOKUP($A48,Competitors!$A$2:$G$60,3,FALSE)=\"\",\"\",VLOOKUP($A48,Competitors!$A$2:$G$60,3,FALSE)))","v":""},{"$f":"IF($A48=\"\",\"\",IF(VLOOKUP($A48,Competitors!$A$2:$G$60,4,FALSE)=\"\",\"\",VLOOKUP($A48,Competitors!$A$2:$G$60,4,FALSE)))","v":""},{"$f":"IF(VLOOKUP(A48,Competitors!$A$1:$H$41,8,FALSE)=\"\",\"\",VLOOKUP(A48,Competitors!$A$1:$H$41,8,FALSE))","v":""},{"$f":"IF(IFERROR(VLOOKUP(($B$2&\"_\"&$A48),'Time Entry Sheet'!$A$3:$I$499,9,0),\"Error\")=\"Error\",\"\",IF(VLOOKUP(($B$2&\"_\"&$A48),'Time Entry Sheet'!$A$3:$I$499,9,FALSE)=\"wd\",\"wd\",VLOOKUP(($B$2&\"_\"&$A48),'Time Entry Sheet'!$A$3:$I$499,9,FALSE)*1))","v":""},"",{"$f":"IF(IFERROR(VLOOKUP(($B$2&\"_\"&$A48),'Time Entry Sheet'!$A$3:$I$499,8,FALSE),\"Error\")=\"Error\",\"\",IF(VLOOKUP(($B$2&\"_\"&$A48),'Time Entry Sheet'!$A$3:$I$499,8,FALSE)=\"\",\"\",VLOOKUP(($B$2&\"_\"&$A48),'Time Entry Sheet'!$A$3:$I$499,8,FALSE)))","v":""},{"$f":"IF(IFERROR(VLOOKUP(($B$2&\"_\"&$A48),'Time Entry Sheet'!$A$3:$I$499,7,FALSE),\"Error\")=\"Error\",\"\",IF(VLOOKUP(($B$2&\"_\"&$A48),'Time Entry Sheet'!$A$3:$I$499,7,FALSE)=\"\",\"\",VLOOKUP(($B$2&\"_\"&$A48),'Time Entry Sheet'!$A$3:$I$499,7,FALSE)))","v":""},{"$f":"IF(A48=\"\",\"\",IF(I48=\"wd\",IF(E48=\"Senior\",$B$7,$C$7),IF(L48<>\"\",$B$7,IF(I48=\"\",IF(E48=\"Senior\",$B$8,$C$8),IF(K48=\"\",I48,I48+($B$5*K48))))))","v":"00:01:06.570"},"00:01:06.570",19,{"$f":"IF(A48=\"\",\"\",M48+VLOOKUP(A48,'Test 8'!$A$12:$Q$51,16,FALSE))","v":"00:10:46.040"},20,null,"","00:10:46.040"]
[38,{"$f":"IF($A49=\"\",\"\",IF(VLOOKUP($A49,Competitors!$A$2:$G$60,2,FALSE)=\"\",\"\",VLOOKUP($A49,Competitors!$A$2:$G$60,2,FALSE)))","v":""},{"$f":"IF($A49=\"\",\"\",IF(VLOOKUP($A49,Competitors!$A$2:$G$60,7,FALSE)=\"\",\"\",VLOOKUP($A49,Competitors!$A$2:$G$60,7,FALSE)))","v":""},{"$f":"IF($A49=\"\",\"\",IF(VLOOKUP($A49,Competitors!$A$2:$G$60,5,FALSE)=\"\",\"\",VLOOKUP($A49,Competitors!$A$2:$G$60,5,FALSE)))","v":""},{"$f":"IF($A49=\"\",\"\",IF(VLOOKUP($A49,Competitors!$A$2:$G$60,6,FALSE)=\"\",\"\",VLOOKUP($A49,Competitors!$A$2:$G$60,6,FALSE)))","v":"senior"},{"$f":"IF($A49=\"\",\"\",IF(VLOOKUP($A49,Competitors!$A$2:$G$60,3,FALSE)=\"\",\"\",VLOOKUP($A49,Competitors!$A$2:$G$60,3,FALSE)))","v":""},{"$f":"IF($A49=\"\",\"\",IF(VLOOKUP($A49,Competitors!$A$2:$G$60,4,FALSE)=\"\",\"\",VLOOKUP($A49,Competitors!$A$2:$G$60,4,FALSE)))","v":""},{"$f":"IF(VLOOKUP(A49,Competitors!$A$1:$H$41,8,FALSE)=\"\",\"\",VLOOKUP(A49,Competitors!$A$1:$H$41,8,FALSE))","v":""},{"$f":"IF(IFERROR(VLOOKUP(($B$2&\"_\"&$A49),'Time Entry Sheet'!$A$3:$I$499,9,0),\"Error\")=\"Error\",\"\",IF(VLOOKUP(($B$2&\"_\"&$A49),'Time Entry Sheet'!$A$3:$I$499,9,FALSE)=\"wd\",\"wd\",VLOOKUP(($B$2&\"_\"&$A49),'Time Entry Sheet'!$A$3:$I$499,9,FALSE)*1))","v":""},"",{"$f":"IF(IFERROR(VLOOKUP(($B$2&\"_\"&$A49),'Time Entry Sheet'!$A$3:$I$499,8,FALSE),\"Error\")=\"Error\",\"\",IF(VLOOKUP(($B$2&\"_\"&$A49),'Time Entry Sheet'!$A$3:$I$499,8,FALSE)=\"\",\"\",VLOOKUP(($B$2&\"_\"&$A49),'Time Entry Sheet'!$A$3:$I$499,8,FALSE)))","v":""},{"$f":"IF(IFERROR(VLOOKUP(($B$2&\"_\"&$A49),'Time Entry Sheet'!$A$3:$I$499,7,FALSE),\"Error\")=\"Error\",\"\",IF(VLOOKUP(($B$2&\"_\"&$A49),'Time Entry Sheet'!$A$3:$I$499,7,FALSE)=\"\",\"\",VLOOKUP(($B$2&\"_\"&$A49),'Time Entry Sheet'!$A$3:$I$499,7,FALSE)))","v":""},"00:01:06.570","00:01:06.570",19,{"$f":"IF(A49=\"\",\"\",M49+VLOOKUP(A49,'Test 8'!$A$12:$Q$51,16,FALSE))","v":"00:10:46.040"},20,null,"","00:10:46.040"]
[39,{"$f":"IF($A50=\"\",\"\",IF(VLOOKUP($A50,Competitors!$A$2:$G$60,2,FALSE)=\"\",\"\",VLOOKUP($A50,Competitors!$A$2:$G$60,2,FALSE)))","v":""},{"$f":"IF($A50=\"\",\"\",IF(VLOOKUP($A50,Competitors!$A$2:$G$60,7,FALSE)=\"\",\"\",VLOOKUP($A50,Competitors!$A$2:$G$60,7,FALSE)))","v":""},{"$f":"IF($A50=\"\",\"\",IF(VLOOKUP($A50,Competitors!$A$2:$G$60,5,FALSE)=\"\",\"\",VLOOKUP($A50,Competitors!$A$2:$G$60,5,FALSE)))","v":""},{"$f":"IF($A50=\"\",\"\",IF(VLOOKUP($A50,Competitors!$A$2:$G$60,6,FALSE)=\"\",\"\",VLOOKUP($A50,Competitors!$A$2:$G$60,6,FALSE)))","v":"senior"},{"$f":"IF($A50=\"\",\"\",IF(VLOOKUP($A50,Competitors!$A$2:$G$60,3,FALSE)=\"\",\"\",VLOOKUP($A50,Competitors!$A$2:$G$60,3,FALSE)))","v":""},{"$f":"IF($A50=\"\",\"\",IF(VLOOKUP($A50,Competitors!$A$2:$G$60,4,FALSE)=\"\",\"\",VLOOKUP($A50,Competitors!$A$2:$G$60,4,FALSE)))","v":""},{"$f":"IF(VLOOKUP(A50,Competitors!$A$1:$H$41,8,FALSE)=\"\",\"\",VLOOKUP(A50,Competitors!$A$1:$H$41,8,FALSE))","v":""},{"$f":"IF(IFERROR(VLOOKUP(($B$2&\"_\"&$A50),'Time Entry Sheet'!$A$3:$I$499,9,0),\"Error\")=\"Error\",\"\",IF(VLOOKUP(($B$2&\"_\"&$A50),'Time Entry Sheet'!$A$3:$I$499,9,FALSE)=\"wd\",\"wd\",VLOOKUP(($B$2&\"_\"&$A50),'Time Entry Sheet'!$A$3:$I$499,9,FALSE)*1))","v":""},"",{"$f":"IF(IFERROR(VLOOKUP(($B$2&\"_\"&$A50),'Time Entry Sheet'!$A$3:$I$499,8,FALSE),\"Error\")=\"Error\",\"\",IF(VLOOKUP(($B$2&\"_\"&$A50),'Time Entry Sheet'!$A$3:$I$499,8,FALSE)=\"\",\"\",VLOOKUP(($B$2&\"_\"&$A50),'Time Entry Sheet'!$A$3:$I$499,8,FALSE)))","v":""},{"$f":"IF(IFERROR(VLOOKUP(($B$2&\"_\"&$A50),'Time Entry Sheet'!$A$3:$I$499,7,FALSE),\"Error\")=\"Error\",\"\",IF(VLOOKUP(($B$2&\"_\"&$A50),'Time Entry Sheet'!$A$3:$I$499,7,FALSE)=\"\",\"\",VLOOKUP(($B$2&\"_\"&$A50),'Time Entry Sheet'!$A$3:$I$499,7,FALSE)))","v":""},"00:01:06.570","00:01:06.570",19,{"$f":"IF(A50=\"\",\"\",M50+VLOOKUP(A50,'Test 8'!$A$12:$Q$51,16,FALSE))","v":"00:10:46.040"},20,null,null,"00:10:46.040"]
[40,{"$f":"IF($A51=\"\",\"\",IF(VLOOKUP($A51,Competitors!$A$2:$G$60,2,FALSE)=\"\",\"\",VLOOKUP($A51,Competitors!$A$2:$G$60,2,FALSE)))","v":""},{"$f":"IF($A51=\"\",\"\",IF(VLOOKUP($A51,Competitors!$A$2:$G$60,7,FALSE)=\"\",\"\",VLOOKUP($A51,Competitors!$A$2:$G$60,7,FALSE)))","v":""},{"$f":"IF($A51=\"\",\"\",IF(VLOOKUP($A51,Competitors!$A$2:$G$60,5,FALSE)=\"\",\"\",VLOOKUP($A51,Competitors!$A$2:$G$60,5,FALSE)))","v":""},{"$f":"IF($A51=\"\",\"\",IF(VLOOKUP($A51,Competitors!$A$2:$G$60,6,FALSE)=\"\",\"\",VLOOKUP($A51,Competitors!$A$2:$G$60,6,FALSE)))","v":"senior"},{"$f":"IF($A51=\"\",\"\",IF(VLOOKUP($A51,Competitors!$A$2:$G$60,3,FALSE)=\"\",\"\",VLOOKUP($A51,Competitors!$A$2:$G$60,3,FALSE)))","v":""},{"$f":"IF($A51=\"\",\"\",IF(VLOOKUP($A51,Competitors!$A$2:$G$60,4,FALSE)=\"\",\"\",VLOOKUP($A51,Competitors!$A$2:$G$60,4,FALSE)))","v":""},{"$f":"IF(VLOOKUP(A51,Competitors!$A$1:$H$41,8,FALSE)=\"\",\"\",VLOOKUP(A51,Competitors!$A$1:$H$41,8,FALSE))","v":""},{"$f":"IF(IFERROR(VLOOKUP(($B$2&\"_\"&$A51),'Time Entry Sheet'!$A$3:$I$499,9,0),\"Error\")=\"Error\",\"\",IF(VLOOKUP(($B$2&\"_\"&$A51),'Time Entry Sheet'!$A$3:$I$499,9,FALSE)=\"wd\",\"wd\",VLOOKUP(($B$2&\"_\"&$A51),'Time Entry Sheet'!$A$3:$I$499,9,FALSE)*1))","v":""},"",{"$f":"IF(IFERROR(VLOOKUP(($B$2&\"_\"&$A51),'Time Entry Sheet'!$A$3:$I$499,8,FALSE),\"Error\")=\"Error\",\"\",IF(VLOOKUP(($B$2&\"_\"&$A51),'Time Entry Sheet'!$A$3:$I$499,8,FALSE)=\"\",\"\",VLOOKUP(($B$2&\"_\"&$A51),'Time Entry Sheet'!$A$3:$I$499,8,FALSE)))","v":""},{"$f":"IF(IFERROR(VLOOKUP(($B$2&\"_\"&$A51),'Time Entry Sheet'!$A$3:$I$499,7,FALSE),\"Error\")=\"Error\",\"\",IF(VLOOKUP(($B$2&\"_\"&$A51),'Time Entry Sheet'!$A$3:$I$499,7,FALSE)=\"\",\"\",VLOOKUP(($B$2&\"_\"&$A51),'Time Entry Sheet'!$A$3:$I$499,7,FALSE)))","v":""},"00:01:06.570","00:01:06.570",19,{"$f":"IF(A51=\"\",\"\",M51+VLOOKUP(A51,'Test 8'!$A$12:$Q$51,16,FALSE))","v":"00:10:46.040"},20,null,null,"00:10:46.040"]

{"sheet":"Test 10","index":27,"n_rows":51,"n_cols":20,"rows_kept":51,"cut":false,"hidden":false,"merged":[[0,8,0,10]]}
[]
["TEST",10,null,null,null,null,null,null,null,null,"PROVISIONAL RESULTS",null,{"$f":"NOW()","v":42690.814244444446},null,{"$f":"NOW()","v":"2016-11-16T19:32:30.720"}]
["Date:","2015-10-31",null,null,null,null,null,null,null,null,null,"Junior",{"$f":"MIN( IF( $E$8:$E$51=L3, $S$8:$S$51 ) )","v":"00:00:00"},null,"FASTEST"]
["10 sec penalty","00:00:10",null,null,null,null,null,null,null,null,null,"Junior",{"$f":"MAX( IF( $E$8:$E$51=L4, $S$8:$S$51 ) )","v":"00:00:00"},null,"SLOWEST"]
["Flag penalty","00:00:05",null,null,null,null,"SENIOR"]
[null,null,null,null,null,null,"Fastest test time x 2",null,{"$f":"M6*2","v":"00:01:45.100"},null,null,"Senior",{"$f":"MIN( IF( E11:E51=L6, J11:J51 ) )","v":"00:00:52.550"},null,"FASTEST"]
["Slowest test time + 5 second penalty",{"$f":"MIN($I$6,$I$7)+$B$5","v":"00:01:24.050"},{"$f":"MIN($I$9:$I$10)+$B$5","v":"00:00:05"},null,null,null,"Slowest test time",null,{"$f":"M7","v":"00:01:19.050"},null,null,"Senior",{"$f":"MAX( IF( E11:E51=L7, J11:J51 ) )","v":"00:01:19.050"},null,"SLOWEST"]
["Failure to Attempt Course (Slowest time + 10 sec)",{"$f":"SUM($I$7,$B$4)","v":"00:01:29.050"},{"$f":"SUM($I$10,$B$4)","v":"00:00:10"},null,null,null,"JUNIOR"]
[null,null,null,null,null,null,"Fastest test time x 2",null,{"$f":"M3*2","v":"00:00:00"}]
[null,null,null,null,null,null,"Slowest test time",null,{"$f":"M4","v":"00:00:00"}]
["Car Number","Driver","Rookie?","Female Driver?","Junior Driver?","Vehicle","Class","Senior with Passenger?","Time Taken (MM:SS.00)","Time Taken-PenaltyCalculator (MM:SS.00)","No. of Flags &/or Finishes partly out of garage","Slowest time + 5 sec penalty type","Total Test 10 Time","Total Test 1 Time for ranking","Test 10 Position","Cumulative Time Taken (MM:SS.00)","Cumulative Outright Position","Comments","Time Taken-PenaltyCalculator Junior(MM:SS.00)","Cumulative Time Taken (MM:SS.00) for ranking"]
[1,{"$f":"IF($A12=\"\",\"\",IF(VLOOKUP($A12,Competitors!$A$2:$G$60,2,FALSE)=\"\",\"\",VLOOKUP($A12,Competitors!$A$2:$G$60,2,FALSE)))","v":"Paul Dunn"},{"$f":"IF($A12=\"\",\"\",IF(VLOOKUP($A12,Competitors!$A$2:$G$60,7,FALSE)=\"\",\"\",VLOOKUP($A12,Competitors!$A$2:$G$60,7,FALSE)))","v":""},{"$f":"IF($A12=\"\",\"\",IF(VLOOKUP($A12,Competitors!$A$2:$G$60,5,FALSE)=\"\",\"\",VLOOKUP($A12,Competitors!$A$2:$G$60,5,FALSE)))","v":""},{"$f":"IF($A12=\"\",\"\",IF(VLOOKUP($A12,Competitors!$A$2:$G$60,6,FALSE)=\"\",\"\",VLOOKUP($A12,Competitors!$A$2:$G$60,6,FALSE)))","v":"senior"},{"$f":"IF($A12=\"\",\"\",IF(VLOOKUP($A12,Competitors!$A$2:$G$60,3,FALSE)=\"\",\"\",VLOOKUP($A12,Competitors!$A$2:$G$60,3,FALSE)))","v":"Excel"},{"$f":"IF($A12=\"\",\"\",IF(VLOOKUP($A12,Competitors!$A$2:$G$60,4,FALSE)=\"\",\"\",VLOOKUP($A12,Competitors!$A$2:$G$60,4,FALSE)))","v":""},{"$f":"IF(VLOOKUP(A12,Competitors!$A$1:$H$41,8,FALSE)=\"\",\"\",VLOOKUP(A12,Competitors!$A$1:$H$41,8,FALSE))","v":""},{"$f":"IF(IFERROR(VLOOKUP(($B$2&\"_\"&$A12),'Time Entry Sheet'!$A$3:$I$499,9,0),\"Error\")=\"Error\",\"\",IF(VLOOKUP(($B$2&\"_\"&$A12),'Time Entry Sheet'!$A$3:$I$499,9,FALSE)=\"wd\",\"wd\",VLOOKUP(($B$2&\"_\"&$A12),'Time Entry Sheet'!$A$3:$I$499,9,FALSE)*1))","v":"00:00:52.550"},{"$f":"IF(E12=\"Junior\",\"\",IF(I12=\"wd\",\"\",IF(K12<>\"\",\"\",I12)))","v":"00:00:52.550"},{"$f":"IF(IFERROR(VLOOKUP(($B$2&\"_\"&$A12),'Time Entry Sheet'!$A$3:$I$499,8,FALSE),\"Error\")=\"Error\",\"\",IF(VLOOKUP(($B$2&\"_\"&$A12),'Time Entry Sheet'!$A$3:$I$499,8,FALSE)=\"\",\"\",VLOOKUP(($B$2&\"_\"&$A12),'Time Entry Sheet'!$A$3:$I$499,8,FALSE)))","v":""},{"$f":"IF(IFERROR(VLOOKUP(($B$2&\"_\"&$A12),'Time Entry Sheet'!$A$3:$I$499,7,FALSE),\"Error\")=\"Error\",\"\",IF(VLOOKUP(($B$2&\"_\"&$A12),'Time Entry Sheet'!$A$3:$I$499,7,FALSE)=\"\",\"\",VLOOKUP(($B$2&\"_\"&$A12),'Time Entry Sheet'!$A$3:$I$499,7,FALSE)))","v":""},{"$f":"IF(A12=\"\",\"\",IF(I12=\"wd\",IF(E12=\"Senior\",$B$7,$C$7),IF(L12<>\"\",$B$7,IF(I12=\"\",IF(E12=\"Senior\",$B$8,$C$8),IF(K12=\"\",I12,I12+($B$5*K12))))))","v":"00:00:52.550"},{"$f":"IF(H12=\"Passenger\",\"\",M12)","v":"00:00:52.550"},{"$f":"IF(A12=\"\",\"\",IF(H12=\"Passenger\",\"P\",RANK(N12,$N$12:$N$51,1)))","v":1},{"$f":"IF(A12=\"\",\"\",M12+VLOOKUP(A12,'Test 9'!$A$12:$Q$59,16,FALSE))","v":"00:08:04.270"},{"$f":"IF(A12=\"\",\"\",IF(H12=\"Passenger\",\"P\",RANK(T12,$T$12:$T$51,1)))","v":2},null,{"$f":"IF(E12=\"Senior\",\"\",IF(I12=\"wd\",\"\",IF(K12<>\"\",\"\",I12)))","v":""},{"$f":"IF(H12=\"Passenger\",\"\",P12)","v":"00:08:04.270"}]
[2,{"$f":"IF($A13=\"\",\"\",IF(VLOOKUP($A13,Competitors!$A$2:$G$60,2,FALSE)=\"\",\"\",VLOOKUP($A13,Competitors!$A$2:$G$60,2,FALSE)))","v":"Stephen Thorne"},{"$f":"IF($A13=\"\",\"\",IF(VLOOKUP($A13,Competitors!$A$2:$G$60,7,FALSE)=\"\",\"\",VLOOKUP($A13,Competitors!$A$2:$G$60,7,FALSE)))","v":""},{"$f":"IF($A13=\"\",\"\",IF(VLOOKUP($A13,Competitors!$A$2:$G$60,5,FALSE)=\"\",\"\",VLOOKUP($A13,Competitors!$A$2:$G$60,5,FALSE)))","v":""},{"$f":"IF($A13=\"\",\"\",IF(VLOOKUP($A13,Competitors!$A$2:$G$60,6,FALSE)=\"\",\"\",VLOOKUP($A13,Competitors!$A$2:$G$60,6,FALSE)))","v":"senior"},{"$f":"IF($A13=\"\",\"\",IF(VLOOKUP($A13,Competitors!$A$2:$G$60,3,FALSE)=\"\",\"\",VLOOKUP($A13,Competitors!$A$2:$G$60,3,FALSE)))","v":""},{"$f":"IF($A13=\"\",\"\",IF(VLOOKUP($A13,Competitors!$A$2:$G$60,4,FALSE)=\"\",\"\",VLOOKUP($A13,Competitors!$A$2:$G$60,4,FALSE)))","v":""},{"$f":"IF(VLOOKUP(A13,Competitors!$A$1:$H$41,8,FALSE)=\"\",\"\",VLOOKUP(A13,Competitors!$A$1:$H$41,8,FALSE))","v":""},{"$f":"IF(IFERROR(VLOOKUP(($B$2&\"_\"&$A13),'Time Entry Sheet'!$A$3:$I$499,9,0),\"Error\")=\"Error\",\"\",IF(VLOOKUP(($B$2&\"_\"&$A13),'Time Entry Sheet'!$A$3:$I$499,9,FALSE)=\"wd\",\"wd\",VLOOKUP(($B$2&\"_\"&$A13),'Time Entry Sheet'!$A$3:$I$499,9,FALSE)*1))","v":"00:00:54.110"},{"$f":"IF(E13=\"Junior\",\"\",IF(I13=\"wd\",\"\",IF(K13<>\"\",\"\",I13)))","v":"00:00:54.110"},{"$f":"IF(IFERROR(VLOOKUP(($B$2&\"_\"&$A13),'Time Entry Sheet'!$A$3:$I$499,8,FALSE),\"Error\")=\"Error\",\"\",IF(VLOOKUP(($B$2&\"_\"&$A13),'Time Entry Sheet'!$A$3:$I$499,8,FALSE)=\"\",\"\",VLOOKUP(($B$2&\"_\"&$A13),'Time Entry Sheet'!$A$3:$I$499,8,FALSE)))","v":""},{"$f":"IF(IFERROR(VLOOKUP(($B$2&\"_\"&$A13),'Time Entry Sheet'!$A$3:$I$499,7,FALSE),\"Error\")=\"Error\",\"\",IF(VLOOKUP(($B$2&\"_\"&$A13),'Time Entry Sheet'!$A$3:$I$499,7,FALSE)=\"\",\"\",VLOOKUP(($B$2&\"_\"&$A13),'Time Entry Sheet'!$A$3:$I$499,7,FALSE)))","v":""},{"$f":"IF(A13=\"\",\"\",IF(I13=\"wd\",IF(E13=\"Senior\",$B$7,$C$7),IF(L13<>\"\",$B$7,IF(I13=\"\",IF(E13=\"Senior\",$B$8,$C$8),IF(K13=\"\",I13,I13+($B$5*K13))))))","v":"00:00:54.110"},{"$f":"IF(H13=\"Passenger\",\"\",M13)","v":"00:00:54.110"},{"$f":"IF(A13=\"\",\"\",IF(H13=\"Passenger\",\"P\",RANK(N13,$N$12:$N$51,1)))","v":4},{"$f":"IF(A13=\"\",\"\",M13+VLOOKUP(A13,'Test 9'!$A$12:$Q$59,16,FALSE))","v":"00:08:30.060"},{"$f":"IF(A13=\"\",\"\",IF(H13=\"Passenger\",\"P\",RANK(T13,$T$12:$T$51,1)))","v":5},null,{"$f":"IF(E13=\"Senior\",\"\",IF(I13=\"wd\",\"\",IF(K13<>\"\",\"\",I13)))","v":""},{"$f":"IF(H13=\"Passenger\",\"\",P13)","v":"00:08:30.060"}]
[3,{"$f":"IF($A14=\"\",\"\",IF(VLOOKUP($A14,Competitors!$A$2:$G$60,2,FALSE)=\"\",\"\",VLOOKUP($A14,Competitors!$A$2:$G$60,2,FALSE)))","v":"David Ballard"},{"$f":"IF($A14=\"\",\"\",IF(VLOOKUP($A14,Competitors!$A$2:$G$60,7,FALSE)=\"\",\"\",VLOOKUP($A14,Competitors!$A$2:$G$60,7,FALSE)))","v":""},{"$f":"IF($A14=\"\",\"\",IF(VLOOKUP($A14,Competitors!$A$2:$G$60,5,FALSE)=\"\",\"\",VLOOKUP($A14,Competitors!$A$2:$G$60,5,FALSE)))","v":""},{"$f":"IF($A14=\"\",\"\",IF(VLOOKUP($A14,Competitors!$A$2:$G$60,6,FALSE)=\"\",\"\",VLOOKUP($A14,Competitors!$A$2:$G$60,6,FALSE)))","v":"senior"},{"$f":"IF($A14=\"\",\"\",IF(VLOOKUP($A14,Competitors!$A$2:$G$60,3,FALSE)=\"\",\"\",VLOOKUP($A14,Competitors!$A$2:$G$60,3,FALSE)))","v":""},{"$f":"IF($A14=\"\",\"\",IF(VLOOKUP($A14,Competitors!$A$2:$G$60,4,FALSE)=\"\",\"\",VLOOKUP($A14,Competitors!$A$2:$G$60,4,FALSE)))","v":""},{"$f":"IF(VLOOKUP(A14,Competitors!$A$1:$H$41,8,FALSE)=\"\",\"\",VLOOKUP(A14,Competitors!$A$1:$H$41,8,FALSE))","v":""},{"$f":"IF(IFERROR(VLOOKUP(($B$2&\"_\"&$A14),'Time Entry Sheet'!$A$3:$I$499,9,0),\"Error\")=\"Error\",\"\",IF(VLOOKUP(($B$2&\"_\"&$A14),'Time Entry Sheet'!$A$3:$I$499,9,FALSE)=\"wd\",\"wd\",VLOOKUP(($B$2&\"_\"&$A14),'Time Entry Sheet'!$A$3:$I$499,9,FALSE)*1))","v":"00:00:57.950"},"00:00:57.950",{"$f":"IF(IFERROR(VLOOKUP(($B$2&\"_\"&$A14),'Time Entry Sheet'!$A$3:$I$499,8,FALSE),\"Error\")=\"Error\",\"\",IF(VLOOKUP(($B$2&\"_\"&$A14),'Time Entry Sheet'!$A$3:$I$499,8,FALSE)=\"\",\"\",VLOOKUP(($B$2&\"_\"&$A14),'Time Entry Sheet'!$A$3:$I$499,8,FALSE)))","v":""},{"$f":"IF(IFERROR(VLOOKUP(($B$2&\"_\"&$A14),'Time Entry Sheet'!$A$3:$I$499,7,FALSE),\"Error\")=\"Error\",\"\",IF(VLOOKUP(($B$2&\"_\"&$A14),'Time Entry Sheet'!$A$3:$I$499,7,FALSE)=\"\",\"\",VLOOKUP(($B$2&\"_\"&$A14),'Time Entry Sheet'!$A$3:$I$499,7,FALSE)))","v":""},"00:00:57.950","00:00:57.950",9,{"$f":"IF(A14=\"\",\"\",M14+VLOOKUP(A14,'Test 9'!$A$12:$Q$59,16,FALSE))","v":"00:09:09.010"},12,null,"","00:09:09.010"]
[4,{"$f":"IF($A15=\"\",\"\",IF(VLOOKUP($A15,Competitors!$A$2:$G$60,2,FALSE)=\"\",\"\",VLOOKUP($A15,Competitors!$A$2:$G$60,2,FALSE)))","v":"Michaela Ballard"},{"$f":"IF($A15=\"\",\"\",IF(VLOOKUP($A15,Competitors!$A$2:$G$60,7,FALSE)=\"\",\"\",VLOOKUP($A15,Competitors!$A$2:$G$60,7,FALSE)))","v":"rookie"},{"$f":"IF($A15=\"\",\"\",IF(VLOOKUP($A15,Competitors!$A$2:$G$60,5,FALSE)=\"\",\"\",VLOOKUP($A15,Competitors!$A$2:$G$60,5,FALSE)))","v":"female"},{"$f":"IF($A15=\"\",\"\",IF(VLOOKUP($A15,Competitors!$A$2:$G$60,6,FALSE)=\"\",\"\",VLOOKUP($A15,Competitors!$A$2:$G$60,6,FALSE)))","v":"senior"},{"$f":"IF($A15=\"\",\"\",IF(VLOOKUP($A15,Competitors!$A$2:$G$60,3,FALSE)=\"\",\"\",VLOOKUP($A15,Competitors!$A$2:$G$60,3,FALSE)))","v":""},{"$f":"IF($A15=\"\",\"\",IF(VLOOKUP($A15,Competitors!$A$2:$G$60,4,FALSE)=\"\",\"\",VLOOKUP($A15,Competitors!$A$2:$G$60,4,FALSE)))","v":""},{"$f":"IF(VLOOKUP(A15,Competitors!$A$1:$H$41,8,FALSE)=\"\",\"\",VLOOKUP(A15,Competitors!$A$1:$H$41,8,FALSE))","v":""},{"$f":"IF(IFERROR(VLOOKUP(($B$2&\"_\"&$A15),'Time Entry Sheet'!$A$3:$I$499,9,0),\"Error\")=\"Error\",\"\",IF(VLOOKUP(($B$2&\"_\"&$A15),'Time Entry Sheet'!$A$3:$I$499,9,FALSE)=\"wd\",\"wd\",VLOOKUP(($B$2&\"_\"&$A15),'Time Entry Sheet'!$A$3:$I$499,9,FALSE)*1))","v":"00:01:01.930"},"00:01:01.930",{"$f":"IF(IFERROR(VLOOKUP(($B$2&\"_\"&$A15),'Time Entry Sheet'!$A$3:$I$499,8,FALSE),\"Error\")=\"Error\",\"\",IF(VLOOKUP(($B$2&\"_\"&$A15),'Time Entry Sheet'!$A$3:$I$499,8,FALSE)=\"\",\"\",VLOOKUP(($B$2&\"_\"&$A15),'Time Entry Sheet'!$A$3:$I$499,8,FALSE)))","v":""},{"$f":"IF(IFERROR(VLOOKUP(($B$2&\"_\"&$A15),'Time Entry Sheet'!$A$3:$I$499,7,FALSE),\"Error\")=\"Error\",\"\",IF(VLOOKUP(($B$2&\"_\"&$A15),'Time Entry Sheet'!$A$3:$I$499,7,FALSE)=\"\",\"\",VLOOKUP(($B$2&\"_\"&$A15),'Time Entry Sheet'!$A$3:$I$499,7,FALSE)))","v":""},"00:01:01.930","00:01:01.930",14,{"$f":"IF(A15=\"\",\"\",M15+VLOOKUP(A15,'Test 9'!$A$12:$Q$59,16,FALSE))","v":"00:10:07.080"},18,null,"","00:10:07.080"]
[5,{"$f":"IF($A16=\"\",\"\",IF(VLOOKUP($A16,Competitors!$A$2:$G$60,2,FALSE)=\"\",\"\",VLOOKUP($A16,Competitors!$A$2:$G$60,2,FALSE)))","v":"Janelle Ballard"},{"$f":"IF($A16=\"\",\"\",IF(VLOOKUP($A16,Competitors!$A$2:$G$60,7,FALSE)=\"\",\"\",VLOOKUP($A16,Competitors!$A$2:$G$60,7,FALSE)))","v":""},{"$f":"IF($A16=\"\",\"\",IF(VLOOKUP($A16,Competitors!$A$2:$G$60,5,FALSE)=\"\",\"\",VLOOKUP($A16,Competitors!$A$2:$G$60,5,FALSE)))","v":"female"},{"$f":"IF($A16=\"\",\"\",IF(VLOOKUP($A16,Competitors!$A$2:$G$60,6,FALSE)=\"\",\"\",VLOOKUP($A16,Competitors!$A$2:$G$60,6,FALSE)))","v":"senior"},{"$f":"IF($A16=\"\",\"\",IF(VLOOKUP($A16,Competitors!$A$2:$G$60,3,FALSE)=\"\",\"\",VLOOKUP($A16,Competitors!$A$2:$G$60,3,FALSE)))","v":""},{"$f":"IF($A16=\"\",\"\",IF(VLOOKUP($A16,Competitors!$A$2:$G$60,4,FALSE)=\"\",\"\",VLOOKUP($A16,Competitors!$A$2:$G$60,4,FALSE)))","v":""},{"$f":"IF(VLOOKUP(A16,Competitors!$A$1:$H$41,8,FALSE)=\"\",\"\",VLOOKUP(A16,Competitors!$A$1:$H$41,8,FALSE))","v":""},{"$f":"IF(IFERROR(VLOOKUP(($B$2&\"_\"&$A16),'Time Entry Sheet'!$A$3:$I$499,9,0),\"Error\")=\"Error\",\"\",IF(VLOOKUP(($B$2&\"_\"&$A16),'Time Entry Sheet'!$A$3:$I$499,9,FALSE)=\"wd\",\"wd\",VLOOKUP(($B$2&\"_\"&$A16),'Time Entry Sheet'!$A$3:$I$499,9,FALSE)*1))","v":"00:00:56.500"},"00:00:56.500",{"$f":"IF(IFERROR(VLOOKUP(($B$2&\"_\"&$A16),'Time Entry Sheet'!$A$3:$I$499,8,FALSE),\"Error\")=\"Error\",\"\",IF(VLOOKUP(($B$2&\"_\"&$A16),'Time Entry Sheet'!$A$3:$I$499,8,FALSE)=\"\",\"\",VLOOKUP(($B$2&\"_\"&$A16),'Time Entry Sheet'!$A$3:$I$499,8,FALSE)))","v":""},{"$f":"IF(IFERROR(VLOOKUP(($B$2&\"_\"&$A16),'Time Entry Sheet'!$A$3:$I$499,7,FALSE),\"Error\")=\"Error\",\"\",IF(VLOOKUP(($B$2&\"_\"&$A16),'Time Entry Sheet'!$A$3:$I$499,7,FALSE)=\"\",\"\",VLOOKUP(($B$2&\"_\"&$A16),'Time Entry Sheet'!$A$3:$I$499,7,FALSE)))","v":""},"00:00:56.500","00:00:56.500",8,{"$f":"IF(A16=\"\",\"\",M16+VLOOKUP(A16,'Test 9'!$A$12:$Q$59,16,FALSE))","v":"00:08:49.030"},7,null,"","00:08:49.030"]
[6,{"$f":"IF($A17=\"\",\"\",IF(VLOOKUP($A17,Competitors!$A$2:$G$60,2,FALSE)=\"\",\"\",VLOOKUP($A17,Competitors!$A$2:$G$60,2,FALSE)))","v":"Issac Wishart"},{"$f":"IF($A17=\"\",\"\",IF(VLOOKUP($A17,Competitors!$A$2:$G$60,7,FALSE)=\"\",\"\",VLOOKUP($A17,Competitors!$A$2:$G$60,7,FALSE)))","v":"rookie"},{"$f":"IF($A17=\"\",\"\",IF(VLOOKUP($A17,Competitors!$A$2:$G$60,5,FALSE)=\"\",\"\",VLOOKUP($A17,Competitors!$A$2:$G$60,5,FALSE)))","v":""},{"$f":"IF($A17=\"\",\"\",IF(VLOOKUP($A17,Competitors!$A$2:$G$60,6,FALSE)=\"\",\"\",VLOOKUP($A17,Competitors!$A$2:$G$60,6,FALSE)))","v":"senior"},{"$f":"IF($A17=\"\",\"\",IF(VLOOKUP($A17,Competitors!$A$2:$G$60,3,FALSE)=\"\",\"\",VLOOKUP($A17,Competitors!$A$2:$G$60,3,FALSE)))","v":""},{"$f":"IF($A17=\"\",\"\",IF(VLOOKUP($A17,Competitors!$A$2:$G$60,4,FALSE)=\"\",\"\",VLOOKUP($A17,Competitors!$A$2:$G$60,4,FALSE)))","v":""},{"$f":"IF(VLOOKUP(A17,Competitors!$A$1:$H$41,8,FALSE)=\"\",\"\",VLOOKUP(A17,Competitors!$A$1:$H$41,8,FALSE))","v":""},{"$f":"IF(IFERROR(VLOOKUP(($B$2&\"_\"&$A17),'Time Entry Sheet'!$A$3:$I$499,9,0),\"Error\")=\"Error\",\"\",IF(VLOOKUP(($B$2&\"_\"&$A17),'Time Entry Sheet'!$A$3:$I$499,9,FALSE)=\"wd\",\"wd\",VLOOKUP(($B$2&\"_\"&$A17),'Time Entry Sheet'!$A$3:$I$499,9,FALSE)*1))","v":"wd"},"",{"$f":"IF(IFERROR(VLOOKUP(($B$2&\"_\"&$A17),'Time Entry Sheet'!$A$3:$I$499,8,FALSE),\"Error\")=\"Error\",\"\",IF(VLOOKUP(($B$2&\"_\"&$A17),'Time Entry Sheet'!$A$3:$I$499,8,FALSE)=\"\",\"\",VLOOKUP(($B$2&\"_\"&$A17),'Time Entry Sheet'!$A$3:$I$499,8,FALSE)))","v":""},{"$f":"IF(IFERROR(VLOOKUP(($B$2&\"_\"&$A17),'Time Entry Sheet'!$A$3:$I$499,7,FALSE),\"Error\")=\"Error\",\"\",IF(VLOOKUP(($B$2&\"_\"&$A17),'Time Entry Sheet'!$A$3:$I$499,7,FALSE)=\"\",\"\",VLOOKUP(($B$2&\"_\"&$A17),'Time Entry Sheet'!$A$3:$I$499,7,FALSE)))","v":"Wrong direction, any procedure other than that specified as the correct procedure for completing that course "},"00:01:24.050","00:01:24.050",16,{"$f":"IF(A17=\"\",\"\",M17+VLOOKUP(A17,'Test 9'!$A$12:$Q$59,16,FALSE))","v":"00:09:59.490"},17,null,"","00:09:59.490"]
[7,{"$f":"IF($A18=\"\",\"\",IF(VLOOKUP($A18,Competitors!$A$2:$G$60,2,FALSE)=\"\",\"\",VLOOKUP($A18,Competitors!$A$2:$G$60,2,FALSE)))","v":""},{"$f":"IF($A18=\"\",\"\",IF(VLOOKUP($A18,Competitors!$A$2:$G$60,7,FALSE)=\"\",\"\",VLOOKUP($A18,Competitors!$A$2:$G$60,7,FALSE)))","v":""},{"$f":"IF($A18=\"\",\"\",IF(VLOOKUP($A18,Competitors!$A$2:$G$60,5,FALSE)=\"\",\"\",VLOOKUP($A18,Competitors!$A$2:$G$60,5,FALSE)))","v":""},{"$f":"IF($A18=\"\",\"\",IF(VLOOKUP($A18,Competitors!$A$2:$G$60,6,FALSE)=\"\",\"\",VLOOKUP($A18,Competitors!$A$2:$G$60,6,FALSE)))","v":"senior"},{"$f":"IF($A18=\"\",\"\",IF(VLOOKUP($A18,Competitors!$A$2:$G$60,3,FALSE)=\"\",\"\",VLOOKUP($A18,Competitors!$A$2:$G$60,3,FALSE)))","v":""},{"$f":"IF($A18=\"\",\"\",IF(VLOOKUP($A18,Competitors!$A$2:$G$60,4,FALSE)=\"\",\"\",VLOOKUP($A18,Competitors!$A$2:$G$60,4,FALSE)))","v":""},{"$f":"IF(VLOOKUP(A18,Competitors!$A$1:$H$41,8,FALSE)=\"\",\"\",VLOOKUP(A18,Competitors!$A$1:$H$41,8,FALSE))","v":""},{"$f":"IF(IFERROR(VLOOKUP(($B$2&\"_\"&$A18),'Time Entry Sheet'!$A$3:$I$499,9,0),\"Error\")=\"Error\",\"\",IF(VLOOKUP(($B$2&\"_\"&$A18),'Time Entry Sheet'!$A$3:$I$499,9,FALSE)=\"wd\",\"wd\",VLOOKUP(($B$2&\"_\"&$A18),'Time Entry Sheet'!$A$3:$I$499,9,FALSE)*1))","v":""},"",{"$f":"IF(IFERROR(VLOOKUP(($B$2&\"_\"&$A18),'Time Entry Sheet'!$A$3:$I$499,8,FALSE),\"Error\")=\"Error\",\"\",IF(VLOOKUP(($B$2&\"_\"&$A18),'Time Entry Sheet'!$A$3:$I$499,8,FALSE)=\"\",\"\",VLOOKUP(($B$2&\"_\"&$A18),'Time Entry Sheet'!$A$3:$I$499,8,FALSE)))","v":""},{"$f":"IF(IFERROR(VLOOKUP(($B$2&\"_\"&$A18),'Time Entry Sheet'!$A$3:$I$499,7,FALSE),\"Error\")=\"Error\",\"\",IF(VLOOKUP(($B$2&\"_\"&$A18),'Time Entry Sheet'!$A$3:$I$499,7,FALSE)=\"\",\"\",VLOOKUP(($B$2&\"_\"&$A18),'Time Entry Sheet'!$A$3:$I$499,7,FALSE)))","v":""},"00:01:29.050","00:01:29.050",19,{"$f":"IF(A18=\"\",\"\",M18+VLOOKUP(A18,'Test 9'!$A$12:$Q$59,16,FALSE))","v":"00:12:15.090"},20,null,"","00:12:15.090"]
[8,{"$f":"IF($A19=\"\",\"\",IF(VLOOKUP($A19,Competitors!$A$2:$G$60,2,FALSE)=\"\",\"\",VLOOKUP($A19,Competitors!$A$2:$G$60,2,FALSE)))","v":"Jim Taylor"},{"$f":"IF($A19=\"\",\"\",IF(VLOOKUP($A19,Competitors!$A$2:$G$60,7,FALSE)=\"\",\"\",VLOOKUP($A19,Competitors!$A$2:$G$60,7,FALSE)))","v":""},{"$f":"IF($A19=\"\",\"\",IF(VLOOKUP($A19,Competitors!$A$2:$G$60,5,FALSE)=\"\",\"\",VLOOKUP($A19,Competitors!$A$2:$G$60,5,FALSE)))","v":""},{"$f":"IF($A19=\"\",\"\",IF(VLOOKUP($A19,Competitors!$A$2:$G$60,6,FALSE)=\"\",\"\",VLOOKUP($A19,Competitors!$A$2:$G$60,6,FALSE)))","v":"senior"},{"$f":"IF($A19=\"\",\"\",IF(VLOOKUP($A19,Competitors!$A$2:$G$60,3,FALSE)=\"\",\"\",VLOOKUP($A19,Competitors!$A$2:$G$60,3,FALSE)))","v":""},{"$f":"IF($A19=\"\",\"\",IF(VLOOKUP($A19,Competitors!$A$2:$G$60,4,FALSE)=\"\",\"\",VLOOKUP($A19,Competitors!$A$2:$G$60,4,FALSE)))","v":""},{"$f":"IF(VLOOKUP(A19,Competitors!$A$1:$H$41,8,FALSE)=\"\",\"\",VLOOKUP(A19,Competitors!$A$1:$H$41,8,FALSE))","v":""},{"$f":"IF(IFERROR(VLOOKUP(($B$2&\"_\"&$A19),'Time Entry Sheet'!$A$3:$I$499,9,0),\"Error\")=\"Error\",\"\",IF(VLOOKUP(($B$2&\"_\"&$A19),'Time Entry Sheet'!$A$3:$I$499,9,FALSE)=\"wd\",\"wd\",VLOOKUP(($B$2&\"_\"&$A19),'Time Entry Sheet'!$A$3:$I$499,9,FALSE)*1))","v":"00:00:58.260"},"00:00:58.260",{"$f":"IF(IFERROR(VLOOKUP(($B$2&\"_\"&$A19),'Time Entry Sheet'!$A$3:$I$499,8,FALSE),\"Error\")=\"Error\",\"\",IF(VLOOKUP(($B$2&\"_\"&$A19),'Time Entry Sheet'!$A$3:$I$499,8,FALSE)=\"\",\"\",VLOOKUP(($B$2&\"_\"&$A19),'Time Entry Sheet'!$A$3:$I$499,8,FALSE)))","v":""},{"$f":"IF(IFERROR(VLOOKUP(($B$2&\"_\"&$A19),'Time Entry Sheet'!$A$3:$I$499,7,FALSE),\"Error\")=\"Error\",\"\",IF(VLOOKUP(($B$2&\"_\"&$A19),'Time Entry Sheet'!$A$3:$I$499,7,FALSE)=\"\",\"\",VLOOKUP(($B$2&\"_\"&$A19),'Time Entry Sheet'!$A$3:$I$499,7,FALSE)))","v":""},"00:00:58.260","00:00:58.260",10,{"$f":"IF(A19=\"\",\"\",M19+VLOOKUP(A19,'Test 9'!$A$12:$Q$59,16,FALSE))","v":"00:09:06.220"},11,null,"","00:09:06.220"]
[9,{"$f":"IF($A20=\"\",\"\",IF(VLOOKUP($A20,Competitors!$A$2:$G$60,2,FALSE)=\"\",\"\",VLOOKUP($A20,Competitors!$A$2:$G$60,2,FALSE)))","v":"Brad Firman"},{"$f":"IF($A20=\"\",\"\",IF(VLOOKUP($A20,Competitors!$A$2:$G$60,7,FALSE)=\"\",\"\",VLOOKUP($A20,Competitors!$A$2:$G$60,7,FALSE)))","v":""},{"$f":"IF($A20=\"\",\"\",IF(VLOOKUP($A20,Competitors!$A$2:$G$60,5,FALSE)=\"\",\"\",VLOOKUP($A20,Competitors!$A$2:$G$60,5,FALSE)))","v":""},{"$f":"IF($A20=\"\",\"\",IF(VLOOKUP($A20,Competitors!$A$2:$G$60,6,FALSE)=\"\",\"\",VLOOKUP($A20,Competitors!$A$2:$G$60,6,FALSE)))","v":"senior"},{"$f":"IF($A20=\"\",\"\",IF(VLOOKUP($A20,Competitors!$A$2:$G$60,3,FALSE)=\"\",\"\",VLOOKUP($A20,Competitors!$A$2:$G$60,3,FALSE)))","v":""},{"$f":"IF($A20=\"\",\"\",IF(VLOOKUP($A20,Competitors!$A$2:$G$60,4,FALSE)=\"\",\"\",VLOOKUP($A20,Competitors!$A$2:$G$60,4,FALSE)))","v":""},{"$f":"IF(VLOOKUP(A20,Competitors!$A$1:$H$41,8,FALSE)=\"\",\"\",VLOOKUP(A20,Competitors!$A$1:$H$41,8,FALSE))","v":""},{"$f":"IF(IFERROR(VLOOKUP(($B$2&\"_\"&$A20),'Time Entry Sheet'!$A$3:$I$499,9,0),\"Error\")=\"Error\",\"\",IF(VLOOKUP(($B$2&\"_\"&$A20),'Time Entry Sheet'!$A$3:$I$499,9,FALSE)=\"wd\",\"wd\",VLOOKUP(($B$2&\"_\"&$A20),'Time Entry Sheet'!$A$3:$I$499,9,FALSE)*1))","v":"00:00:53.480"},"00:00:53.480",{"$f":"IF(IFERROR(VLOOKUP(($B$2&\"_\"&$A20),'Time Entry Sheet'!$A$3:$I$499,8,FALSE),\"Error\")=\"Error\",\"\",IF(VLOOKUP(($B$2&\"_\"&$A20),'Time Entry Sheet'!$A$3:$I$499,8,FALSE)=\"\",\"\",VLOOKUP(($B$2&\"_\"&$A20),'Time Entry Sheet'!$A$3:$I$499,8,FALSE)))","v":""},{"$f":"IF(IFERROR(VLOOKUP(($B$2&\"_\"&$A20),'Time Entry Sheet'!$A$3:$I$499,7,FALSE),\"Error\")=\"Error\",\"\",IF(VLOOKUP(($B$2&\"_\"&$A20),'Time Entry Sheet'!$A$3:$I$499,7,FALSE)=\"\",\"\",VLOOKUP(($B$2&\"_\"&$A20),'Time Entry Sheet'!$A$3:$I$499,7,FALSE)))","v":""},"00:00:53.480","00:00:53.480",3,{"$f":"IF(A20=\"\",\"\",M20+VLOOKUP(A20,'Test 9'!$A$12:$Q$59,16,FALSE))","v":"00:08:09.360"},3,null,"","00:08:09.360"]
[10,{"$f":"IF($A21=\"\",\"\",IF(VLOOKUP($A21,Competitors!$A$2:$G$60,2,FALSE)=\"\",\"\",VLOOKUP($A21,Competitors!$A$2:$G$60,2,FALSE)))","v":"Scott Taylor"},{"$f":"IF($A21=\"\",\"\",IF(VLOOKUP($A21,Competitors!$A$2:$G$60,7,FALSE)=\"\",\"\",VLOOKUP($A21,Competitors!$A$2:$G$60,7,FALSE)))","v":""},{"$f":"IF($A21=\"\",\"\",IF(VLOOKUP($A21,Competitors!$A$2:$G$60,5,FALSE)=\"\",\"\",VLOOKUP($A21,Competitors!$A$2:$G$60,5,FALSE)))","v":""},{"$f":"IF($A21=\"\",\"\",IF(VLOOKUP($A21,Competitors!$A$2:$G$60,6,FALSE)=\"\",\"\",VLOOKUP($A21,Competitors!$A$2:$G$60,6,FALSE)))","v":"senior"},{"$f":"IF($A21=\"\",\"\",IF(VLOOKUP($A21,Competitors!$A$2:$G$60,3,FALSE)=\"\",\"\",VLOOKUP($A21,Competitors!$A$2:$G$60,3,FALSE)))","v":""},{"$f":"IF($A21=\"\",\"\",IF(VLOOKUP($A21,Competitors!$A$2:$G$60,4,FALSE)=\"\",\"\",VLOOKUP($A21,Competitors!$A$2:$G$60,4,FALSE)))","v":""},{"$f":"IF(VLOOKUP(A21,Competitors!$A$1:$H$41,8,FALSE)=\"\",\"\",VLOOKUP(A21,Competitors!$A$1:$H$41,8,FALSE))","v":""},{"$f":"IF(IFERROR(VLOOKUP(($B$2&\"_\"&$A21),'Time Entry Sheet'!$A$3:$I$499,9,0),\"Error\")=\"Error\",\"\",IF(VLOOKUP(($B$2&\"_\"&$A21),'Time Entry Sheet'!$A$3:$I$499,9,FALSE)=\"wd\",\"wd\",VLOOKUP(($B$2&\"_\"&$A21),'Time Entry Sheet'!$A$3:$I$499,9,FALSE)*1))","v":"00:00:58.290"},"00:00:58.290",{"$f":"IF(IFERROR(VLOOKUP(($B$2&\"_\"&$A21),'Time Entry Sheet'!$A$3:$I$499,8,FALSE),\"Error\")=\"Error\",\"\",IF(VLOOKUP(($B$2&\"_\"&$A21),'Time Entry Sheet'!$A$3:$I$499,8,FALSE)=\"\",\"\",VLOOKUP(($B$2&\"_\"&$A21),'Time Entry Sheet'!$A$3:$I$499,8,FALSE)))","v":""},{"$f":"IF(IFERROR(VLOOKUP(($B$2&\"_\"&$A21),'Time Entry Sheet'!$A$3:$I$499,7,FALSE),\"Error\")=\"Error\",\"\",IF(VLOOKUP(($B$2&\"_\"&$A21),'Time Entry Sheet'!$A$3:$I$499,7,FALSE)=\"\",\"\",VLOOKUP(($B$2&\"_\"&$A21),'Time Entry Sheet'!$A$3:$I$499,7,FALSE)))","v":""},"00:00:58.290","00:00:58.290",11,{"$f":"IF(A21=\"\",\"\",M21+VLOOKUP(A21,'Test 9'!$A$12:$Q$59,16,FALSE))","v":"00:09:15.650"},13,null,"","00:09:15.650"]
[11,{"$f":"IF($A22=\"\",\"\",IF(VLOOKUP($A22,Competitors!$A$2:$G$60,2,FALSE)=\"\",\"\",VLOOKUP($A22,Competitors!$A$2:$G$60,2,FALSE)))","v":"Russel McKinley"},{"$f":"IF($A22=\"\",\"\",IF(VLOOKUP($A22,Competitors!$A$2:$G$60,7,FALSE)=\"\",\"\",VLOOKUP($A22,Competitors!$A$2:$G$60,7,FALSE)))","v":""},{"$f":"IF($A22=\"\",\"\",IF(VLOOKUP($A22,Competitors!$A$2:$G$60,5,FALSE)=\"\",\"\",VLOOKUP($A22,Competitors!$A$2:$G$60,5,FALSE)))","v":""},{"$f":"IF($A22=\"\",\"\",IF(VLOOKUP($A22,Competitors!$A$2:$G$60,6,FALSE)=\"\",\"\",VLOOKUP($A22,Competitors!$A$2:$G$60,6,FALSE)))","v":"senior"},{"$f":"IF($A22=\"\",\"\",IF(VLOOKUP($A22,Competitors!$A$2:$G$60,3,FALSE)=\"\",\"\",VLOOKUP($A22,Competitors!$A$2:$G$60,3,FALSE)))","v":""},{"$f":"IF($A22=\"\",\"\",IF(VLOOKUP($A22,Competitors!$A$2:$G$60,4,FALSE)=\"\",\"\",VLOOKUP($A22,Competitors!$A$2:$G$60,4,FALSE)))","v":""},{"$f":"IF(VLOOKUP(A22,Competitors!$A$1:$H$41,8,FALSE)=\"\",\"\",VLOOKUP(A22,Competitors!$A$1:$H$41,8,FALSE))","v":""},{"$f":"IF(IFERROR(VLOOKUP(($B$2&\"_\"&$A22),'Time Entry Sheet'!$A$3:$I$499,9,0),\"Error\")=\"Error\",\"\",IF(VLOOKUP(($B$2&\"_\"&$A22),'Time Entry Sheet'!$A$3:$I$499,9,FALSE)=\"wd\",\"wd\",VLOOKUP(($B$2&\"_\"&$A22),'Time Entry Sheet'!$A$3:$I$499,9,FALSE)*1))","v":""},"",{"$f":"IF(IFERROR(VLOOKUP(($B$2&\"_\"&$A22),'Time Entry Sheet'!$A$3:$I$499,8,FALSE),\"Error\")=\"Error\",\"\",IF(VLOOKUP(($B$2&\"_\"&$A22),'Time Entry Sheet'!$A$3:$I$499,8,FALSE)=\"\",\"\",VLOOKUP(($B$2&\"_\"&$A22),'Time Entry Sheet'!$A$3:$I$499,8,FALSE)))","v":""},{"$f":"IF(IFERROR(VLOOKUP(($B$2&\"_\"&$A22),'Time Entry Sheet'!$A$3:$I$499,7,FALSE),\"Error\")=\"Error\",\"\",IF(VLOOKUP(($B$2&\"_\"&$A22),'Time Entry Sheet'!$A$3:$I$499,7,FALSE)=\"\",\"\",VLOOKUP(($B$2&\"_\"&$A22),'Time Entry Sheet'!$A$3:$I$499,7,FALSE)))","v":""},"00:01:29.050","00:01:29.050",19,{"$f":"IF(A22=\"\",\"\",M22+VLOOKUP(A22,'Test 9'!$A$12:$Q$59,16,FALSE))","v":"00:09:58.010"},16,null,"","00:09:58.010"]
[12,{"$f":"IF($A23=\"\",\"\",IF(VLOOKUP($A23,Competitors!$A$2:$G$60,2,FALSE)=\"\",\"\",VLOOKUP($A23,Competitors!$A$2:$G$60,2,FALSE)))","v":"Mat Boorman"},{"$f":"IF($A23=\"\",\"\",IF(VLOOKUP($A23,Competitors!$A$2:$G$60,7,FALSE)=\"\",\"\",VLOOKUP($A23,Competitors!$A$2:$G$60,7,FALSE)))","v":""},{"$f":"IF($A23=\"\",\"\",IF(VLOOKUP($A23,Competitors!$A$2:$G$60,5,FALSE)=\"\",\"\",VLOOKUP($A23,Competitors!$A$2:$G$60,5,FALSE)))","v":""},{"$f":"IF($A23=\"\",\"\",IF(VLOOKUP($A23,Competitors!$A$2:$G$60,6,FALSE)=\"\",\"\",VLOOKUP($A23,Competitors!$A$2:$G$60,6,FALSE)))","v":"senior"},{"$f":"IF($A23=\"\",\"\",IF(VLOOKUP($A23,Competitors!$A$2:$G$60,3,FALSE)=\"\",\"\",VLOOKUP($A23,Competitors!$A$2:$G$60,3,FALSE)))","v":""},{"$f":"IF($A23=\"\",\"\",IF(VLOOKUP($A23,Competitors!$A$2:$G$60,4,FALSE)=\"\",\"\",VLOOKUP($A23,Competitors!$A$2:$G$60,4,FALSE)))","v":""},{"$f":"IF(VLOOKUP(A23,Competitors!$A$1:$H$41,8,FALSE)=\"\",\"\",VLOOKUP(A23,Competitors!$A$1:$H$41,8,FALSE))","v":""},{"$f":"IF(IFERROR(VLOOKUP(($B$2&\"_\"&$A23),'Time Entry Sheet'!$A$3:$I$499,9,0),\"Error\")=\"Error\",\"\",IF(VLOOKUP(($B$2&\"_\"&$A23),'Time Entry Sheet'!$A$3:$I$499,9,FALSE)=\"wd\",\"wd\",VLOOKUP(($B$2&\"_\"&$A23),'Time Entry Sheet'!$A$3:$I$499,9,FALSE)*1))","v":"00:01:19.050"},"00:01:19.050",{"$f":"IF(IFERROR(VLOOKUP(($B$2&\"_\"&$A23),'Time Entry Sheet'!$A$3:$I$499,8,FALSE),\"Error\")=\"Error\",\"\",IF(VLOOKUP(($B$2&\"_\"&$A23),'Time Entry Sheet'!$A$3:$I$499,8,FALSE)=\"\",\"\",VLOOKUP(($B$2&\"_\"&$A23),'Time Entry Sheet'!$A$3:$I$499,8,FALSE)))","v":""},{"$f":"IF(IFERROR(VLOOKUP(($B$2&\"_\"&$A23),'Time Entry Sheet'!$A$3:$I$499,7,FALSE),\"Error\")=\"Error\",\"\",IF(VLOOKUP(($B$2&\"_\"&$A23),'Time Entry Sheet'!$A$3:$I$499,7,FALSE)=\"\",\"\",VLOOKUP(($B$2&\"_\"&$A23),'Time Entry Sheet'!$A$3:$I$499,7,FALSE)))","v":""},"00:01:19.050","00:01:19.050",15,{"$f":"IF(A23=\"\",\"\",M23+VLOOKUP(A23,'Test 9'!$A$12:$Q$59,16,FALSE))","v":"00:09:37.310"},14,null,"","00:09:37.310"]
[13,{"$f":"IF($A24=\"\",\"\",IF(VLOOKUP($A24,Competitors!$A$2:$G$60,2,FALSE)=\"\",\"\",VLOOKUP($A24,Competitors!$A$2:$G$60,2,FALSE)))","v":"Aaron Wishart"},{"$f":"IF($A24=\"\",\"\",IF(VLOOKUP($A24,Competitors!$A$2:$G$60,7,FALSE)=\"\",\"\",VLOOKUP($A24,Competitors!$A$2:$G$60,7,FALSE)))","v":""},{"$f":"IF($A24=\"\",\"\",IF(VLOOKUP($A24,Competitors!$A$2:$G$60,5,FALSE)=\"\",\"\",VLOOKUP($A24,Competitors!$A$2:$G$60,5,FALSE)))","v":""},{"$f":"IF($A24=\"\",\"\",IF(VLOOKUP($A24,Competitors!$A$2:$G$60,6,FALSE)=\"\",\"\",VLOOKUP($A24,Competitors!$A$2:$G$60,6,FALSE)))","v":"senior"},{"$f":"IF($A24=\"\",\"\",IF(VLOOKUP($A24,Competitors!$A$2:$G$60,3,FALSE)=\"\",\"\",VLOOKUP($A24,Competitors!$A$2:$G$60,3,FALSE)))","v":""},{"$f":"IF($A24=\"\",\"\",IF(VLOOKUP($A24,Competitors!$A$2:$G$60,4,FALSE)=\"\",\"\",VLOOKUP($A24,Competitors!$A$2:$G$60,4,FALSE)))","v":""},{"$f":"IF(VLOOKUP(A24,Competitors!$A$1:$H$41,8,FALSE)=\"\",\"\",VLOOKUP(A24,Competitors!$A$1:$H$41,8,FALSE))","v":""},{"$f":"IF(IFERROR(VLOOKUP(($B$2&\"_\"&$A24),'Time Entry Sheet'!$A$3:$I$499,9,0),\"Error\")=\"Error\",\"\",IF(VLOOKUP(($B$2&\"_\"&$A24),'Time Entry Sheet'!$A$3:$I$499,9,FALSE)=\"wd\",\"wd\",VLOOKUP(($B$2&\"_\"&$A24),'Time Entry Sheet'!$A$3:$I$499,9,FALSE)*1))","v":"00:00:55.850"},"00:00:55.850",{"$f":"IF(IFERROR(VLOOKUP(($B$2&\"_\"&$A24),'Time Entry Sheet'!$A$3:$I$499,8,FALSE),\"Error\")=\"Error\",\"\",IF(VLOOKUP(($B$2&\"_\"&$A24),'Time Entry Sheet'!$A$3:$I$499,8,FALSE)=\"\",\"\",VLOOKUP(($B$2&\"_\"&$A24),'Time Entry Sheet'!$A$3:$I$499,8,FALSE)))","v":""},{"$f":"IF(IFERROR(VLOOKUP(($B$2&\"_\"&$A24),'Time Entry Sheet'!$A$3:$I$499,7,FALSE),\"Error\")=\"Error\",\"\",IF(VLOOKUP(($B$2&\"_\"&$A24),'Time Entry Sheet'!$A$3:$I$499,7,FALSE)=\"\",\"\",VLOOKUP(($B$2&\"_\"&$A24),'Time Entry Sheet'!$A$3:$I$499,7,FALSE)))","v":""},"00:00:55.850","00:00:55.850",6,{"$f":"IF(A24=\"\",\"\",M24+VLOOKUP(A24,'Test 9'!$A$12:$Q$59,16,FALSE))","v":"00:09:45.850"},15,null,"","00:09:45.850"]
[14,{"$f":"IF($A25=\"\",\"\",IF(VLOOKUP($A25,Competitors!$A$2:$G$60,2,FALSE)=\"\",\"\",VLOOKUP($A25,Competitors!$A$2:$G$60,2,FALSE)))","v":"Bob Fulthorpe"},{"$f":"IF($A25=\"\",\"\",IF(VLOOKUP($A25,Competitors!$A$2:$G$60,7,FALSE)=\"\",\"\",VLOOKUP($A25,Competitors!$A$2:$G$60,7,FALSE)))","v":""},{"$f":"IF($A25=\"\",\"\",IF(VLOOKUP($A25,Competitors!$A$2:$G$60,5,FALSE)=\"\",\"\",VLOOKUP($A25,Competitors!$A$2:$G$60,5,FALSE)))","v":""},{"$f":"IF($A25=\"\",\"\",IF(VLOOKUP($A25,Competitors!$A$2:$G$60,6,FALSE)=\"\",\"\",VLOOKUP($A25,Competitors!$A$2:$G$60,6,FALSE)))","v":"senior"},{"$f":"IF($A25=\"\",\"\",IF(VLOOKUP($A25,Competitors!$A$2:$G$60,3,FALSE)=\"\",\"\",VLOOKUP($A25,Competitors!$A$2:$G$60,3,FALSE)))","v":""},{"$f":"IF($A25=\"\",\"\",IF(VLOOKUP($A25,Competitors!$A$2:$G$60,4,FALSE)=\"\",\"\",VLOOKUP($A25,Competitors!$A$2:$G$60,4,FALSE)))","v":""},{"$f":"IF(VLOOKUP(A25,Competitors!$A$1:$H$41,8,FALSE)=\"\",\"\",VLOOKUP(A25,Competitors!$A$1:$H$41,8,FALSE))","v":""},{"$f":"IF(IFERROR(VLOOKUP(($B$2&\"_\"&$A25),'Time Entry Sheet'!$A$3:$I$499,9,0),\"Error\")=\"Error\",\"\",IF(VLOOKUP(($B$2&\"_\"&$A25),'Time Entry Sheet'!$A$3:$I$499,9,FALSE)=\"wd\",\"wd\",VLOOKUP(($B$2&\"_\"&$A25),'Time Entry Sheet'!$A$3:$I$499,9,FALSE)*1))","v":"00:00:55.550"},"00:00:55.550",{"$f":"IF(IFERROR(VLOOKUP(($B$2&\"_\"&$A25),'Time Entry Sheet'!$A$3:$I$499,8,FALSE),\"Error\")=\"Error\",\"\",IF(VLOOKUP(($B$2&\"_\"&$A25),'Time Entry Sheet'!$A$3:$I$499,8,FALSE)=\"\",\"\",VLOOKUP(($B$2&\"_\"&$A25),'Time Entry Sheet'!$A$3:$I$499,8,FALSE)))","v":""},{"$f":"IF(IFERROR(VLOOKUP(($B$2&\"_\"&$A25),'Time Entry Sheet'!$A$3:$I$499,7,FALSE),\"Error\")=\"Error\",\"\",IF(VLOOKUP(($B$2&\"_\"&$A25),'Time Entry Sheet'!$A$3:$I$499,7,FALSE)=\"\",\"\",VLOOKUP(($B$2&\"_\"&$A25),'Time Entry Sheet'!$A$3:$I$499,7,FALSE)))","v":""},"00:00:55.550","00:00:55.550",5,{"$f":"IF(A25=\"\",\"\",M25+VLOOKUP(A25,'Test 9'!$A$12:$Q$59,16,FALSE))","v":"00:08:19.660"},4,null,"","00:08:19.660"]
[15,{"$f":"IF($A26=\"\",\"\",IF(VLOOKUP($A26,Competitors!$A$2:$G$60,2,FALSE)=\"\",\"\",VLOOKUP($A26,Competitors!$A$2:$G$60,2,FALSE)))","v":"Khi Fulthorpe"},{"$f":"IF($A26=\"\",\"\",IF(VLOOKUP($A26,Competitors!$A$2:$G$60,7,FALSE)=\"\",\"\",VLOOKUP($A26,Competitors!$A$2:$G$60,7,FALSE)))","v":""},{"$f":"IF($A26=\"\",\"\",IF(VLOOKUP($A26,Competitors!$A$2:$G$60,5,FALSE)=\"\",\"\",VLOOKUP($A26,Competitors!$A$2:$G$60,5,FALSE)))","v":""},{"$f":"IF($A26=\"\",\"\",IF(VLOOKUP($A26,Competitors!$A$2:$G$60,6,FALSE)=\"\",\"\",VLOOKUP($A26,Competitors!$A$2:$G$60,6,FALSE)))","v":"senior"},{"$f":"IF($A26=\"\",\"\",IF(VLOOKUP($A26,Competitors!$A$2:$G$60,3,FALSE)=\"\",\"\",VLOOKUP($A26,Competitors!$A$2:$G$60,3,FALSE)))","v":""},{"$f":"IF($A26=\"\",\"\",IF(VLOOKUP($A26,Competitors!$A$2:$G$60,4,FALSE)=\"\",\"\",VLOOKUP($A26,Competitors!$A$2:$G$60,4,FALSE)))","v":""},{"$f":"IF(VLOOKUP(A26,Competitors!$A$1:$H$41,8,FALSE)=\"\",\"\",VLOOKUP(A26,Competitors!$A$1:$H$41,8,FALSE))","v":""},{"$f":"IF(IFERROR(VLOOKUP(($B$2&\"_\"&$A26),'Time Entry Sheet'!$A$3:$I$499,9,0),\"Error\")=\"Error\",\"\",IF(VLOOKUP(($B$2&\"_\"&$A26),'Time Entry Sheet'!$A$3:$I$499,9,FALSE)=\"wd\",\"wd\",VLOOKUP(($B$2&\"_\"&$A26),'Time Entry Sheet'!$A$3:$I$499,9,FALSE)*1))","v":"00:00:58.680"},"00:00:58.680",{"$f":"IF(IFERROR(VLOOKUP(($B$2&\"_\"&$A26),'Time Entry Sheet'!$A$3:$I$499,8,FALSE),\"Error\")=\"Error\",\"\",IF(VLOOKUP(($B$2&\"_\"&$A26),'Time Entry Sheet'!$A$3:$I$499,8,FALSE)=\"\",\"\",VLOOKUP(($B$2&\"_\"&$A26),'Time Entry Sheet'!$A$3:$I$499,8,FALSE)))","v":""},{"$f":"IF(IFERROR(VLOOKUP(($B$2&\"_\"&$A26),'Time Entry Sheet'!$A$3:$I$499,7,FALSE),\"Error\")=\"Error\",\"\",IF(VLOOKUP(($B$2&\"_\"&$A26),'Time Entry Sheet'!$A$3:$I$499,7,FALSE)=\"\",\"\",VLOOKUP(($B$2&\"_\"&$A26),'Time Entry Sheet'!$A$3:$I$499,7,FALSE)))","v":""},"00:00:58.680","00:00:58.680",13,{"$f":"IF(A26=\"\",\"\",M26+VLOOKUP(A26,'Test 9'!$A$12:$Q$59,16,FALSE))","v":"00:09:01.430"},10,null,"","00:09:01.430"]
[16,{"$f":"IF($A27=\"\",\"\",IF(VLOOKUP($A27,Competitors!$A$2:$G$60,2,FALSE)=\"\",\"\",VLOOKUP($A27,Competitors!$A$2:$G$60,2,FALSE)))","v":"Nathan Senior"},{"$f":"IF($A27=\"\",\"\",IF(VLOOKUP($A27,Competitors!$A$2:$G$60,7,FALSE)=\"\",\"\",VLOOKUP($A27,Competitors!$A$2:$G$60,7,FALSE)))","v":""},{"$f":"IF($A27=\"\",\"\",IF(VLOOKUP($A27,Competitors!$A$2:$G$60,5,FALSE)=\"\",\"\",VLOOKUP($A27,Competitors!$A$2:$G$60,5,FALSE)))","v":""},{"$f":"IF($A27=\"\",\"\",IF(VLOOKUP($A27,Competitors!$A$2:$G$60,6,FALSE)=\"\",\"\",VLOOKUP($A27,Competitors!$A$2:$G$60,6,FALSE)))","v":"senior"},{"$f":"IF($A27=\"\",\"\",IF(VLOOKUP($A27,Competitors!$A$2:$G$60,3,FALSE)=\"\",\"\",VLOOKUP($A27,Competitors!$A$2:$G$60,3,FALSE)))","v":""},{"$f":"IF($A27=\"\",\"\",IF(VLOOKUP($A27,Competitors!$A$2:$G$60,4,FALSE)=\"\",\"\",VLOOKUP($A27,Competitors!$A$2:$G$60,4,FALSE)))","v":""},{"$f":"IF(VLOOKUP(A27,Competitors!$A$1:$H$41,8,FALSE)=\"\",\"\",VLOOKUP(A27,Competitors!$A$1:$H$41,8,FALSE))","v":""},{"$f":"IF(IFERROR(VLOOKUP(($B$2&\"_\"&$A27),'Time Entry Sheet'!$A$3:$I$499,9,0),\"Error\")=\"Error\",\"\",IF(VLOOKUP(($B$2&\"_\"&$A27),'Time Entry Sheet'!$A$3:$I$499,9,FALSE)=\"wd\",\"wd\",VLOOKUP(($B$2&\"_\"&$A27),'Time Entry Sheet'!$A$3:$I$499,9,FALSE)*1))","v":"wd"},"",{"$f":"IF(IFERROR(VLOOKUP(($B$2&\"_\"&$A27),'Time Entry Sheet'!$A$3:$I$499,8,FALSE),\"Error\")=\"Error\",\"\",IF(VLOOKUP(($B$2&\"_\"&$A27),'Time Entry Sheet'!$A$3:$I$499,8,FALSE)=\"\",\"\",VLOOKUP(($B$2&\"_\"&$A27),'Time Entry Sheet'!$A$3:$I$499,8,FALSE)))","v":""},{"$f":"IF(IFERROR(VLOOKUP(($B$2&\"_\"&$A27),'Time Entry Sheet'!$A$3:$I$499,7,FALSE),\"Error\")=\"Error\",\"\",IF(VLOOKUP(($B$2&\"_\"&$A27),'Time Entry Sheet'!$A$3:$I$499,7,FALSE)=\"\",\"\",VLOOKUP(($B$2&\"_\"&$A27),'Time Entry Sheet'!$A$3:$I$499,7,FALSE)))","v":"Wrong direction, any procedure other than that specified as the correct procedure for completing that course "},"00:01:24.050","00:01:24.050",16,{"$f":"IF(A27=\"\",\"\",M27+VLOOKUP(A27,'Test 9'!$A$12:$Q$59,16,FALSE))","v":"00:09:00.170"},9,null,"","00:09:00.170"]
[17,{"$f":"IF($A28=\"\",\"\",IF(VLOOKUP($A28,Competitors!$A$2:$G$60,2,FALSE)=\"\",\"\",VLOOKUP($A28,Competitors!$A$2:$G$60,2,FALSE)))","v":"Reece McIntosh"},{"$f":"IF($A28=\"\",\"\",IF(VLOOKUP($A28,Competitors!$A$2:$G$60,7,FALSE)=\"\",\"\",VLOOKUP($A28,Competitors!$A$2:$G$60,7,FALSE)))","v":""},{"$f":"IF($A28=\"\",\"\",IF(VLOOKUP($A28,Competitors!$A$2:$G$60,5,FALSE)=\"\",\"\",VLOOKUP($A28,Competitors!$A$2:$G$60,5,FALSE)))","v":""},{"$f":"IF($A28=\"\",\"\",IF(VLOOKUP($A28,Competitors!$A$2:$G$60,6,FALSE)=\"\",\"\",VLOOKUP($A28,Competitors!$A$2:$G$60,6,FALSE)))","v":"senior"},{"$f":"IF($A28=\"\",\"\",IF(VLOOKUP($A28,Competitors!$A$2:$G$60,3,FALSE)=\"\",\"\",VLOOKUP($A28,Competitors!$A$2:$G$60,3,FALSE)))","v":""},{"$f":"IF($A28=\"\",\"\",IF(VLOOKUP($A28,Competitors!$A$2:$G$60,4,FALSE)=\"\",\"\",VLOOKUP($A28,Competitors!$A$2:$G$60,4,FALSE)))","v":""},{"$f":"IF(VLOOKUP(A28,Competitors!$A$1:$H$41,8,FALSE)=\"\",\"\",VLOOKUP(A28,Competitors!$A$1:$H$41,8,FALSE))","v":""},{"$f":"IF(IFERROR(VLOOKUP(($B$2&\"_\"&$A28),'Time Entry Sheet'!$A$3:$I$499,9,0),\"Error\")=\"Error\",\"\",IF(VLOOKUP(($B$2&\"_\"&$A28),'Time Entry Sheet'!$A$3:$I$499,9,FALSE)=\"wd\",\"wd\",VLOOKUP(($B$2&\"_\"&$A28),'Time Entry Sheet'!$A$3:$I$499,9,FALSE)*1))","v":"00:00:52.870"},"00:00:52.870",{"$f":"IF(IFERROR(VLOOKUP(($B$2&\"_\"&$A28),'Time Entry Sheet'!$A$3:$I$499,8,FALSE),\"Error\")=\"Error\",\"\",IF(VLOOKUP(($B$2&\"_\"&$A28),'Time Entry Sheet'!$A$3:$I$499,8,FALSE)=\"\",\"\",VLOOKUP(($B$2&\"_\"&$A28),'Time Entry Sheet'!$A$3:$I$499,8,FALSE)))","v":""},{"$f":"IF(IFERROR(VLOOKUP(($B$2&\"_\"&$A28),'Time Entry Sheet'!$A$3:$I$499,7,FALSE),\"Error\")=\"Error\",\"\",IF(VLOOKUP(($B$2&\"_\"&$A28),'Time Entry Sheet'!$A$3:$I$499,7,FALSE)=\"\",\"\",VLOOKUP(($B$2&\"_\"&$A28),'Time Entry Sheet'!$A$3:$I$499,7,FALSE)))","v":""},"00:00:52.870","00:00:52.870",2,{"$f":"IF(A28=\"\",\"\",M28+VLOOKUP(A28,'Test 9'!$A$12:$Q$59,16,FALSE))","v":"00:07:53.630"},1,null,"","00:07:53.630"]
[18,{"$f":"IF($A29=\"\",\"\",IF(VLOOKUP($A29,Competitors!$A$2:$G$60,2,FALSE)=\"\",\"\",VLOOKUP($A29,Competitors!$A$2:$G$60,2,FALSE)))","v":"Jack Stanley"},{"$f":"IF($A29=\"\",\"\",IF(VLOOKUP($A29,Competitors!$A$2:$G$60,7,FALSE)=\"\",\"\",VLOOKUP($A29,Competitors!$A$2:$G$60,7,FALSE)))","v":"rookie"},{"$f":"IF($A29=\"\",\"\",IF(VLOOKUP($A29,Competitors!$A$2:$G$60,5,FALSE)=\"\",\"\",VLOOKUP($A29,Competitors!$A$2:$G$60,5,FALSE)))","v":""},{"$f":"IF($A29=\"\",\"\",IF(VLOOKUP($A29,Competitors!$A$2:$G$60,6,FALSE)=\"\",\"\",VLOOKUP($A29,Competitors!$A$2:$G$60,6,FALSE)))","v":"senior"},{"$f":"IF($A29=\"\",\"\",IF(VLOOKUP($A29,Competitors!$A$2:$G$60,3,FALSE)=\"\",\"\",VLOOKUP($A29,Competitors!$A$2:$G$60,3,FALSE)))","v":""},{"$f":"IF($A29=\"\",\"\",IF(VLOOKUP($A29,Competitors!$A$2:$G$60,4,FALSE)=\"\",\"\",VLOOKUP($A29,Competitors!$A$2:$G$60,4,FALSE)))","v":""},{"$f":"IF(VLOOKUP(A29,Competitors!$A$1:$H$41,8,FALSE)=\"\",\"\",VLOOKUP(A29,Competitors!$A$1:$H$41,8,FALSE))","v":""},{"$f":"IF(IFERROR(VLOOKUP(($B$2&\"_\"&$A29),'Time Entry Sheet'!$A$3:$I$499,9,0),\"Error\")=\"Error\",\"\",IF(VLOOKUP(($B$2&\"_\"&$A29),'Time Entry Sheet'!$A$3:$I$499,9,FALSE)=\"wd\",\"wd\",VLOOKUP(($B$2&\"_\"&$A29),'Time Entry Sheet'!$A$3:$I$499,9,FALSE)*1))","v":"wd"},"",{"$f":"IF(IFERROR(VLOOKUP(($B$2&\"_\"&$A29),'Time Entry Sheet'!$A$3:$I$499,8,FALSE),\"Error\")=\"Error\",\"\",IF(VLOOKUP(($B$2&\"_\"&$A29),'Time Entry Sheet'!$A$3:$I$499,8,FALSE)=\"\",\"\",VLOOKUP(($B$2&\"_\"&$A29),'Time Entry Sheet'!$A$3:$I$499,8,FALSE)))","v":""},{"$f":"IF(IFERROR(VLOOKUP(($B$2&\"_\"&$A29),'Time Entry Sheet'!$A$3:$I$499,7,FALSE),\"Error\")=\"Error\",\"\",IF(VLOOKUP(($B$2&\"_\"&$A29),'Time Entry Sheet'!$A$3:$I$499,7,FALSE)=\"\",\"\",VLOOKUP(($B$2&\"_\"&$A29),'Time Entry Sheet'!$A$3:$I$499,7,FALSE)))","v":"Wrong direction, any procedure other than that specified as the correct procedure for completing that course "},"00:01:24.050","00:01:24.050",16,{"$f":"IF(A29=\"\",\"\",M29+VLOOKUP(A29,'Test 9'!$A$12:$Q$59,16,FALSE))","v":"00:10:10.490"},19,null,"","00:10:10.490"]
[19,{"$f":"IF($A30=\"\",\"\",IF(VLOOKUP($A30,Competitors!$A$2:$G$60,2,FALSE)=\"\",\"\",VLOOKUP($A30,Competitors!$A$2:$G$60,2,FALSE)))","v":"Christopher Northey"},{"$f":"IF($A30=\"\",\"\",IF(VLOOKUP($A30,Competitors!$A$2:$G$60,7,FALSE)=\"\",\"\",VLOOKUP($A30,Competitors!$A$2:$G$60,7,FALSE)))","v":""},{"$f":"IF($A30=\"\",\"\",IF(VLOOKUP($A30,Competitors!$A$2:$G$60,5,FALSE)=\"\",\"\",VLOOKUP($A30,Competitors!$A$2:$G$60,5,FALSE)))","v":""},{"$f":"IF($A30=\"\",\"\",IF(VLOOKUP($A30,Competitors!$A$2:$G$60,6,FALSE)=\"\",\"\",VLOOKUP($A30,Competitors!$A$2:$G$60,6,FALSE)))","v":"senior"},{"$f":"IF($A30=\"\",\"\",IF(VLOOKUP($A30,Competitors!$A$2:$G$60,3,FALSE)=\"\",\"\",VLOOKUP($A30,Competitors!$A$2:$G$60,3,FALSE)))","v":""},{"$f":"IF($A30=\"\",\"\",IF(VLOOKUP($A30,Competitors!$A$2:$G$60,4,FALSE)=\"\",\"\",VLOOKUP($A30,Competitors!$A$2:$G$60,4,FALSE)))","v":""},{"$f":"IF(VLOOKUP(A30,Competitors!$A$1:$H$41,8,FALSE)=\"\",\"\",VLOOKUP(A30,Competitors!$A$1:$H$41,8,FALSE))","v":""},{"$f":"IF(IFERROR(VLOOKUP(($B$2&\"_\"&$A30),'Time Entry Sheet'!$A$3:$I$499,9,0),\"Error\")=\"Error\",\"\",IF(VLOOKUP(($B$2&\"_\"&$A30),'Time Entry Sheet'!$A$3:$I$499,9,FALSE)=\"wd\",\"wd\",VLOOKUP(($B$2&\"_\"&$A30),'Time Entry Sheet'!$A$3:$I$499,9,FALSE)*1))","v":"00:00:58.560"},{"$f":"IF(E30=\"Junior\",\"\",IF(I30=\"wd\",\"\",IF(K30<>\"\",\"\",I30)))","v":"00:00:58.560"},{"$f":"IF(IFERROR(VLOOKUP(($B$2&\"_\"&$A30),'Time Entry Sheet'!$A$3:$I$499,8,FALSE),\"Error\")=\"Error\",\"\",IF(VLOOKUP(($B$2&\"_\"&$A30),'Time Entry Sheet'!$A$3:$I$499,8,FALSE)=\"\",\"\",VLOOKUP(($B$2&\"_\"&$A30),'Time Entry Sheet'!$A$3:$I$499,8,FALSE)))","v":""},{"$f":"IF(IFERROR(VLOOKUP(($B$2&\"_\"&$A30),'Time Entry Sheet'!$A$3:$I$499,7,FALSE),\"Error\")=\"Error\",\"\",IF(VLOOKUP(($B$2&\"_\"&$A30),'Time Entry Sheet'!$A$3:$I$499,7,FALSE)=\"\",\"\",VLOOKUP(($B$2&\"_\"&$A30),'Time Entry Sheet'!$A$3:$I$499,7,FALSE)))","v":""},{"$f":"IF(A30=\"\",\"\",IF(I30=\"wd\",IF(E30=\"Senior\",$B$7,$C$7),IF(L30<>\"\",$B$7,IF(I30=\"\",IF(E30=\"Senior\",$B$8,$C$8),IF(K30=\"\",I30,I30+($B$5*K30))))))","v":"00:00:58.560"},{"$f":"IF(H30=\"Passenger\",\"\",M30)","v":"00:00:58.560"},{"$f":"IF(A30=\"\",\"\",IF(H30=\"Passenger\",\"P\",RANK(N30,$N$12:$N$51,1)))","v":12},{"$f":"IF(A30=\"\",\"\",M30+VLOOKUP(A30,'Test 9'!$A$12:$Q$59,16,FALSE))","v":"00:08:58.300"},{"$f":"IF(A30=\"\",\"\",IF(H30=\"Passenger\",\"P\",RANK(T30,$T$12:$T$51,1)))","v":8},null,{"$f":"IF(E30=\"Senior\",\"\",IF(I30=\"wd\",\"\",IF(K30<>\"\",\"\",I30)))","v":""},{"$f":"IF(H30=\"Passenger\",\"\",P30)","v":"00:08:58.300"}]
[20,{"$f":"IF($A31=\"\",\"\",IF(VLOOKUP($A31,Competitors!$A$2:$G$60,2,FALSE)=\"\",\"\",VLOOKUP($A31,Competitors!$A$2:$G$60,2,FALSE)))","v":"Ray Lampl"},{"$f":"IF($A31=\"\",\"\",IF(VLOOKUP($A31,Competitors!$A$2:$G$60,7,FALSE)=\"\",\"\",VLOOKUP($A31,Competitors!$A$2:$G$60,7,FALSE)))","v":""},{"$f":"IF($A31=\"\",\"\",IF(VLOOKUP($A31,Competitors!$A$2:$G$60,5,FALSE)=\"\",\"\",VLOOKUP($A31,Competitors!$A$2:$G$60,5,FALSE)))","v":""},{"$f":"IF($A31=\"\",\"\",IF(VLOOKUP($A31,Competitors!$A$2:$G$60,6,FALSE)=\"\",\"\",VLOOKUP($A31,Competitors!$A$2:$G$60,6,FALSE)))","v":"senior"},{"$f":"IF($A31=\"\",\"\",IF(VLOOKUP($A31,Competitors!$A$2:$G$60,3,FALSE)=\"\",\"\",VLOOKUP($A31,Competitors!$A$2:$G$60,3,FALSE)))","v":""},{"$f":"IF($A31=\"\",\"\",IF(VLOOKUP($A31,Competitors!$A$2:$G$60,4,FALSE)=\"\",\"\",VLOOKUP($A31,Competitors!$A$2:$G$60,4,FALSE)))","v":""},{"$f":"IF(VLOOKUP(A31,Competitors!$A$1:$H$41,8,FALSE)=\"\",\"\",VLOOKUP(A31,Competitors!$A$1:$H$41,8,FALSE))","v":""},{"$f":"IF(IFERROR(VLOOKUP(($B$2&\"_\"&$A31),'Time Entry Sheet'!$A$3:$I$499,9,0),\"Error\")=\"Error\",\"\",IF(VLOOKUP(($B$2&\"_\"&$A31),'Time Entry Sheet'!$A$3:$I$499,9,FALSE)=\"wd\",\"wd\",VLOOKUP(($B$2&\"_\"&$A31),'Time Entry Sheet'!$A$3:$I$499,9,FALSE)*1))","v":"00:00:56.330"},"00:00:56.330",{"$f":"IF(IFERROR(VLOOKUP(($B$2&\"_\"&$A31),'Time Entry Sheet'!$A$3:$I$499,8,FALSE),\"Error\")=\"Error\",\"\",IF(VLOOKUP(($B$2&\"_\"&$A31),'Time Entry Sheet'!$A$3:$I$499,8,FALSE)=\"\",\"\",VLOOKUP(($B$2&\"_\"&$A31),'Time Entry Sheet'!$A$3:$I$499,8,FALSE)))","v":""},{"$f":"IF(IFERROR(VLOOKUP(($B$2&\"_\"&$A31),'Time Entry Sheet'!$A$3:$I$499,7,FALSE),\"Error\")=\"Error\",\"\",IF(VLOOKUP(($B$2&\"_\"&$A31),'Time Entry Sheet'!$A$3:$I$499,7,FALSE)=\"\",\"\",VLOOKUP(($B$2&\"_\"&$A31),'Time Entry Sheet'!$A$3:$I$499,7,FALSE)))","v":""},"00:00:56.330","00:00:56.330",7,{"$f":"IF(A31=\"\",\"\",M31+VLOOKUP(A31,'Test 9'!$A$12:$Q$59,16,FALSE))","v":"00:08:40.250"},6,null,"","00:08:40.250"]
[21,{"$f":"IF($A32=\"\",\"\",IF(VLOOKUP($A32,Competitors!$A$2:$G$60,2,FALSE)=\"\",\"\",VLOOKUP($A32,Competitors!$A$2:$G$60,2,FALSE)))","v":""},{"$f":"IF($A32=\"\",\"\",IF(VLOOKUP($A32,Competitors!$A$2:$G$60,7,FALSE)=\"\",\"\",VLOOKUP($A32,Competitors!$A$2:$G$60,7,FALSE)))","v":""},{"$f":"IF($A32=\"\",\"\",IF(VLOOKUP($A32,Competitors!$A$2:$G$60,5,FALSE)=\"\",\"\",VLOOKUP($A32,Competitors!$A$2:$G$60,5,FALSE)))","v":""},{"$f":"IF($A32=\"\",\"\",IF(VLOOKUP($A32,Competitors!$A$2:$G$60,6,FALSE)=\"\",\"\",VLOOKUP($A32,Competitors!$A$2:$G$60,6,FALSE)))","v":"senior"},{"$f":"IF($A32=\"\",\"\",IF(VLOOKUP($A32,Competitors!$A$2:$G$60,3,FALSE)=\"\",\"\",VLOOKUP($A32,Competitors!$A$2:$G$60,3,FALSE)))","v":""},{"$f":"IF($A32=\"\",\"\",IF(VLOOKUP($A32,Competitors!$A$2:$G$60,4,FALSE)=\"\",\"\",VLOOKUP($A32,Competitors!$A$2:$G$60,4,FALSE)))","v":""},{"$f":"IF(VLOOKUP(A32,Competitors!$A$1:$H$41,8,FALSE)=\"\",\"\",VLOOKUP(A32,Competitors!$A$1:$H$41,8,FALSE))","v":""},{"$f":"IF(IFERROR(VLOOKUP(($B$2&\"_\"&$A32),'Time Entry Sheet'!$A$3:$I$499,9,0),\"Error\")=\"Error\",\"\",IF(VLOOKUP(($B$2&\"_\"&$A32),'Time Entry Sheet'!$A$3:$I$499,9,FALSE)=\"wd\",\"wd\",VLOOKUP(($B$2&\"_\"&$A32),'Time Entry Sheet'!$A$3:$I$499,9,FALSE)*1))","v":""},"",{"$f":"IF(IFERROR(VLOOKUP(($B$2&\"_\"&$A32),'Time Entry Sheet'!$A$3:$I$499,8,FALSE),\"Error\")=\"Error\",\"\",IF(VLOOKUP(($B$2&\"_\"&$A32),'Time Entry Sheet'!$A$3:$I$499,8,FALSE)=\"\",\"\",VLOOKUP(($B$2&\"_\"&$A32),'Time Entry Sheet'!$A$3:$I$499,8,FALSE)))","v":""},{"$f":"IF(IFERROR(VLOOKUP(($B$2&\"_\"&$A32),'Time Entry Sheet'!$A$3:$I$499,7,FALSE),\"Error\")=\"Error\",\"\",IF(VLOOKUP(($B$2&\"_\"&$A32),'Time Entry Sheet'!$A$3:$I$499,7,FALSE)=\"\",\"\",VLOOKUP(($B$2&\"_\"&$A32),'Time Entry Sheet'!$A$3:$I$499,7,FALSE)))","v":""},"00:01:29.050","00:01:29.050",19,{"$f":"IF(A32=\"\",\"\",M32+VLOOKUP(A32,'Test 9'!$A$12:$Q$59,16,FALSE))","v":"00:12:15.090"},20,null,"","00:12:15.090"]
[22,{"$f":"IF($A33=\"\",\"\",IF(VLOOKUP($A33,Competitors!$A$2:$G$60,2,FALSE)=\"\",\"\",VLOOKUP($A33,Competitors!$A$2:$G$60,2,FALSE)))","v":""},{"$f":"IF($A33=\"\",\"\",IF(VLOOKUP($A33,Competitors!$A$2:$G$60,7,FALSE)=\"\",\"\",VLOOKUP($A33,Competitors!$A$2:$G$60,7,FALSE)))","v":""},{"$f":"IF($A33=\"\",\"\",IF(VLOOKUP($A33,Competitors!$A$2:$G$60,5,FALSE)=\"\",\"\",VLOOKUP($A33,Competitors!$A$2:$G$60,5,FALSE)))","v":""},{"$f":"IF($A33=\"\",\"\",IF(VLOOKUP($A33,Competitors!$A$2:$G$60,6,FALSE)=\"\",\"\",VLOOKUP($A33,Competitors!$A$2:$G$60,6,FALSE)))","v":"senior"},{"$f":"IF($A33=\"\",\"\",IF(VLOOKUP($A33,Competitors!$A$2:$G$60,3,FALSE)=\"\",\"\",VLOOKUP($A33,Competitors!$A$2:$G$60,3,FALSE)))","v":""},{"$f":"IF($A33=\"\",\"\",IF(VLOOKUP($A33,Competitors!$A$2:$G$60,4,FALSE)=\"\",\"\",VLOOKUP($A33,Competitors!$A$2:$G$60,4,FALSE)))","v":""},{"$f":"IF(VLOOKUP(A33,Competitors!$A$1:$H$41,8,FALSE)=\"\",\"\",VLOOKUP(A33,Competitors!$A$1:$H$41,8,FALSE))","v":""},{"$f":"IF(IFERROR(VLOOKUP(($B$2&\"_\"&$A33),'Time Entry Sheet'!$A$3:$I$499,9,0),\"Error\")=\"Error\",\"\",IF(VLOOKUP(($B$2&\"_\"&$A33),'Time Entry Sheet'!$A$3:$I$499,9,FALSE)=\"wd\",\"wd\",VLOOKUP(($B$2&\"_\"&$A33),'Time Entry Sheet'!$A$3:$I$499,9,FALSE)*1))","v":""},"",{"$f":"IF(IFERROR(VLOOKUP(($B$2&\"_\"&$A33),'Time Entry Sheet'!$A$3:$I$499,8,FALSE),\"Error\")=\"Error\",\"\",IF(VLOOKUP(($B$2&\"_\"&$A33),'Time Entry Sheet'!$A$3:$I$499,8,FALSE)=\"\",\"\",VLOOKUP(($B$2&\"_\"&$A33),'Time Entry Sheet'!$A$3:$I$499,8,FALSE)))","v":""},{"$f":"IF(IFERROR(VLOOKUP(($B$2&\"_\"&$A33),'Time Entry Sheet'!$A$3:$I$499,7,FALSE),\"Error\")=\"Error\",\"\",IF(VLOOKUP(($B$2&\"_\"&$A33),'Time Entry Sheet'!$A$3:$I$499,7,FALSE)=\"\",\"\",VLOOKUP(($B$2&\"_\"&$A33),'Time Entry Sheet'!$A$3:$I$499,7,FALSE)))","v":""},"00:01:29.050","00:01:29.050",19,{"$f":"IF(A33=\"\",\"\",M33+VLOOKUP(A33,'Test 9'!$A$12:$Q$59,16,FALSE))","v":"00:12:15.090"},20,null,"","00:12:15.090"]
[23,{"$f":"IF($A34=\"\",\"\",IF(VLOOKUP($A34,Competitors!$A$2:$G$60,2,FALSE)=\"\",\"\",VLOOKUP($A34,Competitors!$A$2:$G$60,2,FALSE)))","v":""},{"$f":"IF($A34=\"\",\"\",IF(VLOOKUP($A34,Competitors!$A$2:$G$60,7,FALSE)=\"\",\"\",VLOOKUP($A34,Competitors!$A$2:$G$60,7,FALSE)))","v":""},{"$f":"IF($A34=\"\",\"\",IF(VLOOKUP($A34,Competitors!$A$2:$G$60,5,FALSE)=\"\",\"\",VLOOKUP($A34,Competitors!$A$2:$G$60,5,FALSE)))","v":""},{"$f":"IF($A34=\"\",\"\",IF(VLOOKUP($A34,Competitors!$A$2:$G$60,6,FALSE)=\"\",\"\",VLOOKUP($A34,Competitors!$A$2:$G$60,6,FALSE)))","v":"senior"},{"$f":"IF($A34=\"\",\"\",IF(VLOOKUP($A34,Competitors!$A$2:$G$60,3,FALSE)=\"\",\"\",VLOOKUP($A34,Competitors!$A$2:$G$60,3,FALSE)))","v":""},{"$f":"IF($A34=\"\",\"\",IF(VLOOKUP($A34,Competitors!$A$2:$G$60,4,FALSE)=\"\",\"\",VLOOKUP($A34,Competitors!$A$2:$G$60,4,FALSE)))","v":""},{"$f":"IF(VLOOKUP(A34,Competitors!$A$1:$H$41,8,FALSE)=\"\",\"\",VLOOKUP(A34,Competitors!$A$1:$H$41,8,FALSE))","v":""},{"$f":"IF(IFERROR(VLOOKUP(($B$2&\"_\"&$A34),'Time Entry Sheet'!$A$3:$I$499,9,0),\"Error\")=\"Error\",\"\",IF(VLOOKUP(($B$2&\"_\"&$A34),'Time Entry Sheet'!$A$3:$I$499,9,FALSE)=\"wd\",\"wd\",VLOOKUP(($B$2&\"_\"&$A34),'Time Entry Sheet'!$A$3:$I$499,9,FALSE)*1))","v":""},"",{"$f":"IF(IFERROR(VLOOKUP(($B$2&\"_\"&$A34),'Time Entry Sheet'!$A$3:$I$499,8,FALSE),\"Error\")=\"Error\",\"\",IF(VLOOKUP(($B$2&\"_\"&$A34),'Time Entry Sheet'!$A$3:$I$499,8,FALSE)=\"\",\"\",VLOOKUP(($B$2&\"_\"&$A34),'Time Entry Sheet'!$A$3:$I$499,8,FALSE)))","v":""},{"$f":"IF(IFERROR(VLOOKUP(($B$2&\"_\"&$A34),'Time Entry Sheet'!$A$3:$I$499,7,FALSE),\"Error\")=\"Error\",\"\",IF(VLOOKUP(($B$2&\"_\"&$A34),'Time Entry Sheet'!$A$3:$I$499,7,FALSE)=\"\",\"\",VLOOKUP(($B$2&\"_\"&$A34),'Time Entry Sheet'!$A$3:$I$499,7,FALSE)))","v":""},"00:01:29.050","00:01:29.050",19,{"$f":"IF(A34=\"\",\"\",M34+VLOOKUP(A34,'Test 9'!$A$12:$Q$59,16,FALSE))","v":"00:12:15.090"},20,null,"","00:12:15.090"]
[24,{"$f":"IF($A35=\"\",\"\",IF(VLOOKUP($A35,Competitors!$A$2:$G$60,2,FALSE)=\"\",\"\",VLOOKUP($A35,Competitors!$A$2:$G$60,2,FALSE)))","v":""},{"$f":"IF($A35=\"\",\"\",IF(VLOOKUP($A35,Competitors!$A$2:$G$60,7,FALSE)=\"\",\"\",VLOOKUP($A35,Competitors!$A$2:$G$60,7,FALSE)))","v":""},{"$f":"IF($A35=\"\",\"\",IF(VLOOKUP($A35,Competitors!$A$2:$G$60,5,FALSE)=\"\",\"\",VLOOKUP($A35,Competitors!$A$2:$G$60,5,FALSE)))","v":""},{"$f":"IF($A35=\"\",\"\",IF(VLOOKUP($A35,Competitors!$A$2:$G$60,6,FALSE)=\"\",\"\",VLOOKUP($A35,Competitors!$A$2:$G$60,6,FALSE)))","v":"senior"},{"$f":"IF($A35=\"\",\"\",IF(VLOOKUP($A35,Competitors!$A$2:$G$60,3,FALSE)=\"\",\"\",VLOOKUP($A35,Competitors!$A$2:$G$60,3,FALSE)))","v":""},{"$f":"IF($A35=\"\",\"\",IF(VLOOKUP($A35,Competitors!$A$2:$G$60,4,FALSE)=\"\",\"\",VLOOKUP($A35,Competitors!$A$2:$G$60,4,FALSE)))","v":""},{"$f":"IF(VLOOKUP(A35,Competitors!$A$1:$H$41,8,FALSE)=\"\",\"\",VLOOKUP(A35,Competitors!$A$1:$H$41,8,FALSE))","v":""},{"$f":"IF(IFERROR(VLOOKUP(($B$2&\"_\"&$A35),'Time Entry Sheet'!$A$3:$I$499,9,0),\"Error\")=\"Error\",\"\",IF(VLOOKUP(($B$2&\"_\"&$A35),'Time Entry Sheet'!$A$3:$I$499,9,FALSE)=\"wd\",\"wd\",VLOOKUP(($B$2&\"_\"&$A35),'Time Entry Sheet'!$A$3:$I$499,9,FALSE)*1))","v":""},"",{"$f":"IF(IFERROR(VLOOKUP(($B$2&\"_\"&$A35),'Time Entry Sheet'!$A$3:$I$499,8,FALSE),\"Error\")=\"Error\",\"\",IF(VLOOKUP(($B$2&\"_\"&$A35),'Time Entry Sheet'!$A$3:$I$499,8,FALSE)=\"\",\"\",VLOOKUP(($B$2&\"_\"&$A35),'Time Entry Sheet'!$A$3:$I$499,8,FALSE)))","v":""},{"$f":"IF(IFERROR(VLOOKUP(($B$2&\"_\"&$A35),'Time Entry Sheet'!$A$3:$I$499,7,FALSE),\"Error\")=\"Error\",\"\",IF(VLOOKUP(($B$2&\"_\"&$A35),'Time Entry Sheet'!$A$3:$I$499,7,FALSE)=\"\",\"\",VLOOKUP(($B$2&\"_\"&$A35),'Time Entry Sheet'!$A$3:$I$499,7,FALSE)))","v":""},"00:01:29.050","00:01:29.050",19,{"$f":"IF(A35=\"\",\"\",M35+VLOOKUP(A35,'Test 9'!$A$12:$Q$59,16,FALSE))","v":"00:12:15.090"},20,null,"","00:12:15.090"]
[25,{"$f":"IF($A36=\"\",\"\",IF(VLOOKUP($A36,Competitors!$A$2:$G$60,2,FALSE)=\"\",\"\",VLOOKUP($A36,Competitors!$A$2:$G$60,2,FALSE)))","v":""},{"$f":"IF($A36=\"\",\"\",IF(VLOOKUP($A36,Competitors!$A$2:$G$60,7,FALSE)=\"\",\"\",VLOOKUP($A36,Competitors!$A$2:$G$60,7,FALSE)))","v":""},{"$f":"IF($A36=\"\",\"\",IF(VLOOKUP($A36,Competitors!$A$2:$G$60,5,FALSE)=\"\",\"\",VLOOKUP($A36,Competitors!$A$2:$G$60,5,FALSE)))","v":""},{"$f":"IF($A36=\"\",\"\",IF(VLOOKUP($A36,Competitors!$A$2:$G$60,6,FALSE)=\"\",\"\",VLOOKUP($A36,Competitors!$A$2:$G$60,6,FALSE)))","v":"senior"},{"$f":"IF($A36=\"\",\"\",IF(VLOOKUP($A36,Competitors!$A$2:$G$60,3,FALSE)=\"\",\"\",VLOOKUP($A36,Competitors!$A$2:$G$60,3,FALSE)))","v":""},{"$f":"IF($A36=\"\",\"\",IF(VLOOKUP($A36,Competitors!$A$2:$G$60,4,FALSE)=\"\",\"\",VLOOKUP($A36,Competitors!$A$2:$G$60,4,FALSE)))","v":""},{"$f":"IF(VLOOKUP(A36,Competitors!$A$1:$H$41,8,FALSE)=\"\",\"\",VLOOKUP(A36,Competitors!$A$1:$H$41,8,FALSE))","v":""},{"$f":"IF(IFERROR(VLOOKUP(($B$2&\"_\"&$A36),'Time Entry Sheet'!$A$3:$I$499,9,0),\"Error\")=\"Error\",\"\",IF(VLOOKUP(($B$2&\"_\"&$A36),'Time Entry Sheet'!$A$3:$I$499,9,FALSE)=\"wd\",\"wd\",VLOOKUP(($B$2&\"_\"&$A36),'Time Entry Sheet'!$A$3:$I$499,9,FALSE)*1))","v":""},"",{"$f":"IF(IFERROR(VLOOKUP(($B$2&\"_\"&$A36),'Time Entry Sheet'!$A$3:$I$499,8,FALSE),\"Error\")=\"Error\",\"\",IF(VLOOKUP(($B$2&\"_\"&$A36),'Time Entry Sheet'!$A$3:$I$499,8,FALSE)=\"\",\"\",VLOOKUP(($B$2&\"_\"&$A36),'Time Entry Sheet'!$A$3:$I$499,8,FALSE)))","v":""},{"$f":"IF(IFERROR(VLOOKUP(($B$2&\"_\"&$A36),'Time Entry Sheet'!$A$3:$I$499,7,FALSE),\"Error\")=\"Error\",\"\",IF(VLOOKUP(($B$2&\"_\"&$A36),'Time Entry Sheet'!$A$3:$I$499,7,FALSE)=\"\",\"\",VLOOKUP(($B$2&\"_\"&$A36),'Time Entry Sheet'!$A$3:$I$499,7,FALSE)))","v":""},"00:01:29.050","00:01:29.050",19,{"$f":"IF(A36=\"\",\"\",M36+VLOOKUP(A36,'Test 9'!$A$12:$Q$59,16,FALSE))","v":"00:12:15.090"},20,null,"","00:12:15.090"]
[26,{"$f":"IF($A37=\"\",\"\",IF(VLOOKUP($A37,Competitors!$A$2:$G$60,2,FALSE)=\"\",\"\",VLOOKUP($A37,Competitors!$A$2:$G$60,2,FALSE)))","v":""},{"$f":"IF($A37=\"\",\"\",IF(VLOOKUP($A37,Competitors!$A$2:$G$60,7,FALSE)=\"\",\"\",VLOOKUP($A37,Competitors!$A$2:$G$60,7,FALSE)))","v":""},{"$f":"IF($A37=\"\",\"\",IF(VLOOKUP($A37,Competitors!$A$2:$G$60,5,FALSE)=\"\",\"\",VLOOKUP($A37,Competitors!$A$2:$G$60,5,FALSE)))","v":""},{"$f":"IF($A37=\"\",\"\",IF(VLOOKUP($A37,Competitors!$A$2:$G$60,6,FALSE)=\"\",\"\",VLOOKUP($A37,Competitors!$A$2:$G$60,6,FALSE)))","v":"senior"},{"$f":"IF($A37=\"\",\"\",IF(VLOOKUP($A37,Competitors!$A$2:$G$60,3,FALSE)=\"\",\"\",VLOOKUP($A37,Competitors!$A$2:$G$60,3,FALSE)))","v":""},{"$f":"IF($A37=\"\",\"\",IF(VLOOKUP($A37,Competitors!$A$2:$G$60,4,FALSE)=\"\",\"\",VLOOKUP($A37,Competitors!$A$2:$G$60,4,FALSE)))","v":""},{"$f":"IF(VLOOKUP(A37,Competitors!$A$1:$H$41,8,FALSE)=\"\",\"\",VLOOKUP(A37,Competitors!$A$1:$H$41,8,FALSE))","v":""},{"$f":"IF(IFERROR(VLOOKUP(($B$2&\"_\"&$A37),'Time Entry Sheet'!$A$3:$I$499,9,0),\"Error\")=\"Error\",\"\",IF(VLOOKUP(($B$2&\"_\"&$A37),'Time Entry Sheet'!$A$3:$I$499,9,FALSE)=\"wd\",\"wd\",VLOOKUP(($B$2&\"_\"&$A37),'Time Entry Sheet'!$A$3:$I$499,9,FALSE)*1))","v":""},"",{"$f":"IF(IFERROR(VLOOKUP(($B$2&\"_\"&$A37),'Time Entry Sheet'!$A$3:$I$499,8,FALSE),\"Error\")=\"Error\",\"\",IF(VLOOKUP(($B$2&\"_\"&$A37),'Time Entry Sheet'!$A$3:$I$499,8,FALSE)=\"\",\"\",VLOOKUP(($B$2&\"_\"&$A37),'Time Entry Sheet'!$A$3:$I$499,8,FALSE)))","v":""},{"$f":"IF(IFERROR(VLOOKUP(($B$2&\"_\"&$A37),'Time Entry Sheet'!$A$3:$I$499,7,FALSE),\"Error\")=\"Error\",\"\",IF(VLOOKUP(($B$2&\"_\"&$A37),'Time Entry Sheet'!$A$3:$I$499,7,FALSE)=\"\",\"\",VLOOKUP(($B$2&\"_\"&$A37),'Time Entry Sheet'!$A$3:$I$499,7,FALSE)))","v":""},"00:01:29.050","00:01:29.050",19,{"$f":"IF(A37=\"\",\"\",M37+VLOOKUP(A37,'Test 9'!$A$12:$Q$59,16,FALSE))","v":"00:12:15.090"},20,null,"","00:12:15.090"]
[27,{"$f":"IF($A38=\"\",\"\",IF(VLOOKUP($A38,Competitors!$A$2:$G$60,2,FALSE)=\"\",\"\",VLOOKUP($A38,Competitors!$A$2:$G$60,2,FALSE)))","v":""},{"$f":"IF($A38=\"\",\"\",IF(VLOOKUP($A38,Competitors!$A$2:$G$60,7,FALSE)=\"\",\"\",VLOOKUP($A38,Competitors!$A$2:$G$60,7,FALSE)))","v":""},{"$f":"IF($A38=\"\",\"\",IF(VLOOKUP($A38,Competitors!$A$2:$G$60,5,FALSE)=\"\",\"\",VLOOKUP($A38,Competitors!$A$2:$G$60,5,FALSE)))","v":""},{"$f":"IF($A38=\"\",\"\",IF(VLOOKUP($A38,Competitors!$A$2:$G$60,6,FALSE)=\"\",\"\",VLOOKUP($A38,Competitors!$A$2:$G$60,6,FALSE)))","v":"senior"},{"$f":"IF($A38=\"\",\"\",IF(VLOOKUP($A38,Competitors!$A$2:$G$60,3,FALSE)=\"\",\"\",VLOOKUP($A38,Competitors!$A$2:$G$60,3,FALSE)))","v":""},{"$f":"IF($A38=\"\",\"\",IF(VLOOKUP($A38,Competitors!$A$2:$G$60,4,FALSE)=\"\",\"\",VLOOKUP($A38,Competitors!$A$2:$G$60,4,FALSE)))","v":""},{"$f":"IF(VLOOKUP(A38,Competitors!$A$1:$H$41,8,FALSE)=\"\",\"\",VLOOKUP(A38,Competitors!$A$1:$H$41,8,FALSE))","v":""},{"$f":"IF(IFERROR(VLOOKUP(($B$2&\"_\"&$A38),'Time Entry Sheet'!$A$3:$I$499,9,0),\"Error\")=\"Error\",\"\",IF(VLOOKUP(($B$2&\"_\"&$A38),'Time Entry Sheet'!$A$3:$I$499,9,FALSE)=\"wd\",\"wd\",VLOOKUP(($B$2&\"_\"&$A38),'Time Entry Sheet'!$A$3:$I$499,9,FALSE)*1))","v":""},"",{"$f":"IF(IFERROR(VLOOKUP(($B$2&\"_\"&$A38),'Time Entry Sheet'!$A$3:$I$499,8,FALSE),\"Error\")=\"Error\",\"\",IF(VLOOKUP(($B$2&\"_\"&$A38),'Time Entry Sheet'!$A$3:$I$499,8,FALSE)=\"\",\"\",VLOOKUP(($B$2&\"_\"&$A38),'Time Entry Sheet'!$A$3:$I$499,8,FALSE)))","v":""},{"$f":"IF(IFERROR(VLOOKUP(($B$2&\"_\"&$A38),'Time Entry Sheet'!$A$3:$I$499,7,FALSE),\"Error\")=\"Error\",\"\",IF(VLOOKUP(($B$2&\"_\"&$A38),'Time Entry Sheet'!$A$3:$I$499,7,FALSE)=\"\",\"\",VLOOKUP(($B$2&\"_\"&$A38),'Time Entry Sheet'!$A$3:$I$499,7,FALSE)))","v":""},"00:01:29.050","00:01:29.050",19,{"$f":"IF(A38=\"\",\"\",M38+VLOOKUP(A38,'Test 9'!$A$12:$Q$59,16,FALSE))","v":"00:12:15.090"},20,null,"","00:12:15.090"]
[28,{"$f":"IF($A39=\"\",\"\",IF(VLOOKUP($A39,Competitors!$A$2:$G$60,2,FALSE)=\"\",\"\",VLOOKUP($A39,Competitors!$A$2:$G$60,2,FALSE)))","v":""},{"$f":"IF($A39=\"\",\"\",IF(VLOOKUP($A39,Competitors!$A$2:$G$60,7,FALSE)=\"\",\"\",VLOOKUP($A39,Competitors!$A$2:$G$60,7,FALSE)))","v":""},{"$f":"IF($A39=\"\",\"\",IF(VLOOKUP($A39,Competitors!$A$2:$G$60,5,FALSE)=\"\",\"\",VLOOKUP($A39,Competitors!$A$2:$G$60,5,FALSE)))","v":""},{"$f":"IF($A39=\"\",\"\",IF(VLOOKUP($A39,Competitors!$A$2:$G$60,6,FALSE)=\"\",\"\",VLOOKUP($A39,Competitors!$A$2:$G$60,6,FALSE)))","v":"senior"},{"$f":"IF($A39=\"\",\"\",IF(VLOOKUP($A39,Competitors!$A$2:$G$60,3,FALSE)=\"\",\"\",VLOOKUP($A39,Competitors!$A$2:$G$60,3,FALSE)))","v":""},{"$f":"IF($A39=\"\",\"\",IF(VLOOKUP($A39,Competitors!$A$2:$G$60,4,FALSE)=\"\",\"\",VLOOKUP($A39,Competitors!$A$2:$G$60,4,FALSE)))","v":""},{"$f":"IF(VLOOKUP(A39,Competitors!$A$1:$H$41,8,FALSE)=\"\",\"\",VLOOKUP(A39,Competitors!$A$1:$H$41,8,FALSE))","v":""},{"$f":"IF(IFERROR(VLOOKUP(($B$2&\"_\"&$A39),'Time Entry Sheet'!$A$3:$I$499,9,0),\"Error\")=\"Error\",\"\",IF(VLOOKUP(($B$2&\"_\"&$A39),'Time Entry Sheet'!$A$3:$I$499,9,FALSE)=\"wd\",\"wd\",VLOOKUP(($B$2&\"_\"&$A39),'Time Entry Sheet'!$A$3:$I$499,9,FALSE)*1))","v":""},"",{"$f":"IF(IFERROR(VLOOKUP(($B$2&\"_\"&$A39),'Time Entry Sheet'!$A$3:$I$499,8,FALSE),\"Error\")=\"Error\",\"\",IF(VLOOKUP(($B$2&\"_\"&$A39),'Time Entry Sheet'!$A$3:$I$499,8,FALSE)=\"\",\"\",VLOOKUP(($B$2&\"_\"&$A39),'Time Entry Sheet'!$A$3:$I$499,8,FALSE)))","v":""},{"$f":"IF(IFERROR(VLOOKUP(($B$2&\"_\"&$A39),'Time Entry Sheet'!$A$3:$I$499,7,FALSE),\"Error\")=\"Error\",\"\",IF(VLOOKUP(($B$2&\"_\"&$A39),'Time Entry Sheet'!$A$3:$I$499,7,FALSE)=\"\",\"\",VLOOKUP(($B$2&\"_\"&$A39),'Time Entry Sheet'!$A$3:$I$499,7,FALSE)))","v":""},"00:01:29.050","00:01:29.050",19,{"$f":"IF(A39=\"\",\"\",M39+VLOOKUP(A39,'Test 9'!$A$12:$Q$59,16,FALSE))","v":"00:12:15.090"},20,null,null,"00:12:15.090"]
[29,{"$f":"IF($A40=\"\",\"\",IF(VLOOKUP($A40,Competitors!$A$2:$G$60,2,FALSE)=\"\",\"\",VLOOKUP($A40,Competitors!$A$2:$G$60,2,FALSE)))","v":""},{"$f":"IF($A40=\"\",\"\",IF(VLOOKUP($A40,Competitors!$A$2:$G$60,7,FALSE)=\"\",\"\",VLOOKUP($A40,Competitors!$A$2:$G$60,7,FALSE)))","v":""},{"$f":"IF($A40=\"\",\"\",IF(VLOOKUP($A40,Competitors!$A$2:$G$60,5,FALSE)=\"\",\"\",VLOOKUP($A40,Competitors!$A$2:$G$60,5,FALSE)))","v":""},{"$f":"IF($A40=\"\",\"\",IF(VLOOKUP($A40,Competitors!$A$2:$G$60,6,FALSE)=\"\",\"\",VLOOKUP($A40,Competitors!$A$2:$G$60,6,FALSE)))","v":"senior"},{"$f":"IF($A40=\"\",\"\",IF(VLOOKUP($A40,Competitors!$A$2:$G$60,3,FALSE)=\"\",\"\",VLOOKUP($A40,Competitors!$A$2:$G$60,3,FALSE)))","v":""},{"$f":"IF($A40=\"\",\"\",IF(VLOOKUP($A40,Competitors!$A$2:$G$60,4,FALSE)=\"\",\"\",VLOOKUP($A40,Competitors!$A$2:$G$60,4,FALSE)))","v":""},{"$f":"IF(VLOOKUP(A40,Competitors!$A$1:$H$41,8,FALSE)=\"\",\"\",VLOOKUP(A40,Competitors!$A$1:$H$41,8,FALSE))","v":""},{"$f":"IF(IFERROR(VLOOKUP(($B$2&\"_\"&$A40),'Time Entry Sheet'!$A$3:$I$499,9,0),\"Error\")=\"Error\",\"\",IF(VLOOKUP(($B$2&\"_\"&$A40),'Time Entry Sheet'!$A$3:$I$499,9,FALSE)=\"wd\",\"wd\",VLOOKUP(($B$2&\"_\"&$A40),'Time Entry Sheet'!$A$3:$I$499,9,FALSE)*1))","v":""},"",{"$f":"IF(IFERROR(VLOOKUP(($B$2&\"_\"&$A40),'Time Entry Sheet'!$A$3:$I$499,8,FALSE),\"Error\")=\"Error\",\"\",IF(VLOOKUP(($B$2&\"_\"&$A40),'Time Entry Sheet'!$A$3:$I$499,8,FALSE)=\"\",\"\",VLOOKUP(($B$2&\"_\"&$A40),'Time Entry Sheet'!$A$3:$I$499,8,FALSE)))","v":""},{"$f":"IF(IFERROR(VLOOKUP(($B$2&\"_\"&$A40),'Time Entry Sheet'!$A$3:$I$499,7,FALSE),\"Error\")=\"Error\",\"\",IF(VLOOKUP(($B$2&\"_\"&$A40),'Time Entry Sheet'!$A$3:$I$499,7,FALSE)=\"\",\"\",VLOOKUP(($B$2&\"_\"&$A40),'Time Entry Sheet'!$A$3:$I$499,7,FALSE)))","v":""},"00:01:29.050","00:01:29.050",19,{"$f":"IF(A40=\"\",\"\",M40+VLOOKUP(A40,'Test 9'!$A$12:$Q$59,16,FALSE))","v":"00:12:15.090"},20,null,"","00:12:15.090"]
[30,{"$f":"IF($A41=\"\",\"\",IF(VLOOKUP($A41,Competitors!$A$2:$G$60,2,FALSE)=\"\",\"\",VLOOKUP($A41,Competitors!$A$2:$G$60,2,FALSE)))","v":""},{"$f":"IF($A41=\"\",\"\",IF(VLOOKUP($A41,Competitors!$A$2:$G$60,7,FALSE)=\"\",\"\",VLOOKUP($A41,Competitors!$A$2:$G$60,7,FALSE)))","v":""},{"$f":"IF($A41=\"\",\"\",IF(VLOOKUP($A41,Competitors!$A$2:$G$60,5,FALSE)=\"\",\"\",VLOOKUP($A41,Competitors!$A$2:$G$60,5,FALSE)))","v":""},{"$f":"IF($A41=\"\",\"\",IF(VLOOKUP($A41,Competitors!$A$2:$G$60,6,FALSE)=\"\",\"\",VLOOKUP($A41,Competitors!$A$2:$G$60,6,FALSE)))","v":"senior"},{"$f":"IF($A41=\"\",\"\",IF(VLOOKUP($A41,Competitors!$A$2:$G$60,3,FALSE)=\"\",\"\",VLOOKUP($A41,Competitors!$A$2:$G$60,3,FALSE)))","v":""},{"$f":"IF($A41=\"\",\"\",IF(VLOOKUP($A41,Competitors!$A$2:$G$60,4,FALSE)=\"\",\"\",VLOOKUP($A41,Competitors!$A$2:$G$60,4,FALSE)))","v":""},{"$f":"IF(VLOOKUP(A41,Competitors!$A$1:$H$41,8,FALSE)=\"\",\"\",VLOOKUP(A41,Competitors!$A$1:$H$41,8,FALSE))","v":""},{"$f":"IF(IFERROR(VLOOKUP(($B$2&\"_\"&$A41),'Time Entry Sheet'!$A$3:$I$499,9,0),\"Error\")=\"Error\",\"\",IF(VLOOKUP(($B$2&\"_\"&$A41),'Time Entry Sheet'!$A$3:$I$499,9,FALSE)=\"wd\",\"wd\",VLOOKUP(($B$2&\"_\"&$A41),'Time Entry Sheet'!$A$3:$I$499,9,FALSE)*1))","v":""},"",{"$f":"IF(IFERROR(VLOOKUP(($B$2&\"_\"&$A41),'Time Entry Sheet'!$A$3:$I$499,8,FALSE),\"Error\")=\"Error\",\"\",IF(VLOOKUP(($B$2&\"_\"&$A41),'Time Entry Sheet'!$A$3:$I$499,8,FALSE)=\"\",\"\",VLOOKUP(($B$2&\"_\"&$A41),'Time Entry Sheet'!$A$3:$I$499,8,FALSE)))","v":""},{"$f":"IF(IFERROR(VLOOKUP(($B$2&\"_\"&$A41),'Time Entry Sheet'!$A$3:$I$499,7,FALSE),\"Error\")=\"Error\",\"\",IF(VLOOKUP(($B$2&\"_\"&$A41),'Time Entry Sheet'!$A$3:$I$499,7,FALSE)=\"\",\"\",VLOOKUP(($B$2&\"_\"&$A41),'Time Entry Sheet'!$A$3:$I$499,7,FALSE)))","v":""},"00:01:29.050","00:01:29.050",19,{"$f":"IF(A41=\"\",\"\",M41+VLOOKUP(A41,'Test 9'!$A$12:$Q$59,16,FALSE))","v":"00:12:15.090"},20,null,"","00:12:15.090"]
[31,{"$f":"IF($A42=\"\",\"\",IF(VLOOKUP($A42,Competitors!$A$2:$G$60,2,FALSE)=\"\",\"\",VLOOKUP($A42,Competitors!$A$2:$G$60,2,FALSE)))","v":""},{"$f":"IF($A42=\"\",\"\",IF(VLOOKUP($A42,Competitors!$A$2:$G$60,7,FALSE)=\"\",\"\",VLOOKUP($A42,Competitors!$A$2:$G$60,7,FALSE)))","v":""},{"$f":"IF($A42=\"\",\"\",IF(VLOOKUP($A42,Competitors!$A$2:$G$60,5,FALSE)=\"\",\"\",VLOOKUP($A42,Competitors!$A$2:$G$60,5,FALSE)))","v":""},{"$f":"IF($A42=\"\",\"\",IF(VLOOKUP($A42,Competitors!$A$2:$G$60,6,FALSE)=\"\",\"\",VLOOKUP($A42,Competitors!$A$2:$G$60,6,FALSE)))","v":"senior"},{"$f":"IF($A42=\"\",\"\",IF(VLOOKUP($A42,Competitors!$A$2:$G$60,3,FALSE)=\"\",\"\",VLOOKUP($A42,Competitors!$A$2:$G$60,3,FALSE)))","v":""},{"$f":"IF($A42=\"\",\"\",IF(VLOOKUP($A42,Competitors!$A$2:$G$60,4,FALSE)=\"\",\"\",VLOOKUP($A42,Competitors!$A$2:$G$60,4,FALSE)))","v":""},{"$f":"IF(VLOOKUP(A42,Competitors!$A$1:$H$41,8,FALSE)=\"\",\"\",VLOOKUP(A42,Competitors!$A$1:$H$41,8,FALSE))","v":""},{"$f":"IF(IFERROR(VLOOKUP(($B$2&\"_\"&$A42),'Time Entry Sheet'!$A$3:$I$499,9,0),\"Error\")=\"Error\",\"\",IF(VLOOKUP(($B$2&\"_\"&$A42),'Time Entry Sheet'!$A$3:$I$499,9,FALSE)=\"wd\",\"wd\",VLOOKUP(($B$2&\"_\"&$A42),'Time Entry Sheet'!$A$3:$I$499,9,FALSE)*1))","v":""},"",{"$f":"IF(IFERROR(VLOOKUP(($B$2&\"_\"&$A42),'Time Entry Sheet'!$A$3:$I$499,8,FALSE),\"Error\")=\"Error\",\"\",IF(VLOOKUP(($B$2&\"_\"&$A42),'Time Entry Sheet'!$A$3:$I$499,8,FALSE)=\"\",\"\",VLOOKUP(($B$2&\"_\"&$A42),'Time Entry Sheet'!$A$3:$I$499,8,FALSE)))","v":""},{"$f":"IF(IFERROR(VLOOKUP(($B$2&\"_\"&$A42),'Time Entry Sheet'!$A$3:$I$499,7,FALSE),\"Error\")=\"Error\",\"\",IF(VLOOKUP(($B$2&\"_\"&$A42),'Time Entry Sheet'!$A$3:$I$499,7,FALSE)=\"\",\"\",VLOOKUP(($B$2&\"_\"&$A42),'Time Entry Sheet'!$A$3:$I$499,7,FALSE)))","v":""},"00:01:29.050","00:01:29.050",19,{"$f":"IF(A42=\"\",\"\",M42+VLOOKUP(A42,'Test 9'!$A$12:$Q$59,16,FALSE))","v":"00:12:15.090"},20,null,"","00:12:15.090"]
[32,{"$f":"IF($A43=\"\",\"\",IF(VLOOKUP($A43,Competitors!$A$2:$G$60,2,FALSE)=\"\",\"\",VLOOKUP($A43,Competitors!$A$2:$G$60,2,FALSE)))","v":""},{"$f":"IF($A43=\"\",\"\",IF(VLOOKUP($A43,Competitors!$A$2:$G$60,7,FALSE)=\"\",\"\",VLOOKUP($A43,Competitors!$A$2:$G$60,7,FALSE)))","v":""},{"$f":"IF($A43=\"\",\"\",IF(VLOOKUP($A43,Competitors!$A$2:$G$60,5,FALSE)=\"\",\"\",VLOOKUP($A43,Competitors!$A$2:$G$60,5,FALSE)))","v":""},{"$f":"IF($A43=\"\",\"\",IF(VLOOKUP($A43,Competitors!$A$2:$G$60,6,FALSE)=\"\",\"\",VLOOKUP($A43,Competitors!$A$2:$G$60,6,FALSE)))","v":"senior"},{"$f":"IF($A43=\"\",\"\",IF(VLOOKUP($A43,Competitors!$A$2:$G$60,3,FALSE)=\"\",\"\",VLOOKUP($A43,Competitors!$A$2:$G$60,3,FALSE)))","v":""},{"$f":"IF($A43=\"\",\"\",IF(VLOOKUP($A43,Competitors!$A$2:$G$60,4,FALSE)=\"\",\"\",VLOOKUP($A43,Competitors!$A$2:$G$60,4,FALSE)))","v":""},{"$f":"IF(VLOOKUP(A43,Competitors!$A$1:$H$41,8,FALSE)=\"\",\"\",VLOOKUP(A43,Competitors!$A$1:$H$41,8,FALSE))","v":""},{"$f":"IF(IFERROR(VLOOKUP(($B$2&\"_\"&$A43),'Time Entry Sheet'!$A$3:$I$499,9,0),\"Error\")=\"Error\",\"\",IF(VLOOKUP(($B$2&\"_\"&$A43),'Time Entry Sheet'!$A$3:$I$499,9,FALSE)=\"wd\",\"wd\",VLOOKUP(($B$2&\"_\"&$A43),'Time Entry Sheet'!$A$3:$I$499,9,FALSE)*1))","v":""},"",{"$f":"IF(IFERROR(VLOOKUP(($B$2&\"_\"&$A43),'Time Entry Sheet'!$A$3:$I$499,8,FALSE),\"Error\")=\"Error\",\"\",IF(VLOOKUP(($B$2&\"_\"&$A43),'Time Entry Sheet'!$A$3:$I$499,8,FALSE)=\"\",\"\",VLOOKUP(($B$2&\"_\"&$A43),'Time Entry Sheet'!$A$3:$I$499,8,FALSE)))","v":""},{"$f":"IF(IFERROR(VLOOKUP(($B$2&\"_\"&$A43),'Time Entry Sheet'!$A$3:$I$499,7,FALSE),\"Error\")=\"Error\",\"\",IF(VLOOKUP(($B$2&\"_\"&$A43),'Time Entry Sheet'!$A$3:$I$499,7,FALSE)=\"\",\"\",VLOOKUP(($B$2&\"_\"&$A43),'Time Entry Sheet'!$A$3:$I$499,7,FALSE)))","v":""},"00:01:29.050","00:01:29.050",19,{"$f":"IF(A43=\"\",\"\",M43+VLOOKUP(A43,'Test 9'!$A$12:$Q$59,16,FALSE))","v":"00:12:15.090"},20,null,"","00:12:15.090"]
[33,{"$f":"IF($A44=\"\",\"\",IF(VLOOKUP($A44,Competitors!$A$2:$G$60,2,FALSE)=\"\",\"\",VLOOKUP($A44,Competitors!$A$2:$G$60,2,FALSE)))","v":""},{"$f":"IF($A44=\"\",\"\",IF(VLOOKUP($A44,Competitors!$A$2:$G$60,7,FALSE)=\"\",\"\",VLOOKUP($A44,Competitors!$A$2:$G$60,7,FALSE)))","v":""},{"$f":"IF($A44=\"\",\"\",IF(VLOOKUP($A44,Competitors!$A$2:$G$60,5,FALSE)=\"\",\"\",VLOOKUP($A44,Competitors!$A$2:$G$60,5,FALSE)))","v":""},{"$f":"IF($A44=\"\",\"\",IF(VLOOKUP($A44,Competitors!$A$2:$G$60,6,FALSE)=\"\",\"\",VLOOKUP($A44,Competitors!$A$2:$G$60,6,FALSE)))","v":"senior"},{"$f":"IF($A44=\"\",\"\",IF(VLOOKUP($A44,Competitors!$A$2:$G$60,3,FALSE)=\"\",\"\",VLOOKUP($A44,Competitors!$A$2:$G$60,3,FALSE)))","v":""},{"$f":"IF($A44=\"\",\"\",IF(VLOOKUP($A44,Competitors!$A$2:$G$60,4,FALSE)=\"\",\"\",VLOOKUP($A44,Competitors!$A$2:$G$60,4,FALSE)))","v":""},{"$f":"IF(VLOOKUP(A44,Competitors!$A$1:$H$41,8,FALSE)=\"\",\"\",VLOOKUP(A44,Competitors!$A$1:$H$41,8,FALSE))","v":""},{"$f":"IF(IFERROR(VLOOKUP(($B$2&\"_\"&$A44),'Time Entry Sheet'!$A$3:$I$499,9,0),\"Error\")=\"Error\",\"\",IF(VLOOKUP(($B$2&\"_\"&$A44),'Time Entry Sheet'!$A$3:$I$499,9,FALSE)=\"wd\",\"wd\",VLOOKUP(($B$2&\"_\"&$A44),'Time Entry Sheet'!$A$3:$I$499,9,FALSE)*1))","v":""},"",{"$f":"IF(IFERROR(VLOOKUP(($B$2&\"_\"&$A44),'Time Entry Sheet'!$A$3:$I$499,8,FALSE),\"Error\")=\"Error\",\"\",IF(VLOOKUP(($B$2&\"_\"&$A44),'Time Entry Sheet'!$A$3:$I$499,8,FALSE)=\"\",\"\",VLOOKUP(($B$2&\"_\"&$A44),'Time Entry Sheet'!$A$3:$I$499,8,FALSE)))","v":""},{"$f":"IF(IFERROR(VLOOKUP(($B$2&\"_\"&$A44),'Time Entry Sheet'!$A$3:$I$499,7,FALSE),\"Error\")=\"Error\",\"\",IF(VLOOKUP(($B$2&\"_\"&$A44),'Time Entry Sheet'!$A$3:$I$499,7,FALSE)=\"\",\"\",VLOOKUP(($B$2&\"_\"&$A44),'Time Entry Sheet'!$A$3:$I$499,7,FALSE)))","v":""},"00:01:29.050","00:01:29.050",19,{"$f":"IF(A44=\"\",\"\",M44+VLOOKUP(A44,'Test 9'!$A$12:$Q$59,16,FALSE))","v":"00:12:15.090"},20,null,"","00:12:15.090"]
[34,{"$f":"IF($A45=\"\",\"\",IF(VLOOKUP($A45,Competitors!$A$2:$G$60,2,FALSE)=\"\",\"\",VLOOKUP($A45,Competitors!$A$2:$G$60,2,FALSE)))","v":""},{"$f":"IF($A45=\"\",\"\",IF(VLOOKUP($A45,Competitors!$A$2:$G$60,7,FALSE)=\"\",\"\",VLOOKUP($A45,Competitors!$A$2:$G$60,7,FALSE)))","v":""},{"$f":"IF($A45=\"\",\"\",IF(VLOOKUP($A45,Competitors!$A$2:$G$60,5,FALSE)=\"\",\"\",VLOOKUP($A45,Competitors!$A$2:$G$60,5,FALSE)))","v":""},{"$f":"IF($A45=\"\",\"\",IF(VLOOKUP($A45,Competitors!$A$2:$G$60,6,FALSE)=\"\",\"\",VLOOKUP($A45,Competitors!$A$2:$G$60,6,FALSE)))","v":"senior"},{"$f":"IF($A45=\"\",\"\",IF(VLOOKUP($A45,Competitors!$A$2:$G$60,3,FALSE)=\"\",\"\",VLOOKUP($A45,Competitors!$A$2:$G$60,3,FALSE)))","v":""},{"$f":"IF($A45=\"\",\"\",IF(VLOOKUP($A45,Competitors!$A$2:$G$60,4,FALSE)=\"\",\"\",VLOOKUP($A45,Competitors!$A$2:$G$60,4,FALSE)))","v":""},{"$f":"IF(VLOOKUP(A45,Competitors!$A$1:$H$41,8,FALSE)=\"\",\"\",VLOOKUP(A45,Competitors!$A$1:$H$41,8,FALSE))","v":""},{"$f":"IF(IFERROR(VLOOKUP(($B$2&\"_\"&$A45),'Time Entry Sheet'!$A$3:$I$499,9,0),\"Error\")=\"Error\",\"\",IF(VLOOKUP(($B$2&\"_\"&$A45),'Time Entry Sheet'!$A$3:$I$499,9,FALSE)=\"wd\",\"wd\",VLOOKUP(($B$2&\"_\"&$A45),'Time Entry Sheet'!$A$3:$I$499,9,FALSE)*1))","v":""},"",{"$f":"IF(IFERROR(VLOOKUP(($B$2&\"_\"&$A45),'Time Entry Sheet'!$A$3:$I$499,8,FALSE),\"Error\")=\"Error\",\"\",IF(VLOOKUP(($B$2&\"_\"&$A45),'Time Entry Sheet'!$A$3:$I$499,8,FALSE)=\"\",\"\",VLOOKUP(($B$2&\"_\"&$A45),'Time Entry Sheet'!$A$3:$I$499,8,FALSE)))","v":""},{"$f":"IF(IFERROR(VLOOKUP(($B$2&\"_\"&$A45),'Time Entry Sheet'!$A$3:$I$499,7,FALSE),\"Error\")=\"Error\",\"\",IF(VLOOKUP(($B$2&\"_\"&$A45),'Time Entry Sheet'!$A$3:$I$499,7,FALSE)=\"\",\"\",VLOOKUP(($B$2&\"_\"&$A45),'Time Entry Sheet'!$A$3:$I$499,7,FALSE)))","v":""},"00:01:29.050","00:01:29.050",19,{"$f":"IF(A45=\"\",\"\",M45+VLOOKUP(A45,'Test 9'!$A$12:$Q$59,16,FALSE))","v":"00:12:15.090"},20,null,"","00:12:15.090"]
[35,{"$f":"IF($A46=\"\",\"\",IF(VLOOKUP($A46,Competitors!$A$2:$G$60,2,FALSE)=\"\",\"\",VLOOKUP($A46,Competitors!$A$2:$G$60,2,FALSE)))","v":""},{"$f":"IF($A46=\"\",\"\",IF(VLOOKUP($A46,Competitors!$A$2:$G$60,7,FALSE)=\"\",\"\",VLOOKUP($A46,Competitors!$A$2:$G$60,7,FALSE)))","v":""},{"$f":"IF($A46=\"\",\"\",IF(VLOOKUP($A46,Competitors!$A$2:$G$60,5,FALSE)=\"\",\"\",VLOOKUP($A46,Competitors!$A$2:$G$60,5,FALSE)))","v":""},{"$f":"IF($A46=\"\",\"\",IF(VLOOKUP($A46,Competitors!$A$2:$G$60,6,FALSE)=\"\",\"\",VLOOKUP($A46,Competitors!$A$2:$G$60,6,FALSE)))","v":"senior"},{"$f":"IF($A46=\"\",\"\",IF(VLOOKUP($A46,Competitors!$A$2:$G$60,3,FALSE)=\"\",\"\",VLOOKUP($A46,Competitors!$A$2:$G$60,3,FALSE)))","v":""},{"$f":"IF($A46=\"\",\"\",IF(VLOOKUP($A46,Competitors!$A$2:$G$60,4,FALSE)=\"\",\"\",VLOOKUP($A46,Competitors!$A$2:$G$60,4,FALSE)))","v":""},{"$f":"IF(VLOOKUP(A46,Competitors!$A$1:$H$41,8,FALSE)=\"\",\"\",VLOOKUP(A46,Competitors!$A$1:$H$41,8,FALSE))","v":""},{"$f":"IF(IFERROR(VLOOKUP(($B$2&\"_\"&$A46),'Time Entry Sheet'!$A$3:$I$499,9,0),\"Error\")=\"Error\",\"\",IF(VLOOKUP(($B$2&\"_\"&$A46),'Time Entry Sheet'!$A$3:$I$499,9,FALSE)=\"wd\",\"wd\",VLOOKUP(($B$2&\"_\"&$A46),'Time Entry Sheet'!$A$3:$I$499,9,FALSE)*1))","v":""},"",{"$f":"IF(IFERROR(VLOOKUP(($B$2&\"_\"&$A46),'Time Entry Sheet'!$A$3:$I$499,8,FALSE),\"Error\")=\"Error\",\"\",IF(VLOOKUP(($B$2&\"_\"&$A46),'Time Entry Sheet'!$A$3:$I$499,8,FALSE)=\"\",\"\",VLOOKUP(($B$2&\"_\"&$A46),'Time Entry Sheet'!$A$3:$I$499,8,FALSE)))","v":""},{"$f":"IF(IFERROR(VLOOKUP(($B$2&\"_\"&$A46),'Time Entry Sheet'!$A$3:$I$499,7,FALSE),\"Error\")=\"Error\",\"\",IF(VLOOKUP(($B$2&\"_\"&$A46),'Time Entry Sheet'!$A$3:$I$499,7,FALSE)=\"\",\"\",VLOOKUP(($B$2&\"_\"&$A46),'Time Entry Sheet'!$A$3:$I$499,7,FALSE)))","v":""},"00:01:29.050","00:01:29.050",19,{"$f":"IF(A46=\"\",\"\",M46+VLOOKUP(A46,'Test 9'!$A$12:$Q$59,16,FALSE))","v":"00:12:15.090"},20,null,"","00:12:15.090"]
[36,{"$f":"IF($A47=\"\",\"\",IF(VLOOKUP($A47,Competitors!$A$2:$G$60,2,FALSE)=\"\",\"\",VLOOKUP($A47,Competitors!$A$2:$G$60,2,FALSE)))","v":""},{"$f":"IF($A47=\"\",\"\",IF(VLOOKUP($A47,Competitors!$A$2:$G$60,7,FALSE)=\"\",\"\",VLOOKUP($A47,Competitors!$A$2:$G$60,7,FALSE)))","v":""},{"$f":"IF($A47=\"\",\"\",IF(VLOOKUP($A47,Competitors!$A$2:$G$60,5,FALSE)=\"\",\"\",VLOOKUP($A47,Competitors!$A$2:$G$60,5,FALSE)))","v":""},{"$f":"IF($A47=\"\",\"\",IF(VLOOKUP($A47,Competitors!$A$2:$G$60,6,FALSE)=\"\",\"\",VLOOKUP($A47,Competitors!$A$2:$G$60,6,FALSE)))","v":"senior"},{"$f":"IF($A47=\"\",\"\",IF(VLOOKUP($A47,Competitors!$A$2:$G$60,3,FALSE)=\"\",\"\",VLOOKUP($A47,Competitors!$A$2:$G$60,3,FALSE)))","v":""},{"$f":"IF($A47=\"\",\"\",IF(VLOOKUP($A47,Competitors!$A$2:$G$60,4,FALSE)=\"\",\"\",VLOOKUP($A47,Competitors!$A$2:$G$60,4,FALSE)))","v":""},{"$f":"IF(VLOOKUP(A47,Competitors!$A$1:$H$41,8,FALSE)=\"\",\"\",VLOOKUP(A47,Competitors!$A$1:$H$41,8,FALSE))","v":""},{"$f":"IF(IFERROR(VLOOKUP(($B$2&\"_\"&$A47),'Time Entry Sheet'!$A$3:$I$499,9,0),\"Error\")=\"Error\",\"\",IF(VLOOKUP(($B$2&\"_\"&$A47),'Time Entry Sheet'!$A$3:$I$499,9,FALSE)=\"wd\",\"wd\",VLOOKUP(($B$2&\"_\"&$A47),'Time Entry Sheet'!$A$3:$I$499,9,FALSE)*1))","v":""},"",{"$f":"IF(IFERROR(VLOOKUP(($B$2&\"_\"&$A47),'Time Entry Sheet'!$A$3:$I$499,8,FALSE),\"Error\")=\"Error\",\"\",IF(VLOOKUP(($B$2&\"_\"&$A47),'Time Entry Sheet'!$A$3:$I$499,8,FALSE)=\"\",\"\",VLOOKUP(($B$2&\"_\"&$A47),'Time Entry Sheet'!$A$3:$I$499,8,FALSE)))","v":""},{"$f":"IF(IFERROR(VLOOKUP(($B$2&\"_\"&$A47),'Time Entry Sheet'!$A$3:$I$499,7,FALSE),\"Error\")=\"Error\",\"\",IF(VLOOKUP(($B$2&\"_\"&$A47),'Time Entry Sheet'!$A$3:$I$499,7,FALSE)=\"\",\"\",VLOOKUP(($B$2&\"_\"&$A47),'Time Entry Sheet'!$A$3:$I$499,7,FALSE)))","v":""},"00:01:29.050","00:01:29.050",19,{"$f":"IF(A47=\"\",\"\",M47+VLOOKUP(A47,'Test 9'!$A$12:$Q$59,16,FALSE))","v":"00:12:15.090"},20,null,"","00:12:15.090"]
[37,{"$f":"IF($A48=\"\",\"\",IF(VLOOKUP($A48,Competitors!$A$2:$G$60,2,FALSE)=\"\",\"\",VLOOKUP($A48,Competitors!$A$2:$G$60,2,FALSE)))","v":""},{"$f":"IF($A48=\"\",\"\",IF(VLOOKUP($A48,Competitors!$A$2:$G$60,7,FALSE)=\"\",\"\",VLOOKUP($A48,Competitors!$A$2:$G$60,7,FALSE)))","v":""},{"$f":"IF($A48=\"\",\"\",IF(VLOOKUP($A48,Competitors!$A$2:$G$60,5,FALSE)=\"\",\"\",VLOOKUP($A48,Competitors!$A$2:$G$60,5,FALSE)))","v":""},{"$f":"IF($A48=\"\",\"\",IF(VLOOKUP($A48,Competitors!$A$2:$G$60,6,FALSE)=\"\",\"\",VLOOKUP($A48,Competitors!$A$2:$G$60,6,FALSE)))","v":"senior"},{"$f":"IF($A48=\"\",\"\",IF(VLOOKUP($A48,Competitors!$A$2:$G$60,3,FALSE)=\"\",\"\",VLOOKUP($A48,Competitors!$A$2:$G$60,3,FALSE)))","v":""},{"$f":"IF($A48=\"\",\"\",IF(VLOOKUP($A48,Competitors!$A$2:$G$60,4,FALSE)=\"\",\"\",VLOOKUP($A48,Competitors!$A$2:$G$60,4,FALSE)))","v":""},{"$f":"IF(VLOOKUP(A48,Competitors!$A$1:$H$41,8,FALSE)=\"\",\"\",VLOOKUP(A48,Competitors!$A$1:$H$41,8,FALSE))","v":""},{"$f":"IF(IFERROR(VLOOKUP(($B$2&\"_\"&$A48),'Time Entry Sheet'!$A$3:$I$499,9,0),\"Error\")=\"Error\",\"\",IF(VLOOKUP(($B$2&\"_\"&$A48),'Time Entry Sheet'!$A$3:$I$499,9,FALSE)=\"wd\",\"wd\",VLOOKUP(($B$2&\"_\"&$A48),'Time Entry Sheet'!$A$3:$I$499,9,FALSE)*1))","v":""},"",{"$f":"IF(IFERROR(VLOOKUP(($B$2&\"_\"&$A48),'Time Entry Sheet'!$A$3:$I$499,8,FALSE),\"Error\")=\"Error\",\"\",IF(VLOOKUP(($B$2&\"_\"&$A48),'Time Entry Sheet'!$A$3:$I$499,8,FALSE)=\"\",\"\",VLOOKUP(($B$2&\"_\"&$A48),'Time Entry Sheet'!$A$3:$I$499,8,FALSE)))","v":""},{"$f":"IF(IFERROR(VLOOKUP(($B$2&\"_\"&$A48),'Time Entry Sheet'!$A$3:$I$499,7,FALSE),\"Error\")=\"Error\",\"\",IF(VLOOKUP(($B$2&\"_\"&$A48),'Time Entry Sheet'!$A$3:$I$499,7,FALSE)=\"\",\"\",VLOOKUP(($B$2&\"_\"&$A48),'Time Entry Sheet'!$A$3:$I$499,7,FALSE)))","v":""},{"$f":"IF(A48=\"\",\"\",IF(I48=\"wd\",IF(E48=\"Senior\",$B$7,$C$7),IF(L48<>\"\",$B$7,IF(I48=\"\",IF(E48=\"Senior\",$B$8,$C$8),IF(K48=\"\",I48,I48+($B$5*K48))))))","v":"00:01:29.050"},"00:01:29.050",19,{"$f":"IF(A48=\"\",\"\",M48+VLOOKUP(A48,'Test 9'!$A$12:$Q$59,16,FALSE))","v":"00:12:15.090"},20,null,"","00:12:15.090"]
[38,{"$f":"IF($A49=\"\",\"\",IF(VLOOKUP($A49,Competitors!$A$2:$G$60,2,FALSE)=\"\",\"\",VLOOKUP($A49,Competitors!$A$2:$G$60,2,FALSE)))","v":""},{"$f":"IF($A49=\"\",\"\",IF(VLOOKUP($A49,Competitors!$A$2:$G$60,7,FALSE)=\"\",\"\",VLOOKUP($A49,Competitors!$A$2:$G$60,7,FALSE)))","v":""},{"$f":"IF($A49=\"\",\"\",IF(VLOOKUP($A49,Competitors!$A$2:$G$60,5,FALSE)=\"\",\"\",VLOOKUP($A49,Competitors!$A$2:$G$60,5,FALSE)))","v":""},{"$f":"IF($A49=\"\",\"\",IF(VLOOKUP($A49,Competitors!$A$2:$G$60,6,FALSE)=\"\",\"\",VLOOKUP($A49,Competitors!$A$2:$G$60,6,FALSE)))","v":"senior"},{"$f":"IF($A49=\"\",\"\",IF(VLOOKUP($A49,Competitors!$A$2:$G$60,3,FALSE)=\"\",\"\",VLOOKUP($A49,Competitors!$A$2:$G$60,3,FALSE)))","v":""},{"$f":"IF($A49=\"\",\"\",IF(VLOOKUP($A49,Competitors!$A$2:$G$60,4,FALSE)=\"\",\"\",VLOOKUP($A49,Competitors!$A$2:$G$60,4,FALSE)))","v":""},{"$f":"IF(VLOOKUP(A49,Competitors!$A$1:$H$41,8,FALSE)=\"\",\"\",VLOOKUP(A49,Competitors!$A$1:$H$41,8,FALSE))","v":""},{"$f":"IF(IFERROR(VLOOKUP(($B$2&\"_\"&$A49),'Time Entry Sheet'!$A$3:$I$499,9,0),\"Error\")=\"Error\",\"\",IF(VLOOKUP(($B$2&\"_\"&$A49),'Time Entry Sheet'!$A$3:$I$499,9,FALSE)=\"wd\",\"wd\",VLOOKUP(($B$2&\"_\"&$A49),'Time Entry Sheet'!$A$3:$I$499,9,FALSE)*1))","v":""},"",{"$f":"IF(IFERROR(VLOOKUP(($B$2&\"_\"&$A49),'Time Entry Sheet'!$A$3:$I$499,8,FALSE),\"Error\")=\"Error\",\"\",IF(VLOOKUP(($B$2&\"_\"&$A49),'Time Entry Sheet'!$A$3:$I$499,8,FALSE)=\"\",\"\",VLOOKUP(($B$2&\"_\"&$A49),'Time Entry Sheet'!$A$3:$I$499,8,FALSE)))","v":""},{"$f":"IF(IFERROR(VLOOKUP(($B$2&\"_\"&$A49),'Time Entry Sheet'!$A$3:$I$499,7,FALSE),\"Error\")=\"Error\",\"\",IF(VLOOKUP(($B$2&\"_\"&$A49),'Time Entry Sheet'!$A$3:$I$499,7,FALSE)=\"\",\"\",VLOOKUP(($B$2&\"_\"&$A49),'Time Entry Sheet'!$A$3:$I$499,7,FALSE)))","v":""},"00:01:29.050","00:01:29.050",19,{"$f":"IF(A49=\"\",\"\",M49+VLOOKUP(A49,'Test 9'!$A$12:$Q$59,16,FALSE))","v":"00:12:15.090"},20,null,"","00:12:15.090"]
[39,{"$f":"IF($A50=\"\",\"\",IF(VLOOKUP($A50,Competitors!$A$2:$G$60,2,FALSE)=\"\",\"\",VLOOKUP($A50,Competitors!$A$2:$G$60,2,FALSE)))","v":""},{"$f":"IF($A50=\"\",\"\",IF(VLOOKUP($A50,Competitors!$A$2:$G$60,7,FALSE)=\"\",\"\",VLOOKUP($A50,Competitors!$A$2:$G$60,7,FALSE)))","v":""},{"$f":"IF($A50=\"\",\"\",IF(VLOOKUP($A50,Competitors!$A$2:$G$60,5,FALSE)=\"\",\"\",VLOOKUP($A50,Competitors!$A$2:$G$60,5,FALSE)))","v":""},{"$f":"IF($A50=\"\",\"\",IF(VLOOKUP($A50,Competitors!$A$2:$G$60,6,FALSE)=\"\",\"\",VLOOKUP($A50,Competitors!$A$2:$G$60,6,FALSE)))","v":"senior"},{"$f":"IF($A50=\"\",\"\",IF(VLOOKUP($A50,Competitors!$A$2:$G$60,3,FALSE)=\"\",\"\",VLOOKUP($A50,Competitors!$A$2:$G$60,3,FALSE)))","v":""},{"$f":"IF($A50=\"\",\"\",IF(VLOOKUP($A50,Competitors!$A$2:$G$60,4,FALSE)=\"\",\"\",VLOOKUP($A50,Competitors!$A$2:$G$60,4,FALSE)))","v":""},{"$f":"IF(VLOOKUP(A50,Competitors!$A$1:$H$41,8,FALSE)=\"\",\"\",VLOOKUP(A50,Competitors!$A$1:$H$41,8,FALSE))","v":""},{"$f":"IF(IFERROR(VLOOKUP(($B$2&\"_\"&$A50),'Time Entry Sheet'!$A$3:$I$499,9,0),\"Error\")=\"Error\",\"\",IF(VLOOKUP(($B$2&\"_\"&$A50),'Time Entry Sheet'!$A$3:$I$499,9,FALSE)=\"wd\",\"wd\",VLOOKUP(($B$2&\"_\"&$A50),'Time Entry Sheet'!$A$3:$I$499,9,FALSE)*1))","v":""},"",{"$f":"IF(IFERROR(VLOOKUP(($B$2&\"_\"&$A50),'Time Entry Sheet'!$A$3:$I$499,8,FALSE),\"Error\")=\"Error\",\"\",IF(VLOOKUP(($B$2&\"_\"&$A50),'Time Entry Sheet'!$A$3:$I$499,8,FALSE)=\"\",\"\",VLOOKUP(($B$2&\"_\"&$A50),'Time Entry Sheet'!$A$3:$I$499,8,FALSE)))","v":""},{"$f":"IF(IFERROR(VLOOKUP(($B$2&\"_\"&$A50),'Time Entry Sheet'!$A$3:$I$499,7,FALSE),\"Error\")=\"Error\",\"\",IF(VLOOKUP(($B$2&\"_\"&$A50),'Time Entry Sheet'!$A$3:$I$499,7,FALSE)=\"\",\"\",VLOOKUP(($B$2&\"_\"&$A50),'Time Entry Sheet'!$A$3:$I$499,7,FALSE)))","v":""},"00:01:29.050","00:01:29.050",19,{"$f":"IF(A50=\"\",\"\",M50+VLOOKUP(A50,'Test 9'!$A$12:$Q$59,16,FALSE))","v":"00:12:15.090"},20,null,null,"00:12:15.090"]
[40,{"$f":"IF($A51=\"\",\"\",IF(VLOOKUP($A51,Competitors!$A$2:$G$60,2,FALSE)=\"\",\"\",VLOOKUP($A51,Competitors!$A$2:$G$60,2,FALSE)))","v":""},{"$f":"IF($A51=\"\",\"\",IF(VLOOKUP($A51,Competitors!$A$2:$G$60,7,FALSE)=\"\",\"\",VLOOKUP($A51,Competitors!$A$2:$G$60,7,FALSE)))","v":""},{"$f":"IF($A51=\"\",\"\",IF(VLOOKUP($A51,Competitors!$A$2:$G$60,5,FALSE)=\"\",\"\",VLOOKUP($A51,Competitors!$A$2:$G$60,5,FALSE)))","v":""},{"$f":"IF($A51=\"\",\"\",IF(VLOOKUP($A51,Competitors!$A$2:$G$60,6,FALSE)=\"\",\"\",VLOOKUP($A51,Competitors!$A$2:$G$60,6,FALSE)))","v":"senior"},{"$f":"IF($A51=\"\",\"\",IF(VLOOKUP($A51,Competitors!$A$2:$G$60,3,FALSE)=\"\",\"\",VLOOKUP($A51,Competitors!$A$2:$G$60,3,FALSE)))","v":""},{"$f":"IF($A51=\"\",\"\",IF(VLOOKUP($A51,Competitors!$A$2:$G$60,4,FALSE)=\"\",\"\",VLOOKUP($A51,Competitors!$A$2:$G$60,4,FALSE)))","v":""},{"$f":"IF(VLOOKUP(A51,Competitors!$A$1:$H$41,8,FALSE)=\"\",\"\",VLOOKUP(A51,Competitors!$A$1:$H$41,8,FALSE))","v":""},{"$f":"IF(IFERROR(VLOOKUP(($B$2&\"_\"&$A51),'Time Entry Sheet'!$A$3:$I$499,9,0),\"Error\")=\"Error\",\"\",IF(VLOOKUP(($B$2&\"_\"&$A51),'Time Entry Sheet'!$A$3:$I$499,9,FALSE)=\"wd\",\"wd\",VLOOKUP(($B$2&\"_\"&$A51),'Time Entry Sheet'!$A$3:$I$499,9,FALSE)*1))","v":""},"",{"$f":"IF(IFERROR(VLOOKUP(($B$2&\"_\"&$A51),'Time Entry Sheet'!$A$3:$I$499,8,FALSE),\"Error\")=\"Error\",\"\",IF(VLOOKUP(($B$2&\"_\"&$A51),'Time Entry Sheet'!$A$3:$I$499,8,FALSE)=\"\",\"\",VLOOKUP(($B$2&\"_\"&$A51),'Time Entry Sheet'!$A$3:$I$499,8,FALSE)))","v":""},{"$f":"IF(IFERROR(VLOOKUP(($B$2&\"_\"&$A51),'Time Entry Sheet'!$A$3:$I$499,7,FALSE),\"Error\")=\"Error\",\"\",IF(VLOOKUP(($B$2&\"_\"&$A51),'Time Entry Sheet'!$A$3:$I$499,7,FALSE)=\"\",\"\",VLOOKUP(($B$2&\"_\"&$A51),'Time Entry Sheet'!$A$3:$I$499,7,FALSE)))","v":""},"00:01:29.050","00:01:29.050",19,{"$f":"IF(A51=\"\",\"\",M51+VLOOKUP(A51,'Test 9'!$A$12:$Q$59,16,FALSE))","v":"00:12:15.090"},20,null,null,"00:12:15.090"]

{"sheet":"Test 11","index":28,"n_rows":51,"n_cols":20,"rows_kept":51,"cut":false,"hidden":false,"merged":[[0,8,0,10]]}
[]
["TEST",11,null,null,null,null,null,null,null,null,"PROVISIONAL RESULTS",null,{"$f":"NOW()","v":42690.814244444446},null,{"$f":"NOW()","v":"2016-11-16T19:32:30.720"}]
["Date:","2015-10-31",null,null,null,null,null,null,null,null,null,"Junior",{"$f":"MIN( IF( $E$8:$E$51=L3, $S$8:$S$51 ) )","v":"00:00:00"},null,"FASTEST"]
["10 sec penalty","00:00:10",null,null,null,null,null,null,null,null,null,"Junior",{"$f":"MAX( IF( $E$8:$E$51=L4, $S$8:$S$51 ) )","v":"00:00:00"},null,"SLOWEST"]
["Flag penalty","00:00:05",null,null,null,null,"SENIOR"]
[null,null,null,null,null,null,"Fastest test time x 2",null,{"$f":"M6*2","v":"00:03:03.180"},null,null,"Senior",{"$f":"MIN( IF( E11:E51=L6, J11:J51 ) )","v":"00:01:31.590"},null,"FASTEST"]
["Slowest test time + 5 second penalty",{"$f":"MIN($I$6,$I$7)+$B$5","v":"00:02:05.950"},{"$f":"MIN($I$9:$I$10)+$B$5","v":"00:00:05"},null,null,null,"Slowest test time",null,{"$f":"M7","v":"00:02:00.950"},null,null,"Senior",{"$f":"MAX( IF( E11:E51=L7, J11:J51 ) )","v":"00:02:00.950"},null,"SLOWEST"]
["Failure to Attempt Course (Slowest time + 10 sec)",{"$f":"SUM($I$7,$B$4)","v":"00:02:10.950"},{"$f":"SUM($I$10,$B$4)","v":"00:00:10"},null,null,null,"JUNIOR"]
[null,null,null,null,null,null,"Fastest test time x 2",null,{"$f":"M3*2","v":"00:00:00"}]
[null,null,null,null,null,null,"Slowest test time",null,{"$f":"M4","v":"00:00:00"}]
["Car Number","Driver","Rookie?","Female Driver?","Junior Driver?","Vehicle","Class","Senior with Passenger?","Time Taken (MM:SS.00)","Time Taken-PenaltyCalculator (MM:SS.00)","No. of Flags &/or Finishes partly out of garage","Slowest time + 5 sec penalty type","Total Test 11 Time","Total Test 1 Time for ranking","Test 11 Position","Cumulative Time Taken (MM:SS.00)","Cumulative Outright Position","Comments","Time Taken-PenaltyCalculator Junior(MM:SS.00)","Cumulative Time Taken (MM:SS.00) for ranking"]
[1,{"$f":"IF($A12=\"\",\"\",IF(VLOOKUP($A12,Competitors!$A$2:$G$60,2,FALSE)=\"\",\"\",VLOOKUP($A12,Competitors!$A$2:$G$60,2,FALSE)))","v":"Paul Dunn"},{"$f":"IF($A12=\"\",\"\",IF(VLOOKUP($A12,Competitors!$A$2:$G$60,7,FALSE)=\"\",\"\",VLOOKUP($A12,Competitors!$A$2:$G$60,7,FALSE)))","v":""},{"$f":"IF($A12=\"\",\"\",IF(VLOOKUP($A12,Competitors!$A$2:$G$60,5,FALSE)=\"\",\"\",VLOOKUP($A12,Competitors!$A$2:$G$60,5,FALSE)))","v":""},{"$f":"IF($A12=\"\",\"\",IF(VLOOKUP($A12,Competitors!$A$2:$G$60,6,FALSE)=\"\",\"\",VLOOKUP($A12,Competitors!$A$2:$G$60,6,FALSE)))","v":"senior"},{"$f":"IF($A12=\"\",\"\",IF(VLOOKUP($A12,Competitors!$A$2:$G$60,3,FALSE)=\"\",\"\",VLOOKUP($A12,Competitors!$A$2:$G$60,3,FALSE)))","v":"Excel"},{"$f":"IF($A12=\"\",\"\",IF(VLOOKUP($A12,Competitors!$A$2:$G$60,4,FALSE)=\"\",\"\",VLOOKUP($A12,Competitors!$A$2:$G$60,4,FALSE)))","v":""},{"$f":"IF(VLOOKUP(A12,Competitors!$A$1:$H$41,8,FALSE)=\"\",\"\",VLOOKUP(A12,Competitors!$A$1:$H$41,8,FALSE))","v":""},{"$f":"IF(IFERROR(VLOOKUP(($B$2&\"_\"&$A12),'Time Entry Sheet'!$A$3:$I$499,9,0),\"Error\")=\"Error\",\"\",IF(VLOOKUP(($B$2&\"_\"&$A12),'Time Entry Sheet'!$A$3:$I$499,9,FALSE)=\"wd\",\"wd\",VLOOKUP(($B$2&\"_\"&$A12),'Time Entry Sheet'!$A$3:$I$499,9,FALSE)*1))","v":"00:01:35.040"},{"$f":"IF(E12=\"Junior\",\"\",IF(I12=\"wd\",\"\",IF(K12<>\"\",\"\",I12)))","v":"00:01:35.040"},{"$f":"IF(IFERROR(VLOOKUP(($B$2&\"_\"&$A12),'Time Entry Sheet'!$A$3:$I$499,8,FALSE),\"Error\")=\"Error\",\"\",IF(VLOOKUP(($B$2&\"_\"&$A12),'Time Entry Sheet'!$A$3:$I$499,8,FALSE)=\"\",\"\",VLOOKUP(($B$2&\"_\"&$A12),'Time Entry Sheet'!$A$3:$I$499,8,FALSE)))","v":""},{"$f":"IF(IFERROR(VLOOKUP(($B$2&\"_\"&$A12),'Time Entry Sheet'!$A$3:$I$499,7,FALSE),\"Error\")=\"Error\",\"\",IF(VLOOKUP(($B$2&\"_\"&$A12),'Time Entry Sheet'!$A$3:$I$499,7,FALSE)=\"\",\"\",VLOOKUP(($B$2&\"_\"&$A12),'Time Entry Sheet'!$A$3:$I$499,7,FALSE)))","v":""},{"$f":"IF(A12=\"\",\"\",IF(I12=\"wd\",IF(E12=\"Senior\",$B$7,$C$7),IF(L12<>\"\",$B$7,IF(I12=\"\",IF(E12=\"Senior\",$B$8,$C$8),IF(K12=\"\",I12,I12+($B$5*K12))))))","v":"00:01:35.040"},{"$f":"IF(H12=\"Passenger\",\"\",M12)","v":"00:01:35.040"},{"$f":"IF(A12=\"\",\"\",IF(H12=\"Passenger\",\"P\",RANK(N12,$N$12:$N$51,1)))","v":3},{"$f":"IF(A12=\"\",\"\",M12+VLOOKUP(A12,'Test 10'!$A$12:$Q$51,16,FALSE))","v":"00:09:39.310"},{"$f":"IF(A12=\"\",\"\",IF(H12=\"Passenger\",\"P\",RANK(T12,$T$12:$T$51,1)))","v":2},null,{"$f":"IF(E12=\"Senior\",\"\",IF(I12=\"wd\",\"\",IF(K12<>\"\",\"\",I12)))","v":""},{"$f":"IF(H12=\"Passenger\",\"\",P12)","v":"00:09:39.310"}]
[2,{"$f":"IF($A13=\"\",\"\",IF(VLOOKUP($A13,Competitors!$A$2:$G$60,2,FALSE)=\"\",\"\",VLOOKUP($A13,Competitors!$A$2:$G$60,2,FALSE)))","v":"Stephen Thorne"},{"$f":"IF($A13=\"\",\"\",IF(VLOOKUP($A13,Competitors!$A$2:$G$60,7,FALSE)=\"\",\"\",VLOOKUP($A13,Competitors!$A$2:$G$60,7,FALSE)))","v":""},{"$f":"IF($A13=\"\",\"\",IF(VLOOKUP($A13,Competitors!$A$2:$G$60,5,FALSE)=\"\",\"\",VLOOKUP($A13,Competitors!$A$2:$G$60,5,FALSE)))","v":""},{"$f":"IF($A13=\"\",\"\",IF(VLOOKUP($A13,Competitors!$A$2:$G$60,6,FALSE)=\"\",\"\",VLOOKUP($A13,Competitors!$A$2:$G$60,6,FALSE)))","v":"senior"},{"$f":"IF($A13=\"\",\"\",IF(VLOOKUP($A13,Competitors!$A$2:$G$60,3,FALSE)=\"\",\"\",VLOOKUP($A13,Competitors!$A$2:$G$60,3,FALSE)))","v":""},{"$f":"IF($A13=\"\",\"\",IF(VLOOKUP($A13,Competitors!$A$2:$G$60,4,FALSE)=\"\",\"\",VLOOKUP($A13,Competitors!$A$2:$G$60,4,FALSE)))","v":""},{"$f":"IF(VLOOKUP(A13,Competitors!$A$1:$H$41,8,FALSE)=\"\",\"\",VLOOKUP(A13,Competitors!$A$1:$H$41,8,FALSE))","v":""},{"$f":"IF(IFERROR(VLOOKUP(($B$2&\"_\"&$A13),'Time Entry Sheet'!$A$3:$I$499,9,0),\"Error\")=\"Error\",\"\",IF(VLOOKUP(($B$2&\"_\"&$A13),'Time Entry Sheet'!$A$3:$I$499,9,FALSE)=\"wd\",\"wd\",VLOOKUP(($B$2&\"_\"&$A13),'Time Entry Sheet'!$A$3:$I$499,9,FALSE)*1))","v":"00:01:32.860"},{"$f":"IF(E13=\"Junior\",\"\",IF(I13=\"wd\",\"\",IF(K13<>\"\",\"\",I13)))","v":"00:01:32.860"},{"$f":"IF(IFERROR(VLOOKUP(($B$2&\"_\"&$A13),'Time Entry Sheet'!$A$3:$I$499,8,FALSE),\"Error\")=\"Error\",\"\",IF(VLOOKUP(($B$2&\"_\"&$A13),'Time Entry Sheet'!$A$3:$I$499,8,FALSE)=\"\",\"\",VLOOKUP(($B$2&\"_\"&$A13),'Time Entry Sheet'!$A$3:$I$499,8,FALSE)))","v":""},{"$f":"IF(IFERROR(VLOOKUP(($B$2&\"_\"&$A13),'Time Entry Sheet'!$A$3:$I$499,7,FALSE),\"Error\")=\"Error\",\"\",IF(VLOOKUP(($B$2&\"_\"&$A13),'Time Entry Sheet'!$A$3:$I$499,7,FALSE)=\"\",\"\",VLOOKUP(($B$2&\"_\"&$A13),'Time Entry Sheet'!$A$3:$I$499,7,FALSE)))","v":""},{"$f":"IF(A13=\"\",\"\",IF(I13=\"wd\",IF(E13=\"Senior\",$B$7,$C$7),IF(L13<>\"\",$B$7,IF(I13=\"\",IF(E13=\"Senior\",$B$8,$C$8),IF(K13=\"\",I13,I13+($B$5*K13))))))","v":"00:01:32.860"},{"$f":"IF(H13=\"Passenger\",\"\",M13)","v":"00:01:32.860"},{"$f":"IF(A13=\"\",\"\",IF(H13=\"Passenger\",\"P\",RANK(N13,$N$12:$N$51,1)))","v":2},{"$f":"IF(A13=\"\",\"\",M13+VLOOKUP(A13,'Test 10'!$A$12:$Q$51,16,FALSE))","v":"00:10:02.920"},{"$f":"IF(A13=\"\",\"\",IF(H13=\"Passenger\",\"P\",RANK(T13,$T$12:$T$51,1)))","v":5},null,{"$f":"IF(E13=\"Senior\",\"\",IF(I13=\"wd\",\"\",IF(K13<>\"\",\"\",I13)))","v":""},{"$f":"IF(H13=\"Passenger\",\"\",P13)","v":"00:10:02.920"}]
[3,{"$f":"IF($A14=\"\",\"\",IF(VLOOKUP($A14,Competitors!$A$2:$G$60,2,FALSE)=\"\",\"\",VLOOKUP($A14,Competitors!$A$2:$G$60,2,FALSE)))","v":"David Ballard"},{"$f":"IF($A14=\"\",\"\",IF(VLOOKUP($A14,Competitors!$A$2:$G$60,7,FALSE)=\"\",\"\",VLOOKUP($A14,Competitors!$A$2:$G$60,7,FALSE)))","v":""},{"$f":"IF($A14=\"\",\"\",IF(VLOOKUP($A14,Competitors!$A$2:$G$60,5,FALSE)=\"\",\"\",VLOOKUP($A14,Competitors!$A$2:$G$60,5,FALSE)))","v":""},{"$f":"IF($A14=\"\",\"\",IF(VLOOKUP($A14,Competitors!$A$2:$G$60,6,FALSE)=\"\",\"\",VLOOKUP($A14,Competitors!$A$2:$G$60,6,FALSE)))","v":"senior"},{"$f":"IF($A14=\"\",\"\",IF(VLOOKUP($A14,Competitors!$A$2:$G$60,3,FALSE)=\"\",\"\",VLOOKUP($A14,Competitors!$A$2:$G$60,3,FALSE)))","v":""},{"$f":"IF($A14=\"\",\"\",IF(VLOOKUP($A14,Competitors!$A$2:$G$60,4,FALSE)=\"\",\"\",VLOOKUP($A14,Competitors!$A$2:$G$60,4,FALSE)))","v":""},{"$f":"IF(VLOOKUP(A14,Competitors!$A$1:$H$41,8,FALSE)=\"\",\"\",VLOOKUP(A14,Competitors!$A$1:$H$41,8,FALSE))","v":""},{"$f":"IF(IFERROR(VLOOKUP(($B$2&\"_\"&$A14),'Time Entry Sheet'!$A$3:$I$499,9,0),\"Error\")=\"Error\",\"\",IF(VLOOKUP(($B$2&\"_\"&$A14),'Time Entry Sheet'!$A$3:$I$499,9,FALSE)=\"wd\",\"wd\",VLOOKUP(($B$2&\"_\"&$A14),'Time Entry Sheet'!$A$3:$I$499,9,FALSE)*1))","v":"00:01:46.010"},"00:01:46.010",{"$f":"IF(IFERROR(VLOOKUP(($B$2&\"_\"&$A14),'Time Entry Sheet'!$A$3:$I$499,8,FALSE),\"Error\")=\"Error\",\"\",IF(VLOOKUP(($B$2&\"_\"&$A14),'Time Entry Sheet'!$A$3:$I$499,8,FALSE)=\"\",\"\",VLOOKUP(($B$2&\"_\"&$A14),'Time Entry Sheet'!$A$3:$I$499,8,FALSE)))","v":""},{"$f":"IF(IFERROR(VLOOKUP(($B$2&\"_\"&$A14),'Time Entry Sheet'!$A$3:$I$499,7,FALSE),\"Error\")=\"Error\",\"\",IF(VLOOKUP(($B$2&\"_\"&$A14),'Time Entry Sheet'!$A$3:$I$499,7,FALSE)=\"\",\"\",VLOOKUP(($B$2&\"_\"&$A14),'Time Entry Sheet'!$A$3:$I$499,7,FALSE)))","v":""},"00:01:46.010","00:01:46.010",11,{"$f":"IF(A14=\"\",\"\",M14+VLOOKUP(A14,'Test 10'!$A$12:$Q$51,16,FALSE))","v":"00:10:55.020"},11,null,"","00:10:55.020"]
[4,{"$f":"IF($A15=\"\",\"\",IF(VLOOKUP($A15,Competitors!$A$2:$G$60,2,FALSE)=\"\",\"\",VLOOKUP($A15,Competitors!$A$2:$G$60,2,FALSE)))","v":"Michaela Ballard"},{"$f":"IF($A15=\"\",\"\",IF(VLOOKUP($A15,Competitors!$A$2:$G$60,7,FALSE)=\"\",\"\",VLOOKUP($A15,Competitors!$A$2:$G$60,7,FALSE)))","v":"rookie"},{"$f":"IF($A15=\"\",\"\",IF(VLOOKUP($A15,Competitors!$A$2:$G$60,5,FALSE)=\"\",\"\",VLOOKUP($A15,Competitors!$A$2:$G$60,5,FALSE)))","v":"female"},{"$f":"IF($A15=\"\",\"\",IF(VLOOKUP($A15,Competitors!$A$2:$G$60,6,FALSE)=\"\",\"\",VLOOKUP($A15,Competitors!$A$2:$G$60,6,FALSE)))","v":"senior"},{"$f":"IF($A15=\"\",\"\",IF(VLOOKUP($A15,Competitors!$A$2:$G$60,3,FALSE)=\"\",\"\",VLOOKUP($A15,Competitors!$A$2:$G$60,3,FALSE)))","v":""},{"$f":"IF($A15=\"\",\"\",IF(VLOOKUP($A15,Competitors!$A$2:$G$60,4,FALSE)=\"\",\"\",VLOOKUP($A15,Competitors!$A$2:$G$60,4,FALSE)))","v":""},{"$f":"IF(VLOOKUP(A15,Competitors!$A$1:$H$41,8,FALSE)=\"\",\"\",VLOOKUP(A15,Competitors!$A$1:$H$41,8,FALSE))","v":""},{"$f":"IF(IFERROR(VLOOKUP(($B$2&\"_\"&$A15),'Time Entry Sheet'!$A$3:$I$499,9,0),\"Error\")=\"Error\",\"\",IF(VLOOKUP(($B$2&\"_\"&$A15),'Time Entry Sheet'!$A$3:$I$499,9,FALSE)=\"wd\",\"wd\",VLOOKUP(($B$2&\"_\"&$A15),'Time Entry Sheet'!$A$3:$I$499,9,FALSE)*1))","v":"00:02:00.950"},"00:02:00.950",{"$f":"IF(IFERROR(VLOOKUP(($B$2&\"_\"&$A15),'Time Entry Sheet'!$A$3:$I$499,8,FALSE),\"Error\")=\"Error\",\"\",IF(VLOOKUP(($B$2&\"_\"&$A15),'Time Entry Sheet'!$A$3:$I$499,8,FALSE)=\"\",\"\",VLOOKUP(($B$2&\"_\"&$A15),'Time Entry Sheet'!$A$3:$I$499,8,FALSE)))","v":""},{"$f":"IF(IFERROR(VLOOKUP(($B$2&\"_\"&$A15),'Time Entry Sheet'!$A$3:$I$499,7,FALSE),\"Error\")=\"Error\",\"\",IF(VLOOKUP(($B$2&\"_\"&$A15),'Time Entry Sheet'!$A$3:$I$499,7,FALSE)=\"\",\"\",VLOOKUP(($B$2&\"_\"&$A15),'Time Entry Sheet'!$A$3:$I$499,7,FALSE)))","v":""},"00:02:00.950","00:02:00.950",18,{"$f":"IF(A15=\"\",\"\",M15+VLOOKUP(A15,'Test 10'!$A$12:$Q$51,16,FALSE))","v":"00:12:08.030"},18,null,"","00:12:08.030"]
[5,{"$f":"IF($A16=\"\",\"\",IF(VLOOKUP($A16,Competitors!$A$2:$G$60,2,FALSE)=\"\",\"\",VLOOKUP($A16,Competitors!$A$2:$G$60,2,FALSE)))","v":"Janelle Ballard"},{"$f":"IF($A16=\"\",\"\",IF(VLOOKUP($A16,Competitors!$A$2:$G$60,7,FALSE)=\"\",\"\",VLOOKUP($A16,Competitors!$A$2:$G$60,7,FALSE)))","v":""},{"$f":"IF($A16=\"\",\"\",IF(VLOOKUP($A16,Competitors!$A$2:$G$60,5,FALSE)=\"\",\"\",VLOOKUP($A16,Competitors!$A$2:$G$60,5,FALSE)))","v":"female"},{"$f":"IF($A16=\"\",\"\",IF(VLOOKUP($A16,Competitors!$A$2:$G$60,6,FALSE)=\"\",\"\",VLOOKUP($A16,Competitors!$A$2:$G$60,6,FALSE)))","v":"senior"},{"$f":"IF($A16=\"\",\"\",IF(VLOOKUP($A16,Competitors!$A$2:$G$60,3,FALSE)=\"\",\"\",VLOOKUP($A16,Competitors!$A$2:$G$60,3,FALSE)))","v":""},{"$f":"IF($A16=\"\",\"\",IF(VLOOKUP($A16,Competitors!$A$2:$G$60,4,FALSE)=\"\",\"\",VLOOKUP($A16,Competitors!$A$2:$G$60,4,FALSE)))","v":""},{"$f":"IF(VLOOKUP(A16,Competitors!$A$1:$H$41,8,FALSE)=\"\",\"\",VLOOKUP(A16,Competitors!$A$1:$H$41,8,FALSE))","v":""},{"$f":"IF(IFERROR(VLOOKUP(($B$2&\"_\"&$A16),'Time Entry Sheet'!$A$3:$I$499,9,0),\"Error\")=\"Error\",\"\",IF(VLOOKUP(($B$2&\"_\"&$A16),'Time Entry Sheet'!$A$3:$I$499,9,FALSE)=\"wd\",\"wd\",VLOOKUP(($B$2&\"_\"&$A16),'Time Entry Sheet'!$A$3:$I$499,9,FALSE)*1))","v":"00:01:47.130"},"00:01:47.130",{"$f":"IF(IFERROR(VLOOKUP(($B$2&\"_\"&$A16),'Time Entry Sheet'!$A$3:$I$499,8,FALSE),\"Error\")=\"Error\",\"\",IF(VLOOKUP(($B$2&\"_\"&$A16),'Time Entry Sheet'!$A$3:$I$499,8,FALSE)=\"\",\"\",VLOOKUP(($B$2&\"_\"&$A16),'Time Entry Sheet'!$A$3:$I$499,8,FALSE)))","v":""},{"$f":"IF(IFERROR(VLOOKUP(($B$2&\"_\"&$A16),'Time Entry Sheet'!$A$3:$I$499,7,FALSE),\"Error\")=\"Error\",\"\",IF(VLOOKUP(($B$2&\"_\"&$A16),'Time Entry Sheet'!$A$3:$I$499,7,FALSE)=\"\",\"\",VLOOKUP(($B$2&\"_\"&$A16),'Time Entry Sheet'!$A$3:$I$499,7,FALSE)))","v":""},"00:01:47.130","00:01:47.130",12,{"$f":"IF(A16=\"\",\"\",M16+VLOOKUP(A16,'Test 10'!$A$12:$Q$51,16,FALSE))","v":"00:10:36.160"},8,null,"","00:10:36.160"]
[6,{"$f":"IF($A17=\"\",\"\",IF(VLOOKUP($A17,Competitors!$A$2:$G$60,2,FALSE)=\"\",\"\",VLOOKUP($A17,Competitors!$A$2:$G$60,2,FALSE)))","v":"Issac Wishart"},{"$f":"IF($A17=\"\",\"\",IF(VLOOKUP($A17,Competitors!$A$2:$G$60,7,FALSE)=\"\",\"\",VLOOKUP($A17,Competitors!$A$2:$G$60,7,FALSE)))","v":"rookie"},{"$f":"IF($A17=\"\",\"\",IF(VLOOKUP($A17,Competitors!$A$2:$G$60,5,FALSE)=\"\",\"\",VLOOKUP($A17,Competitors!$A$2:$G$60,5,FALSE)))","v":""},{"$f":"IF($A17=\"\",\"\",IF(VLOOKUP($A17,Competitors!$A$2:$G$60,6,FALSE)=\"\",\"\",VLOOKUP($A17,Competitors!$A$2:$G$60,6,FALSE)))","v":"senior"},{"$f":"IF($A17=\"\",\"\",IF(VLOOKUP($A17,Competitors!$A$2:$G$60,3,FALSE)=\"\",\"\",VLOOKUP($A17,Competitors!$A$2:$G$60,3,FALSE)))","v":""},{"$f":"IF($A17=\"\",\"\",IF(VLOOKUP($A17,Competitors!$A$2:$G$60,4,FALSE)=\"\",\"\",VLOOKUP($A17,Competitors!$A$2:$G$60,4,FALSE)))","v":""},{"$f":"IF(VLOOKUP(A17,Competitors!$A$1:$H$41,8,FALSE)=\"\",\"\",VLOOKUP(A17,Competitors!$A$1:$H$41,8,FALSE))","v":""},{"$f":"IF(IFERROR(VLOOKUP(($B$2&\"_\"&$A17),'Time Entry Sheet'!$A$3:$I$499,9,0),\"Error\")=\"Error\",\"\",IF(VLOOKUP(($B$2&\"_\"&$A17),'Time Entry Sheet'!$A$3:$I$499,9,FALSE)=\"wd\",\"wd\",VLOOKUP(($B$2&\"_\"&$A17),'Time Entry Sheet'!$A$3:$I$499,9,FALSE)*1))","v":"00:01:49.100"},"00:01:49.100",{"$f":"IF(IFERROR(VLOOKUP(($B$2&\"_\"&$A17),'Time Entry Sheet'!$A$3:$I$499,8,FALSE),\"Error\")=\"Error\",\"\",IF(VLOOKUP(($B$2&\"_\"&$A17),'Time Entry Sheet'!$A$3:$I$499,8,FALSE)=\"\",\"\",VLOOKUP(($B$2&\"_\"&$A17),'Time Entry Sheet'!$A$3:$I$499,8,FALSE)))","v":""},{"$f":"IF(IFERROR(VLOOKUP(($B$2&\"_\"&$A17),'Time Entry Sheet'!$A$3:$I$499,7,FALSE),\"Error\")=\"Error\",\"\",IF(VLOOKUP(($B$2&\"_\"&$A17),'Time Entry Sheet'!$A$3:$I$499,7,FALSE)=\"\",\"\",VLOOKUP(($B$2&\"_\"&$A17),'Time Entry Sheet'!$A$3:$I$499,7,FALSE)))","v":""},"00:01:49.100","00:01:49.100",14,{"$f":"IF(A17=\"\",\"\",M17+VLOOKUP(A17,'Test 10'!$A$12:$Q$51,16,FALSE))","v":"00:11:48.590"},16,null,"","00:11:48.590"]
[7,{"$f":"IF($A18=\"\",\"\",IF(VLOOKUP($A18,Competitors!$A$2:$G$60,2,FALSE)=\"\",\"\",VLOOKUP($A18,Competitors!$A$2:$G$60,2,FALSE)))","v":""},{"$f":"IF($A18=\"\",\"\",IF(VLOOKUP($A18,Competitors!$A$2:$G$60,7,FALSE)=\"\",\"\",VLOOKUP($A18,Competitors!$A$2:$G$60,7,FALSE)))","v":""},{"$f":"IF($A18=\"\",\"\",IF(VLOOKUP($A18,Competitors!$A$2:$G$60,5,FALSE)=\"\",\"\",VLOOKUP($A18,Competitors!$A$2:$G$60,5,FALSE)))","v":""},{"$f":"IF($A18=\"\",\"\",IF(VLOOKUP($A18,Competitors!$A$2:$G$60,6,FALSE)=\"\",\"\",VLOOKUP($A18,Competitors!$A$2:$G$60,6,FALSE)))","v":"senior"},{"$f":"IF($A18=\"\",\"\",IF(VLOOKUP($A18,Competitors!$A$2:$G$60,3,FALSE)=\"\",\"\",VLOOKUP($A18,Competitors!$A$2:$G$60,3,FALSE)))","v":""},{"$f":"IF($A18=\"\",\"\",IF(VLOOKUP($A18,Competitors!$A$2:$G$60,4,FALSE)=\"\",\"\",VLOOKUP($A18,Competitors!$A$2:$G$60,4,FALSE)))","v":""},{"$f":"IF(VLOOKUP(A18,Competitors!$A$1:$H$41,8,FALSE)=\"\",\"\",VLOOKUP(A18,Competitors!$A$1:$H$41,8,FALSE))","v":""},{"$f":"IF(IFERROR(VLOOKUP(($B$2&\"_\"&$A18),'Time Entry Sheet'!$A$3:$I$499,9,0),\"Error\")=\"Error\",\"\",IF(VLOOKUP(($B$2&\"_\"&$A18),'Time Entry Sheet'!$A$3:$I$499,9,FALSE)=\"wd\",\"wd\",VLOOKUP(($B$2&\"_\"&$A18),'Time Entry Sheet'!$A$3:$I$499,9,FALSE)*1))","v":""},"",{"$f":"IF(IFERROR(VLOOKUP(($B$2&\"_\"&$A18),'Time Entry Sheet'!$A$3:$I$499,8,FALSE),\"Error\")=\"Error\",\"\",IF(VLOOKUP(($B$2&\"_\"&$A18),'Time Entry Sheet'!$A$3:$I$499,8,FALSE)=\"\",\"\",VLOOKUP(($B$2&\"_\"&$A18),'Time Entry Sheet'!$A$3:$I$499,8,FALSE)))","v":""},{"$f":"IF(IFERROR(VLOOKUP(($B$2&\"_\"&$A18),'Time Entry Sheet'!$A$3:$I$499,7,FALSE),\"Error\")=\"Error\",\"\",IF(VLOOKUP(($B$2&\"_\"&$A18),'Time Entry Sheet'!$A$3:$I$499,7,FALSE)=\"\",\"\",VLOOKUP(($B$2&\"_\"&$A18),'Time Entry Sheet'!$A$3:$I$499,7,FALSE)))","v":""},"00:02:10.950","00:02:10.950",19,{"$f":"IF(A18=\"\",\"\",M18+VLOOKUP(A18,'Test 10'!$A$12:$Q$51,16,FALSE))","v":"00:14:26.040"},20,null,"","00:14:26.040"]
[8,{"$f":"IF($A19=\"\",\"\",IF(VLOOKUP($A19,Competitors!$A$2:$G$60,2,FALSE)=\"\",\"\",VLOOKUP($A19,Competitors!$A$2:$G$60,2,FALSE)))","v":"Jim Taylor"},{"$f":"IF($A19=\"\",\"\",IF(VLOOKUP($A19,Competitors!$A$2:$G$60,7,FALSE)=\"\",\"\",VLOOKUP($A19,Competitors!$A$2:$G$60,7,FALSE)))","v":""},{"$f":"IF($A19=\"\",\"\",IF(VLOOKUP($A19,Competitors!$A$2:$G$60,5,FALSE)=\"\",\"\",VLOOKUP($A19,Competitors!$A$2:$G$60,5,FALSE)))","v":""},{"$f":"IF($A19=\"\",\"\",IF(VLOOKUP($A19,Competitors!$A$2:$G$60,6,FALSE)=\"\",\"\",VLOOKUP($A19,Competitors!$A$2:$G$60,6,FALSE)))","v":"senior"},{"$f":"IF($A19=\"\",\"\",IF(VLOOKUP($A19,Competitors!$A$2:$G$60,3,FALSE)=\"\",\"\",VLOOKUP($A19,Competitors!$A$2:$G$60,3,FALSE)))","v":""},{"$f":"IF($A19=\"\",\"\",IF(VLOOKUP($A19,Competitors!$A$2:$G$60,4,FALSE)=\"\",\"\",VLOOKUP($A19,Competitors!$A$2:$G$60,4,FALSE)))","v":""},{"$f":"IF(VLOOKUP(A19,Competitors!$A$1:$H$41,8,FALSE)=\"\",\"\",VLOOKUP(A19,Competitors!$A$1:$H$41,8,FALSE))","v":""},{"$f":"IF(IFERROR(VLOOKUP(($B$2&\"_\"&$A19),'Time Entry Sheet'!$A$3:$I$499,9,0),\"Error\")=\"Error\",\"\",IF(VLOOKUP(($B$2&\"_\"&$A19),'Time Entry Sheet'!$A$3:$I$499,9,FALSE)=\"wd\",\"wd\",VLOOKUP(($B$2&\"_\"&$A19),'Time Entry Sheet'!$A$3:$I$499,9,FALSE)*1))","v":"00:01:50.060"},"00:01:50.060",{"$f":"IF(IFERROR(VLOOKUP(($B$2&\"_\"&$A19),'Time Entry Sheet'!$A$3:$I$499,8,FALSE),\"Error\")=\"Error\",\"\",IF(VLOOKUP(($B$2&\"_\"&$A19),'Time Entry Sheet'!$A$3:$I$499,8,FALSE)=\"\",\"\",VLOOKUP(($B$2&\"_\"&$A19),'Time Entry Sheet'!$A$3:$I$499,8,FALSE)))","v":""},{"$f":"IF(IFERROR(VLOOKUP(($B$2&\"_\"&$A19),'Time Entry Sheet'!$A$3:$I$499,7,FALSE),\"Error\")=\"Error\",\"\",IF(VLOOKUP(($B$2&\"_\"&$A19),'Time Entry Sheet'!$A$3:$I$499,7,FALSE)=\"\",\"\",VLOOKUP(($B$2&\"_\"&$A19),'Time Entry Sheet'!$A$3:$I$499,7,FALSE)))","v":""},"00:01:50.060","00:01:50.060",16,{"$f":"IF(A19=\"\",\"\",M19+VLOOKUP(A19,'Test 10'!$A$12:$Q$51,16,FALSE))","v":"00:10:56.280"},12,null,"","00:10:56.280"]
[9,{"$f":"IF($A20=\"\",\"\",IF(VLOOKUP($A20,Competitors!$A$2:$G$60,2,FALSE)=\"\",\"\",VLOOKUP($A20,Competitors!$A$2:$G$60,2,FALSE)))","v":"Brad Firman"},{"$f":"IF($A20=\"\",\"\",IF(VLOOKUP($A20,Competitors!$A$2:$G$60,7,FALSE)=\"\",\"\",VLOOKUP($A20,Competitors!$A$2:$G$60,7,FALSE)))","v":""},{"$f":"IF($A20=\"\",\"\",IF(VLOOKUP($A20,Competitors!$A$2:$G$60,5,FALSE)=\"\",\"\",VLOOKUP($A20,Competitors!$A$2:$G$60,5,FALSE)))","v":""},{"$f":"IF($A20=\"\",\"\",IF(VLOOKUP($A20,Competitors!$A$2:$G$60,6,FALSE)=\"\",\"\",VLOOKUP($A20,Competitors!$A$2:$G$60,6,FALSE)))","v":"senior"},{"$f":"IF($A20=\"\",\"\",IF(VLOOKUP($A20,Competitors!$A$2:$G$60,3,FALSE)=\"\",\"\",VLOOKUP($A20,Competitors!$A$2:$G$60,3,FALSE)))","v":""},{"$f":"IF($A20=\"\",\"\",IF(VLOOKUP($A20,Competitors!$A$2:$G$60,4,FALSE)=\"\",\"\",VLOOKUP($A20,Competitors!$A$2:$G$60,4,FALSE)))","v":""},{"$f":"IF(VLOOKUP(A20,Competitors!$A$1:$H$41,8,FALSE)=\"\",\"\",VLOOKUP(A20,Competitors!$A$1:$H$41,8,FALSE))","v":""},{"$f":"IF(IFERROR(VLOOKUP(($B$2&\"_\"&$A20),'Time Entry Sheet'!$A$3:$I$499,9,0),\"Error\")=\"Error\",\"\",IF(VLOOKUP(($B$2&\"_\"&$A20),'Time Entry Sheet'!$A$3:$I$499,9,FALSE)=\"wd\",\"wd\",VLOOKUP(($B$2&\"_\"&$A20),'Time Entry Sheet'!$A$3:$I$499,9,FALSE)*1))","v":"00:01:36.010"},{"$f":"IF(E20=\"Junior\",\"\",IF(I20=\"wd\",\"\",IF(K20<>\"\",\"\",I20)))","v":"00:01:36.010"},{"$f":"IF(IFERROR(VLOOKUP(($B$2&\"_\"&$A20),'Time Entry Sheet'!$A$3:$I$499,8,FALSE),\"Error\")=\"Error\",\"\",IF(VLOOKUP(($B$2&\"_\"&$A20),'Time Entry Sheet'!$A$3:$I$499,8,FALSE)=\"\",\"\",VLOOKUP(($B$2&\"_\"&$A20),'Time Entry Sheet'!$A$3:$I$499,8,FALSE)))","v":""},{"$f":"IF(IFERROR(VLOOKUP(($B$2&\"_\"&$A20),'Time Entry Sheet'!$A$3:$I$499,7,FALSE),\"Error\")=\"Error\",\"\",IF(VLOOKUP(($B$2&\"_\"&$A20),'Time Entry Sheet'!$A$3:$I$499,7,FALSE)=\"\",\"\",VLOOKUP(($B$2&\"_\"&$A20),'Time Entry Sheet'!$A$3:$I$499,7,FALSE)))","v":""},{"$f":"IF(A20=\"\",\"\",IF(I20=\"wd\",IF(E20=\"Senior\",$B$7,$C$7),IF(L20<>\"\",$B$7,IF(I20=\"\",IF(E20=\"Senior\",$B$8,$C$8),IF(K20=\"\",I20,I20+($B$5*K20))))))","v":"00:01:36.010"},{"$f":"IF(H20=\"Passenger\",\"\",M20)","v":"00:01:36.010"},{"$f":"IF(A20=\"\",\"\",IF(H20=\"Passenger\",\"P\",RANK(N20,$N$12:$N$51,1)))","v":5},{"$f":"IF(A20=\"\",\"\",M20+VLOOKUP(A20,'Test 10'!$A$12:$Q$51,16,FALSE))","v":"00:09:45.370"},{"$f":"IF(A20=\"\",\"\",IF(H20=\"Passenger\",\"P\",RANK(T20,$T$12:$T$51,1)))","v":3},null,{"$f":"IF(E20=\"Senior\",\"\",IF(I20=\"wd\",\"\",IF(K20<>\"\",\"\",I20)))","v":""},{"$f":"IF(H20=\"Passenger\",\"\",P20)","v":"00:09:45.370"}]
[10,{"$f":"IF($A21=\"\",\"\",IF(VLOOKUP($A21,Competitors!$A$2:$G$60,2,FALSE)=\"\",\"\",VLOOKUP($A21,Competitors!$A$2:$G$60,2,FALSE)))","v":"Scott Taylor"},{"$f":"IF($A21=\"\",\"\",IF(VLOOKUP($A21,Competitors!$A$2:$G$60,7,FALSE)=\"\",\"\",VLOOKUP($A21,Competitors!$A$2:$G$60,7,FALSE)))","v":""},{"$f":"IF($A21=\"\",\"\",IF(VLOOKUP($A21,Competitors!$A$2:$G$60,5,FALSE)=\"\",\"\",VLOOKUP($A21,Competitors!$A$2:$G$60,5,FALSE)))","v":""},{"$f":"IF($A21=\"\",\"\",IF(VLOOKUP($A21,Competitors!$A$2:$G$60,6,FALSE)=\"\",\"\",VLOOKUP($A21,Competitors!$A$2:$G$60,6,FALSE)))","v":"senior"},{"$f":"IF($A21=\"\",\"\",IF(VLOOKUP($A21,Competitors!$A$2:$G$60,3,FALSE)=\"\",\"\",VLOOKUP($A21,Competitors!$A$2:$G$60,3,FALSE)))","v":""},{"$f":"IF($A21=\"\",\"\",IF(VLOOKUP($A21,Competitors!$A$2:$G$60,4,FALSE)=\"\",\"\",VLOOKUP($A21,Competitors!$A$2:$G$60,4,FALSE)))","v":""},{"$f":"IF(VLOOKUP(A21,Competitors!$A$1:$H$41,8,FALSE)=\"\",\"\",VLOOKUP(A21,Competitors!$A$1:$H$41,8,FALSE))","v":""},{"$f":"IF(IFERROR(VLOOKUP(($B$2&\"_\"&$A21),'Time Entry Sheet'!$A$3:$I$499,9,0),\"Error\")=\"Error\",\"\",IF(VLOOKUP(($B$2&\"_\"&$A21),'Time Entry Sheet'!$A$3:$I$499,9,FALSE)=\"wd\",\"wd\",VLOOKUP(($B$2&\"_\"&$A21),'Time Entry Sheet'!$A$3:$I$499,9,FALSE)*1))","v":"00:01:49.300"},"00:01:49.300",{"$f":"IF(IFERROR(VLOOKUP(($B$2&\"_\"&$A21),'Time Entry Sheet'!$A$3:$I$499,8,FALSE),\"Error\")=\"Error\",\"\",IF(VLOOKUP(($B$2&\"_\"&$A21),'Time Entry Sheet'!$A$3:$I$499,8,FALSE)=\"\",\"\",VLOOKUP(($B$2&\"_\"&$A21),'Time Entry Sheet'!$A$3:$I$499,8,FALSE)))","v":""},{"$f":"IF(IFERROR(VLOOKUP(($B$2&\"_\"&$A21),'Time Entry Sheet'!$A$3:$I$499,7,FALSE),\"Error\")=\"Error\",\"\",IF(VLOOKUP(($B$2&\"_\"&$A21),'Time Entry Sheet'!$A$3:$I$499,7,FALSE)=\"\",\"\",VLOOKUP(($B$2&\"_\"&$A21),'Time Entry Sheet'!$A$3:$I$499,7,FALSE)))","v":""},"00:01:49.300","00:01:49.300",15,{"$f":"IF(A21=\"\",\"\",M21+VLOOKUP(A21,'Test 10'!$A$12:$Q$51,16,FALSE))","v":"00:11:04.950"},13,null,"","00:11:04.950"]
[11,{"$f":"IF($A22=\"\",\"\",IF(VLOOKUP($A22,Competitors!$A$2:$G$60,2,FALSE)=\"\",\"\",VLOOKUP($A22,Competitors!$A$2:$G$60,2,FALSE)))","v":"Russel McKinley"},{"$f":"IF($A22=\"\",\"\",IF(VLOOKUP($A22,Competitors!$A$2:$G$60,7,FALSE)=\"\",\"\",VLOOKUP($A22,Competitors!$A$2:$G$60,7,FALSE)))","v":""},{"$f":"IF($A22=\"\",\"\",IF(VLOOKUP($A22,Competitors!$A$2:$G$60,5,FALSE)=\"\",\"\",VLOOKUP($A22,Competitors!$A$2:$G$60,5,FALSE)))","v":""},{"$f":"IF($A22=\"\",\"\",IF(VLOOKUP($A22,Competitors!$A$2:$G$60,6,FALSE)=\"\",\"\",VLOOKUP($A22,Competitors!$A$2:$G$60,6,FALSE)))","v":"senior"},{"$f":"IF($A22=\"\",\"\",IF(VLOOKUP($A22,Competitors!$A$2:$G$60,3,FALSE)=\"\",\"\",VLOOKUP($A22,Competitors!$A$2:$G$60,3,FALSE)))","v":""},{"$f":"IF($A22=\"\",\"\",IF(VLOOKUP($A22,Competitors!$A$2:$G$60,4,FALSE)=\"\",\"\",VLOOKUP($A22,Competitors!$A$2:$G$60,4,FALSE)))","v":""},{"$f":"IF(VLOOKUP(A22,Competitors!$A$1:$H$41,8,FALSE)=\"\",\"\",VLOOKUP(A22,Competitors!$A$1:$H$41,8,FALSE))","v":""},{"$f":"IF(IFERROR(VLOOKUP(($B$2&\"_\"&$A22),'Time Entry Sheet'!$A$3:$I$499,9,0),\"Error\")=\"Error\",\"\",IF(VLOOKUP(($B$2&\"_\"&$A22),'Time Entry Sheet'!$A$3:$I$499,9,FALSE)=\"wd\",\"wd\",VLOOKUP(($B$2&\"_\"&$A22),'Time Entry Sheet'!$A$3:$I$499,9,FALSE)*1))","v":""},"",{"$f":"IF(IFERROR(VLOOKUP(($B$2&\"_\"&$A22),'Time Entry Sheet'!$A$3:$I$499,8,FALSE),\"Error\")=\"Error\",\"\",IF(VLOOKUP(($B$2&\"_\"&$A22),'Time Entry Sheet'!$A$3:$I$499,8,FALSE)=\"\",\"\",VLOOKUP(($B$2&\"_\"&$A22),'Time Entry Sheet'!$A$3:$I$499,8,FALSE)))","v":""},{"$f":"IF(IFERROR(VLOOKUP(($B$2&\"_\"&$A22),'Time Entry Sheet'!$A$3:$I$499,7,FALSE),\"Error\")=\"Error\",\"\",IF(VLOOKUP(($B$2&\"_\"&$A22),'Time Entry Sheet'!$A$3:$I$499,7,FALSE)=\"\",\"\",VLOOKUP(($B$2&\"_\"&$A22),'Time Entry Sheet'!$A$3:$I$499,7,FALSE)))","v":""},"00:02:10.950","00:02:10.950",19,{"$f":"IF(A22=\"\",\"\",M22+VLOOKUP(A22,'Test 10'!$A$12:$Q$51,16,FALSE))","v":"00:12:08.960"},19,null,"","00:12:08.960"]
[12,{"$f":"IF($A23=\"\",\"\",IF(VLOOKUP($A23,Competitors!$A$2:$G$60,2,FALSE)=\"\",\"\",VLOOKUP($A23,Competitors!$A$2:$G$60,2,FALSE)))","v":"Mat Boorman"},{"$f":"IF($A23=\"\",\"\",IF(VLOOKUP($A23,Competitors!$A$2:$G$60,7,FALSE)=\"\",\"\",VLOOKUP($A23,Competitors!$A$2:$G$60,7,FALSE)))","v":""},{"$f":"IF($A23=\"\",\"\",IF(VLOOKUP($A23,Competitors!$A$2:$G$60,5,FALSE)=\"\",\"\",VLOOKUP($A23,Competitors!$A$2:$G$60,5,FALSE)))","v":""},{"$f":"IF($A23=\"\",\"\",IF(VLOOKUP($A23,Competitors!$A$2:$G$60,6,FALSE)=\"\",\"\",VLOOKUP($A23,Competitors!$A$2:$G$60,6,FALSE)))","v":"senior"},{"$f":"IF($A23=\"\",\"\",IF(VLOOKUP($A23,Competitors!$A$2:$G$60,3,FALSE)=\"\",\"\",VLOOKUP($A23,Competitors!$A$2:$G$60,3,FALSE)))","v":""},{"$f":"IF($A23=\"\",\"\",IF(VLOOKUP($A23,Competitors!$A$2:$G$60,4,FALSE)=\"\",\"\",VLOOKUP($A23,Competitors!$A$2:$G$60,4,FALSE)))","v":""},{"$f":"IF(VLOOKUP(A23,Competitors!$A$1:$H$41,8,FALSE)=\"\",\"\",VLOOKUP(A23,Competitors!$A$1:$H$41,8,FALSE))","v":""},{"$f":"IF(IFERROR(VLOOKUP(($B$2&\"_\"&$A23),'Time Entry Sheet'!$A$3:$I$499,9,0),\"Error\")=\"Error\",\"\",IF(VLOOKUP(($B$2&\"_\"&$A23),'Time Entry Sheet'!$A$3:$I$499,9,FALSE)=\"wd\",\"wd\",VLOOKUP(($B$2&\"_\"&$A23),'Time Entry Sheet'!$A$3:$I$499,9,FALSE)*1))","v":"00:01:55.090"},"00:01:55.090",{"$f":"IF(IFERROR(VLOOKUP(($B$2&\"_\"&$A23),'Time Entry Sheet'!$A$3:$I$499,8,FALSE),\"Error\")=\"Error\",\"\",IF(VLOOKUP(($B$2&\"_\"&$A23),'Time Entry Sheet'!$A$3:$I$499,8,FALSE)=\"\",\"\",VLOOKUP(($B$2&\"_\"&$A23),'Time Entry Sheet'!$A$3:$I$499,8,FALSE)))","v":""},{"$f":"IF(IFERROR(VLOOKUP(($B$2&\"_\"&$A23),'Time Entry Sheet'!$A$3:$I$499,7,FALSE),\"Error\")=\"Error\",\"\",IF(VLOOKUP(($B$2&\"_\"&$A23),'Time Entry Sheet'!$A$3:$I$499,7,FALSE)=\"\",\"\",VLOOKUP(($B$2&\"_\"&$A23),'Time Entry Sheet'!$A$3:$I$499,7,FALSE)))","v":""},"00:01:55.090","00:01:55.090",17,{"$f":"IF(A23=\"\",\"\",M23+VLOOKUP(A23,'Test 10'!$A$12:$Q$51,16,FALSE))","v":"00:11:32.400"},15,null,"","00:11:32.400"]
[13,{"$f":"IF($A24=\"\",\"\",IF(VLOOKUP($A24,Competitors!$A$2:$G$60,2,FALSE)=\"\",\"\",VLOOKUP($A24,Competitors!$A$2:$G$60,2,FALSE)))","v":"Aaron Wishart"},{"$f":"IF($A24=\"\",\"\",IF(VLOOKUP($A24,Competitors!$A$2:$G$60,7,FALSE)=\"\",\"\",VLOOKUP($A24,Competitors!$A$2:$G$60,7,FALSE)))","v":""},{"$f":"IF($A24=\"\",\"\",IF(VLOOKUP($A24,Competitors!$A$2:$G$60,5,FALSE)=\"\",\"\",VLOOKUP($A24,Competitors!$A$2:$G$60,5,FALSE)))","v":""},{"$f":"IF($A24=\"\",\"\",IF(VLOOKUP($A24,Competitors!$A$2:$G$60,6,FALSE)=\"\",\"\",VLOOKUP($A24,Competitors!$A$2:$G$60,6,FALSE)))","v":"senior"},{"$f":"IF($A24=\"\",\"\",IF(VLOOKUP($A24,Competitors!$A$2:$G$60,3,FALSE)=\"\",\"\",VLOOKUP($A24,Competitors!$A$2:$G$60,3,FALSE)))","v":""},{"$f":"IF($A24=\"\",\"\",IF(VLOOKUP($A24,Competitors!$A$2:$G$60,4,FALSE)=\"\",\"\",VLOOKUP($A24,Competitors!$A$2:$G$60,4,FALSE)))","v":""},{"$f":"IF(VLOOKUP(A24,Competitors!$A$1:$H$41,8,FALSE)=\"\",\"\",VLOOKUP(A24,Competitors!$A$1:$H$41,8,FALSE))","v":""},{"$f":"IF(IFERROR(VLOOKUP(($B$2&\"_\"&$A24),'Time Entry Sheet'!$A$3:$I$499,9,0),\"Error\")=\"Error\",\"\",IF(VLOOKUP(($B$2&\"_\"&$A24),'Time Entry Sheet'!$A$3:$I$499,9,FALSE)=\"wd\",\"wd\",VLOOKUP(($B$2&\"_\"&$A24),'Time Entry Sheet'!$A$3:$I$499,9,FALSE)*1))","v":"00:01:44.670"},"00:01:44.670",{"$f":"IF(IFERROR(VLOOKUP(($B$2&\"_\"&$A24),'Time Entry Sheet'!$A$3:$I$499,8,FALSE),\"Error\")=\"Error\",\"\",IF(VLOOKUP(($B$2&\"_\"&$A24),'Time Entry Sheet'!$A$3:$I$499,8,FALSE)=\"\",\"\",VLOOKUP(($B$2&\"_\"&$A24),'Time Entry Sheet'!$A$3:$I$499,8,FALSE)))","v":""},{"$f":"IF(IFERROR(VLOOKUP(($B$2&\"_\"&$A24),'Time Entry Sheet'!$A$3:$I$499,7,FALSE),\"Error\")=\"Error\",\"\",IF(VLOOKUP(($B$2&\"_\"&$A24),'Time Entry Sheet'!$A$3:$I$499,7,FALSE)=\"\",\"\",VLOOKUP(($B$2&\"_\"&$A24),'Time Entry Sheet'!$A$3:$I$499,7,FALSE)))","v":""},"00:01:44.670","00:01:44.670",10,{"$f":"IF(A24=\"\",\"\",M24+VLOOKUP(A24,'Test 10'!$A$12:$Q$51,16,FALSE))","v":"00:11:30.520"},14,null,"","00:11:30.520"]
[14,{"$f":"IF($A25=\"\",\"\",IF(VLOOKUP($A25,Competitors!$A$2:$G$60,2,FALSE)=\"\",\"\",VLOOKUP($A25,Competitors!$A$2:$G$60,2,FALSE)))","v":"Bob Fulthorpe"},{"$f":"IF($A25=\"\",\"\",IF(VLOOKUP($A25,Competitors!$A$2:$G$60,7,FALSE)=\"\",\"\",VLOOKUP($A25,Competitors!$A$2:$G$60,7,FALSE)))","v":""},{"$f":"IF($A25=\"\",\"\",IF(VLOOKUP($A25,Competitors!$A$2:$G$60,5,FALSE)=\"\",\"\",VLOOKUP($A25,Competitors!$A$2:$G$60,5,FALSE)))","v":""},{"$f":"IF($A25=\"\",\"\",IF(VLOOKUP($A25,Competitors!$A$2:$G$60,6,FALSE)=\"\",\"\",VLOOKUP($A25,Competitors!$A$2:$G$60,6,FALSE)))","v":"senior"},{"$f":"IF($A25=\"\",\"\",IF(VLOOKUP($A25,Competitors!$A$2:$G$60,3,FALSE)=\"\",\"\",VLOOKUP($A25,Competitors!$A$2:$G$60,3,FALSE)))","v":""},{"$f":"IF($A25=\"\",\"\",IF(VLOOKUP($A25,Competitors!$A$2:$G$60,4,FALSE)=\"\",\"\",VLOOKUP($A25,Competitors!$A$2:$G$60,4,FALSE)))","v":""},{"$f":"IF(VLOOKUP(A25,Competitors!$A$1:$H$41,8,FALSE)=\"\",\"\",VLOOKUP(A25,Competitors!$A$1:$H$41,8,FALSE))","v":""},{"$f":"IF(IFERROR(VLOOKUP(($B$2&\"_\"&$A25),'Time Entry Sheet'!$A$3:$I$499,9,0),\"Error\")=\"Error\",\"\",IF(VLOOKUP(($B$2&\"_\"&$A25),'Time Entry Sheet'!$A$3:$I$499,9,FALSE)=\"wd\",\"wd\",VLOOKUP(($B$2&\"_\"&$A25),'Time Entry Sheet'!$A$3:$I$499,9,FALSE)*1))","v":"00:01:40.190"},"00:01:40.190",{"$f":"IF(IFERROR(VLOOKUP(($B$2&\"_\"&$A25),'Time Entry Sheet'!$A$3:$I$499,8,FALSE),\"Error\")=\"Error\",\"\",IF(VLOOKUP(($B$2&\"_\"&$A25),'Time Entry Sheet'!$A$3:$I$499,8,FALSE)=\"\",\"\",VLOOKUP(($B$2&\"_\"&$A25),'Time Entry Sheet'!$A$3:$I$499,8,FALSE)))","v":""},{"$f":"IF(IFERROR(VLOOKUP(($B$2&\"_\"&$A25),'Time Entry Sheet'!$A$3:$I$499,7,FALSE),\"Error\")=\"Error\",\"\",IF(VLOOKUP(($B$2&\"_\"&$A25),'Time Entry Sheet'!$A$3:$I$499,7,FALSE)=\"\",\"\",VLOOKUP(($B$2&\"_\"&$A25),'Time Entry Sheet'!$A$3:$I$499,7,FALSE)))","v":""},"00:01:40.190","00:01:40.190",6,{"$f":"IF(A25=\"\",\"\",M25+VLOOKUP(A25,'Test 10'!$A$12:$Q$51,16,FALSE))","v":"00:09:59.850"},4,null,"","00:09:59.850"]
[15,{"$f":"IF($A26=\"\",\"\",IF(VLOOKUP($A26,Competitors!$A$2:$G$60,2,FALSE)=\"\",\"\",VLOOKUP($A26,Competitors!$A$2:$G$60,2,FALSE)))","v":"Khi Fulthorpe"},{"$f":"IF($A26=\"\",\"\",IF(VLOOKUP($A26,Competitors!$A$2:$G$60,7,FALSE)=\"\",\"\",VLOOKUP($A26,Competitors!$A$2:$G$60,7,FALSE)))","v":""},{"$f":"IF($A26=\"\",\"\",IF(VLOOKUP($A26,Competitors!$A$2:$G$60,5,FALSE)=\"\",\"\",VLOOKUP($A26,Competitors!$A$2:$G$60,5,FALSE)))","v":""},{"$f":"IF($A26=\"\",\"\",IF(VLOOKUP($A26,Competitors!$A$2:$G$60,6,FALSE)=\"\",\"\",VLOOKUP($A26,Competitors!$A$2:$G$60,6,FALSE)))","v":"senior"},{"$f":"IF($A26=\"\",\"\",IF(VLOOKUP($A26,Competitors!$A$2:$G$60,3,FALSE)=\"\",\"\",VLOOKUP($A26,Competitors!$A$2:$G$60,3,FALSE)))","v":""},{"$f":"IF($A26=\"\",\"\",IF(VLOOKUP($A26,Competitors!$A$2:$G$60,4,FALSE)=\"\",\"\",VLOOKUP($A26,Competitors!$A$2:$G$60,4,FALSE)))","v":""},{"$f":"IF(VLOOKUP(A26,Competitors!$A$1:$H$41,8,FALSE)=\"\",\"\",VLOOKUP(A26,Competitors!$A$1:$H$41,8,FALSE))","v":""},{"$f":"IF(IFERROR(VLOOKUP(($B$2&\"_\"&$A26),'Time Entry Sheet'!$A$3:$I$499,9,0),\"Error\")=\"Error\",\"\",IF(VLOOKUP(($B$2&\"_\"&$A26),'Time Entry Sheet'!$A$3:$I$499,9,FALSE)=\"wd\",\"wd\",VLOOKUP(($B$2&\"_\"&$A26),'Time Entry Sheet'!$A$3:$I$499,9,FALSE)*1))","v":"00:01:44.630"},"00:01:44.630",{"$f":"IF(IFERROR(VLOOKUP(($B$2&\"_\"&$A26),'Time Entry Sheet'!$A$3:$I$499,8,FALSE),\"Error\")=\"Error\",\"\",IF(VLOOKUP(($B$2&\"_\"&$A26),'Time Entry Sheet'!$A$3:$I$499,8,FALSE)=\"\",\"\",VLOOKUP(($B$2&\"_\"&$A26),'Time Entry Sheet'!$A$3:$I$499,8,FALSE)))","v":""},{"$f":"IF(IFERROR(VLOOKUP(($B$2&\"_\"&$A26),'Time Entry Sheet'!$A$3:$I$499,7,FALSE),\"Error\")=\"Error\",\"\",IF(VLOOKUP(($B$2&\"_\"&$A26),'Time Entry Sheet'!$A$3:$I$499,7,FALSE)=\"\",\"\",VLOOKUP(($B$2&\"_\"&$A26),'Time Entry Sheet'!$A$3:$I$499,7,FALSE)))","v":""},"00:01:44.630","00:01:44.630",9,{"$f":"IF(A26=\"\",\"\",M26+VLOOKUP(A26,'Test 10'!$A$12:$Q$51,16,FALSE))","v":"00:10:46.060"},10,null,"","00:10:46.060"]
[16,{"$f":"IF($A27=\"\",\"\",IF(VLOOKUP($A27,Competitors!$A$2:$G$60,2,FALSE)=\"\",\"\",VLOOKUP($A27,Competitors!$A$2:$G$60,2,FALSE)))","v":"Nathan Senior"},{"$f":"IF($A27=\"\",\"\",IF(VLOOKUP($A27,Competitors!$A$2:$G$60,7,FALSE)=\"\",\"\",VLOOKUP($A27,Competitors!$A$2:$G$60,7,FALSE)))","v":""},{"$f":"IF($A27=\"\",\"\",IF(VLOOKUP($A27,Competitors!$A$2:$G$60,5,FALSE)=\"\",\"\",VLOOKUP($A27,Competitors!$A$2:$G$60,5,FALSE)))","v":""},{"$f":"IF($A27=\"\",\"\",IF(VLOOKUP($A27,Competitors!$A$2:$G$60,6,FALSE)=\"\",\"\",VLOOKUP($A27,Competitors!$A$2:$G$60,6,FALSE)))","v":"senior"},{"$f":"IF($A27=\"\",\"\",IF(VLOOKUP($A27,Competitors!$A$2:$G$60,3,FALSE)=\"\",\"\",VLOOKUP($A27,Competitors!$A$2:$G$60,3,FALSE)))","v":""},{"$f":"IF($A27=\"\",\"\",IF(VLOOKUP($A27,Competitors!$A$2:$G$60,4,FALSE)=\"\",\"\",VLOOKUP($A27,Competitors!$A$2:$G$60,4,FALSE)))","v":""},{"$f":"IF(VLOOKUP(A27,Competitors!$A$1:$H$41,8,FALSE)=\"\",\"\",VLOOKUP(A27,Competitors!$A$1:$H$41,8,FALSE))","v":""},{"$f":"IF(IFERROR(VLOOKUP(($B$2&\"_\"&$A27),'Time Entry Sheet'!$A$3:$I$499,9,0),\"Error\")=\"Error\",\"\",IF(VLOOKUP(($B$2&\"_\"&$A27),'Time Entry Sheet'!$A$3:$I$499,9,FALSE)=\"wd\",\"wd\",VLOOKUP(($B$2&\"_\"&$A27),'Time Entry Sheet'!$A$3:$I$499,9,FALSE)*1))","v":"00:01:35.120"},"00:01:35.120",{"$f":"IF(IFERROR(VLOOKUP(($B$2&\"_\"&$A27),'Time Entry Sheet'!$A$3:$I$499,8,FALSE),\"Error\")=\"Error\",\"\",IF(VLOOKUP(($B$2&\"_\"&$A27),'Time Entry Sheet'!$A$3:$I$499,8,FALSE)=\"\",\"\",VLOOKUP(($B$2&\"_\"&$A27),'Time Entry Sheet'!$A$3:$I$499,8,FALSE)))","v":""},{"$f":"IF(IFERROR(VLOOKUP(($B$2&\"_\"&$A27),'Time Entry Sheet'!$A$3:$I$499,7,FALSE),\"Error\")=\"Error\",\"\",IF(VLOOKUP(($B$2&\"_\"&$A27),'Time Entry Sheet'!$A$3:$I$499,7,FALSE)=\"\",\"\",VLOOKUP(($B$2&\"_\"&$A27),'Time Entry Sheet'!$A$3:$I$499,7,FALSE)))","v":""},"00:01:35.120","00:01:35.120",4,{"$f":"IF(A27=\"\",\"\",M27+VLOOKUP(A27,'Test 10'!$A$12:$Q$51,16,FALSE))","v":"00:10:35.290"},7,null,"","00:10:35.290"]
[17,{"$f":"IF($A28=\"\",\"\",IF(VLOOKUP($A28,Competitors!$A$2:$G$60,2,FALSE)=\"\",\"\",VLOOKUP($A28,Competitors!$A$2:$G$60,2,FALSE)))","v":"Reece McIntosh"},{"$f":"IF($A28=\"\",\"\",IF(VLOOKUP($A28,Competitors!$A$2:$G$60,7,FALSE)=\"\",\"\",VLOOKUP($A28,Competitors!$A$2:$G$60,7,FALSE)))","v":""},{"$f":"IF($A28=\"\",\"\",IF(VLOOKUP($A28,Competitors!$A$2:$G$60,5,FALSE)=\"\",\"\",VLOOKUP($A28,Competitors!$A$2:$G$60,5,FALSE)))","v":""},{"$f":"IF($A28=\"\",\"\",IF(VLOOKUP($A28,Competitors!$A$2:$G$60,6,FALSE)=\"\",\"\",VLOOKUP($A28,Competitors!$A$2:$G$60,6,FALSE)))","v":"senior"},{"$f":"IF($A28=\"\",\"\",IF(VLOOKUP($A28,Competitors!$A$2:$G$60,3,FALSE)=\"\",\"\",VLOOKUP($A28,Competitors!$A$2:$G$60,3,FALSE)))","v":""},{"$f":"IF($A28=\"\",\"\",IF(VLOOKUP($A28,Competitors!$A$2:$G$60,4,FALSE)=\"\",\"\",VLOOKUP($A28,Competitors!$A$2:$G$60,4,FALSE)))","v":""},{"$f":"IF(VLOOKUP(A28,Competitors!$A$1:$H$41,8,FALSE)=\"\",\"\",VLOOKUP(A28,Competitors!$A$1:$H$41,8,FALSE))","v":""},{"$f":"IF(IFERROR(VLOOKUP(($B$2&\"_\"&$A28),'Time Entry Sheet'!$A$3:$I$499,9,0),\"Error\")=\"Error\",\"\",IF(VLOOKUP(($B$2&\"_\"&$A28),'Time Entry Sheet'!$A$3:$I$499,9,FALSE)=\"wd\",\"wd\",VLOOKUP(($B$2&\"_\"&$A28),'Time Entry Sheet'!$A$3:$I$499,9,FALSE)*1))","v":"00:01:31.590"},"00:01:31.590",{"$f":"IF(IFERROR(VLOOKUP(($B$2&\"_\"&$A28),'Time Entry Sheet'!$A$3:$I$499,8,FALSE),\"Error\")=\"Error\",\"\",IF(VLOOKUP(($B$2&\"_\"&$A28),'Time Entry Sheet'!$A$3:$I$499,8,FALSE)=\"\",\"\",VLOOKUP(($B$2&\"_\"&$A28),'Time Entry Sheet'!$A$3:$I$499,8,FALSE)))","v":""},{"$f":"IF(IFERROR(VLOOKUP(($B$2&\"_\"&$A28),'Time Entry Sheet'!$A$3:$I$499,7,FALSE),\"Error\")=\"Error\",\"\",IF(VLOOKUP(($B$2&\"_\"&$A28),'Time Entry Sheet'!$A$3:$I$499,7,FALSE)=\"\",\"\",VLOOKUP(($B$2&\"_\"&$A28),'Time Entry Sheet'!$A$3:$I$499,7,FALSE)))","v":""},"00:01:31.590","00:01:31.590",1,{"$f":"IF(A28=\"\",\"\",M28+VLOOKUP(A28,'Test 10'!$A$12:$Q$51,16,FALSE))","v":"00:09:25.220"},1,null,"","00:09:25.220"]
[18,{"$f":"IF($A29=\"\",\"\",IF(VLOOKUP($A29,Competitors!$A$2:$G$60,2,FALSE)=\"\",\"\",VLOOKUP($A29,Competitors!$A$2:$G$60,2,FALSE)))","v":"Jack Stanley"},{"$f":"IF($A29=\"\",\"\",IF(VLOOKUP($A29,Competitors!$A$2:$G$60,7,FALSE)=\"\",\"\",VLOOKUP($A29,Competitors!$A$2:$G$60,7,FALSE)))","v":"rookie"},{"$f":"IF($A29=\"\",\"\",IF(VLOOKUP($A29,Competitors!$A$2:$G$60,5,FALSE)=\"\",\"\",VLOOKUP($A29,Competitors!$A$2:$G$60,5,FALSE)))","v":""},{"$f":"IF($A29=\"\",\"\",IF(VLOOKUP($A29,Competitors!$A$2:$G$60,6,FALSE)=\"\",\"\",VLOOKUP($A29,Competitors!$A$2:$G$60,6,FALSE)))","v":"senior"},{"$f":"IF($A29=\"\",\"\",IF(VLOOKUP($A29,Competitors!$A$2:$G$60,3,FALSE)=\"\",\"\",VLOOKUP($A29,Competitors!$A$2:$G$60,3,FALSE)))","v":""},{"$f":"IF($A29=\"\",\"\",IF(VLOOKUP($A29,Competitors!$A$2:$G$60,4,FALSE)=\"\",\"\",VLOOKUP($A29,Competitors!$A$2:$G$60,4,FALSE)))","v":""},{"$f":"IF(VLOOKUP(A29,Competitors!$A$1:$H$41,8,FALSE)=\"\",\"\",VLOOKUP(A29,Competitors!$A$1:$H$41,8,FALSE))","v":""},{"$f":"IF(IFERROR(VLOOKUP(($B$2&\"_\"&$A29),'Time Entry Sheet'!$A$3:$I$499,9,0),\"Error\")=\"Error\",\"\",IF(VLOOKUP(($B$2&\"_\"&$A29),'Time Entry Sheet'!$A$3:$I$499,9,FALSE)=\"wd\",\"wd\",VLOOKUP(($B$2&\"_\"&$A29),'Time Entry Sheet'!$A$3:$I$499,9,FALSE)*1))","v":"00:01:47.420"},"00:01:47.420",{"$f":"IF(IFERROR(VLOOKUP(($B$2&\"_\"&$A29),'Time Entry Sheet'!$A$3:$I$499,8,FALSE),\"Error\")=\"Error\",\"\",IF(VLOOKUP(($B$2&\"_\"&$A29),'Time Entry Sheet'!$A$3:$I$499,8,FALSE)=\"\",\"\",VLOOKUP(($B$2&\"_\"&$A29),'Time Entry Sheet'!$A$3:$I$499,8,FALSE)))","v":""},{"$f":"IF(IFERROR(VLOOKUP(($B$2&\"_\"&$A29),'Time Entry Sheet'!$A$3:$I$499,7,FALSE),\"Error\")=\"Error\",\"\",IF(VLOOKUP(($B$2&\"_\"&$A29),'Time Entry Sheet'!$A$3:$I$499,7,FALSE)=\"\",\"\",VLOOKUP(($B$2&\"_\"&$A29),'Time Entry Sheet'!$A$3:$I$499,7,FALSE)))","v":""},"00:01:47.420","00:01:47.420",13,{"$f":"IF(A29=\"\",\"\",M29+VLOOKUP(A29,'Test 10'!$A$12:$Q$51,16,FALSE))","v":"00:11:57.910"},17,null,"","00:11:57.910"]
[19,{"$f":"IF($A30=\"\",\"\",IF(VLOOKUP($A30,Competitors!$A$2:$G$60,2,FALSE)=\"\",\"\",VLOOKUP($A30,Competitors!$A$2:$G$60,2,FALSE)))","v":"Christopher Northey"},{"$f":"IF($A30=\"\",\"\",IF(VLOOKUP($A30,Competitors!$A$2:$G$60,7,FALSE)=\"\",\"\",VLOOKUP($A30,Competitors!$A$2:$G$60,7,FALSE)))","v":""},{"$f":"IF($A30=\"\",\"\",IF(VLOOKUP($A30,Competitors!$A$2:$G$60,5,FALSE)=\"\",\"\",VLOOKUP($A30,Competitors!$A$2:$G$60,5,FALSE)))","v":""},{"$f":"IF($A30=\"\",\"\",IF(VLOOKUP($A30,Competitors!$A$2:$G$60,6,FALSE)=\"\",\"\",VLOOKUP($A30,Competitors!$A$2:$G$60,6,FALSE)))","v":"senior"},{"$f":"IF($A30=\"\",\"\",IF(VLOOKUP($A30,Competitors!$A$2:$G$60,3,FALSE)=\"\",\"\",VLOOKUP($A30,Competitors!$A$2:$G$60,3,FALSE)))","v":""},{"$f":"IF($A30=\"\",\"\",IF(VLOOKUP($A30,Competitors!$A$2:$G$60,4,FALSE)=\"\",\"\",VLOOKUP($A30,Competitors!$A$2:$G$60,4,FALSE)))","v":""},{"$f":"IF(VLOOKUP(A30,Competitors!$A$1:$H$41,8,FALSE)=\"\",\"\",VLOOKUP(A30,Competitors!$A$1:$H$41,8,FALSE))","v":""},{"$f":"IF(IFERROR(VLOOKUP(($B$2&\"_\"&$A30),'Time Entry Sheet'!$A$3:$I$499,9,0),\"Error\")=\"Error\",\"\",IF(VLOOKUP(($B$2&\"_\"&$A30),'Time Entry Sheet'!$A$3:$I$499,9,FALSE)=\"wd\",\"wd\",VLOOKUP(($B$2&\"_\"&$A30),'Time Entry Sheet'!$A$3:$I$499,9,FALSE)*1))","v":"00:01:42.430"},"00:01:42.430",{"$f":"IF(IFERROR(VLOOKUP(($B$2&\"_\"&$A30),'Time Entry Sheet'!$A$3:$I$499,8,FALSE),\"Error\")=\"Error\",\"\",IF(VLOOKUP(($B$2&\"_\"&$A30),'Time Entry Sheet'!$A$3:$I$499,8,FALSE)=\"\",\"\",VLOOKUP(($B$2&\"_\"&$A30),'Time Entry Sheet'!$A$3:$I$499,8,FALSE)))","v":""},{"$f":"IF(IFERROR(VLOOKUP(($B$2&\"_\"&$A30),'Time Entry Sheet'!$A$3:$I$499,7,FALSE),\"Error\")=\"Error\",\"\",IF(VLOOKUP(($B$2&\"_\"&$A30),'Time Entry Sheet'!$A$3:$I$499,7,FALSE)=\"\",\"\",VLOOKUP(($B$2&\"_\"&$A30),'Time Entry Sheet'!$A$3:$I$499,7,FALSE)))","v":""},"00:01:42.430","00:01:42.430",7,{"$f":"IF(A30=\"\",\"\",M30+VLOOKUP(A30,'Test 10'!$A$12:$Q$51,16,FALSE))","v":"00:10:40.730"},9,null,"","00:10:40.730"]
[20,{"$f":"IF($A31=\"\",\"\",IF(VLOOKUP($A31,Competitors!$A$2:$G$60,2,FALSE)=\"\",\"\",VLOOKUP($A31,Competitors!$A$2:$G$60,2,FALSE)))","v":"Ray Lampl"},{"$f":"IF($A31=\"\",\"\",IF(VLOOKUP($A31,Competitors!$A$2:$G$60,7,FALSE)=\"\",\"\",VLOOKUP($A31,Competitors!$A$2:$G$60,7,FALSE)))","v":""},{"$f":"IF($A31=\"\",\"\",IF(VLOOKUP($A31,Competitors!$A$2:$G$60,5,FALSE)=\"\",\"\",VLOOKUP($A31,Competitors!$A$2:$G$60,5,FALSE)))","v":""},{"$f":"IF($A31=\"\",\"\",IF(VLOOKUP($A31,Competitors!$A$2:$G$60,6,FALSE)=\"\",\"\",VLOOKUP($A31,Competitors!$A$2:$G$60,6,FALSE)))","v":"senior"},{"$f":"IF($A31=\"\",\"\",IF(VLOOKUP($A31,Competitors!$A$2:$G$60,3,FALSE)=\"\",\"\",VLOOKUP($A31,Competitors!$A$2:$G$60,3,FALSE)))","v":""},{"$f":"IF($A31=\"\",\"\",IF(VLOOKUP($A31,Competitors!$A$2:$G$60,4,FALSE)=\"\",\"\",VLOOKUP($A31,Competitors!$A$2:$G$60,4,FALSE)))","v":""},{"$f":"IF(VLOOKUP(A31,Competitors!$A$1:$H$41,8,FALSE)=\"\",\"\",VLOOKUP(A31,Competitors!$A$1:$H$41,8,FALSE))","v":""},{"$f":"IF(IFERROR(VLOOKUP(($B$2&\"_\"&$A31),'Time Entry Sheet'!$A$3:$I$499,9,0),\"Error\")=\"Error\",\"\",IF(VLOOKUP(($B$2&\"_\"&$A31),'Time Entry Sheet'!$A$3:$I$499,9,FALSE)=\"wd\",\"wd\",VLOOKUP(($B$2&\"_\"&$A31),'Time Entry Sheet'!$A$3:$I$499,9,FALSE)*1))","v":"00:01:44.260"},"00:01:44.260",{"$f":"IF(IFERROR(VLOOKUP(($B$2&\"_\"&$A31),'Time Entry Sheet'!$A$3:$I$499,8,FALSE),\"Error\")=\"Error\",\"\",IF(VLOOKUP(($B$2&\"_\"&$A31),'Time Entry Sheet'!$A$3:$I$499,8,FALSE)=\"\",\"\",VLOOKUP(($B$2&\"_\"&$A31),'Time Entry Sheet'!$A$3:$I$499,8,FALSE)))","v":""},{"$f":"IF(IFERROR(VLOOKUP(($B$2&\"_\"&$A31),'Time Entry Sheet'!$A$3:$I$499,7,FALSE),\"Error\")=\"Error\",\"\",IF(VLOOKUP(($B$2&\"_\"&$A31),'Time Entry Sheet'!$A$3:$I$499,7,FALSE)=\"\",\"\",VLOOKUP(($B$2&\"_\"&$A31),'Time Entry Sheet'!$A$3:$I$499,7,FALSE)))","v":""},"00:01:44.260","00:01:44.260",8,{"$f":"IF(A31=\"\",\"\",M31+VLOOKUP(A31,'Test 10'!$A$12:$Q$51,16,FALSE))","v":"00:10:24.510"},6,null,"","00:10:24.510"]
[21,{"$f":"IF($A32=\"\",\"\",IF(VLOOKUP($A32,Competitors!$A$2:$G$60,2,FALSE)=\"\",\"\",VLOOKUP($A32,Competitors!$A$2:$G$60,2,FALSE)))","v":""},{"$f":"IF($A32=\"\",\"\",IF(VLOOKUP($A32,Competitors!$A$2:$G$60,7,FALSE)=\"\",\"\",VLOOKUP($A32,Competitors!$A$2:$G$60,7,FALSE)))","v":""},{"$f":"IF($A32=\"\",\"\",IF(VLOOKUP($A32,Competitors!$A$2:$G$60,5,FALSE)=\"\",\"\",VLOOKUP($A32,Competitors!$A$2:$G$60,5,FALSE)))","v":""},{"$f":"IF($A32=\"\",\"\",IF(VLOOKUP($A32,Competitors!$A$2:$G$60,6,FALSE)=\"\",\"\",VLOOKUP($A32,Competitors!$A$2:$G$60,6,FALSE)))","v":"senior"},{"$f":"IF($A32=\"\",\"\",IF(VLOOKUP($A32,Competitors!$A$2:$G$60,3,FALSE)=\"\",\"\",VLOOKUP($A32,Competitors!$A$2:$G$60,3,FALSE)))","v":""},{"$f":"IF($A32=\"\",\"\",IF(VLOOKUP($A32,Competitors!$A$2:$G$60,4,FALSE)=\"\",\"\",VLOOKUP($A32,Competitors!$A$2:$G$60,4,FALSE)))","v":""},{"$f":"IF(VLOOKUP(A32,Competitors!$A$1:$H$41,8,FALSE)=\"\",\"\",VLOOKUP(A32,Competitors!$A$1:$H$41,8,FALSE))","v":""},{"$f":"IF(IFERROR(VLOOKUP(($B$2&\"_\"&$A32),'Time Entry Sheet'!$A$3:$I$499,9,0),\"Error\")=\"Error\",\"\",IF(VLOOKUP(($B$2&\"_\"&$A32),'Time Entry Sheet'!$A$3:$I$499,9,FALSE)=\"wd\",\"wd\",VLOOKUP(($B$2&\"_\"&$A32),'Time Entry Sheet'!$A$3:$I$499,9,FALSE)*1))","v":""},"",{"$f":"IF(IFERROR(VLOOKUP(($B$2&\"_\"&$A32),'Time Entry Sheet'!$A$3:$I$499,8,FALSE),\"Error\")=\"Error\",\"\",IF(VLOOKUP(($B$2&\"_\"&$A32),'Time Entry Sheet'!$A$3:$I$499,8,FALSE)=\"\",\"\",VLOOKUP(($B$2&\"_\"&$A32),'Time Entry Sheet'!$A$3:$I$499,8,FALSE)))","v":""},{"$f":"IF(IFERROR(VLOOKUP(($B$2&\"_\"&$A32),'Time Entry Sheet'!$A$3:$I$499,7,FALSE),\"Error\")=\"Error\",\"\",IF(VLOOKUP(($B$2&\"_\"&$A32),'Time Entry Sheet'!$A$3:$I$499,7,FALSE)=\"\",\"\",VLOOKUP(($B$2&\"_\"&$A32),'Time Entry Sheet'!$A$3:$I$499,7,FALSE)))","v":""},"00:02:10.950","00:02:10.950",19,{"$f":"IF(A32=\"\",\"\",M32+VLOOKUP(A32,'Test 10'!$A$12:$Q$51,16,FALSE))","v":"00:14:26.040"},20,null,"","00:14:26.040"]
[22,{"$f":"IF($A33=\"\",\"\",IF(VLOOKUP($A33,Competitors!$A$2:$G$60,2,FALSE)=\"\",\"\",VLOOKUP($A33,Competitors!$A$2:$G$60,2,FALSE)))","v":""},{"$f":"IF($A33=\"\",\"\",IF(VLOOKUP($A33,Competitors!$A$2:$G$60,7,FALSE)=\"\",\"\",VLOOKUP($A33,Competitors!$A$2:$G$60,7,FALSE)))","v":""},{"$f":"IF($A33=\"\",\"\",IF(VLOOKUP($A33,Competitors!$A$2:$G$60,5,FALSE)=\"\",\"\",VLOOKUP($A33,Competitors!$A$2:$G$60,5,FALSE)))","v":""},{"$f":"IF($A33=\"\",\"\",IF(VLOOKUP($A33,Competitors!$A$2:$G$60,6,FALSE)=\"\",\"\",VLOOKUP($A33,Competitors!$A$2:$G$60,6,FALSE)))","v":"senior"},{"$f":"IF($A33=\"\",\"\",IF(VLOOKUP($A33,Competitors!$A$2:$G$60,3,FALSE)=\"\",\"\",VLOOKUP($A33,Competitors!$A$2:$G$60,3,FALSE)))","v":""},{"$f":"IF($A33=\"\",\"\",IF(VLOOKUP($A33,Competitors!$A$2:$G$60,4,FALSE)=\"\",\"\",VLOOKUP($A33,Competitors!$A$2:$G$60,4,FALSE)))","v":""},{"$f":"IF(VLOOKUP(A33,Competitors!$A$1:$H$41,8,FALSE)=\"\",\"\",VLOOKUP(A33,Competitors!$A$1:$H$41,8,FALSE))","v":""},{"$f":"IF(IFERROR(VLOOKUP(($B$2&\"_\"&$A33),'Time Entry Sheet'!$A$3:$I$499,9,0),\"Error\")=\"Error\",\"\",IF(VLOOKUP(($B$2&\"_\"&$A33),'Time Entry Sheet'!$A$3:$I$499,9,FALSE)=\"wd\",\"wd\",VLOOKUP(($B$2&\"_\"&$A33),'Time Entry Sheet'!$A$3:$I$499,9,FALSE)*1))","v":""},"",{"$f":"IF(IFERROR(VLOOKUP(($B$2&\"_\"&$A33),'Time Entry Sheet'!$A$3:$I$499,8,FALSE),\"Error\")=\"Error\",\"\",IF(VLOOKUP(($B$2&\"_\"&$A33),'Time Entry Sheet'!$A$3:$I$499,8,FALSE)=\"\",\"\",VLOOKUP(($B$2&\"_\"&$A33),'Time Entry Sheet'!$A$3:$I$499,8,FALSE)))","v":""},{"$f":"IF(IFERROR(VLOOKUP(($B$2&\"_\"&$A33),'Time Entry Sheet'!$A$3:$I$499,7,FALSE),\"Error\")=\"Error\",\"\",IF(VLOOKUP(($B$2&\"_\"&$A33),'Time Entry Sheet'!$A$3:$I$499,7,FALSE)=\"\",\"\",VLOOKUP(($B$2&\"_\"&$A33),'Time Entry Sheet'!$A$3:$I$499,7,FALSE)))","v":""},"00:02:10.950","00:02:10.950",19,{"$f":"IF(A33=\"\",\"\",M33+VLOOKUP(A33,'Test 10'!$A$12:$Q$51,16,FALSE))","v":"00:14:26.040"},20,null,"","00:14:26.040"]
[23,{"$f":"IF($A34=\"\",\"\",IF(VLOOKUP($A34,Competitors!$A$2:$G$60,2,FALSE)=\"\",\"\",VLOOKUP($A34,Competitors!$A$2:$G$60,2,FALSE)))","v":""},{"$f":"IF($A34=\"\",\"\",IF(VLOOKUP($A34,Competitors!$A$2:$G$60,7,FALSE)=\"\",\"\",VLOOKUP($A34,Competitors!$A$2:$G$60,7,FALSE)))","v":""},{"$f":"IF($A34=\"\",\"\",IF(VLOOKUP($A34,Competitors!$A$2:$G$60,5,FALSE)=\"\",\"\",VLOOKUP($A34,Competitors!$A$2:$G$60,5,FALSE)))","v":""},{"$f":"IF($A34=\"\",\"\",IF(VLOOKUP($A34,Competitors!$A$2:$G$60,6,FALSE)=\"\",\"\",VLOOKUP($A34,Competitors!$A$2:$G$60,6,FALSE)))","v":"senior"},{"$f":"IF($A34=\"\",\"\",IF(VLOOKUP($A34,Competitors!$A$2:$G$60,3,FALSE)=\"\",\"\",VLOOKUP($A34,Competitors!$A$2:$G$60,3,FALSE)))","v":""},{"$f":"IF($A34=\"\",\"\",IF(VLOOKUP($A34,Competitors!$A$2:$G$60,4,FALSE)=\"\",\"\",VLOOKUP($A34,Competitors!$A$2:$G$60,4,FALSE)))","v":""},{"$f":"IF(VLOOKUP(A34,Competitors!$A$1:$H$41,8,FALSE)=\"\",\"\",VLOOKUP(A34,Competitors!$A$1:$H$41,8,FALSE))","v":""},{"$f":"IF(IFERROR(VLOOKUP(($B$2&\"_\"&$A34),'Time Entry Sheet'!$A$3:$I$499,9,0),\"Error\")=\"Error\",\"\",IF(VLOOKUP(($B$2&\"_\"&$A34),'Time Entry Sheet'!$A$3:$I$499,9,FALSE)=\"wd\",\"wd\",VLOOKUP(($B$2&\"_\"&$A34),'Time Entry Sheet'!$A$3:$I$499,9,FALSE)*1))","v":""},"",{"$f":"IF(IFERROR(VLOOKUP(($B$2&\"_\"&$A34),'Time Entry Sheet'!$A$3:$I$499,8,FALSE),\"Error\")=\"Error\",\"\",IF(VLOOKUP(($B$2&\"_\"&$A34),'Time Entry Sheet'!$A$3:$I$499,8,FALSE)=\"\",\"\",VLOOKUP(($B$2&\"_\"&$A34),'Time Entry Sheet'!$A$3:$I$499,8,FALSE)))","v":""},{"$f":"IF(IFERROR(VLOOKUP(($B$2&\"_\"&$A34),'Time Entry Sheet'!$A$3:$I$499,7,FALSE),\"Error\")=\"Error\",\"\",IF(VLOOKUP(($B$2&\"_\"&$A34),'Time Entry Sheet'!$A$3:$I$499,7,FALSE)=\"\",\"\",VLOOKUP(($B$2&\"_\"&$A34),'Time Entry Sheet'!$A$3:$I$499,7,FALSE)))","v":""},"00:02:10.950","00:02:10.950",19,{"$f":"IF(A34=\"\",\"\",M34+VLOOKUP(A34,'Test 10'!$A$12:$Q$51,16,FALSE))","v":"00:14:26.040"},20,null,"","00:14:26.040"]
[24,{"$f":"IF($A35=\"\",\"\",IF(VLOOKUP($A35,Competitors!$A$2:$G$60,2,FALSE)=\"\",\"\",VLOOKUP($A35,Competitors!$A$2:$G$60,2,FALSE)))","v":""},{"$f":"IF($A35=\"\",\"\",IF(VLOOKUP($A35,Competitors!$A$2:$G$60,7,FALSE)=\"\",\"\",VLOOKUP($A35,Competitors!$A$2:$G$60,7,FALSE)))","v":""},{"$f":"IF($A35=\"\",\"\",IF(VLOOKUP($A35,Competitors!$A$2:$G$60,5,FALSE)=\"\",\"\",VLOOKUP($A35,Competitors!$A$2:$G$60,5,FALSE)))","v":""},{"$f":"IF($A35=\"\",\"\",IF(VLOOKUP($A35,Competitors!$A$2:$G$60,6,FALSE)=\"\",\"\",VLOOKUP($A35,Competitors!$A$2:$G$60,6,FALSE)))","v":"senior"},{"$f":"IF($A35=\"\",\"\",IF(VLOOKUP($A35,Competitors!$A$2:$G$60,3,FALSE)=\"\",\"\",VLOOKUP($A35,Competitors!$A$2:$G$60,3,FALSE)))","v":""},{"$f":"IF($A35=\"\",\"\",IF(VLOOKUP($A35,Competitors!$A$2:$G$60,4,FALSE)=\"\",\"\",VLOOKUP($A35,Competitors!$A$2:$G$60,4,FALSE)))","v":""},{"$f":"IF(VLOOKUP(A35,Competitors!$A$1:$H$41,8,FALSE)=\"\",\"\",VLOOKUP(A35,Competitors!$A$1:$H$41,8,FALSE))","v":""},{"$f":"IF(IFERROR(VLOOKUP(($B$2&\"_\"&$A35),'Time Entry Sheet'!$A$3:$I$499,9,0),\"Error\")=\"Error\",\"\",IF(VLOOKUP(($B$2&\"_\"&$A35),'Time Entry Sheet'!$A$3:$I$499,9,FALSE)=\"wd\",\"wd\",VLOOKUP(($B$2&\"_\"&$A35),'Time Entry Sheet'!$A$3:$I$499,9,FALSE)*1))","v":""},"",{"$f":"IF(IFERROR(VLOOKUP(($B$2&\"_\"&$A35),'Time Entry Sheet'!$A$3:$I$499,8,FALSE),\"Error\")=\"Error\",\"\",IF(VLOOKUP(($B$2&\"_\"&$A35),'Time Entry Sheet'!$A$3:$I$499,8,FALSE)=\"\",\"\",VLOOKUP(($B$2&\"_\"&$A35),'Time Entry Sheet'!$A$3:$I$499,8,FALSE)))","v":""},{"$f":"IF(IFERROR(VLOOKUP(($B$2&\"_\"&$A35),'Time Entry Sheet'!$A$3:$I$499,7,FALSE),\"Error\")=\"Error\",\"\",IF(VLOOKUP(($B$2&\"_\"&$A35),'Time Entry Sheet'!$A$3:$I$499,7,FALSE)=\"\",\"\",VLOOKUP(($B$2&\"_\"&$A35),'Time Entry Sheet'!$A$3:$I$499,7,FALSE)))","v":""},"00:02:10.950","00:02:10.950",19,{"$f":"IF(A35=\"\",\"\",M35+VLOOKUP(A35,'Test 10'!$A$12:$Q$51,16,FALSE))","v":"00:14:26.040"},20,null,"","00:14:26.040"]
[25,{"$f":"IF($A36=\"\",\"\",IF(VLOOKUP($A36,Competitors!$A$2:$G$60,2,FALSE)=\"\",\"\",VLOOKUP($A36,Competitors!$A$2:$G$60,2,FALSE)))","v":""},{"$f":"IF($A36=\"\",\"\",IF(VLOOKUP($A36,Competitors!$A$2:$G$60,7,FALSE)=\"\",\"\",VLOOKUP($A36,Competitors!$A$2:$G$60,7,FALSE)))","v":""},{"$f":"IF($A36=\"\",\"\",IF(VLOOKUP($A36,Competitors!$A$2:$G$60,5,FALSE)=\"\",\"\",VLOOKUP($A36,Competitors!$A$2:$G$60,5,FALSE)))","v":""},{"$f":"IF($A36=\"\",\"\",IF(VLOOKUP($A36,Competitors!$A$2:$G$60,6,FALSE)=\"\",\"\",VLOOKUP($A36,Competitors!$A$2:$G$60,6,FALSE)))","v":"senior"},{"$f":"IF($A36=\"\",\"\",IF(VLOOKUP($A36,Competitors!$A$2:$G$60,3,FALSE)=\"\",\"\",VLOOKUP($A36,Competitors!$A$2:$G$60,3,FALSE)))","v":""},{"$f":"IF($A36=\"\",\"\",IF(VLOOKUP($A36,Competitors!$A$2:$G$60,4,FALSE)=\"\",\"\",VLOOKUP($A36,Competitors!$A$2:$G$60,4,FALSE)))","v":""},{"$f":"IF(VLOOKUP(A36,Competitors!$A$1:$H$41,8,FALSE)=\"\",\"\",VLOOKUP(A36,Competitors!$A$1:$H$41,8,FALSE))","v":""},{"$f":"IF(IFERROR(VLOOKUP(($B$2&\"_\"&$A36),'Time Entry Sheet'!$A$3:$I$499,9,0),\"Error\")=\"Error\",\"\",IF(VLOOKUP(($B$2&\"_\"&$A36),'Time Entry Sheet'!$A$3:$I$499,9,FALSE)=\"wd\",\"wd\",VLOOKUP(($B$2&\"_\"&$A36),'Time Entry Sheet'!$A$3:$I$499,9,FALSE)*1))","v":""},"",{"$f":"IF(IFERROR(VLOOKUP(($B$2&\"_\"&$A36),'Time Entry Sheet'!$A$3:$I$499,8,FALSE),\"Error\")=\"Error\",\"\",IF(VLOOKUP(($B$2&\"_\"&$A36),'Time Entry Sheet'!$A$3:$I$499,8,FALSE)=\"\",\"\",VLOOKUP(($B$2&\"_\"&$A36),'Time Entry Sheet'!$A$3:$I$499,8,FALSE)))","v":""},{"$f":"IF(IFERROR(VLOOKUP(($B$2&\"_\"&$A36),'Time Entry Sheet'!$A$3:$I$499,7,FALSE),\"Error\")=\"Error\",\"\",IF(VLOOKUP(($B$2&\"_\"&$A36),'Time Entry Sheet'!$A$3:$I$499,7,FALSE)=\"\",\"\",VLOOKUP(($B$2&\"_\"&$A36),'Time Entry Sheet'!$A$3:$I$499,7,FALSE)))","v":""},"00:02:10.950","00:02:10.950",19,{"$f":"IF(A36=\"\",\"\",M36+VLOOKUP(A36,'Test 10'!$A$12:$Q$51,16,FALSE))","v":"00:14:26.040"},20,null,"","00:14:26.040"]
[26,{"$f":"IF($A37=\"\",\"\",IF(VLOOKUP($A37,Competitors!$A$2:$G$60,2,FALSE)=\"\",\"\",VLOOKUP($A37,Competitors!$A$2:$G$60,2,FALSE)))","v":""},{"$f":"IF($A37=\"\",\"\",IF(VLOOKUP($A37,Competitors!$A$2:$G$60,7,FALSE)=\"\",\"\",VLOOKUP($A37,Competitors!$A$2:$G$60,7,FALSE)))","v":""},{"$f":"IF($A37=\"\",\"\",IF(VLOOKUP($A37,Competitors!$A$2:$G$60,5,FALSE)=\"\",\"\",VLOOKUP($A37,Competitors!$A$2:$G$60,5,FALSE)))","v":""},{"$f":"IF($A37=\"\",\"\",IF(VLOOKUP($A37,Competitors!$A$2:$G$60,6,FALSE)=\"\",\"\",VLOOKUP($A37,Competitors!$A$2:$G$60,6,FALSE)))","v":"senior"},{"$f":"IF($A37=\"\",\"\",IF(VLOOKUP($A37,Competitors!$A$2:$G$60,3,FALSE)=\"\",\"\",VLOOKUP($A37,Competitors!$A$2:$G$60,3,FALSE)))","v":""},{"$f":"IF($A37=\"\",\"\",IF(VLOOKUP($A37,Competitors!$A$2:$G$60,4,FALSE)=\"\",\"\",VLOOKUP($A37,Competitors!$A$2:$G$60,4,FALSE)))","v":""},{"$f":"IF(VLOOKUP(A37,Competitors!$A$1:$H$41,8,FALSE)=\"\",\"\",VLOOKUP(A37,Competitors!$A$1:$H$41,8,FALSE))","v":""},{"$f":"IF(IFERROR(VLOOKUP(($B$2&\"_\"&$A37),'Time Entry Sheet'!$A$3:$I$499,9,0),\"Error\")=\"Error\",\"\",IF(VLOOKUP(($B$2&\"_\"&$A37),'Time Entry Sheet'!$A$3:$I$499,9,FALSE)=\"wd\",\"wd\",VLOOKUP(($B$2&\"_\"&$A37),'Time Entry Sheet'!$A$3:$I$499,9,FALSE)*1))","v":""},"",{"$f":"IF(IFERROR(VLOOKUP(($B$2&\"_\"&$A37),'Time Entry Sheet'!$A$3:$I$499,8,FALSE),\"Error\")=\"Error\",\"\",IF(VLOOKUP(($B$2&\"_\"&$A37),'Time Entry Sheet'!$A$3:$I$499,8,FALSE)=\"\",\"\",VLOOKUP(($B$2&\"_\"&$A37),'Time Entry Sheet'!$A$3:$I$499,8,FALSE)))","v":""},{"$f":"IF(IFERROR(VLOOKUP(($B$2&\"_\"&$A37),'Time Entry Sheet'!$A$3:$I$499,7,FALSE),\"Error\")=\"Error\",\"\",IF(VLOOKUP(($B$2&\"_\"&$A37),'Time Entry Sheet'!$A$3:$I$499,7,FALSE)=\"\",\"\",VLOOKUP(($B$2&\"_\"&$A37),'Time Entry Sheet'!$A$3:$I$499,7,FALSE)))","v":""},"00:02:10.950","00:02:10.950",19,{"$f":"IF(A37=\"\",\"\",M37+VLOOKUP(A37,'Test 10'!$A$12:$Q$51,16,FALSE))","v":"00:14:26.040"},20,null,"","00:14:26.040"]
[27,{"$f":"IF($A38=\"\",\"\",IF(VLOOKUP($A38,Competitors!$A$2:$G$60,2,FALSE)=\"\",\"\",VLOOKUP($A38,Competitors!$A$2:$G$60,2,FALSE)))","v":""},{"$f":"IF($A38=\"\",\"\",IF(VLOOKUP($A38,Competitors!$A$2:$G$60,7,FALSE)=\"\",\"\",VLOOKUP($A38,Competitors!$A$2:$G$60,7,FALSE)))","v":""},{"$f":"IF($A38=\"\",\"\",IF(VLOOKUP($A38,Competitors!$A$2:$G$60,5,FALSE)=\"\",\"\",VLOOKUP($A38,Competitors!$A$2:$G$60,5,FALSE)))","v":""},{"$f":"IF($A38=\"\",\"\",IF(VLOOKUP($A38,Competitors!$A$2:$G$60,6,FALSE)=\"\",\"\",VLOOKUP($A38,Competitors!$A$2:$G$60,6,FALSE)))","v":"senior"},{"$f":"IF($A38=\"\",\"\",IF(VLOOKUP($A38,Competitors!$A$2:$G$60,3,FALSE)=\"\",\"\",VLOOKUP($A38,Competitors!$A$2:$G$60,3,FALSE)))","v":""},{"$f":"IF($A38=\"\",\"\",IF(VLOOKUP($A38,Competitors!$A$2:$G$60,4,FALSE)=\"\",\"\",VLOOKUP($A38,Competitors!$A$2:$G$60,4,FALSE)))","v":""},{"$f":"IF(VLOOKUP(A38,Competitors!$A$1:$H$41,8,FALSE)=\"\",\"\",VLOOKUP(A38,Competitors!$A$1:$H$41,8,FALSE))","v":""},{"$f":"IF(IFERROR(VLOOKUP(($B$2&\"_\"&$A38),'Time Entry Sheet'!$A$3:$I$499,9,0),\"Error\")=\"Error\",\"\",IF(VLOOKUP(($B$2&\"_\"&$A38),'Time Entry Sheet'!$A$3:$I$499,9,FALSE)=\"wd\",\"wd\",VLOOKUP(($B$2&\"_\"&$A38),'Time Entry Sheet'!$A$3:$I$499,9,FALSE)*1))","v":""},"",{"$f":"IF(IFERROR(VLOOKUP(($B$2&\"_\"&$A38),'Time Entry Sheet'!$A$3:$I$499,8,FALSE),\"Error\")=\"Error\",\"\",IF(VLOOKUP(($B$2&\"_\"&$A38),'Time Entry Sheet'!$A$3:$I$499,8,FALSE)=\"\",\"\",VLOOKUP(($B$2&\"_\"&$A38),'Time Entry Sheet'!$A$3:$I$499,8,FALSE)))","v":""},{"$f":"IF(IFERROR(VLOOKUP(($B$2&\"_\"&$A38),'Time Entry Sheet'!$A$3:$I$499,7,FALSE),\"Error\")=\"Error\",\"\",IF(VLOOKUP(($B$2&\"_\"&$A38),'Time Entry Sheet'!$A$3:$I$499,7,FALSE)=\"\",\"\",VLOOKUP(($B$2&\"_\"&$A38),'Time Entry Sheet'!$A$3:$I$499,7,FALSE)))","v":""},"00:02:10.950","00:02:10.950",19,{"$f":"IF(A38=\"\",\"\",M38+VLOOKUP(A38,'Test 10'!$A$12:$Q$51,16,FALSE))","v":"00:14:26.040"},20,null,"","00:14:26.040"]
[28,{"$f":"IF($A39=\"\",\"\",IF(VLOOKUP($A39,Competitors!$A$2:$G$60,2,FALSE)=\"\",\"\",VLOOKUP($A39,Competitors!$A$2:$G$60,2,FALSE)))","v":""},{"$f":"IF($A39=\"\",\"\",IF(VLOOKUP($A39,Competitors!$A$2:$G$60,7,FALSE)=\"\",\"\",VLOOKUP($A39,Competitors!$A$2:$G$60,7,FALSE)))","v":""},{"$f":"IF($A39=\"\",\"\",IF(VLOOKUP($A39,Competitors!$A$2:$G$60,5,FALSE)=\"\",\"\",VLOOKUP($A39,Competitors!$A$2:$G$60,5,FALSE)))","v":""},{"$f":"IF($A39=\"\",\"\",IF(VLOOKUP($A39,Competitors!$A$2:$G$60,6,FALSE)=\"\",\"\",VLOOKUP($A39,Competitors!$A$2:$G$60,6,FALSE)))","v":"senior"},{"$f":"IF($A39=\"\",\"\",IF(VLOOKUP($A39,Competitors!$A$2:$G$60,3,FALSE)=\"\",\"\",VLOOKUP($A39,Competitors!$A$2:$G$60,3,FALSE)))","v":""},{"$f":"IF($A39=\"\",\"\",IF(VLOOKUP($A39,Competitors!$A$2:$G$60,4,FALSE)=\"\",\"\",VLOOKUP($A39,Competitors!$A$2:$G$60,4,FALSE)))","v":""},{"$f":"IF(VLOOKUP(A39,Competitors!$A$1:$H$41,8,FALSE)=\"\",\"\",VLOOKUP(A39,Competitors!$A$1:$H$41,8,FALSE))","v":""},{"$f":"IF(IFERROR(VLOOKUP(($B$2&\"_\"&$A39),'Time Entry Sheet'!$A$3:$I$499,9,0),\"Error\")=\"Error\",\"\",IF(VLOOKUP(($B$2&\"_\"&$A39),'Time Entry Sheet'!$A$3:$I$499,9,FALSE)=\"wd\",\"wd\",VLOOKUP(($B$2&\"_\"&$A39),'Time Entry Sheet'!$A$3:$I$499,9,FALSE)*1))","v":""},"",{"$f":"IF(IFERROR(VLOOKUP(($B$2&\"_\"&$A39),'Time Entry Sheet'!$A$3:$I$499,8,FALSE),\"Error\")=\"Error\",\"\",IF(VLOOKUP(($B$2&\"_\"&$A39),'Time Entry Sheet'!$A$3:$I$499,8,FALSE)=\"\",\"\",VLOOKUP(($B$2&\"_\"&$A39),'Time Entry Sheet'!$A$3:$I$499,8,FALSE)))","v":""},{"$f":"IF(IFERROR(VLOOKUP(($B$2&\"_\"&$A39),'Time Entry Sheet'!$A$3:$I$499,7,FALSE),\"Error\")=\"Error\",\"\",IF(VLOOKUP(($B$2&\"_\"&$A39),'Time Entry Sheet'!$A$3:$I$499,7,FALSE)=\"\",\"\",VLOOKUP(($B$2&\"_\"&$A39),'Time Entry Sheet'!$A$3:$I$499,7,FALSE)))","v":""},"00:02:10.950","00:02:10.950",19,{"$f":"IF(A39=\"\",\"\",M39+VLOOKUP(A39,'Test 10'!$A$12:$Q$51,16,FALSE))","v":"00:14:26.040"},20,null,"","00:14:26.040"]
[29,{"$f":"IF($A40=\"\",\"\",IF(VLOOKUP($A40,Competitors!$A$2:$G$60,2,FALSE)=\"\",\"\",VLOOKUP($A40,Competitors!$A$2:$G$60,2,FALSE)))","v":""},{"$f":"IF($A40=\"\",\"\",IF(VLOOKUP($A40,Competitors!$A$2:$G$60,7,FALSE)=\"\",\"\",VLOOKUP($A40,Competitors!$A$2:$G$60,7,FALSE)))","v":""},{"$f":"IF($A40=\"\",\"\",IF(VLOOKUP($A40,Competitors!$A$2:$G$60,5,FALSE)=\"\",\"\",VLOOKUP($A40,Competitors!$A$2:$G$60,5,FALSE)))","v":""},{"$f":"IF($A40=\"\",\"\",IF(VLOOKUP($A40,Competitors!$A$2:$G$60,6,FALSE)=\"\",\"\",VLOOKUP($A40,Competitors!$A$2:$G$60,6,FALSE)))","v":"senior"},{"$f":"IF($A40=\"\",\"\",IF(VLOOKUP($A40,Competitors!$A$2:$G$60,3,FALSE)=\"\",\"\",VLOOKUP($A40,Competitors!$A$2:$G$60,3,FALSE)))","v":""},{"$f":"IF($A40=\"\",\"\",IF(VLOOKUP($A40,Competitors!$A$2:$G$60,4,FALSE)=\"\",\"\",VLOOKUP($A40,Competitors!$A$2:$G$60,4,FALSE)))","v":""},{"$f":"IF(VLOOKUP(A40,Competitors!$A$1:$H$41,8,FALSE)=\"\",\"\",VLOOKUP(A40,Competitors!$A$1:$H$41,8,FALSE))","v":""},{"$f":"IF(IFERROR(VLOOKUP(($B$2&\"_\"&$A40),'Time Entry Sheet'!$A$3:$I$499,9,0),\"Error\")=\"Error\",\"\",IF(VLOOKUP(($B$2&\"_\"&$A40),'Time Entry Sheet'!$A$3:$I$499,9,FALSE)=\"wd\",\"wd\",VLOOKUP(($B$2&\"_\"&$A40),'Time Entry Sheet'!$A$3:$I$499,9,FALSE)*1))","v":""},"",{"$f":"IF(IFERROR(VLOOKUP(($B$2&\"_\"&$A40),'Time Entry Sheet'!$A$3:$I$499,8,FALSE),\"Error\")=\"Error\",\"\",IF(VLOOKUP(($B$2&\"_\"&$A40),'Time Entry Sheet'!$A$3:$I$499,8,FALSE)=\"\",\"\",VLOOKUP(($B$2&\"_\"&$A40),'Time Entry Sheet'!$A$3:$I$499,8,FALSE)))","v":""},{"$f":"IF(IFERROR(VLOOKUP(($B$2&\"_\"&$A40),'Time Entry Sheet'!$A$3:$I$499,7,FALSE),\"Error\")=\"Error\",\"\",IF(VLOOKUP(($B$2&\"_\"&$A40),'Time Entry Sheet'!$A$3:$I$499,7,FALSE)=\"\",\"\",VLOOKUP(($B$2&\"_\"&$A40),'Time Entry Sheet'!$A$3:$I$499,7,FALSE)))","v":""},"00:02:10.950","00:02:10.950",19,{"$f":"IF(A40=\"\",\"\",M40+VLOOKUP(A40,'Test 10'!$A$12:$Q$51,16,FALSE))","v":"00:14:26.040"},20,null,"","00:14:26.040"]
[30,{"$f":"IF($A41=\"\",\"\",IF(VLOOKUP($A41,Competitors!$A$2:$G$60,2,FALSE)=\"\",\"\",VLOOKUP($A41,Competitors!$A$2:$G$60,2,FALSE)))","v":""},{"$f":"IF($A41=\"\",\"\",IF(VLOOKUP($A41,Competitors!$A$2:$G$60,7,FALSE)=\"\",\"\",VLOOKUP($A41,Competitors!$A$2:$G$60,7,FALSE)))","v":""},{"$f":"IF($A41=\"\",\"\",IF(VLOOKUP($A41,Competitors!$A$2:$G$60,5,FALSE)=\"\",\"\",VLOOKUP($A41,Competitors!$A$2:$G$60,5,FALSE)))","v":""},{"$f":"IF($A41=\"\",\"\",IF(VLOOKUP($A41,Competitors!$A$2:$G$60,6,FALSE)=\"\",\"\",VLOOKUP($A41,Competitors!$A$2:$G$60,6,FALSE)))","v":"senior"},{"$f":"IF($A41=\"\",\"\",IF(VLOOKUP($A41,Competitors!$A$2:$G$60,3,FALSE)=\"\",\"\",VLOOKUP($A41,Competitors!$A$2:$G$60,3,FALSE)))","v":""},{"$f":"IF($A41=\"\",\"\",IF(VLOOKUP($A41,Competitors!$A$2:$G$60,4,FALSE)=\"\",\"\",VLOOKUP($A41,Competitors!$A$2:$G$60,4,FALSE)))","v":""},{"$f":"IF(VLOOKUP(A41,Competitors!$A$1:$H$41,8,FALSE)=\"\",\"\",VLOOKUP(A41,Competitors!$A$1:$H$41,8,FALSE))","v":""},{"$f":"IF(IFERROR(VLOOKUP(($B$2&\"_\"&$A41),'Time Entry Sheet'!$A$3:$I$499,9,0),\"Error\")=\"Error\",\"\",IF(VLOOKUP(($B$2&\"_\"&$A41),'Time Entry Sheet'!$A$3:$I$499,9,FALSE)=\"wd\",\"wd\",VLOOKUP(($B$2&\"_\"&$A41),'Time Entry Sheet'!$A$3:$I$499,9,FALSE)*1))","v":""},"",{"$f":"IF(IFERROR(VLOOKUP(($B$2&\"_\"&$A41),'Time Entry Sheet'!$A$3:$I$499,8,FALSE),\"Error\")=\"Error\",\"\",IF(VLOOKUP(($B$2&\"_\"&$A41),'Time Entry Sheet'!$A$3:$I$499,8,FALSE)=\"\",\"\",VLOOKUP(($B$2&\"_\"&$A41),'Time Entry Sheet'!$A$3:$I$499,8,FALSE)))","v":""},{"$f":"IF(IFERROR(VLOOKUP(($B$2&\"_\"&$A41),'Time Entry Sheet'!$A$3:$I$499,7,FALSE),\"Error\")=\"Error\",\"\",IF(VLOOKUP(($B$2&\"_\"&$A41),'Time Entry Sheet'!$A$3:$I$499,7,FALSE)=\"\",\"\",VLOOKUP(($B$2&\"_\"&$A41),'Time Entry Sheet'!$A$3:$I$499,7,FALSE)))","v":""},"00:02:10.950","00:02:10.950",19,{"$f":"IF(A41=\"\",\"\",M41+VLOOKUP(A41,'Test 10'!$A$12:$Q$51,16,FALSE))","v":"00:14:26.040"},20,null,"","00:14:26.040"]
[31,{"$f":"IF($A42=\"\",\"\",IF(VLOOKUP($A42,Competitors!$A$2:$G$60,2,FALSE)=\"\",\"\",VLOOKUP($A42,Competitors!$A$2:$G$60,2,FALSE)))","v":""},{"$f":"IF($A42=\"\",\"\",IF(VLOOKUP($A42,Competitors!$A$2:$G$60,7,FALSE)=\"\",\"\",VLOOKUP($A42,Competitors!$A$2:$G$60,7,FALSE)))","v":""},{"$f":"IF($A42=\"\",\"\",IF(VLOOKUP($A42,Competitors!$A$2:$G$60,5,FALSE)=\"\",\"\",VLOOKUP($A42,Competitors!$A$2:$G$60,5,FALSE)))","v":""},{"$f":"IF($A42=\"\",\"\",IF(VLOOKUP($A42,Competitors!$A$2:$G$60,6,FALSE)=\"\",\"\",VLOOKUP($A42,Competitors!$A$2:$G$60,6,FALSE)))","v":"senior"},{"$f":"IF($A42=\"\",\"\",IF(VLOOKUP($A42,Competitors!$A$2:$G$60,3,FALSE)=\"\",\"\",VLOOKUP($A42,Competitors!$A$2:$G$60,3,FALSE)))","v":""},{"$f":"IF($A42=\"\",\"\",IF(VLOOKUP($A42,Competitors!$A$2:$G$60,4,FALSE)=\"\",\"\",VLOOKUP($A42,Competitors!$A$2:$G$60,4,FALSE)))","v":""},{"$f":"IF(VLOOKUP(A42,Competitors!$A$1:$H$41,8,FALSE)=\"\",\"\",VLOOKUP(A42,Competitors!$A$1:$H$41,8,FALSE))","v":""},{"$f":"IF(IFERROR(VLOOKUP(($B$2&\"_\"&$A42),'Time Entry Sheet'!$A$3:$I$499,9,0),\"Error\")=\"Error\",\"\",IF(VLOOKUP(($B$2&\"_\"&$A42),'Time Entry Sheet'!$A$3:$I$499,9,FALSE)=\"wd\",\"wd\",VLOOKUP(($B$2&\"_\"&$A42),'Time Entry Sheet'!$A$3:$I$499,9,FALSE)*1))","v":""},"",{"$f":"IF(IFERROR(VLOOKUP(($B$2&\"_\"&$A42),'Time Entry Sheet'!$A$3:$I$499,8,FALSE),\"Error\")=\"Error\",\"\",IF(VLOOKUP(($B$2&\"_\"&$A42),'Time Entry Sheet'!$A$3:$I$499,8,FALSE)=\"\",\"\",VLOOKUP(($B$2&\"_\"&$A42),'Time Entry Sheet'!$A$3:$I$499,8,FALSE)))","v":""},{"$f":"IF(IFERROR(VLOOKUP(($B$2&\"_\"&$A42),'Time Entry Sheet'!$A$3:$I$499,7,FALSE),\"Error\")=\"Error\",\"\",IF(VLOOKUP(($B$2&\"_\"&$A42),'Time Entry Sheet'!$A$3:$I$499,7,FALSE)=\"\",\"\",VLOOKUP(($B$2&\"_\"&$A42),'Time Entry Sheet'!$A$3:$I$499,7,FALSE)))","v":""},"00:02:10.950","00:02:10.950",19,{"$f":"IF(A42=\"\",\"\",M42+VLOOKUP(A42,'Test 10'!$A$12:$Q$51,16,FALSE))","v":"00:14:26.040"},20,null,"","00:14:26.040"]
[32,{"$f":"IF($A43=\"\",\"\",IF(VLOOKUP($A43,Competitors!$A$2:$G$60,2,FALSE)=\"\",\"\",VLOOKUP($A43,Competitors!$A$2:$G$60,2,FALSE)))","v":""},{"$f":"IF($A43=\"\",\"\",IF(VLOOKUP($A43,Competitors!$A$2:$G$60,7,FALSE)=\"\",\"\",VLOOKUP($A43,Competitors!$A$2:$G$60,7,FALSE)))","v":""},{"$f":"IF($A43=\"\",\"\",IF(VLOOKUP($A43,Competitors!$A$2:$G$60,5,FALSE)=\"\",\"\",VLOOKUP($A43,Competitors!$A$2:$G$60,5,FALSE)))","v":""},{"$f":"IF($A43=\"\",\"\",IF(VLOOKUP($A43,Competitors!$A$2:$G$60,6,FALSE)=\"\",\"\",VLOOKUP($A43,Competitors!$A$2:$G$60,6,FALSE)))","v":"senior"},{"$f":"IF($A43=\"\",\"\",IF(VLOOKUP($A43,Competitors!$A$2:$G$60,3,FALSE)=\"\",\"\",VLOOKUP($A43,Competitors!$A$2:$G$60,3,FALSE)))","v":""},{"$f":"IF($A43=\"\",\"\",IF(VLOOKUP($A43,Competitors!$A$2:$G$60,4,FALSE)=\"\",\"\",VLOOKUP($A43,Competitors!$A$2:$G$60,4,FALSE)))","v":""},{"$f":"IF(VLOOKUP(A43,Competitors!$A$1:$H$41,8,FALSE)=\"\",\"\",VLOOKUP(A43,Competitors!$A$1:$H$41,8,FALSE))","v":""},{"$f":"IF(IFERROR(VLOOKUP(($B$2&\"_\"&$A43),'Time Entry Sheet'!$A$3:$I$499,9,0),\"Error\")=\"Error\",\"\",IF(VLOOKUP(($B$2&\"_\"&$A43),'Time Entry Sheet'!$A$3:$I$499,9,FALSE)=\"wd\",\"wd\",VLOOKUP(($B$2&\"_\"&$A43),'Time Entry Sheet'!$A$3:$I$499,9,FALSE)*1))","v":""},"",{"$f":"IF(IFERROR(VLOOKUP(($B$2&\"_\"&$A43),'Time Entry Sheet'!$A$3:$I$499,8,FALSE),\"Error\")=\"Error\",\"\",IF(VLOOKUP(($B$2&\"_\"&$A43),'Time Entry Sheet'!$A$3:$I$499,8,FALSE)=\"\",\"\",VLOOKUP(($B$2&\"_\"&$A43),'Time Entry Sheet'!$A$3:$I$499,8,FALSE)))","v":""},{"$f":"IF(IFERROR(VLOOKUP(($B$2&\"_\"&$A43),'Time Entry Sheet'!$A$3:$I$499,7,FALSE),\"Error\")=\"Error\",\"\",IF(VLOOKUP(($B$2&\"_\"&$A43),'Time Entry Sheet'!$A$3:$I$499,7,FALSE)=\"\",\"\",VLOOKUP(($B$2&\"_\"&$A43),'Time Entry Sheet'!$A$3:$I$499,7,FALSE)))","v":""},"00:02:10.950","00:02:10.950",19,{"$f":"IF(A43=\"\",\"\",M43+VLOOKUP(A43,'Test 10'!$A$12:$Q$51,16,FALSE))","v":"00:14:26.040"},20,null,"","00:14:26.040"]
[33,{"$f":"IF($A44=\"\",\"\",IF(VLOOKUP($A44,Competitors!$A$2:$G$60,2,FALSE)=\"\",\"\",VLOOKUP($A44,Competitors!$A$2:$G$60,2,FALSE)))","v":""},{"$f":"IF($A44=\"\",\"\",IF(VLOOKUP($A44,Competitors!$A$2:$G$60,7,FALSE)=\"\",\"\",VLOOKUP($A44,Competitors!$A$2:$G$60,7,FALSE)))","v":""},{"$f":"IF($A44=\"\",\"\",IF(VLOOKUP($A44,Competitors!$A$2:$G$60,5,FALSE)=\"\",\"\",VLOOKUP($A44,Competitors!$A$2:$G$60,5,FALSE)))","v":""},{"$f":"IF($A44=\"\",\"\",IF(VLOOKUP($A44,Competitors!$A$2:$G$60,6,FALSE)=\"\",\"\",VLOOKUP($A44,Competitors!$A$2:$G$60,6,FALSE)))","v":"senior"},{"$f":"IF($A44=\"\",\"\",IF(VLOOKUP($A44,Competitors!$A$2:$G$60,3,FALSE)=\"\",\"\",VLOOKUP($A44,Competitors!$A$2:$G$60,3,FALSE)))","v":""},{"$f":"IF($A44=\"\",\"\",IF(VLOOKUP($A44,Competitors!$A$2:$G$60,4,FALSE)=\"\",\"\",VLOOKUP($A44,Competitors!$A$2:$G$60,4,FALSE)))","v":""},{"$f":"IF(VLOOKUP(A44,Competitors!$A$1:$H$41,8,FALSE)=\"\",\"\",VLOOKUP(A44,Competitors!$A$1:$H$41,8,FALSE))","v":""},{"$f":"IF(IFERROR(VLOOKUP(($B$2&\"_\"&$A44),'Time Entry Sheet'!$A$3:$I$499,9,0),\"Error\")=\"Error\",\"\",IF(VLOOKUP(($B$2&\"_\"&$A44),'Time Entry Sheet'!$A$3:$I$499,9,FALSE)=\"wd\",\"wd\",VLOOKUP(($B$2&\"_\"&$A44),'Time Entry Sheet'!$A$3:$I$499,9,FALSE)*1))","v":""},"",{"$f":"IF(IFERROR(VLOOKUP(($B$2&\"_\"&$A44),'Time Entry Sheet'!$A$3:$I$499,8,FALSE),\"Error\")=\"Error\",\"\",IF(VLOOKUP(($B$2&\"_\"&$A44),'Time Entry Sheet'!$A$3:$I$499,8,FALSE)=\"\",\"\",VLOOKUP(($B$2&\"_\"&$A44),'Time Entry Sheet'!$A$3:$I$499,8,FALSE)))","v":""},{"$f":"IF(IFERROR(VLOOKUP(($B$2&\"_\"&$A44),'Time Entry Sheet'!$A$3:$I$499,7,FALSE),\"Error\")=\"Error\",\"\",IF(VLOOKUP(($B$2&\"_\"&$A44),'Time Entry Sheet'!$A$3:$I$499,7,FALSE)=\"\",\"\",VLOOKUP(($B$2&\"_\"&$A44),'Time Entry Sheet'!$A$3:$I$499,7,FALSE)))","v":""},"00:02:10.950","00:02:10.950",19,{"$f":"IF(A44=\"\",\"\",M44+VLOOKUP(A44,'Test 10'!$A$12:$Q$51,16,FALSE))","v":"00:14:26.040"},20,null,"","00:14:26.040"]
[34,{"$f":"IF($A45=\"\",\"\",IF(VLOOKUP($A45,Competitors!$A$2:$G$60,2,FALSE)=\"\",\"\",VLOOKUP($A45,Competitors!$A$2:$G$60,2,FALSE)))","v":""},{"$f":"IF($A45=\"\",\"\",IF(VLOOKUP($A45,Competitors!$A$2:$G$60,7,FALSE)=\"\",\"\",VLOOKUP($A45,Competitors!$A$2:$G$60,7,FALSE)))","v":""},{"$f":"IF($A45=\"\",\"\",IF(VLOOKUP($A45,Competitors!$A$2:$G$60,5,FALSE)=\"\",\"\",VLOOKUP($A45,Competitors!$A$2:$G$60,5,FALSE)))","v":""},{"$f":"IF($A45=\"\",\"\",IF(VLOOKUP($A45,Competitors!$A$2:$G$60,6,FALSE)=\"\",\"\",VLOOKUP($A45,Competitors!$A$2:$G$60,6,FALSE)))","v":"senior"},{"$f":"IF($A45=\"\",\"\",IF(VLOOKUP($A45,Competitors!$A$2:$G$60,3,FALSE)=\"\",\"\",VLOOKUP($A45,Competitors!$A$2:$G$60,3,FALSE)))","v":""},{"$f":"IF($A45=\"\",\"\",IF(VLOOKUP($A45,Competitors!$A$2:$G$60,4,FALSE)=\"\",\"\",VLOOKUP($A45,Competitors!$A$2:$G$60,4,FALSE)))","v":""},{"$f":"IF(VLOOKUP(A45,Competitors!$A$1:$H$41,8,FALSE)=\"\",\"\",VLOOKUP(A45,Competitors!$A$1:$H$41,8,FALSE))","v":""},{"$f":"IF(IFERROR(VLOOKUP(($B$2&\"_\"&$A45),'Time Entry Sheet'!$A$3:$I$499,9,0),\"Error\")=\"Error\",\"\",IF(VLOOKUP(($B$2&\"_\"&$A45),'Time Entry Sheet'!$A$3:$I$499,9,FALSE)=\"wd\",\"wd\",VLOOKUP(($B$2&\"_\"&$A45),'Time Entry Sheet'!$A$3:$I$499,9,FALSE)*1))","v":""},"",{"$f":"IF(IFERROR(VLOOKUP(($B$2&\"_\"&$A45),'Time Entry Sheet'!$A$3:$I$499,8,FALSE),\"Error\")=\"Error\",\"\",IF(VLOOKUP(($B$2&\"_\"&$A45),'Time Entry Sheet'!$A$3:$I$499,8,FALSE)=\"\",\"\",VLOOKUP(($B$2&\"_\"&$A45),'Time Entry Sheet'!$A$3:$I$499,8,FALSE)))","v":""},{"$f":"IF(IFERROR(VLOOKUP(($B$2&\"_\"&$A45),'Time Entry Sheet'!$A$3:$I$499,7,FALSE),\"Error\")=\"Error\",\"\",IF(VLOOKUP(($B$2&\"_\"&$A45),'Time Entry Sheet'!$A$3:$I$499,7,FALSE)=\"\",\"\",VLOOKUP(($B$2&\"_\"&$A45),'Time Entry Sheet'!$A$3:$I$499,7,FALSE)))","v":""},"00:02:10.950","00:02:10.950",19,{"$f":"IF(A45=\"\",\"\",M45+VLOOKUP(A45,'Test 10'!$A$12:$Q$51,16,FALSE))","v":"00:14:26.040"},20,null,"","00:14:26.040"]
[35,{"$f":"IF($A46=\"\",\"\",IF(VLOOKUP($A46,Competitors!$A$2:$G$60,2,FALSE)=\"\",\"\",VLOOKUP($A46,Competitors!$A$2:$G$60,2,FALSE)))","v":""},{"$f":"IF($A46=\"\",\"\",IF(VLOOKUP($A46,Competitors!$A$2:$G$60,7,FALSE)=\"\",\"\",VLOOKUP($A46,Competitors!$A$2:$G$60,7,FALSE)))","v":""},{"$f":"IF($A46=\"\",\"\",IF(VLOOKUP($A46,Competitors!$A$2:$G$60,5,FALSE)=\"\",\"\",VLOOKUP($A46,Competitors!$A$2:$G$60,5,FALSE)))","v":""},{"$f":"IF($A46=\"\",\"\",IF(VLOOKUP($A46,Competitors!$A$2:$G$60,6,FALSE)=\"\",\"\",VLOOKUP($A46,Competitors!$A$2:$G$60,6,FALSE)))","v":"senior"},{"$f":"IF($A46=\"\",\"\",IF(VLOOKUP($A46,Competitors!$A$2:$G$60,3,FALSE)=\"\",\"\",VLOOKUP($A46,Competitors!$A$2:$G$60,3,FALSE)))","v":""},{"$f":"IF($A46=\"\",\"\",IF(VLOOKUP($A46,Competitors!$A$2:$G$60,4,FALSE)=\"\",\"\",VLOOKUP($A46,Competitors!$A$2:$G$60,4,FALSE)))","v":""},{"$f":"IF(VLOOKUP(A46,Competitors!$A$1:$H$41,8,FALSE)=\"\",\"\",VLOOKUP(A46,Competitors!$A$1:$H$41,8,FALSE))","v":""},{"$f":"IF(IFERROR(VLOOKUP(($B$2&\"_\"&$A46),'Time Entry Sheet'!$A$3:$I$499,9,0),\"Error\")=\"Error\",\"\",IF(VLOOKUP(($B$2&\"_\"&$A46),'Time Entry Sheet'!$A$3:$I$499,9,FALSE)=\"wd\",\"wd\",VLOOKUP(($B$2&\"_\"&$A46),'Time Entry Sheet'!$A$3:$I$499,9,FALSE)*1))","v":""},"",{"$f":"IF(IFERROR(VLOOKUP(($B$2&\"_\"&$A46),'Time Entry Sheet'!$A$3:$I$499,8,FALSE),\"Error\")=\"Error\",\"\",IF(VLOOKUP(($B$2&\"_\"&$A46),'Time Entry Sheet'!$A$3:$I$499,8,FALSE)=\"\",\"\",VLOOKUP(($B$2&\"_\"&$A46),'Time Entry Sheet'!$A$3:$I$499,8,FALSE)))","v":""},{"$f":"IF(IFERROR(VLOOKUP(($B$2&\"_\"&$A46),'Time Entry Sheet'!$A$3:$I$499,7,FALSE),\"Error\")=\"Error\",\"\",IF(VLOOKUP(($B$2&\"_\"&$A46),'Time Entry Sheet'!$A$3:$I$499,7,FALSE)=\"\",\"\",VLOOKUP(($B$2&\"_\"&$A46),'Time Entry Sheet'!$A$3:$I$499,7,FALSE)))","v":""},"00:02:10.950","00:02:10.950",19,{"$f":"IF(A46=\"\",\"\",M46+VLOOKUP(A46,'Test 10'!$A$12:$Q$51,16,FALSE))","v":"00:14:26.040"},20,null,"","00:14:26.040"]
[36,{"$f":"IF($A47=\"\",\"\",IF(VLOOKUP($A47,Competitors!$A$2:$G$60,2,FALSE)=\"\",\"\",VLOOKUP($A47,Competitors!$A$2:$G$60,2,FALSE)))","v":""},{"$f":"IF($A47=\"\",\"\",IF(VLOOKUP($A47,Competitors!$A$2:$G$60,7,FALSE)=\"\",\"\",VLOOKUP($A47,Competitors!$A$2:$G$60,7,FALSE)))","v":""},{"$f":"IF($A47=\"\",\"\",IF(VLOOKUP($A47,Competitors!$A$2:$G$60,5,FALSE)=\"\",\"\",VLOOKUP($A47,Competitors!$A$2:$G$60,5,FALSE)))","v":""},{"$f":"IF($A47=\"\",\"\",IF(VLOOKUP($A47,Competitors!$A$2:$G$60,6,FALSE)=\"\",\"\",VLOOKUP($A47,Competitors!$A$2:$G$60,6,FALSE)))","v":"senior"},{"$f":"IF($A47=\"\",\"\",IF(VLOOKUP($A47,Competitors!$A$2:$G$60,3,FALSE)=\"\",\"\",VLOOKUP($A47,Competitors!$A$2:$G$60,3,FALSE)))","v":""},{"$f":"IF($A47=\"\",\"\",IF(VLOOKUP($A47,Competitors!$A$2:$G$60,4,FALSE)=\"\",\"\",VLOOKUP($A47,Competitors!$A$2:$G$60,4,FALSE)))","v":""},{"$f":"IF(VLOOKUP(A47,Competitors!$A$1:$H$41,8,FALSE)=\"\",\"\",VLOOKUP(A47,Competitors!$A$1:$H$41,8,FALSE))","v":""},{"$f":"IF(IFERROR(VLOOKUP(($B$2&\"_\"&$A47),'Time Entry Sheet'!$A$3:$I$499,9,0),\"Error\")=\"Error\",\"\",IF(VLOOKUP(($B$2&\"_\"&$A47),'Time Entry Sheet'!$A$3:$I$499,9,FALSE)=\"wd\",\"wd\",VLOOKUP(($B$2&\"_\"&$A47),'Time Entry Sheet'!$A$3:$I$499,9,FALSE)*1))","v":""},"",{"$f":"IF(IFERROR(VLOOKUP(($B$2&\"_\"&$A47),'Time Entry Sheet'!$A$3:$I$499,8,FALSE),\"Error\")=\"Error\",\"\",IF(VLOOKUP(($B$2&\"_\"&$A47),'Time Entry Sheet'!$A$3:$I$499,8,FALSE)=\"\",\"\",VLOOKUP(($B$2&\"_\"&$A47),'Time Entry Sheet'!$A$3:$I$499,8,FALSE)))","v":""},{"$f":"IF(IFERROR(VLOOKUP(($B$2&\"_\"&$A47),'Time Entry Sheet'!$A$3:$I$499,7,FALSE),\"Error\")=\"Error\",\"\",IF(VLOOKUP(($B$2&\"_\"&$A47),'Time Entry Sheet'!$A$3:$I$499,7,FALSE)=\"\",\"\",VLOOKUP(($B$2&\"_\"&$A47),'Time Entry Sheet'!$A$3:$I$499,7,FALSE)))","v":""},"00:02:10.950","00:02:10.950",19,{"$f":"IF(A47=\"\",\"\",M47+VLOOKUP(A47,'Test 10'!$A$12:$Q$51,16,FALSE))","v":"00:14:26.040"},20,null,"","00:14:26.040"]
[37,{"$f":"IF($A48=\"\",\"\",IF(VLOOKUP($A48,Competitors!$A$2:$G$60,2,FALSE)=\"\",\"\",VLOOKUP($A48,Competitors!$A$2:$G$60,2,FALSE)))","v":""},{"$f":"IF($A48=\"\",\"\",IF(VLOOKUP($A48,Competitors!$A$2:$G$60,7,FALSE)=\"\",\"\",VLOOKUP($A48,Competitors!$A$2:$G$60,7,FALSE)))","v":""},{"$f":"IF($A48=\"\",\"\",IF(VLOOKUP($A48,Competitors!$A$2:$G$60,5,FALSE)=\"\",\"\",VLOOKUP($A48,Competitors!$A$2:$G$60,5,FALSE)))","v":""},{"$f":"IF($A48=\"\",\"\",IF(VLOOKUP($A48,Competitors!$A$2:$G$60,6,FALSE)=\"\",\"\",VLOOKUP($A48,Competitors!$A$2:$G$60,6,FALSE)))","v":"senior"},{"$f":"IF($A48=\"\",\"\",IF(VLOOKUP($A48,Competitors!$A$2:$G$60,3,FALSE)=\"\",\"\",VLOOKUP($A48,Competitors!$A$2:$G$60,3,FALSE)))","v":""},{"$f":"IF($A48=\"\",\"\",IF(VLOOKUP($A48,Competitors!$A$2:$G$60,4,FALSE)=\"\",\"\",VLOOKUP($A48,Competitors!$A$2:$G$60,4,FALSE)))","v":""},{"$f":"IF(VLOOKUP(A48,Competitors!$A$1:$H$41,8,FALSE)=\"\",\"\",VLOOKUP(A48,Competitors!$A$1:$H$41,8,FALSE))","v":""},{"$f":"IF(IFERROR(VLOOKUP(($B$2&\"_\"&$A48),'Time Entry Sheet'!$A$3:$I$499,9,0),\"Error\")=\"Error\",\"\",IF(VLOOKUP(($B$2&\"_\"&$A48),'Time Entry Sheet'!$A$3:$I$499,9,FALSE)=\"wd\",\"wd\",VLOOKUP(($B$2&\"_\"&$A48),'Time Entry Sheet'!$A$3:$I$499,9,FALSE)*1))","v":""},"",{"$f":"IF(IFERROR(VLOOKUP(($B$2&\"_\"&$A48),'Time Entry Sheet'!$A$3:$I$499,8,FALSE),\"Error\")=\"Error\",\"\",IF(VLOOKUP(($B$2&\"_\"&$A48),'Time Entry Sheet'!$A$3:$I$499,8,FALSE)=\"\",\"\",VLOOKUP(($B$2&\"_\"&$A48),'Time Entry Sheet'!$A$3:$I$499,8,FALSE)))","v":""},{"$f":"IF(IFERROR(VLOOKUP(($B$2&\"_\"&$A48),'Time Entry Sheet'!$A$3:$I$499,7,FALSE),\"Error\")=\"Error\",\"\",IF(VLOOKUP(($B$2&\"_\"&$A48),'Time Entry Sheet'!$A$3:$I$499,7,FALSE)=\"\",\"\",VLOOKUP(($B$2&\"_\"&$A48),'Time Entry Sheet'!$A$3:$I$499,7,FALSE)))","v":""},{"$f":"IF(A48=\"\",\"\",IF(I48=\"wd\",IF(E48=\"Senior\",$B$7,$C$7),IF(L48<>\"\",$B$7,IF(I48=\"\",IF(E48=\"Senior\",$B$8,$C$8),IF(K48=\"\",I48,I48+($B$5*K48))))))","v":"00:02:10.950"},"00:02:10.950",19,{"$f":"IF(A48=\"\",\"\",M48+VLOOKUP(A48,'Test 10'!$A$12:$Q$51,16,FALSE))","v":"00:14:26.040"},20,null,"","00:14:26.040"]
[38,{"$f":"IF($A49=\"\",\"\",IF(VLOOKUP($A49,Competitors!$A$2:$G$60,2,FALSE)=\"\",\"\",VLOOKUP($A49,Competitors!$A$2:$G$60,2,FALSE)))","v":""},{"$f":"IF($A49=\"\",\"\",IF(VLOOKUP($A49,Competitors!$A$2:$G$60,7,FALSE)=\"\",\"\",VLOOKUP($A49,Competitors!$A$2:$G$60,7,FALSE)))","v":""},{"$f":"IF($A49=\"\",\"\",IF(VLOOKUP($A49,Competitors!$A$2:$G$60,5,FALSE)=\"\",\"\",VLOOKUP($A49,Competitors!$A$2:$G$60,5,FALSE)))","v":""},{"$f":"IF($A49=\"\",\"\",IF(VLOOKUP($A49,Competitors!$A$2:$G$60,6,FALSE)=\"\",\"\",VLOOKUP($A49,Competitors!$A$2:$G$60,6,FALSE)))","v":"senior"},{"$f":"IF($A49=\"\",\"\",IF(VLOOKUP($A49,Competitors!$A$2:$G$60,3,FALSE)=\"\",\"\",VLOOKUP($A49,Competitors!$A$2:$G$60,3,FALSE)))","v":""},{"$f":"IF($A49=\"\",\"\",IF(VLOOKUP($A49,Competitors!$A$2:$G$60,4,FALSE)=\"\",\"\",VLOOKUP($A49,Competitors!$A$2:$G$60,4,FALSE)))","v":""},{"$f":"IF(VLOOKUP(A49,Competitors!$A$1:$H$41,8,FALSE)=\"\",\"\",VLOOKUP(A49,Competitors!$A$1:$H$41,8,FALSE))","v":""},{"$f":"IF(IFERROR(VLOOKUP(($B$2&\"_\"&$A49),'Time Entry Sheet'!$A$3:$I$499,9,0),\"Error\")=\"Error\",\"\",IF(VLOOKUP(($B$2&\"_\"&$A49),'Time Entry Sheet'!$A$3:$I$499,9,FALSE)=\"wd\",\"wd\",VLOOKUP(($B$2&\"_\"&$A49),'Time Entry Sheet'!$A$3:$I$499,9,FALSE)*1))","v":""},"",{"$f":"IF(IFERROR(VLOOKUP(($B$2&\"_\"&$A49),'Time Entry Sheet'!$A$3:$I$499,8,FALSE),\"Error\")=\"Error\",\"\",IF(VLOOKUP(($B$2&\"_\"&$A49),'Time Entry Sheet'!$A$3:$I$499,8,FALSE)=\"\",\"\",VLOOKUP(($B$2&\"_\"&$A49),'Time Entry Sheet'!$A$3:$I$499,8,FALSE)))","v":""},{"$f":"IF(IFERROR(VLOOKUP(($B$2&\"_\"&$A49),'Time Entry Sheet'!$A$3:$I$499,7,FALSE),\"Error\")=\"Error\",\"\",IF(VLOOKUP(($B$2&\"_\"&$A49),'Time Entry Sheet'!$A$3:$I$499,7,FALSE)=\"\",\"\",VLOOKUP(($B$2&\"_\"&$A49),'Time Entry Sheet'!$A$3:$I$499,7,FALSE)))","v":""},"00:02:10.950","00:02:10.950",19,{"$f":"IF(A49=\"\",\"\",M49+VLOOKUP(A49,'Test 10'!$A$12:$Q$51,16,FALSE))","v":"00:14:26.040"},20,null,"","00:14:26.040"]
[39,{"$f":"IF($A50=\"\",\"\",IF(VLOOKUP($A50,Competitors!$A$2:$G$60,2,FALSE)=\"\",\"\",VLOOKUP($A50,Competitors!$A$2:$G$60,2,FALSE)))","v":""},{"$f":"IF($A50=\"\",\"\",IF(VLOOKUP($A50,Competitors!$A$2:$G$60,7,FALSE)=\"\",\"\",VLOOKUP($A50,Competitors!$A$2:$G$60,7,FALSE)))","v":""},{"$f":"IF($A50=\"\",\"\",IF(VLOOKUP($A50,Competitors!$A$2:$G$60,5,FALSE)=\"\",\"\",VLOOKUP($A50,Competitors!$A$2:$G$60,5,FALSE)))","v":""},{"$f":"IF($A50=\"\",\"\",IF(VLOOKUP($A50,Competitors!$A$2:$G$60,6,FALSE)=\"\",\"\",VLOOKUP($A50,Competitors!$A$2:$G$60,6,FALSE)))","v":"senior"},{"$f":"IF($A50=\"\",\"\",IF(VLOOKUP($A50,Competitors!$A$2:$G$60,3,FALSE)=\"\",\"\",VLOOKUP($A50,Competitors!$A$2:$G$60,3,FALSE)))","v":""},{"$f":"IF($A50=\"\",\"\",IF(VLOOKUP($A50,Competitors!$A$2:$G$60,4,FALSE)=\"\",\"\",VLOOKUP($A50,Competitors!$A$2:$G$60,4,FALSE)))","v":""},{"$f":"IF(VLOOKUP(A50,Competitors!$A$1:$H$41,8,FALSE)=\"\",\"\",VLOOKUP(A50,Competitors!$A$1:$H$41,8,FALSE))","v":""},{"$f":"IF(IFERROR(VLOOKUP(($B$2&\"_\"&$A50),'Time Entry Sheet'!$A$3:$I$499,9,0),\"Error\")=\"Error\",\"\",IF(VLOOKUP(($B$2&\"_\"&$A50),'Time Entry Sheet'!$A$3:$I$499,9,FALSE)=\"wd\",\"wd\",VLOOKUP(($B$2&\"_\"&$A50),'Time Entry Sheet'!$A$3:$I$499,9,FALSE)*1))","v":""},"",{"$f":"IF(IFERROR(VLOOKUP(($B$2&\"_\"&$A50),'Time Entry Sheet'!$A$3:$I$499,8,FALSE),\"Error\")=\"Error\",\"\",IF(VLOOKUP(($B$2&\"_\"&$A50),'Time Entry Sheet'!$A$3:$I$499,8,FALSE)=\"\",\"\",VLOOKUP(($B$2&\"_\"&$A50),'Time Entry Sheet'!$A$3:$I$499,8,FALSE)))","v":""},{"$f":"IF(IFERROR(VLOOKUP(($B$2&\"_\"&$A50),'Time Entry Sheet'!$A$3:$I$499,7,FALSE),\"Error\")=\"Error\",\"\",IF(VLOOKUP(($B$2&\"_\"&$A50),'Time Entry Sheet'!$A$3:$I$499,7,FALSE)=\"\",\"\",VLOOKUP(($B$2&\"_\"&$A50),'Time Entry Sheet'!$A$3:$I$499,7,FALSE)))","v":""},"00:02:10.950","00:02:10.950",19,{"$f":"IF(A50=\"\",\"\",M50+VLOOKUP(A50,'Test 10'!$A$12:$Q$51,16,FALSE))","v":"00:14:26.040"},20,null,null,"00:14:26.040"]
[40,{"$f":"IF($A51=\"\",\"\",IF(VLOOKUP($A51,Competitors!$A$2:$G$60,2,FALSE)=\"\",\"\",VLOOKUP($A51,Competitors!$A$2:$G$60,2,FALSE)))","v":""},{"$f":"IF($A51=\"\",\"\",IF(VLOOKUP($A51,Competitors!$A$2:$G$60,7,FALSE)=\"\",\"\",VLOOKUP($A51,Competitors!$A$2:$G$60,7,FALSE)))","v":""},{"$f":"IF($A51=\"\",\"\",IF(VLOOKUP($A51,Competitors!$A$2:$G$60,5,FALSE)=\"\",\"\",VLOOKUP($A51,Competitors!$A$2:$G$60,5,FALSE)))","v":""},{"$f":"IF($A51=\"\",\"\",IF(VLOOKUP($A51,Competitors!$A$2:$G$60,6,FALSE)=\"\",\"\",VLOOKUP($A51,Competitors!$A$2:$G$60,6,FALSE)))","v":"senior"},{"$f":"IF($A51=\"\",\"\",IF(VLOOKUP($A51,Competitors!$A$2:$G$60,3,FALSE)=\"\",\"\",VLOOKUP($A51,Competitors!$A$2:$G$60,3,FALSE)))","v":""},{"$f":"IF($A51=\"\",\"\",IF(VLOOKUP($A51,Competitors!$A$2:$G$60,4,FALSE)=\"\",\"\",VLOOKUP($A51,Competitors!$A$2:$G$60,4,FALSE)))","v":""},{"$f":"IF(VLOOKUP(A51,Competitors!$A$1:$H$41,8,FALSE)=\"\",\"\",VLOOKUP(A51,Competitors!$A$1:$H$41,8,FALSE))","v":""},{"$f":"IF(IFERROR(VLOOKUP(($B$2&\"_\"&$A51),'Time Entry Sheet'!$A$3:$I$499,9,0),\"Error\")=\"Error\",\"\",IF(VLOOKUP(($B$2&\"_\"&$A51),'Time Entry Sheet'!$A$3:$I$499,9,FALSE)=\"wd\",\"wd\",VLOOKUP(($B$2&\"_\"&$A51),'Time Entry Sheet'!$A$3:$I$499,9,FALSE)*1))","v":""},"",{"$f":"IF(IFERROR(VLOOKUP(($B$2&\"_\"&$A51),'Time Entry Sheet'!$A$3:$I$499,8,FALSE),\"Error\")=\"Error\",\"\",IF(VLOOKUP(($B$2&\"_\"&$A51),'Time Entry Sheet'!$A$3:$I$499,8,FALSE)=\"\",\"\",VLOOKUP(($B$2&\"_\"&$A51),'Time Entry Sheet'!$A$3:$I$499,8,FALSE)))","v":""},{"$f":"IF(IFERROR(VLOOKUP(($B$2&\"_\"&$A51),'Time Entry Sheet'!$A$3:$I$499,7,FALSE),\"Error\")=\"Error\",\"\",IF(VLOOKUP(($B$2&\"_\"&$A51),'Time Entry Sheet'!$A$3:$I$499,7,FALSE)=\"\",\"\",VLOOKUP(($B$2&\"_\"&$A51),'Time Entry Sheet'!$A$3:$I$499,7,FALSE)))","v":""},"00:02:10.950","00:02:10.950",19,{"$f":"IF(A51=\"\",\"\",M51+VLOOKUP(A51,'Test 10'!$A$12:$Q$51,16,FALSE))","v":"00:14:26.040"},20,null,null,"00:14:26.040"]

{"sheet":"Test 12","index":29,"n_rows":51,"n_cols":20,"rows_kept":51,"cut":false,"hidden":false,"merged":[[0,8,0,10]]}
[]
["TEST",12,null,null,null,null,null,null,null,null,"PROVISIONAL RESULTS",null,{"$f":"NOW()","v":42690.814244444446},null,{"$f":"NOW()","v":"2016-11-16T19:32:30.720"}]
["Date:","2015-10-31",null,null,null,null,null,null,null,null,null,"Junior",{"$f":"MIN( IF( $E$8:$E$51=L3, $S$8:$S$51 ) )","v":"00:00:00"},null,"FASTEST"]
["10 sec penalty","00:00:10",null,null,null,null,null,null,null,null,null,"Junior",{"$f":"MAX( IF( $E$8:$E$51=L4, $S$8:$S$51 ) )","v":"00:00:00"},null,"SLOWEST"]
["Flag penalty","00:00:05",null,null,null,null,"SENIOR"]
[null,null,null,null,null,null,"Fastest test time x 2",null,{"$f":"M6*2","v":"00:01:48.460"},null,null,"Senior",{"$f":"MIN( IF( E11:E51=L6, J11:J51 ) )","v":"00:00:54.230"},null,"FASTEST"]
["Slowest test time + 5 second penalty",{"$f":"MIN($I$6,$I$7)+$B$5","v":"00:01:11.190"},{"$f":"MIN($I$9:$I$10)+$B$5","v":"00:00:05"},null,null,null,"Slowest test time",null,{"$f":"M7","v":"00:01:06.190"},null,null,"Senior",{"$f":"MAX( IF( E11:E51=L7, J11:J51 ) )","v":"00:01:06.190"},null,"SLOWEST"]
["Failure to Attempt Course (Slowest time + 10 sec)",{"$f":"SUM($I$7,$B$4)","v":"00:01:16.190"},{"$f":"SUM($I$10,$B$4)","v":"00:00:10"},null,null,null,"JUNIOR"]
[null,null,null,null,null,null,"Fastest test time x 2",null,{"$f":"M3*2","v":"00:00:00"}]
[null,null,null,null,null,null,"Slowest test time",null,{"$f":"M4","v":"00:00:00"}]
["Car Number","Driver","Rookie?","Female Driver?","Junior Driver?","Vehicle","Class","Senior with Passenger?","Time Taken (MM:SS.00)","Time Taken-PenaltyCalculator (MM:SS.00)","No. of Flags &/or Finishes partly out of garage","Slowest time + 5 sec penalty type","Total Test 12 Time","Total Test 1 Time for ranking","Test 12 Position","Cumulative Time Taken (MM:SS.00)","Cumulative Outright Position","Comments","Time Taken-PenaltyCalculator Junior(MM:SS.00)","Cumulative Time Taken (MM:SS.00) for ranking"]
[1,{"$f":"IF($A12=\"\",\"\",IF(VLOOKUP($A12,Competitors!$A$2:$G$60,2,FALSE)=\"\",\"\",VLOOKUP($A12,Competitors!$A$2:$G$60,2,FALSE)))","v":"Paul Dunn"},{"$f":"IF($A12=\"\",\"\",IF(VLOOKUP($A12,Competitors!$A$2:$G$60,7,FALSE)=\"\",\"\",VLOOKUP($A12,Competitors!$A$2:$G$60,7,FALSE)))","v":""},{"$f":"IF($A12=\"\",\"\",IF(VLOOKUP($A12,Competitors!$A$2:$G$60,5,FALSE)=\"\",\"\",VLOOKUP($A12,Competitors!$A$2:$G$60,5,FALSE)))","v":""},{"$f":"IF($A12=\"\",\"\",IF(VLOOKUP($A12,Competitors!$A$2:$G$60,6,FALSE)=\"\",\"\",VLOOKUP($A12,Competitors!$A$2:$G$60,6,FALSE)))","v":"senior"},{"$f":"IF($A12=\"\",\"\",IF(VLOOKUP($A12,Competitors!$A$2:$G$60,3,FALSE)=\"\",\"\",VLOOKUP($A12,Competitors!$A$2:$G$60,3,FALSE)))","v":"Excel"},{"$f":"IF($A12=\"\",\"\",IF(VLOOKUP($A12,Competitors!$A$2:$G$60,4,FALSE)=\"\",\"\",VLOOKUP($A12,Competitors!$A$2:$G$60,4,FALSE)))","v":""},{"$f":"IF(VLOOKUP(A12,Competitors!$A$1:$H$41,8,FALSE)=\"\",\"\",VLOOKUP(A12,Competitors!$A$1:$H$41,8,FALSE))","v":""},{"$f":"IF(IFERROR(VLOOKUP(($B$2&\"_\"&$A12),'Time Entry Sheet'!$A$3:$I$499,9,0),\"Error\")=\"Error\",\"\",IF(VLOOKUP(($B$2&\"_\"&$A12),'Time Entry Sheet'!$A$3:$I$499,9,FALSE)=\"wd\",\"wd\",VLOOKUP(($B$2&\"_\"&$A12),'Time Entry Sheet'!$A$3:$I$499,9,FALSE)*1))","v":"00:00:57.050"},{"$f":"IF(E12=\"Junior\",\"\",IF(I12=\"wd\",\"\",IF(K12<>\"\",\"\",I12)))","v":"00:00:57.050"},{"$f":"IF(IFERROR(VLOOKUP(($B$2&\"_\"&$A12),'Time Entry Sheet'!$A$3:$I$499,8,FALSE),\"Error\")=\"Error\",\"\",IF(VLOOKUP(($B$2&\"_\"&$A12),'Time Entry Sheet'!$A$3:$I$499,8,FALSE)=\"\",\"\",VLOOKUP(($B$2&\"_\"&$A12),'Time Entry Sheet'!$A$3:$I$499,8,FALSE)))","v":""},{"$f":"IF(IFERROR(VLOOKUP(($B$2&\"_\"&$A12),'Time Entry Sheet'!$A$3:$I$499,7,FALSE),\"Error\")=\"Error\",\"\",IF(VLOOKUP(($B$2&\"_\"&$A12),'Time Entry Sheet'!$A$3:$I$499,7,FALSE)=\"\",\"\",VLOOKUP(($B$2&\"_\"&$A12),'Time Entry Sheet'!$A$3:$I$499,7,FALSE)))","v":""},{"$f":"IF(A12=\"\",\"\",IF(I12=\"wd\",IF(E12=\"Senior\",$B$7,$C$7),IF(L12<>\"\",$B$7,IF(I12=\"\",IF(E12=\"Senior\",$B$8,$C$8),IF(K12=\"\",I12,I12+($B$5*K12))))))","v":"00:00:57.050"},{"$f":"IF(H12=\"Passenger\",\"\",M12)","v":"00:00:57.050"},{"$f":"IF(A12=\"\",\"\",IF(H12=\"Passenger\",\"P\",RANK(N12,$N$12:$N$51,1)))","v":4},{"$f":"IF(A12=\"\",\"\",M12+VLOOKUP(A12,'Test 11'!$A$12:$Q$51,16,FALSE))","v":"00:10:36.360"},{"$f":"IF(A12=\"\",\"\",IF(H12=\"Passenger\",\"P\",RANK(T12,$T$12:$T$51,1)))","v":2},null,{"$f":"IF(E12=\"Senior\",\"\",IF(I12=\"wd\",\"\",IF(K12<>\"\",\"\",I12)))","v":""},{"$f":"IF(H12=\"Passenger\",\"\",P12)","v":"00:10:36.360"}]
[2,{"$f":"IF($A13=\"\",\"\",IF(VLOOKUP($A13,Competitors!$A$2:$G$60,2,FALSE)=\"\",\"\",VLOOKUP($A13,Competitors!$A$2:$G$60,2,FALSE)))","v":"Stephen Thorne"},{"$f":"IF($A13=\"\",\"\",IF(VLOOKUP($A13,Competitors!$A$2:$G$60,7,FALSE)=\"\",\"\",VLOOKUP($A13,Competitors!$A$2:$G$60,7,FALSE)))","v":""},{"$f":"IF($A13=\"\",\"\",IF(VLOOKUP($A13,Competitors!$A$2:$G$60,5,FALSE)=\"\",\"\",VLOOKUP($A13,Competitors!$A$2:$G$60,5,FALSE)))","v":""},{"$f":"IF($A13=\"\",\"\",IF(VLOOKUP($A13,Competitors!$A$2:$G$60,6,FALSE)=\"\",\"\",VLOOKUP($A13,Competitors!$A$2:$G$60,6,FALSE)))","v":"senior"},{"$f":"IF($A13=\"\",\"\",IF(VLOOKUP($A13,Competitors!$A$2:$G$60,3,FALSE)=\"\",\"\",VLOOKUP($A13,Competitors!$A$2:$G$60,3,FALSE)))","v":""},{"$f":"IF($A13=\"\",\"\",IF(VLOOKUP($A13,Competitors!$A$2:$G$60,4,FALSE)=\"\",\"\",VLOOKUP($A13,Competitors!$A$2:$G$60,4,FALSE)))","v":""},{"$f":"IF(VLOOKUP(A13,Competitors!$A$1:$H$41,8,FALSE)=\"\",\"\",VLOOKUP(A13,Competitors!$A$1:$H$41,8,FALSE))","v":""},{"$f":"IF(IFERROR(VLOOKUP(($B$2&\"_\"&$A13),'Time Entry Sheet'!$A$3:$I$499,9,0),\"Error\")=\"Error\",\"\",IF(VLOOKUP(($B$2&\"_\"&$A13),'Time Entry Sheet'!$A$3:$I$499,9,FALSE)=\"wd\",\"wd\",VLOOKUP(($B$2&\"_\"&$A13),'Time Entry Sheet'!$A$3:$I$499,9,FALSE)*1))","v":"00:00:54.230"},{"$f":"IF(E13=\"Junior\",\"\",IF(I13=\"wd\",\"\",IF(K13<>\"\",\"\",I13)))","v":"00:00:54.230"},{"$f":"IF(IFERROR(VLOOKUP(($B$2&\"_\"&$A13),'Time Entry Sheet'!$A$3:$I$499,8,FALSE),\"Error\")=\"Error\",\"\",IF(VLOOKUP(($B$2&\"_\"&$A13),'Time Entry Sheet'!$A$3:$I$499,8,FALSE)=\"\",\"\",VLOOKUP(($B$2&\"_\"&$A13),'Time Entry Sheet'!$A$3:$I$499,8,FALSE)))","v":""},{"$f":"IF(IFERROR(VLOOKUP(($B$2&\"_\"&$A13),'Time Entry Sheet'!$A$3:$I$499,7,FALSE),\"Error\")=\"Error\",\"\",IF(VLOOKUP(($B$2&\"_\"&$A13),'Time Entry Sheet'!$A$3:$I$499,7,FALSE)=\"\",\"\",VLOOKUP(($B$2&\"_\"&$A13),'Time Entry Sheet'!$A$3:$I$499,7,FALSE)))","v":""},{"$f":"IF(A13=\"\",\"\",IF(I13=\"wd\",IF(E13=\"Senior\",$B$7,$C$7),IF(L13<>\"\",$B$7,IF(I13=\"\",IF(E13=\"Senior\",$B$8,$C$8),IF(K13=\"\",I13,I13+($B$5*K13))))))","v":"00:00:54.230"},{"$f":"IF(H13=\"Passenger\",\"\",M13)","v":"00:00:54.230"},{"$f":"IF(A13=\"\",\"\",IF(H13=\"Passenger\",\"P\",RANK(N13,$N$12:$N$51,1)))","v":1},{"$f":"IF(A13=\"\",\"\",M13+VLOOKUP(A13,'Test 11'!$A$12:$Q$51,16,FALSE))","v":"00:10:57.150"},{"$f":"IF(A13=\"\",\"\",IF(H13=\"Passenger\",\"P\",RANK(T13,$T$12:$T$51,1)))","v":4},null,{"$f":"IF(E13=\"Senior\",\"\",IF(I13=\"wd\",\"\",IF(K13<>\"\",\"\",I13)))","v":""},{"$f":"IF(H13=\"Passenger\",\"\",P13)","v":"00:10:57.150"}]
[3,{"$f":"IF($A14=\"\",\"\",IF(VLOOKUP($A14,Competitors!$A$2:$G$60,2,FALSE)=\"\",\"\",VLOOKUP($A14,Competitors!$A$2:$G$60,2,FALSE)))","v":"David Ballard"},{"$f":"IF($A14=\"\",\"\",IF(VLOOKUP($A14,Competitors!$A$2:$G$60,7,FALSE)=\"\",\"\",VLOOKUP($A14,Competitors!$A$2:$G$60,7,FALSE)))","v":""},{"$f":"IF($A14=\"\",\"\",IF(VLOOKUP($A14,Competitors!$A$2:$G$60,5,FALSE)=\"\",\"\",VLOOKUP($A14,Competitors!$A$2:$G$60,5,FALSE)))","v":""},{"$f":"IF($A14=\"\",\"\",IF(VLOOKUP($A14,Competitors!$A$2:$G$60,6,FALSE)=\"\",\"\",VLOOKUP($A14,Competitors!$A$2:$G$60,6,FALSE)))","v":"senior"},{"$f":"IF($A14=\"\",\"\",IF(VLOOKUP($A14,Competitors!$A$2:$G$60,3,FALSE)=\"\",\"\",VLOOKUP($A14,Competitors!$A$2:$G$60,3,FALSE)))","v":""},{"$f":"IF($A14=\"\",\"\",IF(VLOOKUP($A14,Competitors!$A$2:$G$60,4,FALSE)=\"\",\"\",VLOOKUP($A14,Competitors!$A$2:$G$60,4,FALSE)))","v":""},{"$f":"IF(VLOOKUP(A14,Competitors!$A$1:$H$41,8,FALSE)=\"\",\"\",VLOOKUP(A14,Competitors!$A$1:$H$41,8,FALSE))","v":""},{"$f":"IF(IFERROR(VLOOKUP(($B$2&\"_\"&$A14),'Time Entry Sheet'!$A$3:$I$499,9,0),\"Error\")=\"Error\",\"\",IF(VLOOKUP(($B$2&\"_\"&$A14),'Time Entry Sheet'!$A$3:$I$499,9,FALSE)=\"wd\",\"wd\",VLOOKUP(($B$2&\"_\"&$A14),'Time Entry Sheet'!$A$3:$I$499,9,FALSE)*1))","v":"wd"},"",{"$f":"IF(IFERROR(VLOOKUP(($B$2&\"_\"&$A14),'Time Entry Sheet'!$A$3:$I$499,8,FALSE),\"Error\")=\"Error\",\"\",IF(VLOOKUP(($B$2&\"_\"&$A14),'Time Entry Sheet'!$A$3:$I$499,8,FALSE)=\"\",\"\",VLOOKUP(($B$2&\"_\"&$A14),'Time Entry Sheet'!$A$3:$I$499,8,FALSE)))","v":""},{"$f":"IF(IFERROR(VLOOKUP(($B$2&\"_\"&$A14),'Time Entry Sheet'!$A$3:$I$499,7,FALSE),\"Error\")=\"Error\",\"\",IF(VLOOKUP(($B$2&\"_\"&$A14),'Time Entry Sheet'!$A$3:$I$499,7,FALSE)=\"\",\"\",VLOOKUP(($B$2&\"_\"&$A14),'Time Entry Sheet'!$A$3:$I$499,7,FALSE)))","v":"Wrong direction, any procedure other than that specified as the correct procedure for completing that course "},"00:01:11.190","00:01:11.190",13,{"$f":"IF(A14=\"\",\"\",M14+VLOOKUP(A14,'Test 11'!$A$12:$Q$51,16,FALSE))","v":"00:12:06.210"},12,null,"","00:12:06.210"]
[4,{"$f":"IF($A15=\"\",\"\",IF(VLOOKUP($A15,Competitors!$A$2:$G$60,2,FALSE)=\"\",\"\",VLOOKUP($A15,Competitors!$A$2:$G$60,2,FALSE)))","v":"Michaela Ballard"},{"$f":"IF($A15=\"\",\"\",IF(VLOOKUP($A15,Competitors!$A$2:$G$60,7,FALSE)=\"\",\"\",VLOOKUP($A15,Competitors!$A$2:$G$60,7,FALSE)))","v":"rookie"},{"$f":"IF($A15=\"\",\"\",IF(VLOOKUP($A15,Competitors!$A$2:$G$60,5,FALSE)=\"\",\"\",VLOOKUP($A15,Competitors!$A$2:$G$60,5,FALSE)))","v":"female"},{"$f":"IF($A15=\"\",\"\",IF(VLOOKUP($A15,Competitors!$A$2:$G$60,6,FALSE)=\"\",\"\",VLOOKUP($A15,Competitors!$A$2:$G$60,6,FALSE)))","v":"senior"},{"$f":"IF($A15=\"\",\"\",IF(VLOOKUP($A15,Competitors!$A$2:$G$60,3,FALSE)=\"\",\"\",VLOOKUP($A15,Competitors!$A$2:$G$60,3,FALSE)))","v":""},{"$f":"IF($A15=\"\",\"\",IF(VLOOKUP($A15,Competitors!$A$2:$G$60,4,FALSE)=\"\",\"\",VLOOKUP($A15,Competitors!$A$2:$G$60,4,FALSE)))","v":""},{"$f":"IF(VLOOKUP(A15,Competitors!$A$1:$H$41,8,FALSE)=\"\",\"\",VLOOKUP(A15,Competitors!$A$1:$H$41,8,FALSE))","v":""},{"$f":"IF(IFERROR(VLOOKUP(($B$2&\"_\"&$A15),'Time Entry Sheet'!$A$3:$I$499,9,0),\"Error\")=\"Error\",\"\",IF(VLOOKUP(($B$2&\"_\"&$A15),'Time Entry Sheet'!$A$3:$I$499,9,FALSE)=\"wd\",\"wd\",VLOOKUP(($B$2&\"_\"&$A15),'Time Entry Sheet'!$A$3:$I$499,9,FALSE)*1))","v":"00:01:06.190"},"00:01:06.190",{"$f":"IF(IFERROR(VLOOKUP(($B$2&\"_\"&$A15),'Time Entry Sheet'!$A$3:$I$499,8,FALSE),\"Error\")=\"Error\",\"\",IF(VLOOKUP(($B$2&\"_\"&$A15),'Time Entry Sheet'!$A$3:$I$499,8,FALSE)=\"\",\"\",VLOOKUP(($B$2&\"_\"&$A15),'Time Entry Sheet'!$A$3:$I$499,8,FALSE)))","v":""},{"$f":"IF(IFERROR(VLOOKUP(($B$2&\"_\"&$A15),'Time Entry Sheet'!$A$3:$I$499,7,FALSE),\"Error\")=\"Error\",\"\",IF(VLOOKUP(($B$2&\"_\"&$A15),'Time Entry Sheet'!$A$3:$I$499,7,FALSE)=\"\",\"\",VLOOKUP(($B$2&\"_\"&$A15),'Time Entry Sheet'!$A$3:$I$499,7,FALSE)))","v":""},"00:01:06.190","00:01:06.190",12,{"$f":"IF(A15=\"\",\"\",M15+VLOOKUP(A15,'Test 11'!$A$12:$Q$51,16,FALSE))","v":"00:13:14.220"},18,null,"","00:13:14.220"]
[5,{"$f":"IF($A16=\"\",\"\",IF(VLOOKUP($A16,Competitors!$A$2:$G$60,2,FALSE)=\"\",\"\",VLOOKUP($A16,Competitors!$A$2:$G$60,2,FALSE)))","v":"Janelle Ballard"},{"$f":"IF($A16=\"\",\"\",IF(VLOOKUP($A16,Competitors!$A$2:$G$60,7,FALSE)=\"\",\"\",VLOOKUP($A16,Competitors!$A$2:$G$60,7,FALSE)))","v":""},{"$f":"IF($A16=\"\",\"\",IF(VLOOKUP($A16,Competitors!$A$2:$G$60,5,FALSE)=\"\",\"\",VLOOKUP($A16,Competitors!$A$2:$G$60,5,FALSE)))","v":"female"},{"$f":"IF($A16=\"\",\"\",IF(VLOOKUP($A16,Competitors!$A$2:$G$60,6,FALSE)=\"\",\"\",VLOOKUP($A16,Competitors!$A$2:$G$60,6,FALSE)))","v":"senior"},{"$f":"IF($A16=\"\",\"\",IF(VLOOKUP($A16,Competitors!$A$2:$G$60,3,FALSE)=\"\",\"\",VLOOKUP($A16,Competitors!$A$2:$G$60,3,FALSE)))","v":""},{"$f":"IF($A16=\"\",\"\",IF(VLOOKUP($A16,Competitors!$A$2:$G$60,4,FALSE)=\"\",\"\",VLOOKUP($A16,Competitors!$A$2:$G$60,4,FALSE)))","v":""},{"$f":"IF(VLOOKUP(A16,Competitors!$A$1:$H$41,8,FALSE)=\"\",\"\",VLOOKUP(A16,Competitors!$A$1:$H$41,8,FALSE))","v":""},{"$f":"IF(IFERROR(VLOOKUP(($B$2&\"_\"&$A16),'Time Entry Sheet'!$A$3:$I$499,9,0),\"Error\")=\"Error\",\"\",IF(VLOOKUP(($B$2&\"_\"&$A16),'Time Entry Sheet'!$A$3:$I$499,9,FALSE)=\"wd\",\"wd\",VLOOKUP(($B$2&\"_\"&$A16),'Time Entry Sheet'!$A$3:$I$499,9,FALSE)*1))","v":"wd"},"",{"$f":"IF(IFERROR(VLOOKUP(($B$2&\"_\"&$A16),'Time Entry Sheet'!$A$3:$I$499,8,FALSE),\"Error\")=\"Error\",\"\",IF(VLOOKUP(($B$2&\"_\"&$A16),'Time Entry Sheet'!$A$3:$I$499,8,FALSE)=\"\",\"\",VLOOKUP(($B$2&\"_\"&$A16),'Time Entry Sheet'!$A$3:$I$499,8,FALSE)))","v":""},{"$f":"IF(IFERROR(VLOOKUP(($B$2&\"_\"&$A16),'Time Entry Sheet'!$A$3:$I$499,7,FALSE),\"Error\")=\"Error\",\"\",IF(VLOOKUP(($B$2&\"_\"&$A16),'Time Entry Sheet'!$A$3:$I$499,7,FALSE)=\"\",\"\",VLOOKUP(($B$2&\"_\"&$A16),'Time Entry Sheet'!$A$3:$I$499,7,FALSE)))","v":"Wrong direction, any procedure other than that specified as the correct procedure for completing that course "},"00:01:11.190","00:01:11.190",13,{"$f":"IF(A16=\"\",\"\",M16+VLOOKUP(A16,'Test 11'!$A$12:$Q$51,16,FALSE))","v":"00:11:47.350"},8,null,"","00:11:47.350"]
[6,{"$f":"IF($A17=\"\",\"\",IF(VLOOKUP($A17,Competitors!$A$2:$G$60,2,FALSE)=\"\",\"\",VLOOKUP($A17,Competitors!$A$2:$G$60,2,FALSE)))","v":"Issac Wishart"},{"$f":"IF($A17=\"\",\"\",IF(VLOOKUP($A17,Competitors!$A$2:$G$60,7,FALSE)=\"\",\"\",VLOOKUP($A17,Competitors!$A$2:$G$60,7,FALSE)))","v":"rookie"},{"$f":"IF($A17=\"\",\"\",IF(VLOOKUP($A17,Competitors!$A$2:$G$60,5,FALSE)=\"\",\"\",VLOOKUP($A17,Competitors!$A$2:$G$60,5,FALSE)))","v":""},{"$f":"IF($A17=\"\",\"\",IF(VLOOKUP($A17,Competitors!$A$2:$G$60,6,FALSE)=\"\",\"\",VLOOKUP($A17,Competitors!$A$2:$G$60,6,FALSE)))","v":"senior"},{"$f":"IF($A17=\"\",\"\",IF(VLOOKUP($A17,Competitors!$A$2:$G$60,3,FALSE)=\"\",\"\",VLOOKUP($A17,Competitors!$A$2:$G$60,3,FALSE)))","v":""},{"$f":"IF($A17=\"\",\"\",IF(VLOOKUP($A17,Competitors!$A$2:$G$60,4,FALSE)=\"\",\"\",VLOOKUP($A17,Competitors!$A$2:$G$60,4,FALSE)))","v":""},{"$f":"IF(VLOOKUP(A17,Competitors!$A$1:$H$41,8,FALSE)=\"\",\"\",VLOOKUP(A17,Competitors!$A$1:$H$41,8,FALSE))","v":""},{"$f":"IF(IFERROR(VLOOKUP(($B$2&\"_\"&$A17),'Time Entry Sheet'!$A$3:$I$499,9,0),\"Error\")=\"Error\",\"\",IF(VLOOKUP(($B$2&\"_\"&$A17),'Time Entry Sheet'!$A$3:$I$499,9,FALSE)=\"wd\",\"wd\",VLOOKUP(($B$2&\"_\"&$A17),'Time Entry Sheet'!$A$3:$I$499,9,FALSE)*1))","v":"00:01:01.760"},"00:01:01.760",{"$f":"IF(IFERROR(VLOOKUP(($B$2&\"_\"&$A17),'Time Entry Sheet'!$A$3:$I$499,8,FALSE),\"Error\")=\"Error\",\"\",IF(VLOOKUP(($B$2&\"_\"&$A17),'Time Entry Sheet'!$A$3:$I$499,8,FALSE)=\"\",\"\",VLOOKUP(($B$2&\"_\"&$A17),'Time Entry Sheet'!$A$3:$I$499,8,FALSE)))","v":""},{"$f":"IF(IFERROR(VLOOKUP(($B$2&\"_\"&$A17),'Time Entry Sheet'!$A$3:$I$499,7,FALSE),\"Error\")=\"Error\",\"\",IF(VLOOKUP(($B$2&\"_\"&$A17),'Time Entry Sheet'!$A$3:$I$499,7,FALSE)=\"\",\"\",VLOOKUP(($B$2&\"_\"&$A17),'Time Entry Sheet'!$A$3:$I$499,7,FALSE)))","v":""},"00:01:01.760","00:01:01.760",9,{"$f":"IF(A17=\"\",\"\",M17+VLOOKUP(A17,'Test 11'!$A$12:$Q$51,16,FALSE))","v":"00:12:50.350"},16,null,"","00:12:50.350"]
[7,{"$f":"IF($A18=\"\",\"\",IF(VLOOKUP($A18,Competitors!$A$2:$G$60,2,FALSE)=\"\",\"\",VLOOKUP($A18,Competitors!$A$2:$G$60,2,FALSE)))","v":""},{"$f":"IF($A18=\"\",\"\",IF(VLOOKUP($A18,Competitors!$A$2:$G$60,7,FALSE)=\"\",\"\",VLOOKUP($A18,Competitors!$A$2:$G$60,7,FALSE)))","v":""},{"$f":"IF($A18=\"\",\"\",IF(VLOOKUP($A18,Competitors!$A$2:$G$60,5,FALSE)=\"\",\"\",VLOOKUP($A18,Competitors!$A$2:$G$60,5,FALSE)))","v":""},{"$f":"IF($A18=\"\",\"\",IF(VLOOKUP($A18,Competitors!$A$2:$G$60,6,FALSE)=\"\",\"\",VLOOKUP($A18,Competitors!$A$2:$G$60,6,FALSE)))","v":"senior"},{"$f":"IF($A18=\"\",\"\",IF(VLOOKUP($A18,Competitors!$A$2:$G$60,3,FALSE)=\"\",\"\",VLOOKUP($A18,Competitors!$A$2:$G$60,3,FALSE)))","v":""},{"$f":"IF($A18=\"\",\"\",IF(VLOOKUP($A18,Competitors!$A$2:$G$60,4,FALSE)=\"\",\"\",VLOOKUP($A18,Competitors!$A$2:$G$60,4,FALSE)))","v":""},{"$f":"IF(VLOOKUP(A18,Competitors!$A$1:$H$41,8,FALSE)=\"\",\"\",VLOOKUP(A18,Competitors!$A$1:$H$41,8,FALSE))","v":""},{"$f":"IF(IFERROR(VLOOKUP(($B$2&\"_\"&$A18),'Time Entry Sheet'!$A$3:$I$499,9,0),\"Error\")=\"Error\",\"\",IF(VLOOKUP(($B$2&\"_\"&$A18),'Time Entry Sheet'!$A$3:$I$499,9,FALSE)=\"wd\",\"wd\",VLOOKUP(($B$2&\"_\"&$A18),'Time Entry Sheet'!$A$3:$I$499,9,FALSE)*1))","v":""},"",{"$f":"IF(IFERROR(VLOOKUP(($B$2&\"_\"&$A18),'Time Entry Sheet'!$A$3:$I$499,8,FALSE),\"Error\")=\"Error\",\"\",IF(VLOOKUP(($B$2&\"_\"&$A18),'Time Entry Sheet'!$A$3:$I$499,8,FALSE)=\"\",\"\",VLOOKUP(($B$2&\"_\"&$A18),'Time Entry Sheet'!$A$3:$I$499,8,FALSE)))","v":""},{"$f":"IF(IFERROR(VLOOKUP(($B$2&\"_\"&$A18),'Time Entry Sheet'!$A$3:$I$499,7,FALSE),\"Error\")=\"Error\",\"\",IF(VLOOKUP(($B$2&\"_\"&$A18),'Time Entry Sheet'!$A$3:$I$499,7,FALSE)=\"\",\"\",VLOOKUP(($B$2&\"_\"&$A18),'Time Entry Sheet'!$A$3:$I$499,7,FALSE)))","v":""},"00:01:16.190","00:01:16.190",19,{"$f":"IF(A18=\"\",\"\",M18+VLOOKUP(A18,'Test 11'!$A$12:$Q$51,16,FALSE))","v":"00:15:42.230"},20,null,"","00:15:42.230"]
[8,{"$f":"IF($A19=\"\",\"\",IF(VLOOKUP($A19,Competitors!$A$2:$G$60,2,FALSE)=\"\",\"\",VLOOKUP($A19,Competitors!$A$2:$G$60,2,FALSE)))","v":"Jim Taylor"},{"$f":"IF($A19=\"\",\"\",IF(VLOOKUP($A19,Competitors!$A$2:$G$60,7,FALSE)=\"\",\"\",VLOOKUP($A19,Competitors!$A$2:$G$60,7,FALSE)))","v":""},{"$f":"IF($A19=\"\",\"\",IF(VLOOKUP($A19,Competitors!$A$2:$G$60,5,FALSE)=\"\",\"\",VLOOKUP($A19,Competitors!$A$2:$G$60,5,FALSE)))","v":""},{"$f":"IF($A19=\"\",\"\",IF(VLOOKUP($A19,Competitors!$A$2:$G$60,6,FALSE)=\"\",\"\",VLOOKUP($A19,Competitors!$A$2:$G$60,6,FALSE)))","v":"senior"},{"$f":"IF($A19=\"\",\"\",IF(VLOOKUP($A19,Competitors!$A$2:$G$60,3,FALSE)=\"\",\"\",VLOOKUP($A19,Competitors!$A$2:$G$60,3,FALSE)))","v":""},{"$f":"IF($A19=\"\",\"\",IF(VLOOKUP($A19,Competitors!$A$2:$G$60,4,FALSE)=\"\",\"\",VLOOKUP($A19,Competitors!$A$2:$G$60,4,FALSE)))","v":""},{"$f":"IF(VLOOKUP(A19,Competitors!$A$1:$H$41,8,FALSE)=\"\",\"\",VLOOKUP(A19,Competitors!$A$1:$H$41,8,FALSE))","v":""},{"$f":"IF(IFERROR(VLOOKUP(($B$2&\"_\"&$A19),'Time Entry Sheet'!$A$3:$I$499,9,0),\"Error\")=\"Error\",\"\",IF(VLOOKUP(($B$2&\"_\"&$A19),'Time Entry Sheet'!$A$3:$I$499,9,FALSE)=\"wd\",\"wd\",VLOOKUP(($B$2&\"_\"&$A19),'Time Entry Sheet'!$A$3:$I$499,9,FALSE)*1))","v":"wd"},"",{"$f":"IF(IFERROR(VLOOKUP(($B$2&\"_\"&$A19),'Time Entry Sheet'!$A$3:$I$499,8,FALSE),\"Error\")=\"Error\",\"\",IF(VLOOKUP(($B$2&\"_\"&$A19),'Time Entry Sheet'!$A$3:$I$499,8,FALSE)=\"\",\"\",VLOOKUP(($B$2&\"_\"&$A19),'Time Entry Sheet'!$A$3:$I$499,8,FALSE)))","v":""},{"$f":"IF(IFERROR(VLOOKUP(($B$2&\"_\"&$A19),'Time Entry Sheet'!$A$3:$I$499,7,FALSE),\"Error\")=\"Error\",\"\",IF(VLOOKUP(($B$2&\"_\"&$A19),'Time Entry Sheet'!$A$3:$I$499,7,FALSE)=\"\",\"\",VLOOKUP(($B$2&\"_\"&$A19),'Time Entry Sheet'!$A$3:$I$499,7,FALSE)))","v":"Wrong direction, any procedure other than that specified as the correct procedure for completing that course "},"00:01:11.190","00:01:11.190",13,{"$f":"IF(A19=\"\",\"\",M19+VLOOKUP(A19,'Test 11'!$A$12:$Q$51,16,FALSE))","v":"00:12:07.470"},13,null,"","00:12:07.470"]
[9,{"$f":"IF($A20=\"\",\"\",IF(VLOOKUP($A20,Competitors!$A$2:$G$60,2,FALSE)=\"\",\"\",VLOOKUP($A20,Competitors!$A$2:$G$60,2,FALSE)))","v":"Brad Firman"},{"$f":"IF($A20=\"\",\"\",IF(VLOOKUP($A20,Competitors!$A$2:$G$60,7,FALSE)=\"\",\"\",VLOOKUP($A20,Competitors!$A$2:$G$60,7,FALSE)))","v":""},{"$f":"IF($A20=\"\",\"\",IF(VLOOKUP($A20,Competitors!$A$2:$G$60,5,FALSE)=\"\",\"\",VLOOKUP($A20,Competitors!$A$2:$G$60,5,FALSE)))","v":""},{"$f":"IF($A20=\"\",\"\",IF(VLOOKUP($A20,Competitors!$A$2:$G$60,6,FALSE)=\"\",\"\",VLOOKUP($A20,Competitors!$A$2:$G$60,6,FALSE)))","v":"senior"},{"$f":"IF($A20=\"\",\"\",IF(VLOOKUP($A20,Competitors!$A$2:$G$60,3,FALSE)=\"\",\"\",VLOOKUP($A20,Competitors!$A$2:$G$60,3,FALSE)))","v":""},{"$f":"IF($A20=\"\",\"\",IF(VLOOKUP($A20,Competitors!$A$2:$G$60,4,FALSE)=\"\",\"\",VLOOKUP($A20,Competitors!$A$2:$G$60,4,FALSE)))","v":""},{"$f":"IF(VLOOKUP(A20,Competitors!$A$1:$H$41,8,FALSE)=\"\",\"\",VLOOKUP(A20,Competitors!$A$1:$H$41,8,FALSE))","v":""},{"$f":"IF(IFERROR(VLOOKUP(($B$2&\"_\"&$A20),'Time Entry Sheet'!$A$3:$I$499,9,0),\"Error\")=\"Error\",\"\",IF(VLOOKUP(($B$2&\"_\"&$A20),'Time Entry Sheet'!$A$3:$I$499,9,FALSE)=\"wd\",\"wd\",VLOOKUP(($B$2&\"_\"&$A20),'Time Entry Sheet'!$A$3:$I$499,9,FALSE)*1))","v":"00:00:54.900"},"00:00:54.900",{"$f":"IF(IFERROR(VLOOKUP(($B$2&\"_\"&$A20),'Time Entry Sheet'!$A$3:$I$499,8,FALSE),\"Error\")=\"Error\",\"\",IF(VLOOKUP(($B$2&\"_\"&$A20),'Time Entry Sheet'!$A$3:$I$499,8,FALSE)=\"\",\"\",VLOOKUP(($B$2&\"_\"&$A20),'Time Entry Sheet'!$A$3:$I$499,8,FALSE)))","v":""},{"$f":"IF(IFERROR(VLOOKUP(($B$2&\"_\"&$A20),'Time Entry Sheet'!$A$3:$I$499,7,FALSE),\"Error\")=\"Error\",\"\",IF(VLOOKUP(($B$2&\"_\"&$A20),'Time Entry Sheet'!$A$3:$I$499,7,FALSE)=\"\",\"\",VLOOKUP(($B$2&\"_\"&$A20),'Time Entry Sheet'!$A$3:$I$499,7,FALSE)))","v":""},"00:00:54.900","00:00:54.900",2,{"$f":"IF(A20=\"\",\"\",M20+VLOOKUP(A20,'Test 11'!$A$12:$Q$51,16,FALSE))","v":"00:10:40.270"},3,null,"","00:10:40.270"]
[10,{"$f":"IF($A21=\"\",\"\",IF(VLOOKUP($A21,Competitors!$A$2:$G$60,2,FALSE)=\"\",\"\",VLOOKUP($A21,Competitors!$A$2:$G$60,2,FALSE)))","v":"Scott Taylor"},{"$f":"IF($A21=\"\",\"\",IF(VLOOKUP($A21,Competitors!$A$2:$G$60,7,FALSE)=\"\",\"\",VLOOKUP($A21,Competitors!$A$2:$G$60,7,FALSE)))","v":""},{"$f":"IF($A21=\"\",\"\",IF(VLOOKUP($A21,Competitors!$A$2:$G$60,5,FALSE)=\"\",\"\",VLOOKUP($A21,Competitors!$A$2:$G$60,5,FALSE)))","v":""},{"$f":"IF($A21=\"\",\"\",IF(VLOOKUP($A21,Competitors!$A$2:$G$60,6,FALSE)=\"\",\"\",VLOOKUP($A21,Competitors!$A$2:$G$60,6,FALSE)))","v":"senior"},{"$f":"IF($A21=\"\",\"\",IF(VLOOKUP($A21,Competitors!$A$2:$G$60,3,FALSE)=\"\",\"\",VLOOKUP($A21,Competitors!$A$2:$G$60,3,FALSE)))","v":""},{"$f":"IF($A21=\"\",\"\",IF(VLOOKUP($A21,Competitors!$A$2:$G$60,4,FALSE)=\"\",\"\",VLOOKUP($A21,Competitors!$A$2:$G$60,4,FALSE)))","v":""},{"$f":"IF(VLOOKUP(A21,Competitors!$A$1:$H$41,8,FALSE)=\"\",\"\",VLOOKUP(A21,Competitors!$A$1:$H$41,8,FALSE))","v":""},{"$f":"IF(IFERROR(VLOOKUP(($B$2&\"_\"&$A21),'Time Entry Sheet'!$A$3:$I$499,9,0),\"Error\")=\"Error\",\"\",IF(VLOOKUP(($B$2&\"_\"&$A21),'Time Entry Sheet'!$A$3:$I$499,9,FALSE)=\"wd\",\"wd\",VLOOKUP(($B$2&\"_\"&$A21),'Time Entry Sheet'!$A$3:$I$499,9,FALSE)*1))","v":"00:01:00.170"},"00:01:00.170",{"$f":"IF(IFERROR(VLOOKUP(($B$2&\"_\"&$A21),'Time Entry Sheet'!$A$3:$I$499,8,FALSE),\"Error\")=\"Error\",\"\",IF(VLOOKUP(($B$2&\"_\"&$A21),'Time Entry Sheet'!$A$3:$I$499,8,FALSE)=\"\",\"\",VLOOKUP(($B$2&\"_\"&$A21),'Time Entry Sheet'!$A$3:$I$499,8,FALSE)))","v":""},{"$f":"IF(IFERROR(VLOOKUP(($B$2&\"_\"&$A21),'Time Entry Sheet'!$A$3:$I$499,7,FALSE),\"Error\")=\"Error\",\"\",IF(VLOOKUP(($B$2&\"_\"&$A21),'Time Entry Sheet'!$A$3:$I$499,7,FALSE)=\"\",\"\",VLOOKUP(($B$2&\"_\"&$A21),'Time Entry Sheet'!$A$3:$I$499,7,FALSE)))","v":""},"00:01:00.170","00:01:00.170",8,{"$f":"IF(A21=\"\",\"\",M21+VLOOKUP(A21,'Test 11'!$A$12:$Q$51,16,FALSE))","v":"00:12:05.120"},11,null,"","00:12:05.120"]
[11,{"$f":"IF($A22=\"\",\"\",IF(VLOOKUP($A22,Competitors!$A$2:$G$60,2,FALSE)=\"\",\"\",VLOOKUP($A22,Competitors!$A$2:$G$60,2,FALSE)))","v":"Russel McKinley"},{"$f":"IF($A22=\"\",\"\",IF(VLOOKUP($A22,Competitors!$A$2:$G$60,7,FALSE)=\"\",\"\",VLOOKUP($A22,Competitors!$A$2:$G$60,7,FALSE)))","v":""},{"$f":"IF($A22=\"\",\"\",IF(VLOOKUP($A22,Competitors!$A$2:$G$60,5,FALSE)=\"\",\"\",VLOOKUP($A22,Competitors!$A$2:$G$60,5,FALSE)))","v":""},{"$f":"IF($A22=\"\",\"\",IF(VLOOKUP($A22,Competitors!$A$2:$G$60,6,FALSE)=\"\",\"\",VLOOKUP($A22,Competitors!$A$2:$G$60,6,FALSE)))","v":"senior"},{"$f":"IF($A22=\"\",\"\",IF(VLOOKUP($A22,Competitors!$A$2:$G$60,3,FALSE)=\"\",\"\",VLOOKUP($A22,Competitors!$A$2:$G$60,3,FALSE)))","v":""},{"$f":"IF($A22=\"\",\"\",IF(VLOOKUP($A22,Competitors!$A$2:$G$60,4,FALSE)=\"\",\"\",VLOOKUP($A22,Competitors!$A$2:$G$60,4,FALSE)))","v":""},{"$f":"IF(VLOOKUP(A22,Competitors!$A$1:$H$41,8,FALSE)=\"\",\"\",VLOOKUP(A22,Competitors!$A$1:$H$41,8,FALSE))","v":""},{"$f":"IF(IFERROR(VLOOKUP(($B$2&\"_\"&$A22),'Time Entry Sheet'!$A$3:$I$499,9,0),\"Error\")=\"Error\",\"\",IF(VLOOKUP(($B$2&\"_\"&$A22),'Time Entry Sheet'!$A$3:$I$499,9,FALSE)=\"wd\",\"wd\",VLOOKUP(($B$2&\"_\"&$A22),'Time Entry Sheet'!$A$3:$I$499,9,FALSE)*1))","v":""},"",{"$f":"IF(IFERROR(VLOOKUP(($B$2&\"_\"&$A22),'Time Entry Sheet'!$A$3:$I$499,8,FALSE),\"Error\")=\"Error\",\"\",IF(VLOOKUP(($B$2&\"_\"&$A22),'Time Entry Sheet'!$A$3:$I$499,8,FALSE)=\"\",\"\",VLOOKUP(($B$2&\"_\"&$A22),'Time Entry Sheet'!$A$3:$I$499,8,FALSE)))","v":""},{"$f":"IF(IFERROR(VLOOKUP(($B$2&\"_\"&$A22),'Time Entry Sheet'!$A$3:$I$499,7,FALSE),\"Error\")=\"Error\",\"\",IF(VLOOKUP(($B$2&\"_\"&$A22),'Time Entry Sheet'!$A$3:$I$499,7,FALSE)=\"\",\"\",VLOOKUP(($B$2&\"_\"&$A22),'Time Entry Sheet'!$A$3:$I$499,7,FALSE)))","v":""},"00:01:16.190","00:01:16.190",19,{"$f":"IF(A22=\"\",\"\",M22+VLOOKUP(A22,'Test 11'!$A$12:$Q$51,16,FALSE))","v":"00:13:25.150"},19,null,"","00:13:25.150"]
[12,{"$f":"IF($A23=\"\",\"\",IF(VLOOKUP($A23,Competitors!$A$2:$G$60,2,FALSE)=\"\",\"\",VLOOKUP($A23,Competitors!$A$2:$G$60,2,FALSE)))","v":"Mat Boorman"},{"$f":"IF($A23=\"\",\"\",IF(VLOOKUP($A23,Competitors!$A$2:$G$60,7,FALSE)=\"\",\"\",VLOOKUP($A23,Competitors!$A$2:$G$60,7,FALSE)))","v":""},{"$f":"IF($A23=\"\",\"\",IF(VLOOKUP($A23,Competitors!$A$2:$G$60,5,FALSE)=\"\",\"\",VLOOKUP($A23,Competitors!$A$2:$G$60,5,FALSE)))","v":""},{"$f":"IF($A23=\"\",\"\",IF(VLOOKUP($A23,Competitors!$A$2:$G$60,6,FALSE)=\"\",\"\",VLOOKUP($A23,Competitors!$A$2:$G$60,6,FALSE)))","v":"senior"},{"$f":"IF($A23=\"\",\"\",IF(VLOOKUP($A23,Competitors!$A$2:$G$60,3,FALSE)=\"\",\"\",VLOOKUP($A23,Competitors!$A$2:$G$60,3,FALSE)))","v":""},{"$f":"IF($A23=\"\",\"\",IF(VLOOKUP($A23,Competitors!$A$2:$G$60,4,FALSE)=\"\",\"\",VLOOKUP($A23,Competitors!$A$2:$G$60,4,FALSE)))","v":""},{"$f":"IF(VLOOKUP(A23,Competitors!$A$1:$H$41,8,FALSE)=\"\",\"\",VLOOKUP(A23,Competitors!$A$1:$H$41,8,FALSE))","v":""},{"$f":"IF(IFERROR(VLOOKUP(($B$2&\"_\"&$A23),'Time Entry Sheet'!$A$3:$I$499,9,0),\"Error\")=\"Error\",\"\",IF(VLOOKUP(($B$2&\"_\"&$A23),'Time Entry Sheet'!$A$3:$I$499,9,FALSE)=\"wd\",\"wd\",VLOOKUP(($B$2&\"_\"&$A23),'Time Entry Sheet'!$A$3:$I$499,9,FALSE)*1))","v":"00:01:04.880"},"00:01:04.880",{"$f":"IF(IFERROR(VLOOKUP(($B$2&\"_\"&$A23),'Time Entry Sheet'!$A$3:$I$499,8,FALSE),\"Error\")=\"Error\",\"\",IF(VLOOKUP(($B$2&\"_\"&$A23),'Time Entry Sheet'!$A$3:$I$499,8,FALSE)=\"\",\"\",VLOOKUP(($B$2&\"_\"&$A23),'Time Entry Sheet'!$A$3:$I$499,8,FALSE)))","v":""},{"$f":"IF(IFERROR(VLOOKUP(($B$2&\"_\"&$A23),'Time Entry Sheet'!$A$3:$I$499,7,FALSE),\"Error\")=\"Error\",\"\",IF(VLOOKUP(($B$2&\"_\"&$A23),'Time Entry Sheet'!$A$3:$I$499,7,FALSE)=\"\",\"\",VLOOKUP(($B$2&\"_\"&$A23),'Time Entry Sheet'!$A$3:$I$499,7,FALSE)))","v":""},"00:01:04.880","00:01:04.880",10,{"$f":"IF(A23=\"\",\"\",M23+VLOOKUP(A23,'Test 11'!$A$12:$Q$51,16,FALSE))","v":"00:12:37.280"},15,null,"","00:12:37.280"]
[13,{"$f":"IF($A24=\"\",\"\",IF(VLOOKUP($A24,Competitors!$A$2:$G$60,2,FALSE)=\"\",\"\",VLOOKUP($A24,Competitors!$A$2:$G$60,2,FALSE)))","v":"Aaron Wishart"},{"$f":"IF($A24=\"\",\"\",IF(VLOOKUP($A24,Competitors!$A$2:$G$60,7,FALSE)=\"\",\"\",VLOOKUP($A24,Competitors!$A$2:$G$60,7,FALSE)))","v":""},{"$f":"IF($A24=\"\",\"\",IF(VLOOKUP($A24,Competitors!$A$2:$G$60,5,FALSE)=\"\",\"\",VLOOKUP($A24,Competitors!$A$2:$G$60,5,FALSE)))","v":""},{"$f":"IF($A24=\"\",\"\",IF(VLOOKUP($A24,Competitors!$A$2:$G$60,6,FALSE)=\"\",\"\",VLOOKUP($A24,Competitors!$A$2:$G$60,6,FALSE)))","v":"senior"},{"$f":"IF($A24=\"\",\"\",IF(VLOOKUP($A24,Competitors!$A$2:$G$60,3,FALSE)=\"\",\"\",VLOOKUP($A24,Competitors!$A$2:$G$60,3,FALSE)))","v":""},{"$f":"IF($A24=\"\",\"\",IF(VLOOKUP($A24,Competitors!$A$2:$G$60,4,FALSE)=\"\",\"\",VLOOKUP($A24,Competitors!$A$2:$G$60,4,FALSE)))","v":""},{"$f":"IF(VLOOKUP(A24,Competitors!$A$1:$H$41,8,FALSE)=\"\",\"\",VLOOKUP(A24,Competitors!$A$1:$H$41,8,FALSE))","v":""},{"$f":"IF(IFERROR(VLOOKUP(($B$2&\"_\"&$A24),'Time Entry Sheet'!$A$3:$I$499,9,0),\"Error\")=\"Error\",\"\",IF(VLOOKUP(($B$2&\"_\"&$A24),'Time Entry Sheet'!$A$3:$I$499,9,FALSE)=\"wd\",\"wd\",VLOOKUP(($B$2&\"_\"&$A24),'Time Entry Sheet'!$A$3:$I$499,9,FALSE)*1))","v":"00:00:57.400"},"00:00:57.400",{"$f":"IF(IFERROR(VLOOKUP(($B$2&\"_\"&$A24),'Time Entry Sheet'!$A$3:$I$499,8,FALSE),\"Error\")=\"Error\",\"\",IF(VLOOKUP(($B$2&\"_\"&$A24),'Time Entry Sheet'!$A$3:$I$499,8,FALSE)=\"\",\"\",VLOOKUP(($B$2&\"_\"&$A24),'Time Entry Sheet'!$A$3:$I$499,8,FALSE)))","v":""},{"$f":"IF(IFERROR(VLOOKUP(($B$2&\"_\"&$A24),'Time Entry Sheet'!$A$3:$I$499,7,FALSE),\"Error\")=\"Error\",\"\",IF(VLOOKUP(($B$2&\"_\"&$A24),'Time Entry Sheet'!$A$3:$I$499,7,FALSE)=\"\",\"\",VLOOKUP(($B$2&\"_\"&$A24),'Time Entry Sheet'!$A$3:$I$499,7,FALSE)))","v":""},"00:00:57.400","00:00:57.400",5,{"$f":"IF(A24=\"\",\"\",M24+VLOOKUP(A24,'Test 11'!$A$12:$Q$51,16,FALSE))","v":"00:12:27.920"},14,null,"","00:12:27.920"]
[14,{"$f":"IF($A25=\"\",\"\",IF(VLOOKUP($A25,Competitors!$A$2:$G$60,2,FALSE)=\"\",\"\",VLOOKUP($A25,Competitors!$A$2:$G$60,2,FALSE)))","v":"Bob Fulthorpe"},{"$f":"IF($A25=\"\",\"\",IF(VLOOKUP($A25,Competitors!$A$2:$G$60,7,FALSE)=\"\",\"\",VLOOKUP($A25,Competitors!$A$2:$G$60,7,FALSE)))","v":""},{"$f":"IF($A25=\"\",\"\",IF(VLOOKUP($A25,Competitors!$A$2:$G$60,5,FALSE)=\"\",\"\",VLOOKUP($A25,Competitors!$A$2:$G$60,5,FALSE)))","v":""},{"$f":"IF($A25=\"\",\"\",IF(VLOOKUP($A25,Competitors!$A$2:$G$60,6,FALSE)=\"\",\"\",VLOOKUP($A25,Competitors!$A$2:$G$60,6,FALSE)))","v":"senior"},{"$f":"IF($A25=\"\",\"\",IF(VLOOKUP($A25,Competitors!$A$2:$G$60,3,FALSE)=\"\",\"\",VLOOKUP($A25,Competitors!$A$2:$G$60,3,FALSE)))","v":""},{"$f":"IF($A25=\"\",\"\",IF(VLOOKUP($A25,Competitors!$A$2:$G$60,4,FALSE)=\"\",\"\",VLOOKUP($A25,Competitors!$A$2:$G$60,4,FALSE)))","v":""},{"$f":"IF(VLOOKUP(A25,Competitors!$A$1:$H$41,8,FALSE)=\"\",\"\",VLOOKUP(A25,Competitors!$A$1:$H$41,8,FALSE))","v":""},{"$f":"IF(IFERROR(VLOOKUP(($B$2&\"_\"&$A25),'Time Entry Sheet'!$A$3:$I$499,9,0),\"Error\")=\"Error\",\"\",IF(VLOOKUP(($B$2&\"_\"&$A25),'Time Entry Sheet'!$A$3:$I$499,9,FALSE)=\"wd\",\"wd\",VLOOKUP(($B$2&\"_\"&$A25),'Time Entry Sheet'!$A$3:$I$499,9,FALSE)*1))","v":"00:00:57.500"},"00:00:57.500",{"$f":"IF(IFERROR(VLOOKUP(($B$2&\"_\"&$A25),'Time Entry Sheet'!$A$3:$I$499,8,FALSE),\"Error\")=\"Error\",\"\",IF(VLOOKUP(($B$2&\"_\"&$A25),'Time Entry Sheet'!$A$3:$I$499,8,FALSE)=\"\",\"\",VLOOKUP(($B$2&\"_\"&$A25),'Time Entry Sheet'!$A$3:$I$499,8,FALSE)))","v":""},{"$f":"IF(IFERROR(VLOOKUP(($B$2&\"_\"&$A25),'Time Entry Sheet'!$A$3:$I$499,7,FALSE),\"Error\")=\"Error\",\"\",IF(VLOOKUP(($B$2&\"_\"&$A25),'Time Entry Sheet'!$A$3:$I$499,7,FALSE)=\"\",\"\",VLOOKUP(($B$2&\"_\"&$A25),'Time Entry Sheet'!$A$3:$I$499,7,FALSE)))","v":""},"00:00:57.500","00:00:57.500",6,{"$f":"IF(A25=\"\",\"\",M25+VLOOKUP(A25,'Test 11'!$A$12:$Q$51,16,FALSE))","v":"00:10:57.350"},5,null,"","00:10:57.350"]
[15,{"$f":"IF($A26=\"\",\"\",IF(VLOOKUP($A26,Competitors!$A$2:$G$60,2,FALSE)=\"\",\"\",VLOOKUP($A26,Competitors!$A$2:$G$60,2,FALSE)))","v":"Khi Fulthorpe"},{"$f":"IF($A26=\"\",\"\",IF(VLOOKUP($A26,Competitors!$A$2:$G$60,7,FALSE)=\"\",\"\",VLOOKUP($A26,Competitors!$A$2:$G$60,7,FALSE)))","v":""},{"$f":"IF($A26=\"\",\"\",IF(VLOOKUP($A26,Competitors!$A$2:$G$60,5,FALSE)=\"\",\"\",VLOOKUP($A26,Competitors!$A$2:$G$60,5,FALSE)))","v":""},{"$f":"IF($A26=\"\",\"\",IF(VLOOKUP($A26,Competitors!$A$2:$G$60,6,FALSE)=\"\",\"\",VLOOKUP($A26,Competitors!$A$2:$G$60,6,FALSE)))","v":"senior"},{"$f":"IF($A26=\"\",\"\",IF(VLOOKUP($A26,Competitors!$A$2:$G$60,3,FALSE)=\"\",\"\",VLOOKUP($A26,Competitors!$A$2:$G$60,3,FALSE)))","v":""},{"$f":"IF($A26=\"\",\"\",IF(VLOOKUP($A26,Competitors!$A$2:$G$60,4,FALSE)=\"\",\"\",VLOOKUP($A26,Competitors!$A$2:$G$60,4,FALSE)))","v":""},{"$f":"IF(VLOOKUP(A26,Competitors!$A$1:$H$41,8,FALSE)=\"\",\"\",VLOOKUP(A26,Competitors!$A$1:$H$41,8,FALSE))","v":""},{"$f":"IF(IFERROR(VLOOKUP(($B$2&\"_\"&$A26),'Time Entry Sheet'!$A$3:$I$499,9,0),\"Error\")=\"Error\",\"\",IF(VLOOKUP(($B$2&\"_\"&$A26),'Time Entry Sheet'!$A$3:$I$499,9,FALSE)=\"wd\",\"wd\",VLOOKUP(($B$2&\"_\"&$A26),'Time Entry Sheet'!$A$3:$I$499,9,FALSE)*1))","v":"wd"},"",{"$f":"IF(IFERROR(VLOOKUP(($B$2&\"_\"&$A26),'Time Entry Sheet'!$A$3:$I$499,8,FALSE),\"Error\")=\"Error\",\"\",IF(VLOOKUP(($B$2&\"_\"&$A26),'Time Entry Sheet'!$A$3:$I$499,8,FALSE)=\"\",\"\",VLOOKUP(($B$2&\"_\"&$A26),'Time Entry Sheet'!$A$3:$I$499,8,FALSE)))","v":""},{"$f":"IF(IFERROR(VLOOKUP(($B$2&\"_\"&$A26),'Time Entry Sheet'!$A$3:$I$499,7,FALSE),\"Error\")=\"Error\",\"\",IF(VLOOKUP(($B$2&\"_\"&$A26),'Time Entry Sheet'!$A$3:$I$499,7,FALSE)=\"\",\"\",VLOOKUP(($B$2&\"_\"&$A26),'Time Entry Sheet'!$A$3:$I$499,7,FALSE)))","v":"Wrong direction, any procedure other than that specified as the correct procedure for completing that course "},"00:01:11.190","00:01:11.190",13,{"$f":"IF(A26=\"\",\"\",M26+VLOOKUP(A26,'Test 11'!$A$12:$Q$51,16,FALSE))","v":"00:11:57.250"},10,null,"","00:11:57.250"]
[16,{"$f":"IF($A27=\"\",\"\",IF(VLOOKUP($A27,Competitors!$A$2:$G$60,2,FALSE)=\"\",\"\",VLOOKUP($A27,Competitors!$A$2:$G$60,2,FALSE)))","v":"Nathan Senior"},{"$f":"IF($A27=\"\",\"\",IF(VLOOKUP($A27,Competitors!$A$2:$G$60,7,FALSE)=\"\",\"\",VLOOKUP($A27,Competitors!$A$2:$G$60,7,FALSE)))","v":""},{"$f":"IF($A27=\"\",\"\",IF(VLOOKUP($A27,Competitors!$A$2:$G$60,5,FALSE)=\"\",\"\",VLOOKUP($A27,Competitors!$A$2:$G$60,5,FALSE)))","v":""},{"$f":"IF($A27=\"\",\"\",IF(VLOOKUP($A27,Competitors!$A$2:$G$60,6,FALSE)=\"\",\"\",VLOOKUP($A27,Competitors!$A$2:$G$60,6,FALSE)))","v":"senior"},{"$f":"IF($A27=\"\",\"\",IF(VLOOKUP($A27,Competitors!$A$2:$G$60,3,FALSE)=\"\",\"\",VLOOKUP($A27,Competitors!$A$2:$G$60,3,FALSE)))","v":""},{"$f":"IF($A27=\"\",\"\",IF(VLOOKUP($A27,Competitors!$A$2:$G$60,4,FALSE)=\"\",\"\",VLOOKUP($A27,Competitors!$A$2:$G$60,4,FALSE)))","v":""},{"$f":"IF(VLOOKUP(A27,Competitors!$A$1:$H$41,8,FALSE)=\"\",\"\",VLOOKUP(A27,Competitors!$A$1:$H$41,8,FALSE))","v":""},{"$f":"IF(IFERROR(VLOOKUP(($B$2&\"_\"&$A27),'Time Entry Sheet'!$A$3:$I$499,9,0),\"Error\")=\"Error\",\"\",IF(VLOOKUP(($B$2&\"_\"&$A27),'Time Entry Sheet'!$A$3:$I$499,9,FALSE)=\"wd\",\"wd\",VLOOKUP(($B$2&\"_\"&$A27),'Time Entry Sheet'!$A$3:$I$499,9,FALSE)*1))","v":"00:01:05.900"},"00:01:05.900",{"$f":"IF(IFERROR(VLOOKUP(($B$2&\"_\"&$A27),'Time Entry Sheet'!$A$3:$I$499,8,FALSE),\"Error\")=\"Error\",\"\",IF(VLOOKUP(($B$2&\"_\"&$A27),'Time Entry Sheet'!$A$3:$I$499,8,FALSE)=\"\",\"\",VLOOKUP(($B$2&\"_\"&$A27),'Time Entry Sheet'!$A$3:$I$499,8,FALSE)))","v":""},{"$f":"IF(IFERROR(VLOOKUP(($B$2&\"_\"&$A27),'Time Entry Sheet'!$A$3:$I$499,7,FALSE),\"Error\")=\"Error\",\"\",IF(VLOOKUP(($B$2&\"_\"&$A27),'Time Entry Sheet'!$A$3:$I$499,7,FALSE)=\"\",\"\",VLOOKUP(($B$2&\"_\"&$A27),'Time Entry Sheet'!$A$3:$I$499,7,FALSE)))","v":""},"00:01:05.900","00:01:05.900",11,{"$f":"IF(A27=\"\",\"\",M27+VLOOKUP(A27,'Test 11'!$A$12:$Q$51,16,FALSE))","v":"00:11:41.190"},7,null,"","00:11:41.190"]
[17,{"$f":"IF($A28=\"\",\"\",IF(VLOOKUP($A28,Competitors!$A$2:$G$60,2,FALSE)=\"\",\"\",VLOOKUP($A28,Competitors!$A$2:$G$60,2,FALSE)))","v":"Reece McIntosh"},{"$f":"IF($A28=\"\",\"\",IF(VLOOKUP($A28,Competitors!$A$2:$G$60,7,FALSE)=\"\",\"\",VLOOKUP($A28,Competitors!$A$2:$G$60,7,FALSE)))","v":""},{"$f":"IF($A28=\"\",\"\",IF(VLOOKUP($A28,Competitors!$A$2:$G$60,5,FALSE)=\"\",\"\",VLOOKUP($A28,Competitors!$A$2:$G$60,5,FALSE)))","v":""},{"$f":"IF($A28=\"\",\"\",IF(VLOOKUP($A28,Competitors!$A$2:$G$60,6,FALSE)=\"\",\"\",VLOOKUP($A28,Competitors!$A$2:$G$60,6,FALSE)))","v":"senior"},{"$f":"IF($A28=\"\",\"\",IF(VLOOKUP($A28,Competitors!$A$2:$G$60,3,FALSE)=\"\",\"\",VLOOKUP($A28,Competitors!$A$2:$G$60,3,FALSE)))","v":""},{"$f":"IF($A28=\"\",\"\",IF(VLOOKUP($A28,Competitors!$A$2:$G$60,4,FALSE)=\"\",\"\",VLOOKUP($A28,Competitors!$A$2:$G$60,4,FALSE)))","v":""},{"$f":"IF(VLOOKUP(A28,Competitors!$A$1:$H$41,8,FALSE)=\"\",\"\",VLOOKUP(A28,Competitors!$A$1:$H$41,8,FALSE))","v":""},{"$f":"IF(IFERROR(VLOOKUP(($B$2&\"_\"&$A28),'Time Entry Sheet'!$A$3:$I$499,9,0),\"Error\")=\"Error\",\"\",IF(VLOOKUP(($B$2&\"_\"&$A28),'Time Entry Sheet'!$A$3:$I$499,9,FALSE)=\"wd\",\"wd\",VLOOKUP(($B$2&\"_\"&$A28),'Time Entry Sheet'!$A$3:$I$499,9,FALSE)*1))","v":"00:00:55.080"},"00:00:55.080",{"$f":"IF(IFERROR(VLOOKUP(($B$2&\"_\"&$A28),'Time Entry Sheet'!$A$3:$I$499,8,FALSE),\"Error\")=\"Error\",\"\",IF(VLOOKUP(($B$2&\"_\"&$A28),'Time Entry Sheet'!$A$3:$I$499,8,FALSE)=\"\",\"\",VLOOKUP(($B$2&\"_\"&$A28),'Time Entry Sheet'!$A$3:$I$499,8,FALSE)))","v":""},{"$f":"IF(IFERROR(VLOOKUP(($B$2&\"_\"&$A28),'Time Entry Sheet'!$A$3:$I$499,7,FALSE),\"Error\")=\"Error\",\"\",IF(VLOOKUP(($B$2&\"_\"&$A28),'Time Entry Sheet'!$A$3:$I$499,7,FALSE)=\"\",\"\",VLOOKUP(($B$2&\"_\"&$A28),'Time Entry Sheet'!$A$3:$I$499,7,FALSE)))","v":""},"00:00:55.080","00:00:55.080",3,{"$f":"IF(A28=\"\",\"\",M28+VLOOKUP(A28,'Test 11'!$A$12:$Q$51,16,FALSE))","v":"00:10:20.300"},1,null,"","00:10:20.300"]
[18,{"$f":"IF($A29=\"\",\"\",IF(VLOOKUP($A29,Competitors!$A$2:$G$60,2,FALSE)=\"\",\"\",VLOOKUP($A29,Competitors!$A$2:$G$60,2,FALSE)))","v":"Jack Stanley"},{"$f":"IF($A29=\"\",\"\",IF(VLOOKUP($A29,Competitors!$A$2:$G$60,7,FALSE)=\"\",\"\",VLOOKUP($A29,Competitors!$A$2:$G$60,7,FALSE)))","v":"rookie"},{"$f":"IF($A29=\"\",\"\",IF(VLOOKUP($A29,Competitors!$A$2:$G$60,5,FALSE)=\"\",\"\",VLOOKUP($A29,Competitors!$A$2:$G$60,5,FALSE)))","v":""},{"$f":"IF($A29=\"\",\"\",IF(VLOOKUP($A29,Competitors!$A$2:$G$60,6,FALSE)=\"\",\"\",VLOOKUP($A29,Competitors!$A$2:$G$60,6,FALSE)))","v":"senior"},{"$f":"IF($A29=\"\",\"\",IF(VLOOKUP($A29,Competitors!$A$2:$G$60,3,FALSE)=\"\",\"\",VLOOKUP($A29,Competitors!$A$2:$G$60,3,FALSE)))","v":""},{"$f":"IF($A29=\"\",\"\",IF(VLOOKUP($A29,Competitors!$A$2:$G$60,4,FALSE)=\"\",\"\",VLOOKUP($A29,Competitors!$A$2:$G$60,4,FALSE)))","v":""},{"$f":"IF(VLOOKUP(A29,Competitors!$A$1:$H$41,8,FALSE)=\"\",\"\",VLOOKUP(A29,Competitors!$A$1:$H$41,8,FALSE))","v":""},{"$f":"IF(IFERROR(VLOOKUP(($B$2&\"_\"&$A29),'Time Entry Sheet'!$A$3:$I$499,9,0),\"Error\")=\"Error\",\"\",IF(VLOOKUP(($B$2&\"_\"&$A29),'Time Entry Sheet'!$A$3:$I$499,9,FALSE)=\"wd\",\"wd\",VLOOKUP(($B$2&\"_\"&$A29),'Time Entry Sheet'!$A$3:$I$499,9,FALSE)*1))","v":"wd"},{"$f":"IF(E29=\"Junior\",\"\",IF(I29=\"wd\",\"\",IF(K29<>\"\",\"\",I29)))","v":""},{"$f":"IF(IFERROR(VLOOKUP(($B$2&\"_\"&$A29),'Time Entry Sheet'!$A$3:$I$499,8,FALSE),\"Error\")=\"Error\",\"\",IF(VLOOKUP(($B$2&\"_\"&$A29),'Time Entry Sheet'!$A$3:$I$499,8,FALSE)=\"\",\"\",VLOOKUP(($B$2&\"_\"&$A29),'Time Entry Sheet'!$A$3:$I$499,8,FALSE)))","v":""},{"$f":"IF(IFERROR(VLOOKUP(($B$2&\"_\"&$A29),'Time Entry Sheet'!$A$3:$I$499,7,FALSE),\"Error\")=\"Error\",\"\",IF(VLOOKUP(($B$2&\"_\"&$A29),'Time Entry Sheet'!$A$3:$I$499,7,FALSE)=\"\",\"\",VLOOKUP(($B$2&\"_\"&$A29),'Time Entry Sheet'!$A$3:$I$499,7,FALSE)))","v":"Wrong direction, any procedure other than that specified as the correct procedure for completing that course "},{"$f":"IF(A29=\"\",\"\",IF(I29=\"wd\",IF(E29=\"Senior\",$B$7,$C$7),IF(L29<>\"\",$B$7,IF(I29=\"\",IF(E29=\"Senior\",$B$8,$C$8),IF(K29=\"\",I29,I29+($B$5*K29))))))","v":"00:01:11.190"},{"$f":"IF(H29=\"Passenger\",\"\",M29)","v":"00:01:11.190"},{"$f":"IF(A29=\"\",\"\",IF(H29=\"Passenger\",\"P\",RANK(N29,$N$12:$N$51,1)))","v":13},{"$f":"IF(A29=\"\",\"\",M29+VLOOKUP(A29,'Test 11'!$A$12:$Q$51,16,FALSE))","v":"00:13:09.100"},{"$f":"IF(A29=\"\",\"\",IF(H29=\"Passenger\",\"P\",RANK(T29,$T$12:$T$51,1)))","v":17},null,{"$f":"IF(E29=\"Senior\",\"\",IF(I29=\"wd\",\"\",IF(K29<>\"\",\"\",I29)))","v":""},{"$f":"IF(H29=\"Passenger\",\"\",P29)","v":"00:13:09.100"}]
[19,{"$f":"IF($A30=\"\",\"\",IF(VLOOKUP($A30,Competitors!$A$2:$G$60,2,FALSE)=\"\",\"\",VLOOKUP($A30,Competitors!$A$2:$G$60,2,FALSE)))","v":"Christopher Northey"},{"$f":"IF($A30=\"\",\"\",IF(VLOOKUP($A30,Competitors!$A$2:$G$60,7,FALSE)=\"\",\"\",VLOOKUP($A30,Competitors!$A$2:$G$60,7,FALSE)))","v":""},{"$f":"IF($A30=\"\",\"\",IF(VLOOKUP($A30,Competitors!$A$2:$G$60,5,FALSE)=\"\",\"\",VLOOKUP($A30,Competitors!$A$2:$G$60,5,FALSE)))","v":""},{"$f":"IF($A30=\"\",\"\",IF(VLOOKUP($A30,Competitors!$A$2:$G$60,6,FALSE)=\"\",\"\",VLOOKUP($A30,Competitors!$A$2:$G$60,6,FALSE)))","v":"senior"},{"$f":"IF($A30=\"\",\"\",IF(VLOOKUP($A30,Competitors!$A$2:$G$60,3,FALSE)=\"\",\"\",VLOOKUP($A30,Competitors!$A$2:$G$60,3,FALSE)))","v":""},{"$f":"IF($A30=\"\",\"\",IF(VLOOKUP($A30,Competitors!$A$2:$G$60,4,FALSE)=\"\",\"\",VLOOKUP($A30,Competitors!$A$2:$G$60,4,FALSE)))","v":""},{"$f":"IF(VLOOKUP(A30,Competitors!$A$1:$H$41,8,FALSE)=\"\",\"\",VLOOKUP(A30,Competitors!$A$1:$H$41,8,FALSE))","v":""},{"$f":"IF(IFERROR(VLOOKUP(($B$2&\"_\"&$A30),'Time Entry Sheet'!$A$3:$I$499,9,0),\"Error\")=\"Error\",\"\",IF(VLOOKUP(($B$2&\"_\"&$A30),'Time Entry Sheet'!$A$3:$I$499,9,FALSE)=\"wd\",\"wd\",VLOOKUP(($B$2&\"_\"&$A30),'Time Entry Sheet'!$A$3:$I$499,9,FALSE)*1))","v":"wd"},"",{"$f":"IF(IFERROR(VLOOKUP(($B$2&\"_\"&$A30),'Time Entry Sheet'!$A$3:$I$499,8,FALSE),\"Error\")=\"Error\",\"\",IF(VLOOKUP(($B$2&\"_\"&$A30),'Time Entry Sheet'!$A$3:$I$499,8,FALSE)=\"\",\"\",VLOOKUP(($B$2&\"_\"&$A30),'Time Entry Sheet'!$A$3:$I$499,8,FALSE)))","v":""},{"$f":"IF(IFERROR(VLOOKUP(($B$2&\"_\"&$A30),'Time Entry Sheet'!$A$3:$I$499,7,FALSE),\"Error\")=\"Error\",\"\",IF(VLOOKUP(($B$2&\"_\"&$A30),'Time Entry Sheet'!$A$3:$I$499,7,FALSE)=\"\",\"\",VLOOKUP(($B$2&\"_\"&$A30),'Time Entry Sheet'!$A$3:$I$499,7,FALSE)))","v":"Wrong direction, any procedure other than that specified as the correct procedure for completing that course "},"00:01:11.190","00:01:11.190",13,{"$f":"IF(A30=\"\",\"\",M30+VLOOKUP(A30,'Test 11'!$A$12:$Q$51,16,FALSE))","v":"00:11:51.920"},9,null,"","00:11:51.920"]
[20,{"$f":"IF($A31=\"\",\"\",IF(VLOOKUP($A31,Competitors!$A$2:$G$60,2,FALSE)=\"\",\"\",VLOOKUP($A31,Competitors!$A$2:$G$60,2,FALSE)))","v":"Ray Lampl"},{"$f":"IF($A31=\"\",\"\",IF(VLOOKUP($A31,Competitors!$A$2:$G$60,7,FALSE)=\"\",\"\",VLOOKUP($A31,Competitors!$A$2:$G$60,7,FALSE)))","v":""},{"$f":"IF($A31=\"\",\"\",IF(VLOOKUP($A31,Competitors!$A$2:$G$60,5,FALSE)=\"\",\"\",VLOOKUP($A31,Competitors!$A$2:$G$60,5,FALSE)))","v":""},{"$f":"IF($A31=\"\",\"\",IF(VLOOKUP($A31,Competitors!$A$2:$G$60,6,FALSE)=\"\",\"\",VLOOKUP($A31,Competitors!$A$2:$G$60,6,FALSE)))","v":"senior"},{"$f":"IF($A31=\"\",\"\",IF(VLOOKUP($A31,Competitors!$A$2:$G$60,3,FALSE)=\"\",\"\",VLOOKUP($A31,Competitors!$A$2:$G$60,3,FALSE)))","v":""},{"$f":"IF($A31=\"\",\"\",IF(VLOOKUP($A31,Competitors!$A$2:$G$60,4,FALSE)=\"\",\"\",VLOOKUP($A31,Competitors!$A$2:$G$60,4,FALSE)))","v":""},{"$f":"IF(VLOOKUP(A31,Competitors!$A$1:$H$41,8,FALSE)=\"\",\"\",VLOOKUP(A31,Competitors!$A$1:$H$41,8,FALSE))","v":""},{"$f":"IF(IFERROR(VLOOKUP(($B$2&\"_\"&$A31),'Time Entry Sheet'!$A$3:$I$499,9,0),\"Error\")=\"Error\",\"\",IF(VLOOKUP(($B$2&\"_\"&$A31),'Time Entry Sheet'!$A$3:$I$499,9,FALSE)=\"wd\",\"wd\",VLOOKUP(($B$2&\"_\"&$A31),'Time Entry Sheet'!$A$3:$I$499,9,FALSE)*1))","v":"00:00:58.600"},"00:00:58.600",{"$f":"IF(IFERROR(VLOOKUP(($B$2&\"_\"&$A31),'Time Entry Sheet'!$A$3:$I$499,8,FALSE),\"Error\")=\"Error\",\"\",IF(VLOOKUP(($B$2&\"_\"&$A31),'Time Entry Sheet'!$A$3:$I$499,8,FALSE)=\"\",\"\",VLOOKUP(($B$2&\"_\"&$A31),'Time Entry Sheet'!$A$3:$I$499,8,FALSE)))","v":""},{"$f":"IF(IFERROR(VLOOKUP(($B$2&\"_\"&$A31),'Time Entry Sheet'!$A$3:$I$499,7,FALSE),\"Error\")=\"Error\",\"\",IF(VLOOKUP(($B$2&\"_\"&$A31),'Time Entry Sheet'!$A$3:$I$499,7,FALSE)=\"\",\"\",VLOOKUP(($B$2&\"_\"&$A31),'Time Entry Sheet'!$A$3:$I$499,7,FALSE)))","v":""},"00:00:58.600","00:00:58.600",7,{"$f":"IF(A31=\"\",\"\",M31+VLOOKUP(A31,'Test 11'!$A$12:$Q$51,16,FALSE))","v":"00:11:23.110"},6,null,"","00:11:23.110"]
[21,{"$f":"IF($A32=\"\",\"\",IF(VLOOKUP($A32,Competitors!$A$2:$G$60,2,FALSE)=\"\",\"\",VLOOKUP($A32,Competitors!$A$2:$G$60,2,FALSE)))","v":""},{"$f":"IF($A32=\"\",\"\",IF(VLOOKUP($A32,Competitors!$A$2:$G$60,7,FALSE)=\"\",\"\",VLOOKUP($A32,Competitors!$A$2:$G$60,7,FALSE)))","v":""},{"$f":"IF($A32=\"\",\"\",IF(VLOOKUP($A32,Competitors!$A$2:$G$60,5,FALSE)=\"\",\"\",VLOOKUP($A32,Competitors!$A$2:$G$60,5,FALSE)))","v":""},{"$f":"IF($A32=\"\",\"\",IF(VLOOKUP($A32,Competitors!$A$2:$G$60,6,FALSE)=\"\",\"\",VLOOKUP($A32,Competitors!$A$2:$G$60,6,FALSE)))","v":"senior"},{"$f":"IF($A32=\"\",\"\",IF(VLOOKUP($A32,Competitors!$A$2:$G$60,3,FALSE)=\"\",\"\",VLOOKUP($A32,Competitors!$A$2:$G$60,3,FALSE)))","v":""},{"$f":"IF($A32=\"\",\"\",IF(VLOOKUP($A32,Competitors!$A$2:$G$60,4,FALSE)=\"\",\"\",VLOOKUP($A32,Competitors!$A$2:$G$60,4,FALSE)))","v":""},{"$f":"IF(VLOOKUP(A32,Competitors!$A$1:$H$41,8,FALSE)=\"\",\"\",VLOOKUP(A32,Competitors!$A$1:$H$41,8,FALSE))","v":""},{"$f":"IF(IFERROR(VLOOKUP(($B$2&\"_\"&$A32),'Time Entry Sheet'!$A$3:$I$499,9,0),\"Error\")=\"Error\",\"\",IF(VLOOKUP(($B$2&\"_\"&$A32),'Time Entry Sheet'!$A$3:$I$499,9,FALSE)=\"wd\",\"wd\",VLOOKUP(($B$2&\"_\"&$A32),'Time Entry Sheet'!$A$3:$I$499,9,FALSE)*1))","v":""},"",{"$f":"IF(IFERROR(VLOOKUP(($B$2&\"_\"&$A32),'Time Entry Sheet'!$A$3:$I$499,8,FALSE),\"Error\")=\"Error\",\"\",IF(VLOOKUP(($B$2&\"_\"&$A32),'Time Entry Sheet'!$A$3:$I$499,8,FALSE)=\"\",\"\",VLOOKUP(($B$2&\"_\"&$A32),'Time Entry Sheet'!$A$3:$I$499,8,FALSE)))","v":""},{"$f":"IF(IFERROR(VLOOKUP(($B$2&\"_\"&$A32),'Time Entry Sheet'!$A$3:$I$499,7,FALSE),\"Error\")=\"Error\",\"\",IF(VLOOKUP(($B$2&\"_\"&$A32),'Time Entry Sheet'!$A$3:$I$499,7,FALSE)=\"\",\"\",VLOOKUP(($B$2&\"_\"&$A32),'Time Entry Sheet'!$A$3:$I$499,7,FALSE)))","v":""},"00:01:16.190","00:01:16.190",19,{"$f":"IF(A32=\"\",\"\",M32+VLOOKUP(A32,'Test 11'!$A$12:$Q$51,16,FALSE))","v":"00:15:42.230"},20,null,"","00:15:42.230"]
[22,{"$f":"IF($A33=\"\",\"\",IF(VLOOKUP($A33,Competitors!$A$2:$G$60,2,FALSE)=\"\",\"\",VLOOKUP($A33,Competitors!$A$2:$G$60,2,FALSE)))","v":""},{"$f":"IF($A33=\"\",\"\",IF(VLOOKUP($A33,Competitors!$A$2:$G$60,7,FALSE)=\"\",\"\",VLOOKUP($A33,Competitors!$A$2:$G$60,7,FALSE)))","v":""},{"$f":"IF($A33=\"\",\"\",IF(VLOOKUP($A33,Competitors!$A$2:$G$60,5,FALSE)=\"\",\"\",VLOOKUP($A33,Competitors!$A$2:$G$60,5,FALSE)))","v":""},{"$f":"IF($A33=\"\",\"\",IF(VLOOKUP($A33,Competitors!$A$2:$G$60,6,FALSE)=\"\",\"\",VLOOKUP($A33,Competitors!$A$2:$G$60,6,FALSE)))","v":"senior"},{"$f":"IF($A33=\"\",\"\",IF(VLOOKUP($A33,Competitors!$A$2:$G$60,3,FALSE)=\"\",\"\",VLOOKUP($A33,Competitors!$A$2:$G$60,3,FALSE)))","v":""},{"$f":"IF($A33=\"\",\"\",IF(VLOOKUP($A33,Competitors!$A$2:$G$60,4,FALSE)=\"\",\"\",VLOOKUP($A33,Competitors!$A$2:$G$60,4,FALSE)))","v":""},{"$f":"IF(VLOOKUP(A33,Competitors!$A$1:$H$41,8,FALSE)=\"\",\"\",VLOOKUP(A33,Competitors!$A$1:$H$41,8,FALSE))","v":""},{"$f":"IF(IFERROR(VLOOKUP(($B$2&\"_\"&$A33),'Time Entry Sheet'!$A$3:$I$499,9,0),\"Error\")=\"Error\",\"\",IF(VLOOKUP(($B$2&\"_\"&$A33),'Time Entry Sheet'!$A$3:$I$499,9,FALSE)=\"wd\",\"wd\",VLOOKUP(($B$2&\"_\"&$A33),'Time Entry Sheet'!$A$3:$I$499,9,FALSE)*1))","v":""},"",{"$f":"IF(IFERROR(VLOOKUP(($B$2&\"_\"&$A33),'Time Entry Sheet'!$A$3:$I$499,8,FALSE),\"Error\")=\"Error\",\"\",IF(VLOOKUP(($B$2&\"_\"&$A33),'Time Entry Sheet'!$A$3:$I$499,8,FALSE)=\"\",\"\",VLOOKUP(($B$2&\"_\"&$A33),'Time Entry Sheet'!$A$3:$I$499,8,FALSE)))","v":""},{"$f":"IF(IFERROR(VLOOKUP(($B$2&\"_\"&$A33),'Time Entry Sheet'!$A$3:$I$499,7,FALSE),\"Error\")=\"Error\",\"\",IF(VLOOKUP(($B$2&\"_\"&$A33),'Time Entry Sheet'!$A$3:$I$499,7,FALSE)=\"\",\"\",VLOOKUP(($B$2&\"_\"&$A33),'Time Entry Sheet'!$A$3:$I$499,7,FALSE)))","v":""},"00:01:16.190","00:01:16.190",19,{"$f":"IF(A33=\"\",\"\",M33+VLOOKUP(A33,'Test 11'!$A$12:$Q$51,16,FALSE))","v":"00:15:42.230"},20,null,"","00:15:42.230"]
[23,{"$f":"IF($A34=\"\",\"\",IF(VLOOKUP($A34,Competitors!$A$2:$G$60,2,FALSE)=\"\",\"\",VLOOKUP($A34,Competitors!$A$2:$G$60,2,FALSE)))","v":""},{"$f":"IF($A34=\"\",\"\",IF(VLOOKUP($A34,Competitors!$A$2:$G$60,7,FALSE)=\"\",\"\",VLOOKUP($A34,Competitors!$A$2:$G$60,7,FALSE)))","v":""},{"$f":"IF($A34=\"\",\"\",IF(VLOOKUP($A34,Competitors!$A$2:$G$60,5,FALSE)=\"\",\"\",VLOOKUP($A34,Competitors!$A$2:$G$60,5,FALSE)))","v":""},{"$f":"IF($A34=\"\",\"\",IF(VLOOKUP($A34,Competitors!$A$2:$G$60,6,FALSE)=\"\",\"\",VLOOKUP($A34,Competitors!$A$2:$G$60,6,FALSE)))","v":"senior"},{"$f":"IF($A34=\"\",\"\",IF(VLOOKUP($A34,Competitors!$A$2:$G$60,3,FALSE)=\"\",\"\",VLOOKUP($A34,Competitors!$A$2:$G$60,3,FALSE)))","v":""},{"$f":"IF($A34=\"\",\"\",IF(VLOOKUP($A34,Competitors!$A$2:$G$60,4,FALSE)=\"\",\"\",VLOOKUP($A34,Competitors!$A$2:$G$60,4,FALSE)))","v":""},{"$f":"IF(VLOOKUP(A34,Competitors!$A$1:$H$41,8,FALSE)=\"\",\"\",VLOOKUP(A34,Competitors!$A$1:$H$41,8,FALSE))","v":""},{"$f":"IF(IFERROR(VLOOKUP(($B$2&\"_\"&$A34),'Time Entry Sheet'!$A$3:$I$499,9,0),\"Error\")=\"Error\",\"\",IF(VLOOKUP(($B$2&\"_\"&$A34),'Time Entry Sheet'!$A$3:$I$499,9,FALSE)=\"wd\",\"wd\",VLOOKUP(($B$2&\"_\"&$A34),'Time Entry Sheet'!$A$3:$I$499,9,FALSE)*1))","v":""},"",{"$f":"IF(IFERROR(VLOOKUP(($B$2&\"_\"&$A34),'Time Entry Sheet'!$A$3:$I$499,8,FALSE),\"Error\")=\"Error\",\"\",IF(VLOOKUP(($B$2&\"_\"&$A34),'Time Entry Sheet'!$A$3:$I$499,8,FALSE)=\"\",\"\",VLOOKUP(($B$2&\"_\"&$A34),'Time Entry Sheet'!$A$3:$I$499,8,FALSE)))","v":""},{"$f":"IF(IFERROR(VLOOKUP(($B$2&\"_\"&$A34),'Time Entry Sheet'!$A$3:$I$499,7,FALSE),\"Error\")=\"Error\",\"\",IF(VLOOKUP(($B$2&\"_\"&$A34),'Time Entry Sheet'!$A$3:$I$499,7,FALSE)=\"\",\"\",VLOOKUP(($B$2&\"_\"&$A34),'Time Entry Sheet'!$A$3:$I$499,7,FALSE)))","v":""},"00:01:16.190","00:01:16.190",19,{"$f":"IF(A34=\"\",\"\",M34+VLOOKUP(A34,'Test 11'!$A$12:$Q$51,16,FALSE))","v":"00:15:42.230"},20,null,"","00:15:42.230"]
[24,{"$f":"IF($A35=\"\",\"\",IF(VLOOKUP($A35,Competitors!$A$2:$G$60,2,FALSE)=\"\",\"\",VLOOKUP($A35,Competitors!$A$2:$G$60,2,FALSE)))","v":""},{"$f":"IF($A35=\"\",\"\",IF(VLOOKUP($A35,Competitors!$A$2:$G$60,7,FALSE)=\"\",\"\",VLOOKUP($A35,Competitors!$A$2:$G$60,7,FALSE)))","v":""},{"$f":"IF($A35=\"\",\"\",IF(VLOOKUP($A35,Competitors!$A$2:$G$60,5,FALSE)=\"\",\"\",VLOOKUP($A35,Competitors!$A$2:$G$60,5,FALSE)))","v":""},{"$f":"IF($A35=\"\",\"\",IF(VLOOKUP($A35,Competitors!$A$2:$G$60,6,FALSE)=\"\",\"\",VLOOKUP($A35,Competitors!$A$2:$G$60,6,FALSE)))","v":"senior"},{"$f":"IF($A35=\"\",\"\",IF(VLOOKUP($A35,Competitors!$A$2:$G$60,3,FALSE)=\"\",\"\",VLOOKUP($A35,Competitors!$A$2:$G$60,3,FALSE)))","v":""},{"$f":"IF($A35=\"\",\"\",IF(VLOOKUP($A35,Competitors!$A$2:$G$60,4,FALSE)=\"\",\"\",VLOOKUP($A35,Competitors!$A$2:$G$60,4,FALSE)))","v":""},{"$f":"IF(VLOOKUP(A35,Competitors!$A$1:$H$41,8,FALSE)=\"\",\"\",VLOOKUP(A35,Competitors!$A$1:$H$41,8,FALSE))","v":""},{"$f":"IF(IFERROR(VLOOKUP(($B$2&\"_\"&$A35),'Time Entry Sheet'!$A$3:$I$499,9,0),\"Error\")=\"Error\",\"\",IF(VLOOKUP(($B$2&\"_\"&$A35),'Time Entry Sheet'!$A$3:$I$499,9,FALSE)=\"wd\",\"wd\",VLOOKUP(($B$2&\"_\"&$A35),'Time Entry Sheet'!$A$3:$I$499,9,FALSE)*1))","v":""},"",{"$f":"IF(IFERROR(VLOOKUP(($B$2&\"_\"&$A35),'Time Entry Sheet'!$A$3:$I$499,8,FALSE),\"Error\")=\"Error\",\"\",IF(VLOOKUP(($B$2&\"_\"&$A35),'Time Entry Sheet'!$A$3:$I$499,8,FALSE)=\"\",\"\",VLOOKUP(($B$2&\"_\"&$A35),'Time Entry Sheet'!$A$3:$I$499,8,FALSE)))","v":""},{"$f":"IF(IFERROR(VLOOKUP(($B$2&\"_\"&$A35),'Time Entry Sheet'!$A$3:$I$499,7,FALSE),\"Error\")=\"Error\",\"\",IF(VLOOKUP(($B$2&\"_\"&$A35),'Time Entry Sheet'!$A$3:$I$499,7,FALSE)=\"\",\"\",VLOOKUP(($B$2&\"_\"&$A35),'Time Entry Sheet'!$A$3:$I$499,7,FALSE)))","v":""},"00:01:16.190","00:01:16.190",19,{"$f":"IF(A35=\"\",\"\",M35+VLOOKUP(A35,'Test 11'!$A$12:$Q$51,16,FALSE))","v":"00:15:42.230"},20,null,"","00:15:42.230"]
[25,{"$f":"IF($A36=\"\",\"\",IF(VLOOKUP($A36,Competitors!$A$2:$G$60,2,FALSE)=\"\",\"\",VLOOKUP($A36,Competitors!$A$2:$G$60,2,FALSE)))","v":""},{"$f":"IF($A36=\"\",\"\",IF(VLOOKUP($A36,Competitors!$A$2:$G$60,7,FALSE)=\"\",\"\",VLOOKUP($A36,Competitors!$A$2:$G$60,7,FALSE)))","v":""},{"$f":"IF($A36=\"\",\"\",IF(VLOOKUP($A36,Competitors!$A$2:$G$60,5,FALSE)=\"\",\"\",VLOOKUP($A36,Competitors!$A$2:$G$60,5,FALSE)))","v":""},{"$f":"IF($A36=\"\",\"\",IF(VLOOKUP($A36,Competitors!$A$2:$G$60,6,FALSE)=\"\",\"\",VLOOKUP($A36,Competitors!$A$2:$G$60,6,FALSE)))","v":"senior"},{"$f":"IF($A36=\"\",\"\",IF(VLOOKUP($A36,Competitors!$A$2:$G$60,3,FALSE)=\"\",\"\",VLOOKUP($A36,Competitors!$A$2:$G$60,3,FALSE)))","v":""},{"$f":"IF($A36=\"\",\"\",IF(VLOOKUP($A36,Competitors!$A$2:$G$60,4,FALSE)=\"\",\"\",VLOOKUP($A36,Competitors!$A$2:$G$60,4,FALSE)))","v":""},{"$f":"IF(VLOOKUP(A36,Competitors!$A$1:$H$41,8,FALSE)=\"\",\"\",VLOOKUP(A36,Competitors!$A$1:$H$41,8,FALSE))","v":""},{"$f":"IF(IFERROR(VLOOKUP(($B$2&\"_\"&$A36),'Time Entry Sheet'!$A$3:$I$499,9,0),\"Error\")=\"Error\",\"\",IF(VLOOKUP(($B$2&\"_\"&$A36),'Time Entry Sheet'!$A$3:$I$499,9,FALSE)=\"wd\",\"wd\",VLOOKUP(($B$2&\"_\"&$A36),'Time Entry Sheet'!$A$3:$I$499,9,FALSE)*1))","v":""},"",{"$f":"IF(IFERROR(VLOOKUP(($B$2&\"_\"&$A36),'Time Entry Sheet'!$A$3:$I$499,8,FALSE),\"Error\")=\"Error\",\"\",IF(VLOOKUP(($B$2&\"_\"&$A36),'Time Entry Sheet'!$A$3:$I$499,8,FALSE)=\"\",\"\",VLOOKUP(($B$2&\"_\"&$A36),'Time Entry Sheet'!$A$3:$I$499,8,FALSE)))","v":""},{"$f":"IF(IFERROR(VLOOKUP(($B$2&\"_\"&$A36),'Time Entry Sheet'!$A$3:$I$499,7,FALSE),\"Error\")=\"Error\",\"\",IF(VLOOKUP(($B$2&\"_\"&$A36),'Time Entry Sheet'!$A$3:$I$499,7,FALSE)=\"\",\"\",VLOOKUP(($B$2&\"_\"&$A36),'Time Entry Sheet'!$A$3:$I$499,7,FALSE)))","v":""},"00:01:16.190","00:01:16.190",19,{"$f":"IF(A36=\"\",\"\",M36+VLOOKUP(A36,'Test 11'!$A$12:$Q$51,16,FALSE))","v":"00:15:42.230"},20,null,"","00:15:42.230"]
[26,{"$f":"IF($A37=\"\",\"\",IF(VLOOKUP($A37,Competitors!$A$2:$G$60,2,FALSE)=\"\",\"\",VLOOKUP($A37,Competitors!$A$2:$G$60,2,FALSE)))","v":""},{"$f":"IF($A37=\"\",\"\",IF(VLOOKUP($A37,Competitors!$A$2:$G$60,7,FALSE)=\"\",\"\",VLOOKUP($A37,Competitors!$A$2:$G$60,7,FALSE)))","v":""},{"$f":"IF($A37=\"\",\"\",IF(VLOOKUP($A37,Competitors!$A$2:$G$60,5,FALSE)=\"\",\"\",VLOOKUP($A37,Competitors!$A$2:$G$60,5,FALSE)))","v":""},{"$f":"IF($A37=\"\",\"\",IF(VLOOKUP($A37,Competitors!$A$2:$G$60,6,FALSE)=\"\",\"\",VLOOKUP($A37,Competitors!$A$2:$G$60,6,FALSE)))","v":"senior"},{"$f":"IF($A37=\"\",\"\",IF(VLOOKUP($A37,Competitors!$A$2:$G$60,3,FALSE)=\"\",\"\",VLOOKUP($A37,Competitors!$A$2:$G$60,3,FALSE)))","v":""},{"$f":"IF($A37=\"\",\"\",IF(VLOOKUP($A37,Competitors!$A$2:$G$60,4,FALSE)=\"\",\"\",VLOOKUP($A37,Competitors!$A$2:$G$60,4,FALSE)))","v":""},{"$f":"IF(VLOOKUP(A37,Competitors!$A$1:$H$41,8,FALSE)=\"\",\"\",VLOOKUP(A37,Competitors!$A$1:$H$41,8,FALSE))","v":""},{"$f":"IF(IFERROR(VLOOKUP(($B$2&\"_\"&$A37),'Time Entry Sheet'!$A$3:$I$499,9,0),\"Error\")=\"Error\",\"\",IF(VLOOKUP(($B$2&\"_\"&$A37),'Time Entry Sheet'!$A$3:$I$499,9,FALSE)=\"wd\",\"wd\",VLOOKUP(($B$2&\"_\"&$A37),'Time Entry Sheet'!$A$3:$I$499,9,FALSE)*1))","v":""},"",{"$f":"IF(IFERROR(VLOOKUP(($B$2&\"_\"&$A37),'Time Entry Sheet'!$A$3:$I$499,8,FALSE),\"Error\")=\"Error\",\"\",IF(VLOOKUP(($B$2&\"_\"&$A37),'Time Entry Sheet'!$A$3:$I$499,8,FALSE)=\"\",\"\",VLOOKUP(($B$2&\"_\"&$A37),'Time Entry Sheet'!$A$3:$I$499,8,FALSE)))","v":""},{"$f":"IF(IFERROR(VLOOKUP(($B$2&\"_\"&$A37),'Time Entry Sheet'!$A$3:$I$499,7,FALSE),\"Error\")=\"Error\",\"\",IF(VLOOKUP(($B$2&\"_\"&$A37),'Time Entry Sheet'!$A$3:$I$499,7,FALSE)=\"\",\"\",VLOOKUP(($B$2&\"_\"&$A37),'Time Entry Sheet'!$A$3:$I$499,7,FALSE)))","v":""},"00:01:16.190","00:01:16.190",19,{"$f":"IF(A37=\"\",\"\",M37+VLOOKUP(A37,'Test 11'!$A$12:$Q$51,16,FALSE))","v":"00:15:42.230"},20,null,"","00:15:42.230"]
[27,{"$f":"IF($A38=\"\",\"\",IF(VLOOKUP($A38,Competitors!$A$2:$G$60,2,FALSE)=\"\",\"\",VLOOKUP($A38,Competitors!$A$2:$G$60,2,FALSE)))","v":""},{"$f":"IF($A38=\"\",\"\",IF(VLOOKUP($A38,Competitors!$A$2:$G$60,7,FALSE)=\"\",\"\",VLOOKUP($A38,Competitors!$A$2:$G$60,7,FALSE)))","v":""},{"$f":"IF($A38=\"\",\"\",IF(VLOOKUP($A38,Competitors!$A$2:$G$60,5,FALSE)=\"\",\"\",VLOOKUP($A38,Competitors!$A$2:$G$60,5,FALSE)))","v":""},{"$f":"IF($A38=\"\",\"\",IF(VLOOKUP($A38,Competitors!$A$2:$G$60,6,FALSE)=\"\",\"\",VLOOKUP($A38,Competitors!$A$2:$G$60,6,FALSE)))","v":"senior"},{"$f":"IF($A38=\"\",\"\",IF(VLOOKUP($A38,Competitors!$A$2:$G$60,3,FALSE)=\"\",\"\",VLOOKUP($A38,Competitors!$A$2:$G$60,3,FALSE)))","v":""},{"$f":"IF($A38=\"\",\"\",IF(VLOOKUP($A38,Competitors!$A$2:$G$60,4,FALSE)=\"\",\"\",VLOOKUP($A38,Competitors!$A$2:$G$60,4,FALSE)))","v":""},{"$f":"IF(VLOOKUP(A38,Competitors!$A$1:$H$41,8,FALSE)=\"\",\"\",VLOOKUP(A38,Competitors!$A$1:$H$41,8,FALSE))","v":""},{"$f":"IF(IFERROR(VLOOKUP(($B$2&\"_\"&$A38),'Time Entry Sheet'!$A$3:$I$499,9,0),\"Error\")=\"Error\",\"\",IF(VLOOKUP(($B$2&\"_\"&$A38),'Time Entry Sheet'!$A$3:$I$499,9,FALSE)=\"wd\",\"wd\",VLOOKUP(($B$2&\"_\"&$A38),'Time Entry Sheet'!$A$3:$I$499,9,FALSE)*1))","v":""},"",{"$f":"IF(IFERROR(VLOOKUP(($B$2&\"_\"&$A38),'Time Entry Sheet'!$A$3:$I$499,8,FALSE),\"Error\")=\"Error\",\"\",IF(VLOOKUP(($B$2&\"_\"&$A38),'Time Entry Sheet'!$A$3:$I$499,8,FALSE)=\"\",\"\",VLOOKUP(($B$2&\"_\"&$A38),'Time Entry Sheet'!$A$3:$I$499,8,FALSE)))","v":""},{"$f":"IF(IFERROR(VLOOKUP(($B$2&\"_\"&$A38),'Time Entry Sheet'!$A$3:$I$499,7,FALSE),\"Error\")=\"Error\",\"\",IF(VLOOKUP(($B$2&\"_\"&$A38),'Time Entry Sheet'!$A$3:$I$499,7,FALSE)=\"\",\"\",VLOOKUP(($B$2&\"_\"&$A38),'Time Entry Sheet'!$A$3:$I$499,7,FALSE)))","v":""},"00:01:16.190","00:01:16.190",19,{"$f":"IF(A38=\"\",\"\",M38+VLOOKUP(A38,'Test 11'!$A$12:$Q$51,16,FALSE))","v":"00:15:42.230"},20,null,null,"00:15:42.230"]
[28,{"$f":"IF($A39=\"\",\"\",IF(VLOOKUP($A39,Competitors!$A$2:$G$60,2,FALSE)=\"\",\"\",VLOOKUP($A39,Competitors!$A$2:$G$60,2,FALSE)))","v":""},{"$f":"IF($A39=\"\",\"\",IF(VLOOKUP($A39,Competitors!$A$2:$G$60,7,FALSE)=\"\",\"\",VLOOKUP($A39,Competitors!$A$2:$G$60,7,FALSE)))","v":""},{"$f":"IF($A39=\"\",\"\",IF(VLOOKUP($A39,Competitors!$A$2:$G$60,5,FALSE)=\"\",\"\",VLOOKUP($A39,Competitors!$A$2:$G$60,5,FALSE)))","v":""},{"$f":"IF($A39=\"\",\"\",IF(VLOOKUP($A39,Competitors!$A$2:$G$60,6,FALSE)=\"\",\"\",VLOOKUP($A39,Competitors!$A$2:$G$60,6,FALSE)))","v":"senior"},{"$f":"IF($A39=\"\",\"\",IF(VLOOKUP($A39,Competitors!$A$2:$G$60,3,FALSE)=\"\",\"\",VLOOKUP($A39,Competitors!$A$2:$G$60,3,FALSE)))","v":""},{"$f":"IF($A39=\"\",\"\",IF(VLOOKUP($A39,Competitors!$A$2:$G$60,4,FALSE)=\"\",\"\",VLOOKUP($A39,Competitors!$A$2:$G$60,4,FALSE)))","v":""},{"$f":"IF(VLOOKUP(A39,Competitors!$A$1:$H$41,8,FALSE)=\"\",\"\",VLOOKUP(A39,Competitors!$A$1:$H$41,8,FALSE))","v":""},{"$f":"IF(IFERROR(VLOOKUP(($B$2&\"_\"&$A39),'Time Entry Sheet'!$A$3:$I$499,9,0),\"Error\")=\"Error\",\"\",IF(VLOOKUP(($B$2&\"_\"&$A39),'Time Entry Sheet'!$A$3:$I$499,9,FALSE)=\"wd\",\"wd\",VLOOKUP(($B$2&\"_\"&$A39),'Time Entry Sheet'!$A$3:$I$499,9,FALSE)*1))","v":""},"",{"$f":"IF(IFERROR(VLOOKUP(($B$2&\"_\"&$A39),'Time Entry Sheet'!$A$3:$I$499,8,FALSE),\"Error\")=\"Error\",\"\",IF(VLOOKUP(($B$2&\"_\"&$A39),'Time Entry Sheet'!$A$3:$I$499,8,FALSE)=\"\",\"\",VLOOKUP(($B$2&\"_\"&$A39),'Time Entry Sheet'!$A$3:$I$499,8,FALSE)))","v":""},{"$f":"IF(IFERROR(VLOOKUP(($B$2&\"_\"&$A39),'Time Entry Sheet'!$A$3:$I$499,7,FALSE),\"Error\")=\"Error\",\"\",IF(VLOOKUP(($B$2&\"_\"&$A39),'Time Entry Sheet'!$A$3:$I$499,7,FALSE)=\"\",\"\",VLOOKUP(($B$2&\"_\"&$A39),'Time Entry Sheet'!$A$3:$I$499,7,FALSE)))","v":""},"00:01:16.190","00:01:16.190",19,{"$f":"IF(A39=\"\",\"\",M39+VLOOKUP(A39,'Test 11'!$A$12:$Q$51,16,FALSE))","v":"00:15:42.230"},20,null,"","00:15:42.230"]
[29,{"$f":"IF($A40=\"\",\"\",IF(VLOOKUP($A40,Competitors!$A$2:$G$60,2,FALSE)=\"\",\"\",VLOOKUP($A40,Competitors!$A$2:$G$60,2,FALSE)))","v":""},{"$f":"IF($A40=\"\",\"\",IF(VLOOKUP($A40,Competitors!$A$2:$G$60,7,FALSE)=\"\",\"\",VLOOKUP($A40,Competitors!$A$2:$G$60,7,FALSE)))","v":""},{"$f":"IF($A40=\"\",\"\",IF(VLOOKUP($A40,Competitors!$A$2:$G$60,5,FALSE)=\"\",\"\",VLOOKUP($A40,Competitors!$A$2:$G$60,5,FALSE)))","v":""},{"$f":"IF($A40=\"\",\"\",IF(VLOOKUP($A40,Competitors!$A$2:$G$60,6,FALSE)=\"\",\"\",VLOOKUP($A40,Competitors!$A$2:$G$60,6,FALSE)))","v":"senior"},{"$f":"IF($A40=\"\",\"\",IF(VLOOKUP($A40,Competitors!$A$2:$G$60,3,FALSE)=\"\",\"\",VLOOKUP($A40,Competitors!$A$2:$G$60,3,FALSE)))","v":""},{"$f":"IF($A40=\"\",\"\",IF(VLOOKUP($A40,Competitors!$A$2:$G$60,4,FALSE)=\"\",\"\",VLOOKUP($A40,Competitors!$A$2:$G$60,4,FALSE)))","v":""},{"$f":"IF(VLOOKUP(A40,Competitors!$A$1:$H$41,8,FALSE)=\"\",\"\",VLOOKUP(A40,Competitors!$A$1:$H$41,8,FALSE))","v":""},{"$f":"IF(IFERROR(VLOOKUP(($B$2&\"_\"&$A40),'Time Entry Sheet'!$A$3:$I$499,9,0),\"Error\")=\"Error\",\"\",IF(VLOOKUP(($B$2&\"_\"&$A40),'Time Entry Sheet'!$A$3:$I$499,9,FALSE)=\"wd\",\"wd\",VLOOKUP(($B$2&\"_\"&$A40),'Time Entry Sheet'!$A$3:$I$499,9,FALSE)*1))","v":""},"",{"$f":"IF(IFERROR(VLOOKUP(($B$2&\"_\"&$A40),'Time Entry Sheet'!$A$3:$I$499,8,FALSE),\"Error\")=\"Error\",\"\",IF(VLOOKUP(($B$2&\"_\"&$A40),'Time Entry Sheet'!$A$3:$I$499,8,FALSE)=\"\",\"\",VLOOKUP(($B$2&\"_\"&$A40),'Time Entry Sheet'!$A$3:$I$499,8,FALSE)))","v":""},{"$f":"IF(IFERROR(VLOOKUP(($B$2&\"_\"&$A40),'Time Entry Sheet'!$A$3:$I$499,7,FALSE),\"Error\")=\"Error\",\"\",IF(VLOOKUP(($B$2&\"_\"&$A40),'Time Entry Sheet'!$A$3:$I$499,7,FALSE)=\"\",\"\",VLOOKUP(($B$2&\"_\"&$A40),'Time Entry Sheet'!$A$3:$I$499,7,FALSE)))","v":""},"00:01:16.190","00:01:16.190",19,{"$f":"IF(A40=\"\",\"\",M40+VLOOKUP(A40,'Test 11'!$A$12:$Q$51,16,FALSE))","v":"00:15:42.230"},20,null,"","00:15:42.230"]
[30,{"$f":"IF($A41=\"\",\"\",IF(VLOOKUP($A41,Competitors!$A$2:$G$60,2,FALSE)=\"\",\"\",VLOOKUP($A41,Competitors!$A$2:$G$60,2,FALSE)))","v":""},{"$f":"IF($A41=\"\",\"\",IF(VLOOKUP($A41,Competitors!$A$2:$G$60,7,FALSE)=\"\",\"\",VLOOKUP($A41,Competitors!$A$2:$G$60,7,FALSE)))","v":""},{"$f":"IF($A41=\"\",\"\",IF(VLOOKUP($A41,Competitors!$A$2:$G$60,5,FALSE)=\"\",\"\",VLOOKUP($A41,Competitors!$A$2:$G$60,5,FALSE)))","v":""},{"$f":"IF($A41=\"\",\"\",IF(VLOOKUP($A41,Competitors!$A$2:$G$60,6,FALSE)=\"\",\"\",VLOOKUP($A41,Competitors!$A$2:$G$60,6,FALSE)))","v":"senior"},{"$f":"IF($A41=\"\",\"\",IF(VLOOKUP($A41,Competitors!$A$2:$G$60,3,FALSE)=\"\",\"\",VLOOKUP($A41,Competitors!$A$2:$G$60,3,FALSE)))","v":""},{"$f":"IF($A41=\"\",\"\",IF(VLOOKUP($A41,Competitors!$A$2:$G$60,4,FALSE)=\"\",\"\",VLOOKUP($A41,Competitors!$A$2:$G$60,4,FALSE)))","v":""},{"$f":"IF(VLOOKUP(A41,Competitors!$A$1:$H$41,8,FALSE)=\"\",\"\",VLOOKUP(A41,Competitors!$A$1:$H$41,8,FALSE))","v":""},{"$f":"IF(IFERROR(VLOOKUP(($B$2&\"_\"&$A41),'Time Entry Sheet'!$A$3:$I$499,9,0),\"Error\")=\"Error\",\"\",IF(VLOOKUP(($B$2&\"_\"&$A41),'Time Entry Sheet'!$A$3:$I$499,9,FALSE)=\"wd\",\"wd\",VLOOKUP(($B$2&\"_\"&$A41),'Time Entry Sheet'!$A$3:$I$499,9,FALSE)*1))","v":""},"",{"$f":"IF(IFERROR(VLOOKUP(($B$2&\"_\"&$A41),'Time Entry Sheet'!$A$3:$I$499,8,FALSE),\"Error\")=\"Error\",\"\",IF(VLOOKUP(($B$2&\"_\"&$A41),'Time Entry Sheet'!$A$3:$I$499,8,FALSE)=\"\",\"\",VLOOKUP(($B$2&\"_\"&$A41),'Time Entry Sheet'!$A$3:$I$499,8,FALSE)))","v":""},{"$f":"IF(IFERROR(VLOOKUP(($B$2&\"_\"&$A41),'Time Entry Sheet'!$A$3:$I$499,7,FALSE),\"Error\")=\"Error\",\"\",IF(VLOOKUP(($B$2&\"_\"&$A41),'Time Entry Sheet'!$A$3:$I$499,7,FALSE)=\"\",\"\",VLOOKUP(($B$2&\"_\"&$A41),'Time Entry Sheet'!$A$3:$I$499,7,FALSE)))","v":""},"00:01:16.190","00:01:16.190",19,{"$f":"IF(A41=\"\",\"\",M41+VLOOKUP(A41,'Test 11'!$A$12:$Q$51,16,FALSE))","v":"00:15:42.230"},20,null,"","00:15:42.230"]
[31,{"$f":"IF($A42=\"\",\"\",IF(VLOOKUP($A42,Competitors!$A$2:$G$60,2,FALSE)=\"\",\"\",VLOOKUP($A42,Competitors!$A$2:$G$60,2,FALSE)))","v":""},{"$f":"IF($A42=\"\",\"\",IF(VLOOKUP($A42,Competitors!$A$2:$G$60,7,FALSE)=\"\",\"\",VLOOKUP($A42,Competitors!$A$2:$G$60,7,FALSE)))","v":""},{"$f":"IF($A42=\"\",\"\",IF(VLOOKUP($A42,Competitors!$A$2:$G$60,5,FALSE)=\"\",\"\",VLOOKUP($A42,Competitors!$A$2:$G$60,5,FALSE)))","v":""},{"$f":"IF($A42=\"\",\"\",IF(VLOOKUP($A42,Competitors!$A$2:$G$60,6,FALSE)=\"\",\"\",VLOOKUP($A42,Competitors!$A$2:$G$60,6,FALSE)))","v":"senior"},{"$f":"IF($A42=\"\",\"\",IF(VLOOKUP($A42,Competitors!$A$2:$G$60,3,FALSE)=\"\",\"\",VLOOKUP($A42,Competitors!$A$2:$G$60,3,FALSE)))","v":""},{"$f":"IF($A42=\"\",\"\",IF(VLOOKUP($A42,Competitors!$A$2:$G$60,4,FALSE)=\"\",\"\",VLOOKUP($A42,Competitors!$A$2:$G$60,4,FALSE)))","v":""},{"$f":"IF(VLOOKUP(A42,Competitors!$A$1:$H$41,8,FALSE)=\"\",\"\",VLOOKUP(A42,Competitors!$A$1:$H$41,8,FALSE))","v":""},{"$f":"IF(IFERROR(VLOOKUP(($B$2&\"_\"&$A42),'Time Entry Sheet'!$A$3:$I$499,9,0),\"Error\")=\"Error\",\"\",IF(VLOOKUP(($B$2&\"_\"&$A42),'Time Entry Sheet'!$A$3:$I$499,9,FALSE)=\"wd\",\"wd\",VLOOKUP(($B$2&\"_\"&$A42),'Time Entry Sheet'!$A$3:$I$499,9,FALSE)*1))","v":""},"",{"$f":"IF(IFERROR(VLOOKUP(($B$2&\"_\"&$A42),'Time Entry Sheet'!$A$3:$I$499,8,FALSE),\"Error\")=\"Error\",\"\",IF(VLOOKUP(($B$2&\"_\"&$A42),'Time Entry Sheet'!$A$3:$I$499,8,FALSE)=\"\",\"\",VLOOKUP(($B$2&\"_\"&$A42),'Time Entry Sheet'!$A$3:$I$499,8,FALSE)))","v":""},{"$f":"IF(IFERROR(VLOOKUP(($B$2&\"_\"&$A42),'Time Entry Sheet'!$A$3:$I$499,7,FALSE),\"Error\")=\"Error\",\"\",IF(VLOOKUP(($B$2&\"_\"&$A42),'Time Entry Sheet'!$A$3:$I$499,7,FALSE)=\"\",\"\",VLOOKUP(($B$2&\"_\"&$A42),'Time Entry Sheet'!$A$3:$I$499,7,FALSE)))","v":""},"00:01:16.190","00:01:16.190",19,{"$f":"IF(A42=\"\",\"\",M42+VLOOKUP(A42,'Test 11'!$A$12:$Q$51,16,FALSE))","v":"00:15:42.230"},20,null,"","00:15:42.230"]
[32,{"$f":"IF($A43=\"\",\"\",IF(VLOOKUP($A43,Competitors!$A$2:$G$60,2,FALSE)=\"\",\"\",VLOOKUP($A43,Competitors!$A$2:$G$60,2,FALSE)))","v":""},{"$f":"IF($A43=\"\",\"\",IF(VLOOKUP($A43,Competitors!$A$2:$G$60,7,FALSE)=\"\",\"\",VLOOKUP($A43,Competitors!$A$2:$G$60,7,FALSE)))","v":""},{"$f":"IF($A43=\"\",\"\",IF(VLOOKUP($A43,Competitors!$A$2:$G$60,5,FALSE)=\"\",\"\",VLOOKUP($A43,Competitors!$A$2:$G$60,5,FALSE)))","v":""},{"$f":"IF($A43=\"\",\"\",IF(VLOOKUP($A43,Competitors!$A$2:$G$60,6,FALSE)=\"\",\"\",VLOOKUP($A43,Competitors!$A$2:$G$60,6,FALSE)))","v":"senior"},{"$f":"IF($A43=\"\",\"\",IF(VLOOKUP($A43,Competitors!$A$2:$G$60,3,FALSE)=\"\",\"\",VLOOKUP($A43,Competitors!$A$2:$G$60,3,FALSE)))","v":""},{"$f":"IF($A43=\"\",\"\",IF(VLOOKUP($A43,Competitors!$A$2:$G$60,4,FALSE)=\"\",\"\",VLOOKUP($A43,Competitors!$A$2:$G$60,4,FALSE)))","v":""},{"$f":"IF(VLOOKUP(A43,Competitors!$A$1:$H$41,8,FALSE)=\"\",\"\",VLOOKUP(A43,Competitors!$A$1:$H$41,8,FALSE))","v":""},{"$f":"IF(IFERROR(VLOOKUP(($B$2&\"_\"&$A43),'Time Entry Sheet'!$A$3:$I$499,9,0),\"Error\")=\"Error\",\"\",IF(VLOOKUP(($B$2&\"_\"&$A43),'Time Entry Sheet'!$A$3:$I$499,9,FALSE)=\"wd\",\"wd\",VLOOKUP(($B$2&\"_\"&$A43),'Time Entry Sheet'!$A$3:$I$499,9,FALSE)*1))","v":""},"",{"$f":"IF(IFERROR(VLOOKUP(($B$2&\"_\"&$A43),'Time Entry Sheet'!$A$3:$I$499,8,FALSE),\"Error\")=\"Error\",\"\",IF(VLOOKUP(($B$2&\"_\"&$A43),'Time Entry Sheet'!$A$3:$I$499,8,FALSE)=\"\",\"\",VLOOKUP(($B$2&\"_\"&$A43),'Time Entry Sheet'!$A$3:$I$499,8,FALSE)))","v":""},{"$f":"IF(IFERROR(VLOOKUP(($B$2&\"_\"&$A43),'Time Entry Sheet'!$A$3:$I$499,7,FALSE),\"Error\")=\"Error\",\"\",IF(VLOOKUP(($B$2&\"_\"&$A43),'Time Entry Sheet'!$A$3:$I$499,7,FALSE)=\"\",\"\",VLOOKUP(($B$2&\"_\"&$A43),'Time Entry Sheet'!$A$3:$I$499,7,FALSE)))","v":""},"00:01:16.190","00:01:16.190",19,{"$f":"IF(A43=\"\",\"\",M43+VLOOKUP(A43,'Test 11'!$A$12:$Q$51,16,FALSE))","v":"00:15:42.230"},20,null,"","00:15:42.230"]
[33,{"$f":"IF($A44=\"\",\"\",IF(VLOOKUP($A44,Competitors!$A$2:$G$60,2,FALSE)=\"\",\"\",VLOOKUP($A44,Competitors!$A$2:$G$60,2,FALSE)))","v":""},{"$f":"IF($A44=\"\",\"\",IF(VLOOKUP($A44,Competitors!$A$2:$G$60,7,FALSE)=\"\",\"\",VLOOKUP($A44,Competitors!$A$2:$G$60,7,FALSE)))","v":""},{"$f":"IF($A44=\"\",\"\",IF(VLOOKUP($A44,Competitors!$A$2:$G$60,5,FALSE)=\"\",\"\",VLOOKUP($A44,Competitors!$A$2:$G$60,5,FALSE)))","v":""},{"$f":"IF($A44=\"\",\"\",IF(VLOOKUP($A44,Competitors!$A$2:$G$60,6,FALSE)=\"\",\"\",VLOOKUP($A44,Competitors!$A$2:$G$60,6,FALSE)))","v":"senior"},{"$f":"IF($A44=\"\",\"\",IF(VLOOKUP($A44,Competitors!$A$2:$G$60,3,FALSE)=\"\",\"\",VLOOKUP($A44,Competitors!$A$2:$G$60,3,FALSE)))","v":""},{"$f":"IF($A44=\"\",\"\",IF(VLOOKUP($A44,Competitors!$A$2:$G$60,4,FALSE)=\"\",\"\",VLOOKUP($A44,Competitors!$A$2:$G$60,4,FALSE)))","v":""},{"$f":"IF(VLOOKUP(A44,Competitors!$A$1:$H$41,8,FALSE)=\"\",\"\",VLOOKUP(A44,Competitors!$A$1:$H$41,8,FALSE))","v":""},{"$f":"IF(IFERROR(VLOOKUP(($B$2&\"_\"&$A44),'Time Entry Sheet'!$A$3:$I$499,9,0),\"Error\")=\"Error\",\"\",IF(VLOOKUP(($B$2&\"_\"&$A44),'Time Entry Sheet'!$A$3:$I$499,9,FALSE)=\"wd\",\"wd\",VLOOKUP(($B$2&\"_\"&$A44),'Time Entry Sheet'!$A$3:$I$499,9,FALSE)*1))","v":""},"",{"$f":"IF(IFERROR(VLOOKUP(($B$2&\"_\"&$A44),'Time Entry Sheet'!$A$3:$I$499,8,FALSE),\"Error\")=\"Error\",\"\",IF(VLOOKUP(($B$2&\"_\"&$A44),'Time Entry Sheet'!$A$3:$I$499,8,FALSE)=\"\",\"\",VLOOKUP(($B$2&\"_\"&$A44),'Time Entry Sheet'!$A$3:$I$499,8,FALSE)))","v":""},{"$f":"IF(IFERROR(VLOOKUP(($B$2&\"_\"&$A44),'Time Entry Sheet'!$A$3:$I$499,7,FALSE),\"Error\")=\"Error\",\"\",IF(VLOOKUP(($B$2&\"_\"&$A44),'Time Entry Sheet'!$A$3:$I$499,7,FALSE)=\"\",\"\",VLOOKUP(($B$2&\"_\"&$A44),'Time Entry Sheet'!$A$3:$I$499,7,FALSE)))","v":""},"00:01:16.190","00:01:16.190",19,{"$f":"IF(A44=\"\",\"\",M44+VLOOKUP(A44,'Test 11'!$A$12:$Q$51,16,FALSE))","v":"00:15:42.230"},20,null,"","00:15:42.230"]
[34,{"$f":"IF($A45=\"\",\"\",IF(VLOOKUP($A45,Competitors!$A$2:$G$60,2,FALSE)=\"\",\"\",VLOOKUP($A45,Competitors!$A$2:$G$60,2,FALSE)))","v":""},{"$f":"IF($A45=\"\",\"\",IF(VLOOKUP($A45,Competitors!$A$2:$G$60,7,FALSE)=\"\",\"\",VLOOKUP($A45,Competitors!$A$2:$G$60,7,FALSE)))","v":""},{"$f":"IF($A45=\"\",\"\",IF(VLOOKUP($A45,Competitors!$A$2:$G$60,5,FALSE)=\"\",\"\",VLOOKUP($A45,Competitors!$A$2:$G$60,5,FALSE)))","v":""},{"$f":"IF($A45=\"\",\"\",IF(VLOOKUP($A45,Competitors!$A$2:$G$60,6,FALSE)=\"\",\"\",VLOOKUP($A45,Competitors!$A$2:$G$60,6,FALSE)))","v":"senior"},{"$f":"IF($A45=\"\",\"\",IF(VLOOKUP($A45,Competitors!$A$2:$G$60,3,FALSE)=\"\",\"\",VLOOKUP($A45,Competitors!$A$2:$G$60,3,FALSE)))","v":""},{"$f":"IF($A45=\"\",\"\",IF(VLOOKUP($A45,Competitors!$A$2:$G$60,4,FALSE)=\"\",\"\",VLOOKUP($A45,Competitors!$A$2:$G$60,4,FALSE)))","v":""},{"$f":"IF(VLOOKUP(A45,Competitors!$A$1:$H$41,8,FALSE)=\"\",\"\",VLOOKUP(A45,Competitors!$A$1:$H$41,8,FALSE))","v":""},{"$f":"IF(IFERROR(VLOOKUP(($B$2&\"_\"&$A45),'Time Entry Sheet'!$A$3:$I$499,9,0),\"Error\")=\"Error\",\"\",IF(VLOOKUP(($B$2&\"_\"&$A45),'Time Entry Sheet'!$A$3:$I$499,9,FALSE)=\"wd\",\"wd\",VLOOKUP(($B$2&\"_\"&$A45),'Time Entry Sheet'!$A$3:$I$499,9,FALSE)*1))","v":""},"",{"$f":"IF(IFERROR(VLOOKUP(($B$2&\"_\"&$A45),'Time Entry Sheet'!$A$3:$I$499,8,FALSE),\"Error\")=\"Error\",\"\",IF(VLOOKUP(($B$2&\"_\"&$A45),'Time Entry Sheet'!$A$3:$I$499,8,FALSE)=\"\",\"\",VLOOKUP(($B$2&\"_\"&$A45),'Time Entry Sheet'!$A$3:$I$499,8,FALSE)))","v":""},{"$f":"IF(IFERROR(VLOOKUP(($B$2&\"_\"&$A45),'Time Entry Sheet'!$A$3:$I$499,7,FALSE),\"Error\")=\"Error\",\"\",IF(VLOOKUP(($B$2&\"_\"&$A45),'Time Entry Sheet'!$A$3:$I$499,7,FALSE)=\"\",\"\",VLOOKUP(($B$2&\"_\"&$A45),'Time Entry Sheet'!$A$3:$I$499,7,FALSE)))","v":""},"00:01:16.190","00:01:16.190",19,{"$f":"IF(A45=\"\",\"\",M45+VLOOKUP(A45,'Test 11'!$A$12:$Q$51,16,FALSE))","v":"00:15:42.230"},20,null,"","00:15:42.230"]
[35,{"$f":"IF($A46=\"\",\"\",IF(VLOOKUP($A46,Competitors!$A$2:$G$60,2,FALSE)=\"\",\"\",VLOOKUP($A46,Competitors!$A$2:$G$60,2,FALSE)))","v":""},{"$f":"IF($A46=\"\",\"\",IF(VLOOKUP($A46,Competitors!$A$2:$G$60,7,FALSE)=\"\",\"\",VLOOKUP($A46,Competitors!$A$2:$G$60,7,FALSE)))","v":""},{"$f":"IF($A46=\"\",\"\",IF(VLOOKUP($A46,Competitors!$A$2:$G$60,5,FALSE)=\"\",\"\",VLOOKUP($A46,Competitors!$A$2:$G$60,5,FALSE)))","v":""},{"$f":"IF($A46=\"\",\"\",IF(VLOOKUP($A46,Competitors!$A$2:$G$60,6,FALSE)=\"\",\"\",VLOOKUP($A46,Competitors!$A$2:$G$60,6,FALSE)))","v":"senior"},{"$f":"IF($A46=\"\",\"\",IF(VLOOKUP($A46,Competitors!$A$2:$G$60,3,FALSE)=\"\",\"\",VLOOKUP($A46,Competitors!$A$2:$G$60,3,FALSE)))","v":""},{"$f":"IF($A46=\"\",\"\",IF(VLOOKUP($A46,Competitors!$A$2:$G$60,4,FALSE)=\"\",\"\",VLOOKUP($A46,Competitors!$A$2:$G$60,4,FALSE)))","v":""},{"$f":"IF(VLOOKUP(A46,Competitors!$A$1:$H$41,8,FALSE)=\"\",\"\",VLOOKUP(A46,Competitors!$A$1:$H$41,8,FALSE))","v":""},{"$f":"IF(IFERROR(VLOOKUP(($B$2&\"_\"&$A46),'Time Entry Sheet'!$A$3:$I$499,9,0),\"Error\")=\"Error\",\"\",IF(VLOOKUP(($B$2&\"_\"&$A46),'Time Entry Sheet'!$A$3:$I$499,9,FALSE)=\"wd\",\"wd\",VLOOKUP(($B$2&\"_\"&$A46),'Time Entry Sheet'!$A$3:$I$499,9,FALSE)*1))","v":""},"",{"$f":"IF(IFERROR(VLOOKUP(($B$2&\"_\"&$A46),'Time Entry Sheet'!$A$3:$I$499,8,FALSE),\"Error\")=\"Error\",\"\",IF(VLOOKUP(($B$2&\"_\"&$A46),'Time Entry Sheet'!$A$3:$I$499,8,FALSE)=\"\",\"\",VLOOKUP(($B$2&\"_\"&$A46),'Time Entry Sheet'!$A$3:$I$499,8,FALSE)))","v":""},{"$f":"IF(IFERROR(VLOOKUP(($B$2&\"_\"&$A46),'Time Entry Sheet'!$A$3:$I$499,7,FALSE),\"Error\")=\"Error\",\"\",IF(VLOOKUP(($B$2&\"_\"&$A46),'Time Entry Sheet'!$A$3:$I$499,7,FALSE)=\"\",\"\",VLOOKUP(($B$2&\"_\"&$A46),'Time Entry Sheet'!$A$3:$I$499,7,FALSE)))","v":""},"00:01:16.190","00:01:16.190",19,{"$f":"IF(A46=\"\",\"\",M46+VLOOKUP(A46,'Test 11'!$A$12:$Q$51,16,FALSE))","v":"00:15:42.230"},20,null,"","00:15:42.230"]
[36,{"$f":"IF($A47=\"\",\"\",IF(VLOOKUP($A47,Competitors!$A$2:$G$60,2,FALSE)=\"\",\"\",VLOOKUP($A47,Competitors!$A$2:$G$60,2,FALSE)))","v":""},{"$f":"IF($A47=\"\",\"\",IF(VLOOKUP($A47,Competitors!$A$2:$G$60,7,FALSE)=\"\",\"\",VLOOKUP($A47,Competitors!$A$2:$G$60,7,FALSE)))","v":""},{"$f":"IF($A47=\"\",\"\",IF(VLOOKUP($A47,Competitors!$A$2:$G$60,5,FALSE)=\"\",\"\",VLOOKUP($A47,Competitors!$A$2:$G$60,5,FALSE)))","v":""},{"$f":"IF($A47=\"\",\"\",IF(VLOOKUP($A47,Competitors!$A$2:$G$60,6,FALSE)=\"\",\"\",VLOOKUP($A47,Competitors!$A$2:$G$60,6,FALSE)))","v":"senior"},{"$f":"IF($A47=\"\",\"\",IF(VLOOKUP($A47,Competitors!$A$2:$G$60,3,FALSE)=\"\",\"\",VLOOKUP($A47,Competitors!$A$2:$G$60,3,FALSE)))","v":""},{"$f":"IF($A47=\"\",\"\",IF(VLOOKUP($A47,Competitors!$A$2:$G$60,4,FALSE)=\"\",\"\",VLOOKUP($A47,Competitors!$A$2:$G$60,4,FALSE)))","v":""},{"$f":"IF(VLOOKUP(A47,Competitors!$A$1:$H$41,8,FALSE)=\"\",\"\",VLOOKUP(A47,Competitors!$A$1:$H$41,8,FALSE))","v":""},{"$f":"IF(IFERROR(VLOOKUP(($B$2&\"_\"&$A47),'Time Entry Sheet'!$A$3:$I$499,9,0),\"Error\")=\"Error\",\"\",IF(VLOOKUP(($B$2&\"_\"&$A47),'Time Entry Sheet'!$A$3:$I$499,9,FALSE)=\"wd\",\"wd\",VLOOKUP(($B$2&\"_\"&$A47),'Time Entry Sheet'!$A$3:$I$499,9,FALSE)*1))","v":""},"",{"$f":"IF(IFERROR(VLOOKUP(($B$2&\"_\"&$A47),'Time Entry Sheet'!$A$3:$I$499,8,FALSE),\"Error\")=\"Error\",\"\",IF(VLOOKUP(($B$2&\"_\"&$A47),'Time Entry Sheet'!$A$3:$I$499,8,FALSE)=\"\",\"\",VLOOKUP(($B$2&\"_\"&$A47),'Time Entry Sheet'!$A$3:$I$499,8,FALSE)))","v":""},{"$f":"IF(IFERROR(VLOOKUP(($B$2&\"_\"&$A47),'Time Entry Sheet'!$A$3:$I$499,7,FALSE),\"Error\")=\"Error\",\"\",IF(VLOOKUP(($B$2&\"_\"&$A47),'Time Entry Sheet'!$A$3:$I$499,7,FALSE)=\"\",\"\",VLOOKUP(($B$2&\"_\"&$A47),'Time Entry Sheet'!$A$3:$I$499,7,FALSE)))","v":""},"00:01:16.190","00:01:16.190",19,{"$f":"IF(A47=\"\",\"\",M47+VLOOKUP(A47,'Test 11'!$A$12:$Q$51,16,FALSE))","v":"00:15:42.230"},20,null,"","00:15:42.230"]
[37,{"$f":"IF($A48=\"\",\"\",IF(VLOOKUP($A48,Competitors!$A$2:$G$60,2,FALSE)=\"\",\"\",VLOOKUP($A48,Competitors!$A$2:$G$60,2,FALSE)))","v":""},{"$f":"IF($A48=\"\",\"\",IF(VLOOKUP($A48,Competitors!$A$2:$G$60,7,FALSE)=\"\",\"\",VLOOKUP($A48,Competitors!$A$2:$G$60,7,FALSE)))","v":""},{"$f":"IF($A48=\"\",\"\",IF(VLOOKUP($A48,Competitors!$A$2:$G$60,5,FALSE)=\"\",\"\",VLOOKUP($A48,Competitors!$A$2:$G$60,5,FALSE)))","v":""},{"$f":"IF($A48=\"\",\"\",IF(VLOOKUP($A48,Competitors!$A$2:$G$60,6,FALSE)=\"\",\"\",VLOOKUP($A48,Competitors!$A$2:$G$60,6,FALSE)))","v":"senior"},{"$f":"IF($A48=\"\",\"\",IF(VLOOKUP($A48,Competitors!$A$2:$G$60,3,FALSE)=\"\",\"\",VLOOKUP($A48,Competitors!$A$2:$G$60,3,FALSE)))","v":""},{"$f":"IF($A48=\"\",\"\",IF(VLOOKUP($A48,Competitors!$A$2:$G$60,4,FALSE)=\"\",\"\",VLOOKUP($A48,Competitors!$A$2:$G$60,4,FALSE)))","v":""},{"$f":"IF(VLOOKUP(A48,Competitors!$A$1:$H$41,8,FALSE)=\"\",\"\",VLOOKUP(A48,Competitors!$A$1:$H$41,8,FALSE))","v":""},{"$f":"IF(IFERROR(VLOOKUP(($B$2&\"_\"&$A48),'Time Entry Sheet'!$A$3:$I$499,9,0),\"Error\")=\"Error\",\"\",IF(VLOOKUP(($B$2&\"_\"&$A48),'Time Entry Sheet'!$A$3:$I$499,9,FALSE)=\"wd\",\"wd\",VLOOKUP(($B$2&\"_\"&$A48),'Time Entry Sheet'!$A$3:$I$499,9,FALSE)*1))","v":""},"",{"$f":"IF(IFERROR(VLOOKUP(($B$2&\"_\"&$A48),'Time Entry Sheet'!$A$3:$I$499,8,FALSE),\"Error\")=\"Error\",\"\",IF(VLOOKUP(($B$2&\"_\"&$A48),'Time Entry Sheet'!$A$3:$I$499,8,FALSE)=\"\",\"\",VLOOKUP(($B$2&\"_\"&$A48),'Time Entry Sheet'!$A$3:$I$499,8,FALSE)))","v":""},{"$f":"IF(IFERROR(VLOOKUP(($B$2&\"_\"&$A48),'Time Entry Sheet'!$A$3:$I$499,7,FALSE),\"Error\")=\"Error\",\"\",IF(VLOOKUP(($B$2&\"_\"&$A48),'Time Entry Sheet'!$A$3:$I$499,7,FALSE)=\"\",\"\",VLOOKUP(($B$2&\"_\"&$A48),'Time Entry Sheet'!$A$3:$I$499,7,FALSE)))","v":""},{"$f":"IF(A48=\"\",\"\",IF(I48=\"wd\",IF(E48=\"Senior\",$B$7,$C$7),IF(L48<>\"\",$B$7,IF(I48=\"\",IF(E48=\"Senior\",$B$8,$C$8),IF(K48=\"\",I48,I48+($B$5*K48))))))","v":"00:01:16.190"},"00:01:16.190",19,{"$f":"IF(A48=\"\",\"\",M48+VLOOKUP(A48,'Test 11'!$A$12:$Q$51,16,FALSE))","v":"00:15:42.230"},20,null,"","00:15:42.230"]
[38,{"$f":"IF($A49=\"\",\"\",IF(VLOOKUP($A49,Competitors!$A$2:$G$60,2,FALSE)=\"\",\"\",VLOOKUP($A49,Competitors!$A$2:$G$60,2,FALSE)))","v":""},{"$f":"IF($A49=\"\",\"\",IF(VLOOKUP($A49,Competitors!$A$2:$G$60,7,FALSE)=\"\",\"\",VLOOKUP($A49,Competitors!$A$2:$G$60,7,FALSE)))","v":""},{"$f":"IF($A49=\"\",\"\",IF(VLOOKUP($A49,Competitors!$A$2:$G$60,5,FALSE)=\"\",\"\",VLOOKUP($A49,Competitors!$A$2:$G$60,5,FALSE)))","v":""},{"$f":"IF($A49=\"\",\"\",IF(VLOOKUP($A49,Competitors!$A$2:$G$60,6,FALSE)=\"\",\"\",VLOOKUP($A49,Competitors!$A$2:$G$60,6,FALSE)))","v":"senior"},{"$f":"IF($A49=\"\",\"\",IF(VLOOKUP($A49,Competitors!$A$2:$G$60,3,FALSE)=\"\",\"\",VLOOKUP($A49,Competitors!$A$2:$G$60,3,FALSE)))","v":""},{"$f":"IF($A49=\"\",\"\",IF(VLOOKUP($A49,Competitors!$A$2:$G$60,4,FALSE)=\"\",\"\",VLOOKUP($A49,Competitors!$A$2:$G$60,4,FALSE)))","v":""},{"$f":"IF(VLOOKUP(A49,Competitors!$A$1:$H$41,8,FALSE)=\"\",\"\",VLOOKUP(A49,Competitors!$A$1:$H$41,8,FALSE))","v":""},{"$f":"IF(IFERROR(VLOOKUP(($B$2&\"_\"&$A49),'Time Entry Sheet'!$A$3:$I$499,9,0),\"Error\")=\"Error\",\"\",IF(VLOOKUP(($B$2&\"_\"&$A49),'Time Entry Sheet'!$A$3:$I$499,9,FALSE)=\"wd\",\"wd\",VLOOKUP(($B$2&\"_\"&$A49),'Time Entry Sheet'!$A$3:$I$499,9,FALSE)*1))","v":""},"",{"$f":"IF(IFERROR(VLOOKUP(($B$2&\"_\"&$A49),'Time Entry Sheet'!$A$3:$I$499,8,FALSE),\"Error\")=\"Error\",\"\",IF(VLOOKUP(($B$2&\"_\"&$A49),'Time Entry Sheet'!$A$3:$I$499,8,FALSE)=\"\",\"\",VLOOKUP(($B$2&\"_\"&$A49),'Time Entry Sheet'!$A$3:$I$499,8,FALSE)))","v":""},{"$f":"IF(IFERROR(VLOOKUP(($B$2&\"_\"&$A49),'Time Entry Sheet'!$A$3:$I$499,7,FALSE),\"Error\")=\"Error\",\"\",IF(VLOOKUP(($B$2&\"_\"&$A49),'Time Entry Sheet'!$A$3:$I$499,7,FALSE)=\"\",\"\",VLOOKUP(($B$2&\"_\"&$A49),'Time Entry Sheet'!$A$3:$I$499,7,FALSE)))","v":""},"00:01:16.190","00:01:16.190",19,{"$f":"IF(A49=\"\",\"\",M49+VLOOKUP(A49,'Test 11'!$A$12:$Q$51,16,FALSE))","v":"00:15:42.230"},20,null,"","00:15:42.230"]
[39,{"$f":"IF($A50=\"\",\"\",IF(VLOOKUP($A50,Competitors!$A$2:$G$60,2,FALSE)=\"\",\"\",VLOOKUP($A50,Competitors!$A$2:$G$60,2,FALSE)))","v":""},{"$f":"IF($A50=\"\",\"\",IF(VLOOKUP($A50,Competitors!$A$2:$G$60,7,FALSE)=\"\",\"\",VLOOKUP($A50,Competitors!$A$2:$G$60,7,FALSE)))","v":""},{"$f":"IF($A50=\"\",\"\",IF(VLOOKUP($A50,Competitors!$A$2:$G$60,5,FALSE)=\"\",\"\",VLOOKUP($A50,Competitors!$A$2:$G$60,5,FALSE)))","v":""},{"$f":"IF($A50=\"\",\"\",IF(VLOOKUP($A50,Competitors!$A$2:$G$60,6,FALSE)=\"\",\"\",VLOOKUP($A50,Competitors!$A$2:$G$60,6,FALSE)))","v":"senior"},{"$f":"IF($A50=\"\",\"\",IF(VLOOKUP($A50,Competitors!$A$2:$G$60,3,FALSE)=\"\",\"\",VLOOKUP($A50,Competitors!$A$2:$G$60,3,FALSE)))","v":""},{"$f":"IF($A50=\"\",\"\",IF(VLOOKUP($A50,Competitors!$A$2:$G$60,4,FALSE)=\"\",\"\",VLOOKUP($A50,Competitors!$A$2:$G$60,4,FALSE)))","v":""},{"$f":"IF(VLOOKUP(A50,Competitors!$A$1:$H$41,8,FALSE)=\"\",\"\",VLOOKUP(A50,Competitors!$A$1:$H$41,8,FALSE))","v":""},{"$f":"IF(IFERROR(VLOOKUP(($B$2&\"_\"&$A50),'Time Entry Sheet'!$A$3:$I$499,9,0),\"Error\")=\"Error\",\"\",IF(VLOOKUP(($B$2&\"_\"&$A50),'Time Entry Sheet'!$A$3:$I$499,9,FALSE)=\"wd\",\"wd\",VLOOKUP(($B$2&\"_\"&$A50),'Time Entry Sheet'!$A$3:$I$499,9,FALSE)*1))","v":""},"",{"$f":"IF(IFERROR(VLOOKUP(($B$2&\"_\"&$A50),'Time Entry Sheet'!$A$3:$I$499,8,FALSE),\"Error\")=\"Error\",\"\",IF(VLOOKUP(($B$2&\"_\"&$A50),'Time Entry Sheet'!$A$3:$I$499,8,FALSE)=\"\",\"\",VLOOKUP(($B$2&\"_\"&$A50),'Time Entry Sheet'!$A$3:$I$499,8,FALSE)))","v":""},{"$f":"IF(IFERROR(VLOOKUP(($B$2&\"_\"&$A50),'Time Entry Sheet'!$A$3:$I$499,7,FALSE),\"Error\")=\"Error\",\"\",IF(VLOOKUP(($B$2&\"_\"&$A50),'Time Entry Sheet'!$A$3:$I$499,7,FALSE)=\"\",\"\",VLOOKUP(($B$2&\"_\"&$A50),'Time Entry Sheet'!$A$3:$I$499,7,FALSE)))","v":""},"00:01:16.190","00:01:16.190",19,{"$f":"IF(A50=\"\",\"\",M50+VLOOKUP(A50,'Test 11'!$A$12:$Q$51,16,FALSE))","v":"00:15:42.230"},20,null,null,"00:15:42.230"]
[40,{"$f":"IF($A51=\"\",\"\",IF(VLOOKUP($A51,Competitors!$A$2:$G$60,2,FALSE)=\"\",\"\",VLOOKUP($A51,Competitors!$A$2:$G$60,2,FALSE)))","v":""},{"$f":"IF($A51=\"\",\"\",IF(VLOOKUP($A51,Competitors!$A$2:$G$60,7,FALSE)=\"\",\"\",VLOOKUP($A51,Competitors!$A$2:$G$60,7,FALSE)))","v":""},{"$f":"IF($A51=\"\",\"\",IF(VLOOKUP($A51,Competitors!$A$2:$G$60,5,FALSE)=\"\",\"\",VLOOKUP($A51,Competitors!$A$2:$G$60,5,FALSE)))","v":""},{"$f":"IF($A51=\"\",\"\",IF(VLOOKUP($A51,Competitors!$A$2:$G$60,6,FALSE)=\"\",\"\",VLOOKUP($A51,Competitors!$A$2:$G$60,6,FALSE)))","v":"senior"},{"$f":"IF($A51=\"\",\"\",IF(VLOOKUP($A51,Competitors!$A$2:$G$60,3,FALSE)=\"\",\"\",VLOOKUP($A51,Competitors!$A$2:$G$60,3,FALSE)))","v":""},{"$f":"IF($A51=\"\",\"\",IF(VLOOKUP($A51,Competitors!$A$2:$G$60,4,FALSE)=\"\",\"\",VLOOKUP($A51,Competitors!$A$2:$G$60,4,FALSE)))","v":""},{"$f":"IF(VLOOKUP(A51,Competitors!$A$1:$H$41,8,FALSE)=\"\",\"\",VLOOKUP(A51,Competitors!$A$1:$H$41,8,FALSE))","v":""},{"$f":"IF(IFERROR(VLOOKUP(($B$2&\"_\"&$A51),'Time Entry Sheet'!$A$3:$I$499,9,0),\"Error\")=\"Error\",\"\",IF(VLOOKUP(($B$2&\"_\"&$A51),'Time Entry Sheet'!$A$3:$I$499,9,FALSE)=\"wd\",\"wd\",VLOOKUP(($B$2&\"_\"&$A51),'Time Entry Sheet'!$A$3:$I$499,9,FALSE)*1))","v":""},"",{"$f":"IF(IFERROR(VLOOKUP(($B$2&\"_\"&$A51),'Time Entry Sheet'!$A$3:$I$499,8,FALSE),\"Error\")=\"Error\",\"\",IF(VLOOKUP(($B$2&\"_\"&$A51),'Time Entry Sheet'!$A$3:$I$499,8,FALSE)=\"\",\"\",VLOOKUP(($B$2&\"_\"&$A51),'Time Entry Sheet'!$A$3:$I$499,8,FALSE)))","v":""},{"$f":"IF(IFERROR(VLOOKUP(($B$2&\"_\"&$A51),'Time Entry Sheet'!$A$3:$I$499,7,FALSE),\"Error\")=\"Error\",\"\",IF(VLOOKUP(($B$2&\"_\"&$A51),'Time Entry Sheet'!$A$3:$I$499,7,FALSE)=\"\",\"\",VLOOKUP(($B$2&\"_\"&$A51),'Time Entry Sheet'!$A$3:$I$499,7,FALSE)))","v":""},"00:01:16.190","00:01:16.190",19,{"$f":"IF(A51=\"\",\"\",M51+VLOOKUP(A51,'Test 11'!$A$12:$Q$51,16,FALSE))","v":"00:15:42.230"},20,null,null,"00:15:42.230"]

{"sheet":"Test 13","index":30,"n_rows":51,"n_cols":20,"rows_kept":51,"cut":false,"hidden":false,"merged":[[0,8,0,10]]}
[]
["TEST",13,null,null,null,null,null,null,null,null,"PROVISIONAL RESULTS",null,{"$f":"NOW()","v":42690.814244444446},null,{"$f":"NOW()","v":"2016-11-16T19:32:30.720"}]
["Date:","2015-10-31",null,null,null,null,null,null,null,null,null,"Junior",{"$f":"MIN( IF( $E$8:$E$51=L3, $S$8:$S$51 ) )","v":"00:00:00"},null,"FASTEST"]
["10 sec penalty","00:00:10",null,null,null,null,null,null,null,null,null,"Junior",{"$f":"MAX( IF( $E$8:$E$51=L4, $S$8:$S$51 ) )","v":"00:00:00"},null,"SLOWEST"]
["Flag penalty","00:00:05",null,null,null,null,"SENIOR"]
[null,null,null,null,null,null,"Fastest test time x 2",null,{"$f":"M6*2","v":"00:00:00"},null,null,"Senior",{"$f":"MIN( IF( E11:E51=L6, J11:J51 ) )","v":"00:00:00"},null,"FASTEST"]
["Slowest test time + 5 second penalty",{"$f":"MIN($I$6,$I$7)+$B$5","v":"00:00:05"},{"$f":"MIN($I$9:$I$10)+$B$5","v":"00:00:05"},null,null,null,"Slowest test time",null,{"$f":"M7","v":"00:00:00"},null,null,"Senior",{"$f":"MAX( IF( E11:E51=L7, J11:J51 ) )","v":"00:00:00"},null,"SLOWEST"]
["Failure to Attempt Course (Slowest time + 10 sec)",{"$f":"SUM($I$7,$B$4)","v":"00:00:10"},{"$f":"SUM($I$10,$B$4)","v":"00:00:10"},null,null,null,"JUNIOR"]
[null,null,null,null,null,null,"Fastest test time x 2",null,{"$f":"M3*2","v":"00:00:00"}]
[null,null,null,null,null,null,"Slowest test time",null,{"$f":"M4","v":"00:00:00"}]
["Car Number","Driver","Rookie?","Female Driver?","Junior Driver?","Vehicle","Class","Senior with Passenger?","Time Taken (MM:SS.00)","Time Taken-PenaltyCalculator (MM:SS.00)","No. of Flags &/or Finishes partly out of garage","Slowest time + 5 sec penalty type","Total Test 13 Time","Total Test 1 Time for ranking","Test 13 Position","Cumulative Time Taken (MM:SS.00)","Cumulative Outright Position","Comments","Time Taken-PenaltyCalculator Junior(MM:SS.00)","Cumulative Time Taken (MM:SS.00) for ranking"]
[1,{"$f":"IF($A12=\"\",\"\",IF(VLOOKUP($A12,Competitors!$A$2:$G$60,2,FALSE)=\"\",\"\",VLOOKUP($A12,Competitors!$A$2:$G$60,2,FALSE)))","v":"Paul Dunn"},{"$f":"IF($A12=\"\",\"\",IF(VLOOKUP($A12,Competitors!$A$2:$G$60,7,FALSE)=\"\",\"\",VLOOKUP($A12,Competitors!$A$2:$G$60,7,FALSE)))","v":""},{"$f":"IF($A12=\"\",\"\",IF(VLOOKUP($A12,Competitors!$A$2:$G$60,5,FALSE)=\"\",\"\",VLOOKUP($A12,Competitors!$A$2:$G$60,5,FALSE)))","v":""},{"$f":"IF($A12=\"\",\"\",IF(VLOOKUP($A12,Competitors!$A$2:$G$60,6,FALSE)=\"\",\"\",VLOOKUP($A12,Competitors!$A$2:$G$60,6,FALSE)))","v":"senior"},{"$f":"IF($A12=\"\",\"\",IF(VLOOKUP($A12,Competitors!$A$2:$G$60,3,FALSE)=\"\",\"\",VLOOKUP($A12,Competitors!$A$2:$G$60,3,FALSE)))","v":"Excel"},{"$f":"IF($A12=\"\",\"\",IF(VLOOKUP($A12,Competitors!$A$2:$G$60,4,FALSE)=\"\",\"\",VLOOKUP($A12,Competitors!$A$2:$G$60,4,FALSE)))","v":""},{"$f":"IF(VLOOKUP(A12,Competitors!$A$1:$H$41,8,FALSE)=\"\",\"\",VLOOKUP(A12,Competitors!$A$1:$H$41,8,FALSE))","v":""},{"$f":"IF(IFERROR(VLOOKUP(($B$2&\"_\"&$A12),'Time Entry Sheet'!$A$3:$I$499,9,0),\"Error\")=\"Error\",\"\",IF(VLOOKUP(($B$2&\"_\"&$A12),'Time Entry Sheet'!$A$3:$I$499,9,FALSE)=\"wd\",\"wd\",VLOOKUP(($B$2&\"_\"&$A12),'Time Entry Sheet'!$A$3:$I$499,9,FALSE)*1))","v":""},{"$f":"IF(E12=\"Junior\",\"\",IF(I12=\"wd\",\"\",IF(K12<>\"\",\"\",I12)))","v":""},{"$f":"IF(IFERROR(VLOOKUP(($B$2&\"_\"&$A12),'Time Entry Sheet'!$A$3:$I$499,8,FALSE),\"Error\")=\"Error\",\"\",IF(VLOOKUP(($B$2&\"_\"&$A12),'Time Entry Sheet'!$A$3:$I$499,8,FALSE)=\"\",\"\",VLOOKUP(($B$2&\"_\"&$A12),'Time Entry Sheet'!$A$3:$I$499,8,FALSE)))","v":""},{"$f":"IF(IFERROR(VLOOKUP(($B$2&\"_\"&$A12),'Time Entry Sheet'!$A$3:$I$499,7,FALSE),\"Error\")=\"Error\",\"\",IF(VLOOKUP(($B$2&\"_\"&$A12),'Time Entry Sheet'!$A$3:$I$499,7,FALSE)=\"\",\"\",VLOOKUP(($B$2&\"_\"&$A12),'Time Entry Sheet'!$A$3:$I$499,7,FALSE)))","v":""},{"$f":"IF(A12=\"\",\"\",IF(I12=\"wd\",IF(E12=\"Senior\",$B$7,$C$7),IF(L12<>\"\",$B$7,IF(I12=\"\",IF(E12=\"Senior\",$B$8,$C$8),IF(K12=\"\",I12,I12+($B$5*K12))))))","v":"00:00:10"},{"$f":"IF(H12=\"Passenger\",\"\",M12)","v":"00:00:10"},{"$f":"IF(A12=\"\",\"\",IF(H12=\"Passenger\",\"P\",RANK(N12,$N$12:$N$51,1)))","v":1},{"$f":"IF(A12=\"\",\"\",M12+VLOOKUP(A12,'Test 12'!$A$12:$Q$51,16,FALSE))","v":"00:10:46.360"},{"$f":"IF(A12=\"\",\"\",IF(H12=\"Passenger\",\"P\",RANK(T12,$T$12:$T$51,1)))","v":2},null,{"$f":"IF(E12=\"Senior\",\"\",IF(I12=\"wd\",\"\",IF(K12<>\"\",\"\",I12)))","v":""},{"$f":"IF(H12=\"Passenger\",\"\",P12)","v":"00:10:46.360"}]
[2,{"$f":"IF($A13=\"\",\"\",IF(VLOOKUP($A13,Competitors!$A$2:$G$60,2,FALSE)=\"\",\"\",VLOOKUP($A13,Competitors!$A$2:$G$60,2,FALSE)))","v":"Stephen Thorne"},{"$f":"IF($A13=\"\",\"\",IF(VLOOKUP($A13,Competitors!$A$2:$G$60,7,FALSE)=\"\",\"\",VLOOKUP($A13,Competitors!$A$2:$G$60,7,FALSE)))","v":""},{"$f":"IF($A13=\"\",\"\",IF(VLOOKUP($A13,Competitors!$A$2:$G$60,5,FALSE)=\"\",\"\",VLOOKUP($A13,Competitors!$A$2:$G$60,5,FALSE)))","v":""},{"$f":"IF($A13=\"\",\"\",IF(VLOOKUP($A13,Competitors!$A$2:$G$60,6,FALSE)=\"\",\"\",VLOOKUP($A13,Competitors!$A$2:$G$60,6,FALSE)))","v":"senior"},{"$f":"IF($A13=\"\",\"\",IF(VLOOKUP($A13,Competitors!$A$2:$G$60,3,FALSE)=\"\",\"\",VLOOKUP($A13,Competitors!$A$2:$G$60,3,FALSE)))","v":""},{"$f":"IF($A13=\"\",\"\",IF(VLOOKUP($A13,Competitors!$A$2:$G$60,4,FALSE)=\"\",\"\",VLOOKUP($A13,Competitors!$A$2:$G$60,4,FALSE)))","v":""},{"$f":"IF(VLOOKUP(A13,Competitors!$A$1:$H$41,8,FALSE)=\"\",\"\",VLOOKUP(A13,Competitors!$A$1:$H$41,8,FALSE))","v":""},{"$f":"IF(IFERROR(VLOOKUP(($B$2&\"_\"&$A13),'Time Entry Sheet'!$A$3:$I$499,9,0),\"Error\")=\"Error\",\"\",IF(VLOOKUP(($B$2&\"_\"&$A13),'Time Entry Sheet'!$A$3:$I$499,9,FALSE)=\"wd\",\"wd\",VLOOKUP(($B$2&\"_\"&$A13),'Time Entry Sheet'!$A$3:$I$499,9,FALSE)*1))","v":""},{"$f":"IF(E13=\"Junior\",\"\",IF(I13=\"wd\",\"\",IF(K13<>\"\",\"\",I13)))","v":""},{"$f":"IF(IFERROR(VLOOKUP(($B$2&\"_\"&$A13),'Time Entry Sheet'!$A$3:$I$499,8,FALSE),\"Error\")=\"Error\",\"\",IF(VLOOKUP(($B$2&\"_\"&$A13),'Time Entry Sheet'!$A$3:$I$499,8,FALSE)=\"\",\"\",VLOOKUP(($B$2&\"_\"&$A13),'Time Entry Sheet'!$A$3:$I$499,8,FALSE)))","v":""},{"$f":"IF(IFERROR(VLOOKUP(($B$2&\"_\"&$A13),'Time Entry Sheet'!$A$3:$I$499,7,FALSE),\"Error\")=\"Error\",\"\",IF(VLOOKUP(($B$2&\"_\"&$A13),'Time Entry Sheet'!$A$3:$I$499,7,FALSE)=\"\",\"\",VLOOKUP(($B$2&\"_\"&$A13),'Time Entry Sheet'!$A$3:$I$499,7,FALSE)))","v":""},{"$f":"IF(A13=\"\",\"\",IF(I13=\"wd\",IF(E13=\"Senior\",$B$7,$C$7),IF(L13<>\"\",$B$7,IF(I13=\"\",IF(E13=\"Senior\",$B$8,$C$8),IF(K13=\"\",I13,I13+($B$5*K13))))))","v":"00:00:10"},{"$f":"IF(H13=\"Passenger\",\"\",M13)","v":"00:00:10"},{"$f":"IF(A13=\"\",\"\",IF(H13=\"Passenger\",\"P\",RANK(N13,$N$12:$N$51,1)))","v":1},{"$f":"IF(A13=\"\",\"\",M13+VLOOKUP(A13,'Test 12'!$A$12:$Q$51,16,FALSE))","v":"00:11:07.150"},{"$f":"IF(A13=\"\",\"\",IF(H13=\"Passenger\",\"P\",RANK(T13,$T$12:$T$51,1)))","v":4},null,{"$f":"IF(E13=\"Senior\",\"\",IF(I13=\"wd\",\"\",IF(K13<>\"\",\"\",I13)))","v":""},{"$f":"IF(H13=\"Passenger\",\"\",P13)","v":"00:11:07.150"}]
[3,{"$f":"IF($A14=\"\",\"\",IF(VLOOKUP($A14,Competitors!$A$2:$G$60,2,FALSE)=\"\",\"\",VLOOKUP($A14,Competitors!$A$2:$G$60,2,FALSE)))","v":"David Ballard"},{"$f":"IF($A14=\"\",\"\",IF(VLOOKUP($A14,Competitors!$A$2:$G$60,7,FALSE)=\"\",\"\",VLOOKUP($A14,Competitors!$A$2:$G$60,7,FALSE)))","v":""},{"$f":"IF($A14=\"\",\"\",IF(VLOOKUP($A14,Competitors!$A$2:$G$60,5,FALSE)=\"\",\"\",VLOOKUP($A14,Competitors!$A$2:$G$60,5,FALSE)))","v":""},{"$f":"IF($A14=\"\",\"\",IF(VLOOKUP($A14,Competitors!$A$2:$G$60,6,FALSE)=\"\",\"\",VLOOKUP($A14,Competitors!$A$2:$G$60,6,FALSE)))","v":"senior"},{"$f":"IF($A14=\"\",\"\",IF(VLOOKUP($A14,Competitors!$A$2:$G$60,3,FALSE)=\"\",\"\",VLOOKUP($A14,Competitors!$A$2:$G$60,3,FALSE)))","v":""},{"$f":"IF($A14=\"\",\"\",IF(VLOOKUP($A14,Competitors!$A$2:$G$60,4,FALSE)=\"\",\"\",VLOOKUP($A14,Competitors!$A$2:$G$60,4,FALSE)))","v":""},{"$f":"IF(VLOOKUP(A14,Competitors!$A$1:$H$41,8,FALSE)=\"\",\"\",VLOOKUP(A14,Competitors!$A$1:$H$41,8,FALSE))","v":""},{"$f":"IF(IFERROR(VLOOKUP(($B$2&\"_\"&$A14),'Time Entry Sheet'!$A$3:$I$499,9,0),\"Error\")=\"Error\",\"\",IF(VLOOKUP(($B$2&\"_\"&$A14),'Time Entry Sheet'!$A$3:$I$499,9,FALSE)=\"wd\",\"wd\",VLOOKUP(($B$2&\"_\"&$A14),'Time Entry Sheet'!$A$3:$I$499,9,FALSE)*1))","v":""},"",{"$f":"IF(IFERROR(VLOOKUP(($B$2&\"_\"&$A14),'Time Entry Sheet'!$A$3:$I$499,8,FALSE),\"Error\")=\"Error\",\"\",IF(VLOOKUP(($B$2&\"_\"&$A14),'Time Entry Sheet'!$A$3:$I$499,8,FALSE)=\"\",\"\",VLOOKUP(($B$2&\"_\"&$A14),'Time Entry Sheet'!$A$3:$I$499,8,FALSE)))","v":""},{"$f":"IF(IFERROR(VLOOKUP(($B$2&\"_\"&$A14),'Time Entry Sheet'!$A$3:$I$499,7,FALSE),\"Error\")=\"Error\",\"\",IF(VLOOKUP(($B$2&\"_\"&$A14),'Time Entry Sheet'!$A$3:$I$499,7,FALSE)=\"\",\"\",VLOOKUP(($B$2&\"_\"&$A14),'Time Entry Sheet'!$A$3:$I$499,7,FALSE)))","v":""},"00:00:10","00:00:10",1,{"$f":"IF(A14=\"\",\"\",M14+VLOOKUP(A14,'Test 12'!$A$12:$Q$51,16,FALSE))","v":"00:12:16.210"},12,null,"","00:12:16.210"]
[4,{"$f":"IF($A15=\"\",\"\",IF(VLOOKUP($A15,Competitors!$A$2:$G$60,2,FALSE)=\"\",\"\",VLOOKUP($A15,Competitors!$A$2:$G$60,2,FALSE)))","v":"Michaela Ballard"},{"$f":"IF($A15=\"\",\"\",IF(VLOOKUP($A15,Competitors!$A$2:$G$60,7,FALSE)=\"\",\"\",VLOOKUP($A15,Competitors!$A$2:$G$60,7,FALSE)))","v":"rookie"},{"$f":"IF($A15=\"\",\"\",IF(VLOOKUP($A15,Competitors!$A$2:$G$60,5,FALSE)=\"\",\"\",VLOOKUP($A15,Competitors!$A$2:$G$60,5,FALSE)))","v":"female"},{"$f":"IF($A15=\"\",\"\",IF(VLOOKUP($A15,Competitors!$A$2:$G$60,6,FALSE)=\"\",\"\",VLOOKUP($A15,Competitors!$A$2:$G$60,6,FALSE)))","v":"senior"},{"$f":"IF($A15=\"\",\"\",IF(VLOOKUP($A15,Competitors!$A$2:$G$60,3,FALSE)=\"\",\"\",VLOOKUP($A15,Competitors!$A$2:$G$60,3,FALSE)))","v":""},{"$f":"IF($A15=\"\",\"\",IF(VLOOKUP($A15,Competitors!$A$2:$G$60,4,FALSE)=\"\",\"\",VLOOKUP($A15,Competitors!$A$2:$G$60,4,FALSE)))","v":""},{"$f":"IF(VLOOKUP(A15,Competitors!$A$1:$H$41,8,FALSE)=\"\",\"\",VLOOKUP(A15,Competitors!$A$1:$H$41,8,FALSE))","v":""},{"$f":"IF(IFERROR(VLOOKUP(($B$2&\"_\"&$A15),'Time Entry Sheet'!$A$3:$I$499,9,0),\"Error\")=\"Error\",\"\",IF(VLOOKUP(($B$2&\"_\"&$A15),'Time Entry Sheet'!$A$3:$I$499,9,FALSE)=\"wd\",\"wd\",VLOOKUP(($B$2&\"_\"&$A15),'Time Entry Sheet'!$A$3:$I$499,9,FALSE)*1))","v":""},"",{"$f":"IF(IFERROR(VLOOKUP(($B$2&\"_\"&$A15),'Time Entry Sheet'!$A$3:$I$499,8,FALSE),\"Error\")=\"Error\",\"\",IF(VLOOKUP(($B$2&\"_\"&$A15),'Time Entry Sheet'!$A$3:$I$499,8,FALSE)=\"\",\"\",VLOOKUP(($B$2&\"_\"&$A15),'Time Entry Sheet'!$A$3:$I$499,8,FALSE)))","v":""},{"$f":"IF(IFERROR(VLOOKUP(($B$2&\"_\"&$A15),'Time Entry Sheet'!$A$3:$I$499,7,FALSE),\"Error\")=\"Error\",\"\",IF(VLOOKUP(($B$2&\"_\"&$A15),'Time Entry Sheet'!$A$3:$I$499,7,FALSE)=\"\",\"\",VLOOKUP(($B$2&\"_\"&$A15),'Time Entry Sheet'!$A$3:$I$499,7,FALSE)))","v":""},"00:00:10","00:00:10",1,{"$f":"IF(A15=\"\",\"\",M15+VLOOKUP(A15,'Test 12'!$A$12:$Q$51,16,FALSE))","v":"00:13:24.220"},18,null,"","00:13:24.220"]
[5,{"$f":"IF($A16=\"\",\"\",IF(VLOOKUP($A16,Competitors!$A$2:$G$60,2,FALSE)=\"\",\"\",VLOOKUP($A16,Competitors!$A$2:$G$60,2,FALSE)))","v":"Janelle Ballard"},{"$f":"IF($A16=\"\",\"\",IF(VLOOKUP($A16,Competitors!$A$2:$G$60,7,FALSE)=\"\",\"\",VLOOKUP($A16,Competitors!$A$2:$G$60,7,FALSE)))","v":""},{"$f":"IF($A16=\"\",\"\",IF(VLOOKUP($A16,Competitors!$A$2:$G$60,5,FALSE)=\"\",\"\",VLOOKUP($A16,Competitors!$A$2:$G$60,5,FALSE)))","v":"female"},{"$f":"IF($A16=\"\",\"\",IF(VLOOKUP($A16,Competitors!$A$2:$G$60,6,FALSE)=\"\",\"\",VLOOKUP($A16,Competitors!$A$2:$G$60,6,FALSE)))","v":"senior"},{"$f":"IF($A16=\"\",\"\",IF(VLOOKUP($A16,Competitors!$A$2:$G$60,3,FALSE)=\"\",\"\",VLOOKUP($A16,Competitors!$A$2:$G$60,3,FALSE)))","v":""},{"$f":"IF($A16=\"\",\"\",IF(VLOOKUP($A16,Competitors!$A$2:$G$60,4,FALSE)=\"\",\"\",VLOOKUP($A16,Competitors!$A$2:$G$60,4,FALSE)))","v":""},{"$f":"IF(VLOOKUP(A16,Competitors!$A$1:$H$41,8,FALSE)=\"\",\"\",VLOOKUP(A16,Competitors!$A$1:$H$41,8,FALSE))","v":""},{"$f":"IF(IFERROR(VLOOKUP(($B$2&\"_\"&$A16),'Time Entry Sheet'!$A$3:$I$499,9,0),\"Error\")=\"Error\",\"\",IF(VLOOKUP(($B$2&\"_\"&$A16),'Time Entry Sheet'!$A$3:$I$499,9,FALSE)=\"wd\",\"wd\",VLOOKUP(($B$2&\"_\"&$A16),'Time Entry Sheet'!$A$3:$I$499,9,FALSE)*1))","v":""},"",{"$f":"IF(IFERROR(VLOOKUP(($B$2&\"_\"&$A16),'Time Entry Sheet'!$A$3:$I$499,8,FALSE),\"Error\")=\"Error\",\"\",IF(VLOOKUP(($B$2&\"_\"&$A16),'Time Entry Sheet'!$A$3:$I$499,8,FALSE)=\"\",\"\",VLOOKUP(($B$2&\"_\"&$A16),'Time Entry Sheet'!$A$3:$I$499,8,FALSE)))","v":""},{"$f":"IF(IFERROR(VLOOKUP(($B$2&\"_\"&$A16),'Time Entry Sheet'!$A$3:$I$499,7,FALSE),\"Error\")=\"Error\",\"\",IF(VLOOKUP(($B$2&\"_\"&$A16),'Time Entry Sheet'!$A$3:$I$499,7,FALSE)=\"\",\"\",VLOOKUP(($B$2&\"_\"&$A16),'Time Entry Sheet'!$A$3:$I$499,7,FALSE)))","v":""},"00:00:10","00:00:10",1,{"$f":"IF(A16=\"\",\"\",M16+VLOOKUP(A16,'Test 12'!$A$12:$Q$51,16,FALSE))","v":"00:11:57.350"},8,null,"","00:11:57.350"]
[6,{"$f":"IF($A17=\"\",\"\",IF(VLOOKUP($A17,Competitors!$A$2:$G$60,2,FALSE)=\"\",\"\",VLOOKUP($A17,Competitors!$A$2:$G$60,2,FALSE)))","v":"Issac Wishart"},{"$f":"IF($A17=\"\",\"\",IF(VLOOKUP($A17,Competitors!$A$2:$G$60,7,FALSE)=\"\",\"\",VLOOKUP($A17,Competitors!$A$2:$G$60,7,FALSE)))","v":"rookie"},{"$f":"IF($A17=\"\",\"\",IF(VLOOKUP($A17,Competitors!$A$2:$G$60,5,FALSE)=\"\",\"\",VLOOKUP($A17,Competitors!$A$2:$G$60,5,FALSE)))","v":""},{"$f":"IF($A17=\"\",\"\",IF(VLOOKUP($A17,Competitors!$A$2:$G$60,6,FALSE)=\"\",\"\",VLOOKUP($A17,Competitors!$A$2:$G$60,6,FALSE)))","v":"senior"},{"$f":"IF($A17=\"\",\"\",IF(VLOOKUP($A17,Competitors!$A$2:$G$60,3,FALSE)=\"\",\"\",VLOOKUP($A17,Competitors!$A$2:$G$60,3,FALSE)))","v":""},{"$f":"IF($A17=\"\",\"\",IF(VLOOKUP($A17,Competitors!$A$2:$G$60,4,FALSE)=\"\",\"\",VLOOKUP($A17,Competitors!$A$2:$G$60,4,FALSE)))","v":""},{"$f":"IF(VLOOKUP(A17,Competitors!$A$1:$H$41,8,FALSE)=\"\",\"\",VLOOKUP(A17,Competitors!$A$1:$H$41,8,FALSE))","v":""},{"$f":"IF(IFERROR(VLOOKUP(($B$2&\"_\"&$A17),'Time Entry Sheet'!$A$3:$I$499,9,0),\"Error\")=\"Error\",\"\",IF(VLOOKUP(($B$2&\"_\"&$A17),'Time Entry Sheet'!$A$3:$I$499,9,FALSE)=\"wd\",\"wd\",VLOOKUP(($B$2&\"_\"&$A17),'Time Entry Sheet'!$A$3:$I$499,9,FALSE)*1))","v":""},"",{"$f":"IF(IFERROR(VLOOKUP(($B$2&\"_\"&$A17),'Time Entry Sheet'!$A$3:$I$499,8,FALSE),\"Error\")=\"Error\",\"\",IF(VLOOKUP(($B$2&\"_\"&$A17),'Time Entry Sheet'!$A$3:$I$499,8,FALSE)=\"\",\"\",VLOOKUP(($B$2&\"_\"&$A17),'Time Entry Sheet'!$A$3:$I$499,8,FALSE)))","v":""},{"$f":"IF(IFERROR(VLOOKUP(($B$2&\"_\"&$A17),'Time Entry Sheet'!$A$3:$I$499,7,FALSE),\"Error\")=\"Error\",\"\",IF(VLOOKUP(($B$2&\"_\"&$A17),'Time Entry Sheet'!$A$3:$I$499,7,FALSE)=\"\",\"\",VLOOKUP(($B$2&\"_\"&$A17),'Time Entry Sheet'!$A$3:$I$499,7,FALSE)))","v":""},"00:00:10","00:00:10",1,{"$f":"IF(A17=\"\",\"\",M17+VLOOKUP(A17,'Test 12'!$A$12:$Q$51,16,FALSE))","v":"00:13:00.350"},16,null,"","00:13:00.350"]
[7,{"$f":"IF($A18=\"\",\"\",IF(VLOOKUP($A18,Competitors!$A$2:$G$60,2,FALSE)=\"\",\"\",VLOOKUP($A18,Competitors!$A$2:$G$60,2,FALSE)))","v":""},{"$f":"IF($A18=\"\",\"\",IF(VLOOKUP($A18,Competitors!$A$2:$G$60,7,FALSE)=\"\",\"\",VLOOKUP($A18,Competitors!$A$2:$G$60,7,FALSE)))","v":""},{"$f":"IF($A18=\"\",\"\",IF(VLOOKUP($A18,Competitors!$A$2:$G$60,5,FALSE)=\"\",\"\",VLOOKUP($A18,Competitors!$A$2:$G$60,5,FALSE)))","v":""},{"$f":"IF($A18=\"\",\"\",IF(VLOOKUP($A18,Competitors!$A$2:$G$60,6,FALSE)=\"\",\"\",VLOOKUP($A18,Competitors!$A$2:$G$60,6,FALSE)))","v":"senior"},{"$f":"IF($A18=\"\",\"\",IF(VLOOKUP($A18,Competitors!$A$2:$G$60,3,FALSE)=\"\",\"\",VLOOKUP($A18,Competitors!$A$2:$G$60,3,FALSE)))","v":""},{"$f":"IF($A18=\"\",\"\",IF(VLOOKUP($A18,Competitors!$A$2:$G$60,4,FALSE)=\"\",\"\",VLOOKUP($A18,Competitors!$A$2:$G$60,4,FALSE)))","v":""},{"$f":"IF(VLOOKUP(A18,Competitors!$A$1:$H$41,8,FALSE)=\"\",\"\",VLOOKUP(A18,Competitors!$A$1:$H$41,8,FALSE))","v":""},{"$f":"IF(IFERROR(VLOOKUP(($B$2&\"_\"&$A18),'Time Entry Sheet'!$A$3:$I$499,9,0),\"Error\")=\"Error\",\"\",IF(VLOOKUP(($B$2&\"_\"&$A18),'Time Entry Sheet'!$A$3:$I$499,9,FALSE)=\"wd\",\"wd\",VLOOKUP(($B$2&\"_\"&$A18),'Time Entry Sheet'!$A$3:$I$499,9,FALSE)*1))","v":""},"",{"$f":"IF(IFERROR(VLOOKUP(($B$2&\"_\"&$A18),'Time Entry Sheet'!$A$3:$I$499,8,FALSE),\"Error\")=\"Error\",\"\",IF(VLOOKUP(($B$2&\"_\"&$A18),'Time Entry Sheet'!$A$3:$I$499,8,FALSE)=\"\",\"\",VLOOKUP(($B$2&\"_\"&$A18),'Time Entry Sheet'!$A$3:$I$499,8,FALSE)))","v":""},{"$f":"IF(IFERROR(VLOOKUP(($B$2&\"_\"&$A18),'Time Entry Sheet'!$A$3:$I$499,7,FALSE),\"Error\")=\"Error\",\"\",IF(VLOOKUP(($B$2&\"_\"&$A18),'Time Entry Sheet'!$A$3:$I$499,7,FALSE)=\"\",\"\",VLOOKUP(($B$2&\"_\"&$A18),'Time Entry Sheet'!$A$3:$I$499,7,FALSE)))","v":""},"00:00:10","00:00:10",1,{"$f":"IF(A18=\"\",\"\",M18+VLOOKUP(A18,'Test 12'!$A$12:$Q$51,16,FALSE))","v":"00:15:52.230"},20,null,"","00:15:52.230"]
[8,{"$f":"IF($A19=\"\",\"\",IF(VLOOKUP($A19,Competitors!$A$2:$G$60,2,FALSE)=\"\",\"\",VLOOKUP($A19,Competitors!$A$2:$G$60,2,FALSE)))","v":"Jim Taylor"},{"$f":"IF($A19=\"\",\"\",IF(VLOOKUP($A19,Competitors!$A$2:$G$60,7,FALSE)=\"\",\"\",VLOOKUP($A19,Competitors!$A$2:$G$60,7,FALSE)))","v":""},{"$f":"IF($A19=\"\",\"\",IF(VLOOKUP($A19,Competitors!$A$2:$G$60,5,FALSE)=\"\",\"\",VLOOKUP($A19,Competitors!$A$2:$G$60,5,FALSE)))","v":""},{"$f":"IF($A19=\"\",\"\",IF(VLOOKUP($A19,Competitors!$A$2:$G$60,6,FALSE)=\"\",\"\",VLOOKUP($A19,Competitors!$A$2:$G$60,6,FALSE)))","v":"senior"},{"$f":"IF($A19=\"\",\"\",IF(VLOOKUP($A19,Competitors!$A$2:$G$60,3,FALSE)=\"\",\"\",VLOOKUP($A19,Competitors!$A$2:$G$60,3,FALSE)))","v":""},{"$f":"IF($A19=\"\",\"\",IF(VLOOKUP($A19,Competitors!$A$2:$G$60,4,FALSE)=\"\",\"\",VLOOKUP($A19,Competitors!$A$2:$G$60,4,FALSE)))","v":""},{"$f":"IF(VLOOKUP(A19,Competitors!$A$1:$H$41,8,FALSE)=\"\",\"\",VLOOKUP(A19,Competitors!$A$1:$H$41,8,FALSE))","v":""},{"$f":"IF(IFERROR(VLOOKUP(($B$2&\"_\"&$A19),'Time Entry Sheet'!$A$3:$I$499,9,0),\"Error\")=\"Error\",\"\",IF(VLOOKUP(($B$2&\"_\"&$A19),'Time Entry Sheet'!$A$3:$I$499,9,FALSE)=\"wd\",\"wd\",VLOOKUP(($B$2&\"_\"&$A19),'Time Entry Sheet'!$A$3:$I$499,9,FALSE)*1))","v":""},"",{"$f":"IF(IFERROR(VLOOKUP(($B$2&\"_\"&$A19),'Time Entry Sheet'!$A$3:$I$499,8,FALSE),\"Error\")=\"Error\",\"\",IF(VLOOKUP(($B$2&\"_\"&$A19),'Time Entry Sheet'!$A$3:$I$499,8,FALSE)=\"\",\"\",VLOOKUP(($B$2&\"_\"&$A19),'Time Entry Sheet'!$A$3:$I$499,8,FALSE)))","v":""},{"$f":"IF(IFERROR(VLOOKUP(($B$2&\"_\"&$A19),'Time Entry Sheet'!$A$3:$I$499,7,FALSE),\"Error\")=\"Error\",\"\",IF(VLOOKUP(($B$2&\"_\"&$A19),'Time Entry Sheet'!$A$3:$I$499,7,FALSE)=\"\",\"\",VLOOKUP(($B$2&\"_\"&$A19),'Time Entry Sheet'!$A$3:$I$499,7,FALSE)))","v":""},"00:00:10","00:00:10",1,{"$f":"IF(A19=\"\",\"\",M19+VLOOKUP(A19,'Test 12'!$A$12:$Q$51,16,FALSE))","v":"00:12:17.470"},13,null,"","00:12:17.470"]
[9,{"$f":"IF($A20=\"\",\"\",IF(VLOOKUP($A20,Competitors!$A$2:$G$60,2,FALSE)=\"\",\"\",VLOOKUP($A20,Competitors!$A$2:$G$60,2,FALSE)))","v":"Brad Firman"},{"$f":"IF($A20=\"\",\"\",IF(VLOOKUP($A20,Competitors!$A$2:$G$60,7,FALSE)=\"\",\"\",VLOOKUP($A20,Competitors!$A$2:$G$60,7,FALSE)))","v":""},{"$f":"IF($A20=\"\",\"\",IF(VLOOKUP($A20,Competitors!$A$2:$G$60,5,FALSE)=\"\",\"\",VLOOKUP($A20,Competitors!$A$2:$G$60,5,FALSE)))","v":""},{"$f":"IF($A20=\"\",\"\",IF(VLOOKUP($A20,Competitors!$A$2:$G$60,6,FALSE)=\"\",\"\",VLOOKUP($A20,Competitors!$A$2:$G$60,6,FALSE)))","v":"senior"},{"$f":"IF($A20=\"\",\"\",IF(VLOOKUP($A20,Competitors!$A$2:$G$60,3,FALSE)=\"\",\"\",VLOOKUP($A20,Competitors!$A$2:$G$60,3,FALSE)))","v":""},{"$f":"IF($A20=\"\",\"\",IF(VLOOKUP($A20,Competitors!$A$2:$G$60,4,FALSE)=\"\",\"\",VLOOKUP($A20,Competitors!$A$2:$G$60,4,FALSE)))","v":""},{"$f":"IF(VLOOKUP(A20,Competitors!$A$1:$H$41,8,FALSE)=\"\",\"\",VLOOKUP(A20,Competitors!$A$1:$H$41,8,FALSE))","v":""},{"$f":"IF(IFERROR(VLOOKUP(($B$2&\"_\"&$A20),'Time Entry Sheet'!$A$3:$I$499,9,0),\"Error\")=\"Error\",\"\",IF(VLOOKUP(($B$2&\"_\"&$A20),'Time Entry Sheet'!$A$3:$I$499,9,FALSE)=\"wd\",\"wd\",VLOOKUP(($B$2&\"_\"&$A20),'Time Entry Sheet'!$A$3:$I$499,9,FALSE)*1))","v":""},"",{"$f":"IF(IFERROR(VLOOKUP(($B$2&\"_\"&$A20),'Time Entry Sheet'!$A$3:$I$499,8,FALSE),\"Error\")=\"Error\",\"\",IF(VLOOKUP(($B$2&\"_\"&$A20),'Time Entry Sheet'!$A$3:$I$499,8,FALSE)=\"\",\"\",VLOOKUP(($B$2&\"_\"&$A20),'Time Entry Sheet'!$A$3:$I$499,8,FALSE)))","v":""},{"$f":"IF(IFERROR(VLOOKUP(($B$2&\"_\"&$A20),'Time Entry Sheet'!$A$3:$I$499,7,FALSE),\"Error\")=\"Error\",\"\",IF(VLOOKUP(($B$2&\"_\"&$A20),'Time Entry Sheet'!$A$3:$I$499,7,FALSE)=\"\",\"\",VLOOKUP(($B$2&\"_\"&$A20),'Time Entry Sheet'!$A$3:$I$499,7,FALSE)))","v":""},"00:00:10","00:00:10",1,{"$f":"IF(A20=\"\",\"\",M20+VLOOKUP(A20,'Test 12'!$A$12:$Q$51,16,FALSE))","v":"00:10:50.270"},3,null,"","00:10:50.270"]
[10,{"$f":"IF($A21=\"\",\"\",IF(VLOOKUP($A21,Competitors!$A$2:$G$60,2,FALSE)=\"\",\"\",VLOOKUP($A21,Competitors!$A$2:$G$60,2,FALSE)))","v":"Scott Taylor"},{"$f":"IF($A21=\"\",\"\",IF(VLOOKUP($A21,Competitors!$A$2:$G$60,7,FALSE)=\"\",\"\",VLOOKUP($A21,Competitors!$A$2:$G$60,7,FALSE)))","v":""},{"$f":"IF($A21=\"\",\"\",IF(VLOOKUP($A21,Competitors!$A$2:$G$60,5,FALSE)=\"\",\"\",VLOOKUP($A21,Competitors!$A$2:$G$60,5,FALSE)))","v":""},{"$f":"IF($A21=\"\",\"\",IF(VLOOKUP($A21,Competitors!$A$2:$G$60,6,FALSE)=\"\",\"\",VLOOKUP($A21,Competitors!$A$2:$G$60,6,FALSE)))","v":"senior"},{"$f":"IF($A21=\"\",\"\",IF(VLOOKUP($A21,Competitors!$A$2:$G$60,3,FALSE)=\"\",\"\",VLOOKUP($A21,Competitors!$A$2:$G$60,3,FALSE)))","v":""},{"$f":"IF($A21=\"\",\"\",IF(VLOOKUP($A21,Competitors!$A$2:$G$60,4,FALSE)=\"\",\"\",VLOOKUP($A21,Competitors!$A$2:$G$60,4,FALSE)))","v":""},{"$f":"IF(VLOOKUP(A21,Competitors!$A$1:$H$41,8,FALSE)=\"\",\"\",VLOOKUP(A21,Competitors!$A$1:$H$41,8,FALSE))","v":""},{"$f":"IF(IFERROR(VLOOKUP(($B$2&\"_\"&$A21),'Time Entry Sheet'!$A$3:$I$499,9,0),\"Error\")=\"Error\",\"\",IF(VLOOKUP(($B$2&\"_\"&$A21),'Time Entry Sheet'!$A$3:$I$499,9,FALSE)=\"wd\",\"wd\",VLOOKUP(($B$2&\"_\"&$A21),'Time Entry Sheet'!$A$3:$I$499,9,FALSE)*1))","v":""},"",{"$f":"IF(IFERROR(VLOOKUP(($B$2&\"_\"&$A21),'Time Entry Sheet'!$A$3:$I$499,8,FALSE),\"Error\")=\"Error\",\"\",IF(VLOOKUP(($B$2&\"_\"&$A21),'Time Entry Sheet'!$A$3:$I$499,8,FALSE)=\"\",\"\",VLOOKUP(($B$2&\"_\"&$A21),'Time Entry Sheet'!$A$3:$I$499,8,FALSE)))","v":""},{"$f":"IF(IFERROR(VLOOKUP(($B$2&\"_\"&$A21),'Time Entry Sheet'!$A$3:$I$499,7,FALSE),\"Error\")=\"Error\",\"\",IF(VLOOKUP(($B$2&\"_\"&$A21),'Time Entry Sheet'!$A$3:$I$499,7,FALSE)=\"\",\"\",VLOOKUP(($B$2&\"_\"&$A21),'Time Entry Sheet'!$A$3:$I$499,7,FALSE)))","v":""},"00:00:10","00:00:10",1,{"$f":"IF(A21=\"\",\"\",M21+VLOOKUP(A21,'Test 12'!$A$12:$Q$51,16,FALSE))","v":"00:12:15.120"},11,null,"","00:12:15.120"]
[11,{"$f":"IF($A22=\"\",\"\",IF(VLOOKUP($A22,Competitors!$A$2:$G$60,2,FALSE)=\"\",\"\",VLOOKUP($A22,Competitors!$A$2:$G$60,2,FALSE)))","v":"Russel McKinley"},{"$f":"IF($A22=\"\",\"\",IF(VLOOKUP($A22,Competitors!$A$2:$G$60,7,FALSE)=\"\",\"\",VLOOKUP($A22,Competitors!$A$2:$G$60,7,FALSE)))","v":""},{"$f":"IF($A22=\"\",\"\",IF(VLOOKUP($A22,Competitors!$A$2:$G$60,5,FALSE)=\"\",\"\",VLOOKUP($A22,Competitors!$A$2:$G$60,5,FALSE)))","v":""},{"$f":"IF($A22=\"\",\"\",IF(VLOOKUP($A22,Competitors!$A$2:$G$60,6,FALSE)=\"\",\"\",VLOOKUP($A22,Competitors!$A$2:$G$60,6,FALSE)))","v":"senior"},{"$f":"IF($A22=\"\",\"\",IF(VLOOKUP($A22,Competitors!$A$2:$G$60,3,FALSE)=\"\",\"\",VLOOKUP($A22,Competitors!$A$2:$G$60,3,FALSE)))","v":""},{"$f":"IF($A22=\"\",\"\",IF(VLOOKUP($A22,Competitors!$A$2:$G$60,4,FALSE)=\"\",\"\",VLOOKUP($A22,Competitors!$A$2:$G$60,4,FALSE)))","v":""},{"$f":"IF(VLOOKUP(A22,Competitors!$A$1:$H$41,8,FALSE)=\"\",\"\",VLOOKUP(A22,Competitors!$A$1:$H$41,8,FALSE))","v":""},{"$f":"IF(IFERROR(VLOOKUP(($B$2&\"_\"&$A22),'Time Entry Sheet'!$A$3:$I$499,9,0),\"Error\")=\"Error\",\"\",IF(VLOOKUP(($B$2&\"_\"&$A22),'Time Entry Sheet'!$A$3:$I$499,9,FALSE)=\"wd\",\"wd\",VLOOKUP(($B$2&\"_\"&$A22),'Time Entry Sheet'!$A$3:$I$499,9,FALSE)*1))","v":""},"",{"$f":"IF(IFERROR(VLOOKUP(($B$2&\"_\"&$A22),'Time Entry Sheet'!$A$3:$I$499,8,FALSE),\"Error\")=\"Error\",\"\",IF(VLOOKUP(($B$2&\"_\"&$A22),'Time Entry Sheet'!$A$3:$I$499,8,FALSE)=\"\",\"\",VLOOKUP(($B$2&\"_\"&$A22),'Time Entry Sheet'!$A$3:$I$499,8,FALSE)))","v":""},{"$f":"IF(IFERROR(VLOOKUP(($B$2&\"_\"&$A22),'Time Entry Sheet'!$A$3:$I$499,7,FALSE),\"Error\")=\"Error\",\"\",IF(VLOOKUP(($B$2&\"_\"&$A22),'Time Entry Sheet'!$A$3:$I$499,7,FALSE)=\"\",\"\",VLOOKUP(($B$2&\"_\"&$A22),'Time Entry Sheet'!$A$3:$I$499,7,FALSE)))","v":""},"00:00:10","00:00:10",1,{"$f":"IF(A22=\"\",\"\",M22+VLOOKUP(A22,'Test 12'!$A$12:$Q$51,16,FALSE))","v":"00:13:35.150"},19,null,"","00:13:35.150"]
[12,{"$f":"IF($A23=\"\",\"\",IF(VLOOKUP($A23,Competitors!$A$2:$G$60,2,FALSE)=\"\",\"\",VLOOKUP($A23,Competitors!$A$2:$G$60,2,FALSE)))","v":"Mat Boorman"},{"$f":"IF($A23=\"\",\"\",IF(VLOOKUP($A23,Competitors!$A$2:$G$60,7,FALSE)=\"\",\"\",VLOOKUP($A23,Competitors!$A$2:$G$60,7,FALSE)))","v":""},{"$f":"IF($A23=\"\",\"\",IF(VLOOKUP($A23,Competitors!$A$2:$G$60,5,FALSE)=\"\",\"\",VLOOKUP($A23,Competitors!$A$2:$G$60,5,FALSE)))","v":""},{"$f":"IF($A23=\"\",\"\",IF(VLOOKUP($A23,Competitors!$A$2:$G$60,6,FALSE)=\"\",\"\",VLOOKUP($A23,Competitors!$A$2:$G$60,6,FALSE)))","v":"senior"},{"$f":"IF($A23=\"\",\"\",IF(VLOOKUP($A23,Competitors!$A$2:$G$60,3,FALSE)=\"\",\"\",VLOOKUP($A23,Competitors!$A$2:$G$60,3,FALSE)))","v":""},{"$f":"IF($A23=\"\",\"\",IF(VLOOKUP($A23,Competitors!$A$2:$G$60,4,FALSE)=\"\",\"\",VLOOKUP($A23,Competitors!$A$2:$G$60,4,FALSE)))","v":""},{"$f":"IF(VLOOKUP(A23,Competitors!$A$1:$H$41,8,FALSE)=\"\",\"\",VLOOKUP(A23,Competitors!$A$1:$H$41,8,FALSE))","v":""},{"$f":"IF(IFERROR(VLOOKUP(($B$2&\"_\"&$A23),'Time Entry Sheet'!$A$3:$I$499,9,0),\"Error\")=\"Error\",\"\",IF(VLOOKUP(($B$2&\"_\"&$A23),'Time Entry Sheet'!$A$3:$I$499,9,FALSE)=\"wd\",\"wd\",VLOOKUP(($B$2&\"_\"&$A23),'Time Entry Sheet'!$A$3:$I$499,9,FALSE)*1))","v":""},"",{"$f":"IF(IFERROR(VLOOKUP(($B$2&\"_\"&$A23),'Time Entry Sheet'!$A$3:$I$499,8,FALSE),\"Error\")=\"Error\",\"\",IF(VLOOKUP(($B$2&\"_\"&$A23),'Time Entry Sheet'!$A$3:$I$499,8,FALSE)=\"\",\"\",VLOOKUP(($B$2&\"_\"&$A23),'Time Entry Sheet'!$A$3:$I$499,8,FALSE)))","v":""},{"$f":"IF(IFERROR(VLOOKUP(($B$2&\"_\"&$A23),'Time Entry Sheet'!$A$3:$I$499,7,FALSE),\"Error\")=\"Error\",\"\",IF(VLOOKUP(($B$2&\"_\"&$A23),'Time Entry Sheet'!$A$3:$I$499,7,FALSE)=\"\",\"\",VLOOKUP(($B$2&\"_\"&$A23),'Time Entry Sheet'!$A$3:$I$499,7,FALSE)))","v":""},"00:00:10","00:00:10",1,{"$f":"IF(A23=\"\",\"\",M23+VLOOKUP(A23,'Test 12'!$A$12:$Q$51,16,FALSE))","v":"00:12:47.280"},15,null,"","00:12:47.280"]
[13,{"$f":"IF($A24=\"\",\"\",IF(VLOOKUP($A24,Competitors!$A$2:$G$60,2,FALSE)=\"\",\"\",VLOOKUP($A24,Competitors!$A$2:$G$60,2,FALSE)))","v":"Aaron Wishart"},{"$f":"IF($A24=\"\",\"\",IF(VLOOKUP($A24,Competitors!$A$2:$G$60,7,FALSE)=\"\",\"\",VLOOKUP($A24,Competitors!$A$2:$G$60,7,FALSE)))","v":""},{"$f":"IF($A24=\"\",\"\",IF(VLOOKUP($A24,Competitors!$A$2:$G$60,5,FALSE)=\"\",\"\",VLOOKUP($A24,Competitors!$A$2:$G$60,5,FALSE)))","v":""},{"$f":"IF($A24=\"\",\"\",IF(VLOOKUP($A24,Competitors!$A$2:$G$60,6,FALSE)=\"\",\"\",VLOOKUP($A24,Competitors!$A$2:$G$60,6,FALSE)))","v":"senior"},{"$f":"IF($A24=\"\",\"\",IF(VLOOKUP($A24,Competitors!$A$2:$G$60,3,FALSE)=\"\",\"\",VLOOKUP($A24,Competitors!$A$2:$G$60,3,FALSE)))","v":""},{"$f":"IF($A24=\"\",\"\",IF(VLOOKUP($A24,Competitors!$A$2:$G$60,4,FALSE)=\"\",\"\",VLOOKUP($A24,Competitors!$A$2:$G$60,4,FALSE)))","v":""},{"$f":"IF(VLOOKUP(A24,Competitors!$A$1:$H$41,8,FALSE)=\"\",\"\",VLOOKUP(A24,Competitors!$A$1:$H$41,8,FALSE))","v":""},{"$f":"IF(IFERROR(VLOOKUP(($B$2&\"_\"&$A24),'Time Entry Sheet'!$A$3:$I$499,9,0),\"Error\")=\"Error\",\"\",IF(VLOOKUP(($B$2&\"_\"&$A24),'Time Entry Sheet'!$A$3:$I$499,9,FALSE)=\"wd\",\"wd\",VLOOKUP(($B$2&\"_\"&$A24),'Time Entry Sheet'!$A$3:$I$499,9,FALSE)*1))","v":""},"",{"$f":"IF(IFERROR(VLOOKUP(($B$2&\"_\"&$A24),'Time Entry Sheet'!$A$3:$I$499,8,FALSE),\"Error\")=\"Error\",\"\",IF(VLOOKUP(($B$2&\"_\"&$A24),'Time Entry Sheet'!$A$3:$I$499,8,FALSE)=\"\",\"\",VLOOKUP(($B$2&\"_\"&$A24),'Time Entry Sheet'!$A$3:$I$499,8,FALSE)))","v":""},{"$f":"IF(IFERROR(VLOOKUP(($B$2&\"_\"&$A24),'Time Entry Sheet'!$A$3:$I$499,7,FALSE),\"Error\")=\"Error\",\"\",IF(VLOOKUP(($B$2&\"_\"&$A24),'Time Entry Sheet'!$A$3:$I$499,7,FALSE)=\"\",\"\",VLOOKUP(($B$2&\"_\"&$A24),'Time Entry Sheet'!$A$3:$I$499,7,FALSE)))","v":""},"00:00:10","00:00:10",1,{"$f":"IF(A24=\"\",\"\",M24+VLOOKUP(A24,'Test 12'!$A$12:$Q$51,16,FALSE))","v":"00:12:37.920"},14,null,"","00:12:37.920"]
[14,{"$f":"IF($A25=\"\",\"\",IF(VLOOKUP($A25,Competitors!$A$2:$G$60,2,FALSE)=\"\",\"\",VLOOKUP($A25,Competitors!$A$2:$G$60,2,FALSE)))","v":"Bob Fulthorpe"},{"$f":"IF($A25=\"\",\"\",IF(VLOOKUP($A25,Competitors!$A$2:$G$60,7,FALSE)=\"\",\"\",VLOOKUP($A25,Competitors!$A$2:$G$60,7,FALSE)))","v":""},{"$f":"IF($A25=\"\",\"\",IF(VLOOKUP($A25,Competitors!$A$2:$G$60,5,FALSE)=\"\",\"\",VLOOKUP($A25,Competitors!$A$2:$G$60,5,FALSE)))","v":""},{"$f":"IF($A25=\"\",\"\",IF(VLOOKUP($A25,Competitors!$A$2:$G$60,6,FALSE)=\"\",\"\",VLOOKUP($A25,Competitors!$A$2:$G$60,6,FALSE)))","v":"senior"},{"$f":"IF($A25=\"\",\"\",IF(VLOOKUP($A25,Competitors!$A$2:$G$60,3,FALSE)=\"\",\"\",VLOOKUP($A25,Competitors!$A$2:$G$60,3,FALSE)))","v":""},{"$f":"IF($A25=\"\",\"\",IF(VLOOKUP($A25,Competitors!$A$2:$G$60,4,FALSE)=\"\",\"\",VLOOKUP($A25,Competitors!$A$2:$G$60,4,FALSE)))","v":""},{"$f":"IF(VLOOKUP(A25,Competitors!$A$1:$H$41,8,FALSE)=\"\",\"\",VLOOKUP(A25,Competitors!$A$1:$H$41,8,FALSE))","v":""},{"$f":"IF(IFERROR(VLOOKUP(($B$2&\"_\"&$A25),'Time Entry Sheet'!$A$3:$I$499,9,0),\"Error\")=\"Error\",\"\",IF(VLOOKUP(($B$2&\"_\"&$A25),'Time Entry Sheet'!$A$3:$I$499,9,FALSE)=\"wd\",\"wd\",VLOOKUP(($B$2&\"_\"&$A25),'Time Entry Sheet'!$A$3:$I$499,9,FALSE)*1))","v":""},"",{"$f":"IF(IFERROR(VLOOKUP(($B$2&\"_\"&$A25),'Time Entry Sheet'!$A$3:$I$499,8,FALSE),\"Error\")=\"Error\",\"\",IF(VLOOKUP(($B$2&\"_\"&$A25),'Time Entry Sheet'!$A$3:$I$499,8,FALSE)=\"\",\"\",VLOOKUP(($B$2&\"_\"&$A25),'Time Entry Sheet'!$A$3:$I$499,8,FALSE)))","v":""},{"$f":"IF(IFERROR(VLOOKUP(($B$2&\"_\"&$A25),'Time Entry Sheet'!$A$3:$I$499,7,FALSE),\"Error\")=\"Error\",\"\",IF(VLOOKUP(($B$2&\"_\"&$A25),'Time Entry Sheet'!$A$3:$I$499,7,FALSE)=\"\",\"\",VLOOKUP(($B$2&\"_\"&$A25),'Time Entry Sheet'!$A$3:$I$499,7,FALSE)))","v":""},"00:00:10","00:00:10",1,{"$f":"IF(A25=\"\",\"\",M25+VLOOKUP(A25,'Test 12'!$A$12:$Q$51,16,FALSE))","v":"00:11:07.350"},5,null,"","00:11:07.350"]
[15,{"$f":"IF($A26=\"\",\"\",IF(VLOOKUP($A26,Competitors!$A$2:$G$60,2,FALSE)=\"\",\"\",VLOOKUP($A26,Competitors!$A$2:$G$60,2,FALSE)))","v":"Khi Fulthorpe"},{"$f":"IF($A26=\"\",\"\",IF(VLOOKUP($A26,Competitors!$A$2:$G$60,7,FALSE)=\"\",\"\",VLOOKUP($A26,Competitors!$A$2:$G$60,7,FALSE)))","v":""},{"$f":"IF($A26=\"\",\"\",IF(VLOOKUP($A26,Competitors!$A$2:$G$60,5,FALSE)=\"\",\"\",VLOOKUP($A26,Competitors!$A$2:$G$60,5,FALSE)))","v":""},{"$f":"IF($A26=\"\",\"\",IF(VLOOKUP($A26,Competitors!$A$2:$G$60,6,FALSE)=\"\",\"\",VLOOKUP($A26,Competitors!$A$2:$G$60,6,FALSE)))","v":"senior"},{"$f":"IF($A26=\"\",\"\",IF(VLOOKUP($A26,Competitors!$A$2:$G$60,3,FALSE)=\"\",\"\",VLOOKUP($A26,Competitors!$A$2:$G$60,3,FALSE)))","v":""},{"$f":"IF($A26=\"\",\"\",IF(VLOOKUP($A26,Competitors!$A$2:$G$60,4,FALSE)=\"\",\"\",VLOOKUP($A26,Competitors!$A$2:$G$60,4,FALSE)))","v":""},{"$f":"IF(VLOOKUP(A26,Competitors!$A$1:$H$41,8,FALSE)=\"\",\"\",VLOOKUP(A26,Competitors!$A$1:$H$41,8,FALSE))","v":""},{"$f":"IF(IFERROR(VLOOKUP(($B$2&\"_\"&$A26),'Time Entry Sheet'!$A$3:$I$499,9,0),\"Error\")=\"Error\",\"\",IF(VLOOKUP(($B$2&\"_\"&$A26),'Time Entry Sheet'!$A$3:$I$499,9,FALSE)=\"wd\",\"wd\",VLOOKUP(($B$2&\"_\"&$A26),'Time Entry Sheet'!$A$3:$I$499,9,FALSE)*1))","v":""},"",{"$f":"IF(IFERROR(VLOOKUP(($B$2&\"_\"&$A26),'Time Entry Sheet'!$A$3:$I$499,8,FALSE),\"Error\")=\"Error\",\"\",IF(VLOOKUP(($B$2&\"_\"&$A26),'Time Entry Sheet'!$A$3:$I$499,8,FALSE)=\"\",\"\",VLOOKUP(($B$2&\"_\"&$A26),'Time Entry Sheet'!$A$3:$I$499,8,FALSE)))","v":""},{"$f":"IF(IFERROR(VLOOKUP(($B$2&\"_\"&$A26),'Time Entry Sheet'!$A$3:$I$499,7,FALSE),\"Error\")=\"Error\",\"\",IF(VLOOKUP(($B$2&\"_\"&$A26),'Time Entry Sheet'!$A$3:$I$499,7,FALSE)=\"\",\"\",VLOOKUP(($B$2&\"_\"&$A26),'Time Entry Sheet'!$A$3:$I$499,7,FALSE)))","v":""},"00:00:10","00:00:10",1,{"$f":"IF(A26=\"\",\"\",M26+VLOOKUP(A26,'Test 12'!$A$12:$Q$51,16,FALSE))","v":"00:12:07.250"},10,null,"","00:12:07.250"]
[16,{"$f":"IF($A27=\"\",\"\",IF(VLOOKUP($A27,Competitors!$A$2:$G$60,2,FALSE)=\"\",\"\",VLOOKUP($A27,Competitors!$A$2:$G$60,2,FALSE)))","v":"Nathan Senior"},{"$f":"IF($A27=\"\",\"\",IF(VLOOKUP($A27,Competitors!$A$2:$G$60,7,FALSE)=\"\",\"\",VLOOKUP($A27,Competitors!$A$2:$G$60,7,FALSE)))","v":""},{"$f":"IF($A27=\"\",\"\",IF(VLOOKUP($A27,Competitors!$A$2:$G$60,5,FALSE)=\"\",\"\",VLOOKUP($A27,Competitors!$A$2:$G$60,5,FALSE)))","v":""},{"$f":"IF($A27=\"\",\"\",IF(VLOOKUP($A27,Competitors!$A$2:$G$60,6,FALSE)=\"\",\"\",VLOOKUP($A27,Competitors!$A$2:$G$60,6,FALSE)))","v":"senior"},{"$f":"IF($A27=\"\",\"\",IF(VLOOKUP($A27,Competitors!$A$2:$G$60,3,FALSE)=\"\",\"\",VLOOKUP($A27,Competitors!$A$2:$G$60,3,FALSE)))","v":""},{"$f":"IF($A27=\"\",\"\",IF(VLOOKUP($A27,Competitors!$A$2:$G$60,4,FALSE)=\"\",\"\",VLOOKUP($A27,Competitors!$A$2:$G$60,4,FALSE)))","v":""},{"$f":"IF(VLOOKUP(A27,Competitors!$A$1:$H$41,8,FALSE)=\"\",\"\",VLOOKUP(A27,Competitors!$A$1:$H$41,8,FALSE))","v":""},{"$f":"IF(IFERROR(VLOOKUP(($B$2&\"_\"&$A27),'Time Entry Sheet'!$A$3:$I$499,9,0),\"Error\")=\"Error\",\"\",IF(VLOOKUP(($B$2&\"_\"&$A27),'Time Entry Sheet'!$A$3:$I$499,9,FALSE)=\"wd\",\"wd\",VLOOKUP(($B$2&\"_\"&$A27),'Time Entry Sheet'!$A$3:$I$499,9,FALSE)*1))","v":""},"",{"$f":"IF(IFERROR(VLOOKUP(($B$2&\"_\"&$A27),'Time Entry Sheet'!$A$3:$I$499,8,FALSE),\"Error\")=\"Error\",\"\",IF(VLOOKUP(($B$2&\"_\"&$A27),'Time Entry Sheet'!$A$3:$I$499,8,FALSE)=\"\",\"\",VLOOKUP(($B$2&\"_\"&$A27),'Time Entry Sheet'!$A$3:$I$499,8,FALSE)))","v":""},{"$f":"IF(IFERROR(VLOOKUP(($B$2&\"_\"&$A27),'Time Entry Sheet'!$A$3:$I$499,7,FALSE),\"Error\")=\"Error\",\"\",IF(VLOOKUP(($B$2&\"_\"&$A27),'Time Entry Sheet'!$A$3:$I$499,7,FALSE)=\"\",\"\",VLOOKUP(($B$2&\"_\"&$A27),'Time Entry Sheet'!$A$3:$I$499,7,FALSE)))","v":""},"00:00:10","00:00:10",1,{"$f":"IF(A27=\"\",\"\",M27+VLOOKUP(A27,'Test 12'!$A$12:$Q$51,16,FALSE))","v":"00:11:51.190"},7,null,"","00:11:51.190"]
[17,{"$f":"IF($A28=\"\",\"\",IF(VLOOKUP($A28,Competitors!$A$2:$G$60,2,FALSE)=\"\",\"\",VLOOKUP($A28,Competitors!$A$2:$G$60,2,FALSE)))","v":"Reece McIntosh"},{"$f":"IF($A28=\"\",\"\",IF(VLOOKUP($A28,Competitors!$A$2:$G$60,7,FALSE)=\"\",\"\",VLOOKUP($A28,Competitors!$A$2:$G$60,7,FALSE)))","v":""},{"$f":"IF($A28=\"\",\"\",IF(VLOOKUP($A28,Competitors!$A$2:$G$60,5,FALSE)=\"\",\"\",VLOOKUP($A28,Competitors!$A$2:$G$60,5,FALSE)))","v":""},{"$f":"IF($A28=\"\",\"\",IF(VLOOKUP($A28,Competitors!$A$2:$G$60,6,FALSE)=\"\",\"\",VLOOKUP($A28,Competitors!$A$2:$G$60,6,FALSE)))","v":"senior"},{"$f":"IF($A28=\"\",\"\",IF(VLOOKUP($A28,Competitors!$A$2:$G$60,3,FALSE)=\"\",\"\",VLOOKUP($A28,Competitors!$A$2:$G$60,3,FALSE)))","v":""},{"$f":"IF($A28=\"\",\"\",IF(VLOOKUP($A28,Competitors!$A$2:$G$60,4,FALSE)=\"\",\"\",VLOOKUP($A28,Competitors!$A$2:$G$60,4,FALSE)))","v":""},{"$f":"IF(VLOOKUP(A28,Competitors!$A$1:$H$41,8,FALSE)=\"\",\"\",VLOOKUP(A28,Competitors!$A$1:$H$41,8,FALSE))","v":""},{"$f":"IF(IFERROR(VLOOKUP(($B$2&\"_\"&$A28),'Time Entry Sheet'!$A$3:$I$499,9,0),\"Error\")=\"Error\",\"\",IF(VLOOKUP(($B$2&\"_\"&$A28),'Time Entry Sheet'!$A$3:$I$499,9,FALSE)=\"wd\",\"wd\",VLOOKUP(($B$2&\"_\"&$A28),'Time Entry Sheet'!$A$3:$I$499,9,FALSE)*1))","v":""},"",{"$f":"IF(IFERROR(VLOOKUP(($B$2&\"_\"&$A28),'Time Entry Sheet'!$A$3:$I$499,8,FALSE),\"Error\")=\"Error\",\"\",IF(VLOOKUP(($B$2&\"_\"&$A28),'Time Entry Sheet'!$A$3:$I$499,8,FALSE)=\"\",\"\",VLOOKUP(($B$2&\"_\"&$A28),'Time Entry Sheet'!$A$3:$I$499,8,FALSE)))","v":""},{"$f":"IF(IFERROR(VLOOKUP(($B$2&\"_\"&$A28),'Time Entry Sheet'!$A$3:$I$499,7,FALSE),\"Error\")=\"Error\",\"\",IF(VLOOKUP(($B$2&\"_\"&$A28),'Time Entry Sheet'!$A$3:$I$499,7,FALSE)=\"\",\"\",VLOOKUP(($B$2&\"_\"&$A28),'Time Entry Sheet'!$A$3:$I$499,7,FALSE)))","v":""},"00:00:10","00:00:10",1,{"$f":"IF(A28=\"\",\"\",M28+VLOOKUP(A28,'Test 12'!$A$12:$Q$51,16,FALSE))","v":"00:10:30.300"},1,null,"","00:10:30.300"]
[18,{"$f":"IF($A29=\"\",\"\",IF(VLOOKUP($A29,Competitors!$A$2:$G$60,2,FALSE)=\"\",\"\",VLOOKUP($A29,Competitors!$A$2:$G$60,2,FALSE)))","v":"Jack Stanley"},{"$f":"IF($A29=\"\",\"\",IF(VLOOKUP($A29,Competitors!$A$2:$G$60,7,FALSE)=\"\",\"\",VLOOKUP($A29,Competitors!$A$2:$G$60,7,FALSE)))","v":"rookie"},{"$f":"IF($A29=\"\",\"\",IF(VLOOKUP($A29,Competitors!$A$2:$G$60,5,FALSE)=\"\",\"\",VLOOKUP($A29,Competitors!$A$2:$G$60,5,FALSE)))","v":""},{"$f":"IF($A29=\"\",\"\",IF(VLOOKUP($A29,Competitors!$A$2:$G$60,6,FALSE)=\"\",\"\",VLOOKUP($A29,Competitors!$A$2:$G$60,6,FALSE)))","v":"senior"},{"$f":"IF($A29=\"\",\"\",IF(VLOOKUP($A29,Competitors!$A$2:$G$60,3,FALSE)=\"\",\"\",VLOOKUP($A29,Competitors!$A$2:$G$60,3,FALSE)))","v":""},{"$f":"IF($A29=\"\",\"\",IF(VLOOKUP($A29,Competitors!$A$2:$G$60,4,FALSE)=\"\",\"\",VLOOKUP($A29,Competitors!$A$2:$G$60,4,FALSE)))","v":""},{"$f":"IF(VLOOKUP(A29,Competitors!$A$1:$H$41,8,FALSE)=\"\",\"\",VLOOKUP(A29,Competitors!$A$1:$H$41,8,FALSE))","v":""},{"$f":"IF(IFERROR(VLOOKUP(($B$2&\"_\"&$A29),'Time Entry Sheet'!$A$3:$I$499,9,0),\"Error\")=\"Error\",\"\",IF(VLOOKUP(($B$2&\"_\"&$A29),'Time Entry Sheet'!$A$3:$I$499,9,FALSE)=\"wd\",\"wd\",VLOOKUP(($B$2&\"_\"&$A29),'Time Entry Sheet'!$A$3:$I$499,9,FALSE)*1))","v":""},{"$f":"IF(E29=\"Junior\",\"\",IF(I29=\"wd\",\"\",IF(K29<>\"\",\"\",I29)))","v":""},{"$f":"IF(IFERROR(VLOOKUP(($B$2&\"_\"&$A29),'Time Entry Sheet'!$A$3:$I$499,8,FALSE),\"Error\")=\"Error\",\"\",IF(VLOOKUP(($B$2&\"_\"&$A29),'Time Entry Sheet'!$A$3:$I$499,8,FALSE)=\"\",\"\",VLOOKUP(($B$2&\"_\"&$A29),'Time Entry Sheet'!$A$3:$I$499,8,FALSE)))","v":""},{"$f":"IF(IFERROR(VLOOKUP(($B$2&\"_\"&$A29),'Time Entry Sheet'!$A$3:$I$499,7,FALSE),\"Error\")=\"Error\",\"\",IF(VLOOKUP(($B$2&\"_\"&$A29),'Time Entry Sheet'!$A$3:$I$499,7,FALSE)=\"\",\"\",VLOOKUP(($B$2&\"_\"&$A29),'Time Entry Sheet'!$A$3:$I$499,7,FALSE)))","v":""},{"$f":"IF(A29=\"\",\"\",IF(I29=\"wd\",IF(E29=\"Senior\",$B$7,$C$7),IF(L29<>\"\",$B$7,IF(I29=\"\",IF(E29=\"Senior\",$B$8,$C$8),IF(K29=\"\",I29,I29+($B$5*K29))))))","v":"00:00:10"},{"$f":"IF(H29=\"Passenger\",\"\",M29)","v":"00:00:10"},{"$f":"IF(A29=\"\",\"\",IF(H29=\"Passenger\",\"P\",RANK(N29,$N$12:$N$51,1)))","v":1},{"$f":"IF(A29=\"\",\"\",M29+VLOOKUP(A29,'Test 12'!$A$12:$Q$51,16,FALSE))","v":"00:13:19.100"},{"$f":"IF(A29=\"\",\"\",IF(H29=\"Passenger\",\"P\",RANK(T29,$T$12:$T$51,1)))","v":17},null,{"$f":"IF(E29=\"Senior\",\"\",IF(I29=\"wd\",\"\",IF(K29<>\"\",\"\",I29)))","v":""},{"$f":"IF(H29=\"Passenger\",\"\",P29)","v":"00:13:19.100"}]
[19,{"$f":"IF($A30=\"\",\"\",IF(VLOOKUP($A30,Competitors!$A$2:$G$60,2,FALSE)=\"\",\"\",VLOOKUP($A30,Competitors!$A$2:$G$60,2,FALSE)))","v":"Christopher Northey"},{"$f":"IF($A30=\"\",\"\",IF(VLOOKUP($A30,Competitors!$A$2:$G$60,7,FALSE)=\"\",\"\",VLOOKUP($A30,Competitors!$A$2:$G$60,7,FALSE)))","v":""},{"$f":"IF($A30=\"\",\"\",IF(VLOOKUP($A30,Competitors!$A$2:$G$60,5,FALSE)=\"\",\"\",VLOOKUP($A30,Competitors!$A$2:$G$60,5,FALSE)))","v":""},{"$f":"IF($A30=\"\",\"\",IF(VLOOKUP($A30,Competitors!$A$2:$G$60,6,FALSE)=\"\",\"\",VLOOKUP($A30,Competitors!$A$2:$G$60,6,FALSE)))","v":"senior"},{"$f":"IF($A30=\"\",\"\",IF(VLOOKUP($A30,Competitors!$A$2:$G$60,3,FALSE)=\"\",\"\",VLOOKUP($A30,Competitors!$A$2:$G$60,3,FALSE)))","v":""},{"$f":"IF($A30=\"\",\"\",IF(VLOOKUP($A30,Competitors!$A$2:$G$60,4,FALSE)=\"\",\"\",VLOOKUP($A30,Competitors!$A$2:$G$60,4,FALSE)))","v":""},{"$f":"IF(VLOOKUP(A30,Competitors!$A$1:$H$41,8,FALSE)=\"\",\"\",VLOOKUP(A30,Competitors!$A$1:$H$41,8,FALSE))","v":""},{"$f":"IF(IFERROR(VLOOKUP(($B$2&\"_\"&$A30),'Time Entry Sheet'!$A$3:$I$499,9,0),\"Error\")=\"Error\",\"\",IF(VLOOKUP(($B$2&\"_\"&$A30),'Time Entry Sheet'!$A$3:$I$499,9,FALSE)=\"wd\",\"wd\",VLOOKUP(($B$2&\"_\"&$A30),'Time Entry Sheet'!$A$3:$I$499,9,FALSE)*1))","v":""},"",{"$f":"IF(IFERROR(VLOOKUP(($B$2&\"_\"&$A30),'Time Entry Sheet'!$A$3:$I$499,8,FALSE),\"Error\")=\"Error\",\"\",IF(VLOOKUP(($B$2&\"_\"&$A30),'Time Entry Sheet'!$A$3:$I$499,8,FALSE)=\"\",\"\",VLOOKUP(($B$2&\"_\"&$A30),'Time Entry Sheet'!$A$3:$I$499,8,FALSE)))","v":""},{"$f":"IF(IFERROR(VLOOKUP(($B$2&\"_\"&$A30),'Time Entry Sheet'!$A$3:$I$499,7,FALSE),\"Error\")=\"Error\",\"\",IF(VLOOKUP(($B$2&\"_\"&$A30),'Time Entry Sheet'!$A$3:$I$499,7,FALSE)=\"\",\"\",VLOOKUP(($B$2&\"_\"&$A30),'Time Entry Sheet'!$A$3:$I$499,7,FALSE)))","v":""},"00:00:10","00:00:10",1,{"$f":"IF(A30=\"\",\"\",M30+VLOOKUP(A30,'Test 12'!$A$12:$Q$51,16,FALSE))","v":"00:12:01.920"},9,null,"","00:12:01.920"]
[20,{"$f":"IF($A31=\"\",\"\",IF(VLOOKUP($A31,Competitors!$A$2:$G$60,2,FALSE)=\"\",\"\",VLOOKUP($A31,Competitors!$A$2:$G$60,2,FALSE)))","v":"Ray Lampl"},{"$f":"IF($A31=\"\",\"\",IF(VLOOKUP($A31,Competitors!$A$2:$G$60,7,FALSE)=\"\",\"\",VLOOKUP($A31,Competitors!$A$2:$G$60,7,FALSE)))","v":""},{"$f":"IF($A31=\"\",\"\",IF(VLOOKUP($A31,Competitors!$A$2:$G$60,5,FALSE)=\"\",\"\",VLOOKUP($A31,Competitors!$A$2:$G$60,5,FALSE)))","v":""},{"$f":"IF($A31=\"\",\"\",IF(VLOOKUP($A31,Competitors!$A$2:$G$60,6,FALSE)=\"\",\"\",VLOOKUP($A31,Competitors!$A$2:$G$60,6,FALSE)))","v":"senior"},{"$f":"IF($A31=\"\",\"\",IF(VLOOKUP($A31,Competitors!$A$2:$G$60,3,FALSE)=\"\",\"\",VLOOKUP($A31,Competitors!$A$2:$G$60,3,FALSE)))","v":""},{"$f":"IF($A31=\"\",\"\",IF(VLOOKUP($A31,Competitors!$A$2:$G$60,4,FALSE)=\"\",\"\",VLOOKUP($A31,Competitors!$A$2:$G$60,4,FALSE)))","v":""},{"$f":"IF(VLOOKUP(A31,Competitors!$A$1:$H$41,8,FALSE)=\"\",\"\",VLOOKUP(A31,Competitors!$A$1:$H$41,8,FALSE))","v":""},{"$f":"IF(IFERROR(VLOOKUP(($B$2&\"_\"&$A31),'Time Entry Sheet'!$A$3:$I$499,9,0),\"Error\")=\"Error\",\"\",IF(VLOOKUP(($B$2&\"_\"&$A31),'Time Entry Sheet'!$A$3:$I$499,9,FALSE)=\"wd\",\"wd\",VLOOKUP(($B$2&\"_\"&$A31),'Time Entry Sheet'!$A$3:$I$499,9,FALSE)*1))","v":""},"",{"$f":"IF(IFERROR(VLOOKUP(($B$2&\"_\"&$A31),'Time Entry Sheet'!$A$3:$I$499,8,FALSE),\"Error\")=\"Error\",\"\",IF(VLOOKUP(($B$2&\"_\"&$A31),'Time Entry Sheet'!$A$3:$I$499,8,FALSE)=\"\",\"\",VLOOKUP(($B$2&\"_\"&$A31),'Time Entry Sheet'!$A$3:$I$499,8,FALSE)))","v":""},{"$f":"IF(IFERROR(VLOOKUP(($B$2&\"_\"&$A31),'Time Entry Sheet'!$A$3:$I$499,7,FALSE),\"Error\")=\"Error\",\"\",IF(VLOOKUP(($B$2&\"_\"&$A31),'Time Entry Sheet'!$A$3:$I$499,7,FALSE)=\"\",\"\",VLOOKUP(($B$2&\"_\"&$A31),'Time Entry Sheet'!$A$3:$I$499,7,FALSE)))","v":""},"00:00:10","00:00:10",1,{"$f":"IF(A31=\"\",\"\",M31+VLOOKUP(A31,'Test 12'!$A$12:$Q$51,16,FALSE))","v":"00:11:33.110"},6,null,"","00:11:33.110"]
[21,{"$f":"IF($A32=\"\",\"\",IF(VLOOKUP($A32,Competitors!$A$2:$G$60,2,FALSE)=\"\",\"\",VLOOKUP($A32,Competitors!$A$2:$G$60,2,FALSE)))","v":""},{"$f":"IF($A32=\"\",\"\",IF(VLOOKUP($A32,Competitors!$A$2:$G$60,7,FALSE)=\"\",\"\",VLOOKUP($A32,Competitors!$A$2:$G$60,7,FALSE)))","v":""},{"$f":"IF($A32=\"\",\"\",IF(VLOOKUP($A32,Competitors!$A$2:$G$60,5,FALSE)=\"\",\"\",VLOOKUP($A32,Competitors!$A$2:$G$60,5,FALSE)))","v":""},{"$f":"IF($A32=\"\",\"\",IF(VLOOKUP($A32,Competitors!$A$2:$G$60,6,FALSE)=\"\",\"\",VLOOKUP($A32,Competitors!$A$2:$G$60,6,FALSE)))","v":"senior"},{"$f":"IF($A32=\"\",\"\",IF(VLOOKUP($A32,Competitors!$A$2:$G$60,3,FALSE)=\"\",\"\",VLOOKUP($A32,Competitors!$A$2:$G$60,3,FALSE)))","v":""},{"$f":"IF($A32=\"\",\"\",IF(VLOOKUP($A32,Competitors!$A$2:$G$60,4,FALSE)=\"\",\"\",VLOOKUP($A32,Competitors!$A$2:$G$60,4,FALSE)))","v":""},{"$f":"IF(VLOOKUP(A32,Competitors!$A$1:$H$41,8,FALSE)=\"\",\"\",VLOOKUP(A32,Competitors!$A$1:$H$41,8,FALSE))","v":""},{"$f":"IF(IFERROR(VLOOKUP(($B$2&\"_\"&$A32),'Time Entry Sheet'!$A$3:$I$499,9,0),\"Error\")=\"Error\",\"\",IF(VLOOKUP(($B$2&\"_\"&$A32),'Time Entry Sheet'!$A$3:$I$499,9,FALSE)=\"wd\",\"wd\",VLOOKUP(($B$2&\"_\"&$A32),'Time Entry Sheet'!$A$3:$I$499,9,FALSE)*1))","v":""},"",{"$f":"IF(IFERROR(VLOOKUP(($B$2&\"_\"&$A32),'Time Entry Sheet'!$A$3:$I$499,8,FALSE),\"Error\")=\"Error\",\"\",IF(VLOOKUP(($B$2&\"_\"&$A32),'Time Entry Sheet'!$A$3:$I$499,8,FALSE)=\"\",\"\",VLOOKUP(($B$2&\"_\"&$A32),'Time Entry Sheet'!$A$3:$I$499,8,FALSE)))","v":""},{"$f":"IF(IFERROR(VLOOKUP(($B$2&\"_\"&$A32),'Time Entry Sheet'!$A$3:$I$499,7,FALSE),\"Error\")=\"Error\",\"\",IF(VLOOKUP(($B$2&\"_\"&$A32),'Time Entry Sheet'!$A$3:$I$499,7,FALSE)=\"\",\"\",VLOOKUP(($B$2&\"_\"&$A32),'Time Entry Sheet'!$A$3:$I$499,7,FALSE)))","v":""},"00:00:10","00:00:10",1,{"$f":"IF(A32=\"\",\"\",M32+VLOOKUP(A32,'Test 12'!$A$12:$Q$51,16,FALSE))","v":"00:15:52.230"},20,null,"","00:15:52.230"]
[22,{"$f":"IF($A33=\"\",\"\",IF(VLOOKUP($A33,Competitors!$A$2:$G$60,2,FALSE)=\"\",\"\",VLOOKUP($A33,Competitors!$A$2:$G$60,2,FALSE)))","v":""},{"$f":"IF($A33=\"\",\"\",IF(VLOOKUP($A33,Competitors!$A$2:$G$60,7,FALSE)=\"\",\"\",VLOOKUP($A33,Competitors!$A$2:$G$60,7,FALSE)))","v":""},{"$f":"IF($A33=\"\",\"\",IF(VLOOKUP($A33,Competitors!$A$2:$G$60,5,FALSE)=\"\",\"\",VLOOKUP($A33,Competitors!$A$2:$G$60,5,FALSE)))","v":""},{"$f":"IF($A33=\"\",\"\",IF(VLOOKUP($A33,Competitors!$A$2:$G$60,6,FALSE)=\"\",\"\",VLOOKUP($A33,Competitors!$A$2:$G$60,6,FALSE)))","v":"senior"},{"$f":"IF($A33=\"\",\"\",IF(VLOOKUP($A33,Competitors!$A$2:$G$60,3,FALSE)=\"\",\"\",VLOOKUP($A33,Competitors!$A$2:$G$60,3,FALSE)))","v":""},{"$f":"IF($A33=\"\",\"\",IF(VLOOKUP($A33,Competitors!$A$2:$G$60,4,FALSE)=\"\",\"\",VLOOKUP($A33,Competitors!$A$2:$G$60,4,FALSE)))","v":""},{"$f":"IF(VLOOKUP(A33,Competitors!$A$1:$H$41,8,FALSE)=\"\",\"\",VLOOKUP(A33,Competitors!$A$1:$H$41,8,FALSE))","v":""},{"$f":"IF(IFERROR(VLOOKUP(($B$2&\"_\"&$A33),'Time Entry Sheet'!$A$3:$I$499,9,0),\"Error\")=\"Error\",\"\",IF(VLOOKUP(($B$2&\"_\"&$A33),'Time Entry Sheet'!$A$3:$I$499,9,FALSE)=\"wd\",\"wd\",VLOOKUP(($B$2&\"_\"&$A33),'Time Entry Sheet'!$A$3:$I$499,9,FALSE)*1))","v":""},"",{"$f":"IF(IFERROR(VLOOKUP(($B$2&\"_\"&$A33),'Time Entry Sheet'!$A$3:$I$499,8,FALSE),\"Error\")=\"Error\",\"\",IF(VLOOKUP(($B$2&\"_\"&$A33),'Time Entry Sheet'!$A$3:$I$499,8,FALSE)=\"\",\"\",VLOOKUP(($B$2&\"_\"&$A33),'Time Entry Sheet'!$A$3:$I$499,8,FALSE)))","v":""},{"$f":"IF(IFERROR(VLOOKUP(($B$2&\"_\"&$A33),'Time Entry Sheet'!$A$3:$I$499,7,FALSE),\"Error\")=\"Error\",\"\",IF(VLOOKUP(($B$2&\"_\"&$A33),'Time Entry Sheet'!$A$3:$I$499,7,FALSE)=\"\",\"\",VLOOKUP(($B$2&\"_\"&$A33),'Time Entry Sheet'!$A$3:$I$499,7,FALSE)))","v":""},"00:00:10","00:00:10",1,{"$f":"IF(A33=\"\",\"\",M33+VLOOKUP(A33,'Test 12'!$A$12:$Q$51,16,FALSE))","v":"00:15:52.230"},20,null,"","00:15:52.230"]
[23,{"$f":"IF($A34=\"\",\"\",IF(VLOOKUP($A34,Competitors!$A$2:$G$60,2,FALSE)=\"\",\"\",VLOOKUP($A34,Competitors!$A$2:$G$60,2,FALSE)))","v":""},{"$f":"IF($A34=\"\",\"\",IF(VLOOKUP($A34,Competitors!$A$2:$G$60,7,FALSE)=\"\",\"\",VLOOKUP($A34,Competitors!$A$2:$G$60,7,FALSE)))","v":""},{"$f":"IF($A34=\"\",\"\",IF(VLOOKUP($A34,Competitors!$A$2:$G$60,5,FALSE)=\"\",\"\",VLOOKUP($A34,Competitors!$A$2:$G$60,5,FALSE)))","v":""},{"$f":"IF($A34=\"\",\"\",IF(VLOOKUP($A34,Competitors!$A$2:$G$60,6,FALSE)=\"\",\"\",VLOOKUP($A34,Competitors!$A$2:$G$60,6,FALSE)))","v":"senior"},{"$f":"IF($A34=\"\",\"\",IF(VLOOKUP($A34,Competitors!$A$2:$G$60,3,FALSE)=\"\",\"\",VLOOKUP($A34,Competitors!$A$2:$G$60,3,FALSE)))","v":""},{"$f":"IF($A34=\"\",\"\",IF(VLOOKUP($A34,Competitors!$A$2:$G$60,4,FALSE)=\"\",\"\",VLOOKUP($A34,Competitors!$A$2:$G$60,4,FALSE)))","v":""},{"$f":"IF(VLOOKUP(A34,Competitors!$A$1:$H$41,8,FALSE)=\"\",\"\",VLOOKUP(A34,Competitors!$A$1:$H$41,8,FALSE))","v":""},{"$f":"IF(IFERROR(VLOOKUP(($B$2&\"_\"&$A34),'Time Entry Sheet'!$A$3:$I$499,9,0),\"Error\")=\"Error\",\"\",IF(VLOOKUP(($B$2&\"_\"&$A34),'Time Entry Sheet'!$A$3:$I$499,9,FALSE)=\"wd\",\"wd\",VLOOKUP(($B$2&\"_\"&$A34),'Time Entry Sheet'!$A$3:$I$499,9,FALSE)*1))","v":""},"",{"$f":"IF(IFERROR(VLOOKUP(($B$2&\"_\"&$A34),'Time Entry Sheet'!$A$3:$I$499,8,FALSE),\"Error\")=\"Error\",\"\",IF(VLOOKUP(($B$2&\"_\"&$A34),'Time Entry Sheet'!$A$3:$I$499,8,FALSE)=\"\",\"\",VLOOKUP(($B$2&\"_\"&$A34),'Time Entry Sheet'!$A$3:$I$499,8,FALSE)))","v":""},{"$f":"IF(IFERROR(VLOOKUP(($B$2&\"_\"&$A34),'Time Entry Sheet'!$A$3:$I$499,7,FALSE),\"Error\")=\"Error\",\"\",IF(VLOOKUP(($B$2&\"_\"&$A34),'Time Entry Sheet'!$A$3:$I$499,7,FALSE)=\"\",\"\",VLOOKUP(($B$2&\"_\"&$A34),'Time Entry Sheet'!$A$3:$I$499,7,FALSE)))","v":""},"00:00:10","00:00:10",1,{"$f":"IF(A34=\"\",\"\",M34+VLOOKUP(A34,'Test 12'!$A$12:$Q$51,16,FALSE))","v":"00:15:52.230"},20,null,"","00:15:52.230"]
[24,{"$f":"IF($A35=\"\",\"\",IF(VLOOKUP($A35,Competitors!$A$2:$G$60,2,FALSE)=\"\",\"\",VLOOKUP($A35,Competitors!$A$2:$G$60,2,FALSE)))","v":""},{"$f":"IF($A35=\"\",\"\",IF(VLOOKUP($A35,Competitors!$A$2:$G$60,7,FALSE)=\"\",\"\",VLOOKUP($A35,Competitors!$A$2:$G$60,7,FALSE)))","v":""},{"$f":"IF($A35=\"\",\"\",IF(VLOOKUP($A35,Competitors!$A$2:$G$60,5,FALSE)=\"\",\"\",VLOOKUP($A35,Competitors!$A$2:$G$60,5,FALSE)))","v":""},{"$f":"IF($A35=\"\",\"\",IF(VLOOKUP($A35,Competitors!$A$2:$G$60,6,FALSE)=\"\",\"\",VLOOKUP($A35,Competitors!$A$2:$G$60,6,FALSE)))","v":"senior"},{"$f":"IF($A35=\"\",\"\",IF(VLOOKUP($A35,Competitors!$A$2:$G$60,3,FALSE)=\"\",\"\",VLOOKUP($A35,Competitors!$A$2:$G$60,3,FALSE)))","v":""},{"$f":"IF($A35=\"\",\"\",IF(VLOOKUP($A35,Competitors!$A$2:$G$60,4,FALSE)=\"\",\"\",VLOOKUP($A35,Competitors!$A$2:$G$60,4,FALSE)))","v":""},{"$f":"IF(VLOOKUP(A35,Competitors!$A$1:$H$41,8,FALSE)=\"\",\"\",VLOOKUP(A35,Competitors!$A$1:$H$41,8,FALSE))","v":""},{"$f":"IF(IFERROR(VLOOKUP(($B$2&\"_\"&$A35),'Time Entry Sheet'!$A$3:$I$499,9,0),\"Error\")=\"Error\",\"\",IF(VLOOKUP(($B$2&\"_\"&$A35),'Time Entry Sheet'!$A$3:$I$499,9,FALSE)=\"wd\",\"wd\",VLOOKUP(($B$2&\"_\"&$A35),'Time Entry Sheet'!$A$3:$I$499,9,FALSE)*1))","v":""},"",{"$f":"IF(IFERROR(VLOOKUP(($B$2&\"_\"&$A35),'Time Entry Sheet'!$A$3:$I$499,8,FALSE),\"Error\")=\"Error\",\"\",IF(VLOOKUP(($B$2&\"_\"&$A35),'Time Entry Sheet'!$A$3:$I$499,8,FALSE)=\"\",\"\",VLOOKUP(($B$2&\"_\"&$A35),'Time Entry Sheet'!$A$3:$I$499,8,FALSE)))","v":""},{"$f":"IF(IFERROR(VLOOKUP(($B$2&\"_\"&$A35),'Time Entry Sheet'!$A$3:$I$499,7,FALSE),\"Error\")=\"Error\",\"\",IF(VLOOKUP(($B$2&\"_\"&$A35),'Time Entry Sheet'!$A$3:$I$499,7,FALSE)=\"\",\"\",VLOOKUP(($B$2&\"_\"&$A35),'Time Entry Sheet'!$A$3:$I$499,7,FALSE)))","v":""},"00:00:10","00:00:10",1,{"$f":"IF(A35=\"\",\"\",M35+VLOOKUP(A35,'Test 12'!$A$12:$Q$51,16,FALSE))","v":"00:15:52.230"},20,null,"","00:15:52.230"]
[25,{"$f":"IF($A36=\"\",\"\",IF(VLOOKUP($A36,Competitors!$A$2:$G$60,2,FALSE)=\"\",\"\",VLOOKUP($A36,Competitors!$A$2:$G$60,2,FALSE)))","v":""},{"$f":"IF($A36=\"\",\"\",IF(VLOOKUP($A36,Competitors!$A$2:$G$60,7,FALSE)=\"\",\"\",VLOOKUP($A36,Competitors!$A$2:$G$60,7,FALSE)))","v":""},{"$f":"IF($A36=\"\",\"\",IF(VLOOKUP($A36,Competitors!$A$2:$G$60,5,FALSE)=\"\",\"\",VLOOKUP($A36,Competitors!$A$2:$G$60,5,FALSE)))","v":""},{"$f":"IF($A36=\"\",\"\",IF(VLOOKUP($A36,Competitors!$A$2:$G$60,6,FALSE)=\"\",\"\",VLOOKUP($A36,Competitors!$A$2:$G$60,6,FALSE)))","v":"senior"},{"$f":"IF($A36=\"\",\"\",IF(VLOOKUP($A36,Competitors!$A$2:$G$60,3,FALSE)=\"\",\"\",VLOOKUP($A36,Competitors!$A$2:$G$60,3,FALSE)))","v":""},{"$f":"IF($A36=\"\",\"\",IF(VLOOKUP($A36,Competitors!$A$2:$G$60,4,FALSE)=\"\",\"\",VLOOKUP($A36,Competitors!$A$2:$G$60,4,FALSE)))","v":""},{"$f":"IF(VLOOKUP(A36,Competitors!$A$1:$H$41,8,FALSE)=\"\",\"\",VLOOKUP(A36,Competitors!$A$1:$H$41,8,FALSE))","v":""},{"$f":"IF(IFERROR(VLOOKUP(($B$2&\"_\"&$A36),'Time Entry Sheet'!$A$3:$I$499,9,0),\"Error\")=\"Error\",\"\",IF(VLOOKUP(($B$2&\"_\"&$A36),'Time Entry Sheet'!$A$3:$I$499,9,FALSE)=\"wd\",\"wd\",VLOOKUP(($B$2&\"_\"&$A36),'Time Entry Sheet'!$A$3:$I$499,9,FALSE)*1))","v":""},"",{"$f":"IF(IFERROR(VLOOKUP(($B$2&\"_\"&$A36),'Time Entry Sheet'!$A$3:$I$499,8,FALSE),\"Error\")=\"Error\",\"\",IF(VLOOKUP(($B$2&\"_\"&$A36),'Time Entry Sheet'!$A$3:$I$499,8,FALSE)=\"\",\"\",VLOOKUP(($B$2&\"_\"&$A36),'Time Entry Sheet'!$A$3:$I$499,8,FALSE)))","v":""},{"$f":"IF(IFERROR(VLOOKUP(($B$2&\"_\"&$A36),'Time Entry Sheet'!$A$3:$I$499,7,FALSE),\"Error\")=\"Error\",\"\",IF(VLOOKUP(($B$2&\"_\"&$A36),'Time Entry Sheet'!$A$3:$I$499,7,FALSE)=\"\",\"\",VLOOKUP(($B$2&\"_\"&$A36),'Time Entry Sheet'!$A$3:$I$499,7,FALSE)))","v":""},"00:00:10","00:00:10",1,{"$f":"IF(A36=\"\",\"\",M36+VLOOKUP(A36,'Test 12'!$A$12:$Q$51,16,FALSE))","v":"00:15:52.230"},20,null,"","00:15:52.230"]
[26,{"$f":"IF($A37=\"\",\"\",IF(VLOOKUP($A37,Competitors!$A$2:$G$60,2,FALSE)=\"\",\"\",VLOOKUP($A37,Competitors!$A$2:$G$60,2,FALSE)))","v":""},{"$f":"IF($A37=\"\",\"\",IF(VLOOKUP($A37,Competitors!$A$2:$G$60,7,FALSE)=\"\",\"\",VLOOKUP($A37,Competitors!$A$2:$G$60,7,FALSE)))","v":""},{"$f":"IF($A37=\"\",\"\",IF(VLOOKUP($A37,Competitors!$A$2:$G$60,5,FALSE)=\"\",\"\",VLOOKUP($A37,Competitors!$A$2:$G$60,5,FALSE)))","v":""},{"$f":"IF($A37=\"\",\"\",IF(VLOOKUP($A37,Competitors!$A$2:$G$60,6,FALSE)=\"\",\"\",VLOOKUP($A37,Competitors!$A$2:$G$60,6,FALSE)))","v":"senior"},{"$f":"IF($A37=\"\",\"\",IF(VLOOKUP($A37,Competitors!$A$2:$G$60,3,FALSE)=\"\",\"\",VLOOKUP($A37,Competitors!$A$2:$G$60,3,FALSE)))","v":""},{"$f":"IF($A37=\"\",\"\",IF(VLOOKUP($A37,Competitors!$A$2:$G$60,4,FALSE)=\"\",\"\",VLOOKUP($A37,Competitors!$A$2:$G$60,4,FALSE)))","v":""},{"$f":"IF(VLOOKUP(A37,Competitors!$A$1:$H$41,8,FALSE)=\"\",\"\",VLOOKUP(A37,Competitors!$A$1:$H$41,8,FALSE))","v":""},{"$f":"IF(IFERROR(VLOOKUP(($B$2&\"_\"&$A37),'Time Entry Sheet'!$A$3:$I$499,9,0),\"Error\")=\"Error\",\"\",IF(VLOOKUP(($B$2&\"_\"&$A37),'Time Entry Sheet'!$A$3:$I$499,9,FALSE)=\"wd\",\"wd\",VLOOKUP(($B$2&\"_\"&$A37),'Time Entry Sheet'!$A$3:$I$499,9,FALSE)*1))","v":""},"",{"$f":"IF(IFERROR(VLOOKUP(($B$2&\"_\"&$A37),'Time Entry Sheet'!$A$3:$I$499,8,FALSE),\"Error\")=\"Error\",\"\",IF(VLOOKUP(($B$2&\"_\"&$A37),'Time Entry Sheet'!$A$3:$I$499,8,FALSE)=\"\",\"\",VLOOKUP(($B$2&\"_\"&$A37),'Time Entry Sheet'!$A$3:$I$499,8,FALSE)))","v":""},{"$f":"IF(IFERROR(VLOOKUP(($B$2&\"_\"&$A37),'Time Entry Sheet'!$A$3:$I$499,7,FALSE),\"Error\")=\"Error\",\"\",IF(VLOOKUP(($B$2&\"_\"&$A37),'Time Entry Sheet'!$A$3:$I$499,7,FALSE)=\"\",\"\",VLOOKUP(($B$2&\"_\"&$A37),'Time Entry Sheet'!$A$3:$I$499,7,FALSE)))","v":""},"00:00:10","00:00:10",1,{"$f":"IF(A37=\"\",\"\",M37+VLOOKUP(A37,'Test 12'!$A$12:$Q$51,16,FALSE))","v":"00:15:52.230"},20,null,"","00:15:52.230"]
[27,{"$f":"IF($A38=\"\",\"\",IF(VLOOKUP($A38,Competitors!$A$2:$G$60,2,FALSE)=\"\",\"\",VLOOKUP($A38,Competitors!$A$2:$G$60,2,FALSE)))","v":""},{"$f":"IF($A38=\"\",\"\",IF(VLOOKUP($A38,Competitors!$A$2:$G$60,7,FALSE)=\"\",\"\",VLOOKUP($A38,Competitors!$A$2:$G$60,7,FALSE)))","v":""},{"$f":"IF($A38=\"\",\"\",IF(VLOOKUP($A38,Competitors!$A$2:$G$60,5,FALSE)=\"\",\"\",VLOOKUP($A38,Competitors!$A$2:$G$60,5,FALSE)))","v":""},{"$f":"IF($A38=\"\",\"\",IF(VLOOKUP($A38,Competitors!$A$2:$G$60,6,FALSE)=\"\",\"\",VLOOKUP($A38,Competitors!$A$2:$G$60,6,FALSE)))","v":"senior"},{"$f":"IF($A38=\"\",\"\",IF(VLOOKUP($A38,Competitors!$A$2:$G$60,3,FALSE)=\"\",\"\",VLOOKUP($A38,Competitors!$A$2:$G$60,3,FALSE)))","v":""},{"$f":"IF($A38=\"\",\"\",IF(VLOOKUP($A38,Competitors!$A$2:$G$60,4,FALSE)=\"\",\"\",VLOOKUP($A38,Competitors!$A$2:$G$60,4,FALSE)))","v":""},{"$f":"IF(VLOOKUP(A38,Competitors!$A$1:$H$41,8,FALSE)=\"\",\"\",VLOOKUP(A38,Competitors!$A$1:$H$41,8,FALSE))","v":""},{"$f":"IF(IFERROR(VLOOKUP(($B$2&\"_\"&$A38),'Time Entry Sheet'!$A$3:$I$499,9,0),\"Error\")=\"Error\",\"\",IF(VLOOKUP(($B$2&\"_\"&$A38),'Time Entry Sheet'!$A$3:$I$499,9,FALSE)=\"wd\",\"wd\",VLOOKUP(($B$2&\"_\"&$A38),'Time Entry Sheet'!$A$3:$I$499,9,FALSE)*1))","v":""},"",{"$f":"IF(IFERROR(VLOOKUP(($B$2&\"_\"&$A38),'Time Entry Sheet'!$A$3:$I$499,8,FALSE),\"Error\")=\"Error\",\"\",IF(VLOOKUP(($B$2&\"_\"&$A38),'Time Entry Sheet'!$A$3:$I$499,8,FALSE)=\"\",\"\",VLOOKUP(($B$2&\"_\"&$A38),'Time Entry Sheet'!$A$3:$I$499,8,FALSE)))","v":""},{"$f":"IF(IFERROR(VLOOKUP(($B$2&\"_\"&$A38),'Time Entry Sheet'!$A$3:$I$499,7,FALSE),\"Error\")=\"Error\",\"\",IF(VLOOKUP(($B$2&\"_\"&$A38),'Time Entry Sheet'!$A$3:$I$499,7,FALSE)=\"\",\"\",VLOOKUP(($B$2&\"_\"&$A38),'Time Entry Sheet'!$A$3:$I$499,7,FALSE)))","v":""},"00:00:10","00:00:10",1,{"$f":"IF(A38=\"\",\"\",M38+VLOOKUP(A38,'Test 12'!$A$12:$Q$51,16,FALSE))","v":"00:15:52.230"},20,null,null,"00:15:52.230"]
[28,{"$f":"IF($A39=\"\",\"\",IF(VLOOKUP($A39,Competitors!$A$2:$G$60,2,FALSE)=\"\",\"\",VLOOKUP($A39,Competitors!$A$2:$G$60,2,FALSE)))","v":""},{"$f":"IF($A39=\"\",\"\",IF(VLOOKUP($A39,Competitors!$A$2:$G$60,7,FALSE)=\"\",\"\",VLOOKUP($A39,Competitors!$A$2:$G$60,7,FALSE)))","v":""},{"$f":"IF($A39=\"\",\"\",IF(VLOOKUP($A39,Competitors!$A$2:$G$60,5,FALSE)=\"\",\"\",VLOOKUP($A39,Competitors!$A$2:$G$60,5,FALSE)))","v":""},{"$f":"IF($A39=\"\",\"\",IF(VLOOKUP($A39,Competitors!$A$2:$G$60,6,FALSE)=\"\",\"\",VLOOKUP($A39,Competitors!$A$2:$G$60,6,FALSE)))","v":"senior"},{"$f":"IF($A39=\"\",\"\",IF(VLOOKUP($A39,Competitors!$A$2:$G$60,3,FALSE)=\"\",\"\",VLOOKUP($A39,Competitors!$A$2:$G$60,3,FALSE)))","v":""},{"$f":"IF($A39=\"\",\"\",IF(VLOOKUP($A39,Competitors!$A$2:$G$60,4,FALSE)=\"\",\"\",VLOOKUP($A39,Competitors!$A$2:$G$60,4,FALSE)))","v":""},{"$f":"IF(VLOOKUP(A39,Competitors!$A$1:$H$41,8,FALSE)=\"\",\"\",VLOOKUP(A39,Competitors!$A$1:$H$41,8,FALSE))","v":""},{"$f":"IF(IFERROR(VLOOKUP(($B$2&\"_\"&$A39),'Time Entry Sheet'!$A$3:$I$499,9,0),\"Error\")=\"Error\",\"\",IF(VLOOKUP(($B$2&\"_\"&$A39),'Time Entry Sheet'!$A$3:$I$499,9,FALSE)=\"wd\",\"wd\",VLOOKUP(($B$2&\"_\"&$A39),'Time Entry Sheet'!$A$3:$I$499,9,FALSE)*1))","v":""},"",{"$f":"IF(IFERROR(VLOOKUP(($B$2&\"_\"&$A39),'Time Entry Sheet'!$A$3:$I$499,8,FALSE),\"Error\")=\"Error\",\"\",IF(VLOOKUP(($B$2&\"_\"&$A39),'Time Entry Sheet'!$A$3:$I$499,8,FALSE)=\"\",\"\",VLOOKUP(($B$2&\"_\"&$A39),'Time Entry Sheet'!$A$3:$I$499,8,FALSE)))","v":""},{"$f":"IF(IFERROR(VLOOKUP(($B$2&\"_\"&$A39),'Time Entry Sheet'!$A$3:$I$499,7,FALSE),\"Error\")=\"Error\",\"\",IF(VLOOKUP(($B$2&\"_\"&$A39),'Time Entry Sheet'!$A$3:$I$499,7,FALSE)=\"\",\"\",VLOOKUP(($B$2&\"_\"&$A39),'Time Entry Sheet'!$A$3:$I$499,7,FALSE)))","v":""},"00:00:10","00:00:10",1,{"$f":"IF(A39=\"\",\"\",M39+VLOOKUP(A39,'Test 12'!$A$12:$Q$51,16,FALSE))","v":"00:15:52.230"},20,null,"","00:15:52.230"]
[29,{"$f":"IF($A40=\"\",\"\",IF(VLOOKUP($A40,Competitors!$A$2:$G$60,2,FALSE)=\"\",\"\",VLOOKUP($A40,Competitors!$A$2:$G$60,2,FALSE)))","v":""},{"$f":"IF($A40=\"\",\"\",IF(VLOOKUP($A40,Competitors!$A$2:$G$60,7,FALSE)=\"\",\"\",VLOOKUP($A40,Competitors!$A$2:$G$60,7,FALSE)))","v":""},{"$f":"IF($A40=\"\",\"\",IF(VLOOKUP($A40,Competitors!$A$2:$G$60,5,FALSE)=\"\",\"\",VLOOKUP($A40,Competitors!$A$2:$G$60,5,FALSE)))","v":""},{"$f":"IF($A40=\"\",\"\",IF(VLOOKUP($A40,Competitors!$A$2:$G$60,6,FALSE)=\"\",\"\",VLOOKUP($A40,Competitors!$A$2:$G$60,6,FALSE)))","v":"senior"},{"$f":"IF($A40=\"\",\"\",IF(VLOOKUP($A40,Competitors!$A$2:$G$60,3,FALSE)=\"\",\"\",VLOOKUP($A40,Competitors!$A$2:$G$60,3,FALSE)))","v":""},{"$f":"IF($A40=\"\",\"\",IF(VLOOKUP($A40,Competitors!$A$2:$G$60,4,FALSE)=\"\",\"\",VLOOKUP($A40,Competitors!$A$2:$G$60,4,FALSE)))","v":""},{"$f":"IF(VLOOKUP(A40,Competitors!$A$1:$H$41,8,FALSE)=\"\",\"\",VLOOKUP(A40,Competitors!$A$1:$H$41,8,FALSE))","v":""},{"$f":"IF(IFERROR(VLOOKUP(($B$2&\"_\"&$A40),'Time Entry Sheet'!$A$3:$I$499,9,0),\"Error\")=\"Error\",\"\",IF(VLOOKUP(($B$2&\"_\"&$A40),'Time Entry Sheet'!$A$3:$I$499,9,FALSE)=\"wd\",\"wd\",VLOOKUP(($B$2&\"_\"&$A40),'Time Entry Sheet'!$A$3:$I$499,9,FALSE)*1))","v":""},"",{"$f":"IF(IFERROR(VLOOKUP(($B$2&\"_\"&$A40),'Time Entry Sheet'!$A$3:$I$499,8,FALSE),\"Error\")=\"Error\",\"\",IF(VLOOKUP(($B$2&\"_\"&$A40),'Time Entry Sheet'!$A$3:$I$499,8,FALSE)=\"\",\"\",VLOOKUP(($B$2&\"_\"&$A40),'Time Entry Sheet'!$A$3:$I$499,8,FALSE)))","v":""},{"$f":"IF(IFERROR(VLOOKUP(($B$2&\"_\"&$A40),'Time Entry Sheet'!$A$3:$I$499,7,FALSE),\"Error\")=\"Error\",\"\",IF(VLOOKUP(($B$2&\"_\"&$A40),'Time Entry Sheet'!$A$3:$I$499,7,FALSE)=\"\",\"\",VLOOKUP(($B$2&\"_\"&$A40),'Time Entry Sheet'!$A$3:$I$499,7,FALSE)))","v":""},"00:00:10","00:00:10",1,{"$f":"IF(A40=\"\",\"\",M40+VLOOKUP(A40,'Test 12'!$A$12:$Q$51,16,FALSE))","v":"00:15:52.230"},20,null,"","00:15:52.230"]
[30,{"$f":"IF($A41=\"\",\"\",IF(VLOOKUP($A41,Competitors!$A$2:$G$60,2,FALSE)=\"\",\"\",VLOOKUP($A41,Competitors!$A$2:$G$60,2,FALSE)))","v":""},{"$f":"IF($A41=\"\",\"\",IF(VLOOKUP($A41,Competitors!$A$2:$G$60,7,FALSE)=\"\",\"\",VLOOKUP($A41,Competitors!$A$2:$G$60,7,FALSE)))","v":""},{"$f":"IF($A41=\"\",\"\",IF(VLOOKUP($A41,Competitors!$A$2:$G$60,5,FALSE)=\"\",\"\",VLOOKUP($A41,Competitors!$A$2:$G$60,5,FALSE)))","v":""},{"$f":"IF($A41=\"\",\"\",IF(VLOOKUP($A41,Competitors!$A$2:$G$60,6,FALSE)=\"\",\"\",VLOOKUP($A41,Competitors!$A$2:$G$60,6,FALSE)))","v":"senior"},{"$f":"IF($A41=\"\",\"\",IF(VLOOKUP($A41,Competitors!$A$2:$G$60,3,FALSE)=\"\",\"\",VLOOKUP($A41,Competitors!$A$2:$G$60,3,FALSE)))","v":""},{"$f":"IF($A41=\"\",\"\",IF(VLOOKUP($A41,Competitors!$A$2:$G$60,4,FALSE)=\"\",\"\",VLOOKUP($A41,Competitors!$A$2:$G$60,4,FALSE)))","v":""},{"$f":"IF(VLOOKUP(A41,Competitors!$A$1:$H$41,8,FALSE)=\"\",\"\",VLOOKUP(A41,Competitors!$A$1:$H$41,8,FALSE))","v":""},{"$f":"IF(IFERROR(VLOOKUP(($B$2&\"_\"&$A41),'Time Entry Sheet'!$A$3:$I$499,9,0),\"Error\")=\"Error\",\"\",IF(VLOOKUP(($B$2&\"_\"&$A41),'Time Entry Sheet'!$A$3:$I$499,9,FALSE)=\"wd\",\"wd\",VLOOKUP(($B$2&\"_\"&$A41),'Time Entry Sheet'!$A$3:$I$499,9,FALSE)*1))","v":""},"",{"$f":"IF(IFERROR(VLOOKUP(($B$2&\"_\"&$A41),'Time Entry Sheet'!$A$3:$I$499,8,FALSE),\"Error\")=\"Error\",\"\",IF(VLOOKUP(($B$2&\"_\"&$A41),'Time Entry Sheet'!$A$3:$I$499,8,FALSE)=\"\",\"\",VLOOKUP(($B$2&\"_\"&$A41),'Time Entry Sheet'!$A$3:$I$499,8,FALSE)))","v":""},{"$f":"IF(IFERROR(VLOOKUP(($B$2&\"_\"&$A41),'Time Entry Sheet'!$A$3:$I$499,7,FALSE),\"Error\")=\"Error\",\"\",IF(VLOOKUP(($B$2&\"_\"&$A41),'Time Entry Sheet'!$A$3:$I$499,7,FALSE)=\"\",\"\",VLOOKUP(($B$2&\"_\"&$A41),'Time Entry Sheet'!$A$3:$I$499,7,FALSE)))","v":""},"00:00:10","00:00:10",1,{"$f":"IF(A41=\"\",\"\",M41+VLOOKUP(A41,'Test 12'!$A$12:$Q$51,16,FALSE))","v":"00:15:52.230"},20,null,"","00:15:52.230"]
[31,{"$f":"IF($A42=\"\",\"\",IF(VLOOKUP($A42,Competitors!$A$2:$G$60,2,FALSE)=\"\",\"\",VLOOKUP($A42,Competitors!$A$2:$G$60,2,FALSE)))","v":""},{"$f":"IF($A42=\"\",\"\",IF(VLOOKUP($A42,Competitors!$A$2:$G$60,7,FALSE)=\"\",\"\",VLOOKUP($A42,Competitors!$A$2:$G$60,7,FALSE)))","v":""},{"$f":"IF($A42=\"\",\"\",IF(VLOOKUP($A42,Competitors!$A$2:$G$60,5,FALSE)=\"\",\"\",VLOOKUP($A42,Competitors!$A$2:$G$60,5,FALSE)))","v":""},{"$f":"IF($A42=\"\",\"\",IF(VLOOKUP($A42,Competitors!$A$2:$G$60,6,FALSE)=\"\",\"\",VLOOKUP($A42,Competitors!$A$2:$G$60,6,FALSE)))","v":"senior"},{"$f":"IF($A42=\"\",\"\",IF(VLOOKUP($A42,Competitors!$A$2:$G$60,3,FALSE)=\"\",\"\",VLOOKUP($A42,Competitors!$A$2:$G$60,3,FALSE)))","v":""},{"$f":"IF($A42=\"\",\"\",IF(VLOOKUP($A42,Competitors!$A$2:$G$60,4,FALSE)=\"\",\"\",VLOOKUP($A42,Competitors!$A$2:$G$60,4,FALSE)))","v":""},{"$f":"IF(VLOOKUP(A42,Competitors!$A$1:$H$41,8,FALSE)=\"\",\"\",VLOOKUP(A42,Competitors!$A$1:$H$41,8,FALSE))","v":""},{"$f":"IF(IFERROR(VLOOKUP(($B$2&\"_\"&$A42),'Time Entry Sheet'!$A$3:$I$499,9,0),\"Error\")=\"Error\",\"\",IF(VLOOKUP(($B$2&\"_\"&$A42),'Time Entry Sheet'!$A$3:$I$499,9,FALSE)=\"wd\",\"wd\",VLOOKUP(($B$2&\"_\"&$A42),'Time Entry Sheet'!$A$3:$I$499,9,FALSE)*1))","v":""},"",{"$f":"IF(IFERROR(VLOOKUP(($B$2&\"_\"&$A42),'Time Entry Sheet'!$A$3:$I$499,8,FALSE),\"Error\")=\"Error\",\"\",IF(VLOOKUP(($B$2&\"_\"&$A42),'Time Entry Sheet'!$A$3:$I$499,8,FALSE)=\"\",\"\",VLOOKUP(($B$2&\"_\"&$A42),'Time Entry Sheet'!$A$3:$I$499,8,FALSE)))","v":""},{"$f":"IF(IFERROR(VLOOKUP(($B$2&\"_\"&$A42),'Time Entry Sheet'!$A$3:$I$499,7,FALSE),\"Error\")=\"Error\",\"\",IF(VLOOKUP(($B$2&\"_\"&$A42),'Time Entry Sheet'!$A$3:$I$499,7,FALSE)=\"\",\"\",VLOOKUP(($B$2&\"_\"&$A42),'Time Entry Sheet'!$A$3:$I$499,7,FALSE)))","v":""},"00:00:10","00:00:10",1,{"$f":"IF(A42=\"\",\"\",M42+VLOOKUP(A42,'Test 12'!$A$12:$Q$51,16,FALSE))","v":"00:15:52.230"},20,null,"","00:15:52.230"]
[32,{"$f":"IF($A43=\"\",\"\",IF(VLOOKUP($A43,Competitors!$A$2:$G$60,2,FALSE)=\"\",\"\",VLOOKUP($A43,Competitors!$A$2:$G$60,2,FALSE)))","v":""},{"$f":"IF($A43=\"\",\"\",IF(VLOOKUP($A43,Competitors!$A$2:$G$60,7,FALSE)=\"\",\"\",VLOOKUP($A43,Competitors!$A$2:$G$60,7,FALSE)))","v":""},{"$f":"IF($A43=\"\",\"\",IF(VLOOKUP($A43,Competitors!$A$2:$G$60,5,FALSE)=\"\",\"\",VLOOKUP($A43,Competitors!$A$2:$G$60,5,FALSE)))","v":""},{"$f":"IF($A43=\"\",\"\",IF(VLOOKUP($A43,Competitors!$A$2:$G$60,6,FALSE)=\"\",\"\",VLOOKUP($A43,Competitors!$A$2:$G$60,6,FALSE)))","v":"senior"},{"$f":"IF($A43=\"\",\"\",IF(VLOOKUP($A43,Competitors!$A$2:$G$60,3,FALSE)=\"\",\"\",VLOOKUP($A43,Competitors!$A$2:$G$60,3,FALSE)))","v":""},{"$f":"IF($A43=\"\",\"\",IF(VLOOKUP($A43,Competitors!$A$2:$G$60,4,FALSE)=\"\",\"\",VLOOKUP($A43,Competitors!$A$2:$G$60,4,FALSE)))","v":""},{"$f":"IF(VLOOKUP(A43,Competitors!$A$1:$H$41,8,FALSE)=\"\",\"\",VLOOKUP(A43,Competitors!$A$1:$H$41,8,FALSE))","v":""},{"$f":"IF(IFERROR(VLOOKUP(($B$2&\"_\"&$A43),'Time Entry Sheet'!$A$3:$I$499,9,0),\"Error\")=\"Error\",\"\",IF(VLOOKUP(($B$2&\"_\"&$A43),'Time Entry Sheet'!$A$3:$I$499,9,FALSE)=\"wd\",\"wd\",VLOOKUP(($B$2&\"_\"&$A43),'Time Entry Sheet'!$A$3:$I$499,9,FALSE)*1))","v":""},"",{"$f":"IF(IFERROR(VLOOKUP(($B$2&\"_\"&$A43),'Time Entry Sheet'!$A$3:$I$499,8,FALSE),\"Error\")=\"Error\",\"\",IF(VLOOKUP(($B$2&\"_\"&$A43),'Time Entry Sheet'!$A$3:$I$499,8,FALSE)=\"\",\"\",VLOOKUP(($B$2&\"_\"&$A43),'Time Entry Sheet'!$A$3:$I$499,8,FALSE)))","v":""},{"$f":"IF(IFERROR(VLOOKUP(($B$2&\"_\"&$A43),'Time Entry Sheet'!$A$3:$I$499,7,FALSE),\"Error\")=\"Error\",\"\",IF(VLOOKUP(($B$2&\"_\"&$A43),'Time Entry Sheet'!$A$3:$I$499,7,FALSE)=\"\",\"\",VLOOKUP(($B$2&\"_\"&$A43),'Time Entry Sheet'!$A$3:$I$499,7,FALSE)))","v":""},"00:00:10","00:00:10",1,{"$f":"IF(A43=\"\",\"\",M43+VLOOKUP(A43,'Test 12'!$A$12:$Q$51,16,FALSE))","v":"00:15:52.230"},20,null,"","00:15:52.230"]
[33,{"$f":"IF($A44=\"\",\"\",IF(VLOOKUP($A44,Competitors!$A$2:$G$60,2,FALSE)=\"\",\"\",VLOOKUP($A44,Competitors!$A$2:$G$60,2,FALSE)))","v":""},{"$f":"IF($A44=\"\",\"\",IF(VLOOKUP($A44,Competitors!$A$2:$G$60,7,FALSE)=\"\",\"\",VLOOKUP($A44,Competitors!$A$2:$G$60,7,FALSE)))","v":""},{"$f":"IF($A44=\"\",\"\",IF(VLOOKUP($A44,Competitors!$A$2:$G$60,5,FALSE)=\"\",\"\",VLOOKUP($A44,Competitors!$A$2:$G$60,5,FALSE)))","v":""},{"$f":"IF($A44=\"\",\"\",IF(VLOOKUP($A44,Competitors!$A$2:$G$60,6,FALSE)=\"\",\"\",VLOOKUP($A44,Competitors!$A$2:$G$60,6,FALSE)))","v":"senior"},{"$f":"IF($A44=\"\",\"\",IF(VLOOKUP($A44,Competitors!$A$2:$G$60,3,FALSE)=\"\",\"\",VLOOKUP($A44,Competitors!$A$2:$G$60,3,FALSE)))","v":""},{"$f":"IF($A44=\"\",\"\",IF(VLOOKUP($A44,Competitors!$A$2:$G$60,4,FALSE)=\"\",\"\",VLOOKUP($A44,Competitors!$A$2:$G$60,4,FALSE)))","v":""},{"$f":"IF(VLOOKUP(A44,Competitors!$A$1:$H$41,8,FALSE)=\"\",\"\",VLOOKUP(A44,Competitors!$A$1:$H$41,8,FALSE))","v":""},{"$f":"IF(IFERROR(VLOOKUP(($B$2&\"_\"&$A44),'Time Entry Sheet'!$A$3:$I$499,9,0),\"Error\")=\"Error\",\"\",IF(VLOOKUP(($B$2&\"_\"&$A44),'Time Entry Sheet'!$A$3:$I$499,9,FALSE)=\"wd\",\"wd\",VLOOKUP(($B$2&\"_\"&$A44),'Time Entry Sheet'!$A$3:$I$499,9,FALSE)*1))","v":""},"",{"$f":"IF(IFERROR(VLOOKUP(($B$2&\"_\"&$A44),'Time Entry Sheet'!$A$3:$I$499,8,FALSE),\"Error\")=\"Error\",\"\",IF(VLOOKUP(($B$2&\"_\"&$A44),'Time Entry Sheet'!$A$3:$I$499,8,FALSE)=\"\",\"\",VLOOKUP(($B$2&\"_\"&$A44),'Time Entry Sheet'!$A$3:$I$499,8,FALSE)))","v":""},{"$f":"IF(IFERROR(VLOOKUP(($B$2&\"_\"&$A44),'Time Entry Sheet'!$A$3:$I$499,7,FALSE),\"Error\")=\"Error\",\"\",IF(VLOOKUP(($B$2&\"_\"&$A44),'Time Entry Sheet'!$A$3:$I$499,7,FALSE)=\"\",\"\",VLOOKUP(($B$2&\"_\"&$A44),'Time Entry Sheet'!$A$3:$I$499,7,FALSE)))","v":""},"00:00:10","00:00:10",1,{"$f":"IF(A44=\"\",\"\",M44+VLOOKUP(A44,'Test 12'!$A$12:$Q$51,16,FALSE))","v":"00:15:52.230"},20,null,"","00:15:52.230"]
[34,{"$f":"IF($A45=\"\",\"\",IF(VLOOKUP($A45,Competitors!$A$2:$G$60,2,FALSE)=\"\",\"\",VLOOKUP($A45,Competitors!$A$2:$G$60,2,FALSE)))","v":""},{"$f":"IF($A45=\"\",\"\",IF(VLOOKUP($A45,Competitors!$A$2:$G$60,7,FALSE)=\"\",\"\",VLOOKUP($A45,Competitors!$A$2:$G$60,7,FALSE)))","v":""},{"$f":"IF($A45=\"\",\"\",IF(VLOOKUP($A45,Competitors!$A$2:$G$60,5,FALSE)=\"\",\"\",VLOOKUP($A45,Competitors!$A$2:$G$60,5,FALSE)))","v":""},{"$f":"IF($A45=\"\",\"\",IF(VLOOKUP($A45,Competitors!$A$2:$G$60,6,FALSE)=\"\",\"\",VLOOKUP($A45,Competitors!$A$2:$G$60,6,FALSE)))","v":"senior"},{"$f":"IF($A45=\"\",\"\",IF(VLOOKUP($A45,Competitors!$A$2:$G$60,3,FALSE)=\"\",\"\",VLOOKUP($A45,Competitors!$A$2:$G$60,3,FALSE)))","v":""},{"$f":"IF($A45=\"\",\"\",IF(VLOOKUP($A45,Competitors!$A$2:$G$60,4,FALSE)=\"\",\"\",VLOOKUP($A45,Competitors!$A$2:$G$60,4,FALSE)))","v":""},{"$f":"IF(VLOOKUP(A45,Competitors!$A$1:$H$41,8,FALSE)=\"\",\"\",VLOOKUP(A45,Competitors!$A$1:$H$41,8,FALSE))","v":""},{"$f":"IF(IFERROR(VLOOKUP(($B$2&\"_\"&$A45),'Time Entry Sheet'!$A$3:$I$499,9,0),\"Error\")=\"Error\",\"\",IF(VLOOKUP(($B$2&\"_\"&$A45),'Time Entry Sheet'!$A$3:$I$499,9,FALSE)=\"wd\",\"wd\",VLOOKUP(($B$2&\"_\"&$A45),'Time Entry Sheet'!$A$3:$I$499,9,FALSE)*1))","v":""},"",{"$f":"IF(IFERROR(VLOOKUP(($B$2&\"_\"&$A45),'Time Entry Sheet'!$A$3:$I$499,8,FALSE),\"Error\")=\"Error\",\"\",IF(VLOOKUP(($B$2&\"_\"&$A45),'Time Entry Sheet'!$A$3:$I$499,8,FALSE)=\"\",\"\",VLOOKUP(($B$2&\"_\"&$A45),'Time Entry Sheet'!$A$3:$I$499,8,FALSE)))","v":""},{"$f":"IF(IFERROR(VLOOKUP(($B$2&\"_\"&$A45),'Time Entry Sheet'!$A$3:$I$499,7,FALSE),\"Error\")=\"Error\",\"\",IF(VLOOKUP(($B$2&\"_\"&$A45),'Time Entry Sheet'!$A$3:$I$499,7,FALSE)=\"\",\"\",VLOOKUP(($B$2&\"_\"&$A45),'Time Entry Sheet'!$A$3:$I$499,7,FALSE)))","v":""},"00:00:10","00:00:10",1,{"$f":"IF(A45=\"\",\"\",M45+VLOOKUP(A45,'Test 12'!$A$12:$Q$51,16,FALSE))","v":"00:15:52.230"},20,null,"","00:15:52.230"]
[35,{"$f":"IF($A46=\"\",\"\",IF(VLOOKUP($A46,Competitors!$A$2:$G$60,2,FALSE)=\"\",\"\",VLOOKUP($A46,Competitors!$A$2:$G$60,2,FALSE)))","v":""},{"$f":"IF($A46=\"\",\"\",IF(VLOOKUP($A46,Competitors!$A$2:$G$60,7,FALSE)=\"\",\"\",VLOOKUP($A46,Competitors!$A$2:$G$60,7,FALSE)))","v":""},{"$f":"IF($A46=\"\",\"\",IF(VLOOKUP($A46,Competitors!$A$2:$G$60,5,FALSE)=\"\",\"\",VLOOKUP($A46,Competitors!$A$2:$G$60,5,FALSE)))","v":""},{"$f":"IF($A46=\"\",\"\",IF(VLOOKUP($A46,Competitors!$A$2:$G$60,6,FALSE)=\"\",\"\",VLOOKUP($A46,Competitors!$A$2:$G$60,6,FALSE)))","v":"senior"},{"$f":"IF($A46=\"\",\"\",IF(VLOOKUP($A46,Competitors!$A$2:$G$60,3,FALSE)=\"\",\"\",VLOOKUP($A46,Competitors!$A$2:$G$60,3,FALSE)))","v":""},{"$f":"IF($A46=\"\",\"\",IF(VLOOKUP($A46,Competitors!$A$2:$G$60,4,FALSE)=\"\",\"\",VLOOKUP($A46,Competitors!$A$2:$G$60,4,FALSE)))","v":""},{"$f":"IF(VLOOKUP(A46,Competitors!$A$1:$H$41,8,FALSE)=\"\",\"\",VLOOKUP(A46,Competitors!$A$1:$H$41,8,FALSE))","v":""},{"$f":"IF(IFERROR(VLOOKUP(($B$2&\"_\"&$A46),'Time Entry Sheet'!$A$3:$I$499,9,0),\"Error\")=\"Error\",\"\",IF(VLOOKUP(($B$2&\"_\"&$A46),'Time Entry Sheet'!$A$3:$I$499,9,FALSE)=\"wd\",\"wd\",VLOOKUP(($B$2&\"_\"&$A46),'Time Entry Sheet'!$A$3:$I$499,9,FALSE)*1))","v":""},"",{"$f":"IF(IFERROR(VLOOKUP(($B$2&\"_\"&$A46),'Time Entry Sheet'!$A$3:$I$499,8,FALSE),\"Error\")=\"Error\",\"\",IF(VLOOKUP(($B$2&\"_\"&$A46),'Time Entry Sheet'!$A$3:$I$499,8,FALSE)=\"\",\"\",VLOOKUP(($B$2&\"_\"&$A46),'Time Entry Sheet'!$A$3:$I$499,8,FALSE)))","v":""},{"$f":"IF(IFERROR(VLOOKUP(($B$2&\"_\"&$A46),'Time Entry Sheet'!$A$3:$I$499,7,FALSE),\"Error\")=\"Error\",\"\",IF(VLOOKUP(($B$2&\"_\"&$A46),'Time Entry Sheet'!$A$3:$I$499,7,FALSE)=\"\",\"\",VLOOKUP(($B$2&\"_\"&$A46),'Time Entry Sheet'!$A$3:$I$499,7,FALSE)))","v":""},"00:00:10","00:00:10",1,{"$f":"IF(A46=\"\",\"\",M46+VLOOKUP(A46,'Test 12'!$A$12:$Q$51,16,FALSE))","v":"00:15:52.230"},20,null,"","00:15:52.230"]
[36,{"$f":"IF($A47=\"\",\"\",IF(VLOOKUP($A47,Competitors!$A$2:$G$60,2,FALSE)=\"\",\"\",VLOOKUP($A47,Competitors!$A$2:$G$60,2,FALSE)))","v":""},{"$f":"IF($A47=\"\",\"\",IF(VLOOKUP($A47,Competitors!$A$2:$G$60,7,FALSE)=\"\",\"\",VLOOKUP($A47,Competitors!$A$2:$G$60,7,FALSE)))","v":""},{"$f":"IF($A47=\"\",\"\",IF(VLOOKUP($A47,Competitors!$A$2:$G$60,5,FALSE)=\"\",\"\",VLOOKUP($A47,Competitors!$A$2:$G$60,5,FALSE)))","v":""},{"$f":"IF($A47=\"\",\"\",IF(VLOOKUP($A47,Competitors!$A$2:$G$60,6,FALSE)=\"\",\"\",VLOOKUP($A47,Competitors!$A$2:$G$60,6,FALSE)))","v":"senior"},{"$f":"IF($A47=\"\",\"\",IF(VLOOKUP($A47,Competitors!$A$2:$G$60,3,FALSE)=\"\",\"\",VLOOKUP($A47,Competitors!$A$2:$G$60,3,FALSE)))","v":""},{"$f":"IF($A47=\"\",\"\",IF(VLOOKUP($A47,Competitors!$A$2:$G$60,4,FALSE)=\"\",\"\",VLOOKUP($A47,Competitors!$A$2:$G$60,4,FALSE)))","v":""},{"$f":"IF(VLOOKUP(A47,Competitors!$A$1:$H$41,8,FALSE)=\"\",\"\",VLOOKUP(A47,Competitors!$A$1:$H$41,8,FALSE))","v":""},{"$f":"IF(IFERROR(VLOOKUP(($B$2&\"_\"&$A47),'Time Entry Sheet'!$A$3:$I$499,9,0),\"Error\")=\"Error\",\"\",IF(VLOOKUP(($B$2&\"_\"&$A47),'Time Entry Sheet'!$A$3:$I$499,9,FALSE)=\"wd\",\"wd\",VLOOKUP(($B$2&\"_\"&$A47),'Time Entry Sheet'!$A$3:$I$499,9,FALSE)*1))","v":""},"",{"$f":"IF(IFERROR(VLOOKUP(($B$2&\"_\"&$A47),'Time Entry Sheet'!$A$3:$I$499,8,FALSE),\"Error\")=\"Error\",\"\",IF(VLOOKUP(($B$2&\"_\"&$A47),'Time Entry Sheet'!$A$3:$I$499,8,FALSE)=\"\",\"\",VLOOKUP(($B$2&\"_\"&$A47),'Time Entry Sheet'!$A$3:$I$499,8,FALSE)))","v":""},{"$f":"IF(IFERROR(VLOOKUP(($B$2&\"_\"&$A47),'Time Entry Sheet'!$A$3:$I$499,7,FALSE),\"Error\")=\"Error\",\"\",IF(VLOOKUP(($B$2&\"_\"&$A47),'Time Entry Sheet'!$A$3:$I$499,7,FALSE)=\"\",\"\",VLOOKUP(($B$2&\"_\"&$A47),'Time Entry Sheet'!$A$3:$I$499,7,FALSE)))","v":""},"00:00:10","00:00:10",1,{"$f":"IF(A47=\"\",\"\",M47+VLOOKUP(A47,'Test 12'!$A$12:$Q$51,16,FALSE))","v":"00:15:52.230"},20,null,"","00:15:52.230"]
[37,{"$f":"IF($A48=\"\",\"\",IF(VLOOKUP($A48,Competitors!$A$2:$G$60,2,FALSE)=\"\",\"\",VLOOKUP($A48,Competitors!$A$2:$G$60,2,FALSE)))","v":""},{"$f":"IF($A48=\"\",\"\",IF(VLOOKUP($A48,Competitors!$A$2:$G$60,7,FALSE)=\"\",\"\",VLOOKUP($A48,Competitors!$A$2:$G$60,7,FALSE)))","v":""},{"$f":"IF($A48=\"\",\"\",IF(VLOOKUP($A48,Competitors!$A$2:$G$60,5,FALSE)=\"\",\"\",VLOOKUP($A48,Competitors!$A$2:$G$60,5,FALSE)))","v":""},{"$f":"IF($A48=\"\",\"\",IF(VLOOKUP($A48,Competitors!$A$2:$G$60,6,FALSE)=\"\",\"\",VLOOKUP($A48,Competitors!$A$2:$G$60,6,FALSE)))","v":"senior"},{"$f":"IF($A48=\"\",\"\",IF(VLOOKUP($A48,Competitors!$A$2:$G$60,3,FALSE)=\"\",\"\",VLOOKUP($A48,Competitors!$A$2:$G$60,3,FALSE)))","v":""},{"$f":"IF($A48=\"\",\"\",IF(VLOOKUP($A48,Competitors!$A$2:$G$60,4,FALSE)=\"\",\"\",VLOOKUP($A48,Competitors!$A$2:$G$60,4,FALSE)))","v":""},{"$f":"IF(VLOOKUP(A48,Competitors!$A$1:$H$41,8,FALSE)=\"\",\"\",VLOOKUP(A48,Competitors!$A$1:$H$41,8,FALSE))","v":""},{"$f":"IF(IFERROR(VLOOKUP(($B$2&\"_\"&$A48),'Time Entry Sheet'!$A$3:$I$499,9,0),\"Error\")=\"Error\",\"\",IF(VLOOKUP(($B$2&\"_\"&$A48),'Time Entry Sheet'!$A$3:$I$499,9,FALSE)=\"wd\",\"wd\",VLOOKUP(($B$2&\"_\"&$A48),'Time Entry Sheet'!$A$3:$I$499,9,FALSE)*1))","v":""},"",{"$f":"IF(IFERROR(VLOOKUP(($B$2&\"_\"&$A48),'Time Entry Sheet'!$A$3:$I$499,8,FALSE),\"Error\")=\"Error\",\"\",IF(VLOOKUP(($B$2&\"_\"&$A48),'Time Entry Sheet'!$A$3:$I$499,8,FALSE)=\"\",\"\",VLOOKUP(($B$2&\"_\"&$A48),'Time Entry Sheet'!$A$3:$I$499,8,FALSE)))","v":""},{"$f":"IF(IFERROR(VLOOKUP(($B$2&\"_\"&$A48),'Time Entry Sheet'!$A$3:$I$499,7,FALSE),\"Error\")=\"Error\",\"\",IF(VLOOKUP(($B$2&\"_\"&$A48),'Time Entry Sheet'!$A$3:$I$499,7,FALSE)=\"\",\"\",VLOOKUP(($B$2&\"_\"&$A48),'Time Entry Sheet'!$A$3:$I$499,7,FALSE)))","v":""},{"$f":"IF(A48=\"\",\"\",IF(I48=\"wd\",IF(E48=\"Senior\",$B$7,$C$7),IF(L48<>\"\",$B$7,IF(I48=\"\",IF(E48=\"Senior\",$B$8,$C$8),IF(K48=\"\",I48,I48+($B$5*K48))))))","v":"00:00:10"},"00:00:10",1,{"$f":"IF(A48=\"\",\"\",M48+VLOOKUP(A48,'Test 12'!$A$12:$Q$51,16,FALSE))","v":"00:15:52.230"},20,null,"","00:15:52.230"]
[38,{"$f":"IF($A49=\"\",\"\",IF(VLOOKUP($A49,Competitors!$A$2:$G$60,2,FALSE)=\"\",\"\",VLOOKUP($A49,Competitors!$A$2:$G$60,2,FALSE)))","v":""},{"$f":"IF($A49=\"\",\"\",IF(VLOOKUP($A49,Competitors!$A$2:$G$60,7,FALSE)=\"\",\"\",VLOOKUP($A49,Competitors!$A$2:$G$60,7,FALSE)))","v":""},{"$f":"IF($A49=\"\",\"\",IF(VLOOKUP($A49,Competitors!$A$2:$G$60,5,FALSE)=\"\",\"\",VLOOKUP($A49,Competitors!$A$2:$G$60,5,FALSE)))","v":""},{"$f":"IF($A49=\"\",\"\",IF(VLOOKUP($A49,Competitors!$A$2:$G$60,6,FALSE)=\"\",\"\",VLOOKUP($A49,Competitors!$A$2:$G$60,6,FALSE)))","v":"senior"},{"$f":"IF($A49=\"\",\"\",IF(VLOOKUP($A49,Competitors!$A$2:$G$60,3,FALSE)=\"\",\"\",VLOOKUP($A49,Competitors!$A$2:$G$60,3,FALSE)))","v":""},{"$f":"IF($A49=\"\",\"\",IF(VLOOKUP($A49,Competitors!$A$2:$G$60,4,FALSE)=\"\",\"\",VLOOKUP($A49,Competitors!$A$2:$G$60,4,FALSE)))","v":""},{"$f":"IF(VLOOKUP(A49,Competitors!$A$1:$H$41,8,FALSE)=\"\",\"\",VLOOKUP(A49,Competitors!$A$1:$H$41,8,FALSE))","v":""},{"$f":"IF(IFERROR(VLOOKUP(($B$2&\"_\"&$A49),'Time Entry Sheet'!$A$3:$I$499,9,0),\"Error\")=\"Error\",\"\",IF(VLOOKUP(($B$2&\"_\"&$A49),'Time Entry Sheet'!$A$3:$I$499,9,FALSE)=\"wd\",\"wd\",VLOOKUP(($B$2&\"_\"&$A49),'Time Entry Sheet'!$A$3:$I$499,9,FALSE)*1))","v":""},"",{"$f":"IF(IFERROR(VLOOKUP(($B$2&\"_\"&$A49),'Time Entry Sheet'!$A$3:$I$499,8,FALSE),\"Error\")=\"Error\",\"\",IF(VLOOKUP(($B$2&\"_\"&$A49),'Time Entry Sheet'!$A$3:$I$499,8,FALSE)=\"\",\"\",VLOOKUP(($B$2&\"_\"&$A49),'Time Entry Sheet'!$A$3:$I$499,8,FALSE)))","v":""},{"$f":"IF(IFERROR(VLOOKUP(($B$2&\"_\"&$A49),'Time Entry Sheet'!$A$3:$I$499,7,FALSE),\"Error\")=\"Error\",\"\",IF(VLOOKUP(($B$2&\"_\"&$A49),'Time Entry Sheet'!$A$3:$I$499,7,FALSE)=\"\",\"\",VLOOKUP(($B$2&\"_\"&$A49),'Time Entry Sheet'!$A$3:$I$499,7,FALSE)))","v":""},"00:00:10","00:00:10",1,{"$f":"IF(A49=\"\",\"\",M49+VLOOKUP(A49,'Test 12'!$A$12:$Q$51,16,FALSE))","v":"00:15:52.230"},20,null,"","00:15:52.230"]
[39,{"$f":"IF($A50=\"\",\"\",IF(VLOOKUP($A50,Competitors!$A$2:$G$60,2,FALSE)=\"\",\"\",VLOOKUP($A50,Competitors!$A$2:$G$60,2,FALSE)))","v":""},{"$f":"IF($A50=\"\",\"\",IF(VLOOKUP($A50,Competitors!$A$2:$G$60,7,FALSE)=\"\",\"\",VLOOKUP($A50,Competitors!$A$2:$G$60,7,FALSE)))","v":""},{"$f":"IF($A50=\"\",\"\",IF(VLOOKUP($A50,Competitors!$A$2:$G$60,5,FALSE)=\"\",\"\",VLOOKUP($A50,Competitors!$A$2:$G$60,5,FALSE)))","v":""},{"$f":"IF($A50=\"\",\"\",IF(VLOOKUP($A50,Competitors!$A$2:$G$60,6,FALSE)=\"\",\"\",VLOOKUP($A50,Competitors!$A$2:$G$60,6,FALSE)))","v":"senior"},{"$f":"IF($A50=\"\",\"\",IF(VLOOKUP($A50,Competitors!$A$2:$G$60,3,FALSE)=\"\",\"\",VLOOKUP($A50,Competitors!$A$2:$G$60,3,FALSE)))","v":""},{"$f":"IF($A50=\"\",\"\",IF(VLOOKUP($A50,Competitors!$A$2:$G$60,4,FALSE)=\"\",\"\",VLOOKUP($A50,Competitors!$A$2:$G$60,4,FALSE)))","v":""},{"$f":"IF(VLOOKUP(A50,Competitors!$A$1:$H$41,8,FALSE)=\"\",\"\",VLOOKUP(A50,Competitors!$A$1:$H$41,8,FALSE))","v":""},{"$f":"IF(IFERROR(VLOOKUP(($B$2&\"_\"&$A50),'Time Entry Sheet'!$A$3:$I$499,9,0),\"Error\")=\"Error\",\"\",IF(VLOOKUP(($B$2&\"_\"&$A50),'Time Entry Sheet'!$A$3:$I$499,9,FALSE)=\"wd\",\"wd\",VLOOKUP(($B$2&\"_\"&$A50),'Time Entry Sheet'!$A$3:$I$499,9,FALSE)*1))","v":""},"",{"$f":"IF(IFERROR(VLOOKUP(($B$2&\"_\"&$A50),'Time Entry Sheet'!$A$3:$I$499,8,FALSE),\"Error\")=\"Error\",\"\",IF(VLOOKUP(($B$2&\"_\"&$A50),'Time Entry Sheet'!$A$3:$I$499,8,FALSE)=\"\",\"\",VLOOKUP(($B$2&\"_\"&$A50),'Time Entry Sheet'!$A$3:$I$499,8,FALSE)))","v":""},{"$f":"IF(IFERROR(VLOOKUP(($B$2&\"_\"&$A50),'Time Entry Sheet'!$A$3:$I$499,7,FALSE),\"Error\")=\"Error\",\"\",IF(VLOOKUP(($B$2&\"_\"&$A50),'Time Entry Sheet'!$A$3:$I$499,7,FALSE)=\"\",\"\",VLOOKUP(($B$2&\"_\"&$A50),'Time Entry Sheet'!$A$3:$I$499,7,FALSE)))","v":""},"00:00:10","00:00:10",1,{"$f":"IF(A50=\"\",\"\",M50+VLOOKUP(A50,'Test 12'!$A$12:$Q$51,16,FALSE))","v":"00:15:52.230"},20,null,null,"00:15:52.230"]
[40,{"$f":"IF($A51=\"\",\"\",IF(VLOOKUP($A51,Competitors!$A$2:$G$60,2,FALSE)=\"\",\"\",VLOOKUP($A51,Competitors!$A$2:$G$60,2,FALSE)))","v":""},{"$f":"IF($A51=\"\",\"\",IF(VLOOKUP($A51,Competitors!$A$2:$G$60,7,FALSE)=\"\",\"\",VLOOKUP($A51,Competitors!$A$2:$G$60,7,FALSE)))","v":""},{"$f":"IF($A51=\"\",\"\",IF(VLOOKUP($A51,Competitors!$A$2:$G$60,5,FALSE)=\"\",\"\",VLOOKUP($A51,Competitors!$A$2:$G$60,5,FALSE)))","v":""},{"$f":"IF($A51=\"\",\"\",IF(VLOOKUP($A51,Competitors!$A$2:$G$60,6,FALSE)=\"\",\"\",VLOOKUP($A51,Competitors!$A$2:$G$60,6,FALSE)))","v":"senior"},{"$f":"IF($A51=\"\",\"\",IF(VLOOKUP($A51,Competitors!$A$2:$G$60,3,FALSE)=\"\",\"\",VLOOKUP($A51,Competitors!$A$2:$G$60,3,FALSE)))","v":""},{"$f":"IF($A51=\"\",\"\",IF(VLOOKUP($A51,Competitors!$A$2:$G$60,4,FALSE)=\"\",\"\",VLOOKUP($A51,Competitors!$A$2:$G$60,4,FALSE)))","v":""},{"$f":"IF(VLOOKUP(A51,Competitors!$A$1:$H$41,8,FALSE)=\"\",\"\",VLOOKUP(A51,Competitors!$A$1:$H$41,8,FALSE))","v":""},{"$f":"IF(IFERROR(VLOOKUP(($B$2&\"_\"&$A51),'Time Entry Sheet'!$A$3:$I$499,9,0),\"Error\")=\"Error\",\"\",IF(VLOOKUP(($B$2&\"_\"&$A51),'Time Entry Sheet'!$A$3:$I$499,9,FALSE)=\"wd\",\"wd\",VLOOKUP(($B$2&\"_\"&$A51),'Time Entry Sheet'!$A$3:$I$499,9,FALSE)*1))","v":""},"",{"$f":"IF(IFERROR(VLOOKUP(($B$2&\"_\"&$A51),'Time Entry Sheet'!$A$3:$I$499,8,FALSE),\"Error\")=\"Error\",\"\",IF(VLOOKUP(($B$2&\"_\"&$A51),'Time Entry Sheet'!$A$3:$I$499,8,FALSE)=\"\",\"\",VLOOKUP(($B$2&\"_\"&$A51),'Time Entry Sheet'!$A$3:$I$499,8,FALSE)))","v":""},{"$f":"IF(IFERROR(VLOOKUP(($B$2&\"_\"&$A51),'Time Entry Sheet'!$A$3:$I$499,7,FALSE),\"Error\")=\"Error\",\"\",IF(VLOOKUP(($B$2&\"_\"&$A51),'Time Entry Sheet'!$A$3:$I$499,7,FALSE)=\"\",\"\",VLOOKUP(($B$2&\"_\"&$A51),'Time Entry Sheet'!$A$3:$I$499,7,FALSE)))","v":""},"00:00:10","00:00:10",1,{"$f":"IF(A51=\"\",\"\",M51+VLOOKUP(A51,'Test 12'!$A$12:$Q$51,16,FALSE))","v":"00:15:52.230"},20,null,null,"00:15:52.230"]

{"sheet":"Test 14","index":31,"n_rows":51,"n_cols":20,"rows_kept":51,"cut":false,"hidden":false,"merged":[[0,8,0,10]]}
[]
["TEST",14,null,null,null,null,null,null,null,null,"PROVISIONAL RESULTS",null,{"$f":"NOW()","v":42690.814244444446},null,{"$f":"NOW()","v":"2016-11-16T19:32:30.720"}]
["Date:","2015-10-31",null,null,null,null,null,null,null,null,null,"Junior",{"$f":"MIN( IF( $E$8:$E$51=L3, $S$8:$S$51 ) )","v":"00:00:00"},null,"FASTEST"]
["10 sec penalty","00:00:10",null,null,null,null,null,null,null,null,null,"Junior",{"$f":"MAX( IF( $E$8:$E$51=L4, $S$8:$S$51 ) )","v":"00:00:00"},null,"SLOWEST"]
["Flag penalty","00:00:05",null,null,null,null,"SENIOR"]
[null,null,null,null,null,null,"Fastest test time x 2",null,{"$f":"M6*2","v":"00:00:00"},null,null,"Senior",{"$f":"MIN( IF( E11:E51=L6, J11:J51 ) )","v":"00:00:00"},null,"FASTEST"]
["Slowest test time + 5 second penalty",{"$f":"MIN($I$6,$I$7)+$B$5","v":"00:00:05"},{"$f":"MIN($I$9:$I$10)+$B$5","v":"00:00:05"},null,null,null,"Slowest test time",null,{"$f":"M7","v":"00:00:00"},null,null,"Senior",{"$f":"MAX( IF( E11:E51=L7, J11:J51 ) )","v":"00:00:00"},null,"SLOWEST"]
["Failure to Attempt Course (Slowest time + 10 sec)",{"$f":"SUM($I$7,$B$4)","v":"00:00:10"},{"$f":"SUM($I$10,$B$4)","v":"00:00:10"},null,null,null,"JUNIOR"]
[null,null,null,null,null,null,"Fastest test time x 2",null,{"$f":"M3*2","v":"00:00:00"}]
[null,null,null,null,null,null,"Slowest test time",null,{"$f":"M4","v":"00:00:00"}]
["Car Number","Driver","Rookie?","Female Driver?","Junior Driver?","Vehicle","Class","Senior with Passenger?","Time Taken (MM:SS.00)","Time Taken-PenaltyCalculator (MM:SS.00)","No. of Flags &/or Finishes partly out of garage","Slowest time + 5 sec penalty type","Total Test 14 Time","Total Test 1 Time for ranking","Test 14 Position","Cumulative Time Taken (MM:SS.00)","Cumulative Outright Position","Comments","Time Taken-PenaltyCalculator Junior(MM:SS.00)","Cumulative Time Taken (MM:SS.00) for ranking"]
[1,{"$f":"IF($A12=\"\",\"\",IF(VLOOKUP($A12,Competitors!$A$2:$G$60,2,FALSE)=\"\",\"\",VLOOKUP($A12,Competitors!$A$2:$G$60,2,FALSE)))","v":"Paul Dunn"},{"$f":"IF($A12=\"\",\"\",IF(VLOOKUP($A12,Competitors!$A$2:$G$60,7,FALSE)=\"\",\"\",VLOOKUP($A12,Competitors!$A$2:$G$60,7,FALSE)))","v":""},{"$f":"IF($A12=\"\",\"\",IF(VLOOKUP($A12,Competitors!$A$2:$G$60,5,FALSE)=\"\",\"\",VLOOKUP($A12,Competitors!$A$2:$G$60,5,FALSE)))","v":""},{"$f":"IF($A12=\"\",\"\",IF(VLOOKUP($A12,Competitors!$A$2:$G$60,6,FALSE)=\"\",\"\",VLOOKUP($A12,Competitors!$A$2:$G$60,6,FALSE)))","v":"senior"},{"$f":"IF($A12=\"\",\"\",IF(VLOOKUP($A12,Competitors!$A$2:$G$60,3,FALSE)=\"\",\"\",VLOOKUP($A12,Competitors!$A$2:$G$60,3,FALSE)))","v":"Excel"},{"$f":"IF($A12=\"\",\"\",IF(VLOOKUP($A12,Competitors!$A$2:$G$60,4,FALSE)=\"\",\"\",VLOOKUP($A12,Competitors!$A$2:$G$60,4,FALSE)))","v":""},{"$f":"IF(VLOOKUP(A12,Competitors!$A$1:$H$41,8,FALSE)=\"\",\"\",VLOOKUP(A12,Competitors!$A$1:$H$41,8,FALSE))","v":""},{"$f":"IF(IFERROR(VLOOKUP(($B$2&\"_\"&$A12),'Time Entry Sheet'!$A$3:$I$499,9,0),\"Error\")=\"Error\",\"\",IF(VLOOKUP(($B$2&\"_\"&$A12),'Time Entry Sheet'!$A$3:$I$499,9,FALSE)=\"wd\",\"wd\",VLOOKUP(($B$2&\"_\"&$A12),'Time Entry Sheet'!$A$3:$I$499,9,FALSE)*1))","v":""},{"$f":"IF(E12=\"Junior\",\"\",IF(I12=\"wd\",\"\",IF(K12<>\"\",\"\",I12)))","v":""},{"$f":"IF(IFERROR(VLOOKUP(($B$2&\"_\"&$A12),'Time Entry Sheet'!$A$3:$I$499,8,FALSE),\"Error\")=\"Error\",\"\",IF(VLOOKUP(($B$2&\"_\"&$A12),'Time Entry Sheet'!$A$3:$I$499,8,FALSE)=\"\",\"\",VLOOKUP(($B$2&\"_\"&$A12),'Time Entry Sheet'!$A$3:$I$499,8,FALSE)))","v":""},{"$f":"IF(IFERROR(VLOOKUP(($B$2&\"_\"&$A12),'Time Entry Sheet'!$A$3:$I$499,7,FALSE),\"Error\")=\"Error\",\"\",IF(VLOOKUP(($B$2&\"_\"&$A12),'Time Entry Sheet'!$A$3:$I$499,7,FALSE)=\"\",\"\",VLOOKUP(($B$2&\"_\"&$A12),'Time Entry Sheet'!$A$3:$I$499,7,FALSE)))","v":""},{"$f":"IF(A12=\"\",\"\",IF(I12=\"wd\",IF(E12=\"Senior\",$B$7,$C$7),IF(L12<>\"\",$B$7,IF(I12=\"\",IF(E12=\"Senior\",$B$8,$C$8),IF(K12=\"\",I12,I12+($B$5*K12))))))","v":"00:00:10"},{"$f":"IF(H12=\"Passenger\",\"\",M12)","v":"00:00:10"},{"$f":"IF(A12=\"\",\"\",IF(H12=\"Passenger\",\"P\",RANK(N12,$N$12:$N$51,1)))","v":1},{"$f":"IF(A12=\"\",\"\",M12+VLOOKUP(A12,'Test 13'!$A$12:$Q$51,16,FALSE))","v":"00:10:56.360"},{"$f":"IF(A12=\"\",\"\",IF(H12=\"Passenger\",\"P\",RANK(T12,$T$12:$T$51,1)))","v":2},null,{"$f":"IF(E12=\"Senior\",\"\",IF(I12=\"wd\",\"\",IF(K12<>\"\",\"\",I12)))","v":""},{"$f":"IF(H12=\"Passenger\",\"\",P12)","v":"00:10:56.360"}]
[2,{"$f":"IF($A13=\"\",\"\",IF(VLOOKUP($A13,Competitors!$A$2:$G$60,2,FALSE)=\"\",\"\",VLOOKUP($A13,Competitors!$A$2:$G$60,2,FALSE)))","v":"Stephen Thorne"},{"$f":"IF($A13=\"\",\"\",IF(VLOOKUP($A13,Competitors!$A$2:$G$60,7,FALSE)=\"\",\"\",VLOOKUP($A13,Competitors!$A$2:$G$60,7,FALSE)))","v":""},{"$f":"IF($A13=\"\",\"\",IF(VLOOKUP($A13,Competitors!$A$2:$G$60,5,FALSE)=\"\",\"\",VLOOKUP($A13,Competitors!$A$2:$G$60,5,FALSE)))","v":""},{"$f":"IF($A13=\"\",\"\",IF(VLOOKUP($A13,Competitors!$A$2:$G$60,6,FALSE)=\"\",\"\",VLOOKUP($A13,Competitors!$A$2:$G$60,6,FALSE)))","v":"senior"},{"$f":"IF($A13=\"\",\"\",IF(VLOOKUP($A13,Competitors!$A$2:$G$60,3,FALSE)=\"\",\"\",VLOOKUP($A13,Competitors!$A$2:$G$60,3,FALSE)))","v":""},{"$f":"IF($A13=\"\",\"\",IF(VLOOKUP($A13,Competitors!$A$2:$G$60,4,FALSE)=\"\",\"\",VLOOKUP($A13,Competitors!$A$2:$G$60,4,FALSE)))","v":""},{"$f":"IF(VLOOKUP(A13,Competitors!$A$1:$H$41,8,FALSE)=\"\",\"\",VLOOKUP(A13,Competitors!$A$1:$H$41,8,FALSE))","v":""},{"$f":"IF(IFERROR(VLOOKUP(($B$2&\"_\"&$A13),'Time Entry Sheet'!$A$3:$I$499,9,0),\"Error\")=\"Error\",\"\",IF(VLOOKUP(($B$2&\"_\"&$A13),'Time Entry Sheet'!$A$3:$I$499,9,FALSE)=\"wd\",\"wd\",VLOOKUP(($B$2&\"_\"&$A13),'Time Entry Sheet'!$A$3:$I$499,9,FALSE)*1))","v":""},{"$f":"IF(E13=\"Junior\",\"\",IF(I13=\"wd\",\"\",IF(K13<>\"\",\"\",I13)))","v":""},{"$f":"IF(IFERROR(VLOOKUP(($B$2&\"_\"&$A13),'Time Entry Sheet'!$A$3:$I$499,8,FALSE),\"Error\")=\"Error\",\"\",IF(VLOOKUP(($B$2&\"_\"&$A13),'Time Entry Sheet'!$A$3:$I$499,8,FALSE)=\"\",\"\",VLOOKUP(($B$2&\"_\"&$A13),'Time Entry Sheet'!$A$3:$I$499,8,FALSE)))","v":""},{"$f":"IF(IFERROR(VLOOKUP(($B$2&\"_\"&$A13),'Time Entry Sheet'!$A$3:$I$499,7,FALSE),\"Error\")=\"Error\",\"\",IF(VLOOKUP(($B$2&\"_\"&$A13),'Time Entry Sheet'!$A$3:$I$499,7,FALSE)=\"\",\"\",VLOOKUP(($B$2&\"_\"&$A13),'Time Entry Sheet'!$A$3:$I$499,7,FALSE)))","v":""},{"$f":"IF(A13=\"\",\"\",IF(I13=\"wd\",IF(E13=\"Senior\",$B$7,$C$7),IF(L13<>\"\",$B$7,IF(I13=\"\",IF(E13=\"Senior\",$B$8,$C$8),IF(K13=\"\",I13,I13+($B$5*K13))))))","v":"00:00:10"},{"$f":"IF(H13=\"Passenger\",\"\",M13)","v":"00:00:10"},{"$f":"IF(A13=\"\",\"\",IF(H13=\"Passenger\",\"P\",RANK(N13,$N$12:$N$51,1)))","v":1},{"$f":"IF(A13=\"\",\"\",M13+VLOOKUP(A13,'Test 13'!$A$12:$Q$51,16,FALSE))","v":"00:11:17.150"},{"$f":"IF(A13=\"\",\"\",IF(H13=\"Passenger\",\"P\",RANK(T13,$T$12:$T$51,1)))","v":4},null,{"$f":"IF(E13=\"Senior\",\"\",IF(I13=\"wd\",\"\",IF(K13<>\"\",\"\",I13)))","v":""},{"$f":"IF(H13=\"Passenger\",\"\",P13)","v":"00:11:17.150"}]
[3,{"$f":"IF($A14=\"\",\"\",IF(VLOOKUP($A14,Competitors!$A$2:$G$60,2,FALSE)=\"\",\"\",VLOOKUP($A14,Competitors!$A$2:$G$60,2,FALSE)))","v":"David Ballard"},{"$f":"IF($A14=\"\",\"\",IF(VLOOKUP($A14,Competitors!$A$2:$G$60,7,FALSE)=\"\",\"\",VLOOKUP($A14,Competitors!$A$2:$G$60,7,FALSE)))","v":""},{"$f":"IF($A14=\"\",\"\",IF(VLOOKUP($A14,Competitors!$A$2:$G$60,5,FALSE)=\"\",\"\",VLOOKUP($A14,Competitors!$A$2:$G$60,5,FALSE)))","v":""},{"$f":"IF($A14=\"\",\"\",IF(VLOOKUP($A14,Competitors!$A$2:$G$60,6,FALSE)=\"\",\"\",VLOOKUP($A14,Competitors!$A$2:$G$60,6,FALSE)))","v":"senior"},{"$f":"IF($A14=\"\",\"\",IF(VLOOKUP($A14,Competitors!$A$2:$G$60,3,FALSE)=\"\",\"\",VLOOKUP($A14,Competitors!$A$2:$G$60,3,FALSE)))","v":""},{"$f":"IF($A14=\"\",\"\",IF(VLOOKUP($A14,Competitors!$A$2:$G$60,4,FALSE)=\"\",\"\",VLOOKUP($A14,Competitors!$A$2:$G$60,4,FALSE)))","v":""},{"$f":"IF(VLOOKUP(A14,Competitors!$A$1:$H$41,8,FALSE)=\"\",\"\",VLOOKUP(A14,Competitors!$A$1:$H$41,8,FALSE))","v":""},{"$f":"IF(IFERROR(VLOOKUP(($B$2&\"_\"&$A14),'Time Entry Sheet'!$A$3:$I$499,9,0),\"Error\")=\"Error\",\"\",IF(VLOOKUP(($B$2&\"_\"&$A14),'Time Entry Sheet'!$A$3:$I$499,9,FALSE)=\"wd\",\"wd\",VLOOKUP(($B$2&\"_\"&$A14),'Time Entry Sheet'!$A$3:$I$499,9,FALSE)*1))","v":""},"",{"$f":"IF(IFERROR(VLOOKUP(($B$2&\"_\"&$A14),'Time Entry Sheet'!$A$3:$I$499,8,FALSE),\"Error\")=\"Error\",\"\",IF(VLOOKUP(($B$2&\"_\"&$A14),'Time Entry Sheet'!$A$3:$I$499,8,FALSE)=\"\",\"\",VLOOKUP(($B$2&\"_\"&$A14),'Time Entry Sheet'!$A$3:$I$499,8,FALSE)))","v":""},{"$f":"IF(IFERROR(VLOOKUP(($B$2&\"_\"&$A14),'Time Entry Sheet'!$A$3:$I$499,7,FALSE),\"Error\")=\"Error\",\"\",IF(VLOOKUP(($B$2&\"_\"&$A14),'Time Entry Sheet'!$A$3:$I$499,7,FALSE)=\"\",\"\",VLOOKUP(($B$2&\"_\"&$A14),'Time Entry Sheet'!$A$3:$I$499,7,FALSE)))","v":""},"00:00:10","00:00:10",1,{"$f":"IF(A14=\"\",\"\",M14+VLOOKUP(A14,'Test 13'!$A$12:$Q$51,16,FALSE))","v":"00:12:26.210"},12,null,"","00:12:26.210"]
[4,{"$f":"IF($A15=\"\",\"\",IF(VLOOKUP($A15,Competitors!$A$2:$G$60,2,FALSE)=\"\",\"\",VLOOKUP($A15,Competitors!$A$2:$G$60,2,FALSE)))","v":"Michaela Ballard"},{"$f":"IF($A15=\"\",\"\",IF(VLOOKUP($A15,Competitors!$A$2:$G$60,7,FALSE)=\"\",\"\",VLOOKUP($A15,Competitors!$A$2:$G$60,7,FALSE)))","v":"rookie"},{"$f":"IF($A15=\"\",\"\",IF(VLOOKUP($A15,Competitors!$A$2:$G$60,5,FALSE)=\"\",\"\",VLOOKUP($A15,Competitors!$A$2:$G$60,5,FALSE)))","v":"female"},{"$f":"IF($A15=\"\",\"\",IF(VLOOKUP($A15,Competitors!$A$2:$G$60,6,FALSE)=\"\",\"\",VLOOKUP($A15,Competitors!$A$2:$G$60,6,FALSE)))","v":"senior"},{"$f":"IF($A15=\"\",\"\",IF(VLOOKUP($A15,Competitors!$A$2:$G$60,3,FALSE)=\"\",\"\",VLOOKUP($A15,Competitors!$A$2:$G$60,3,FALSE)))","v":""},{"$f":"IF($A15=\"\",\"\",IF(VLOOKUP($A15,Competitors!$A$2:$G$60,4,FALSE)=\"\",\"\",VLOOKUP($A15,Competitors!$A$2:$G$60,4,FALSE)))","v":""},{"$f":"IF(VLOOKUP(A15,Competitors!$A$1:$H$41,8,FALSE)=\"\",\"\",VLOOKUP(A15,Competitors!$A$1:$H$41,8,FALSE))","v":""},{"$f":"IF(IFERROR(VLOOKUP(($B$2&\"_\"&$A15),'Time Entry Sheet'!$A$3:$I$499,9,0),\"Error\")=\"Error\",\"\",IF(VLOOKUP(($B$2&\"_\"&$A15),'Time Entry Sheet'!$A$3:$I$499,9,FALSE)=\"wd\",\"wd\",VLOOKUP(($B$2&\"_\"&$A15),'Time Entry Sheet'!$A$3:$I$499,9,FALSE)*1))","v":""},"",{"$f":"IF(IFERROR(VLOOKUP(($B$2&\"_\"&$A15),'Time Entry Sheet'!$A$3:$I$499,8,FALSE),\"Error\")=\"Error\",\"\",IF(VLOOKUP(($B$2&\"_\"&$A15),'Time Entry Sheet'!$A$3:$I$499,8,FALSE)=\"\",\"\",VLOOKUP(($B$2&\"_\"&$A15),'Time Entry Sheet'!$A$3:$I$499,8,FALSE)))","v":""},{"$f":"IF(IFERROR(VLOOKUP(($B$2&\"_\"&$A15),'Time Entry Sheet'!$A$3:$I$499,7,FALSE),\"Error\")=\"Error\",\"\",IF(VLOOKUP(($B$2&\"_\"&$A15),'Time Entry Sheet'!$A$3:$I$499,7,FALSE)=\"\",\"\",VLOOKUP(($B$2&\"_\"&$A15),'Time Entry Sheet'!$A$3:$I$499,7,FALSE)))","v":""},"00:00:10","00:00:10",1,{"$f":"IF(A15=\"\",\"\",M15+VLOOKUP(A15,'Test 13'!$A$12:$Q$51,16,FALSE))","v":"00:13:34.220"},18,null,"","00:13:34.220"]
[5,{"$f":"IF($A16=\"\",\"\",IF(VLOOKUP($A16,Competitors!$A$2:$G$60,2,FALSE)=\"\",\"\",VLOOKUP($A16,Competitors!$A$2:$G$60,2,FALSE)))","v":"Janelle Ballard"},{"$f":"IF($A16=\"\",\"\",IF(VLOOKUP($A16,Competitors!$A$2:$G$60,7,FALSE)=\"\",\"\",VLOOKUP($A16,Competitors!$A$2:$G$60,7,FALSE)))","v":""},{"$f":"IF($A16=\"\",\"\",IF(VLOOKUP($A16,Competitors!$A$2:$G$60,5,FALSE)=\"\",\"\",VLOOKUP($A16,Competitors!$A$2:$G$60,5,FALSE)))","v":"female"},{"$f":"IF($A16=\"\",\"\",IF(VLOOKUP($A16,Competitors!$A$2:$G$60,6,FALSE)=\"\",\"\",VLOOKUP($A16,Competitors!$A$2:$G$60,6,FALSE)))","v":"senior"},{"$f":"IF($A16=\"\",\"\",IF(VLOOKUP($A16,Competitors!$A$2:$G$60,3,FALSE)=\"\",\"\",VLOOKUP($A16,Competitors!$A$2:$G$60,3,FALSE)))","v":""},{"$f":"IF($A16=\"\",\"\",IF(VLOOKUP($A16,Competitors!$A$2:$G$60,4,FALSE)=\"\",\"\",VLOOKUP($A16,Competitors!$A$2:$G$60,4,FALSE)))","v":""},{"$f":"IF(VLOOKUP(A16,Competitors!$A$1:$H$41,8,FALSE)=\"\",\"\",VLOOKUP(A16,Competitors!$A$1:$H$41,8,FALSE))","v":""},{"$f":"IF(IFERROR(VLOOKUP(($B$2&\"_\"&$A16),'Time Entry Sheet'!$A$3:$I$499,9,0),\"Error\")=\"Error\",\"\",IF(VLOOKUP(($B$2&\"_\"&$A16),'Time Entry Sheet'!$A$3:$I$499,9,FALSE)=\"wd\",\"wd\",VLOOKUP(($B$2&\"_\"&$A16),'Time Entry Sheet'!$A$3:$I$499,9,FALSE)*1))","v":""},"",{"$f":"IF(IFERROR(VLOOKUP(($B$2&\"_\"&$A16),'Time Entry Sheet'!$A$3:$I$499,8,FALSE),\"Error\")=\"Error\",\"\",IF(VLOOKUP(($B$2&\"_\"&$A16),'Time Entry Sheet'!$A$3:$I$499,8,FALSE)=\"\",\"\",VLOOKUP(($B$2&\"_\"&$A16),'Time Entry Sheet'!$A$3:$I$499,8,FALSE)))","v":""},{"$f":"IF(IFERROR(VLOOKUP(($B$2&\"_\"&$A16),'Time Entry Sheet'!$A$3:$I$499,7,FALSE),\"Error\")=\"Error\",\"\",IF(VLOOKUP(($B$2&\"_\"&$A16),'Time Entry Sheet'!$A$3:$I$499,7,FALSE)=\"\",\"\",VLOOKUP(($B$2&\"_\"&$A16),'Time Entry Sheet'!$A$3:$I$499,7,FALSE)))","v":""},"00:00:10","00:00:10",1,{"$f":"IF(A16=\"\",\"\",M16+VLOOKUP(A16,'Test 13'!$A$12:$Q$51,16,FALSE))","v":"00:12:07.350"},8,null,"","00:12:07.350"]
[6,{"$f":"IF($A17=\"\",\"\",IF(VLOOKUP($A17,Competitors!$A$2:$G$60,2,FALSE)=\"\",\"\",VLOOKUP($A17,Competitors!$A$2:$G$60,2,FALSE)))","v":"Issac Wishart"},{"$f":"IF($A17=\"\",\"\",IF(VLOOKUP($A17,Competitors!$A$2:$G$60,7,FALSE)=\"\",\"\",VLOOKUP($A17,Competitors!$A$2:$G$60,7,FALSE)))","v":"rookie"},{"$f":"IF($A17=\"\",\"\",IF(VLOOKUP($A17,Competitors!$A$2:$G$60,5,FALSE)=\"\",\"\",VLOOKUP($A17,Competitors!$A$2:$G$60,5,FALSE)))","v":""},{"$f":"IF($A17=\"\",\"\",IF(VLOOKUP($A17,Competitors!$A$2:$G$60,6,FALSE)=\"\",\"\",VLOOKUP($A17,Competitors!$A$2:$G$60,6,FALSE)))","v":"senior"},{"$f":"IF($A17=\"\",\"\",IF(VLOOKUP($A17,Competitors!$A$2:$G$60,3,FALSE)=\"\",\"\",VLOOKUP($A17,Competitors!$A$2:$G$60,3,FALSE)))","v":""},{"$f":"IF($A17=\"\",\"\",IF(VLOOKUP($A17,Competitors!$A$2:$G$60,4,FALSE)=\"\",\"\",VLOOKUP($A17,Competitors!$A$2:$G$60,4,FALSE)))","v":""},{"$f":"IF(VLOOKUP(A17,Competitors!$A$1:$H$41,8,FALSE)=\"\",\"\",VLOOKUP(A17,Competitors!$A$1:$H$41,8,FALSE))","v":""},{"$f":"IF(IFERROR(VLOOKUP(($B$2&\"_\"&$A17),'Time Entry Sheet'!$A$3:$I$499,9,0),\"Error\")=\"Error\",\"\",IF(VLOOKUP(($B$2&\"_\"&$A17),'Time Entry Sheet'!$A$3:$I$499,9,FALSE)=\"wd\",\"wd\",VLOOKUP(($B$2&\"_\"&$A17),'Time Entry Sheet'!$A$3:$I$499,9,FALSE)*1))","v":""},"",{"$f":"IF(IFERROR(VLOOKUP(($B$2&\"_\"&$A17),'Time Entry Sheet'!$A$3:$I$499,8,FALSE),\"Error\")=\"Error\",\"\",IF(VLOOKUP(($B$2&\"_\"&$A17),'Time Entry Sheet'!$A$3:$I$499,8,FALSE)=\"\",\"\",VLOOKUP(($B$2&\"_\"&$A17),'Time Entry Sheet'!$A$3:$I$499,8,FALSE)))","v":""},{"$f":"IF(IFERROR(VLOOKUP(($B$2&\"_\"&$A17),'Time Entry Sheet'!$A$3:$I$499,7,FALSE),\"Error\")=\"Error\",\"\",IF(VLOOKUP(($B$2&\"_\"&$A17),'Time Entry Sheet'!$A$3:$I$499,7,FALSE)=\"\",\"\",VLOOKUP(($B$2&\"_\"&$A17),'Time Entry Sheet'!$A$3:$I$499,7,FALSE)))","v":""},"00:00:10","00:00:10",1,{"$f":"IF(A17=\"\",\"\",M17+VLOOKUP(A17,'Test 13'!$A$12:$Q$51,16,FALSE))","v":"00:13:10.350"},16,null,"","00:13:10.350"]
[7,{"$f":"IF($A18=\"\",\"\",IF(VLOOKUP($A18,Competitors!$A$2:$G$60,2,FALSE)=\"\",\"\",VLOOKUP($A18,Competitors!$A$2:$G$60,2,FALSE)))","v":""},{"$f":"IF($A18=\"\",\"\",IF(VLOOKUP($A18,Competitors!$A$2:$G$60,7,FALSE)=\"\",\"\",VLOOKUP($A18,Competitors!$A$2:$G$60,7,FALSE)))","v":""},{"$f":"IF($A18=\"\",\"\",IF(VLOOKUP($A18,Competitors!$A$2:$G$60,5,FALSE)=\"\",\"\",VLOOKUP($A18,Competitors!$A$2:$G$60,5,FALSE)))","v":""},{"$f":"IF($A18=\"\",\"\",IF(VLOOKUP($A18,Competitors!$A$2:$G$60,6,FALSE)=\"\",\"\",VLOOKUP($A18,Competitors!$A$2:$G$60,6,FALSE)))","v":"senior"},{"$f":"IF($A18=\"\",\"\",IF(VLOOKUP($A18,Competitors!$A$2:$G$60,3,FALSE)=\"\",\"\",VLOOKUP($A18,Competitors!$A$2:$G$60,3,FALSE)))","v":""},{"$f":"IF($A18=\"\",\"\",IF(VLOOKUP($A18,Competitors!$A$2:$G$60,4,FALSE)=\"\",\"\",VLOOKUP($A18,Competitors!$A$2:$G$60,4,FALSE)))","v":""},{"$f":"IF(VLOOKUP(A18,Competitors!$A$1:$H$41,8,FALSE)=\"\",\"\",VLOOKUP(A18,Competitors!$A$1:$H$41,8,FALSE))","v":""},{"$f":"IF(IFERROR(VLOOKUP(($B$2&\"_\"&$A18),'Time Entry Sheet'!$A$3:$I$499,9,0),\"Error\")=\"Error\",\"\",IF(VLOOKUP(($B$2&\"_\"&$A18),'Time Entry Sheet'!$A$3:$I$499,9,FALSE)=\"wd\",\"wd\",VLOOKUP(($B$2&\"_\"&$A18),'Time Entry Sheet'!$A$3:$I$499,9,FALSE)*1))","v":""},"",{"$f":"IF(IFERROR(VLOOKUP(($B$2&\"_\"&$A18),'Time Entry Sheet'!$A$3:$I$499,8,FALSE),\"Error\")=\"Error\",\"\",IF(VLOOKUP(($B$2&\"_\"&$A18),'Time Entry Sheet'!$A$3:$I$499,8,FALSE)=\"\",\"\",VLOOKUP(($B$2&\"_\"&$A18),'Time Entry Sheet'!$A$3:$I$499,8,FALSE)))","v":""},{"$f":"IF(IFERROR(VLOOKUP(($B$2&\"_\"&$A18),'Time Entry Sheet'!$A$3:$I$499,7,FALSE),\"Error\")=\"Error\",\"\",IF(VLOOKUP(($B$2&\"_\"&$A18),'Time Entry Sheet'!$A$3:$I$499,7,FALSE)=\"\",\"\",VLOOKUP(($B$2&\"_\"&$A18),'Time Entry Sheet'!$A$3:$I$499,7,FALSE)))","v":""},"00:00:10","00:00:10",1,{"$f":"IF(A18=\"\",\"\",M18+VLOOKUP(A18,'Test 13'!$A$12:$Q$51,16,FALSE))","v":"00:16:02.230"},20,null,"","00:16:02.230"]
[8,{"$f":"IF($A19=\"\",\"\",IF(VLOOKUP($A19,Competitors!$A$2:$G$60,2,FALSE)=\"\",\"\",VLOOKUP($A19,Competitors!$A$2:$G$60,2,FALSE)))","v":"Jim Taylor"},{"$f":"IF($A19=\"\",\"\",IF(VLOOKUP($A19,Competitors!$A$2:$G$60,7,FALSE)=\"\",\"\",VLOOKUP($A19,Competitors!$A$2:$G$60,7,FALSE)))","v":""},{"$f":"IF($A19=\"\",\"\",IF(VLOOKUP($A19,Competitors!$A$2:$G$60,5,FALSE)=\"\",\"\",VLOOKUP($A19,Competitors!$A$2:$G$60,5,FALSE)))","v":""},{"$f":"IF($A19=\"\",\"\",IF(VLOOKUP($A19,Competitors!$A$2:$G$60,6,FALSE)=\"\",\"\",VLOOKUP($A19,Competitors!$A$2:$G$60,6,FALSE)))","v":"senior"},{"$f":"IF($A19=\"\",\"\",IF(VLOOKUP($A19,Competitors!$A$2:$G$60,3,FALSE)=\"\",\"\",VLOOKUP($A19,Competitors!$A$2:$G$60,3,FALSE)))","v":""},{"$f":"IF($A19=\"\",\"\",IF(VLOOKUP($A19,Competitors!$A$2:$G$60,4,FALSE)=\"\",\"\",VLOOKUP($A19,Competitors!$A$2:$G$60,4,FALSE)))","v":""},{"$f":"IF(VLOOKUP(A19,Competitors!$A$1:$H$41,8,FALSE)=\"\",\"\",VLOOKUP(A19,Competitors!$A$1:$H$41,8,FALSE))","v":""},{"$f":"IF(IFERROR(VLOOKUP(($B$2&\"_\"&$A19),'Time Entry Sheet'!$A$3:$I$499,9,0),\"Error\")=\"Error\",\"\",IF(VLOOKUP(($B$2&\"_\"&$A19),'Time Entry Sheet'!$A$3:$I$499,9,FALSE)=\"wd\",\"wd\",VLOOKUP(($B$2&\"_\"&$A19),'Time Entry Sheet'!$A$3:$I$499,9,FALSE)*1))","v":""},"",{"$f":"IF(IFERROR(VLOOKUP(($B$2&\"_\"&$A19),'Time Entry Sheet'!$A$3:$I$499,8,FALSE),\"Error\")=\"Error\",\"\",IF(VLOOKUP(($B$2&\"_\"&$A19),'Time Entry Sheet'!$A$3:$I$499,8,FALSE)=\"\",\"\",VLOOKUP(($B$2&\"_\"&$A19),'Time Entry Sheet'!$A$3:$I$499,8,FALSE)))","v":""},{"$f":"IF(IFERROR(VLOOKUP(($B$2&\"_\"&$A19),'Time Entry Sheet'!$A$3:$I$499,7,FALSE),\"Error\")=\"Error\",\"\",IF(VLOOKUP(($B$2&\"_\"&$A19),'Time Entry Sheet'!$A$3:$I$499,7,FALSE)=\"\",\"\",VLOOKUP(($B$2&\"_\"&$A19),'Time Entry Sheet'!$A$3:$I$499,7,FALSE)))","v":""},"00:00:10","00:00:10",1,{"$f":"IF(A19=\"\",\"\",M19+VLOOKUP(A19,'Test 13'!$A$12:$Q$51,16,FALSE))","v":"00:12:27.470"},13,null,"","00:12:27.470"]
[9,{"$f":"IF($A20=\"\",\"\",IF(VLOOKUP($A20,Competitors!$A$2:$G$60,2,FALSE)=\"\",\"\",VLOOKUP($A20,Competitors!$A$2:$G$60,2,FALSE)))","v":"Brad Firman"},{"$f":"IF($A20=\"\",\"\",IF(VLOOKUP($A20,Competitors!$A$2:$G$60,7,FALSE)=\"\",\"\",VLOOKUP($A20,Competitors!$A$2:$G$60,7,FALSE)))","v":""},{"$f":"IF($A20=\"\",\"\",IF(VLOOKUP($A20,Competitors!$A$2:$G$60,5,FALSE)=\"\",\"\",VLOOKUP($A20,Competitors!$A$2:$G$60,5,FALSE)))","v":""},{"$f":"IF($A20=\"\",\"\",IF(VLOOKUP($A20,Competitors!$A$2:$G$60,6,FALSE)=\"\",\"\",VLOOKUP($A20,Competitors!$A$2:$G$60,6,FALSE)))","v":"senior"},{"$f":"IF($A20=\"\",\"\",IF(VLOOKUP($A20,Competitors!$A$2:$G$60,3,FALSE)=\"\",\"\",VLOOKUP($A20,Competitors!$A$2:$G$60,3,FALSE)))","v":""},{"$f":"IF($A20=\"\",\"\",IF(VLOOKUP($A20,Competitors!$A$2:$G$60,4,FALSE)=\"\",\"\",VLOOKUP($A20,Competitors!$A$2:$G$60,4,FALSE)))","v":""},{"$f":"IF(VLOOKUP(A20,Competitors!$A$1:$H$41,8,FALSE)=\"\",\"\",VLOOKUP(A20,Competitors!$A$1:$H$41,8,FALSE))","v":""},{"$f":"IF(IFERROR(VLOOKUP(($B$2&\"_\"&$A20),'Time Entry Sheet'!$A$3:$I$499,9,0),\"Error\")=\"Error\",\"\",IF(VLOOKUP(($B$2&\"_\"&$A20),'Time Entry Sheet'!$A$3:$I$499,9,FALSE)=\"wd\",\"wd\",VLOOKUP(($B$2&\"_\"&$A20),'Time Entry Sheet'!$A$3:$I$499,9,FALSE)*1))","v":""},"",{"$f":"IF(IFERROR(VLOOKUP(($B$2&\"_\"&$A20),'Time Entry Sheet'!$A$3:$I$499,8,FALSE),\"Error\")=\"Error\",\"\",IF(VLOOKUP(($B$2&\"_\"&$A20),'Time Entry Sheet'!$A$3:$I$499,8,FALSE)=\"\",\"\",VLOOKUP(($B$2&\"_\"&$A20),'Time Entry Sheet'!$A$3:$I$499,8,FALSE)))","v":""},{"$f":"IF(IFERROR(VLOOKUP(($B$2&\"_\"&$A20),'Time Entry Sheet'!$A$3:$I$499,7,FALSE),\"Error\")=\"Error\",\"\",IF(VLOOKUP(($B$2&\"_\"&$A20),'Time Entry Sheet'!$A$3:$I$499,7,FALSE)=\"\",\"\",VLOOKUP(($B$2&\"_\"&$A20),'Time Entry Sheet'!$A$3:$I$499,7,FALSE)))","v":""},"00:00:10","00:00:10",1,{"$f":"IF(A20=\"\",\"\",M20+VLOOKUP(A20,'Test 13'!$A$12:$Q$51,16,FALSE))","v":"00:11:00.270"},3,null,"","00:11:00.270"]
[10,{"$f":"IF($A21=\"\",\"\",IF(VLOOKUP($A21,Competitors!$A$2:$G$60,2,FALSE)=\"\",\"\",VLOOKUP($A21,Competitors!$A$2:$G$60,2,FALSE)))","v":"Scott Taylor"},{"$f":"IF($A21=\"\",\"\",IF(VLOOKUP($A21,Competitors!$A$2:$G$60,7,FALSE)=\"\",\"\",VLOOKUP($A21,Competitors!$A$2:$G$60,7,FALSE)))","v":""},{"$f":"IF($A21=\"\",\"\",IF(VLOOKUP($A21,Competitors!$A$2:$G$60,5,FALSE)=\"\",\"\",VLOOKUP($A21,Competitors!$A$2:$G$60,5,FALSE)))","v":""},{"$f":"IF($A21=\"\",\"\",IF(VLOOKUP($A21,Competitors!$A$2:$G$60,6,FALSE)=\"\",\"\",VLOOKUP($A21,Competitors!$A$2:$G$60,6,FALSE)))","v":"senior"},{"$f":"IF($A21=\"\",\"\",IF(VLOOKUP($A21,Competitors!$A$2:$G$60,3,FALSE)=\"\",\"\",VLOOKUP($A21,Competitors!$A$2:$G$60,3,FALSE)))","v":""},{"$f":"IF($A21=\"\",\"\",IF(VLOOKUP($A21,Competitors!$A$2:$G$60,4,FALSE)=\"\",\"\",VLOOKUP($A21,Competitors!$A$2:$G$60,4,FALSE)))","v":""},{"$f":"IF(VLOOKUP(A21,Competitors!$A$1:$H$41,8,FALSE)=\"\",\"\",VLOOKUP(A21,Competitors!$A$1:$H$41,8,FALSE))","v":""},{"$f":"IF(IFERROR(VLOOKUP(($B$2&\"_\"&$A21),'Time Entry Sheet'!$A$3:$I$499,9,0),\"Error\")=\"Error\",\"\",IF(VLOOKUP(($B$2&\"_\"&$A21),'Time Entry Sheet'!$A$3:$I$499,9,FALSE)=\"wd\",\"wd\",VLOOKUP(($B$2&\"_\"&$A21),'Time Entry Sheet'!$A$3:$I$499,9,FALSE)*1))","v":""},"",{"$f":"IF(IFERROR(VLOOKUP(($B$2&\"_\"&$A21),'Time Entry Sheet'!$A$3:$I$499,8,FALSE),\"Error\")=\"Error\",\"\",IF(VLOOKUP(($B$2&\"_\"&$A21),'Time Entry Sheet'!$A$3:$I$499,8,FALSE)=\"\",\"\",VLOOKUP(($B$2&\"_\"&$A21),'Time Entry Sheet'!$A$3:$I$499,8,FALSE)))","v":""},{"$f":"IF(IFERROR(VLOOKUP(($B$2&\"_\"&$A21),'Time Entry Sheet'!$A$3:$I$499,7,FALSE),\"Error\")=\"Error\",\"\",IF(VLOOKUP(($B$2&\"_\"&$A21),'Time Entry Sheet'!$A$3:$I$499,7,FALSE)=\"\",\"\",VLOOKUP(($B$2&\"_\"&$A21),'Time Entry Sheet'!$A$3:$I$499,7,FALSE)))","v":""},"00:00:10","00:00:10",1,{"$f":"IF(A21=\"\",\"\",M21+VLOOKUP(A21,'Test 13'!$A$12:$Q$51,16,FALSE))","v":"00:12:25.120"},11,null,"","00:12:25.120"]
[11,{"$f":"IF($A22=\"\",\"\",IF(VLOOKUP($A22,Competitors!$A$2:$G$60,2,FALSE)=\"\",\"\",VLOOKUP($A22,Competitors!$A$2:$G$60,2,FALSE)))","v":"Russel McKinley"},{"$f":"IF($A22=\"\",\"\",IF(VLOOKUP($A22,Competitors!$A$2:$G$60,7,FALSE)=\"\",\"\",VLOOKUP($A22,Competitors!$A$2:$G$60,7,FALSE)))","v":""},{"$f":"IF($A22=\"\",\"\",IF(VLOOKUP($A22,Competitors!$A$2:$G$60,5,FALSE)=\"\",\"\",VLOOKUP($A22,Competitors!$A$2:$G$60,5,FALSE)))","v":""},{"$f":"IF($A22=\"\",\"\",IF(VLOOKUP($A22,Competitors!$A$2:$G$60,6,FALSE)=\"\",\"\",VLOOKUP($A22,Competitors!$A$2:$G$60,6,FALSE)))","v":"senior"},{"$f":"IF($A22=\"\",\"\",IF(VLOOKUP($A22,Competitors!$A$2:$G$60,3,FALSE)=\"\",\"\",VLOOKUP($A22,Competitors!$A$2:$G$60,3,FALSE)))","v":""},{"$f":"IF($A22=\"\",\"\",IF(VLOOKUP($A22,Competitors!$A$2:$G$60,4,FALSE)=\"\",\"\",VLOOKUP($A22,Competitors!$A$2:$G$60,4,FALSE)))","v":""},{"$f":"IF(VLOOKUP(A22,Competitors!$A$1:$H$41,8,FALSE)=\"\",\"\",VLOOKUP(A22,Competitors!$A$1:$H$41,8,FALSE))","v":""},{"$f":"IF(IFERROR(VLOOKUP(($B$2&\"_\"&$A22),'Time Entry Sheet'!$A$3:$I$499,9,0),\"Error\")=\"Error\",\"\",IF(VLOOKUP(($B$2&\"_\"&$A22),'Time Entry Sheet'!$A$3:$I$499,9,FALSE)=\"wd\",\"wd\",VLOOKUP(($B$2&\"_\"&$A22),'Time Entry Sheet'!$A$3:$I$499,9,FALSE)*1))","v":""},"",{"$f":"IF(IFERROR(VLOOKUP(($B$2&\"_\"&$A22),'Time Entry Sheet'!$A$3:$I$499,8,FALSE),\"Error\")=\"Error\",\"\",IF(VLOOKUP(($B$2&\"_\"&$A22),'Time Entry Sheet'!$A$3:$I$499,8,FALSE)=\"\",\"\",VLOOKUP(($B$2&\"_\"&$A22),'Time Entry Sheet'!$A$3:$I$499,8,FALSE)))","v":""},{"$f":"IF(IFERROR(VLOOKUP(($B$2&\"_\"&$A22),'Time Entry Sheet'!$A$3:$I$499,7,FALSE),\"Error\")=\"Error\",\"\",IF(VLOOKUP(($B$2&\"_\"&$A22),'Time Entry Sheet'!$A$3:$I$499,7,FALSE)=\"\",\"\",VLOOKUP(($B$2&\"_\"&$A22),'Time Entry Sheet'!$A$3:$I$499,7,FALSE)))","v":""},"00:00:10","00:00:10",1,{"$f":"IF(A22=\"\",\"\",M22+VLOOKUP(A22,'Test 13'!$A$12:$Q$51,16,FALSE))","v":"00:13:45.150"},19,null,"","00:13:45.150"]
[12,{"$f":"IF($A23=\"\",\"\",IF(VLOOKUP($A23,Competitors!$A$2:$G$60,2,FALSE)=\"\",\"\",VLOOKUP($A23,Competitors!$A$2:$G$60,2,FALSE)))","v":"Mat Boorman"},{"$f":"IF($A23=\"\",\"\",IF(VLOOKUP($A23,Competitors!$A$2:$G$60,7,FALSE)=\"\",\"\",VLOOKUP($A23,Competitors!$A$2:$G$60,7,FALSE)))","v":""},{"$f":"IF($A23=\"\",\"\",IF(VLOOKUP($A23,Competitors!$A$2:$G$60,5,FALSE)=\"\",\"\",VLOOKUP($A23,Competitors!$A$2:$G$60,5,FALSE)))","v":""},{"$f":"IF($A23=\"\",\"\",IF(VLOOKUP($A23,Competitors!$A$2:$G$60,6,FALSE)=\"\",\"\",VLOOKUP($A23,Competitors!$A$2:$G$60,6,FALSE)))","v":"senior"},{"$f":"IF($A23=\"\",\"\",IF(VLOOKUP($A23,Competitors!$A$2:$G$60,3,FALSE)=\"\",\"\",VLOOKUP($A23,Competitors!$A$2:$G$60,3,FALSE)))","v":""},{"$f":"IF($A23=\"\",\"\",IF(VLOOKUP($A23,Competitors!$A$2:$G$60,4,FALSE)=\"\",\"\",VLOOKUP($A23,Competitors!$A$2:$G$60,4,FALSE)))","v":""},{"$f":"IF(VLOOKUP(A23,Competitors!$A$1:$H$41,8,FALSE)=\"\",\"\",VLOOKUP(A23,Competitors!$A$1:$H$41,8,FALSE))","v":""},{"$f":"IF(IFERROR(VLOOKUP(($B$2&\"_\"&$A23),'Time Entry Sheet'!$A$3:$I$499,9,0),\"Error\")=\"Error\",\"\",IF(VLOOKUP(($B$2&\"_\"&$A23),'Time Entry Sheet'!$A$3:$I$499,9,FALSE)=\"wd\",\"wd\",VLOOKUP(($B$2&\"_\"&$A23),'Time Entry Sheet'!$A$3:$I$499,9,FALSE)*1))","v":""},"",{"$f":"IF(IFERROR(VLOOKUP(($B$2&\"_\"&$A23),'Time Entry Sheet'!$A$3:$I$499,8,FALSE),\"Error\")=\"Error\",\"\",IF(VLOOKUP(($B$2&\"_\"&$A23),'Time Entry Sheet'!$A$3:$I$499,8,FALSE)=\"\",\"\",VLOOKUP(($B$2&\"_\"&$A23),'Time Entry Sheet'!$A$3:$I$499,8,FALSE)))","v":""},{"$f":"IF(IFERROR(VLOOKUP(($B$2&\"_\"&$A23),'Time Entry Sheet'!$A$3:$I$499,7,FALSE),\"Error\")=\"Error\",\"\",IF(VLOOKUP(($B$2&\"_\"&$A23),'Time Entry Sheet'!$A$3:$I$499,7,FALSE)=\"\",\"\",VLOOKUP(($B$2&\"_\"&$A23),'Time Entry Sheet'!$A$3:$I$499,7,FALSE)))","v":""},"00:00:10","00:00:10",1,{"$f":"IF(A23=\"\",\"\",M23+VLOOKUP(A23,'Test 13'!$A$12:$Q$51,16,FALSE))","v":"00:12:57.280"},15,null,"","00:12:57.280"]
[13,{"$f":"IF($A24=\"\",\"\",IF(VLOOKUP($A24,Competitors!$A$2:$G$60,2,FALSE)=\"\",\"\",VLOOKUP($A24,Competitors!$A$2:$G$60,2,FALSE)))","v":"Aaron Wishart"},{"$f":"IF($A24=\"\",\"\",IF(VLOOKUP($A24,Competitors!$A$2:$G$60,7,FALSE)=\"\",\"\",VLOOKUP($A24,Competitors!$A$2:$G$60,7,FALSE)))","v":""},{"$f":"IF($A24=\"\",\"\",IF(VLOOKUP($A24,Competitors!$A$2:$G$60,5,FALSE)=\"\",\"\",VLOOKUP($A24,Competitors!$A$2:$G$60,5,FALSE)))","v":""},{"$f":"IF($A24=\"\",\"\",IF(VLOOKUP($A24,Competitors!$A$2:$G$60,6,FALSE)=\"\",\"\",VLOOKUP($A24,Competitors!$A$2:$G$60,6,FALSE)))","v":"senior"},{"$f":"IF($A24=\"\",\"\",IF(VLOOKUP($A24,Competitors!$A$2:$G$60,3,FALSE)=\"\",\"\",VLOOKUP($A24,Competitors!$A$2:$G$60,3,FALSE)))","v":""},{"$f":"IF($A24=\"\",\"\",IF(VLOOKUP($A24,Competitors!$A$2:$G$60,4,FALSE)=\"\",\"\",VLOOKUP($A24,Competitors!$A$2:$G$60,4,FALSE)))","v":""},{"$f":"IF(VLOOKUP(A24,Competitors!$A$1:$H$41,8,FALSE)=\"\",\"\",VLOOKUP(A24,Competitors!$A$1:$H$41,8,FALSE))","v":""},{"$f":"IF(IFERROR(VLOOKUP(($B$2&\"_\"&$A24),'Time Entry Sheet'!$A$3:$I$499,9,0),\"Error\")=\"Error\",\"\",IF(VLOOKUP(($B$2&\"_\"&$A24),'Time Entry Sheet'!$A$3:$I$499,9,FALSE)=\"wd\",\"wd\",VLOOKUP(($B$2&\"_\"&$A24),'Time Entry Sheet'!$A$3:$I$499,9,FALSE)*1))","v":""},"",{"$f":"IF(IFERROR(VLOOKUP(($B$2&\"_\"&$A24),'Time Entry Sheet'!$A$3:$I$499,8,FALSE),\"Error\")=\"Error\",\"\",IF(VLOOKUP(($B$2&\"_\"&$A24),'Time Entry Sheet'!$A$3:$I$499,8,FALSE)=\"\",\"\",VLOOKUP(($B$2&\"_\"&$A24),'Time Entry Sheet'!$A$3:$I$499,8,FALSE)))","v":""},{"$f":"IF(IFERROR(VLOOKUP(($B$2&\"_\"&$A24),'Time Entry Sheet'!$A$3:$I$499,7,FALSE),\"Error\")=\"Error\",\"\",IF(VLOOKUP(($B$2&\"_\"&$A24),'Time Entry Sheet'!$A$3:$I$499,7,FALSE)=\"\",\"\",VLOOKUP(($B$2&\"_\"&$A24),'Time Entry Sheet'!$A$3:$I$499,7,FALSE)))","v":""},"00:00:10","00:00:10",1,{"$f":"IF(A24=\"\",\"\",M24+VLOOKUP(A24,'Test 13'!$A$12:$Q$51,16,FALSE))","v":"00:12:47.920"},14,null,"","00:12:47.920"]
[14,{"$f":"IF($A25=\"\",\"\",IF(VLOOKUP($A25,Competitors!$A$2:$G$60,2,FALSE)=\"\",\"\",VLOOKUP($A25,Competitors!$A$2:$G$60,2,FALSE)))","v":"Bob Fulthorpe"},{"$f":"IF($A25=\"\",\"\",IF(VLOOKUP($A25,Competitors!$A$2:$G$60,7,FALSE)=\"\",\"\",VLOOKUP($A25,Competitors!$A$2:$G$60,7,FALSE)))","v":""},{"$f":"IF($A25=\"\",\"\",IF(VLOOKUP($A25,Competitors!$A$2:$G$60,5,FALSE)=\"\",\"\",VLOOKUP($A25,Competitors!$A$2:$G$60,5,FALSE)))","v":""},{"$f":"IF($A25=\"\",\"\",IF(VLOOKUP($A25,Competitors!$A$2:$G$60,6,FALSE)=\"\",\"\",VLOOKUP($A25,Competitors!$A$2:$G$60,6,FALSE)))","v":"senior"},{"$f":"IF($A25=\"\",\"\",IF(VLOOKUP($A25,Competitors!$A$2:$G$60,3,FALSE)=\"\",\"\",VLOOKUP($A25,Competitors!$A$2:$G$60,3,FALSE)))","v":""},{"$f":"IF($A25=\"\",\"\",IF(VLOOKUP($A25,Competitors!$A$2:$G$60,4,FALSE)=\"\",\"\",VLOOKUP($A25,Competitors!$A$2:$G$60,4,FALSE)))","v":""},{"$f":"IF(VLOOKUP(A25,Competitors!$A$1:$H$41,8,FALSE)=\"\",\"\",VLOOKUP(A25,Competitors!$A$1:$H$41,8,FALSE))","v":""},{"$f":"IF(IFERROR(VLOOKUP(($B$2&\"_\"&$A25),'Time Entry Sheet'!$A$3:$I$499,9,0),\"Error\")=\"Error\",\"\",IF(VLOOKUP(($B$2&\"_\"&$A25),'Time Entry Sheet'!$A$3:$I$499,9,FALSE)=\"wd\",\"wd\",VLOOKUP(($B$2&\"_\"&$A25),'Time Entry Sheet'!$A$3:$I$499,9,FALSE)*1))","v":""},"",{"$f":"IF(IFERROR(VLOOKUP(($B$2&\"_\"&$A25),'Time Entry Sheet'!$A$3:$I$499,8,FALSE),\"Error\")=\"Error\",\"\",IF(VLOOKUP(($B$2&\"_\"&$A25),'Time Entry Sheet'!$A$3:$I$499,8,FALSE)=\"\",\"\",VLOOKUP(($B$2&\"_\"&$A25),'Time Entry Sheet'!$A$3:$I$499,8,FALSE)))","v":""},{"$f":"IF(IFERROR(VLOOKUP(($B$2&\"_\"&$A25),'Time Entry Sheet'!$A$3:$I$499,7,FALSE),\"Error\")=\"Error\",\"\",IF(VLOOKUP(($B$2&\"_\"&$A25),'Time Entry Sheet'!$A$3:$I$499,7,FALSE)=\"\",\"\",VLOOKUP(($B$2&\"_\"&$A25),'Time Entry Sheet'!$A$3:$I$499,7,FALSE)))","v":""},"00:00:10","00:00:10",1,{"$f":"IF(A25=\"\",\"\",M25+VLOOKUP(A25,'Test 13'!$A$12:$Q$51,16,FALSE))","v":"00:11:17.350"},5,null,"","00:11:17.350"]
[15,{"$f":"IF($A26=\"\",\"\",IF(VLOOKUP($A26,Competitors!$A$2:$G$60,2,FALSE)=\"\",\"\",VLOOKUP($A26,Competitors!$A$2:$G$60,2,FALSE)))","v":"Khi Fulthorpe"},{"$f":"IF($A26=\"\",\"\",IF(VLOOKUP($A26,Competitors!$A$2:$G$60,7,FALSE)=\"\",\"\",VLOOKUP($A26,Competitors!$A$2:$G$60,7,FALSE)))","v":""},{"$f":"IF($A26=\"\",\"\",IF(VLOOKUP($A26,Competitors!$A$2:$G$60,5,FALSE)=\"\",\"\",VLOOKUP($A26,Competitors!$A$2:$G$60,5,FALSE)))","v":""},{"$f":"IF($A26=\"\",\"\",IF(VLOOKUP($A26,Competitors!$A$2:$G$60,6,FALSE)=\"\",\"\",VLOOKUP($A26,Competitors!$A$2:$G$60,6,FALSE)))","v":"senior"},{"$f":"IF($A26=\"\",\"\",IF(VLOOKUP($A26,Competitors!$A$2:$G$60,3,FALSE)=\"\",\"\",VLOOKUP($A26,Competitors!$A$2:$G$60,3,FALSE)))","v":""},{"$f":"IF($A26=\"\",\"\",IF(VLOOKUP($A26,Competitors!$A$2:$G$60,4,FALSE)=\"\",\"\",VLOOKUP($A26,Competitors!$A$2:$G$60,4,FALSE)))","v":""},{"$f":"IF(VLOOKUP(A26,Competitors!$A$1:$H$41,8,FALSE)=\"\",\"\",VLOOKUP(A26,Competitors!$A$1:$H$41,8,FALSE))","v":""},{"$f":"IF(IFERROR(VLOOKUP(($B$2&\"_\"&$A26),'Time Entry Sheet'!$A$3:$I$499,9,0),\"Error\")=\"Error\",\"\",IF(VLOOKUP(($B$2&\"_\"&$A26),'Time Entry Sheet'!$A$3:$I$499,9,FALSE)=\"wd\",\"wd\",VLOOKUP(($B$2&\"_\"&$A26),'Time Entry Sheet'!$A$3:$I$499,9,FALSE)*1))","v":""},"",{"$f":"IF(IFERROR(VLOOKUP(($B$2&\"_\"&$A26),'Time Entry Sheet'!$A$3:$I$499,8,FALSE),\"Error\")=\"Error\",\"\",IF(VLOOKUP(($B$2&\"_\"&$A26),'Time Entry Sheet'!$A$3:$I$499,8,FALSE)=\"\",\"\",VLOOKUP(($B$2&\"_\"&$A26),'Time Entry Sheet'!$A$3:$I$499,8,FALSE)))","v":""},{"$f":"IF(IFERROR(VLOOKUP(($B$2&\"_\"&$A26),'Time Entry Sheet'!$A$3:$I$499,7,FALSE),\"Error\")=\"Error\",\"\",IF(VLOOKUP(($B$2&\"_\"&$A26),'Time Entry Sheet'!$A$3:$I$499,7,FALSE)=\"\",\"\",VLOOKUP(($B$2&\"_\"&$A26),'Time Entry Sheet'!$A$3:$I$499,7,FALSE)))","v":""},"00:00:10","00:00:10",1,{"$f":"IF(A26=\"\",\"\",M26+VLOOKUP(A26,'Test 13'!$A$12:$Q$51,16,FALSE))","v":"00:12:17.250"},10,null,"","00:12:17.250"]
[16,{"$f":"IF($A27=\"\",\"\",IF(VLOOKUP($A27,Competitors!$A$2:$G$60,2,FALSE)=\"\",\"\",VLOOKUP($A27,Competitors!$A$2:$G$60,2,FALSE)))","v":"Nathan Senior"},{"$f":"IF($A27=\"\",\"\",IF(VLOOKUP($A27,Competitors!$A$2:$G$60,7,FALSE)=\"\",\"\",VLOOKUP($A27,Competitors!$A$2:$G$60,7,FALSE)))","v":""},{"$f":"IF($A27=\"\",\"\",IF(VLOOKUP($A27,Competitors!$A$2:$G$60,5,FALSE)=\"\",\"\",VLOOKUP($A27,Competitors!$A$2:$G$60,5,FALSE)))","v":""},{"$f":"IF($A27=\"\",\"\",IF(VLOOKUP($A27,Competitors!$A$2:$G$60,6,FALSE)=\"\",\"\",VLOOKUP($A27,Competitors!$A$2:$G$60,6,FALSE)))","v":"senior"},{"$f":"IF($A27=\"\",\"\",IF(VLOOKUP($A27,Competitors!$A$2:$G$60,3,FALSE)=\"\",\"\",VLOOKUP($A27,Competitors!$A$2:$G$60,3,FALSE)))","v":""},{"$f":"IF($A27=\"\",\"\",IF(VLOOKUP($A27,Competitors!$A$2:$G$60,4,FALSE)=\"\",\"\",VLOOKUP($A27,Competitors!$A$2:$G$60,4,FALSE)))","v":""},{"$f":"IF(VLOOKUP(A27,Competitors!$A$1:$H$41,8,FALSE)=\"\",\"\",VLOOKUP(A27,Competitors!$A$1:$H$41,8,FALSE))","v":""},{"$f":"IF(IFERROR(VLOOKUP(($B$2&\"_\"&$A27),'Time Entry Sheet'!$A$3:$I$499,9,0),\"Error\")=\"Error\",\"\",IF(VLOOKUP(($B$2&\"_\"&$A27),'Time Entry Sheet'!$A$3:$I$499,9,FALSE)=\"wd\",\"wd\",VLOOKUP(($B$2&\"_\"&$A27),'Time Entry Sheet'!$A$3:$I$499,9,FALSE)*1))","v":""},"",{"$f":"IF(IFERROR(VLOOKUP(($B$2&\"_\"&$A27),'Time Entry Sheet'!$A$3:$I$499,8,FALSE),\"Error\")=\"Error\",\"\",IF(VLOOKUP(($B$2&\"_\"&$A27),'Time Entry Sheet'!$A$3:$I$499,8,FALSE)=\"\",\"\",VLOOKUP(($B$2&\"_\"&$A27),'Time Entry Sheet'!$A$3:$I$499,8,FALSE)))","v":""},{"$f":"IF(IFERROR(VLOOKUP(($B$2&\"_\"&$A27),'Time Entry Sheet'!$A$3:$I$499,7,FALSE),\"Error\")=\"Error\",\"\",IF(VLOOKUP(($B$2&\"_\"&$A27),'Time Entry Sheet'!$A$3:$I$499,7,FALSE)=\"\",\"\",VLOOKUP(($B$2&\"_\"&$A27),'Time Entry Sheet'!$A$3:$I$499,7,FALSE)))","v":""},"00:00:10","00:00:10",1,{"$f":"IF(A27=\"\",\"\",M27+VLOOKUP(A27,'Test 13'!$A$12:$Q$51,16,FALSE))","v":"00:12:01.190"},7,null,"","00:12:01.190"]
[17,{"$f":"IF($A28=\"\",\"\",IF(VLOOKUP($A28,Competitors!$A$2:$G$60,2,FALSE)=\"\",\"\",VLOOKUP($A28,Competitors!$A$2:$G$60,2,FALSE)))","v":"Reece McIntosh"},{"$f":"IF($A28=\"\",\"\",IF(VLOOKUP($A28,Competitors!$A$2:$G$60,7,FALSE)=\"\",\"\",VLOOKUP($A28,Competitors!$A$2:$G$60,7,FALSE)))","v":""},{"$f":"IF($A28=\"\",\"\",IF(VLOOKUP($A28,Competitors!$A$2:$G$60,5,FALSE)=\"\",\"\",VLOOKUP($A28,Competitors!$A$2:$G$60,5,FALSE)))","v":""},{"$f":"IF($A28=\"\",\"\",IF(VLOOKUP($A28,Competitors!$A$2:$G$60,6,FALSE)=\"\",\"\",VLOOKUP($A28,Competitors!$A$2:$G$60,6,FALSE)))","v":"senior"},{"$f":"IF($A28=\"\",\"\",IF(VLOOKUP($A28,Competitors!$A$2:$G$60,3,FALSE)=\"\",\"\",VLOOKUP($A28,Competitors!$A$2:$G$60,3,FALSE)))","v":""},{"$f":"IF($A28=\"\",\"\",IF(VLOOKUP($A28,Competitors!$A$2:$G$60,4,FALSE)=\"\",\"\",VLOOKUP($A28,Competitors!$A$2:$G$60,4,FALSE)))","v":""},{"$f":"IF(VLOOKUP(A28,Competitors!$A$1:$H$41,8,FALSE)=\"\",\"\",VLOOKUP(A28,Competitors!$A$1:$H$41,8,FALSE))","v":""},{"$f":"IF(IFERROR(VLOOKUP(($B$2&\"_\"&$A28),'Time Entry Sheet'!$A$3:$I$499,9,0),\"Error\")=\"Error\",\"\",IF(VLOOKUP(($B$2&\"_\"&$A28),'Time Entry Sheet'!$A$3:$I$499,9,FALSE)=\"wd\",\"wd\",VLOOKUP(($B$2&\"_\"&$A28),'Time Entry Sheet'!$A$3:$I$499,9,FALSE)*1))","v":""},"",{"$f":"IF(IFERROR(VLOOKUP(($B$2&\"_\"&$A28),'Time Entry Sheet'!$A$3:$I$499,8,FALSE),\"Error\")=\"Error\",\"\",IF(VLOOKUP(($B$2&\"_\"&$A28),'Time Entry Sheet'!$A$3:$I$499,8,FALSE)=\"\",\"\",VLOOKUP(($B$2&\"_\"&$A28),'Time Entry Sheet'!$A$3:$I$499,8,FALSE)))","v":""},{"$f":"IF(IFERROR(VLOOKUP(($B$2&\"_\"&$A28),'Time Entry Sheet'!$A$3:$I$499,7,FALSE),\"Error\")=\"Error\",\"\",IF(VLOOKUP(($B$2&\"_\"&$A28),'Time Entry Sheet'!$A$3:$I$499,7,FALSE)=\"\",\"\",VLOOKUP(($B$2&\"_\"&$A28),'Time Entry Sheet'!$A$3:$I$499,7,FALSE)))","v":""},"00:00:10","00:00:10",1,{"$f":"IF(A28=\"\",\"\",M28+VLOOKUP(A28,'Test 13'!$A$12:$Q$51,16,FALSE))","v":"00:10:40.300"},1,null,"","00:10:40.300"]
[18,{"$f":"IF($A29=\"\",\"\",IF(VLOOKUP($A29,Competitors!$A$2:$G$60,2,FALSE)=\"\",\"\",VLOOKUP($A29,Competitors!$A$2:$G$60,2,FALSE)))","v":"Jack Stanley"},{"$f":"IF($A29=\"\",\"\",IF(VLOOKUP($A29,Competitors!$A$2:$G$60,7,FALSE)=\"\",\"\",VLOOKUP($A29,Competitors!$A$2:$G$60,7,FALSE)))","v":"rookie"},{"$f":"IF($A29=\"\",\"\",IF(VLOOKUP($A29,Competitors!$A$2:$G$60,5,FALSE)=\"\",\"\",VLOOKUP($A29,Competitors!$A$2:$G$60,5,FALSE)))","v":""},{"$f":"IF($A29=\"\",\"\",IF(VLOOKUP($A29,Competitors!$A$2:$G$60,6,FALSE)=\"\",\"\",VLOOKUP($A29,Competitors!$A$2:$G$60,6,FALSE)))","v":"senior"},{"$f":"IF($A29=\"\",\"\",IF(VLOOKUP($A29,Competitors!$A$2:$G$60,3,FALSE)=\"\",\"\",VLOOKUP($A29,Competitors!$A$2:$G$60,3,FALSE)))","v":""},{"$f":"IF($A29=\"\",\"\",IF(VLOOKUP($A29,Competitors!$A$2:$G$60,4,FALSE)=\"\",\"\",VLOOKUP($A29,Competitors!$A$2:$G$60,4,FALSE)))","v":""},{"$f":"IF(VLOOKUP(A29,Competitors!$A$1:$H$41,8,FALSE)=\"\",\"\",VLOOKUP(A29,Competitors!$A$1:$H$41,8,FALSE))","v":""},{"$f":"IF(IFERROR(VLOOKUP(($B$2&\"_\"&$A29),'Time Entry Sheet'!$A$3:$I$499,9,0),\"Error\")=\"Error\",\"\",IF(VLOOKUP(($B$2&\"_\"&$A29),'Time Entry Sheet'!$A$3:$I$499,9,FALSE)=\"wd\",\"wd\",VLOOKUP(($B$2&\"_\"&$A29),'Time Entry Sheet'!$A$3:$I$499,9,FALSE)*1))","v":""},"",{"$f":"IF(IFERROR(VLOOKUP(($B$2&\"_\"&$A29),'Time Entry Sheet'!$A$3:$I$499,8,FALSE),\"Error\")=\"Error\",\"\",IF(VLOOKUP(($B$2&\"_\"&$A29),'Time Entry Sheet'!$A$3:$I$499,8,FALSE)=\"\",\"\",VLOOKUP(($B$2&\"_\"&$A29),'Time Entry Sheet'!$A$3:$I$499,8,FALSE)))","v":""},{"$f":"IF(IFERROR(VLOOKUP(($B$2&\"_\"&$A29),'Time Entry Sheet'!$A$3:$I$499,7,FALSE),\"Error\")=\"Error\",\"\",IF(VLOOKUP(($B$2&\"_\"&$A29),'Time Entry Sheet'!$A$3:$I$499,7,FALSE)=\"\",\"\",VLOOKUP(($B$2&\"_\"&$A29),'Time Entry Sheet'!$A$3:$I$499,7,FALSE)))","v":""},"00:00:10","00:00:10",1,{"$f":"IF(A29=\"\",\"\",M29+VLOOKUP(A29,'Test 13'!$A$12:$Q$51,16,FALSE))","v":"00:13:29.100"},17,null,"","00:13:29.100"]
[19,{"$f":"IF($A30=\"\",\"\",IF(VLOOKUP($A30,Competitors!$A$2:$G$60,2,FALSE)=\"\",\"\",VLOOKUP($A30,Competitors!$A$2:$G$60,2,FALSE)))","v":"Christopher Northey"},{"$f":"IF($A30=\"\",\"\",IF(VLOOKUP($A30,Competitors!$A$2:$G$60,7,FALSE)=\"\",\"\",VLOOKUP($A30,Competitors!$A$2:$G$60,7,FALSE)))","v":""},{"$f":"IF($A30=\"\",\"\",IF(VLOOKUP($A30,Competitors!$A$2:$G$60,5,FALSE)=\"\",\"\",VLOOKUP($A30,Competitors!$A$2:$G$60,5,FALSE)))","v":""},{"$f":"IF($A30=\"\",\"\",IF(VLOOKUP($A30,Competitors!$A$2:$G$60,6,FALSE)=\"\",\"\",VLOOKUP($A30,Competitors!$A$2:$G$60,6,FALSE)))","v":"senior"},{"$f":"IF($A30=\"\",\"\",IF(VLOOKUP($A30,Competitors!$A$2:$G$60,3,FALSE)=\"\",\"\",VLOOKUP($A30,Competitors!$A$2:$G$60,3,FALSE)))","v":""},{"$f":"IF($A30=\"\",\"\",IF(VLOOKUP($A30,Competitors!$A$2:$G$60,4,FALSE)=\"\",\"\",VLOOKUP($A30,Competitors!$A$2:$G$60,4,FALSE)))","v":""},{"$f":"IF(VLOOKUP(A30,Competitors!$A$1:$H$41,8,FALSE)=\"\",\"\",VLOOKUP(A30,Competitors!$A$1:$H$41,8,FALSE))","v":""},{"$f":"IF(IFERROR(VLOOKUP(($B$2&\"_\"&$A30),'Time Entry Sheet'!$A$3:$I$499,9,0),\"Error\")=\"Error\",\"\",IF(VLOOKUP(($B$2&\"_\"&$A30),'Time Entry Sheet'!$A$3:$I$499,9,FALSE)=\"wd\",\"wd\",VLOOKUP(($B$2&\"_\"&$A30),'Time Entry Sheet'!$A$3:$I$499,9,FALSE)*1))","v":""},{"$f":"IF(E30=\"Junior\",\"\",IF(I30=\"wd\",\"\",IF(K30<>\"\",\"\",I30)))","v":""},{"$f":"IF(IFERROR(VLOOKUP(($B$2&\"_\"&$A30),'Time Entry Sheet'!$A$3:$I$499,8,FALSE),\"Error\")=\"Error\",\"\",IF(VLOOKUP(($B$2&\"_\"&$A30),'Time Entry Sheet'!$A$3:$I$499,8,FALSE)=\"\",\"\",VLOOKUP(($B$2&\"_\"&$A30),'Time Entry Sheet'!$A$3:$I$499,8,FALSE)))","v":""},{"$f":"IF(IFERROR(VLOOKUP(($B$2&\"_\"&$A30),'Time Entry Sheet'!$A$3:$I$499,7,FALSE),\"Error\")=\"Error\",\"\",IF(VLOOKUP(($B$2&\"_\"&$A30),'Time Entry Sheet'!$A$3:$I$499,7,FALSE)=\"\",\"\",VLOOKUP(($B$2&\"_\"&$A30),'Time Entry Sheet'!$A$3:$I$499,7,FALSE)))","v":""},{"$f":"IF(A30=\"\",\"\",IF(I30=\"wd\",IF(E30=\"Senior\",$B$7,$C$7),IF(L30<>\"\",$B$7,IF(I30=\"\",IF(E30=\"Senior\",$B$8,$C$8),IF(K30=\"\",I30,I30+($B$5*K30))))))","v":"00:00:10"},{"$f":"IF(H30=\"Passenger\",\"\",M30)","v":"00:00:10"},{"$f":"IF(A30=\"\",\"\",IF(H30=\"Passenger\",\"P\",RANK(N30,$N$12:$N$51,1)))","v":1},{"$f":"IF(A30=\"\",\"\",M30+VLOOKUP(A30,'Test 13'!$A$12:$Q$51,16,FALSE))","v":"00:12:11.920"},{"$f":"IF(A30=\"\",\"\",IF(H30=\"Passenger\",\"P\",RANK(T30,$T$12:$T$51,1)))","v":9},null,{"$f":"IF(E30=\"Senior\",\"\",IF(I30=\"wd\",\"\",IF(K30<>\"\",\"\",I30)))","v":""},{"$f":"IF(H30=\"Passenger\",\"\",P30)","v":"00:12:11.920"}]
[20,{"$f":"IF($A31=\"\",\"\",IF(VLOOKUP($A31,Competitors!$A$2:$G$60,2,FALSE)=\"\",\"\",VLOOKUP($A31,Competitors!$A$2:$G$60,2,FALSE)))","v":"Ray Lampl"},{"$f":"IF($A31=\"\",\"\",IF(VLOOKUP($A31,Competitors!$A$2:$G$60,7,FALSE)=\"\",\"\",VLOOKUP($A31,Competitors!$A$2:$G$60,7,FALSE)))","v":""},{"$f":"IF($A31=\"\",\"\",IF(VLOOKUP($A31,Competitors!$A$2:$G$60,5,FALSE)=\"\",\"\",VLOOKUP($A31,Competitors!$A$2:$G$60,5,FALSE)))","v":""},{"$f":"IF($A31=\"\",\"\",IF(VLOOKUP($A31,Competitors!$A$2:$G$60,6,FALSE)=\"\",\"\",VLOOKUP($A31,Competitors!$A$2:$G$60,6,FALSE)))","v":"senior"},{"$f":"IF($A31=\"\",\"\",IF(VLOOKUP($A31,Competitors!$A$2:$G$60,3,FALSE)=\"\",\"\",VLOOKUP($A31,Competitors!$A$2:$G$60,3,FALSE)))","v":""},{"$f":"IF($A31=\"\",\"\",IF(VLOOKUP($A31,Competitors!$A$2:$G$60,4,FALSE)=\"\",\"\",VLOOKUP($A31,Competitors!$A$2:$G$60,4,FALSE)))","v":""},{"$f":"IF(VLOOKUP(A31,Competitors!$A$1:$H$41,8,FALSE)=\"\",\"\",VLOOKUP(A31,Competitors!$A$1:$H$41,8,FALSE))","v":""},{"$f":"IF(IFERROR(VLOOKUP(($B$2&\"_\"&$A31),'Time Entry Sheet'!$A$3:$I$499,9,0),\"Error\")=\"Error\",\"\",IF(VLOOKUP(($B$2&\"_\"&$A31),'Time Entry Sheet'!$A$3:$I$499,9,FALSE)=\"wd\",\"wd\",VLOOKUP(($B$2&\"_\"&$A31),'Time Entry Sheet'!$A$3:$I$499,9,FALSE)*1))","v":""},"",{"$f":"IF(IFERROR(VLOOKUP(($B$2&\"_\"&$A31),'Time Entry Sheet'!$A$3:$I$499,8,FALSE),\"Error\")=\"Error\",\"\",IF(VLOOKUP(($B$2&\"_\"&$A31),'Time Entry Sheet'!$A$3:$I$499,8,FALSE)=\"\",\"\",VLOOKUP(($B$2&\"_\"&$A31),'Time Entry Sheet'!$A$3:$I$499,8,FALSE)))","v":""},{"$f":"IF(IFERROR(VLOOKUP(($B$2&\"_\"&$A31),'Time Entry Sheet'!$A$3:$I$499,7,FALSE),\"Error\")=\"Error\",\"\",IF(VLOOKUP(($B$2&\"_\"&$A31),'Time Entry Sheet'!$A$3:$I$499,7,FALSE)=\"\",\"\",VLOOKUP(($B$2&\"_\"&$A31),'Time Entry Sheet'!$A$3:$I$499,7,FALSE)))","v":""},"00:00:10","00:00:10",1,{"$f":"IF(A31=\"\",\"\",M31+VLOOKUP(A31,'Test 13'!$A$12:$Q$51,16,FALSE))","v":"00:11:43.110"},6,null,"","00:11:43.110"]
[21,{"$f":"IF($A32=\"\",\"\",IF(VLOOKUP($A32,Competitors!$A$2:$G$60,2,FALSE)=\"\",\"\",VLOOKUP($A32,Competitors!$A$2:$G$60,2,FALSE)))","v":""},{"$f":"IF($A32=\"\",\"\",IF(VLOOKUP($A32,Competitors!$A$2:$G$60,7,FALSE)=\"\",\"\",VLOOKUP($A32,Competitors!$A$2:$G$60,7,FALSE)))","v":""},{"$f":"IF($A32=\"\",\"\",IF(VLOOKUP($A32,Competitors!$A$2:$G$60,5,FALSE)=\"\",\"\",VLOOKUP($A32,Competitors!$A$2:$G$60,5,FALSE)))","v":""},{"$f":"IF($A32=\"\",\"\",IF(VLOOKUP($A32,Competitors!$A$2:$G$60,6,FALSE)=\"\",\"\",VLOOKUP($A32,Competitors!$A$2:$G$60,6,FALSE)))","v":"senior"},{"$f":"IF($A32=\"\",\"\",IF(VLOOKUP($A32,Competitors!$A$2:$G$60,3,FALSE)=\"\",\"\",VLOOKUP($A32,Competitors!$A$2:$G$60,3,FALSE)))","v":""},{"$f":"IF($A32=\"\",\"\",IF(VLOOKUP($A32,Competitors!$A$2:$G$60,4,FALSE)=\"\",\"\",VLOOKUP($A32,Competitors!$A$2:$G$60,4,FALSE)))","v":""},{"$f":"IF(VLOOKUP(A32,Competitors!$A$1:$H$41,8,FALSE)=\"\",\"\",VLOOKUP(A32,Competitors!$A$1:$H$41,8,FALSE))","v":""},{"$f":"IF(IFERROR(VLOOKUP(($B$2&\"_\"&$A32),'Time Entry Sheet'!$A$3:$I$499,9,0),\"Error\")=\"Error\",\"\",IF(VLOOKUP(($B$2&\"_\"&$A32),'Time Entry Sheet'!$A$3:$I$499,9,FALSE)=\"wd\",\"wd\",VLOOKUP(($B$2&\"_\"&$A32),'Time Entry Sheet'!$A$3:$I$499,9,FALSE)*1))","v":""},"",{"$f":"IF(IFERROR(VLOOKUP(($B$2&\"_\"&$A32),'Time Entry Sheet'!$A$3:$I$499,8,FALSE),\"Error\")=\"Error\",\"\",IF(VLOOKUP(($B$2&\"_\"&$A32),'Time Entry Sheet'!$A$3:$I$499,8,FALSE)=\"\",\"\",VLOOKUP(($B$2&\"_\"&$A32),'Time Entry Sheet'!$A$3:$I$499,8,FALSE)))","v":""},{"$f":"IF(IFERROR(VLOOKUP(($B$2&\"_\"&$A32),'Time Entry Sheet'!$A$3:$I$499,7,FALSE),\"Error\")=\"Error\",\"\",IF(VLOOKUP(($B$2&\"_\"&$A32),'Time Entry Sheet'!$A$3:$I$499,7,FALSE)=\"\",\"\",VLOOKUP(($B$2&\"_\"&$A32),'Time Entry Sheet'!$A$3:$I$499,7,FALSE)))","v":""},"00:00:10","00:00:10",1,{"$f":"IF(A32=\"\",\"\",M32+VLOOKUP(A32,'Test 13'!$A$12:$Q$51,16,FALSE))","v":"00:16:02.230"},20,null,"","00:16:02.230"]
[22,{"$f":"IF($A33=\"\",\"\",IF(VLOOKUP($A33,Competitors!$A$2:$G$60,2,FALSE)=\"\",\"\",VLOOKUP($A33,Competitors!$A$2:$G$60,2,FALSE)))","v":""},{"$f":"IF($A33=\"\",\"\",IF(VLOOKUP($A33,Competitors!$A$2:$G$60,7,FALSE)=\"\",\"\",VLOOKUP($A33,Competitors!$A$2:$G$60,7,FALSE)))","v":""},{"$f":"IF($A33=\"\",\"\",IF(VLOOKUP($A33,Competitors!$A$2:$G$60,5,FALSE)=\"\",\"\",VLOOKUP($A33,Competitors!$A$2:$G$60,5,FALSE)))","v":""},{"$f":"IF($A33=\"\",\"\",IF(VLOOKUP($A33,Competitors!$A$2:$G$60,6,FALSE)=\"\",\"\",VLOOKUP($A33,Competitors!$A$2:$G$60,6,FALSE)))","v":"senior"},{"$f":"IF($A33=\"\",\"\",IF(VLOOKUP($A33,Competitors!$A$2:$G$60,3,FALSE)=\"\",\"\",VLOOKUP($A33,Competitors!$A$2:$G$60,3,FALSE)))","v":""},{"$f":"IF($A33=\"\",\"\",IF(VLOOKUP($A33,Competitors!$A$2:$G$60,4,FALSE)=\"\",\"\",VLOOKUP($A33,Competitors!$A$2:$G$60,4,FALSE)))","v":""},{"$f":"IF(VLOOKUP(A33,Competitors!$A$1:$H$41,8,FALSE)=\"\",\"\",VLOOKUP(A33,Competitors!$A$1:$H$41,8,FALSE))","v":""},{"$f":"IF(IFERROR(VLOOKUP(($B$2&\"_\"&$A33),'Time Entry Sheet'!$A$3:$I$499,9,0),\"Error\")=\"Error\",\"\",IF(VLOOKUP(($B$2&\"_\"&$A33),'Time Entry Sheet'!$A$3:$I$499,9,FALSE)=\"wd\",\"wd\",VLOOKUP(($B$2&\"_\"&$A33),'Time Entry Sheet'!$A$3:$I$499,9,FALSE)*1))","v":""},"",{"$f":"IF(IFERROR(VLOOKUP(($B$2&\"_\"&$A33),'Time Entry Sheet'!$A$3:$I$499,8,FALSE),\"Error\")=\"Error\",\"\",IF(VLOOKUP(($B$2&\"_\"&$A33),'Time Entry Sheet'!$A$3:$I$499,8,FALSE)=\"\",\"\",VLOOKUP(($B$2&\"_\"&$A33),'Time Entry Sheet'!$A$3:$I$499,8,FALSE)))","v":""},{"$f":"IF(IFERROR(VLOOKUP(($B$2&\"_\"&$A33),'Time Entry Sheet'!$A$3:$I$499,7,FALSE),\"Error\")=\"Error\",\"\",IF(VLOOKUP(($B$2&\"_\"&$A33),'Time Entry Sheet'!$A$3:$I$499,7,FALSE)=\"\",\"\",VLOOKUP(($B$2&\"_\"&$A33),'Time Entry Sheet'!$A$3:$I$499,7,FALSE)))","v":""},"00:00:10","00:00:10",1,{"$f":"IF(A33=\"\",\"\",M33+VLOOKUP(A33,'Test 13'!$A$12:$Q$51,16,FALSE))","v":"00:16:02.230"},20,null,"","00:16:02.230"]
[23,{"$f":"IF($A34=\"\",\"\",IF(VLOOKUP($A34,Competitors!$A$2:$G$60,2,FALSE)=\"\",\"\",VLOOKUP($A34,Competitors!$A$2:$G$60,2,FALSE)))","v":""},{"$f":"IF($A34=\"\",\"\",IF(VLOOKUP($A34,Competitors!$A$2:$G$60,7,FALSE)=\"\",\"\",VLOOKUP($A34,Competitors!$A$2:$G$60,7,FALSE)))","v":""},{"$f":"IF($A34=\"\",\"\",IF(VLOOKUP($A34,Competitors!$A$2:$G$60,5,FALSE)=\"\",\"\",VLOOKUP($A34,Competitors!$A$2:$G$60,5,FALSE)))","v":""},{"$f":"IF($A34=\"\",\"\",IF(VLOOKUP($A34,Competitors!$A$2:$G$60,6,FALSE)=\"\",\"\",VLOOKUP($A34,Competitors!$A$2:$G$60,6,FALSE)))","v":"senior"},{"$f":"IF($A34=\"\",\"\",IF(VLOOKUP($A34,Competitors!$A$2:$G$60,3,FALSE)=\"\",\"\",VLOOKUP($A34,Competitors!$A$2:$G$60,3,FALSE)))","v":""},{"$f":"IF($A34=\"\",\"\",IF(VLOOKUP($A34,Competitors!$A$2:$G$60,4,FALSE)=\"\",\"\",VLOOKUP($A34,Competitors!$A$2:$G$60,4,FALSE)))","v":""},{"$f":"IF(VLOOKUP(A34,Competitors!$A$1:$H$41,8,FALSE)=\"\",\"\",VLOOKUP(A34,Competitors!$A$1:$H$41,8,FALSE))","v":""},{"$f":"IF(IFERROR(VLOOKUP(($B$2&\"_\"&$A34),'Time Entry Sheet'!$A$3:$I$499,9,0),\"Error\")=\"Error\",\"\",IF(VLOOKUP(($B$2&\"_\"&$A34),'Time Entry Sheet'!$A$3:$I$499,9,FALSE)=\"wd\",\"wd\",VLOOKUP(($B$2&\"_\"&$A34),'Time Entry Sheet'!$A$3:$I$499,9,FALSE)*1))","v":""},"",{"$f":"IF(IFERROR(VLOOKUP(($B$2&\"_\"&$A34),'Time Entry Sheet'!$A$3:$I$499,8,FALSE),\"Error\")=\"Error\",\"\",IF(VLOOKUP(($B$2&\"_\"&$A34),'Time Entry Sheet'!$A$3:$I$499,8,FALSE)=\"\",\"\",VLOOKUP(($B$2&\"_\"&$A34),'Time Entry Sheet'!$A$3:$I$499,8,FALSE)))","v":""},{"$f":"IF(IFERROR(VLOOKUP(($B$2&\"_\"&$A34),'Time Entry Sheet'!$A$3:$I$499,7,FALSE),\"Error\")=\"Error\",\"\",IF(VLOOKUP(($B$2&\"_\"&$A34),'Time Entry Sheet'!$A$3:$I$499,7,FALSE)=\"\",\"\",VLOOKUP(($B$2&\"_\"&$A34),'Time Entry Sheet'!$A$3:$I$499,7,FALSE)))","v":""},"00:00:10","00:00:10",1,{"$f":"IF(A34=\"\",\"\",M34+VLOOKUP(A34,'Test 13'!$A$12:$Q$51,16,FALSE))","v":"00:16:02.230"},20,null,"","00:16:02.230"]
[24,{"$f":"IF($A35=\"\",\"\",IF(VLOOKUP($A35,Competitors!$A$2:$G$60,2,FALSE)=\"\",\"\",VLOOKUP($A35,Competitors!$A$2:$G$60,2,FALSE)))","v":""},{"$f":"IF($A35=\"\",\"\",IF(VLOOKUP($A35,Competitors!$A$2:$G$60,7,FALSE)=\"\",\"\",VLOOKUP($A35,Competitors!$A$2:$G$60,7,FALSE)))","v":""},{"$f":"IF($A35=\"\",\"\",IF(VLOOKUP($A35,Competitors!$A$2:$G$60,5,FALSE)=\"\",\"\",VLOOKUP($A35,Competitors!$A$2:$G$60,5,FALSE)))","v":""},{"$f":"IF($A35=\"\",\"\",IF(VLOOKUP($A35,Competitors!$A$2:$G$60,6,FALSE)=\"\",\"\",VLOOKUP($A35,Competitors!$A$2:$G$60,6,FALSE)))","v":"senior"},{"$f":"IF($A35=\"\",\"\",IF(VLOOKUP($A35,Competitors!$A$2:$G$60,3,FALSE)=\"\",\"\",VLOOKUP($A35,Competitors!$A$2:$G$60,3,FALSE)))","v":""},{"$f":"IF($A35=\"\",\"\",IF(VLOOKUP($A35,Competitors!$A$2:$G$60,4,FALSE)=\"\",\"\",VLOOKUP($A35,Competitors!$A$2:$G$60,4,FALSE)))","v":""},{"$f":"IF(VLOOKUP(A35,Competitors!$A$1:$H$41,8,FALSE)=\"\",\"\",VLOOKUP(A35,Competitors!$A$1:$H$41,8,FALSE))","v":""},{"$f":"IF(IFERROR(VLOOKUP(($B$2&\"_\"&$A35),'Time Entry Sheet'!$A$3:$I$499,9,0),\"Error\")=\"Error\",\"\",IF(VLOOKUP(($B$2&\"_\"&$A35),'Time Entry Sheet'!$A$3:$I$499,9,FALSE)=\"wd\",\"wd\",VLOOKUP(($B$2&\"_\"&$A35),'Time Entry Sheet'!$A$3:$I$499,9,FALSE)*1))","v":""},"",{"$f":"IF(IFERROR(VLOOKUP(($B$2&\"_\"&$A35),'Time Entry Sheet'!$A$3:$I$499,8,FALSE),\"Error\")=\"Error\",\"\",IF(VLOOKUP(($B$2&\"_\"&$A35),'Time Entry Sheet'!$A$3:$I$499,8,FALSE)=\"\",\"\",VLOOKUP(($B$2&\"_\"&$A35),'Time Entry Sheet'!$A$3:$I$499,8,FALSE)))","v":""},{"$f":"IF(IFERROR(VLOOKUP(($B$2&\"_\"&$A35),'Time Entry Sheet'!$A$3:$I$499,7,FALSE),\"Error\")=\"Error\",\"\",IF(VLOOKUP(($B$2&\"_\"&$A35),'Time Entry Sheet'!$A$3:$I$499,7,FALSE)=\"\",\"\",VLOOKUP(($B$2&\"_\"&$A35),'Time Entry Sheet'!$A$3:$I$499,7,FALSE)))","v":""},"00:00:10","00:00:10",1,{"$f":"IF(A35=\"\",\"\",M35+VLOOKUP(A35,'Test 13'!$A$12:$Q$51,16,FALSE))","v":"00:16:02.230"},20,null,"","00:16:02.230"]
[25,{"$f":"IF($A36=\"\",\"\",IF(VLOOKUP($A36,Competitors!$A$2:$G$60,2,FALSE)=\"\",\"\",VLOOKUP($A36,Competitors!$A$2:$G$60,2,FALSE)))","v":""},{"$f":"IF($A36=\"\",\"\",IF(VLOOKUP($A36,Competitors!$A$2:$G$60,7,FALSE)=\"\",\"\",VLOOKUP($A36,Competitors!$A$2:$G$60,7,FALSE)))","v":""},{"$f":"IF($A36=\"\",\"\",IF(VLOOKUP($A36,Competitors!$A$2:$G$60,5,FALSE)=\"\",\"\",VLOOKUP($A36,Competitors!$A$2:$G$60,5,FALSE)))","v":""},{"$f":"IF($A36=\"\",\"\",IF(VLOOKUP($A36,Competitors!$A$2:$G$60,6,FALSE)=\"\",\"\",VLOOKUP($A36,Competitors!$A$2:$G$60,6,FALSE)))","v":"senior"},{"$f":"IF($A36=\"\",\"\",IF(VLOOKUP($A36,Competitors!$A$2:$G$60,3,FALSE)=\"\",\"\",VLOOKUP($A36,Competitors!$A$2:$G$60,3,FALSE)))","v":""},{"$f":"IF($A36=\"\",\"\",IF(VLOOKUP($A36,Competitors!$A$2:$G$60,4,FALSE)=\"\",\"\",VLOOKUP($A36,Competitors!$A$2:$G$60,4,FALSE)))","v":""},{"$f":"IF(VLOOKUP(A36,Competitors!$A$1:$H$41,8,FALSE)=\"\",\"\",VLOOKUP(A36,Competitors!$A$1:$H$41,8,FALSE))","v":""},{"$f":"IF(IFERROR(VLOOKUP(($B$2&\"_\"&$A36),'Time Entry Sheet'!$A$3:$I$499,9,0),\"Error\")=\"Error\",\"\",IF(VLOOKUP(($B$2&\"_\"&$A36),'Time Entry Sheet'!$A$3:$I$499,9,FALSE)=\"wd\",\"wd\",VLOOKUP(($B$2&\"_\"&$A36),'Time Entry Sheet'!$A$3:$I$499,9,FALSE)*1))","v":""},"",{"$f":"IF(IFERROR(VLOOKUP(($B$2&\"_\"&$A36),'Time Entry Sheet'!$A$3:$I$499,8,FALSE),\"Error\")=\"Error\",\"\",IF(VLOOKUP(($B$2&\"_\"&$A36),'Time Entry Sheet'!$A$3:$I$499,8,FALSE)=\"\",\"\",VLOOKUP(($B$2&\"_\"&$A36),'Time Entry Sheet'!$A$3:$I$499,8,FALSE)))","v":""},{"$f":"IF(IFERROR(VLOOKUP(($B$2&\"_\"&$A36),'Time Entry Sheet'!$A$3:$I$499,7,FALSE),\"Error\")=\"Error\",\"\",IF(VLOOKUP(($B$2&\"_\"&$A36),'Time Entry Sheet'!$A$3:$I$499,7,FALSE)=\"\",\"\",VLOOKUP(($B$2&\"_\"&$A36),'Time Entry Sheet'!$A$3:$I$499,7,FALSE)))","v":""},"00:00:10","00:00:10",1,{"$f":"IF(A36=\"\",\"\",M36+VLOOKUP(A36,'Test 13'!$A$12:$Q$51,16,FALSE))","v":"00:16:02.230"},20,null,"","00:16:02.230"]
[26,{"$f":"IF($A37=\"\",\"\",IF(VLOOKUP($A37,Competitors!$A$2:$G$60,2,FALSE)=\"\",\"\",VLOOKUP($A37,Competitors!$A$2:$G$60,2,FALSE)))","v":""},{"$f":"IF($A37=\"\",\"\",IF(VLOOKUP($A37,Competitors!$A$2:$G$60,7,FALSE)=\"\",\"\",VLOOKUP($A37,Competitors!$A$2:$G$60,7,FALSE)))","v":""},{"$f":"IF($A37=\"\",\"\",IF(VLOOKUP($A37,Competitors!$A$2:$G$60,5,FALSE)=\"\",\"\",VLOOKUP($A37,Competitors!$A$2:$G$60,5,FALSE)))","v":""},{"$f":"IF($A37=\"\",\"\",IF(VLOOKUP($A37,Competitors!$A$2:$G$60,6,FALSE)=\"\",\"\",VLOOKUP($A37,Competitors!$A$2:$G$60,6,FALSE)))","v":"senior"},{"$f":"IF($A37=\"\",\"\",IF(VLOOKUP($A37,Competitors!$A$2:$G$60,3,FALSE)=\"\",\"\",VLOOKUP($A37,Competitors!$A$2:$G$60,3,FALSE)))","v":""},{"$f":"IF($A37=\"\",\"\",IF(VLOOKUP($A37,Competitors!$A$2:$G$60,4,FALSE)=\"\",\"\",VLOOKUP($A37,Competitors!$A$2:$G$60,4,FALSE)))","v":""},{"$f":"IF(VLOOKUP(A37,Competitors!$A$1:$H$41,8,FALSE)=\"\",\"\",VLOOKUP(A37,Competitors!$A$1:$H$41,8,FALSE))","v":""},{"$f":"IF(IFERROR(VLOOKUP(($B$2&\"_\"&$A37),'Time Entry Sheet'!$A$3:$I$499,9,0),\"Error\")=\"Error\",\"\",IF(VLOOKUP(($B$2&\"_\"&$A37),'Time Entry Sheet'!$A$3:$I$499,9,FALSE)=\"wd\",\"wd\",VLOOKUP(($B$2&\"_\"&$A37),'Time Entry Sheet'!$A$3:$I$499,9,FALSE)*1))","v":""},"",{"$f":"IF(IFERROR(VLOOKUP(($B$2&\"_\"&$A37),'Time Entry Sheet'!$A$3:$I$499,8,FALSE),\"Error\")=\"Error\",\"\",IF(VLOOKUP(($B$2&\"_\"&$A37),'Time Entry Sheet'!$A$3:$I$499,8,FALSE)=\"\",\"\",VLOOKUP(($B$2&\"_\"&$A37),'Time Entry Sheet'!$A$3:$I$499,8,FALSE)))","v":""},{"$f":"IF(IFERROR(VLOOKUP(($B$2&\"_\"&$A37),'Time Entry Sheet'!$A$3:$I$499,7,FALSE),\"Error\")=\"Error\",\"\",IF(VLOOKUP(($B$2&\"_\"&$A37),'Time Entry Sheet'!$A$3:$I$499,7,FALSE)=\"\",\"\",VLOOKUP(($B$2&\"_\"&$A37),'Time Entry Sheet'!$A$3:$I$499,7,FALSE)))","v":""},"00:00:10","00:00:10",1,{"$f":"IF(A37=\"\",\"\",M37+VLOOKUP(A37,'Test 13'!$A$12:$Q$51,16,FALSE))","v":"00:16:02.230"},20,null,"","00:16:02.230"]
[27,{"$f":"IF($A38=\"\",\"\",IF(VLOOKUP($A38,Competitors!$A$2:$G$60,2,FALSE)=\"\",\"\",VLOOKUP($A38,Competitors!$A$2:$G$60,2,FALSE)))","v":""},{"$f":"IF($A38=\"\",\"\",IF(VLOOKUP($A38,Competitors!$A$2:$G$60,7,FALSE)=\"\",\"\",VLOOKUP($A38,Competitors!$A$2:$G$60,7,FALSE)))","v":""},{"$f":"IF($A38=\"\",\"\",IF(VLOOKUP($A38,Competitors!$A$2:$G$60,5,FALSE)=\"\",\"\",VLOOKUP($A38,Competitors!$A$2:$G$60,5,FALSE)))","v":""},{"$f":"IF($A38=\"\",\"\",IF(VLOOKUP($A38,Competitors!$A$2:$G$60,6,FALSE)=\"\",\"\",VLOOKUP($A38,Competitors!$A$2:$G$60,6,FALSE)))","v":"senior"},{"$f":"IF($A38=\"\",\"\",IF(VLOOKUP($A38,Competitors!$A$2:$G$60,3,FALSE)=\"\",\"\",VLOOKUP($A38,Competitors!$A$2:$G$60,3,FALSE)))","v":""},{"$f":"IF($A38=\"\",\"\",IF(VLOOKUP($A38,Competitors!$A$2:$G$60,4,FALSE)=\"\",\"\",VLOOKUP($A38,Competitors!$A$2:$G$60,4,FALSE)))","v":""},{"$f":"IF(VLOOKUP(A38,Competitors!$A$1:$H$41,8,FALSE)=\"\",\"\",VLOOKUP(A38,Competitors!$A$1:$H$41,8,FALSE))","v":""},{"$f":"IF(IFERROR(VLOOKUP(($B$2&\"_\"&$A38),'Time Entry Sheet'!$A$3:$I$499,9,0),\"Error\")=\"Error\",\"\",IF(VLOOKUP(($B$2&\"_\"&$A38),'Time Entry Sheet'!$A$3:$I$499,9,FALSE)=\"wd\",\"wd\",VLOOKUP(($B$2&\"_\"&$A38),'Time Entry Sheet'!$A$3:$I$499,9,FALSE)*1))","v":""},"",{"$f":"IF(IFERROR(VLOOKUP(($B$2&\"_\"&$A38),'Time Entry Sheet'!$A$3:$I$499,8,FALSE),\"Error\")=\"Error\",\"\",IF(VLOOKUP(($B$2&\"_\"&$A38),'Time Entry Sheet'!$A$3:$I$499,8,FALSE)=\"\",\"\",VLOOKUP(($B$2&\"_\"&$A38),'Time Entry Sheet'!$A$3:$I$499,8,FALSE)))","v":""},{"$f":"IF(IFERROR(VLOOKUP(($B$2&\"_\"&$A38),'Time Entry Sheet'!$A$3:$I$499,7,FALSE),\"Error\")=\"Error\",\"\",IF(VLOOKUP(($B$2&\"_\"&$A38),'Time Entry Sheet'!$A$3:$I$499,7,FALSE)=\"\",\"\",VLOOKUP(($B$2&\"_\"&$A38),'Time Entry Sheet'!$A$3:$I$499,7,FALSE)))","v":""},"00:00:10","00:00:10",1,{"$f":"IF(A38=\"\",\"\",M38+VLOOKUP(A38,'Test 13'!$A$12:$Q$51,16,FALSE))","v":"00:16:02.230"},20,null,"","00:16:02.230"]
[28,{"$f":"IF($A39=\"\",\"\",IF(VLOOKUP($A39,Competitors!$A$2:$G$60,2,FALSE)=\"\",\"\",VLOOKUP($A39,Competitors!$A$2:$G$60,2,FALSE)))","v":""},{"$f":"IF($A39=\"\",\"\",IF(VLOOKUP($A39,Competitors!$A$2:$G$60,7,FALSE)=\"\",\"\",VLOOKUP($A39,Competitors!$A$2:$G$60,7,FALSE)))","v":""},{"$f":"IF($A39=\"\",\"\",IF(VLOOKUP($A39,Competitors!$A$2:$G$60,5,FALSE)=\"\",\"\",VLOOKUP($A39,Competitors!$A$2:$G$60,5,FALSE)))","v":""},{"$f":"IF($A39=\"\",\"\",IF(VLOOKUP($A39,Competitors!$A$2:$G$60,6,FALSE)=\"\",\"\",VLOOKUP($A39,Competitors!$A$2:$G$60,6,FALSE)))","v":"senior"},{"$f":"IF($A39=\"\",\"\",IF(VLOOKUP($A39,Competitors!$A$2:$G$60,3,FALSE)=\"\",\"\",VLOOKUP($A39,Competitors!$A$2:$G$60,3,FALSE)))","v":""},{"$f":"IF($A39=\"\",\"\",IF(VLOOKUP($A39,Competitors!$A$2:$G$60,4,FALSE)=\"\",\"\",VLOOKUP($A39,Competitors!$A$2:$G$60,4,FALSE)))","v":""},{"$f":"IF(VLOOKUP(A39,Competitors!$A$1:$H$41,8,FALSE)=\"\",\"\",VLOOKUP(A39,Competitors!$A$1:$H$41,8,FALSE))","v":""},{"$f":"IF(IFERROR(VLOOKUP(($B$2&\"_\"&$A39),'Time Entry Sheet'!$A$3:$I$499,9,0),\"Error\")=\"Error\",\"\",IF(VLOOKUP(($B$2&\"_\"&$A39),'Time Entry Sheet'!$A$3:$I$499,9,FALSE)=\"wd\",\"wd\",VLOOKUP(($B$2&\"_\"&$A39),'Time Entry Sheet'!$A$3:$I$499,9,FALSE)*1))","v":""},"",{"$f":"IF(IFERROR(VLOOKUP(($B$2&\"_\"&$A39),'Time Entry Sheet'!$A$3:$I$499,8,FALSE),\"Error\")=\"Error\",\"\",IF(VLOOKUP(($B$2&\"_\"&$A39),'Time Entry Sheet'!$A$3:$I$499,8,FALSE)=\"\",\"\",VLOOKUP(($B$2&\"_\"&$A39),'Time Entry Sheet'!$A$3:$I$499,8,FALSE)))","v":""},{"$f":"IF(IFERROR(VLOOKUP(($B$2&\"_\"&$A39),'Time Entry Sheet'!$A$3:$I$499,7,FALSE),\"Error\")=\"Error\",\"\",IF(VLOOKUP(($B$2&\"_\"&$A39),'Time Entry Sheet'!$A$3:$I$499,7,FALSE)=\"\",\"\",VLOOKUP(($B$2&\"_\"&$A39),'Time Entry Sheet'!$A$3:$I$499,7,FALSE)))","v":""},"00:00:10","00:00:10",1,{"$f":"IF(A39=\"\",\"\",M39+VLOOKUP(A39,'Test 13'!$A$12:$Q$51,16,FALSE))","v":"00:16:02.230"},20,null,null,"00:16:02.230"]
[29,{"$f":"IF($A40=\"\",\"\",IF(VLOOKUP($A40,Competitors!$A$2:$G$60,2,FALSE)=\"\",\"\",VLOOKUP($A40,Competitors!$A$2:$G$60,2,FALSE)))","v":""},{"$f":"IF($A40=\"\",\"\",IF(VLOOKUP($A40,Competitors!$A$2:$G$60,7,FALSE)=\"\",\"\",VLOOKUP($A40,Competitors!$A$2:$G$60,7,FALSE)))","v":""},{"$f":"IF($A40=\"\",\"\",IF(VLOOKUP($A40,Competitors!$A$2:$G$60,5,FALSE)=\"\",\"\",VLOOKUP($A40,Competitors!$A$2:$G$60,5,FALSE)))","v":""},{"$f":"IF($A40=\"\",\"\",IF(VLOOKUP($A40,Competitors!$A$2:$G$60,6,FALSE)=\"\",\"\",VLOOKUP($A40,Competitors!$A$2:$G$60,6,FALSE)))","v":"senior"},{"$f":"IF($A40=\"\",\"\",IF(VLOOKUP($A40,Competitors!$A$2:$G$60,3,FALSE)=\"\",\"\",VLOOKUP($A40,Competitors!$A$2:$G$60,3,FALSE)))","v":""},{"$f":"IF($A40=\"\",\"\",IF(VLOOKUP($A40,Competitors!$A$2:$G$60,4,FALSE)=\"\",\"\",VLOOKUP($A40,Competitors!$A$2:$G$60,4,FALSE)))","v":""},{"$f":"IF(VLOOKUP(A40,Competitors!$A$1:$H$41,8,FALSE)=\"\",\"\",VLOOKUP(A40,Competitors!$A$1:$H$41,8,FALSE))","v":""},{"$f":"IF(IFERROR(VLOOKUP(($B$2&\"_\"&$A40),'Time Entry Sheet'!$A$3:$I$499,9,0),\"Error\")=\"Error\",\"\",IF(VLOOKUP(($B$2&\"_\"&$A40),'Time Entry Sheet'!$A$3:$I$499,9,FALSE)=\"wd\",\"wd\",VLOOKUP(($B$2&\"_\"&$A40),'Time Entry Sheet'!$A$3:$I$499,9,FALSE)*1))","v":""},"",{"$f":"IF(IFERROR(VLOOKUP(($B$2&\"_\"&$A40),'Time Entry Sheet'!$A$3:$I$499,8,FALSE),\"Error\")=\"Error\",\"\",IF(VLOOKUP(($B$2&\"_\"&$A40),'Time Entry Sheet'!$A$3:$I$499,8,FALSE)=\"\",\"\",VLOOKUP(($B$2&\"_\"&$A40),'Time Entry Sheet'!$A$3:$I$499,8,FALSE)))","v":""},{"$f":"IF(IFERROR(VLOOKUP(($B$2&\"_\"&$A40),'Time Entry Sheet'!$A$3:$I$499,7,FALSE),\"Error\")=\"Error\",\"\",IF(VLOOKUP(($B$2&\"_\"&$A40),'Time Entry Sheet'!$A$3:$I$499,7,FALSE)=\"\",\"\",VLOOKUP(($B$2&\"_\"&$A40),'Time Entry Sheet'!$A$3:$I$499,7,FALSE)))","v":""},"00:00:10","00:00:10",1,{"$f":"IF(A40=\"\",\"\",M40+VLOOKUP(A40,'Test 13'!$A$12:$Q$51,16,FALSE))","v":"00:16:02.230"},20,null,"","00:16:02.230"]
[30,{"$f":"IF($A41=\"\",\"\",IF(VLOOKUP($A41,Competitors!$A$2:$G$60,2,FALSE)=\"\",\"\",VLOOKUP($A41,Competitors!$A$2:$G$60,2,FALSE)))","v":""},{"$f":"IF($A41=\"\",\"\",IF(VLOOKUP($A41,Competitors!$A$2:$G$60,7,FALSE)=\"\",\"\",VLOOKUP($A41,Competitors!$A$2:$G$60,7,FALSE)))","v":""},{"$f":"IF($A41=\"\",\"\",IF(VLOOKUP($A41,Competitors!$A$2:$G$60,5,FALSE)=\"\",\"\",VLOOKUP($A41,Competitors!$A$2:$G$60,5,FALSE)))","v":""},{"$f":"IF($A41=\"\",\"\",IF(VLOOKUP($A41,Competitors!$A$2:$G$60,6,FALSE)=\"\",\"\",VLOOKUP($A41,Competitors!$A$2:$G$60,6,FALSE)))","v":"senior"},{"$f":"IF($A41=\"\",\"\",IF(VLOOKUP($A41,Competitors!$A$2:$G$60,3,FALSE)=\"\",\"\",VLOOKUP($A41,Competitors!$A$2:$G$60,3,FALSE)))","v":""},{"$f":"IF($A41=\"\",\"\",IF(VLOOKUP($A41,Competitors!$A$2:$G$60,4,FALSE)=\"\",\"\",VLOOKUP($A41,Competitors!$A$2:$G$60,4,FALSE)))","v":""},{"$f":"IF(VLOOKUP(A41,Competitors!$A$1:$H$41,8,FALSE)=\"\",\"\",VLOOKUP(A41,Competitors!$A$1:$H$41,8,FALSE))","v":""},{"$f":"IF(IFERROR(VLOOKUP(($B$2&\"_\"&$A41),'Time Entry Sheet'!$A$3:$I$499,9,0),\"Error\")=\"Error\",\"\",IF(VLOOKUP(($B$2&\"_\"&$A41),'Time Entry Sheet'!$A$3:$I$499,9,FALSE)=\"wd\",\"wd\",VLOOKUP(($B$2&\"_\"&$A41),'Time Entry Sheet'!$A$3:$I$499,9,FALSE)*1))","v":""},"",{"$f":"IF(IFERROR(VLOOKUP(($B$2&\"_\"&$A41),'Time Entry Sheet'!$A$3:$I$499,8,FALSE),\"Error\")=\"Error\",\"\",IF(VLOOKUP(($B$2&\"_\"&$A41),'Time Entry Sheet'!$A$3:$I$499,8,FALSE)=\"\",\"\",VLOOKUP(($B$2&\"_\"&$A41),'Time Entry Sheet'!$A$3:$I$499,8,FALSE)))","v":""},{"$f":"IF(IFERROR(VLOOKUP(($B$2&\"_\"&$A41),'Time Entry Sheet'!$A$3:$I$499,7,FALSE),\"Error\")=\"Error\",\"\",IF(VLOOKUP(($B$2&\"_\"&$A41),'Time Entry Sheet'!$A$3:$I$499,7,FALSE)=\"\",\"\",VLOOKUP(($B$2&\"_\"&$A41),'Time Entry Sheet'!$A$3:$I$499,7,FALSE)))","v":""},"00:00:10","00:00:10",1,{"$f":"IF(A41=\"\",\"\",M41+VLOOKUP(A41,'Test 13'!$A$12:$Q$51,16,FALSE))","v":"00:16:02.230"},20,null,"","00:16:02.230"]
[31,{"$f":"IF($A42=\"\",\"\",IF(VLOOKUP($A42,Competitors!$A$2:$G$60,2,FALSE)=\"\",\"\",VLOOKUP($A42,Competitors!$A$2:$G$60,2,FALSE)))","v":""},{"$f":"IF($A42=\"\",\"\",IF(VLOOKUP($A42,Competitors!$A$2:$G$60,7,FALSE)=\"\",\"\",VLOOKUP($A42,Competitors!$A$2:$G$60,7,FALSE)))","v":""},{"$f":"IF($A42=\"\",\"\",IF(VLOOKUP($A42,Competitors!$A$2:$G$60,5,FALSE)=\"\",\"\",VLOOKUP($A42,Competitors!$A$2:$G$60,5,FALSE)))","v":""},{"$f":"IF($A42=\"\",\"\",IF(VLOOKUP($A42,Competitors!$A$2:$G$60,6,FALSE)=\"\",\"\",VLOOKUP($A42,Competitors!$A$2:$G$60,6,FALSE)))","v":"senior"},{"$f":"IF($A42=\"\",\"\",IF(VLOOKUP($A42,Competitors!$A$2:$G$60,3,FALSE)=\"\",\"\",VLOOKUP($A42,Competitors!$A$2:$G$60,3,FALSE)))","v":""},{"$f":"IF($A42=\"\",\"\",IF(VLOOKUP($A42,Competitors!$A$2:$G$60,4,FALSE)=\"\",\"\",VLOOKUP($A42,Competitors!$A$2:$G$60,4,FALSE)))","v":""},{"$f":"IF(VLOOKUP(A42,Competitors!$A$1:$H$41,8,FALSE)=\"\",\"\",VLOOKUP(A42,Competitors!$A$1:$H$41,8,FALSE))","v":""},{"$f":"IF(IFERROR(VLOOKUP(($B$2&\"_\"&$A42),'Time Entry Sheet'!$A$3:$I$499,9,0),\"Error\")=\"Error\",\"\",IF(VLOOKUP(($B$2&\"_\"&$A42),'Time Entry Sheet'!$A$3:$I$499,9,FALSE)=\"wd\",\"wd\",VLOOKUP(($B$2&\"_\"&$A42),'Time Entry Sheet'!$A$3:$I$499,9,FALSE)*1))","v":""},"",{"$f":"IF(IFERROR(VLOOKUP(($B$2&\"_\"&$A42),'Time Entry Sheet'!$A$3:$I$499,8,FALSE),\"Error\")=\"Error\",\"\",IF(VLOOKUP(($B$2&\"_\"&$A42),'Time Entry Sheet'!$A$3:$I$499,8,FALSE)=\"\",\"\",VLOOKUP(($B$2&\"_\"&$A42),'Time Entry Sheet'!$A$3:$I$499,8,FALSE)))","v":""},{"$f":"IF(IFERROR(VLOOKUP(($B$2&\"_\"&$A42),'Time Entry Sheet'!$A$3:$I$499,7,FALSE),\"Error\")=\"Error\",\"\",IF(VLOOKUP(($B$2&\"_\"&$A42),'Time Entry Sheet'!$A$3:$I$499,7,FALSE)=\"\",\"\",VLOOKUP(($B$2&\"_\"&$A42),'Time Entry Sheet'!$A$3:$I$499,7,FALSE)))","v":""},"00:00:10","00:00:10",1,{"$f":"IF(A42=\"\",\"\",M42+VLOOKUP(A42,'Test 13'!$A$12:$Q$51,16,FALSE))","v":"00:16:02.230"},20,null,"","00:16:02.230"]
[32,{"$f":"IF($A43=\"\",\"\",IF(VLOOKUP($A43,Competitors!$A$2:$G$60,2,FALSE)=\"\",\"\",VLOOKUP($A43,Competitors!$A$2:$G$60,2,FALSE)))","v":""},{"$f":"IF($A43=\"\",\"\",IF(VLOOKUP($A43,Competitors!$A$2:$G$60,7,FALSE)=\"\",\"\",VLOOKUP($A43,Competitors!$A$2:$G$60,7,FALSE)))","v":""},{"$f":"IF($A43=\"\",\"\",IF(VLOOKUP($A43,Competitors!$A$2:$G$60,5,FALSE)=\"\",\"\",VLOOKUP($A43,Competitors!$A$2:$G$60,5,FALSE)))","v":""},{"$f":"IF($A43=\"\",\"\",IF(VLOOKUP($A43,Competitors!$A$2:$G$60,6,FALSE)=\"\",\"\",VLOOKUP($A43,Competitors!$A$2:$G$60,6,FALSE)))","v":"senior"},{"$f":"IF($A43=\"\",\"\",IF(VLOOKUP($A43,Competitors!$A$2:$G$60,3,FALSE)=\"\",\"\",VLOOKUP($A43,Competitors!$A$2:$G$60,3,FALSE)))","v":""},{"$f":"IF($A43=\"\",\"\",IF(VLOOKUP($A43,Competitors!$A$2:$G$60,4,FALSE)=\"\",\"\",VLOOKUP($A43,Competitors!$A$2:$G$60,4,FALSE)))","v":""},{"$f":"IF(VLOOKUP(A43,Competitors!$A$1:$H$41,8,FALSE)=\"\",\"\",VLOOKUP(A43,Competitors!$A$1:$H$41,8,FALSE))","v":""},{"$f":"IF(IFERROR(VLOOKUP(($B$2&\"_\"&$A43),'Time Entry Sheet'!$A$3:$I$499,9,0),\"Error\")=\"Error\",\"\",IF(VLOOKUP(($B$2&\"_\"&$A43),'Time Entry Sheet'!$A$3:$I$499,9,FALSE)=\"wd\",\"wd\",VLOOKUP(($B$2&\"_\"&$A43),'Time Entry Sheet'!$A$3:$I$499,9,FALSE)*1))","v":""},"",{"$f":"IF(IFERROR(VLOOKUP(($B$2&\"_\"&$A43),'Time Entry Sheet'!$A$3:$I$499,8,FALSE),\"Error\")=\"Error\",\"\",IF(VLOOKUP(($B$2&\"_\"&$A43),'Time Entry Sheet'!$A$3:$I$499,8,FALSE)=\"\",\"\",VLOOKUP(($B$2&\"_\"&$A43),'Time Entry Sheet'!$A$3:$I$499,8,FALSE)))","v":""},{"$f":"IF(IFERROR(VLOOKUP(($B$2&\"_\"&$A43),'Time Entry Sheet'!$A$3:$I$499,7,FALSE),\"Error\")=\"Error\",\"\",IF(VLOOKUP(($B$2&\"_\"&$A43),'Time Entry Sheet'!$A$3:$I$499,7,FALSE)=\"\",\"\",VLOOKUP(($B$2&\"_\"&$A43),'Time Entry Sheet'!$A$3:$I$499,7,FALSE)))","v":""},"00:00:10","00:00:10",1,{"$f":"IF(A43=\"\",\"\",M43+VLOOKUP(A43,'Test 13'!$A$12:$Q$51,16,FALSE))","v":"00:16:02.230"},20,null,"","00:16:02.230"]
[33,{"$f":"IF($A44=\"\",\"\",IF(VLOOKUP($A44,Competitors!$A$2:$G$60,2,FALSE)=\"\",\"\",VLOOKUP($A44,Competitors!$A$2:$G$60,2,FALSE)))","v":""},{"$f":"IF($A44=\"\",\"\",IF(VLOOKUP($A44,Competitors!$A$2:$G$60,7,FALSE)=\"\",\"\",VLOOKUP($A44,Competitors!$A$2:$G$60,7,FALSE)))","v":""},{"$f":"IF($A44=\"\",\"\",IF(VLOOKUP($A44,Competitors!$A$2:$G$60,5,FALSE)=\"\",\"\",VLOOKUP($A44,Competitors!$A$2:$G$60,5,FALSE)))","v":""},{"$f":"IF($A44=\"\",\"\",IF(VLOOKUP($A44,Competitors!$A$2:$G$60,6,FALSE)=\"\",\"\",VLOOKUP($A44,Competitors!$A$2:$G$60,6,FALSE)))","v":"senior"},{"$f":"IF($A44=\"\",\"\",IF(VLOOKUP($A44,Competitors!$A$2:$G$60,3,FALSE)=\"\",\"\",VLOOKUP($A44,Competitors!$A$2:$G$60,3,FALSE)))","v":""},{"$f":"IF($A44=\"\",\"\",IF(VLOOKUP($A44,Competitors!$A$2:$G$60,4,FALSE)=\"\",\"\",VLOOKUP($A44,Competitors!$A$2:$G$60,4,FALSE)))","v":""},{"$f":"IF(VLOOKUP(A44,Competitors!$A$1:$H$41,8,FALSE)=\"\",\"\",VLOOKUP(A44,Competitors!$A$1:$H$41,8,FALSE))","v":""},{"$f":"IF(IFERROR(VLOOKUP(($B$2&\"_\"&$A44),'Time Entry Sheet'!$A$3:$I$499,9,0),\"Error\")=\"Error\",\"\",IF(VLOOKUP(($B$2&\"_\"&$A44),'Time Entry Sheet'!$A$3:$I$499,9,FALSE)=\"wd\",\"wd\",VLOOKUP(($B$2&\"_\"&$A44),'Time Entry Sheet'!$A$3:$I$499,9,FALSE)*1))","v":""},"",{"$f":"IF(IFERROR(VLOOKUP(($B$2&\"_\"&$A44),'Time Entry Sheet'!$A$3:$I$499,8,FALSE),\"Error\")=\"Error\",\"\",IF(VLOOKUP(($B$2&\"_\"&$A44),'Time Entry Sheet'!$A$3:$I$499,8,FALSE)=\"\",\"\",VLOOKUP(($B$2&\"_\"&$A44),'Time Entry Sheet'!$A$3:$I$499,8,FALSE)))","v":""},{"$f":"IF(IFERROR(VLOOKUP(($B$2&\"_\"&$A44),'Time Entry Sheet'!$A$3:$I$499,7,FALSE),\"Error\")=\"Error\",\"\",IF(VLOOKUP(($B$2&\"_\"&$A44),'Time Entry Sheet'!$A$3:$I$499,7,FALSE)=\"\",\"\",VLOOKUP(($B$2&\"_\"&$A44),'Time Entry Sheet'!$A$3:$I$499,7,FALSE)))","v":""},"00:00:10","00:00:10",1,{"$f":"IF(A44=\"\",\"\",M44+VLOOKUP(A44,'Test 13'!$A$12:$Q$51,16,FALSE))","v":"00:16:02.230"},20,null,"","00:16:02.230"]
[34,{"$f":"IF($A45=\"\",\"\",IF(VLOOKUP($A45,Competitors!$A$2:$G$60,2,FALSE)=\"\",\"\",VLOOKUP($A45,Competitors!$A$2:$G$60,2,FALSE)))","v":""},{"$f":"IF($A45=\"\",\"\",IF(VLOOKUP($A45,Competitors!$A$2:$G$60,7,FALSE)=\"\",\"\",VLOOKUP($A45,Competitors!$A$2:$G$60,7,FALSE)))","v":""},{"$f":"IF($A45=\"\",\"\",IF(VLOOKUP($A45,Competitors!$A$2:$G$60,5,FALSE)=\"\",\"\",VLOOKUP($A45,Competitors!$A$2:$G$60,5,FALSE)))","v":""},{"$f":"IF($A45=\"\",\"\",IF(VLOOKUP($A45,Competitors!$A$2:$G$60,6,FALSE)=\"\",\"\",VLOOKUP($A45,Competitors!$A$2:$G$60,6,FALSE)))","v":"senior"},{"$f":"IF($A45=\"\",\"\",IF(VLOOKUP($A45,Competitors!$A$2:$G$60,3,FALSE)=\"\",\"\",VLOOKUP($A45,Competitors!$A$2:$G$60,3,FALSE)))","v":""},{"$f":"IF($A45=\"\",\"\",IF(VLOOKUP($A45,Competitors!$A$2:$G$60,4,FALSE)=\"\",\"\",VLOOKUP($A45,Competitors!$A$2:$G$60,4,FALSE)))","v":""},{"$f":"IF(VLOOKUP(A45,Competitors!$A$1:$H$41,8,FALSE)=\"\",\"\",VLOOKUP(A45,Competitors!$A$1:$H$41,8,FALSE))","v":""},{"$f":"IF(IFERROR(VLOOKUP(($B$2&\"_\"&$A45),'Time Entry Sheet'!$A$3:$I$499,9,0),\"Error\")=\"Error\",\"\",IF(VLOOKUP(($B$2&\"_\"&$A45),'Time Entry Sheet'!$A$3:$I$499,9,FALSE)=\"wd\",\"wd\",VLOOKUP(($B$2&\"_\"&$A45),'Time Entry Sheet'!$A$3:$I$499,9,FALSE)*1))","v":""},"",{"$f":"IF(IFERROR(VLOOKUP(($B$2&\"_\"&$A45),'Time Entry Sheet'!$A$3:$I$499,8,FALSE),\"Error\")=\"Error\",\"\",IF(VLOOKUP(($B$2&\"_\"&$A45),'Time Entry Sheet'!$A$3:$I$499,8,FALSE)=\"\",\"\",VLOOKUP(($B$2&\"_\"&$A45),'Time Entry Sheet'!$A$3:$I$499,8,FALSE)))","v":""},{"$f":"IF(IFERROR(VLOOKUP(($B$2&\"_\"&$A45),'Time Entry Sheet'!$A$3:$I$499,7,FALSE),\"Error\")=\"Error\",\"\",IF(VLOOKUP(($B$2&\"_\"&$A45),'Time Entry Sheet'!$A$3:$I$499,7,FALSE)=\"\",\"\",VLOOKUP(($B$2&\"_\"&$A45),'Time Entry Sheet'!$A$3:$I$499,7,FALSE)))","v":""},"00:00:10","00:00:10",1,{"$f":"IF(A45=\"\",\"\",M45+VLOOKUP(A45,'Test 13'!$A$12:$Q$51,16,FALSE))","v":"00:16:02.230"},20,null,"","00:16:02.230"]
[35,{"$f":"IF($A46=\"\",\"\",IF(VLOOKUP($A46,Competitors!$A$2:$G$60,2,FALSE)=\"\",\"\",VLOOKUP($A46,Competitors!$A$2:$G$60,2,FALSE)))","v":""},{"$f":"IF($A46=\"\",\"\",IF(VLOOKUP($A46,Competitors!$A$2:$G$60,7,FALSE)=\"\",\"\",VLOOKUP($A46,Competitors!$A$2:$G$60,7,FALSE)))","v":""},{"$f":"IF($A46=\"\",\"\",IF(VLOOKUP($A46,Competitors!$A$2:$G$60,5,FALSE)=\"\",\"\",VLOOKUP($A46,Competitors!$A$2:$G$60,5,FALSE)))","v":""},{"$f":"IF($A46=\"\",\"\",IF(VLOOKUP($A46,Competitors!$A$2:$G$60,6,FALSE)=\"\",\"\",VLOOKUP($A46,Competitors!$A$2:$G$60,6,FALSE)))","v":"senior"},{"$f":"IF($A46=\"\",\"\",IF(VLOOKUP($A46,Competitors!$A$2:$G$60,3,FALSE)=\"\",\"\",VLOOKUP($A46,Competitors!$A$2:$G$60,3,FALSE)))","v":""},{"$f":"IF($A46=\"\",\"\",IF(VLOOKUP($A46,Competitors!$A$2:$G$60,4,FALSE)=\"\",\"\",VLOOKUP($A46,Competitors!$A$2:$G$60,4,FALSE)))","v":""},{"$f":"IF(VLOOKUP(A46,Competitors!$A$1:$H$41,8,FALSE)=\"\",\"\",VLOOKUP(A46,Competitors!$A$1:$H$41,8,FALSE))","v":""},{"$f":"IF(IFERROR(VLOOKUP(($B$2&\"_\"&$A46),'Time Entry Sheet'!$A$3:$I$499,9,0),\"Error\")=\"Error\",\"\",IF(VLOOKUP(($B$2&\"_\"&$A46),'Time Entry Sheet'!$A$3:$I$499,9,FALSE)=\"wd\",\"wd\",VLOOKUP(($B$2&\"_\"&$A46),'Time Entry Sheet'!$A$3:$I$499,9,FALSE)*1))","v":""},"",{"$f":"IF(IFERROR(VLOOKUP(($B$2&\"_\"&$A46),'Time Entry Sheet'!$A$3:$I$499,8,FALSE),\"Error\")=\"Error\",\"\",IF(VLOOKUP(($B$2&\"_\"&$A46),'Time Entry Sheet'!$A$3:$I$499,8,FALSE)=\"\",\"\",VLOOKUP(($B$2&\"_\"&$A46),'Time Entry Sheet'!$A$3:$I$499,8,FALSE)))","v":""},{"$f":"IF(IFERROR(VLOOKUP(($B$2&\"_\"&$A46),'Time Entry Sheet'!$A$3:$I$499,7,FALSE),\"Error\")=\"Error\",\"\",IF(VLOOKUP(($B$2&\"_\"&$A46),'Time Entry Sheet'!$A$3:$I$499,7,FALSE)=\"\",\"\",VLOOKUP(($B$2&\"_\"&$A46),'Time Entry Sheet'!$A$3:$I$499,7,FALSE)))","v":""},"00:00:10","00:00:10",1,{"$f":"IF(A46=\"\",\"\",M46+VLOOKUP(A46,'Test 13'!$A$12:$Q$51,16,FALSE))","v":"00:16:02.230"},20,null,"","00:16:02.230"]
[36,{"$f":"IF($A47=\"\",\"\",IF(VLOOKUP($A47,Competitors!$A$2:$G$60,2,FALSE)=\"\",\"\",VLOOKUP($A47,Competitors!$A$2:$G$60,2,FALSE)))","v":""},{"$f":"IF($A47=\"\",\"\",IF(VLOOKUP($A47,Competitors!$A$2:$G$60,7,FALSE)=\"\",\"\",VLOOKUP($A47,Competitors!$A$2:$G$60,7,FALSE)))","v":""},{"$f":"IF($A47=\"\",\"\",IF(VLOOKUP($A47,Competitors!$A$2:$G$60,5,FALSE)=\"\",\"\",VLOOKUP($A47,Competitors!$A$2:$G$60,5,FALSE)))","v":""},{"$f":"IF($A47=\"\",\"\",IF(VLOOKUP($A47,Competitors!$A$2:$G$60,6,FALSE)=\"\",\"\",VLOOKUP($A47,Competitors!$A$2:$G$60,6,FALSE)))","v":"senior"},{"$f":"IF($A47=\"\",\"\",IF(VLOOKUP($A47,Competitors!$A$2:$G$60,3,FALSE)=\"\",\"\",VLOOKUP($A47,Competitors!$A$2:$G$60,3,FALSE)))","v":""},{"$f":"IF($A47=\"\",\"\",IF(VLOOKUP($A47,Competitors!$A$2:$G$60,4,FALSE)=\"\",\"\",VLOOKUP($A47,Competitors!$A$2:$G$60,4,FALSE)))","v":""},{"$f":"IF(VLOOKUP(A47,Competitors!$A$1:$H$41,8,FALSE)=\"\",\"\",VLOOKUP(A47,Competitors!$A$1:$H$41,8,FALSE))","v":""},{"$f":"IF(IFERROR(VLOOKUP(($B$2&\"_\"&$A47),'Time Entry Sheet'!$A$3:$I$499,9,0),\"Error\")=\"Error\",\"\",IF(VLOOKUP(($B$2&\"_\"&$A47),'Time Entry Sheet'!$A$3:$I$499,9,FALSE)=\"wd\",\"wd\",VLOOKUP(($B$2&\"_\"&$A47),'Time Entry Sheet'!$A$3:$I$499,9,FALSE)*1))","v":""},"",{"$f":"IF(IFERROR(VLOOKUP(($B$2&\"_\"&$A47),'Time Entry Sheet'!$A$3:$I$499,8,FALSE),\"Error\")=\"Error\",\"\",IF(VLOOKUP(($B$2&\"_\"&$A47),'Time Entry Sheet'!$A$3:$I$499,8,FALSE)=\"\",\"\",VLOOKUP(($B$2&\"_\"&$A47),'Time Entry Sheet'!$A$3:$I$499,8,FALSE)))","v":""},{"$f":"IF(IFERROR(VLOOKUP(($B$2&\"_\"&$A47),'Time Entry Sheet'!$A$3:$I$499,7,FALSE),\"Error\")=\"Error\",\"\",IF(VLOOKUP(($B$2&\"_\"&$A47),'Time Entry Sheet'!$A$3:$I$499,7,FALSE)=\"\",\"\",VLOOKUP(($B$2&\"_\"&$A47),'Time Entry Sheet'!$A$3:$I$499,7,FALSE)))","v":""},"00:00:10","00:00:10",1,{"$f":"IF(A47=\"\",\"\",M47+VLOOKUP(A47,'Test 13'!$A$12:$Q$51,16,FALSE))","v":"00:16:02.230"},20,null,"","00:16:02.230"]
[37,{"$f":"IF($A48=\"\",\"\",IF(VLOOKUP($A48,Competitors!$A$2:$G$60,2,FALSE)=\"\",\"\",VLOOKUP($A48,Competitors!$A$2:$G$60,2,FALSE)))","v":""},{"$f":"IF($A48=\"\",\"\",IF(VLOOKUP($A48,Competitors!$A$2:$G$60,7,FALSE)=\"\",\"\",VLOOKUP($A48,Competitors!$A$2:$G$60,7,FALSE)))","v":""},{"$f":"IF($A48=\"\",\"\",IF(VLOOKUP($A48,Competitors!$A$2:$G$60,5,FALSE)=\"\",\"\",VLOOKUP($A48,Competitors!$A$2:$G$60,5,FALSE)))","v":""},{"$f":"IF($A48=\"\",\"\",IF(VLOOKUP($A48,Competitors!$A$2:$G$60,6,FALSE)=\"\",\"\",VLOOKUP($A48,Competitors!$A$2:$G$60,6,FALSE)))","v":"senior"},{"$f":"IF($A48=\"\",\"\",IF(VLOOKUP($A48,Competitors!$A$2:$G$60,3,FALSE)=\"\",\"\",VLOOKUP($A48,Competitors!$A$2:$G$60,3,FALSE)))","v":""},{"$f":"IF($A48=\"\",\"\",IF(VLOOKUP($A48,Competitors!$A$2:$G$60,4,FALSE)=\"\",\"\",VLOOKUP($A48,Competitors!$A$2:$G$60,4,FALSE)))","v":""},{"$f":"IF(VLOOKUP(A48,Competitors!$A$1:$H$41,8,FALSE)=\"\",\"\",VLOOKUP(A48,Competitors!$A$1:$H$41,8,FALSE))","v":""},{"$f":"IF(IFERROR(VLOOKUP(($B$2&\"_\"&$A48),'Time Entry Sheet'!$A$3:$I$499,9,0),\"Error\")=\"Error\",\"\",IF(VLOOKUP(($B$2&\"_\"&$A48),'Time Entry Sheet'!$A$3:$I$499,9,FALSE)=\"wd\",\"wd\",VLOOKUP(($B$2&\"_\"&$A48),'Time Entry Sheet'!$A$3:$I$499,9,FALSE)*1))","v":""},"",{"$f":"IF(IFERROR(VLOOKUP(($B$2&\"_\"&$A48),'Time Entry Sheet'!$A$3:$I$499,8,FALSE),\"Error\")=\"Error\",\"\",IF(VLOOKUP(($B$2&\"_\"&$A48),'Time Entry Sheet'!$A$3:$I$499,8,FALSE)=\"\",\"\",VLOOKUP(($B$2&\"_\"&$A48),'Time Entry Sheet'!$A$3:$I$499,8,FALSE)))","v":""},{"$f":"IF(IFERROR(VLOOKUP(($B$2&\"_\"&$A48),'Time Entry Sheet'!$A$3:$I$499,7,FALSE),\"Error\")=\"Error\",\"\",IF(VLOOKUP(($B$2&\"_\"&$A48),'Time Entry Sheet'!$A$3:$I$499,7,FALSE)=\"\",\"\",VLOOKUP(($B$2&\"_\"&$A48),'Time Entry Sheet'!$A$3:$I$499,7,FALSE)))","v":""},{"$f":"IF(A48=\"\",\"\",IF(I48=\"wd\",IF(E48=\"Senior\",$B$7,$C$7),IF(L48<>\"\",$B$7,IF(I48=\"\",IF(E48=\"Senior\",$B$8,$C$8),IF(K48=\"\",I48,I48+($B$5*K48))))))","v":"00:00:10"},"00:00:10",1,{"$f":"IF(A48=\"\",\"\",M48+VLOOKUP(A48,'Test 13'!$A$12:$Q$51,16,FALSE))","v":"00:16:02.230"},20,null,"","00:16:02.230"]
[38,{"$f":"IF($A49=\"\",\"\",IF(VLOOKUP($A49,Competitors!$A$2:$G$60,2,FALSE)=\"\",\"\",VLOOKUP($A49,Competitors!$A$2:$G$60,2,FALSE)))","v":""},{"$f":"IF($A49=\"\",\"\",IF(VLOOKUP($A49,Competitors!$A$2:$G$60,7,FALSE)=\"\",\"\",VLOOKUP($A49,Competitors!$A$2:$G$60,7,FALSE)))","v":""},{"$f":"IF($A49=\"\",\"\",IF(VLOOKUP($A49,Competitors!$A$2:$G$60,5,FALSE)=\"\",\"\",VLOOKUP($A49,Competitors!$A$2:$G$60,5,FALSE)))","v":""},{"$f":"IF($A49=\"\",\"\",IF(VLOOKUP($A49,Competitors!$A$2:$G$60,6,FALSE)=\"\",\"\",VLOOKUP($A49,Competitors!$A$2:$G$60,6,FALSE)))","v":"senior"},{"$f":"IF($A49=\"\",\"\",IF(VLOOKUP($A49,Competitors!$A$2:$G$60,3,FALSE)=\"\",\"\",VLOOKUP($A49,Competitors!$A$2:$G$60,3,FALSE)))","v":""},{"$f":"IF($A49=\"\",\"\",IF(VLOOKUP($A49,Competitors!$A$2:$G$60,4,FALSE)=\"\",\"\",VLOOKUP($A49,Competitors!$A$2:$G$60,4,FALSE)))","v":""},{"$f":"IF(VLOOKUP(A49,Competitors!$A$1:$H$41,8,FALSE)=\"\",\"\",VLOOKUP(A49,Competitors!$A$1:$H$41,8,FALSE))","v":""},{"$f":"IF(IFERROR(VLOOKUP(($B$2&\"_\"&$A49),'Time Entry Sheet'!$A$3:$I$499,9,0),\"Error\")=\"Error\",\"\",IF(VLOOKUP(($B$2&\"_\"&$A49),'Time Entry Sheet'!$A$3:$I$499,9,FALSE)=\"wd\",\"wd\",VLOOKUP(($B$2&\"_\"&$A49),'Time Entry Sheet'!$A$3:$I$499,9,FALSE)*1))","v":""},"",{"$f":"IF(IFERROR(VLOOKUP(($B$2&\"_\"&$A49),'Time Entry Sheet'!$A$3:$I$499,8,FALSE),\"Error\")=\"Error\",\"\",IF(VLOOKUP(($B$2&\"_\"&$A49),'Time Entry Sheet'!$A$3:$I$499,8,FALSE)=\"\",\"\",VLOOKUP(($B$2&\"_\"&$A49),'Time Entry Sheet'!$A$3:$I$499,8,FALSE)))","v":""},{"$f":"IF(IFERROR(VLOOKUP(($B$2&\"_\"&$A49),'Time Entry Sheet'!$A$3:$I$499,7,FALSE),\"Error\")=\"Error\",\"\",IF(VLOOKUP(($B$2&\"_\"&$A49),'Time Entry Sheet'!$A$3:$I$499,7,FALSE)=\"\",\"\",VLOOKUP(($B$2&\"_\"&$A49),'Time Entry Sheet'!$A$3:$I$499,7,FALSE)))","v":""},"00:00:10","00:00:10",1,{"$f":"IF(A49=\"\",\"\",M49+VLOOKUP(A49,'Test 13'!$A$12:$Q$51,16,FALSE))","v":"00:16:02.230"},20,null,"","00:16:02.230"]
[39,{"$f":"IF($A50=\"\",\"\",IF(VLOOKUP($A50,Competitors!$A$2:$G$60,2,FALSE)=\"\",\"\",VLOOKUP($A50,Competitors!$A$2:$G$60,2,FALSE)))","v":""},{"$f":"IF($A50=\"\",\"\",IF(VLOOKUP($A50,Competitors!$A$2:$G$60,7,FALSE)=\"\",\"\",VLOOKUP($A50,Competitors!$A$2:$G$60,7,FALSE)))","v":""},{"$f":"IF($A50=\"\",\"\",IF(VLOOKUP($A50,Competitors!$A$2:$G$60,5,FALSE)=\"\",\"\",VLOOKUP($A50,Competitors!$A$2:$G$60,5,FALSE)))","v":""},{"$f":"IF($A50=\"\",\"\",IF(VLOOKUP($A50,Competitors!$A$2:$G$60,6,FALSE)=\"\",\"\",VLOOKUP($A50,Competitors!$A$2:$G$60,6,FALSE)))","v":"senior"},{"$f":"IF($A50=\"\",\"\",IF(VLOOKUP($A50,Competitors!$A$2:$G$60,3,FALSE)=\"\",\"\",VLOOKUP($A50,Competitors!$A$2:$G$60,3,FALSE)))","v":""},{"$f":"IF($A50=\"\",\"\",IF(VLOOKUP($A50,Competitors!$A$2:$G$60,4,FALSE)=\"\",\"\",VLOOKUP($A50,Competitors!$A$2:$G$60,4,FALSE)))","v":""},{"$f":"IF(VLOOKUP(A50,Competitors!$A$1:$H$41,8,FALSE)=\"\",\"\",VLOOKUP(A50,Competitors!$A$1:$H$41,8,FALSE))","v":""},{"$f":"IF(IFERROR(VLOOKUP(($B$2&\"_\"&$A50),'Time Entry Sheet'!$A$3:$I$499,9,0),\"Error\")=\"Error\",\"\",IF(VLOOKUP(($B$2&\"_\"&$A50),'Time Entry Sheet'!$A$3:$I$499,9,FALSE)=\"wd\",\"wd\",VLOOKUP(($B$2&\"_\"&$A50),'Time Entry Sheet'!$A$3:$I$499,9,FALSE)*1))","v":""},"",{"$f":"IF(IFERROR(VLOOKUP(($B$2&\"_\"&$A50),'Time Entry Sheet'!$A$3:$I$499,8,FALSE),\"Error\")=\"Error\",\"\",IF(VLOOKUP(($B$2&\"_\"&$A50),'Time Entry Sheet'!$A$3:$I$499,8,FALSE)=\"\",\"\",VLOOKUP(($B$2&\"_\"&$A50),'Time Entry Sheet'!$A$3:$I$499,8,FALSE)))","v":""},{"$f":"IF(IFERROR(VLOOKUP(($B$2&\"_\"&$A50),'Time Entry Sheet'!$A$3:$I$499,7,FALSE),\"Error\")=\"Error\",\"\",IF(VLOOKUP(($B$2&\"_\"&$A50),'Time Entry Sheet'!$A$3:$I$499,7,FALSE)=\"\",\"\",VLOOKUP(($B$2&\"_\"&$A50),'Time Entry Sheet'!$A$3:$I$499,7,FALSE)))","v":""},"00:00:10","00:00:10",1,{"$f":"IF(A50=\"\",\"\",M50+VLOOKUP(A50,'Test 13'!$A$12:$Q$51,16,FALSE))","v":"00:16:02.230"},20,null,null,"00:16:02.230"]
[40,{"$f":"IF($A51=\"\",\"\",IF(VLOOKUP($A51,Competitors!$A$2:$G$60,2,FALSE)=\"\",\"\",VLOOKUP($A51,Competitors!$A$2:$G$60,2,FALSE)))","v":""},{"$f":"IF($A51=\"\",\"\",IF(VLOOKUP($A51,Competitors!$A$2:$G$60,7,FALSE)=\"\",\"\",VLOOKUP($A51,Competitors!$A$2:$G$60,7,FALSE)))","v":""},{"$f":"IF($A51=\"\",\"\",IF(VLOOKUP($A51,Competitors!$A$2:$G$60,5,FALSE)=\"\",\"\",VLOOKUP($A51,Competitors!$A$2:$G$60,5,FALSE)))","v":""},{"$f":"IF($A51=\"\",\"\",IF(VLOOKUP($A51,Competitors!$A$2:$G$60,6,FALSE)=\"\",\"\",VLOOKUP($A51,Competitors!$A$2:$G$60,6,FALSE)))","v":"senior"},{"$f":"IF($A51=\"\",\"\",IF(VLOOKUP($A51,Competitors!$A$2:$G$60,3,FALSE)=\"\",\"\",VLOOKUP($A51,Competitors!$A$2:$G$60,3,FALSE)))","v":""},{"$f":"IF($A51=\"\",\"\",IF(VLOOKUP($A51,Competitors!$A$2:$G$60,4,FALSE)=\"\",\"\",VLOOKUP($A51,Competitors!$A$2:$G$60,4,FALSE)))","v":""},{"$f":"IF(VLOOKUP(A51,Competitors!$A$1:$H$41,8,FALSE)=\"\",\"\",VLOOKUP(A51,Competitors!$A$1:$H$41,8,FALSE))","v":""},{"$f":"IF(IFERROR(VLOOKUP(($B$2&\"_\"&$A51),'Time Entry Sheet'!$A$3:$I$499,9,0),\"Error\")=\"Error\",\"\",IF(VLOOKUP(($B$2&\"_\"&$A51),'Time Entry Sheet'!$A$3:$I$499,9,FALSE)=\"wd\",\"wd\",VLOOKUP(($B$2&\"_\"&$A51),'Time Entry Sheet'!$A$3:$I$499,9,FALSE)*1))","v":""},"",{"$f":"IF(IFERROR(VLOOKUP(($B$2&\"_\"&$A51),'Time Entry Sheet'!$A$3:$I$499,8,FALSE),\"Error\")=\"Error\",\"\",IF(VLOOKUP(($B$2&\"_\"&$A51),'Time Entry Sheet'!$A$3:$I$499,8,FALSE)=\"\",\"\",VLOOKUP(($B$2&\"_\"&$A51),'Time Entry Sheet'!$A$3:$I$499,8,FALSE)))","v":""},{"$f":"IF(IFERROR(VLOOKUP(($B$2&\"_\"&$A51),'Time Entry Sheet'!$A$3:$I$499,7,FALSE),\"Error\")=\"Error\",\"\",IF(VLOOKUP(($B$2&\"_\"&$A51),'Time Entry Sheet'!$A$3:$I$499,7,FALSE)=\"\",\"\",VLOOKUP(($B$2&\"_\"&$A51),'Time Entry Sheet'!$A$3:$I$499,7,FALSE)))","v":""},"00:00:10","00:00:10",1,{"$f":"IF(A51=\"\",\"\",M51+VLOOKUP(A51,'Test 13'!$A$12:$Q$51,16,FALSE))","v":"00:16:02.230"},20,null,null,"00:16:02.230"]

{"sheet":"Test 15","index":32,"n_rows":51,"n_cols":20,"rows_kept":51,"cut":false,"hidden":false,"merged":[[0,8,0,10]]}
[]
["TEST",15,null,null,null,null,null,null,null,null,"PROVISIONAL RESULTS",null,{"$f":"NOW()","v":42690.814244444446},null,{"$f":"NOW()","v":"2016-11-16T19:32:30.720"}]
["Date:","2015-10-31",null,null,null,null,null,null,null,null,null,"Junior",{"$f":"MIN( IF( $E$8:$E$51=L3, $S$8:$S$51 ) )","v":"00:00:00"},null,"FASTEST"]
["10 sec penalty","00:00:10",null,null,null,null,null,null,null,null,null,"Junior",{"$f":"MAX( IF( $E$8:$E$51=L4, $S$8:$S$51 ) )","v":"00:00:00"},null,"SLOWEST"]
["Flag penalty","00:00:05",null,null,null,null,"SENIOR"]
[null,null,null,null,null,null,"Fastest test time x 2",null,{"$f":"M6*2","v":"00:00:00"},null,null,"Senior",{"$f":"MIN( IF( E11:E51=L6, J11:J51 ) )","v":"00:00:00"},null,"FASTEST"]
["Slowest test time + 5 second penalty",{"$f":"MIN($I$6,$I$7)+$B$5","v":"00:00:05"},{"$f":"MIN($I$9:$I$10)+$B$5","v":"00:00:05"},null,null,null,"Slowest test time",null,{"$f":"M7","v":"00:00:00"},null,null,"Senior",{"$f":"MAX( IF( E11:E51=L7, J11:J51 ) )","v":"00:00:00"},null,"SLOWEST"]
["Failure to Attempt Course (Slowest time + 10 sec)",{"$f":"SUM($I$7,$B$4)","v":"00:00:10"},{"$f":"SUM($I$10,$B$4)","v":"00:00:10"},null,null,null,"JUNIOR"]
[null,null,null,null,null,null,"Fastest test time x 2",null,{"$f":"M3*2","v":"00:00:00"}]
[null,null,null,null,null,null,"Slowest test time",null,{"$f":"M4","v":"00:00:00"}]
["Car Number","Driver","Rookie?","Female Driver?","Junior Driver?","Vehicle","Class","Senior with Passenger?","Time Taken (MM:SS.00)","Time Taken-PenaltyCalculator (MM:SS.00)","No. of Flags &/or Finishes partly out of garage","Slowest time + 5 sec penalty type","Total Test 15 Time","Total Test 1 Time for ranking","Test 15 Position","Cumulative Time Taken (MM:SS.00)","Cumulative Outright Position","Comments","Time Taken-PenaltyCalculator Junior(MM:SS.00)","Cumulative Time Taken (MM:SS.00) for ranking"]
[1,{"$f":"IF($A12=\"\",\"\",IF(VLOOKUP($A12,Competitors!$A$2:$G$60,2,FALSE)=\"\",\"\",VLOOKUP($A12,Competitors!$A$2:$G$60,2,FALSE)))","v":"Paul Dunn"},{"$f":"IF($A12=\"\",\"\",IF(VLOOKUP($A12,Competitors!$A$2:$G$60,7,FALSE)=\"\",\"\",VLOOKUP($A12,Competitors!$A$2:$G$60,7,FALSE)))","v":""},{"$f":"IF($A12=\"\",\"\",IF(VLOOKUP($A12,Competitors!$A$2:$G$60,5,FALSE)=\"\",\"\",VLOOKUP($A12,Competitors!$A$2:$G$60,5,FALSE)))","v":""},{"$f":"IF($A12=\"\",\"\",IF(VLOOKUP($A12,Competitors!$A$2:$G$60,6,FALSE)=\"\",\"\",VLOOKUP($A12,Competitors!$A$2:$G$60,6,FALSE)))","v":"senior"},{"$f":"IF($A12=\"\",\"\",IF(VLOOKUP($A12,Competitors!$A$2:$G$60,3,FALSE)=\"\",\"\",VLOOKUP($A12,Competitors!$A$2:$G$60,3,FALSE)))","v":"Excel"},{"$f":"IF($A12=\"\",\"\",IF(VLOOKUP($A12,Competitors!$A$2:$G$60,4,FALSE)=\"\",\"\",VLOOKUP($A12,Competitors!$A$2:$G$60,4,FALSE)))","v":""},{"$f":"IF(VLOOKUP(A12,Competitors!$A$1:$H$41,8,FALSE)=\"\",\"\",VLOOKUP(A12,Competitors!$A$1:$H$41,8,FALSE))","v":""},{"$f":"IF(IFERROR(VLOOKUP(($B$2&\"_\"&$A12),'Time Entry Sheet'!$A$3:$I$499,9,0),\"Error\")=\"Error\",\"\",IF(VLOOKUP(($B$2&\"_\"&$A12),'Time Entry Sheet'!$A$3:$I$499,9,FALSE)=\"wd\",\"wd\",VLOOKUP(($B$2&\"_\"&$A12),'Time Entry Sheet'!$A$3:$I$499,9,FALSE)*1))","v":""},{"$f":"IF(E12=\"Junior\",\"\",IF(I12=\"wd\",\"\",IF(K12<>\"\",\"\",I12)))","v":""},{"$f":"IF(IFERROR(VLOOKUP(($B$2&\"_\"&$A12),'Time Entry Sheet'!$A$3:$I$499,8,FALSE),\"Error\")=\"Error\",\"\",IF(VLOOKUP(($B$2&\"_\"&$A12),'Time Entry Sheet'!$A$3:$I$499,8,FALSE)=\"\",\"\",VLOOKUP(($B$2&\"_\"&$A12),'Time Entry Sheet'!$A$3:$I$499,8,FALSE)))","v":""},{"$f":"IF(IFERROR(VLOOKUP(($B$2&\"_\"&$A12),'Time Entry Sheet'!$A$3:$I$499,7,FALSE),\"Error\")=\"Error\",\"\",IF(VLOOKUP(($B$2&\"_\"&$A12),'Time Entry Sheet'!$A$3:$I$499,7,FALSE)=\"\",\"\",VLOOKUP(($B$2&\"_\"&$A12),'Time Entry Sheet'!$A$3:$I$499,7,FALSE)))","v":""},{"$f":"IF(A12=\"\",\"\",IF(I12=\"wd\",IF(E12=\"Senior\",$B$7,$C$7),IF(L12<>\"\",$B$7,IF(I12=\"\",IF(E12=\"Senior\",$B$8,$C$8),IF(K12=\"\",I12,I12+($B$5*K12))))))","v":"00:00:10"},{"$f":"IF(H12=\"Passenger\",\"\",M12)","v":"00:00:10"},{"$f":"IF(A12=\"\",\"\",IF(H12=\"Passenger\",\"P\",RANK(N12,$N$12:$N$51,1)))","v":1},{"$f":"IF(A12=\"\",\"\",M12+VLOOKUP(A12,'Test 14'!$A$12:$Q$51,16,FALSE))","v":"00:11:06.360"},{"$f":"IF(A12=\"\",\"\",IF(H12=\"Passenger\",\"P\",RANK(T12,$T$12:$T$51,1)))","v":2},null,{"$f":"IF(E12=\"Senior\",\"\",IF(I12=\"wd\",\"\",IF(K12<>\"\",\"\",I12)))","v":""},{"$f":"IF(H12=\"Passenger\",\"\",P12)","v":"00:11:06.360"}]
[2,{"$f":"IF($A13=\"\",\"\",IF(VLOOKUP($A13,Competitors!$A$2:$G$60,2,FALSE)=\"\",\"\",VLOOKUP($A13,Competitors!$A$2:$G$60,2,FALSE)))","v":"Stephen Thorne"},{"$f":"IF($A13=\"\",\"\",IF(VLOOKUP($A13,Competitors!$A$2:$G$60,7,FALSE)=\"\",\"\",VLOOKUP($A13,Competitors!$A$2:$G$60,7,FALSE)))","v":""},{"$f":"IF($A13=\"\",\"\",IF(VLOOKUP($A13,Competitors!$A$2:$G$60,5,FALSE)=\"\",\"\",VLOOKUP($A13,Competitors!$A$2:$G$60,5,FALSE)))","v":""},{"$f":"IF($A13=\"\",\"\",IF(VLOOKUP($A13,Competitors!$A$2:$G$60,6,FALSE)=\"\",\"\",VLOOKUP($A13,Competitors!$A$2:$G$60,6,FALSE)))","v":"senior"},{"$f":"IF($A13=\"\",\"\",IF(VLOOKUP($A13,Competitors!$A$2:$G$60,3,FALSE)=\"\",\"\",VLOOKUP($A13,Competitors!$A$2:$G$60,3,FALSE)))","v":""},{"$f":"IF($A13=\"\",\"\",IF(VLOOKUP($A13,Competitors!$A$2:$G$60,4,FALSE)=\"\",\"\",VLOOKUP($A13,Competitors!$A$2:$G$60,4,FALSE)))","v":""},{"$f":"IF(VLOOKUP(A13,Competitors!$A$1:$H$41,8,FALSE)=\"\",\"\",VLOOKUP(A13,Competitors!$A$1:$H$41,8,FALSE))","v":""},{"$f":"IF(IFERROR(VLOOKUP(($B$2&\"_\"&$A13),'Time Entry Sheet'!$A$3:$I$499,9,0),\"Error\")=\"Error\",\"\",IF(VLOOKUP(($B$2&\"_\"&$A13),'Time Entry Sheet'!$A$3:$I$499,9,FALSE)=\"wd\",\"wd\",VLOOKUP(($B$2&\"_\"&$A13),'Time Entry Sheet'!$A$3:$I$499,9,FALSE)*1))","v":""},{"$f":"IF(E13=\"Junior\",\"\",IF(I13=\"wd\",\"\",IF(K13<>\"\",\"\",I13)))","v":""},{"$f":"IF(IFERROR(VLOOKUP(($B$2&\"_\"&$A13),'Time Entry Sheet'!$A$3:$I$499,8,FALSE),\"Error\")=\"Error\",\"\",IF(VLOOKUP(($B$2&\"_\"&$A13),'Time Entry Sheet'!$A$3:$I$499,8,FALSE)=\"\",\"\",VLOOKUP(($B$2&\"_\"&$A13),'Time Entry Sheet'!$A$3:$I$499,8,FALSE)))","v":""},{"$f":"IF(IFERROR(VLOOKUP(($B$2&\"_\"&$A13),'Time Entry Sheet'!$A$3:$I$499,7,FALSE),\"Error\")=\"Error\",\"\",IF(VLOOKUP(($B$2&\"_\"&$A13),'Time Entry Sheet'!$A$3:$I$499,7,FALSE)=\"\",\"\",VLOOKUP(($B$2&\"_\"&$A13),'Time Entry Sheet'!$A$3:$I$499,7,FALSE)))","v":""},{"$f":"IF(A13=\"\",\"\",IF(I13=\"wd\",IF(E13=\"Senior\",$B$7,$C$7),IF(L13<>\"\",$B$7,IF(I13=\"\",IF(E13=\"Senior\",$B$8,$C$8),IF(K13=\"\",I13,I13+($B$5*K13))))))","v":"00:00:10"},{"$f":"IF(H13=\"Passenger\",\"\",M13)","v":"00:00:10"},{"$f":"IF(A13=\"\",\"\",IF(H13=\"Passenger\",\"P\",RANK(N13,$N$12:$N$51,1)))","v":1},{"$f":"IF(A13=\"\",\"\",M13+VLOOKUP(A13,'Test 14'!$A$12:$Q$51,16,FALSE))","v":"00:11:27.150"},{"$f":"IF(A13=\"\",\"\",IF(H13=\"Passenger\",\"P\",RANK(T13,$T$12:$T$51,1)))","v":4},null,{"$f":"IF(E13=\"Senior\",\"\",IF(I13=\"wd\",\"\",IF(K13<>\"\",\"\",I13)))","v":""},{"$f":"IF(H13=\"Passenger\",\"\",P13)","v":"00:11:27.150"}]
[3,{"$f":"IF($A14=\"\",\"\",IF(VLOOKUP($A14,Competitors!$A$2:$G$60,2,FALSE)=\"\",\"\",VLOOKUP($A14,Competitors!$A$2:$G$60,2,FALSE)))","v":"David Ballard"},{"$f":"IF($A14=\"\",\"\",IF(VLOOKUP($A14,Competitors!$A$2:$G$60,7,FALSE)=\"\",\"\",VLOOKUP($A14,Competitors!$A$2:$G$60,7,FALSE)))","v":""},{"$f":"IF($A14=\"\",\"\",IF(VLOOKUP($A14,Competitors!$A$2:$G$60,5,FALSE)=\"\",\"\",VLOOKUP($A14,Competitors!$A$2:$G$60,5,FALSE)))","v":""},{"$f":"IF($A14=\"\",\"\",IF(VLOOKUP($A14,Competitors!$A$2:$G$60,6,FALSE)=\"\",\"\",VLOOKUP($A14,Competitors!$A$2:$G$60,6,FALSE)))","v":"senior"},{"$f":"IF($A14=\"\",\"\",IF(VLOOKUP($A14,Competitors!$A$2:$G$60,3,FALSE)=\"\",\"\",VLOOKUP($A14,Competitors!$A$2:$G$60,3,FALSE)))","v":""},{"$f":"IF($A14=\"\",\"\",IF(VLOOKUP($A14,Competitors!$A$2:$G$60,4,FALSE)=\"\",\"\",VLOOKUP($A14,Competitors!$A$2:$G$60,4,FALSE)))","v":""},{"$f":"IF(VLOOKUP(A14,Competitors!$A$1:$H$41,8,FALSE)=\"\",\"\",VLOOKUP(A14,Competitors!$A$1:$H$41,8,FALSE))","v":""},{"$f":"IF(IFERROR(VLOOKUP(($B$2&\"_\"&$A14),'Time Entry Sheet'!$A$3:$I$499,9,0),\"Error\")=\"Error\",\"\",IF(VLOOKUP(($B$2&\"_\"&$A14),'Time Entry Sheet'!$A$3:$I$499,9,FALSE)=\"wd\",\"wd\",VLOOKUP(($B$2&\"_\"&$A14),'Time Entry Sheet'!$A$3:$I$499,9,FALSE)*1))","v":""},"",{"$f":"IF(IFERROR(VLOOKUP(($B$2&\"_\"&$A14),'Time Entry Sheet'!$A$3:$I$499,8,FALSE),\"Error\")=\"Error\",\"\",IF(VLOOKUP(($B$2&\"_\"&$A14),'Time Entry Sheet'!$A$3:$I$499,8,FALSE)=\"\",\"\",VLOOKUP(($B$2&\"_\"&$A14),'Time Entry Sheet'!$A$3:$I$499,8,FALSE)))","v":""},{"$f":"IF(IFERROR(VLOOKUP(($B$2&\"_\"&$A14),'Time Entry Sheet'!$A$3:$I$499,7,FALSE),\"Error\")=\"Error\",\"\",IF(VLOOKUP(($B$2&\"_\"&$A14),'Time Entry Sheet'!$A$3:$I$499,7,FALSE)=\"\",\"\",VLOOKUP(($B$2&\"_\"&$A14),'Time Entry Sheet'!$A$3:$I$499,7,FALSE)))","v":""},"00:00:10","00:00:10",1,{"$f":"IF(A14=\"\",\"\",M14+VLOOKUP(A14,'Test 14'!$A$12:$Q$51,16,FALSE))","v":"00:12:36.210"},12,null,"","00:12:36.210"]
[4,{"$f":"IF($A15=\"\",\"\",IF(VLOOKUP($A15,Competitors!$A$2:$G$60,2,FALSE)=\"\",\"\",VLOOKUP($A15,Competitors!$A$2:$G$60,2,FALSE)))","v":"Michaela Ballard"},{"$f":"IF($A15=\"\",\"\",IF(VLOOKUP($A15,Competitors!$A$2:$G$60,7,FALSE)=\"\",\"\",VLOOKUP($A15,Competitors!$A$2:$G$60,7,FALSE)))","v":"rookie"},{"$f":"IF($A15=\"\",\"\",IF(VLOOKUP($A15,Competitors!$A$2:$G$60,5,FALSE)=\"\",\"\",VLOOKUP($A15,Competitors!$A$2:$G$60,5,FALSE)))","v":"female"},{"$f":"IF($A15=\"\",\"\",IF(VLOOKUP($A15,Competitors!$A$2:$G$60,6,FALSE)=\"\",\"\",VLOOKUP($A15,Competitors!$A$2:$G$60,6,FALSE)))","v":"senior"},{"$f":"IF($A15=\"\",\"\",IF(VLOOKUP($A15,Competitors!$A$2:$G$60,3,FALSE)=\"\",\"\",VLOOKUP($A15,Competitors!$A$2:$G$60,3,FALSE)))","v":""},{"$f":"IF($A15=\"\",\"\",IF(VLOOKUP($A15,Competitors!$A$2:$G$60,4,FALSE)=\"\",\"\",VLOOKUP($A15,Competitors!$A$2:$G$60,4,FALSE)))","v":""},{"$f":"IF(VLOOKUP(A15,Competitors!$A$1:$H$41,8,FALSE)=\"\",\"\",VLOOKUP(A15,Competitors!$A$1:$H$41,8,FALSE))","v":""},{"$f":"IF(IFERROR(VLOOKUP(($B$2&\"_\"&$A15),'Time Entry Sheet'!$A$3:$I$499,9,0),\"Error\")=\"Error\",\"\",IF(VLOOKUP(($B$2&\"_\"&$A15),'Time Entry Sheet'!$A$3:$I$499,9,FALSE)=\"wd\",\"wd\",VLOOKUP(($B$2&\"_\"&$A15),'Time Entry Sheet'!$A$3:$I$499,9,FALSE)*1))","v":""},"",{"$f":"IF(IFERROR(VLOOKUP(($B$2&\"_\"&$A15),'Time Entry Sheet'!$A$3:$I$499,8,FALSE),\"Error\")=\"Error\",\"\",IF(VLOOKUP(($B$2&\"_\"&$A15),'Time Entry Sheet'!$A$3:$I$499,8,FALSE)=\"\",\"\",VLOOKUP(($B$2&\"_\"&$A15),'Time Entry Sheet'!$A$3:$I$499,8,FALSE)))","v":""},{"$f":"IF(IFERROR(VLOOKUP(($B$2&\"_\"&$A15),'Time Entry Sheet'!$A$3:$I$499,7,FALSE),\"Error\")=\"Error\",\"\",IF(VLOOKUP(($B$2&\"_\"&$A15),'Time Entry Sheet'!$A$3:$I$499,7,FALSE)=\"\",\"\",VLOOKUP(($B$2&\"_\"&$A15),'Time Entry Sheet'!$A$3:$I$499,7,FALSE)))","v":""},"00:00:10","00:00:10",1,{"$f":"IF(A15=\"\",\"\",M15+VLOOKUP(A15,'Test 14'!$A$12:$Q$51,16,FALSE))","v":"00:13:44.220"},18,null,"","00:13:44.220"]
[5,{"$f":"IF($A16=\"\",\"\",IF(VLOOKUP($A16,Competitors!$A$2:$G$60,2,FALSE)=\"\",\"\",VLOOKUP($A16,Competitors!$A$2:$G$60,2,FALSE)))","v":"Janelle Ballard"},{"$f":"IF($A16=\"\",\"\",IF(VLOOKUP($A16,Competitors!$A$2:$G$60,7,FALSE)=\"\",\"\",VLOOKUP($A16,Competitors!$A$2:$G$60,7,FALSE)))","v":""},{"$f":"IF($A16=\"\",\"\",IF(VLOOKUP($A16,Competitors!$A$2:$G$60,5,FALSE)=\"\",\"\",VLOOKUP($A16,Competitors!$A$2:$G$60,5,FALSE)))","v":"female"},{"$f":"IF($A16=\"\",\"\",IF(VLOOKUP($A16,Competitors!$A$2:$G$60,6,FALSE)=\"\",\"\",VLOOKUP($A16,Competitors!$A$2:$G$60,6,FALSE)))","v":"senior"},{"$f":"IF($A16=\"\",\"\",IF(VLOOKUP($A16,Competitors!$A$2:$G$60,3,FALSE)=\"\",\"\",VLOOKUP($A16,Competitors!$A$2:$G$60,3,FALSE)))","v":""},{"$f":"IF($A16=\"\",\"\",IF(VLOOKUP($A16,Competitors!$A$2:$G$60,4,FALSE)=\"\",\"\",VLOOKUP($A16,Competitors!$A$2:$G$60,4,FALSE)))","v":""},{"$f":"IF(VLOOKUP(A16,Competitors!$A$1:$H$41,8,FALSE)=\"\",\"\",VLOOKUP(A16,Competitors!$A$1:$H$41,8,FALSE))","v":""},{"$f":"IF(IFERROR(VLOOKUP(($B$2&\"_\"&$A16),'Time Entry Sheet'!$A$3:$I$499,9,0),\"Error\")=\"Error\",\"\",IF(VLOOKUP(($B$2&\"_\"&$A16),'Time Entry Sheet'!$A$3:$I$499,9,FALSE)=\"wd\",\"wd\",VLOOKUP(($B$2&\"_\"&$A16),'Time Entry Sheet'!$A$3:$I$499,9,FALSE)*1))","v":""},"",{"$f":"IF(IFERROR(VLOOKUP(($B$2&\"_\"&$A16),'Time Entry Sheet'!$A$3:$I$499,8,FALSE),\"Error\")=\"Error\",\"\",IF(VLOOKUP(($B$2&\"_\"&$A16),'Time Entry Sheet'!$A$3:$I$499,8,FALSE)=\"\",\"\",VLOOKUP(($B$2&\"_\"&$A16),'Time Entry Sheet'!$A$3:$I$499,8,FALSE)))","v":""},{"$f":"IF(IFERROR(VLOOKUP(($B$2&\"_\"&$A16),'Time Entry Sheet'!$A$3:$I$499,7,FALSE),\"Error\")=\"Error\",\"\",IF(VLOOKUP(($B$2&\"_\"&$A16),'Time Entry Sheet'!$A$3:$I$499,7,FALSE)=\"\",\"\",VLOOKUP(($B$2&\"_\"&$A16),'Time Entry Sheet'!$A$3:$I$499,7,FALSE)))","v":""},"00:00:10","00:00:10",1,{"$f":"IF(A16=\"\",\"\",M16+VLOOKUP(A16,'Test 14'!$A$12:$Q$51,16,FALSE))","v":"00:12:17.350"},8,null,"","00:12:17.350"]
[6,{"$f":"IF($A17=\"\",\"\",IF(VLOOKUP($A17,Competitors!$A$2:$G$60,2,FALSE)=\"\",\"\",VLOOKUP($A17,Competitors!$A$2:$G$60,2,FALSE)))","v":"Issac Wishart"},{"$f":"IF($A17=\"\",\"\",IF(VLOOKUP($A17,Competitors!$A$2:$G$60,7,FALSE)=\"\",\"\",VLOOKUP($A17,Competitors!$A$2:$G$60,7,FALSE)))","v":"rookie"},{"$f":"IF($A17=\"\",\"\",IF(VLOOKUP($A17,Competitors!$A$2:$G$60,5,FALSE)=\"\",\"\",VLOOKUP($A17,Competitors!$A$2:$G$60,5,FALSE)))","v":""},{"$f":"IF($A17=\"\",\"\",IF(VLOOKUP($A17,Competitors!$A$2:$G$60,6,FALSE)=\"\",\"\",VLOOKUP($A17,Competitors!$A$2:$G$60,6,FALSE)))","v":"senior"},{"$f":"IF($A17=\"\",\"\",IF(VLOOKUP($A17,Competitors!$A$2:$G$60,3,FALSE)=\"\",\"\",VLOOKUP($A17,Competitors!$A$2:$G$60,3,FALSE)))","v":""},{"$f":"IF($A17=\"\",\"\",IF(VLOOKUP($A17,Competitors!$A$2:$G$60,4,FALSE)=\"\",\"\",VLOOKUP($A17,Competitors!$A$2:$G$60,4,FALSE)))","v":""},{"$f":"IF(VLOOKUP(A17,Competitors!$A$1:$H$41,8,FALSE)=\"\",\"\",VLOOKUP(A17,Competitors!$A$1:$H$41,8,FALSE))","v":""},{"$f":"IF(IFERROR(VLOOKUP(($B$2&\"_\"&$A17),'Time Entry Sheet'!$A$3:$I$499,9,0),\"Error\")=\"Error\",\"\",IF(VLOOKUP(($B$2&\"_\"&$A17),'Time Entry Sheet'!$A$3:$I$499,9,FALSE)=\"wd\",\"wd\",VLOOKUP(($B$2&\"_\"&$A17),'Time Entry Sheet'!$A$3:$I$499,9,FALSE)*1))","v":""},"",{"$f":"IF(IFERROR(VLOOKUP(($B$2&\"_\"&$A17),'Time Entry Sheet'!$A$3:$I$499,8,FALSE),\"Error\")=\"Error\",\"\",IF(VLOOKUP(($B$2&\"_\"&$A17),'Time Entry Sheet'!$A$3:$I$499,8,FALSE)=\"\",\"\",VLOOKUP(($B$2&\"_\"&$A17),'Time Entry Sheet'!$A$3:$I$499,8,FALSE)))","v":""},{"$f":"IF(IFERROR(VLOOKUP(($B$2&\"_\"&$A17),'Time Entry Sheet'!$A$3:$I$499,7,FALSE),\"Error\")=\"Error\",\"\",IF(VLOOKUP(($B$2&\"_\"&$A17),'Time Entry Sheet'!$A$3:$I$499,7,FALSE)=\"\",\"\",VLOOKUP(($B$2&\"_\"&$A17),'Time Entry Sheet'!$A$3:$I$499,7,FALSE)))","v":""},"00:00:10","00:00:10",1,{"$f":"IF(A17=\"\",\"\",M17+VLOOKUP(A17,'Test 14'!$A$12:$Q$51,16,FALSE))","v":"00:13:20.350"},16,null,"","00:13:20.350"]
[7,{"$f":"IF($A18=\"\",\"\",IF(VLOOKUP($A18,Competitors!$A$2:$G$60,2,FALSE)=\"\",\"\",VLOOKUP($A18,Competitors!$A$2:$G$60,2,FALSE)))","v":""},{"$f":"IF($A18=\"\",\"\",IF(VLOOKUP($A18,Competitors!$A$2:$G$60,7,FALSE)=\"\",\"\",VLOOKUP($A18,Competitors!$A$2:$G$60,7,FALSE)))","v":""},{"$f":"IF($A18=\"\",\"\",IF(VLOOKUP($A18,Competitors!$A$2:$G$60,5,FALSE)=\"\",\"\",VLOOKUP($A18,Competitors!$A$2:$G$60,5,FALSE)))","v":""},{"$f":"IF($A18=\"\",\"\",IF(VLOOKUP($A18,Competitors!$A$2:$G$60,6,FALSE)=\"\",\"\",VLOOKUP($A18,Competitors!$A$2:$G$60,6,FALSE)))","v":"senior"},{"$f":"IF($A18=\"\",\"\",IF(VLOOKUP($A18,Competitors!$A$2:$G$60,3,FALSE)=\"\",\"\",VLOOKUP($A18,Competitors!$A$2:$G$60,3,FALSE)))","v":""},{"$f":"IF($A18=\"\",\"\",IF(VLOOKUP($A18,Competitors!$A$2:$G$60,4,FALSE)=\"\",\"\",VLOOKUP($A18,Competitors!$A$2:$G$60,4,FALSE)))","v":""},{"$f":"IF(VLOOKUP(A18,Competitors!$A$1:$H$41,8,FALSE)=\"\",\"\",VLOOKUP(A18,Competitors!$A$1:$H$41,8,FALSE))","v":""},{"$f":"IF(IFERROR(VLOOKUP(($B$2&\"_\"&$A18),'Time Entry Sheet'!$A$3:$I$499,9,0),\"Error\")=\"Error\",\"\",IF(VLOOKUP(($B$2&\"_\"&$A18),'Time Entry Sheet'!$A$3:$I$499,9,FALSE)=\"wd\",\"wd\",VLOOKUP(($B$2&\"_\"&$A18),'Time Entry Sheet'!$A$3:$I$499,9,FALSE)*1))","v":""},"",{"$f":"IF(IFERROR(VLOOKUP(($B$2&\"_\"&$A18),'Time Entry Sheet'!$A$3:$I$499,8,FALSE),\"Error\")=\"Error\",\"\",IF(VLOOKUP(($B$2&\"_\"&$A18),'Time Entry Sheet'!$A$3:$I$499,8,FALSE)=\"\",\"\",VLOOKUP(($B$2&\"_\"&$A18),'Time Entry Sheet'!$A$3:$I$499,8,FALSE)))","v":""},{"$f":"IF(IFERROR(VLOOKUP(($B$2&\"_\"&$A18),'Time Entry Sheet'!$A$3:$I$499,7,FALSE),\"Error\")=\"Error\",\"\",IF(VLOOKUP(($B$2&\"_\"&$A18),'Time Entry Sheet'!$A$3:$I$499,7,FALSE)=\"\",\"\",VLOOKUP(($B$2&\"_\"&$A18),'Time Entry Sheet'!$A$3:$I$499,7,FALSE)))","v":""},"00:00:10","00:00:10",1,{"$f":"IF(A18=\"\",\"\",M18+VLOOKUP(A18,'Test 14'!$A$12:$Q$51,16,FALSE))","v":"00:16:12.230"},20,null,"","00:16:12.230"]
[8,{"$f":"IF($A19=\"\",\"\",IF(VLOOKUP($A19,Competitors!$A$2:$G$60,2,FALSE)=\"\",\"\",VLOOKUP($A19,Competitors!$A$2:$G$60,2,FALSE)))","v":"Jim Taylor"},{"$f":"IF($A19=\"\",\"\",IF(VLOOKUP($A19,Competitors!$A$2:$G$60,7,FALSE)=\"\",\"\",VLOOKUP($A19,Competitors!$A$2:$G$60,7,FALSE)))","v":""},{"$f":"IF($A19=\"\",\"\",IF(VLOOKUP($A19,Competitors!$A$2:$G$60,5,FALSE)=\"\",\"\",VLOOKUP($A19,Competitors!$A$2:$G$60,5,FALSE)))","v":""},{"$f":"IF($A19=\"\",\"\",IF(VLOOKUP($A19,Competitors!$A$2:$G$60,6,FALSE)=\"\",\"\",VLOOKUP($A19,Competitors!$A$2:$G$60,6,FALSE)))","v":"senior"},{"$f":"IF($A19=\"\",\"\",IF(VLOOKUP($A19,Competitors!$A$2:$G$60,3,FALSE)=\"\",\"\",VLOOKUP($A19,Competitors!$A$2:$G$60,3,FALSE)))","v":""},{"$f":"IF($A19=\"\",\"\",IF(VLOOKUP($A19,Competitors!$A$2:$G$60,4,FALSE)=\"\",\"\",VLOOKUP($A19,Competitors!$A$2:$G$60,4,FALSE)))","v":""},{"$f":"IF(VLOOKUP(A19,Competitors!$A$1:$H$41,8,FALSE)=\"\",\"\",VLOOKUP(A19,Competitors!$A$1:$H$41,8,FALSE))","v":""},{"$f":"IF(IFERROR(VLOOKUP(($B$2&\"_\"&$A19),'Time Entry Sheet'!$A$3:$I$499,9,0),\"Error\")=\"Error\",\"\",IF(VLOOKUP(($B$2&\"_\"&$A19),'Time Entry Sheet'!$A$3:$I$499,9,FALSE)=\"wd\",\"wd\",VLOOKUP(($B$2&\"_\"&$A19),'Time Entry Sheet'!$A$3:$I$499,9,FALSE)*1))","v":""},"",{"$f":"IF(IFERROR(VLOOKUP(($B$2&\"_\"&$A19),'Time Entry Sheet'!$A$3:$I$499,8,FALSE),\"Error\")=\"Error\",\"\",IF(VLOOKUP(($B$2&\"_\"&$A19),'Time Entry Sheet'!$A$3:$I$499,8,FALSE)=\"\",\"\",VLOOKUP(($B$2&\"_\"&$A19),'Time Entry Sheet'!$A$3:$I$499,8,FALSE)))","v":""},{"$f":"IF(IFERROR(VLOOKUP(($B$2&\"_\"&$A19),'Time Entry Sheet'!$A$3:$I$499,7,FALSE),\"Error\")=\"Error\",\"\",IF(VLOOKUP(($B$2&\"_\"&$A19),'Time Entry Sheet'!$A$3:$I$499,7,FALSE)=\"\",\"\",VLOOKUP(($B$2&\"_\"&$A19),'Time Entry Sheet'!$A$3:$I$499,7,FALSE)))","v":""},"00:00:10","00:00:10",1,{"$f":"IF(A19=\"\",\"\",M19+VLOOKUP(A19,'Test 14'!$A$12:$Q$51,16,FALSE))","v":"00:12:37.470"},13,null,"","00:12:37.470"]
[9,{"$f":"IF($A20=\"\",\"\",IF(VLOOKUP($A20,Competitors!$A$2:$G$60,2,FALSE)=\"\",\"\",VLOOKUP($A20,Competitors!$A$2:$G$60,2,FALSE)))","v":"Brad Firman"},{"$f":"IF($A20=\"\",\"\",IF(VLOOKUP($A20,Competitors!$A$2:$G$60,7,FALSE)=\"\",\"\",VLOOKUP($A20,Competitors!$A$2:$G$60,7,FALSE)))","v":""},{"$f":"IF($A20=\"\",\"\",IF(VLOOKUP($A20,Competitors!$A$2:$G$60,5,FALSE)=\"\",\"\",VLOOKUP($A20,Competitors!$A$2:$G$60,5,FALSE)))","v":""},{"$f":"IF($A20=\"\",\"\",IF(VLOOKUP($A20,Competitors!$A$2:$G$60,6,FALSE)=\"\",\"\",VLOOKUP($A20,Competitors!$A$2:$G$60,6,FALSE)))","v":"senior"},{"$f":"IF($A20=\"\",\"\",IF(VLOOKUP($A20,Competitors!$A$2:$G$60,3,FALSE)=\"\",\"\",VLOOKUP($A20,Competitors!$A$2:$G$60,3,FALSE)))","v":""},{"$f":"IF($A20=\"\",\"\",IF(VLOOKUP($A20,Competitors!$A$2:$G$60,4,FALSE)=\"\",\"\",VLOOKUP($A20,Competitors!$A$2:$G$60,4,FALSE)))","v":""},{"$f":"IF(VLOOKUP(A20,Competitors!$A$1:$H$41,8,FALSE)=\"\",\"\",VLOOKUP(A20,Competitors!$A$1:$H$41,8,FALSE))","v":""},{"$f":"IF(IFERROR(VLOOKUP(($B$2&\"_\"&$A20),'Time Entry Sheet'!$A$3:$I$499,9,0),\"Error\")=\"Error\",\"\",IF(VLOOKUP(($B$2&\"_\"&$A20),'Time Entry Sheet'!$A$3:$I$499,9,FALSE)=\"wd\",\"wd\",VLOOKUP(($B$2&\"_\"&$A20),'Time Entry Sheet'!$A$3:$I$499,9,FALSE)*1))","v":""},"",{"$f":"IF(IFERROR(VLOOKUP(($B$2&\"_\"&$A20),'Time Entry Sheet'!$A$3:$I$499,8,FALSE),\"Error\")=\"Error\",\"\",IF(VLOOKUP(($B$2&\"_\"&$A20),'Time Entry Sheet'!$A$3:$I$499,8,FALSE)=\"\",\"\",VLOOKUP(($B$2&\"_\"&$A20),'Time Entry Sheet'!$A$3:$I$499,8,FALSE)))","v":""},{"$f":"IF(IFERROR(VLOOKUP(($B$2&\"_\"&$A20),'Time Entry Sheet'!$A$3:$I$499,7,FALSE),\"Error\")=\"Error\",\"\",IF(VLOOKUP(($B$2&\"_\"&$A20),'Time Entry Sheet'!$A$3:$I$499,7,FALSE)=\"\",\"\",VLOOKUP(($B$2&\"_\"&$A20),'Time Entry Sheet'!$A$3:$I$499,7,FALSE)))","v":""},"00:00:10","00:00:10",1,{"$f":"IF(A20=\"\",\"\",M20+VLOOKUP(A20,'Test 14'!$A$12:$Q$51,16,FALSE))","v":"00:11:10.270"},3,null,"","00:11:10.270"]
[10,{"$f":"IF($A21=\"\",\"\",IF(VLOOKUP($A21,Competitors!$A$2:$G$60,2,FALSE)=\"\",\"\",VLOOKUP($A21,Competitors!$A$2:$G$60,2,FALSE)))","v":"Scott Taylor"},{"$f":"IF($A21=\"\",\"\",IF(VLOOKUP($A21,Competitors!$A$2:$G$60,7,FALSE)=\"\",\"\",VLOOKUP($A21,Competitors!$A$2:$G$60,7,FALSE)))","v":""},{"$f":"IF($A21=\"\",\"\",IF(VLOOKUP($A21,Competitors!$A$2:$G$60,5,FALSE)=\"\",\"\",VLOOKUP($A21,Competitors!$A$2:$G$60,5,FALSE)))","v":""},{"$f":"IF($A21=\"\",\"\",IF(VLOOKUP($A21,Competitors!$A$2:$G$60,6,FALSE)=\"\",\"\",VLOOKUP($A21,Competitors!$A$2:$G$60,6,FALSE)))","v":"senior"},{"$f":"IF($A21=\"\",\"\",IF(VLOOKUP($A21,Competitors!$A$2:$G$60,3,FALSE)=\"\",\"\",VLOOKUP($A21,Competitors!$A$2:$G$60,3,FALSE)))","v":""},{"$f":"IF($A21=\"\",\"\",IF(VLOOKUP($A21,Competitors!$A$2:$G$60,4,FALSE)=\"\",\"\",VLOOKUP($A21,Competitors!$A$2:$G$60,4,FALSE)))","v":""},{"$f":"IF(VLOOKUP(A21,Competitors!$A$1:$H$41,8,FALSE)=\"\",\"\",VLOOKUP(A21,Competitors!$A$1:$H$41,8,FALSE))","v":""},{"$f":"IF(IFERROR(VLOOKUP(($B$2&\"_\"&$A21),'Time Entry Sheet'!$A$3:$I$499,9,0),\"Error\")=\"Error\",\"\",IF(VLOOKUP(($B$2&\"_\"&$A21),'Time Entry Sheet'!$A$3:$I$499,9,FALSE)=\"wd\",\"wd\",VLOOKUP(($B$2&\"_\"&$A21),'Time Entry Sheet'!$A$3:$I$499,9,FALSE)*1))","v":""},"",{"$f":"IF(IFERROR(VLOOKUP(($B$2&\"_\"&$A21),'Time Entry Sheet'!$A$3:$I$499,8,FALSE),\"Error\")=\"Error\",\"\",IF(VLOOKUP(($B$2&\"_\"&$A21),'Time Entry Sheet'!$A$3:$I$499,8,FALSE)=\"\",\"\",VLOOKUP(($B$2&\"_\"&$A21),'Time Entry Sheet'!$A$3:$I$499,8,FALSE)))","v":""},{"$f":"IF(IFERROR(VLOOKUP(($B$2&\"_\"&$A21),'Time Entry Sheet'!$A$3:$I$499,7,FALSE),\"Error\")=\"Error\",\"\",IF(VLOOKUP(($B$2&\"_\"&$A21),'Time Entry Sheet'!$A$3:$I$499,7,FALSE)=\"\",\"\",VLOOKUP(($B$2&\"_\"&$A21),'Time Entry Sheet'!$A$3:$I$499,7,FALSE)))","v":""},"00:00:10","00:00:10",1,{"$f":"IF(A21=\"\",\"\",M21+VLOOKUP(A21,'Test 14'!$A$12:$Q$51,16,FALSE))","v":"00:12:35.120"},11,null,"","00:12:35.120"]
[11,{"$f":"IF($A22=\"\",\"\",IF(VLOOKUP($A22,Competitors!$A$2:$G$60,2,FALSE)=\"\",\"\",VLOOKUP($A22,Competitors!$A$2:$G$60,2,FALSE)))","v":"Russel McKinley"},{"$f":"IF($A22=\"\",\"\",IF(VLOOKUP($A22,Competitors!$A$2:$G$60,7,FALSE)=\"\",\"\",VLOOKUP($A22,Competitors!$A$2:$G$60,7,FALSE)))","v":""},{"$f":"IF($A22=\"\",\"\",IF(VLOOKUP($A22,Competitors!$A$2:$G$60,5,FALSE)=\"\",\"\",VLOOKUP($A22,Competitors!$A$2:$G$60,5,FALSE)))","v":""},{"$f":"IF($A22=\"\",\"\",IF(VLOOKUP($A22,Competitors!$A$2:$G$60,6,FALSE)=\"\",\"\",VLOOKUP($A22,Competitors!$A$2:$G$60,6,FALSE)))","v":"senior"},{"$f":"IF($A22=\"\",\"\",IF(VLOOKUP($A22,Competitors!$A$2:$G$60,3,FALSE)=\"\",\"\",VLOOKUP($A22,Competitors!$A$2:$G$60,3,FALSE)))","v":""},{"$f":"IF($A22=\"\",\"\",IF(VLOOKUP($A22,Competitors!$A$2:$G$60,4,FALSE)=\"\",\"\",VLOOKUP($A22,Competitors!$A$2:$G$60,4,FALSE)))","v":""},{"$f":"IF(VLOOKUP(A22,Competitors!$A$1:$H$41,8,FALSE)=\"\",\"\",VLOOKUP(A22,Competitors!$A$1:$H$41,8,FALSE))","v":""},{"$f":"IF(IFERROR(VLOOKUP(($B$2&\"_\"&$A22),'Time Entry Sheet'!$A$3:$I$499,9,0),\"Error\")=\"Error\",\"\",IF(VLOOKUP(($B$2&\"_\"&$A22),'Time Entry Sheet'!$A$3:$I$499,9,FALSE)=\"wd\",\"wd\",VLOOKUP(($B$2&\"_\"&$A22),'Time Entry Sheet'!$A$3:$I$499,9,FALSE)*1))","v":""},"",{"$f":"IF(IFERROR(VLOOKUP(($B$2&\"_\"&$A22),'Time Entry Sheet'!$A$3:$I$499,8,FALSE),\"Error\")=\"Error\",\"\",IF(VLOOKUP(($B$2&\"_\"&$A22),'Time Entry Sheet'!$A$3:$I$499,8,FALSE)=\"\",\"\",VLOOKUP(($B$2&\"_\"&$A22),'Time Entry Sheet'!$A$3:$I$499,8,FALSE)))","v":""},{"$f":"IF(IFERROR(VLOOKUP(($B$2&\"_\"&$A22),'Time Entry Sheet'!$A$3:$I$499,7,FALSE),\"Error\")=\"Error\",\"\",IF(VLOOKUP(($B$2&\"_\"&$A22),'Time Entry Sheet'!$A$3:$I$499,7,FALSE)=\"\",\"\",VLOOKUP(($B$2&\"_\"&$A22),'Time Entry Sheet'!$A$3:$I$499,7,FALSE)))","v":""},"00:00:10","00:00:10",1,{"$f":"IF(A22=\"\",\"\",M22+VLOOKUP(A22,'Test 14'!$A$12:$Q$51,16,FALSE))","v":"00:13:55.150"},19,null,"","00:13:55.150"]
[12,{"$f":"IF($A23=\"\",\"\",IF(VLOOKUP($A23,Competitors!$A$2:$G$60,2,FALSE)=\"\",\"\",VLOOKUP($A23,Competitors!$A$2:$G$60,2,FALSE)))","v":"Mat Boorman"},{"$f":"IF($A23=\"\",\"\",IF(VLOOKUP($A23,Competitors!$A$2:$G$60,7,FALSE)=\"\",\"\",VLOOKUP($A23,Competitors!$A$2:$G$60,7,FALSE)))","v":""},{"$f":"IF($A23=\"\",\"\",IF(VLOOKUP($A23,Competitors!$A$2:$G$60,5,FALSE)=\"\",\"\",VLOOKUP($A23,Competitors!$A$2:$G$60,5,FALSE)))","v":""},{"$f":"IF($A23=\"\",\"\",IF(VLOOKUP($A23,Competitors!$A$2:$G$60,6,FALSE)=\"\",\"\",VLOOKUP($A23,Competitors!$A$2:$G$60,6,FALSE)))","v":"senior"},{"$f":"IF($A23=\"\",\"\",IF(VLOOKUP($A23,Competitors!$A$2:$G$60,3,FALSE)=\"\",\"\",VLOOKUP($A23,Competitors!$A$2:$G$60,3,FALSE)))","v":""},{"$f":"IF($A23=\"\",\"\",IF(VLOOKUP($A23,Competitors!$A$2:$G$60,4,FALSE)=\"\",\"\",VLOOKUP($A23,Competitors!$A$2:$G$60,4,FALSE)))","v":""},{"$f":"IF(VLOOKUP(A23,Competitors!$A$1:$H$41,8,FALSE)=\"\",\"\",VLOOKUP(A23,Competitors!$A$1:$H$41,8,FALSE))","v":""},{"$f":"IF(IFERROR(VLOOKUP(($B$2&\"_\"&$A23),'Time Entry Sheet'!$A$3:$I$499,9,0),\"Error\")=\"Error\",\"\",IF(VLOOKUP(($B$2&\"_\"&$A23),'Time Entry Sheet'!$A$3:$I$499,9,FALSE)=\"wd\",\"wd\",VLOOKUP(($B$2&\"_\"&$A23),'Time Entry Sheet'!$A$3:$I$499,9,FALSE)*1))","v":""},"",{"$f":"IF(IFERROR(VLOOKUP(($B$2&\"_\"&$A23),'Time Entry Sheet'!$A$3:$I$499,8,FALSE),\"Error\")=\"Error\",\"\",IF(VLOOKUP(($B$2&\"_\"&$A23),'Time Entry Sheet'!$A$3:$I$499,8,FALSE)=\"\",\"\",VLOOKUP(($B$2&\"_\"&$A23),'Time Entry Sheet'!$A$3:$I$499,8,FALSE)))","v":""},{"$f":"IF(IFERROR(VLOOKUP(($B$2&\"_\"&$A23),'Time Entry Sheet'!$A$3:$I$499,7,FALSE),\"Error\")=\"Error\",\"\",IF(VLOOKUP(($B$2&\"_\"&$A23),'Time Entry Sheet'!$A$3:$I$499,7,FALSE)=\"\",\"\",VLOOKUP(($B$2&\"_\"&$A23),'Time Entry Sheet'!$A$3:$I$499,7,FALSE)))","v":""},"00:00:10","00:00:10",1,{"$f":"IF(A23=\"\",\"\",M23+VLOOKUP(A23,'Test 14'!$A$12:$Q$51,16,FALSE))","v":"00:13:07.280"},15,null,"","00:13:07.280"]
[13,{"$f":"IF($A24=\"\",\"\",IF(VLOOKUP($A24,Competitors!$A$2:$G$60,2,FALSE)=\"\",\"\",VLOOKUP($A24,Competitors!$A$2:$G$60,2,FALSE)))","v":"Aaron Wishart"},{"$f":"IF($A24=\"\",\"\",IF(VLOOKUP($A24,Competitors!$A$2:$G$60,7,FALSE)=\"\",\"\",VLOOKUP($A24,Competitors!$A$2:$G$60,7,FALSE)))","v":""},{"$f":"IF($A24=\"\",\"\",IF(VLOOKUP($A24,Competitors!$A$2:$G$60,5,FALSE)=\"\",\"\",VLOOKUP($A24,Competitors!$A$2:$G$60,5,FALSE)))","v":""},{"$f":"IF($A24=\"\",\"\",IF(VLOOKUP($A24,Competitors!$A$2:$G$60,6,FALSE)=\"\",\"\",VLOOKUP($A24,Competitors!$A$2:$G$60,6,FALSE)))","v":"senior"},{"$f":"IF($A24=\"\",\"\",IF(VLOOKUP($A24,Competitors!$A$2:$G$60,3,FALSE)=\"\",\"\",VLOOKUP($A24,Competitors!$A$2:$G$60,3,FALSE)))","v":""},{"$f":"IF($A24=\"\",\"\",IF(VLOOKUP($A24,Competitors!$A$2:$G$60,4,FALSE)=\"\",\"\",VLOOKUP($A24,Competitors!$A$2:$G$60,4,FALSE)))","v":""},{"$f":"IF(VLOOKUP(A24,Competitors!$A$1:$H$41,8,FALSE)=\"\",\"\",VLOOKUP(A24,Competitors!$A$1:$H$41,8,FALSE))","v":""},{"$f":"IF(IFERROR(VLOOKUP(($B$2&\"_\"&$A24),'Time Entry Sheet'!$A$3:$I$499,9,0),\"Error\")=\"Error\",\"\",IF(VLOOKUP(($B$2&\"_\"&$A24),'Time Entry Sheet'!$A$3:$I$499,9,FALSE)=\"wd\",\"wd\",VLOOKUP(($B$2&\"_\"&$A24),'Time Entry Sheet'!$A$3:$I$499,9,FALSE)*1))","v":""},"",{"$f":"IF(IFERROR(VLOOKUP(($B$2&\"_\"&$A24),'Time Entry Sheet'!$A$3:$I$499,8,FALSE),\"Error\")=\"Error\",\"\",IF(VLOOKUP(($B$2&\"_\"&$A24),'Time Entry Sheet'!$A$3:$I$499,8,FALSE)=\"\",\"\",VLOOKUP(($B$2&\"_\"&$A24),'Time Entry Sheet'!$A$3:$I$499,8,FALSE)))","v":""},{"$f":"IF(IFERROR(VLOOKUP(($B$2&\"_\"&$A24),'Time Entry Sheet'!$A$3:$I$499,7,FALSE),\"Error\")=\"Error\",\"\",IF(VLOOKUP(($B$2&\"_\"&$A24),'Time Entry Sheet'!$A$3:$I$499,7,FALSE)=\"\",\"\",VLOOKUP(($B$2&\"_\"&$A24),'Time Entry Sheet'!$A$3:$I$499,7,FALSE)))","v":""},"00:00:10","00:00:10",1,{"$f":"IF(A24=\"\",\"\",M24+VLOOKUP(A24,'Test 14'!$A$12:$Q$51,16,FALSE))","v":"00:12:57.920"},14,null,"","00:12:57.920"]
[14,{"$f":"IF($A25=\"\",\"\",IF(VLOOKUP($A25,Competitors!$A$2:$G$60,2,FALSE)=\"\",\"\",VLOOKUP($A25,Competitors!$A$2:$G$60,2,FALSE)))","v":"Bob Fulthorpe"},{"$f":"IF($A25=\"\",\"\",IF(VLOOKUP($A25,Competitors!$A$2:$G$60,7,FALSE)=\"\",\"\",VLOOKUP($A25,Competitors!$A$2:$G$60,7,FALSE)))","v":""},{"$f":"IF($A25=\"\",\"\",IF(VLOOKUP($A25,Competitors!$A$2:$G$60,5,FALSE)=\"\",\"\",VLOOKUP($A25,Competitors!$A$2:$G$60,5,FALSE)))","v":""},{"$f":"IF($A25=\"\",\"\",IF(VLOOKUP($A25,Competitors!$A$2:$G$60,6,FALSE)=\"\",\"\",VLOOKUP($A25,Competitors!$A$2:$G$60,6,FALSE)))","v":"senior"},{"$f":"IF($A25=\"\",\"\",IF(VLOOKUP($A25,Competitors!$A$2:$G$60,3,FALSE)=\"\",\"\",VLOOKUP($A25,Competitors!$A$2:$G$60,3,FALSE)))","v":""},{"$f":"IF($A25=\"\",\"\",IF(VLOOKUP($A25,Competitors!$A$2:$G$60,4,FALSE)=\"\",\"\",VLOOKUP($A25,Competitors!$A$2:$G$60,4,FALSE)))","v":""},{"$f":"IF(VLOOKUP(A25,Competitors!$A$1:$H$41,8,FALSE)=\"\",\"\",VLOOKUP(A25,Competitors!$A$1:$H$41,8,FALSE))","v":""},{"$f":"IF(IFERROR(VLOOKUP(($B$2&\"_\"&$A25),'Time Entry Sheet'!$A$3:$I$499,9,0),\"Error\")=\"Error\",\"\",IF(VLOOKUP(($B$2&\"_\"&$A25),'Time Entry Sheet'!$A$3:$I$499,9,FALSE)=\"wd\",\"wd\",VLOOKUP(($B$2&\"_\"&$A25),'Time Entry Sheet'!$A$3:$I$499,9,FALSE)*1))","v":""},"",{"$f":"IF(IFERROR(VLOOKUP(($B$2&\"_\"&$A25),'Time Entry Sheet'!$A$3:$I$499,8,FALSE),\"Error\")=\"Error\",\"\",IF(VLOOKUP(($B$2&\"_\"&$A25),'Time Entry Sheet'!$A$3:$I$499,8,FALSE)=\"\",\"\",VLOOKUP(($B$2&\"_\"&$A25),'Time Entry Sheet'!$A$3:$I$499,8,FALSE)))","v":""},{"$f":"IF(IFERROR(VLOOKUP(($B$2&\"_\"&$A25),'Time Entry Sheet'!$A$3:$I$499,7,FALSE),\"Error\")=\"Error\",\"\",IF(VLOOKUP(($B$2&\"_\"&$A25),'Time Entry Sheet'!$A$3:$I$499,7,FALSE)=\"\",\"\",VLOOKUP(($B$2&\"_\"&$A25),'Time Entry Sheet'!$A$3:$I$499,7,FALSE)))","v":""},"00:00:10","00:00:10",1,{"$f":"IF(A25=\"\",\"\",M25+VLOOKUP(A25,'Test 14'!$A$12:$Q$51,16,FALSE))","v":"00:11:27.350"},5,null,"","00:11:27.350"]
[15,{"$f":"IF($A26=\"\",\"\",IF(VLOOKUP($A26,Competitors!$A$2:$G$60,2,FALSE)=\"\",\"\",VLOOKUP($A26,Competitors!$A$2:$G$60,2,FALSE)))","v":"Khi Fulthorpe"},{"$f":"IF($A26=\"\",\"\",IF(VLOOKUP($A26,Competitors!$A$2:$G$60,7,FALSE)=\"\",\"\",VLOOKUP($A26,Competitors!$A$2:$G$60,7,FALSE)))","v":""},{"$f":"IF($A26=\"\",\"\",IF(VLOOKUP($A26,Competitors!$A$2:$G$60,5,FALSE)=\"\",\"\",VLOOKUP($A26,Competitors!$A$2:$G$60,5,FALSE)))","v":""},{"$f":"IF($A26=\"\",\"\",IF(VLOOKUP($A26,Competitors!$A$2:$G$60,6,FALSE)=\"\",\"\",VLOOKUP($A26,Competitors!$A$2:$G$60,6,FALSE)))","v":"senior"},{"$f":"IF($A26=\"\",\"\",IF(VLOOKUP($A26,Competitors!$A$2:$G$60,3,FALSE)=\"\",\"\",VLOOKUP($A26,Competitors!$A$2:$G$60,3,FALSE)))","v":""},{"$f":"IF($A26=\"\",\"\",IF(VLOOKUP($A26,Competitors!$A$2:$G$60,4,FALSE)=\"\",\"\",VLOOKUP($A26,Competitors!$A$2:$G$60,4,FALSE)))","v":""},{"$f":"IF(VLOOKUP(A26,Competitors!$A$1:$H$41,8,FALSE)=\"\",\"\",VLOOKUP(A26,Competitors!$A$1:$H$41,8,FALSE))","v":""},{"$f":"IF(IFERROR(VLOOKUP(($B$2&\"_\"&$A26),'Time Entry Sheet'!$A$3:$I$499,9,0),\"Error\")=\"Error\",\"\",IF(VLOOKUP(($B$2&\"_\"&$A26),'Time Entry Sheet'!$A$3:$I$499,9,FALSE)=\"wd\",\"wd\",VLOOKUP(($B$2&\"_\"&$A26),'Time Entry Sheet'!$A$3:$I$499,9,FALSE)*1))","v":""},"",{"$f":"IF(IFERROR(VLOOKUP(($B$2&\"_\"&$A26),'Time Entry Sheet'!$A$3:$I$499,8,FALSE),\"Error\")=\"Error\",\"\",IF(VLOOKUP(($B$2&\"_\"&$A26),'Time Entry Sheet'!$A$3:$I$499,8,FALSE)=\"\",\"\",VLOOKUP(($B$2&\"_\"&$A26),'Time Entry Sheet'!$A$3:$I$499,8,FALSE)))","v":""},{"$f":"IF(IFERROR(VLOOKUP(($B$2&\"_\"&$A26),'Time Entry Sheet'!$A$3:$I$499,7,FALSE),\"Error\")=\"Error\",\"\",IF(VLOOKUP(($B$2&\"_\"&$A26),'Time Entry Sheet'!$A$3:$I$499,7,FALSE)=\"\",\"\",VLOOKUP(($B$2&\"_\"&$A26),'Time Entry Sheet'!$A$3:$I$499,7,FALSE)))","v":""},"00:00:10","00:00:10",1,{"$f":"IF(A26=\"\",\"\",M26+VLOOKUP(A26,'Test 14'!$A$12:$Q$51,16,FALSE))","v":"00:12:27.250"},10,null,"","00:12:27.250"]
[16,{"$f":"IF($A27=\"\",\"\",IF(VLOOKUP($A27,Competitors!$A$2:$G$60,2,FALSE)=\"\",\"\",VLOOKUP($A27,Competitors!$A$2:$G$60,2,FALSE)))","v":"Nathan Senior"},{"$f":"IF($A27=\"\",\"\",IF(VLOOKUP($A27,Competitors!$A$2:$G$60,7,FALSE)=\"\",\"\",VLOOKUP($A27,Competitors!$A$2:$G$60,7,FALSE)))","v":""},{"$f":"IF($A27=\"\",\"\",IF(VLOOKUP($A27,Competitors!$A$2:$G$60,5,FALSE)=\"\",\"\",VLOOKUP($A27,Competitors!$A$2:$G$60,5,FALSE)))","v":""},{"$f":"IF($A27=\"\",\"\",IF(VLOOKUP($A27,Competitors!$A$2:$G$60,6,FALSE)=\"\",\"\",VLOOKUP($A27,Competitors!$A$2:$G$60,6,FALSE)))","v":"senior"},{"$f":"IF($A27=\"\",\"\",IF(VLOOKUP($A27,Competitors!$A$2:$G$60,3,FALSE)=\"\",\"\",VLOOKUP($A27,Competitors!$A$2:$G$60,3,FALSE)))","v":""},{"$f":"IF($A27=\"\",\"\",IF(VLOOKUP($A27,Competitors!$A$2:$G$60,4,FALSE)=\"\",\"\",VLOOKUP($A27,Competitors!$A$2:$G$60,4,FALSE)))","v":""},{"$f":"IF(VLOOKUP(A27,Competitors!$A$1:$H$41,8,FALSE)=\"\",\"\",VLOOKUP(A27,Competitors!$A$1:$H$41,8,FALSE))","v":""},{"$f":"IF(IFERROR(VLOOKUP(($B$2&\"_\"&$A27),'Time Entry Sheet'!$A$3:$I$499,9,0),\"Error\")=\"Error\",\"\",IF(VLOOKUP(($B$2&\"_\"&$A27),'Time Entry Sheet'!$A$3:$I$499,9,FALSE)=\"wd\",\"wd\",VLOOKUP(($B$2&\"_\"&$A27),'Time Entry Sheet'!$A$3:$I$499,9,FALSE)*1))","v":""},"",{"$f":"IF(IFERROR(VLOOKUP(($B$2&\"_\"&$A27),'Time Entry Sheet'!$A$3:$I$499,8,FALSE),\"Error\")=\"Error\",\"\",IF(VLOOKUP(($B$2&\"_\"&$A27),'Time Entry Sheet'!$A$3:$I$499,8,FALSE)=\"\",\"\",VLOOKUP(($B$2&\"_\"&$A27),'Time Entry Sheet'!$A$3:$I$499,8,FALSE)))","v":""},{"$f":"IF(IFERROR(VLOOKUP(($B$2&\"_\"&$A27),'Time Entry Sheet'!$A$3:$I$499,7,FALSE),\"Error\")=\"Error\",\"\",IF(VLOOKUP(($B$2&\"_\"&$A27),'Time Entry Sheet'!$A$3:$I$499,7,FALSE)=\"\",\"\",VLOOKUP(($B$2&\"_\"&$A27),'Time Entry Sheet'!$A$3:$I$499,7,FALSE)))","v":""},"00:00:10","00:00:10",1,{"$f":"IF(A27=\"\",\"\",M27+VLOOKUP(A27,'Test 14'!$A$12:$Q$51,16,FALSE))","v":"00:12:11.190"},7,null,"","00:12:11.190"]
[17,{"$f":"IF($A28=\"\",\"\",IF(VLOOKUP($A28,Competitors!$A$2:$G$60,2,FALSE)=\"\",\"\",VLOOKUP($A28,Competitors!$A$2:$G$60,2,FALSE)))","v":"Reece McIntosh"},{"$f":"IF($A28=\"\",\"\",IF(VLOOKUP($A28,Competitors!$A$2:$G$60,7,FALSE)=\"\",\"\",VLOOKUP($A28,Competitors!$A$2:$G$60,7,FALSE)))","v":""},{"$f":"IF($A28=\"\",\"\",IF(VLOOKUP($A28,Competitors!$A$2:$G$60,5,FALSE)=\"\",\"\",VLOOKUP($A28,Competitors!$A$2:$G$60,5,FALSE)))","v":""},{"$f":"IF($A28=\"\",\"\",IF(VLOOKUP($A28,Competitors!$A$2:$G$60,6,FALSE)=\"\",\"\",VLOOKUP($A28,Competitors!$A$2:$G$60,6,FALSE)))","v":"senior"},{"$f":"IF($A28=\"\",\"\",IF(VLOOKUP($A28,Competitors!$A$2:$G$60,3,FALSE)=\"\",\"\",VLOOKUP($A28,Competitors!$A$2:$G$60,3,FALSE)))","v":""},{"$f":"IF($A28=\"\",\"\",IF(VLOOKUP($A28,Competitors!$A$2:$G$60,4,FALSE)=\"\",\"\",VLOOKUP($A28,Competitors!$A$2:$G$60,4,FALSE)))","v":""},{"$f":"IF(VLOOKUP(A28,Competitors!$A$1:$H$41,8,FALSE)=\"\",\"\",VLOOKUP(A28,Competitors!$A$1:$H$41,8,FALSE))","v":""},{"$f":"IF(IFERROR(VLOOKUP(($B$2&\"_\"&$A28),'Time Entry Sheet'!$A$3:$I$499,9,0),\"Error\")=\"Error\",\"\",IF(VLOOKUP(($B$2&\"_\"&$A28),'Time Entry Sheet'!$A$3:$I$499,9,FALSE)=\"wd\",\"wd\",VLOOKUP(($B$2&\"_\"&$A28),'Time Entry Sheet'!$A$3:$I$499,9,FALSE)*1))","v":""},"",{"$f":"IF(IFERROR(VLOOKUP(($B$2&\"_\"&$A28),'Time Entry Sheet'!$A$3:$I$499,8,FALSE),\"Error\")=\"Error\",\"\",IF(VLOOKUP(($B$2&\"_\"&$A28),'Time Entry Sheet'!$A$3:$I$499,8,FALSE)=\"\",\"\",VLOOKUP(($B$2&\"_\"&$A28),'Time Entry Sheet'!$A$3:$I$499,8,FALSE)))","v":""},{"$f":"IF(IFERROR(VLOOKUP(($B$2&\"_\"&$A28),'Time Entry Sheet'!$A$3:$I$499,7,FALSE),\"Error\")=\"Error\",\"\",IF(VLOOKUP(($B$2&\"_\"&$A28),'Time Entry Sheet'!$A$3:$I$499,7,FALSE)=\"\",\"\",VLOOKUP(($B$2&\"_\"&$A28),'Time Entry Sheet'!$A$3:$I$499,7,FALSE)))","v":""},"00:00:10","00:00:10",1,{"$f":"IF(A28=\"\",\"\",M28+VLOOKUP(A28,'Test 14'!$A$12:$Q$51,16,FALSE))","v":"00:10:50.300"},1,null,"","00:10:50.300"]
[18,{"$f":"IF($A29=\"\",\"\",IF(VLOOKUP($A29,Competitors!$A$2:$G$60,2,FALSE)=\"\",\"\",VLOOKUP($A29,Competitors!$A$2:$G$60,2,FALSE)))","v":"Jack Stanley"},{"$f":"IF($A29=\"\",\"\",IF(VLOOKUP($A29,Competitors!$A$2:$G$60,7,FALSE)=\"\",\"\",VLOOKUP($A29,Competitors!$A$2:$G$60,7,FALSE)))","v":"rookie"},{"$f":"IF($A29=\"\",\"\",IF(VLOOKUP($A29,Competitors!$A$2:$G$60,5,FALSE)=\"\",\"\",VLOOKUP($A29,Competitors!$A$2:$G$60,5,FALSE)))","v":""},{"$f":"IF($A29=\"\",\"\",IF(VLOOKUP($A29,Competitors!$A$2:$G$60,6,FALSE)=\"\",\"\",VLOOKUP($A29,Competitors!$A$2:$G$60,6,FALSE)))","v":"senior"},{"$f":"IF($A29=\"\",\"\",IF(VLOOKUP($A29,Competitors!$A$2:$G$60,3,FALSE)=\"\",\"\",VLOOKUP($A29,Competitors!$A$2:$G$60,3,FALSE)))","v":""},{"$f":"IF($A29=\"\",\"\",IF(VLOOKUP($A29,Competitors!$A$2:$G$60,4,FALSE)=\"\",\"\",VLOOKUP($A29,Competitors!$A$2:$G$60,4,FALSE)))","v":""},{"$f":"IF(VLOOKUP(A29,Competitors!$A$1:$H$41,8,FALSE)=\"\",\"\",VLOOKUP(A29,Competitors!$A$1:$H$41,8,FALSE))","v":""},{"$f":"IF(IFERROR(VLOOKUP(($B$2&\"_\"&$A29),'Time Entry Sheet'!$A$3:$I$499,9,0),\"Error\")=\"Error\",\"\",IF(VLOOKUP(($B$2&\"_\"&$A29),'Time Entry Sheet'!$A$3:$I$499,9,FALSE)=\"wd\",\"wd\",VLOOKUP(($B$2&\"_\"&$A29),'Time Entry Sheet'!$A$3:$I$499,9,FALSE)*1))","v":""},"",{"$f":"IF(IFERROR(VLOOKUP(($B$2&\"_\"&$A29),'Time Entry Sheet'!$A$3:$I$499,8,FALSE),\"Error\")=\"Error\",\"\",IF(VLOOKUP(($B$2&\"_\"&$A29),'Time Entry Sheet'!$A$3:$I$499,8,FALSE)=\"\",\"\",VLOOKUP(($B$2&\"_\"&$A29),'Time Entry Sheet'!$A$3:$I$499,8,FALSE)))","v":""},{"$f":"IF(IFERROR(VLOOKUP(($B$2&\"_\"&$A29),'Time Entry Sheet'!$A$3:$I$499,7,FALSE),\"Error\")=\"Error\",\"\",IF(VLOOKUP(($B$2&\"_\"&$A29),'Time Entry Sheet'!$A$3:$I$499,7,FALSE)=\"\",\"\",VLOOKUP(($B$2&\"_\"&$A29),'Time Entry Sheet'!$A$3:$I$499,7,FALSE)))","v":""},"00:00:10","00:00:10",1,{"$f":"IF(A29=\"\",\"\",M29+VLOOKUP(A29,'Test 14'!$A$12:$Q$51,16,FALSE))","v":"00:13:39.100"},17,null,"","00:13:39.100"]
[19,{"$f":"IF($A30=\"\",\"\",IF(VLOOKUP($A30,Competitors!$A$2:$G$60,2,FALSE)=\"\",\"\",VLOOKUP($A30,Competitors!$A$2:$G$60,2,FALSE)))","v":"Christopher Northey"},{"$f":"IF($A30=\"\",\"\",IF(VLOOKUP($A30,Competitors!$A$2:$G$60,7,FALSE)=\"\",\"\",VLOOKUP($A30,Competitors!$A$2:$G$60,7,FALSE)))","v":""},{"$f":"IF($A30=\"\",\"\",IF(VLOOKUP($A30,Competitors!$A$2:$G$60,5,FALSE)=\"\",\"\",VLOOKUP($A30,Competitors!$A$2:$G$60,5,FALSE)))","v":""},{"$f":"IF($A30=\"\",\"\",IF(VLOOKUP($A30,Competitors!$A$2:$G$60,6,FALSE)=\"\",\"\",VLOOKUP($A30,Competitors!$A$2:$G$60,6,FALSE)))","v":"senior"},{"$f":"IF($A30=\"\",\"\",IF(VLOOKUP($A30,Competitors!$A$2:$G$60,3,FALSE)=\"\",\"\",VLOOKUP($A30,Competitors!$A$2:$G$60,3,FALSE)))","v":""},{"$f":"IF($A30=\"\",\"\",IF(VLOOKUP($A30,Competitors!$A$2:$G$60,4,FALSE)=\"\",\"\",VLOOKUP($A30,Competitors!$A$2:$G$60,4,FALSE)))","v":""},{"$f":"IF(VLOOKUP(A30,Competitors!$A$1:$H$41,8,FALSE)=\"\",\"\",VLOOKUP(A30,Competitors!$A$1:$H$41,8,FALSE))","v":""},{"$f":"IF(IFERROR(VLOOKUP(($B$2&\"_\"&$A30),'Time Entry Sheet'!$A$3:$I$499,9,0),\"Error\")=\"Error\",\"\",IF(VLOOKUP(($B$2&\"_\"&$A30),'Time Entry Sheet'!$A$3:$I$499,9,FALSE)=\"wd\",\"wd\",VLOOKUP(($B$2&\"_\"&$A30),'Time Entry Sheet'!$A$3:$I$499,9,FALSE)*1))","v":""},{"$f":"IF(E30=\"Junior\",\"\",IF(I30=\"wd\",\"\",IF(K30<>\"\",\"\",I30)))","v":""},{"$f":"IF(IFERROR(VLOOKUP(($B$2&\"_\"&$A30),'Time Entry Sheet'!$A$3:$I$499,8,FALSE),\"Error\")=\"Error\",\"\",IF(VLOOKUP(($B$2&\"_\"&$A30),'Time Entry Sheet'!$A$3:$I$499,8,FALSE)=\"\",\"\",VLOOKUP(($B$2&\"_\"&$A30),'Time Entry Sheet'!$A$3:$I$499,8,FALSE)))","v":""},{"$f":"IF(IFERROR(VLOOKUP(($B$2&\"_\"&$A30),'Time Entry Sheet'!$A$3:$I$499,7,FALSE),\"Error\")=\"Error\",\"\",IF(VLOOKUP(($B$2&\"_\"&$A30),'Time Entry Sheet'!$A$3:$I$499,7,FALSE)=\"\",\"\",VLOOKUP(($B$2&\"_\"&$A30),'Time Entry Sheet'!$A$3:$I$499,7,FALSE)))","v":""},{"$f":"IF(A30=\"\",\"\",IF(I30=\"wd\",IF(E30=\"Senior\",$B$7,$C$7),IF(L30<>\"\",$B$7,IF(I30=\"\",IF(E30=\"Senior\",$B$8,$C$8),IF(K30=\"\",I30,I30+($B$5*K30))))))","v":"00:00:10"},{"$f":"IF(H30=\"Passenger\",\"\",M30)","v":"00:00:10"},{"$f":"IF(A30=\"\",\"\",IF(H30=\"Passenger\",\"P\",RANK(N30,$N$12:$N$51,1)))","v":1},{"$f":"IF(A30=\"\",\"\",M30+VLOOKUP(A30,'Test 14'!$A$12:$Q$51,16,FALSE))","v":"00:12:21.920"},{"$f":"IF(A30=\"\",\"\",IF(H30=\"Passenger\",\"P\",RANK(T30,$T$12:$T$51,1)))","v":9},null,{"$f":"IF(E30=\"Senior\",\"\",IF(I30=\"wd\",\"\",IF(K30<>\"\",\"\",I30)))","v":""},{"$f":"IF(H30=\"Passenger\",\"\",P30)","v":"00:12:21.920"}]
[20,{"$f":"IF($A31=\"\",\"\",IF(VLOOKUP($A31,Competitors!$A$2:$G$60,2,FALSE)=\"\",\"\",VLOOKUP($A31,Competitors!$A$2:$G$60,2,FALSE)))","v":"Ray Lampl"},{"$f":"IF($A31=\"\",\"\",IF(VLOOKUP($A31,Competitors!$A$2:$G$60,7,FALSE)=\"\",\"\",VLOOKUP($A31,Competitors!$A$2:$G$60,7,FALSE)))","v":""},{"$f":"IF($A31=\"\",\"\",IF(VLOOKUP($A31,Competitors!$A$2:$G$60,5,FALSE)=\"\",\"\",VLOOKUP($A31,Competitors!$A$2:$G$60,5,FALSE)))","v":""},{"$f":"IF($A31=\"\",\"\",IF(VLOOKUP($A31,Competitors!$A$2:$G$60,6,FALSE)=\"\",\"\",VLOOKUP($A31,Competitors!$A$2:$G$60,6,FALSE)))","v":"senior"},{"$f":"IF($A31=\"\",\"\",IF(VLOOKUP($A31,Competitors!$A$2:$G$60,3,FALSE)=\"\",\"\",VLOOKUP($A31,Competitors!$A$2:$G$60,3,FALSE)))","v":""},{"$f":"IF($A31=\"\",\"\",IF(VLOOKUP($A31,Competitors!$A$2:$G$60,4,FALSE)=\"\",\"\",VLOOKUP($A31,Competitors!$A$2:$G$60,4,FALSE)))","v":""},{"$f":"IF(VLOOKUP(A31,Competitors!$A$1:$H$41,8,FALSE)=\"\",\"\",VLOOKUP(A31,Competitors!$A$1:$H$41,8,FALSE))","v":""},{"$f":"IF(IFERROR(VLOOKUP(($B$2&\"_\"&$A31),'Time Entry Sheet'!$A$3:$I$499,9,0),\"Error\")=\"Error\",\"\",IF(VLOOKUP(($B$2&\"_\"&$A31),'Time Entry Sheet'!$A$3:$I$499,9,FALSE)=\"wd\",\"wd\",VLOOKUP(($B$2&\"_\"&$A31),'Time Entry Sheet'!$A$3:$I$499,9,FALSE)*1))","v":""},"",{"$f":"IF(IFERROR(VLOOKUP(($B$2&\"_\"&$A31),'Time Entry Sheet'!$A$3:$I$499,8,FALSE),\"Error\")=\"Error\",\"\",IF(VLOOKUP(($B$2&\"_\"&$A31),'Time Entry Sheet'!$A$3:$I$499,8,FALSE)=\"\",\"\",VLOOKUP(($B$2&\"_\"&$A31),'Time Entry Sheet'!$A$3:$I$499,8,FALSE)))","v":""},{"$f":"IF(IFERROR(VLOOKUP(($B$2&\"_\"&$A31),'Time Entry Sheet'!$A$3:$I$499,7,FALSE),\"Error\")=\"Error\",\"\",IF(VLOOKUP(($B$2&\"_\"&$A31),'Time Entry Sheet'!$A$3:$I$499,7,FALSE)=\"\",\"\",VLOOKUP(($B$2&\"_\"&$A31),'Time Entry Sheet'!$A$3:$I$499,7,FALSE)))","v":""},"00:00:10","00:00:10",1,{"$f":"IF(A31=\"\",\"\",M31+VLOOKUP(A31,'Test 14'!$A$12:$Q$51,16,FALSE))","v":"00:11:53.110"},6,null,"","00:11:53.110"]
[21,{"$f":"IF($A32=\"\",\"\",IF(VLOOKUP($A32,Competitors!$A$2:$G$60,2,FALSE)=\"\",\"\",VLOOKUP($A32,Competitors!$A$2:$G$60,2,FALSE)))","v":""},{"$f":"IF($A32=\"\",\"\",IF(VLOOKUP($A32,Competitors!$A$2:$G$60,7,FALSE)=\"\",\"\",VLOOKUP($A32,Competitors!$A$2:$G$60,7,FALSE)))","v":""},{"$f":"IF($A32=\"\",\"\",IF(VLOOKUP($A32,Competitors!$A$2:$G$60,5,FALSE)=\"\",\"\",VLOOKUP($A32,Competitors!$A$2:$G$60,5,FALSE)))","v":""},{"$f":"IF($A32=\"\",\"\",IF(VLOOKUP($A32,Competitors!$A$2:$G$60,6,FALSE)=\"\",\"\",VLOOKUP($A32,Competitors!$A$2:$G$60,6,FALSE)))","v":"senior"},{"$f":"IF($A32=\"\",\"\",IF(VLOOKUP($A32,Competitors!$A$2:$G$60,3,FALSE)=\"\",\"\",VLOOKUP($A32,Competitors!$A$2:$G$60,3,FALSE)))","v":""},{"$f":"IF($A32=\"\",\"\",IF(VLOOKUP($A32,Competitors!$A$2:$G$60,4,FALSE)=\"\",\"\",VLOOKUP($A32,Competitors!$A$2:$G$60,4,FALSE)))","v":""},{"$f":"IF(VLOOKUP(A32,Competitors!$A$1:$H$41,8,FALSE)=\"\",\"\",VLOOKUP(A32,Competitors!$A$1:$H$41,8,FALSE))","v":""},{"$f":"IF(IFERROR(VLOOKUP(($B$2&\"_\"&$A32),'Time Entry Sheet'!$A$3:$I$499,9,0),\"Error\")=\"Error\",\"\",IF(VLOOKUP(($B$2&\"_\"&$A32),'Time Entry Sheet'!$A$3:$I$499,9,FALSE)=\"wd\",\"wd\",VLOOKUP(($B$2&\"_\"&$A32),'Time Entry Sheet'!$A$3:$I$499,9,FALSE)*1))","v":""},"",{"$f":"IF(IFERROR(VLOOKUP(($B$2&\"_\"&$A32),'Time Entry Sheet'!$A$3:$I$499,8,FALSE),\"Error\")=\"Error\",\"\",IF(VLOOKUP(($B$2&\"_\"&$A32),'Time Entry Sheet'!$A$3:$I$499,8,FALSE)=\"\",\"\",VLOOKUP(($B$2&\"_\"&$A32),'Time Entry Sheet'!$A$3:$I$499,8,FALSE)))","v":""},{"$f":"IF(IFERROR(VLOOKUP(($B$2&\"_\"&$A32),'Time Entry Sheet'!$A$3:$I$499,7,FALSE),\"Error\")=\"Error\",\"\",IF(VLOOKUP(($B$2&\"_\"&$A32),'Time Entry Sheet'!$A$3:$I$499,7,FALSE)=\"\",\"\",VLOOKUP(($B$2&\"_\"&$A32),'Time Entry Sheet'!$A$3:$I$499,7,FALSE)))","v":""},"00:00:10","00:00:10",1,{"$f":"IF(A32=\"\",\"\",M32+VLOOKUP(A32,'Test 14'!$A$12:$Q$51,16,FALSE))","v":"00:16:12.230"},20,null,"","00:16:12.230"]
[22,{"$f":"IF($A33=\"\",\"\",IF(VLOOKUP($A33,Competitors!$A$2:$G$60,2,FALSE)=\"\",\"\",VLOOKUP($A33,Competitors!$A$2:$G$60,2,FALSE)))","v":""},{"$f":"IF($A33=\"\",\"\",IF(VLOOKUP($A33,Competitors!$A$2:$G$60,7,FALSE)=\"\",\"\",VLOOKUP($A33,Competitors!$A$2:$G$60,7,FALSE)))","v":""},{"$f":"IF($A33=\"\",\"\",IF(VLOOKUP($A33,Competitors!$A$2:$G$60,5,FALSE)=\"\",\"\",VLOOKUP($A33,Competitors!$A$2:$G$60,5,FALSE)))","v":""},{"$f":"IF($A33=\"\",\"\",IF(VLOOKUP($A33,Competitors!$A$2:$G$60,6,FALSE)=\"\",\"\",VLOOKUP($A33,Competitors!$A$2:$G$60,6,FALSE)))","v":"senior"},{"$f":"IF($A33=\"\",\"\",IF(VLOOKUP($A33,Competitors!$A$2:$G$60,3,FALSE)=\"\",\"\",VLOOKUP($A33,Competitors!$A$2:$G$60,3,FALSE)))","v":""},{"$f":"IF($A33=\"\",\"\",IF(VLOOKUP($A33,Competitors!$A$2:$G$60,4,FALSE)=\"\",\"\",VLOOKUP($A33,Competitors!$A$2:$G$60,4,FALSE)))","v":""},{"$f":"IF(VLOOKUP(A33,Competitors!$A$1:$H$41,8,FALSE)=\"\",\"\",VLOOKUP(A33,Competitors!$A$1:$H$41,8,FALSE))","v":""},{"$f":"IF(IFERROR(VLOOKUP(($B$2&\"_\"&$A33),'Time Entry Sheet'!$A$3:$I$499,9,0),\"Error\")=\"Error\",\"\",IF(VLOOKUP(($B$2&\"_\"&$A33),'Time Entry Sheet'!$A$3:$I$499,9,FALSE)=\"wd\",\"wd\",VLOOKUP(($B$2&\"_\"&$A33),'Time Entry Sheet'!$A$3:$I$499,9,FALSE)*1))","v":""},"",{"$f":"IF(IFERROR(VLOOKUP(($B$2&\"_\"&$A33),'Time Entry Sheet'!$A$3:$I$499,8,FALSE),\"Error\")=\"Error\",\"\",IF(VLOOKUP(($B$2&\"_\"&$A33),'Time Entry Sheet'!$A$3:$I$499,8,FALSE)=\"\",\"\",VLOOKUP(($B$2&\"_\"&$A33),'Time Entry Sheet'!$A$3:$I$499,8,FALSE)))","v":""},{"$f":"IF(IFERROR(VLOOKUP(($B$2&\"_\"&$A33),'Time Entry Sheet'!$A$3:$I$499,7,FALSE),\"Error\")=\"Error\",\"\",IF(VLOOKUP(($B$2&\"_\"&$A33),'Time Entry Sheet'!$A$3:$I$499,7,FALSE)=\"\",\"\",VLOOKUP(($B$2&\"_\"&$A33),'Time Entry Sheet'!$A$3:$I$499,7,FALSE)))","v":""},"00:00:10","00:00:10",1,{"$f":"IF(A33=\"\",\"\",M33+VLOOKUP(A33,'Test 14'!$A$12:$Q$51,16,FALSE))","v":"00:16:12.230"},20,null,"","00:16:12.230"]
[23,{"$f":"IF($A34=\"\",\"\",IF(VLOOKUP($A34,Competitors!$A$2:$G$60,2,FALSE)=\"\",\"\",VLOOKUP($A34,Competitors!$A$2:$G$60,2,FALSE)))","v":""},{"$f":"IF($A34=\"\",\"\",IF(VLOOKUP($A34,Competitors!$A$2:$G$60,7,FALSE)=\"\",\"\",VLOOKUP($A34,Competitors!$A$2:$G$60,7,FALSE)))","v":""},{"$f":"IF($A34=\"\",\"\",IF(VLOOKUP($A34,Competitors!$A$2:$G$60,5,FALSE)=\"\",\"\",VLOOKUP($A34,Competitors!$A$2:$G$60,5,FALSE)))","v":""},{"$f":"IF($A34=\"\",\"\",IF(VLOOKUP($A34,Competitors!$A$2:$G$60,6,FALSE)=\"\",\"\",VLOOKUP($A34,Competitors!$A$2:$G$60,6,FALSE)))","v":"senior"},{"$f":"IF($A34=\"\",\"\",IF(VLOOKUP($A34,Competitors!$A$2:$G$60,3,FALSE)=\"\",\"\",VLOOKUP($A34,Competitors!$A$2:$G$60,3,FALSE)))","v":""},{"$f":"IF($A34=\"\",\"\",IF(VLOOKUP($A34,Competitors!$A$2:$G$60,4,FALSE)=\"\",\"\",VLOOKUP($A34,Competitors!$A$2:$G$60,4,FALSE)))","v":""},{"$f":"IF(VLOOKUP(A34,Competitors!$A$1:$H$41,8,FALSE)=\"\",\"\",VLOOKUP(A34,Competitors!$A$1:$H$41,8,FALSE))","v":""},{"$f":"IF(IFERROR(VLOOKUP(($B$2&\"_\"&$A34),'Time Entry Sheet'!$A$3:$I$499,9,0),\"Error\")=\"Error\",\"\",IF(VLOOKUP(($B$2&\"_\"&$A34),'Time Entry Sheet'!$A$3:$I$499,9,FALSE)=\"wd\",\"wd\",VLOOKUP(($B$2&\"_\"&$A34),'Time Entry Sheet'!$A$3:$I$499,9,FALSE)*1))","v":""},"",{"$f":"IF(IFERROR(VLOOKUP(($B$2&\"_\"&$A34),'Time Entry Sheet'!$A$3:$I$499,8,FALSE),\"Error\")=\"Error\",\"\",IF(VLOOKUP(($B$2&\"_\"&$A34),'Time Entry Sheet'!$A$3:$I$499,8,FALSE)=\"\",\"\",VLOOKUP(($B$2&\"_\"&$A34),'Time Entry Sheet'!$A$3:$I$499,8,FALSE)))","v":""},{"$f":"IF(IFERROR(VLOOKUP(($B$2&\"_\"&$A34),'Time Entry Sheet'!$A$3:$I$499,7,FALSE),\"Error\")=\"Error\",\"\",IF(VLOOKUP(($B$2&\"_\"&$A34),'Time Entry Sheet'!$A$3:$I$499,7,FALSE)=\"\",\"\",VLOOKUP(($B$2&\"_\"&$A34),'Time Entry Sheet'!$A$3:$I$499,7,FALSE)))","v":""},"00:00:10","00:00:10",1,{"$f":"IF(A34=\"\",\"\",M34+VLOOKUP(A34,'Test 14'!$A$12:$Q$51,16,FALSE))","v":"00:16:12.230"},20,null,"","00:16:12.230"]
[24,{"$f":"IF($A35=\"\",\"\",IF(VLOOKUP($A35,Competitors!$A$2:$G$60,2,FALSE)=\"\",\"\",VLOOKUP($A35,Competitors!$A$2:$G$60,2,FALSE)))","v":""},{"$f":"IF($A35=\"\",\"\",IF(VLOOKUP($A35,Competitors!$A$2:$G$60,7,FALSE)=\"\",\"\",VLOOKUP($A35,Competitors!$A$2:$G$60,7,FALSE)))","v":""},{"$f":"IF($A35=\"\",\"\",IF(VLOOKUP($A35,Competitors!$A$2:$G$60,5,FALSE)=\"\",\"\",VLOOKUP($A35,Competitors!$A$2:$G$60,5,FALSE)))","v":""},{"$f":"IF($A35=\"\",\"\",IF(VLOOKUP($A35,Competitors!$A$2:$G$60,6,FALSE)=\"\",\"\",VLOOKUP($A35,Competitors!$A$2:$G$60,6,FALSE)))","v":"senior"},{"$f":"IF($A35=\"\",\"\",IF(VLOOKUP($A35,Competitors!$A$2:$G$60,3,FALSE)=\"\",\"\",VLOOKUP($A35,Competitors!$A$2:$G$60,3,FALSE)))","v":""},{"$f":"IF($A35=\"\",\"\",IF(VLOOKUP($A35,Competitors!$A$2:$G$60,4,FALSE)=\"\",\"\",VLOOKUP($A35,Competitors!$A$2:$G$60,4,FALSE)))","v":""},{"$f":"IF(VLOOKUP(A35,Competitors!$A$1:$H$41,8,FALSE)=\"\",\"\",VLOOKUP(A35,Competitors!$A$1:$H$41,8,FALSE))","v":""},{"$f":"IF(IFERROR(VLOOKUP(($B$2&\"_\"&$A35),'Time Entry Sheet'!$A$3:$I$499,9,0),\"Error\")=\"Error\",\"\",IF(VLOOKUP(($B$2&\"_\"&$A35),'Time Entry Sheet'!$A$3:$I$499,9,FALSE)=\"wd\",\"wd\",VLOOKUP(($B$2&\"_\"&$A35),'Time Entry Sheet'!$A$3:$I$499,9,FALSE)*1))","v":""},"",{"$f":"IF(IFERROR(VLOOKUP(($B$2&\"_\"&$A35),'Time Entry Sheet'!$A$3:$I$499,8,FALSE),\"Error\")=\"Error\",\"\",IF(VLOOKUP(($B$2&\"_\"&$A35),'Time Entry Sheet'!$A$3:$I$499,8,FALSE)=\"\",\"\",VLOOKUP(($B$2&\"_\"&$A35),'Time Entry Sheet'!$A$3:$I$499,8,FALSE)))","v":""},{"$f":"IF(IFERROR(VLOOKUP(($B$2&\"_\"&$A35),'Time Entry Sheet'!$A$3:$I$499,7,FALSE),\"Error\")=\"Error\",\"\",IF(VLOOKUP(($B$2&\"_\"&$A35),'Time Entry Sheet'!$A$3:$I$499,7,FALSE)=\"\",\"\",VLOOKUP(($B$2&\"_\"&$A35),'Time Entry Sheet'!$A$3:$I$499,7,FALSE)))","v":""},"00:00:10","00:00:10",1,{"$f":"IF(A35=\"\",\"\",M35+VLOOKUP(A35,'Test 14'!$A$12:$Q$51,16,FALSE))","v":"00:16:12.230"},20,null,"","00:16:12.230"]
[25,{"$f":"IF($A36=\"\",\"\",IF(VLOOKUP($A36,Competitors!$A$2:$G$60,2,FALSE)=\"\",\"\",VLOOKUP($A36,Competitors!$A$2:$G$60,2,FALSE)))","v":""},{"$f":"IF($A36=\"\",\"\",IF(VLOOKUP($A36,Competitors!$A$2:$G$60,7,FALSE)=\"\",\"\",VLOOKUP($A36,Competitors!$A$2:$G$60,7,FALSE)))","v":""},{"$f":"IF($A36=\"\",\"\",IF(VLOOKUP($A36,Competitors!$A$2:$G$60,5,FALSE)=\"\",\"\",VLOOKUP($A36,Competitors!$A$2:$G$60,5,FALSE)))","v":""},{"$f":"IF($A36=\"\",\"\",IF(VLOOKUP($A36,Competitors!$A$2:$G$60,6,FALSE)=\"\",\"\",VLOOKUP($A36,Competitors!$A$2:$G$60,6,FALSE)))","v":"senior"},{"$f":"IF($A36=\"\",\"\",IF(VLOOKUP($A36,Competitors!$A$2:$G$60,3,FALSE)=\"\",\"\",VLOOKUP($A36,Competitors!$A$2:$G$60,3,FALSE)))","v":""},{"$f":"IF($A36=\"\",\"\",IF(VLOOKUP($A36,Competitors!$A$2:$G$60,4,FALSE)=\"\",\"\",VLOOKUP($A36,Competitors!$A$2:$G$60,4,FALSE)))","v":""},{"$f":"IF(VLOOKUP(A36,Competitors!$A$1:$H$41,8,FALSE)=\"\",\"\",VLOOKUP(A36,Competitors!$A$1:$H$41,8,FALSE))","v":""},{"$f":"IF(IFERROR(VLOOKUP(($B$2&\"_\"&$A36),'Time Entry Sheet'!$A$3:$I$499,9,0),\"Error\")=\"Error\",\"\",IF(VLOOKUP(($B$2&\"_\"&$A36),'Time Entry Sheet'!$A$3:$I$499,9,FALSE)=\"wd\",\"wd\",VLOOKUP(($B$2&\"_\"&$A36),'Time Entry Sheet'!$A$3:$I$499,9,FALSE)*1))","v":""},"",{"$f":"IF(IFERROR(VLOOKUP(($B$2&\"_\"&$A36),'Time Entry Sheet'!$A$3:$I$499,8,FALSE),\"Error\")=\"Error\",\"\",IF(VLOOKUP(($B$2&\"_\"&$A36),'Time Entry Sheet'!$A$3:$I$499,8,FALSE)=\"\",\"\",VLOOKUP(($B$2&\"_\"&$A36),'Time Entry Sheet'!$A$3:$I$499,8,FALSE)))","v":""},{"$f":"IF(IFERROR(VLOOKUP(($B$2&\"_\"&$A36),'Time Entry Sheet'!$A$3:$I$499,7,FALSE),\"Error\")=\"Error\",\"\",IF(VLOOKUP(($B$2&\"_\"&$A36),'Time Entry Sheet'!$A$3:$I$499,7,FALSE)=\"\",\"\",VLOOKUP(($B$2&\"_\"&$A36),'Time Entry Sheet'!$A$3:$I$499,7,FALSE)))","v":""},"00:00:10","00:00:10",1,{"$f":"IF(A36=\"\",\"\",M36+VLOOKUP(A36,'Test 14'!$A$12:$Q$51,16,FALSE))","v":"00:16:12.230"},20,null,"","00:16:12.230"]
[26,{"$f":"IF($A37=\"\",\"\",IF(VLOOKUP($A37,Competitors!$A$2:$G$60,2,FALSE)=\"\",\"\",VLOOKUP($A37,Competitors!$A$2:$G$60,2,FALSE)))","v":""},{"$f":"IF($A37=\"\",\"\",IF(VLOOKUP($A37,Competitors!$A$2:$G$60,7,FALSE)=\"\",\"\",VLOOKUP($A37,Competitors!$A$2:$G$60,7,FALSE)))","v":""},{"$f":"IF($A37=\"\",\"\",IF(VLOOKUP($A37,Competitors!$A$2:$G$60,5,FALSE)=\"\",\"\",VLOOKUP($A37,Competitors!$A$2:$G$60,5,FALSE)))","v":""},{"$f":"IF($A37=\"\",\"\",IF(VLOOKUP($A37,Competitors!$A$2:$G$60,6,FALSE)=\"\",\"\",VLOOKUP($A37,Competitors!$A$2:$G$60,6,FALSE)))","v":"senior"},{"$f":"IF($A37=\"\",\"\",IF(VLOOKUP($A37,Competitors!$A$2:$G$60,3,FALSE)=\"\",\"\",VLOOKUP($A37,Competitors!$A$2:$G$60,3,FALSE)))","v":""},{"$f":"IF($A37=\"\",\"\",IF(VLOOKUP($A37,Competitors!$A$2:$G$60,4,FALSE)=\"\",\"\",VLOOKUP($A37,Competitors!$A$2:$G$60,4,FALSE)))","v":""},{"$f":"IF(VLOOKUP(A37,Competitors!$A$1:$H$41,8,FALSE)=\"\",\"\",VLOOKUP(A37,Competitors!$A$1:$H$41,8,FALSE))","v":""},{"$f":"IF(IFERROR(VLOOKUP(($B$2&\"_\"&$A37),'Time Entry Sheet'!$A$3:$I$499,9,0),\"Error\")=\"Error\",\"\",IF(VLOOKUP(($B$2&\"_\"&$A37),'Time Entry Sheet'!$A$3:$I$499,9,FALSE)=\"wd\",\"wd\",VLOOKUP(($B$2&\"_\"&$A37),'Time Entry Sheet'!$A$3:$I$499,9,FALSE)*1))","v":""},"",{"$f":"IF(IFERROR(VLOOKUP(($B$2&\"_\"&$A37),'Time Entry Sheet'!$A$3:$I$499,8,FALSE),\"Error\")=\"Error\",\"\",IF(VLOOKUP(($B$2&\"_\"&$A37),'Time Entry Sheet'!$A$3:$I$499,8,FALSE)=\"\",\"\",VLOOKUP(($B$2&\"_\"&$A37),'Time Entry Sheet'!$A$3:$I$499,8,FALSE)))","v":""},{"$f":"IF(IFERROR(VLOOKUP(($B$2&\"_\"&$A37),'Time Entry Sheet'!$A$3:$I$499,7,FALSE),\"Error\")=\"Error\",\"\",IF(VLOOKUP(($B$2&\"_\"&$A37),'Time Entry Sheet'!$A$3:$I$499,7,FALSE)=\"\",\"\",VLOOKUP(($B$2&\"_\"&$A37),'Time Entry Sheet'!$A$3:$I$499,7,FALSE)))","v":""},"00:00:10","00:00:10",1,{"$f":"IF(A37=\"\",\"\",M37+VLOOKUP(A37,'Test 14'!$A$12:$Q$51,16,FALSE))","v":"00:16:12.230"},20,null,"","00:16:12.230"]
[27,{"$f":"IF($A38=\"\",\"\",IF(VLOOKUP($A38,Competitors!$A$2:$G$60,2,FALSE)=\"\",\"\",VLOOKUP($A38,Competitors!$A$2:$G$60,2,FALSE)))","v":""},{"$f":"IF($A38=\"\",\"\",IF(VLOOKUP($A38,Competitors!$A$2:$G$60,7,FALSE)=\"\",\"\",VLOOKUP($A38,Competitors!$A$2:$G$60,7,FALSE)))","v":""},{"$f":"IF($A38=\"\",\"\",IF(VLOOKUP($A38,Competitors!$A$2:$G$60,5,FALSE)=\"\",\"\",VLOOKUP($A38,Competitors!$A$2:$G$60,5,FALSE)))","v":""},{"$f":"IF($A38=\"\",\"\",IF(VLOOKUP($A38,Competitors!$A$2:$G$60,6,FALSE)=\"\",\"\",VLOOKUP($A38,Competitors!$A$2:$G$60,6,FALSE)))","v":"senior"},{"$f":"IF($A38=\"\",\"\",IF(VLOOKUP($A38,Competitors!$A$2:$G$60,3,FALSE)=\"\",\"\",VLOOKUP($A38,Competitors!$A$2:$G$60,3,FALSE)))","v":""},{"$f":"IF($A38=\"\",\"\",IF(VLOOKUP($A38,Competitors!$A$2:$G$60,4,FALSE)=\"\",\"\",VLOOKUP($A38,Competitors!$A$2:$G$60,4,FALSE)))","v":""},{"$f":"IF(VLOOKUP(A38,Competitors!$A$1:$H$41,8,FALSE)=\"\",\"\",VLOOKUP(A38,Competitors!$A$1:$H$41,8,FALSE))","v":""},{"$f":"IF(IFERROR(VLOOKUP(($B$2&\"_\"&$A38),'Time Entry Sheet'!$A$3:$I$499,9,0),\"Error\")=\"Error\",\"\",IF(VLOOKUP(($B$2&\"_\"&$A38),'Time Entry Sheet'!$A$3:$I$499,9,FALSE)=\"wd\",\"wd\",VLOOKUP(($B$2&\"_\"&$A38),'Time Entry Sheet'!$A$3:$I$499,9,FALSE)*1))","v":""},"",{"$f":"IF(IFERROR(VLOOKUP(($B$2&\"_\"&$A38),'Time Entry Sheet'!$A$3:$I$499,8,FALSE),\"Error\")=\"Error\",\"\",IF(VLOOKUP(($B$2&\"_\"&$A38),'Time Entry Sheet'!$A$3:$I$499,8,FALSE)=\"\",\"\",VLOOKUP(($B$2&\"_\"&$A38),'Time Entry Sheet'!$A$3:$I$499,8,FALSE)))","v":""},{"$f":"IF(IFERROR(VLOOKUP(($B$2&\"_\"&$A38),'Time Entry Sheet'!$A$3:$I$499,7,FALSE),\"Error\")=\"Error\",\"\",IF(VLOOKUP(($B$2&\"_\"&$A38),'Time Entry Sheet'!$A$3:$I$499,7,FALSE)=\"\",\"\",VLOOKUP(($B$2&\"_\"&$A38),'Time Entry Sheet'!$A$3:$I$499,7,FALSE)))","v":""},"00:00:10","00:00:10",1,{"$f":"IF(A38=\"\",\"\",M38+VLOOKUP(A38,'Test 14'!$A$12:$Q$51,16,FALSE))","v":"00:16:12.230"},20,null,"","00:16:12.230"]
[28,{"$f":"IF($A39=\"\",\"\",IF(VLOOKUP($A39,Competitors!$A$2:$G$60,2,FALSE)=\"\",\"\",VLOOKUP($A39,Competitors!$A$2:$G$60,2,FALSE)))","v":""},{"$f":"IF($A39=\"\",\"\",IF(VLOOKUP($A39,Competitors!$A$2:$G$60,7,FALSE)=\"\",\"\",VLOOKUP($A39,Competitors!$A$2:$G$60,7,FALSE)))","v":""},{"$f":"IF($A39=\"\",\"\",IF(VLOOKUP($A39,Competitors!$A$2:$G$60,5,FALSE)=\"\",\"\",VLOOKUP($A39,Competitors!$A$2:$G$60,5,FALSE)))","v":""},{"$f":"IF($A39=\"\",\"\",IF(VLOOKUP($A39,Competitors!$A$2:$G$60,6,FALSE)=\"\",\"\",VLOOKUP($A39,Competitors!$A$2:$G$60,6,FALSE)))","v":"senior"},{"$f":"IF($A39=\"\",\"\",IF(VLOOKUP($A39,Competitors!$A$2:$G$60,3,FALSE)=\"\",\"\",VLOOKUP($A39,Competitors!$A$2:$G$60,3,FALSE)))","v":""},{"$f":"IF($A39=\"\",\"\",IF(VLOOKUP($A39,Competitors!$A$2:$G$60,4,FALSE)=\"\",\"\",VLOOKUP($A39,Competitors!$A$2:$G$60,4,FALSE)))","v":""},{"$f":"IF(VLOOKUP(A39,Competitors!$A$1:$H$41,8,FALSE)=\"\",\"\",VLOOKUP(A39,Competitors!$A$1:$H$41,8,FALSE))","v":""},{"$f":"IF(IFERROR(VLOOKUP(($B$2&\"_\"&$A39),'Time Entry Sheet'!$A$3:$I$499,9,0),\"Error\")=\"Error\",\"\",IF(VLOOKUP(($B$2&\"_\"&$A39),'Time Entry Sheet'!$A$3:$I$499,9,FALSE)=\"wd\",\"wd\",VLOOKUP(($B$2&\"_\"&$A39),'Time Entry Sheet'!$A$3:$I$499,9,FALSE)*1))","v":""},"",{"$f":"IF(IFERROR(VLOOKUP(($B$2&\"_\"&$A39),'Time Entry Sheet'!$A$3:$I$499,8,FALSE),\"Error\")=\"Error\",\"\",IF(VLOOKUP(($B$2&\"_\"&$A39),'Time Entry Sheet'!$A$3:$I$499,8,FALSE)=\"\",\"\",VLOOKUP(($B$2&\"_\"&$A39),'Time Entry Sheet'!$A$3:$I$499,8,FALSE)))","v":""},{"$f":"IF(IFERROR(VLOOKUP(($B$2&\"_\"&$A39),'Time Entry Sheet'!$A$3:$I$499,7,FALSE),\"Error\")=\"Error\",\"\",IF(VLOOKUP(($B$2&\"_\"&$A39),'Time Entry Sheet'!$A$3:$I$499,7,FALSE)=\"\",\"\",VLOOKUP(($B$2&\"_\"&$A39),'Time Entry Sheet'!$A$3:$I$499,7,FALSE)))","v":""},"00:00:10","00:00:10",1,{"$f":"IF(A39=\"\",\"\",M39+VLOOKUP(A39,'Test 14'!$A$12:$Q$51,16,FALSE))","v":"00:16:12.230"},20,null,null,"00:16:12.230"]
[29,{"$f":"IF($A40=\"\",\"\",IF(VLOOKUP($A40,Competitors!$A$2:$G$60,2,FALSE)=\"\",\"\",VLOOKUP($A40,Competitors!$A$2:$G$60,2,FALSE)))","v":""},{"$f":"IF($A40=\"\",\"\",IF(VLOOKUP($A40,Competitors!$A$2:$G$60,7,FALSE)=\"\",\"\",VLOOKUP($A40,Competitors!$A$2:$G$60,7,FALSE)))","v":""},{"$f":"IF($A40=\"\",\"\",IF(VLOOKUP($A40,Competitors!$A$2:$G$60,5,FALSE)=\"\",\"\",VLOOKUP($A40,Competitors!$A$2:$G$60,5,FALSE)))","v":""},{"$f":"IF($A40=\"\",\"\",IF(VLOOKUP($A40,Competitors!$A$2:$G$60,6,FALSE)=\"\",\"\",VLOOKUP($A40,Competitors!$A$2:$G$60,6,FALSE)))","v":"senior"},{"$f":"IF($A40=\"\",\"\",IF(VLOOKUP($A40,Competitors!$A$2:$G$60,3,FALSE)=\"\",\"\",VLOOKUP($A40,Competitors!$A$2:$G$60,3,FALSE)))","v":""},{"$f":"IF($A40=\"\",\"\",IF(VLOOKUP($A40,Competitors!$A$2:$G$60,4,FALSE)=\"\",\"\",VLOOKUP($A40,Competitors!$A$2:$G$60,4,FALSE)))","v":""},{"$f":"IF(VLOOKUP(A40,Competitors!$A$1:$H$41,8,FALSE)=\"\",\"\",VLOOKUP(A40,Competitors!$A$1:$H$41,8,FALSE))","v":""},{"$f":"IF(IFERROR(VLOOKUP(($B$2&\"_\"&$A40),'Time Entry Sheet'!$A$3:$I$499,9,0),\"Error\")=\"Error\",\"\",IF(VLOOKUP(($B$2&\"_\"&$A40),'Time Entry Sheet'!$A$3:$I$499,9,FALSE)=\"wd\",\"wd\",VLOOKUP(($B$2&\"_\"&$A40),'Time Entry Sheet'!$A$3:$I$499,9,FALSE)*1))","v":""},"",{"$f":"IF(IFERROR(VLOOKUP(($B$2&\"_\"&$A40),'Time Entry Sheet'!$A$3:$I$499,8,FALSE),\"Error\")=\"Error\",\"\",IF(VLOOKUP(($B$2&\"_\"&$A40),'Time Entry Sheet'!$A$3:$I$499,8,FALSE)=\"\",\"\",VLOOKUP(($B$2&\"_\"&$A40),'Time Entry Sheet'!$A$3:$I$499,8,FALSE)))","v":""},{"$f":"IF(IFERROR(VLOOKUP(($B$2&\"_\"&$A40),'Time Entry Sheet'!$A$3:$I$499,7,FALSE),\"Error\")=\"Error\",\"\",IF(VLOOKUP(($B$2&\"_\"&$A40),'Time Entry Sheet'!$A$3:$I$499,7,FALSE)=\"\",\"\",VLOOKUP(($B$2&\"_\"&$A40),'Time Entry Sheet'!$A$3:$I$499,7,FALSE)))","v":""},"00:00:10","00:00:10",1,{"$f":"IF(A40=\"\",\"\",M40+VLOOKUP(A40,'Test 14'!$A$12:$Q$51,16,FALSE))","v":"00:16:12.230"},20,null,"","00:16:12.230"]
[30,{"$f":"IF($A41=\"\",\"\",IF(VLOOKUP($A41,Competitors!$A$2:$G$60,2,FALSE)=\"\",\"\",VLOOKUP($A41,Competitors!$A$2:$G$60,2,FALSE)))","v":""},{"$f":"IF($A41=\"\",\"\",IF(VLOOKUP($A41,Competitors!$A$2:$G$60,7,FALSE)=\"\",\"\",VLOOKUP($A41,Competitors!$A$2:$G$60,7,FALSE)))","v":""},{"$f":"IF($A41=\"\",\"\",IF(VLOOKUP($A41,Competitors!$A$2:$G$60,5,FALSE)=\"\",\"\",VLOOKUP($A41,Competitors!$A$2:$G$60,5,FALSE)))","v":""},{"$f":"IF($A41=\"\",\"\",IF(VLOOKUP($A41,Competitors!$A$2:$G$60,6,FALSE)=\"\",\"\",VLOOKUP($A41,Competitors!$A$2:$G$60,6,FALSE)))","v":"senior"},{"$f":"IF($A41=\"\",\"\",IF(VLOOKUP($A41,Competitors!$A$2:$G$60,3,FALSE)=\"\",\"\",VLOOKUP($A41,Competitors!$A$2:$G$60,3,FALSE)))","v":""},{"$f":"IF($A41=\"\",\"\",IF(VLOOKUP($A41,Competitors!$A$2:$G$60,4,FALSE)=\"\",\"\",VLOOKUP($A41,Competitors!$A$2:$G$60,4,FALSE)))","v":""},{"$f":"IF(VLOOKUP(A41,Competitors!$A$1:$H$41,8,FALSE)=\"\",\"\",VLOOKUP(A41,Competitors!$A$1:$H$41,8,FALSE))","v":""},{"$f":"IF(IFERROR(VLOOKUP(($B$2&\"_\"&$A41),'Time Entry Sheet'!$A$3:$I$499,9,0),\"Error\")=\"Error\",\"\",IF(VLOOKUP(($B$2&\"_\"&$A41),'Time Entry Sheet'!$A$3:$I$499,9,FALSE)=\"wd\",\"wd\",VLOOKUP(($B$2&\"_\"&$A41),'Time Entry Sheet'!$A$3:$I$499,9,FALSE)*1))","v":""},"",{"$f":"IF(IFERROR(VLOOKUP(($B$2&\"_\"&$A41),'Time Entry Sheet'!$A$3:$I$499,8,FALSE),\"Error\")=\"Error\",\"\",IF(VLOOKUP(($B$2&\"_\"&$A41),'Time Entry Sheet'!$A$3:$I$499,8,FALSE)=\"\",\"\",VLOOKUP(($B$2&\"_\"&$A41),'Time Entry Sheet'!$A$3:$I$499,8,FALSE)))","v":""},{"$f":"IF(IFERROR(VLOOKUP(($B$2&\"_\"&$A41),'Time Entry Sheet'!$A$3:$I$499,7,FALSE),\"Error\")=\"Error\",\"\",IF(VLOOKUP(($B$2&\"_\"&$A41),'Time Entry Sheet'!$A$3:$I$499,7,FALSE)=\"\",\"\",VLOOKUP(($B$2&\"_\"&$A41),'Time Entry Sheet'!$A$3:$I$499,7,FALSE)))","v":""},"00:00:10","00:00:10",1,{"$f":"IF(A41=\"\",\"\",M41+VLOOKUP(A41,'Test 14'!$A$12:$Q$51,16,FALSE))","v":"00:16:12.230"},20,null,"","00:16:12.230"]
[31,{"$f":"IF($A42=\"\",\"\",IF(VLOOKUP($A42,Competitors!$A$2:$G$60,2,FALSE)=\"\",\"\",VLOOKUP($A42,Competitors!$A$2:$G$60,2,FALSE)))","v":""},{"$f":"IF($A42=\"\",\"\",IF(VLOOKUP($A42,Competitors!$A$2:$G$60,7,FALSE)=\"\",\"\",VLOOKUP($A42,Competitors!$A$2:$G$60,7,FALSE)))","v":""},{"$f":"IF($A42=\"\",\"\",IF(VLOOKUP($A42,Competitors!$A$2:$G$60,5,FALSE)=\"\",\"\",VLOOKUP($A42,Competitors!$A$2:$G$60,5,FALSE)))","v":""},{"$f":"IF($A42=\"\",\"\",IF(VLOOKUP($A42,Competitors!$A$2:$G$60,6,FALSE)=\"\",\"\",VLOOKUP($A42,Competitors!$A$2:$G$60,6,FALSE)))","v":"senior"},{"$f":"IF($A42=\"\",\"\",IF(VLOOKUP($A42,Competitors!$A$2:$G$60,3,FALSE)=\"\",\"\",VLOOKUP($A42,Competitors!$A$2:$G$60,3,FALSE)))","v":""},{"$f":"IF($A42=\"\",\"\",IF(VLOOKUP($A42,Competitors!$A$2:$G$60,4,FALSE)=\"\",\"\",VLOOKUP($A42,Competitors!$A$2:$G$60,4,FALSE)))","v":""},{"$f":"IF(VLOOKUP(A42,Competitors!$A$1:$H$41,8,FALSE)=\"\",\"\",VLOOKUP(A42,Competitors!$A$1:$H$41,8,FALSE))","v":""},{"$f":"IF(IFERROR(VLOOKUP(($B$2&\"_\"&$A42),'Time Entry Sheet'!$A$3:$I$499,9,0),\"Error\")=\"Error\",\"\",IF(VLOOKUP(($B$2&\"_\"&$A42),'Time Entry Sheet'!$A$3:$I$499,9,FALSE)=\"wd\",\"wd\",VLOOKUP(($B$2&\"_\"&$A42),'Time Entry Sheet'!$A$3:$I$499,9,FALSE)*1))","v":""},"",{"$f":"IF(IFERROR(VLOOKUP(($B$2&\"_\"&$A42),'Time Entry Sheet'!$A$3:$I$499,8,FALSE),\"Error\")=\"Error\",\"\",IF(VLOOKUP(($B$2&\"_\"&$A42),'Time Entry Sheet'!$A$3:$I$499,8,FALSE)=\"\",\"\",VLOOKUP(($B$2&\"_\"&$A42),'Time Entry Sheet'!$A$3:$I$499,8,FALSE)))","v":""},{"$f":"IF(IFERROR(VLOOKUP(($B$2&\"_\"&$A42),'Time Entry Sheet'!$A$3:$I$499,7,FALSE),\"Error\")=\"Error\",\"\",IF(VLOOKUP(($B$2&\"_\"&$A42),'Time Entry Sheet'!$A$3:$I$499,7,FALSE)=\"\",\"\",VLOOKUP(($B$2&\"_\"&$A42),'Time Entry Sheet'!$A$3:$I$499,7,FALSE)))","v":""},"00:00:10","00:00:10",1,{"$f":"IF(A42=\"\",\"\",M42+VLOOKUP(A42,'Test 14'!$A$12:$Q$51,16,FALSE))","v":"00:16:12.230"},20,null,"","00:16:12.230"]
[32,{"$f":"IF($A43=\"\",\"\",IF(VLOOKUP($A43,Competitors!$A$2:$G$60,2,FALSE)=\"\",\"\",VLOOKUP($A43,Competitors!$A$2:$G$60,2,FALSE)))","v":""},{"$f":"IF($A43=\"\",\"\",IF(VLOOKUP($A43,Competitors!$A$2:$G$60,7,FALSE)=\"\",\"\",VLOOKUP($A43,Competitors!$A$2:$G$60,7,FALSE)))","v":""},{"$f":"IF($A43=\"\",\"\",IF(VLOOKUP($A43,Competitors!$A$2:$G$60,5,FALSE)=\"\",\"\",VLOOKUP($A43,Competitors!$A$2:$G$60,5,FALSE)))","v":""},{"$f":"IF($A43=\"\",\"\",IF(VLOOKUP($A43,Competitors!$A$2:$G$60,6,FALSE)=\"\",\"\",VLOOKUP($A43,Competitors!$A$2:$G$60,6,FALSE)))","v":"senior"},{"$f":"IF($A43=\"\",\"\",IF(VLOOKUP($A43,Competitors!$A$2:$G$60,3,FALSE)=\"\",\"\",VLOOKUP($A43,Competitors!$A$2:$G$60,3,FALSE)))","v":""},{"$f":"IF($A43=\"\",\"\",IF(VLOOKUP($A43,Competitors!$A$2:$G$60,4,FALSE)=\"\",\"\",VLOOKUP($A43,Competitors!$A$2:$G$60,4,FALSE)))","v":""},{"$f":"IF(VLOOKUP(A43,Competitors!$A$1:$H$41,8,FALSE)=\"\",\"\",VLOOKUP(A43,Competitors!$A$1:$H$41,8,FALSE))","v":""},{"$f":"IF(IFERROR(VLOOKUP(($B$2&\"_\"&$A43),'Time Entry Sheet'!$A$3:$I$499,9,0),\"Error\")=\"Error\",\"\",IF(VLOOKUP(($B$2&\"_\"&$A43),'Time Entry Sheet'!$A$3:$I$499,9,FALSE)=\"wd\",\"wd\",VLOOKUP(($B$2&\"_\"&$A43),'Time Entry Sheet'!$A$3:$I$499,9,FALSE)*1))","v":""},"",{"$f":"IF(IFERROR(VLOOKUP(($B$2&\"_\"&$A43),'Time Entry Sheet'!$A$3:$I$499,8,FALSE),\"Error\")=\"Error\",\"\",IF(VLOOKUP(($B$2&\"_\"&$A43),'Time Entry Sheet'!$A$3:$I$499,8,FALSE)=\"\",\"\",VLOOKUP(($B$2&\"_\"&$A43),'Time Entry Sheet'!$A$3:$I$499,8,FALSE)))","v":""},{"$f":"IF(IFERROR(VLOOKUP(($B$2&\"_\"&$A43),'Time Entry Sheet'!$A$3:$I$499,7,FALSE),\"Error\")=\"Error\",\"\",IF(VLOOKUP(($B$2&\"_\"&$A43),'Time Entry Sheet'!$A$3:$I$499,7,FALSE)=\"\",\"\",VLOOKUP(($B$2&\"_\"&$A43),'Time Entry Sheet'!$A$3:$I$499,7,FALSE)))","v":""},"00:00:10","00:00:10",1,{"$f":"IF(A43=\"\",\"\",M43+VLOOKUP(A43,'Test 14'!$A$12:$Q$51,16,FALSE))","v":"00:16:12.230"},20,null,"","00:16:12.230"]
[33,{"$f":"IF($A44=\"\",\"\",IF(VLOOKUP($A44,Competitors!$A$2:$G$60,2,FALSE)=\"\",\"\",VLOOKUP($A44,Competitors!$A$2:$G$60,2,FALSE)))","v":""},{"$f":"IF($A44=\"\",\"\",IF(VLOOKUP($A44,Competitors!$A$2:$G$60,7,FALSE)=\"\",\"\",VLOOKUP($A44,Competitors!$A$2:$G$60,7,FALSE)))","v":""},{"$f":"IF($A44=\"\",\"\",IF(VLOOKUP($A44,Competitors!$A$2:$G$60,5,FALSE)=\"\",\"\",VLOOKUP($A44,Competitors!$A$2:$G$60,5,FALSE)))","v":""},{"$f":"IF($A44=\"\",\"\",IF(VLOOKUP($A44,Competitors!$A$2:$G$60,6,FALSE)=\"\",\"\",VLOOKUP($A44,Competitors!$A$2:$G$60,6,FALSE)))","v":"senior"},{"$f":"IF($A44=\"\",\"\",IF(VLOOKUP($A44,Competitors!$A$2:$G$60,3,FALSE)=\"\",\"\",VLOOKUP($A44,Competitors!$A$2:$G$60,3,FALSE)))","v":""},{"$f":"IF($A44=\"\",\"\",IF(VLOOKUP($A44,Competitors!$A$2:$G$60,4,FALSE)=\"\",\"\",VLOOKUP($A44,Competitors!$A$2:$G$60,4,FALSE)))","v":""},{"$f":"IF(VLOOKUP(A44,Competitors!$A$1:$H$41,8,FALSE)=\"\",\"\",VLOOKUP(A44,Competitors!$A$1:$H$41,8,FALSE))","v":""},{"$f":"IF(IFERROR(VLOOKUP(($B$2&\"_\"&$A44),'Time Entry Sheet'!$A$3:$I$499,9,0),\"Error\")=\"Error\",\"\",IF(VLOOKUP(($B$2&\"_\"&$A44),'Time Entry Sheet'!$A$3:$I$499,9,FALSE)=\"wd\",\"wd\",VLOOKUP(($B$2&\"_\"&$A44),'Time Entry Sheet'!$A$3:$I$499,9,FALSE)*1))","v":""},"",{"$f":"IF(IFERROR(VLOOKUP(($B$2&\"_\"&$A44),'Time Entry Sheet'!$A$3:$I$499,8,FALSE),\"Error\")=\"Error\",\"\",IF(VLOOKUP(($B$2&\"_\"&$A44),'Time Entry Sheet'!$A$3:$I$499,8,FALSE)=\"\",\"\",VLOOKUP(($B$2&\"_\"&$A44),'Time Entry Sheet'!$A$3:$I$499,8,FALSE)))","v":""},{"$f":"IF(IFERROR(VLOOKUP(($B$2&\"_\"&$A44),'Time Entry Sheet'!$A$3:$I$499,7,FALSE),\"Error\")=\"Error\",\"\",IF(VLOOKUP(($B$2&\"_\"&$A44),'Time Entry Sheet'!$A$3:$I$499,7,FALSE)=\"\",\"\",VLOOKUP(($B$2&\"_\"&$A44),'Time Entry Sheet'!$A$3:$I$499,7,FALSE)))","v":""},"00:00:10","00:00:10",1,{"$f":"IF(A44=\"\",\"\",M44+VLOOKUP(A44,'Test 14'!$A$12:$Q$51,16,FALSE))","v":"00:16:12.230"},20,null,"","00:16:12.230"]
[34,{"$f":"IF($A45=\"\",\"\",IF(VLOOKUP($A45,Competitors!$A$2:$G$60,2,FALSE)=\"\",\"\",VLOOKUP($A45,Competitors!$A$2:$G$60,2,FALSE)))","v":""},{"$f":"IF($A45=\"\",\"\",IF(VLOOKUP($A45,Competitors!$A$2:$G$60,7,FALSE)=\"\",\"\",VLOOKUP($A45,Competitors!$A$2:$G$60,7,FALSE)))","v":""},{"$f":"IF($A45=\"\",\"\",IF(VLOOKUP($A45,Competitors!$A$2:$G$60,5,FALSE)=\"\",\"\",VLOOKUP($A45,Competitors!$A$2:$G$60,5,FALSE)))","v":""},{"$f":"IF($A45=\"\",\"\",IF(VLOOKUP($A45,Competitors!$A$2:$G$60,6,FALSE)=\"\",\"\",VLOOKUP($A45,Competitors!$A$2:$G$60,6,FALSE)))","v":"senior"},{"$f":"IF($A45=\"\",\"\",IF(VLOOKUP($A45,Competitors!$A$2:$G$60,3,FALSE)=\"\",\"\",VLOOKUP($A45,Competitors!$A$2:$G$60,3,FALSE)))","v":""},{"$f":"IF($A45=\"\",\"\",IF(VLOOKUP($A45,Competitors!$A$2:$G$60,4,FALSE)=\"\",\"\",VLOOKUP($A45,Competitors!$A$2:$G$60,4,FALSE)))","v":""},{"$f":"IF(VLOOKUP(A45,Competitors!$A$1:$H$41,8,FALSE)=\"\",\"\",VLOOKUP(A45,Competitors!$A$1:$H$41,8,FALSE))","v":""},{"$f":"IF(IFERROR(VLOOKUP(($B$2&\"_\"&$A45),'Time Entry Sheet'!$A$3:$I$499,9,0),\"Error\")=\"Error\",\"\",IF(VLOOKUP(($B$2&\"_\"&$A45),'Time Entry Sheet'!$A$3:$I$499,9,FALSE)=\"wd\",\"wd\",VLOOKUP(($B$2&\"_\"&$A45),'Time Entry Sheet'!$A$3:$I$499,9,FALSE)*1))","v":""},"",{"$f":"IF(IFERROR(VLOOKUP(($B$2&\"_\"&$A45),'Time Entry Sheet'!$A$3:$I$499,8,FALSE),\"Error\")=\"Error\",\"\",IF(VLOOKUP(($B$2&\"_\"&$A45),'Time Entry Sheet'!$A$3:$I$499,8,FALSE)=\"\",\"\",VLOOKUP(($B$2&\"_\"&$A45),'Time Entry Sheet'!$A$3:$I$499,8,FALSE)))","v":""},{"$f":"IF(IFERROR(VLOOKUP(($B$2&\"_\"&$A45),'Time Entry Sheet'!$A$3:$I$499,7,FALSE),\"Error\")=\"Error\",\"\",IF(VLOOKUP(($B$2&\"_\"&$A45),'Time Entry Sheet'!$A$3:$I$499,7,FALSE)=\"\",\"\",VLOOKUP(($B$2&\"_\"&$A45),'Time Entry Sheet'!$A$3:$I$499,7,FALSE)))","v":""},"00:00:10","00:00:10",1,{"$f":"IF(A45=\"\",\"\",M45+VLOOKUP(A45,'Test 14'!$A$12:$Q$51,16,FALSE))","v":"00:16:12.230"},20,null,"","00:16:12.230"]
[35,{"$f":"IF($A46=\"\",\"\",IF(VLOOKUP($A46,Competitors!$A$2:$G$60,2,FALSE)=\"\",\"\",VLOOKUP($A46,Competitors!$A$2:$G$60,2,FALSE)))","v":""},{"$f":"IF($A46=\"\",\"\",IF(VLOOKUP($A46,Competitors!$A$2:$G$60,7,FALSE)=\"\",\"\",VLOOKUP($A46,Competitors!$A$2:$G$60,7,FALSE)))","v":""},{"$f":"IF($A46=\"\",\"\",IF(VLOOKUP($A46,Competitors!$A$2:$G$60,5,FALSE)=\"\",\"\",VLOOKUP($A46,Competitors!$A$2:$G$60,5,FALSE)))","v":""},{"$f":"IF($A46=\"\",\"\",IF(VLOOKUP($A46,Competitors!$A$2:$G$60,6,FALSE)=\"\",\"\",VLOOKUP($A46,Competitors!$A$2:$G$60,6,FALSE)))","v":"senior"},{"$f":"IF($A46=\"\",\"\",IF(VLOOKUP($A46,Competitors!$A$2:$G$60,3,FALSE)=\"\",\"\",VLOOKUP($A46,Competitors!$A$2:$G$60,3,FALSE)))","v":""},{"$f":"IF($A46=\"\",\"\",IF(VLOOKUP($A46,Competitors!$A$2:$G$60,4,FALSE)=\"\",\"\",VLOOKUP($A46,Competitors!$A$2:$G$60,4,FALSE)))","v":""},{"$f":"IF(VLOOKUP(A46,Competitors!$A$1:$H$41,8,FALSE)=\"\",\"\",VLOOKUP(A46,Competitors!$A$1:$H$41,8,FALSE))","v":""},{"$f":"IF(IFERROR(VLOOKUP(($B$2&\"_\"&$A46),'Time Entry Sheet'!$A$3:$I$499,9,0),\"Error\")=\"Error\",\"\",IF(VLOOKUP(($B$2&\"_\"&$A46),'Time Entry Sheet'!$A$3:$I$499,9,FALSE)=\"wd\",\"wd\",VLOOKUP(($B$2&\"_\"&$A46),'Time Entry Sheet'!$A$3:$I$499,9,FALSE)*1))","v":""},"",{"$f":"IF(IFERROR(VLOOKUP(($B$2&\"_\"&$A46),'Time Entry Sheet'!$A$3:$I$499,8,FALSE),\"Error\")=\"Error\",\"\",IF(VLOOKUP(($B$2&\"_\"&$A46),'Time Entry Sheet'!$A$3:$I$499,8,FALSE)=\"\",\"\",VLOOKUP(($B$2&\"_\"&$A46),'Time Entry Sheet'!$A$3:$I$499,8,FALSE)))","v":""},{"$f":"IF(IFERROR(VLOOKUP(($B$2&\"_\"&$A46),'Time Entry Sheet'!$A$3:$I$499,7,FALSE),\"Error\")=\"Error\",\"\",IF(VLOOKUP(($B$2&\"_\"&$A46),'Time Entry Sheet'!$A$3:$I$499,7,FALSE)=\"\",\"\",VLOOKUP(($B$2&\"_\"&$A46),'Time Entry Sheet'!$A$3:$I$499,7,FALSE)))","v":""},"00:00:10","00:00:10",1,{"$f":"IF(A46=\"\",\"\",M46+VLOOKUP(A46,'Test 14'!$A$12:$Q$51,16,FALSE))","v":"00:16:12.230"},20,null,"","00:16:12.230"]
[36,{"$f":"IF($A47=\"\",\"\",IF(VLOOKUP($A47,Competitors!$A$2:$G$60,2,FALSE)=\"\",\"\",VLOOKUP($A47,Competitors!$A$2:$G$60,2,FALSE)))","v":""},{"$f":"IF($A47=\"\",\"\",IF(VLOOKUP($A47,Competitors!$A$2:$G$60,7,FALSE)=\"\",\"\",VLOOKUP($A47,Competitors!$A$2:$G$60,7,FALSE)))","v":""},{"$f":"IF($A47=\"\",\"\",IF(VLOOKUP($A47,Competitors!$A$2:$G$60,5,FALSE)=\"\",\"\",VLOOKUP($A47,Competitors!$A$2:$G$60,5,FALSE)))","v":""},{"$f":"IF($A47=\"\",\"\",IF(VLOOKUP($A47,Competitors!$A$2:$G$60,6,FALSE)=\"\",\"\",VLOOKUP($A47,Competitors!$A$2:$G$60,6,FALSE)))","v":"senior"},{"$f":"IF($A47=\"\",\"\",IF(VLOOKUP($A47,Competitors!$A$2:$G$60,3,FALSE)=\"\",\"\",VLOOKUP($A47,Competitors!$A$2:$G$60,3,FALSE)))","v":""},{"$f":"IF($A47=\"\",\"\",IF(VLOOKUP($A47,Competitors!$A$2:$G$60,4,FALSE)=\"\",\"\",VLOOKUP($A47,Competitors!$A$2:$G$60,4,FALSE)))","v":""},{"$f":"IF(VLOOKUP(A47,Competitors!$A$1:$H$41,8,FALSE)=\"\",\"\",VLOOKUP(A47,Competitors!$A$1:$H$41,8,FALSE))","v":""},{"$f":"IF(IFERROR(VLOOKUP(($B$2&\"_\"&$A47),'Time Entry Sheet'!$A$3:$I$499,9,0),\"Error\")=\"Error\",\"\",IF(VLOOKUP(($B$2&\"_\"&$A47),'Time Entry Sheet'!$A$3:$I$499,9,FALSE)=\"wd\",\"wd\",VLOOKUP(($B$2&\"_\"&$A47),'Time Entry Sheet'!$A$3:$I$499,9,FALSE)*1))","v":""},"",{"$f":"IF(IFERROR(VLOOKUP(($B$2&\"_\"&$A47),'Time Entry Sheet'!$A$3:$I$499,8,FALSE),\"Error\")=\"Error\",\"\",IF(VLOOKUP(($B$2&\"_\"&$A47),'Time Entry Sheet'!$A$3:$I$499,8,FALSE)=\"\",\"\",VLOOKUP(($B$2&\"_\"&$A47),'Time Entry Sheet'!$A$3:$I$499,8,FALSE)))","v":""},{"$f":"IF(IFERROR(VLOOKUP(($B$2&\"_\"&$A47),'Time Entry Sheet'!$A$3:$I$499,7,FALSE),\"Error\")=\"Error\",\"\",IF(VLOOKUP(($B$2&\"_\"&$A47),'Time Entry Sheet'!$A$3:$I$499,7,FALSE)=\"\",\"\",VLOOKUP(($B$2&\"_\"&$A47),'Time Entry Sheet'!$A$3:$I$499,7,FALSE)))","v":""},"00:00:10","00:00:10",1,{"$f":"IF(A47=\"\",\"\",M47+VLOOKUP(A47,'Test 14'!$A$12:$Q$51,16,FALSE))","v":"00:16:12.230"},20,null,"","00:16:12.230"]
[37,{"$f":"IF($A48=\"\",\"\",IF(VLOOKUP($A48,Competitors!$A$2:$G$60,2,FALSE)=\"\",\"\",VLOOKUP($A48,Competitors!$A$2:$G$60,2,FALSE)))","v":""},{"$f":"IF($A48=\"\",\"\",IF(VLOOKUP($A48,Competitors!$A$2:$G$60,7,FALSE)=\"\",\"\",VLOOKUP($A48,Competitors!$A$2:$G$60,7,FALSE)))","v":""},{"$f":"IF($A48=\"\",\"\",IF(VLOOKUP($A48,Competitors!$A$2:$G$60,5,FALSE)=\"\",\"\",VLOOKUP($A48,Competitors!$A$2:$G$60,5,FALSE)))","v":""},{"$f":"IF($A48=\"\",\"\",IF(VLOOKUP($A48,Competitors!$A$2:$G$60,6,FALSE)=\"\",\"\",VLOOKUP($A48,Competitors!$A$2:$G$60,6,FALSE)))","v":"senior"},{"$f":"IF($A48=\"\",\"\",IF(VLOOKUP($A48,Competitors!$A$2:$G$60,3,FALSE)=\"\",\"\",VLOOKUP($A48,Competitors!$A$2:$G$60,3,FALSE)))","v":""},{"$f":"IF($A48=\"\",\"\",IF(VLOOKUP($A48,Competitors!$A$2:$G$60,4,FALSE)=\"\",\"\",VLOOKUP($A48,Competitors!$A$2:$G$60,4,FALSE)))","v":""},{"$f":"IF(VLOOKUP(A48,Competitors!$A$1:$H$41,8,FALSE)=\"\",\"\",VLOOKUP(A48,Competitors!$A$1:$H$41,8,FALSE))","v":""},{"$f":"IF(IFERROR(VLOOKUP(($B$2&\"_\"&$A48),'Time Entry Sheet'!$A$3:$I$499,9,0),\"Error\")=\"Error\",\"\",IF(VLOOKUP(($B$2&\"_\"&$A48),'Time Entry Sheet'!$A$3:$I$499,9,FALSE)=\"wd\",\"wd\",VLOOKUP(($B$2&\"_\"&$A48),'Time Entry Sheet'!$A$3:$I$499,9,FALSE)*1))","v":""},"",{"$f":"IF(IFERROR(VLOOKUP(($B$2&\"_\"&$A48),'Time Entry Sheet'!$A$3:$I$499,8,FALSE),\"Error\")=\"Error\",\"\",IF(VLOOKUP(($B$2&\"_\"&$A48),'Time Entry Sheet'!$A$3:$I$499,8,FALSE)=\"\",\"\",VLOOKUP(($B$2&\"_\"&$A48),'Time Entry Sheet'!$A$3:$I$499,8,FALSE)))","v":""},{"$f":"IF(IFERROR(VLOOKUP(($B$2&\"_\"&$A48),'Time Entry Sheet'!$A$3:$I$499,7,FALSE),\"Error\")=\"Error\",\"\",IF(VLOOKUP(($B$2&\"_\"&$A48),'Time Entry Sheet'!$A$3:$I$499,7,FALSE)=\"\",\"\",VLOOKUP(($B$2&\"_\"&$A48),'Time Entry Sheet'!$A$3:$I$499,7,FALSE)))","v":""},{"$f":"IF(A48=\"\",\"\",IF(I48=\"wd\",IF(E48=\"Senior\",$B$7,$C$7),IF(L48<>\"\",$B$7,IF(I48=\"\",IF(E48=\"Senior\",$B$8,$C$8),IF(K48=\"\",I48,I48+($B$5*K48))))))","v":"00:00:10"},"00:00:10",1,{"$f":"IF(A48=\"\",\"\",M48+VLOOKUP(A48,'Test 14'!$A$12:$Q$51,16,FALSE))","v":"00:16:12.230"},20,null,"","00:16:12.230"]
[38,{"$f":"IF($A49=\"\",\"\",IF(VLOOKUP($A49,Competitors!$A$2:$G$60,2,FALSE)=\"\",\"\",VLOOKUP($A49,Competitors!$A$2:$G$60,2,FALSE)))","v":""},{"$f":"IF($A49=\"\",\"\",IF(VLOOKUP($A49,Competitors!$A$2:$G$60,7,FALSE)=\"\",\"\",VLOOKUP($A49,Competitors!$A$2:$G$60,7,FALSE)))","v":""},{"$f":"IF($A49=\"\",\"\",IF(VLOOKUP($A49,Competitors!$A$2:$G$60,5,FALSE)=\"\",\"\",VLOOKUP($A49,Competitors!$A$2:$G$60,5,FALSE)))","v":""},{"$f":"IF($A49=\"\",\"\",IF(VLOOKUP($A49,Competitors!$A$2:$G$60,6,FALSE)=\"\",\"\",VLOOKUP($A49,Competitors!$A$2:$G$60,6,FALSE)))","v":"senior"},{"$f":"IF($A49=\"\",\"\",IF(VLOOKUP($A49,Competitors!$A$2:$G$60,3,FALSE)=\"\",\"\",VLOOKUP($A49,Competitors!$A$2:$G$60,3,FALSE)))","v":""},{"$f":"IF($A49=\"\",\"\",IF(VLOOKUP($A49,Competitors!$A$2:$G$60,4,FALSE)=\"\",\"\",VLOOKUP($A49,Competitors!$A$2:$G$60,4,FALSE)))","v":""},{"$f":"IF(VLOOKUP(A49,Competitors!$A$1:$H$41,8,FALSE)=\"\",\"\",VLOOKUP(A49,Competitors!$A$1:$H$41,8,FALSE))","v":""},{"$f":"IF(IFERROR(VLOOKUP(($B$2&\"_\"&$A49),'Time Entry Sheet'!$A$3:$I$499,9,0),\"Error\")=\"Error\",\"\",IF(VLOOKUP(($B$2&\"_\"&$A49),'Time Entry Sheet'!$A$3:$I$499,9,FALSE)=\"wd\",\"wd\",VLOOKUP(($B$2&\"_\"&$A49),'Time Entry Sheet'!$A$3:$I$499,9,FALSE)*1))","v":""},"",{"$f":"IF(IFERROR(VLOOKUP(($B$2&\"_\"&$A49),'Time Entry Sheet'!$A$3:$I$499,8,FALSE),\"Error\")=\"Error\",\"\",IF(VLOOKUP(($B$2&\"_\"&$A49),'Time Entry Sheet'!$A$3:$I$499,8,FALSE)=\"\",\"\",VLOOKUP(($B$2&\"_\"&$A49),'Time Entry Sheet'!$A$3:$I$499,8,FALSE)))","v":""},{"$f":"IF(IFERROR(VLOOKUP(($B$2&\"_\"&$A49),'Time Entry Sheet'!$A$3:$I$499,7,FALSE),\"Error\")=\"Error\",\"\",IF(VLOOKUP(($B$2&\"_\"&$A49),'Time Entry Sheet'!$A$3:$I$499,7,FALSE)=\"\",\"\",VLOOKUP(($B$2&\"_\"&$A49),'Time Entry Sheet'!$A$3:$I$499,7,FALSE)))","v":""},"00:00:10","00:00:10",1,{"$f":"IF(A49=\"\",\"\",M49+VLOOKUP(A49,'Test 14'!$A$12:$Q$51,16,FALSE))","v":"00:16:12.230"},20,null,"","00:16:12.230"]
[39,{"$f":"IF($A50=\"\",\"\",IF(VLOOKUP($A50,Competitors!$A$2:$G$60,2,FALSE)=\"\",\"\",VLOOKUP($A50,Competitors!$A$2:$G$60,2,FALSE)))","v":""},{"$f":"IF($A50=\"\",\"\",IF(VLOOKUP($A50,Competitors!$A$2:$G$60,7,FALSE)=\"\",\"\",VLOOKUP($A50,Competitors!$A$2:$G$60,7,FALSE)))","v":""},{"$f":"IF($A50=\"\",\"\",IF(VLOOKUP($A50,Competitors!$A$2:$G$60,5,FALSE)=\"\",\"\",VLOOKUP($A50,Competitors!$A$2:$G$60,5,FALSE)))","v":""},{"$f":"IF($A50=\"\",\"\",IF(VLOOKUP($A50,Competitors!$A$2:$G$60,6,FALSE)=\"\",\"\",VLOOKUP($A50,Competitors!$A$2:$G$60,6,FALSE)))","v":"senior"},{"$f":"IF($A50=\"\",\"\",IF(VLOOKUP($A50,Competitors!$A$2:$G$60,3,FALSE)=\"\",\"\",VLOOKUP($A50,Competitors!$A$2:$G$60,3,FALSE)))","v":""},{"$f":"IF($A50=\"\",\"\",IF(VLOOKUP($A50,Competitors!$A$2:$G$60,4,FALSE)=\"\",\"\",VLOOKUP($A50,Competitors!$A$2:$G$60,4,FALSE)))","v":""},{"$f":"IF(VLOOKUP(A50,Competitors!$A$1:$H$41,8,FALSE)=\"\",\"\",VLOOKUP(A50,Competitors!$A$1:$H$41,8,FALSE))","v":""},{"$f":"IF(IFERROR(VLOOKUP(($B$2&\"_\"&$A50),'Time Entry Sheet'!$A$3:$I$499,9,0),\"Error\")=\"Error\",\"\",IF(VLOOKUP(($B$2&\"_\"&$A50),'Time Entry Sheet'!$A$3:$I$499,9,FALSE)=\"wd\",\"wd\",VLOOKUP(($B$2&\"_\"&$A50),'Time Entry Sheet'!$A$3:$I$499,9,FALSE)*1))","v":""},"",{"$f":"IF(IFERROR(VLOOKUP(($B$2&\"_\"&$A50),'Time Entry Sheet'!$A$3:$I$499,8,FALSE),\"Error\")=\"Error\",\"\",IF(VLOOKUP(($B$2&\"_\"&$A50),'Time Entry Sheet'!$A$3:$I$499,8,FALSE)=\"\",\"\",VLOOKUP(($B$2&\"_\"&$A50),'Time Entry Sheet'!$A$3:$I$499,8,FALSE)))","v":""},{"$f":"IF(IFERROR(VLOOKUP(($B$2&\"_\"&$A50),'Time Entry Sheet'!$A$3:$I$499,7,FALSE),\"Error\")=\"Error\",\"\",IF(VLOOKUP(($B$2&\"_\"&$A50),'Time Entry Sheet'!$A$3:$I$499,7,FALSE)=\"\",\"\",VLOOKUP(($B$2&\"_\"&$A50),'Time Entry Sheet'!$A$3:$I$499,7,FALSE)))","v":""},"00:00:10","00:00:10",1,{"$f":"IF(A50=\"\",\"\",M50+VLOOKUP(A50,'Test 14'!$A$12:$Q$51,16,FALSE))","v":"00:16:12.230"},20,null,null,"00:16:12.230"]
[40,{"$f":"IF($A51=\"\",\"\",IF(VLOOKUP($A51,Competitors!$A$2:$G$60,2,FALSE)=\"\",\"\",VLOOKUP($A51,Competitors!$A$2:$G$60,2,FALSE)))","v":""},{"$f":"IF($A51=\"\",\"\",IF(VLOOKUP($A51,Competitors!$A$2:$G$60,7,FALSE)=\"\",\"\",VLOOKUP($A51,Competitors!$A$2:$G$60,7,FALSE)))","v":""},{"$f":"IF($A51=\"\",\"\",IF(VLOOKUP($A51,Competitors!$A$2:$G$60,5,FALSE)=\"\",\"\",VLOOKUP($A51,Competitors!$A$2:$G$60,5,FALSE)))","v":""},{"$f":"IF($A51=\"\",\"\",IF(VLOOKUP($A51,Competitors!$A$2:$G$60,6,FALSE)=\"\",\"\",VLOOKUP($A51,Competitors!$A$2:$G$60,6,FALSE)))","v":"senior"},{"$f":"IF($A51=\"\",\"\",IF(VLOOKUP($A51,Competitors!$A$2:$G$60,3,FALSE)=\"\",\"\",VLOOKUP($A51,Competitors!$A$2:$G$60,3,FALSE)))","v":""},{"$f":"IF($A51=\"\",\"\",IF(VLOOKUP($A51,Competitors!$A$2:$G$60,4,FALSE)=\"\",\"\",VLOOKUP($A51,Competitors!$A$2:$G$60,4,FALSE)))","v":""},{"$f":"IF(VLOOKUP(A51,Competitors!$A$1:$H$41,8,FALSE)=\"\",\"\",VLOOKUP(A51,Competitors!$A$1:$H$41,8,FALSE))","v":""},{"$f":"IF(IFERROR(VLOOKUP(($B$2&\"_\"&$A51),'Time Entry Sheet'!$A$3:$I$499,9,0),\"Error\")=\"Error\",\"\",IF(VLOOKUP(($B$2&\"_\"&$A51),'Time Entry Sheet'!$A$3:$I$499,9,FALSE)=\"wd\",\"wd\",VLOOKUP(($B$2&\"_\"&$A51),'Time Entry Sheet'!$A$3:$I$499,9,FALSE)*1))","v":""},"",{"$f":"IF(IFERROR(VLOOKUP(($B$2&\"_\"&$A51),'Time Entry Sheet'!$A$3:$I$499,8,FALSE),\"Error\")=\"Error\",\"\",IF(VLOOKUP(($B$2&\"_\"&$A51),'Time Entry Sheet'!$A$3:$I$499,8,FALSE)=\"\",\"\",VLOOKUP(($B$2&\"_\"&$A51),'Time Entry Sheet'!$A$3:$I$499,8,FALSE)))","v":""},{"$f":"IF(IFERROR(VLOOKUP(($B$2&\"_\"&$A51),'Time Entry Sheet'!$A$3:$I$499,7,FALSE),\"Error\")=\"Error\",\"\",IF(VLOOKUP(($B$2&\"_\"&$A51),'Time Entry Sheet'!$A$3:$I$499,7,FALSE)=\"\",\"\",VLOOKUP(($B$2&\"_\"&$A51),'Time Entry Sheet'!$A$3:$I$499,7,FALSE)))","v":""},"00:00:10","00:00:10",1,{"$f":"IF(A51=\"\",\"\",M51+VLOOKUP(A51,'Test 14'!$A$12:$Q$51,16,FALSE))","v":"00:16:12.230"},20,null,null,"00:16:12.230"]

{"sheet":"Pivots","index":33,"n_rows":44,"n_cols":164,"rows_kept":44,"cut":false,"hidden":false,"merged":[]}
["TEST 1",null,null,null,null,null,null,null,null,null,null,"TEST 2",null,null,null,null,null,null,null,null,null,null,"TEST 3",null,null,null,null,null,null,null,null,null,null,"TEST 4",null,null,null,null,null,null,null,null,null,null,"TEST 5",null,null,null,null,null,null,null,null,null,null,"TEST 6",null,null,null,null,null,null,null,null,null,null,"TEST 7",null,null,null,null,null,null,null,null,null,null,"TEST 8",null,null,null,null,null,null,null,null,null,null,"TEST 9",null,null,null,null,null,null,null,null,null,null,"TEST 10",null,null,null,null,null,null,null,null,null,null,"TEST 11",null,null,null,null,null,null,null,null,null,null,"TEST 12",null,null,null,null,null,null,null,null,null,null,"TEST 13",null,null,null,null,null,null,null,null,null,null,"TEST 14",null,null,null,null,null,null,null,null,null,null,"TEST 15"]
[]
[]
["Cumulative Outright Position","Cumulative Time Taken (MM:SS.00)","Car Number",null,null,null,null,null,null,{"$f":"C4","v":"Car Number"},null,"Cumulative Outright Position","Cumulative Time Taken (MM:SS.00)","Car Number",null,null,null,null,null,null,{"$f":"N4","v":"Car Number"},null,"Cumulative Outright Position","Cumulative Time Taken (MM:SS.00)","Car Number",null,null,null,null,null,null,{"$f":"Y4","v":"Car Number"},null,"Cumulative Outright Position","Cumulative Time Taken (MM:SS.00)","Car Number",null,null,null,null,null,null,{"$f":"AJ4","v":"Car Number"},null,"Cumulative Outright Position","Cumulative Time Taken (MM:SS.00)","Car Number",null,null,null,null,null,null,{"$f":"AU4","v":"Car Number"},null,"Cumulative Outright Position","Cumulative Time Taken (MM:SS.00)","Car Number",null,null,null,null,null,null,{"$f":"BF4","v":"Car Number"},null,"Cumulative Outright Position","Cumulative Time Taken (MM:SS.00)","Car Number",null,null,null,null,null,null,{"$f":"BQ4","v":"Car Number"},null,"Cumulative Outright Position","Cumulative Time Taken (MM:SS.00)","Car Number",null,null,null,null,null,null,{"$f":"CB4","v":"Car Number"},null,"Cumulative Outright Position","Cumulative Time Taken (MM:SS.00)","Car Number",null,null,null,null,null,null,{"$f":"CM4","v":"Car Number"},null,"Cumulative Outright Position","Cumulative Time Taken (MM:SS.00)","Car Number",null,null,null,null,null,null,{"$f":"CX4","v":"Car Number"},null,"Cumulative Outright Position","Cumulative Time Taken (MM:SS.00)","Car Number",null,null,null,null,null,null,{"$f":"DI4","v":"Car Number"},null,"Cumulative Outright Position","Cumulative Time Taken (MM:SS.00)","Car Number",null,null,null,null,null,null,{"$f":"DT4","v":"Car Number"},null,"Cumulative Outright Position","Cumulative Time Taken (MM:SS.00)","Car Number",null,null,null,null,null,null,{"$f":"EE4","v":"Car Number"},null,"Cumulative Outright Position","Cumulative Time Taken (MM:SS.00)","Car Number",null,null,null,null,null,null,{"$f":"EP4","v":"Car Number"},null,"Cumulative Outright Position","Cumulative Time Taken (MM:SS.00)","Car Number",null,null,null,null,null,null,{"$f":"FA4","v":"Car Number"}]
[1,"00:00:50",17,null,null,null,null,null,null,{"$f":"C5","v":17},null,1,"00:01:33",17,null,null,null,null,null,null,{"$f":"N5","v":17},null,1,"00:02:22",17,null,null,null,null,null,null,{"$f":"Y5","v":17},null,1,"00:03:09",17,null,null,null,null,null,null,{"$f":"AJ5","v":17},null,1,"00:03:55",17,null,null,null,null,null,null,{"$f":"AU5","v":17},null,1,"00:04:48",17,null,null,null,null,null,null,{"$f":"BF5","v":17},null,1,"00:05:23",17,null,null,null,null,null,null,{"$f":"BQ5","v":17},null,1,"00:06:16",17,null,null,null,null,null,null,{"$f":"CB5","v":17},null,1,"00:07:01",17,null,null,null,null,null,null,{"$f":"CM5","v":17},null,1,"00:07:54",17,null,null,null,null,null,null,{"$f":"CX5","v":17},null,1,"00:09:25",17,null,null,null,null,null,null,{"$f":"DI5","v":17},null,1,"00:10:20",17,null,null,null,null,null,null,{"$f":"DT5","v":17},null,1,"00:10:30",17,null,null,null,null,null,null,{"$f":"EE5","v":17},null,1,"00:10:40",17,null,null,null,null,null,null,{"$f":"EP5","v":17},null,1,"00:10:50",17,null,null,null,null,null,null,{"$f":"FA5","v":17}]
[2,"00:00:51",1,null,null,null,null,null,null,1,null,2,"00:01:36",1,null,null,null,null,null,null,1,null,2,"00:02:24",1,null,null,null,null,null,null,1,null,2,"00:03:19",9,null,null,null,null,null,null,9,null,2,"00:04:08",9,null,null,null,null,null,null,9,null,2,"00:05:04",9,null,null,null,null,null,null,9,null,2,"00:05:40",1,null,null,null,null,null,null,1,null,2,"00:06:26",1,null,null,null,null,null,null,1,null,2,"00:07:12",1,null,null,null,null,null,null,1,null,2,"00:08:04",1,null,null,null,null,null,null,1,null,2,"00:09:39",1,null,null,null,null,null,null,1,null,2,"00:10:36",1,null,null,null,null,null,null,1,null,2,"00:10:46",1,null,null,null,null,null,null,1,null,2,"00:10:56",1,null,null,null,null,null,null,1,null,2,"00:11:06",1,null,null,null,null,null,null,1]
[3,"00:00:53",14,null,null,null,null,null,null,14,null,3,"00:01:39",9,null,null,null,null,null,null,9,null,3,"00:02:29",9,null,null,null,null,null,null,9,null,3,"00:03:21",1,null,null,null,null,null,null,1,null,3,"00:04:08",1,null,null,null,null,null,null,1,null,3,"00:05:05",1,null,null,null,null,null,null,1,null,3,"00:05:41",9,null,null,null,null,null,null,9,null,3,"00:06:29",9,null,null,null,null,null,null,9,null,3,"00:07:16",9,null,null,null,null,null,null,9,null,3,"00:08:09",9,null,null,null,null,null,null,9,null,3,"00:09:45",9,null,null,null,null,null,null,9,null,3,"00:10:40",9,null,null,null,null,null,null,9,null,3,"00:10:50",9,null,null,null,null,null,null,9,null,3,"00:11:00",9,null,null,null,null,null,null,9,null,3,"00:11:10",9,null,null,null,null,null,null,9]
[4,"00:00:54",19,null,null,null,null,null,null,19,null,4,"00:01:40",14,null,null,null,null,null,null,14,null,4,"00:02:32",14,null,null,null,null,null,null,14,null,4,"00:03:24",14,null,null,null,null,null,null,14,null,4,"00:04:13",14,null,null,null,null,null,null,14,null,4,"00:05:13",14,null,null,null,null,null,null,14,null,4,"00:05:49",14,null,null,null,null,null,null,14,null,4,"00:06:36",14,null,null,null,null,null,null,14,null,4,"00:07:24",14,null,null,null,null,null,null,14,null,4,"00:08:20",14,null,null,null,null,null,null,14,null,4,"00:10:00",14,null,null,null,null,null,null,14,null,4,"00:10:57",2,null,null,null,null,null,null,2,null,4,"00:11:07",2,null,null,null,null,null,null,2,null,4,"00:11:17",2,null,null,null,null,null,null,2,null,4,"00:11:27",2,null,null,null,null,null,null,2]
[5,"00:00:54",3,null,null,null,null,null,null,3,null,5,"00:01:41",2,null,null,null,null,null,null,2,null,5,"00:02:35",20,null,null,null,null,null,null,20,null,5,"00:03:25",2,null,null,null,null,null,null,2,null,5,"00:04:13",2,null,null,null,null,null,null,2,null,5,"00:05:23",19,null,null,null,null,null,null,19,null,5,"00:06:03",2,null,null,null,null,null,null,2,null,5,"00:06:49",2,null,null,null,null,null,null,2,null,5,"00:07:36",2,null,null,null,null,null,null,2,null,5,"00:08:30",2,null,null,null,null,null,null,2,null,5,"00:10:03",2,null,null,null,null,null,null,2,null,5,"00:10:57",14,null,null,null,null,null,null,14,null,5,"00:11:07",14,null,null,null,null,null,null,14,null,5,"00:11:17",14,null,null,null,null,null,null,14,null,5,"00:11:27",14,null,null,null,null,null,null,14]
[6,"00:00:54",9,null,null,null,null,null,null,9,null,6,"00:01:42",19,null,null,null,null,null,null,19,null,6,"00:02:35",2,null,null,null,null,null,null,2,null,6,"00:03:33",19,null,null,null,null,null,null,19,null,6,"00:04:22",19,null,null,null,null,null,null,19,null,6,"00:05:26",16,null,null,null,null,null,null,16,null,6,"00:06:03",16,null,null,null,null,null,null,16,null,6,"00:06:52",16,null,null,null,null,null,null,16,null,6,"00:07:36",16,null,null,null,null,null,null,16,null,6,"00:08:40",20,null,null,null,null,null,null,20,null,6,"00:10:25",20,null,null,null,null,null,null,20,null,6,"00:11:23",20,null,null,null,null,null,null,20,null,6,"00:11:33",20,null,null,null,null,null,null,20,null,6,"00:11:43",20,null,null,null,null,null,null,20,null,6,"00:11:53",20,null,null,null,null,null,null,20]
[7,"00:00:55",2,null,null,null,null,null,null,2,null,7,"00:01:43",20,null,null,null,null,null,null,20,null,7,"00:02:38",19,null,null,null,null,null,null,19,null,7,"00:03:34",20,null,null,null,null,null,null,20,null,7,"00:04:26",20,null,null,null,null,null,null,20,null,7,"00:05:26",2,null,null,null,null,null,null,2,null,7,"00:06:06",20,null,null,null,null,null,null,20,null,7,"00:06:55",20,null,null,null,null,null,null,20,null,7,"00:07:44",20,null,null,null,null,null,null,20,null,7,"00:08:49",5,null,null,null,null,null,null,5,null,7,"00:10:35",16,null,null,null,null,null,null,16,null,7,"00:11:41",16,null,null,null,null,null,null,16,null,7,"00:11:51",16,null,null,null,null,null,null,16,null,7,"00:12:01",16,null,null,null,null,null,null,16,null,7,"00:12:11",16,null,null,null,null,null,null,16]
[8,"00:00:55",16,null,null,null,null,null,null,16,null,8,"00:01:45",3,null,null,null,null,null,null,3,null,8,"00:02:39",15,null,null,null,null,null,null,15,null,8,"00:03:35",15,null,null,null,null,null,null,15,null,8,"00:04:28",15,null,null,null,null,null,null,15,null,8,"00:05:27",20,null,null,null,null,null,null,20,null,8,"00:06:11",5,null,null,null,null,null,null,5,null,8,"00:07:03",5,null,null,null,null,null,null,5,null,8,"00:07:53",5,null,null,null,null,null,null,5,null,8,"00:08:58",19,null,null,null,null,null,null,19,null,8,"00:10:36",5,null,null,null,null,null,null,5,null,8,"00:11:47",5,null,null,null,null,null,null,5,null,8,"00:11:57",5,null,null,null,null,null,null,5,null,8,"00:12:07",5,null,null,null,null,null,null,5,null,8,"00:12:17",5,null,null,null,null,null,null,5]
[9,"00:00:55",12,null,null,null,null,null,null,12,null,9,"00:01:47",15,null,null,null,null,null,null,15,null,9,"00:02:42",5,null,null,null,null,null,null,5,null,9,"00:03:37",5,null,null,null,null,null,null,5,null,9,"00:04:29",5,null,null,null,null,null,null,5,null,9,"00:05:33",5,null,null,null,null,null,null,5,null,9,"00:06:14",19,null,null,null,null,null,null,19,null,9,"00:07:08",19,null,null,null,null,null,null,19,null,9,"00:08:00",19,null,null,null,null,null,null,19,null,9,"00:09:00",16,null,null,null,null,null,null,16,null,9,"00:10:41",19,null,null,null,null,null,null,19,null,9,"00:11:52",19,null,null,null,null,null,null,19,null,9,"00:12:02",19,null,null,null,null,null,null,19,null,9,"00:12:12",19,null,null,null,null,null,null,19,null,9,"00:12:22",19,null,null,null,null,null,null,19]
[10,"00:00:56",20,null,null,null,null,null,null,20,null,10,"00:01:48",5,null,null,null,null,null,null,5,null,10,"00:02:43",16,null,null,null,null,null,null,16,null,10,"00:03:37",16,null,null,null,null,null,null,16,null,10,"00:04:30",16,null,null,null,null,null,null,16,null,10,"00:05:39",12,null,null,null,null,null,null,12,null,10,"00:06:21",8,null,null,null,null,null,null,8,null,10,"00:07:13",15,null,null,null,null,null,null,15,null,10,"00:08:03",15,null,null,null,null,null,null,15,null,10,"00:09:01",15,null,null,null,null,null,null,15,null,10,"00:10:46",15,null,null,null,null,null,null,15,null,10,"00:11:57",15,null,null,null,null,null,null,15,null,10,"00:12:07",15,null,null,null,null,null,null,15,null,10,"00:12:17",15,null,null,null,null,null,null,15,null,10,"00:12:27",15,null,null,null,null,null,null,15]
[11,"00:00:57",10,null,null,null,null,null,null,10,null,11,"00:01:49",12,null,null,null,null,null,null,12,null,11,"00:02:43",12,null,null,null,null,null,null,12,null,11,"00:03:38",12,null,null,null,null,null,null,12,null,11,"00:04:31",12,null,null,null,null,null,null,12,null,11,"00:05:41",15,null,null,null,null,null,null,15,null,11,"00:06:21",12,null,null,null,null,null,null,12,null,11,"00:07:14",8,null,null,null,null,null,null,8,null,11,"00:08:08",8,null,null,null,null,null,null,8,null,11,"00:09:06",8,null,null,null,null,null,null,8,null,11,"00:10:55",3,null,null,null,null,null,null,3,null,11,"00:12:05",10,null,null,null,null,null,null,10,null,11,"00:12:15",10,null,null,null,null,null,null,10,null,11,"00:12:25",10,null,null,null,null,null,null,10,null,11,"00:12:35",10,null,null,null,null,null,null,10]
[12,"00:00:59",11,null,null,null,null,null,null,11,null,12,"00:01:51",10,null,null,null,null,null,null,10,null,12,"00:02:46",8,null,null,null,null,null,null,8,null,12,"00:03:45",8,null,null,null,null,null,null,8,null,12,"00:04:38",8,null,null,null,null,null,null,8,null,12,"00:05:41",8,null,null,null,null,null,null,8,null,12,"00:06:21",15,null,null,null,null,null,null,15,null,12,"00:07:22",3,null,null,null,null,null,null,3,null,12,"00:08:11",3,null,null,null,null,null,null,3,null,12,"00:09:09",3,null,null,null,null,null,null,3,null,12,"00:10:56",8,null,null,null,null,null,null,8,null,12,"00:12:06",3,null,null,null,null,null,null,3,null,12,"00:12:16",3,null,null,null,null,null,null,3,null,12,"00:12:26",3,null,null,null,null,null,null,3,null,12,"00:12:36",3,null,null,null,null,null,null,3]
[13,"00:00:59",15,null,null,null,null,null,null,15,null,13,"00:01:52",8,null,null,null,null,null,null,8,null,13,"00:02:52",3,null,null,null,null,null,null,3,null,13,"00:03:47",3,null,null,null,null,null,null,3,null,13,"00:04:40",3,null,null,null,null,null,null,3,null,13,"00:05:47",10,null,null,null,null,null,null,10,null,13,"00:06:30",11,null,null,null,null,null,null,11,null,13,"00:07:22",11,null,null,null,null,null,null,11,null,13,"00:08:17",10,null,null,null,null,null,null,10,null,13,"00:09:16",10,null,null,null,null,null,null,10,null,13,"00:11:05",10,null,null,null,null,null,null,10,null,13,"00:12:07",8,null,null,null,null,null,null,8,null,13,"00:12:17",8,null,null,null,null,null,null,8,null,13,"00:12:27",8,null,null,null,null,null,null,8,null,13,"00:12:37",8,null,null,null,null,null,null,8]
[14,"00:00:59",5,null,null,null,null,null,null,5,null,14,"00:01:55",16,null,null,null,null,null,null,16,null,14,"00:02:57",11,null,null,null,null,null,null,11,null,14,"00:03:52",11,null,null,null,null,null,null,11,null,14,"00:04:45",11,null,null,null,null,null,null,11,null,14,"00:05:50",11,null,null,null,null,null,null,11,null,14,"00:06:32",3,null,null,null,null,null,null,3,null,14,"00:07:23",10,null,null,null,null,null,null,10,null,14,"00:08:18",12,null,null,null,null,null,null,12,null,14,"00:09:37",12,null,null,null,null,null,null,12,null,14,"00:11:31",13,null,null,null,null,null,null,13,null,14,"00:12:28",13,null,null,null,null,null,null,13,null,14,"00:12:38",13,null,null,null,null,null,null,13,null,14,"00:12:48",13,null,null,null,null,null,null,13,null,14,"00:12:58",13,null,null,null,null,null,null,13]
[15,"00:01:04",6,null,null,null,null,null,null,6,null,15,"00:01:58",18,null,null,null,null,null,null,18,null,15,"00:02:58",10,null,null,null,null,null,null,10,null,15,"00:03:53",10,null,null,null,null,null,null,10,null,15,"00:04:46",10,null,null,null,null,null,null,10,null,15,"00:05:53",3,null,null,null,null,null,null,3,null,15,"00:06:33",10,null,null,null,null,null,null,10,null,15,"00:07:28",12,null,null,null,null,null,null,12,null,15,"00:08:29",11,null,null,null,null,null,null,11,null,15,"00:09:46",13,null,null,null,null,null,null,13,null,15,"00:11:32",12,null,null,null,null,null,null,12,null,15,"00:12:37",12,null,null,null,null,null,null,12,null,15,"00:12:47",12,null,null,null,null,null,null,12,null,15,"00:12:57",12,null,null,null,null,null,null,12,null,15,"00:13:07",12,null,null,null,null,null,null,12]
[16,"00:01:04",8,null,null,null,null,null,null,8,null,16,"00:02:03",11,null,null,null,null,null,null,11,null,16,"00:03:05",18,null,null,null,null,null,null,18,null,16,"00:04:08",18,null,null,null,null,null,null,18,null,16,"00:05:06",18,null,null,null,null,null,null,18,null,16,"00:06:10",6,null,null,null,null,null,null,6,null,16,"00:06:48",6,null,null,null,null,null,null,6,null,16,"00:07:42",6,null,null,null,null,null,null,6,null,16,"00:08:35",6,null,null,null,null,null,null,6,null,16,"00:09:58",11,null,null,null,null,null,null,11,null,16,"00:11:49",6,null,null,null,null,null,null,6,null,16,"00:12:50",6,null,null,null,null,null,null,6,null,16,"00:13:00",6,null,null,null,null,null,null,6,null,16,"00:13:10",6,null,null,null,null,null,null,6,null,16,"00:13:20",6,null,null,null,null,null,null,6]
[17,"00:01:07",18,null,null,null,null,null,null,18,null,17,"00:02:03",6,null,null,null,null,null,null,6,null,17,"00:03:05",6,null,null,null,null,null,null,6,null,17,"00:04:12",6,null,null,null,null,null,null,6,null,17,"00:05:09",6,null,null,null,null,null,null,6,null,17,"00:06:19",18,null,null,null,null,null,null,18,null,17,"00:06:59",18,null,null,null,null,null,null,18,null,17,"00:07:53",18,null,null,null,null,null,null,18,null,17,"00:08:46",18,null,null,null,null,null,null,18,null,17,"00:09:59",6,null,null,null,null,null,null,6,null,17,"00:11:58",18,null,null,null,null,null,null,18,null,17,"00:13:09",18,null,null,null,null,null,null,18,null,17,"00:13:19",18,null,null,null,null,null,null,18,null,17,"00:13:29",18,null,null,null,null,null,null,18,null,17,"00:13:39",18,null,null,null,null,null,null,18]
[18,"00:01:11",4,null,null,null,null,null,null,4,null,18,"00:02:06",4,null,null,null,null,null,null,4,null,18,"00:03:10",4,null,null,null,null,null,null,4,null,18,"00:04:16",13,null,null,null,null,null,null,13,null,18,"00:05:15",13,null,null,null,null,null,null,13,null,18,"00:06:22",13,null,null,null,null,null,null,13,null,18,"00:07:04",13,null,null,null,null,null,null,13,null,18,"00:07:58",13,null,null,null,null,null,null,13,null,18,"00:08:50",13,null,null,null,null,null,null,13,null,18,"00:10:07",4,null,null,null,null,null,null,4,null,18,"00:12:08",4,null,null,null,null,null,null,4,null,18,"00:13:14",4,null,null,null,null,null,null,4,null,18,"00:13:24",4,null,null,null,null,null,null,4,null,18,"00:13:34",4,null,null,null,null,null,null,4,null,18,"00:13:44",4,null,null,null,null,null,null,4]
[19,"00:01:24",13,null,null,null,null,null,null,13,null,19,"00:02:19",13,null,null,null,null,null,null,13,null,19,"00:03:12",13,null,null,null,null,null,null,13,null,19,"00:04:16",4,null,null,null,null,null,null,4,null,19,"00:05:20",4,null,null,null,null,null,null,4,null,19,"00:06:25",4,null,null,null,null,null,null,4,null,19,"00:07:06",4,null,null,null,null,null,null,4,null,19,"00:08:09",4,null,null,null,null,null,null,4,null,19,"00:09:05",4,null,null,null,null,null,null,4,null,19,"00:10:10",18,null,null,null,null,null,null,18,null,19,"00:12:09",11,null,null,null,null,null,null,11,null,19,"00:13:25",11,null,null,null,null,null,null,11,null,19,"00:13:35",11,null,null,null,null,null,null,11,null,19,"00:13:45",11,null,null,null,null,null,null,11,null,19,"00:13:55",11,null,null,null,null,null,null,11]
[20,"00:01:29",7,null,null,null,null,null,null,7,null,20,"00:02:29",7,null,null,null,null,null,null,7,null,20,"00:03:36",7,null,null,null,null,null,null,7,null,20,"00:04:48",7,null,null,null,null,null,null,7,null,20,"00:05:56",7,null,null,null,null,null,null,7,null,20,"00:07:09",7,null,null,null,null,null,null,7,null,20,"00:08:00",7,null,null,null,null,null,null,7,null,20,"00:08:59",7,null,null,null,null,null,null,7,null,20,"00:10:01",7,null,null,null,null,null,null,7,null,20,"00:11:25",7,null,null,null,null,null,null,7,null,20,"00:13:31",7,null,null,null,null,null,null,7,null,20,"00:14:42",7,null,null,null,null,null,null,7,null,20,"00:14:52",7,null,null,null,null,null,null,7,null,20,"00:15:02",7,null,null,null,null,null,null,7,null,20,"00:15:12",7,null,null,null,null,null,null,7]
[21,"00:01:34",21,null,null,null,null,null,null,21,null,21,"00:02:39",21,null,null,null,null,null,null,21,null,21,"00:03:51",22,null,null,null,null,null,null,22,null,21,"00:05:08",22,null,null,null,null,null,null,22,null,21,"00:06:21",22,null,null,null,null,null,null,22,null,21,"00:07:39",22,null,null,null,null,null,null,22,null,21,"00:08:35",22,null,null,null,null,null,null,22,null,21,"00:09:39",22,null,null,null,null,null,null,22,null,21,"00:10:46",21,null,null,null,null,null,null,21,null,21,"00:12:15",21,null,null,null,null,null,null,21,null,21,"00:14:26",22,null,null,null,null,null,null,22,null,21,"00:15:42",21,null,null,null,null,null,null,21,null,21,"00:15:52",21,null,null,null,null,null,null,21,null,21,"00:16:02",21,null,null,null,null,null,null,21,null,21,"00:16:12",21,null,null,null,null,null,null,21]
[null,null,22,null,null,null,null,null,null,22,null,null,null,22,null,null,null,null,null,null,22,null,null,null,23,null,null,null,null,null,null,23,null,null,null,23,null,null,null,null,null,null,23,null,null,null,23,null,null,null,null,null,null,23,null,null,null,23,null,null,null,null,null,null,23,null,null,null,23,null,null,null,null,null,null,23,null,null,null,23,null,null,null,null,null,null,23,null,null,null,22,null,null,null,null,null,null,22,null,null,null,22,null,null,null,null,null,null,22,null,null,null,23,null,null,null,null,null,null,23,null,null,null,22,null,null,null,null,null,null,22,null,null,null,22,null,null,null,null,null,null,22,null,null,null,22,null,null,null,null,null,null,22,null,null,null,22,null,null,null,null,null,null,22]
[null,null,23,null,null,null,null,null,null,23,null,null,null,23,null,null,null,null,null,null,23,null,null,null,24,null,null,null,null,null,null,24,null,null,null,24,null,null,null,null,null,null,24,null,null,null,24,null,null,null,null,null,null,24,null,null,null,24,null,null,null,null,null,null,24,null,null,null,24,null,null,null,null,null,null,24,null,null,null,24,null,null,null,null,null,null,24,null,null,null,23,null,null,null,null,null,null,23,null,null,null,23,null,null,null,null,null,null,23,null,null,null,24,null,null,null,null,null,null,24,null,null,null,23,null,null,null,null,null,null,23,null,null,null,23,null,null,null,null,null,null,23,null,null,null,23,null,null,null,null,null,null,23,null,null,null,23,null,null,null,null,null,null,23]
[null,null,24,null,null,null,null,null,null,24,null,null,null,24,null,null,null,null,null,null,24,null,null,null,21,null,null,null,null,null,null,21,null,null,null,21,null,null,null,null,null,null,21,null,null,null,21,null,null,null,null,null,null,21,null,null,null,21,null,null,null,null,null,null,21,null,null,null,21,null,null,null,null,null,null,21,null,null,null,21,null,null,null,null,null,null,21,null,null,null,24,null,null,null,null,null,null,24,null,null,null,24,null,null,null,null,null,null,24,null,null,null,21,null,null,null,null,null,null,21,null,null,null,24,null,null,null,null,null,null,24,null,null,null,24,null,null,null,null,null,null,24,null,null,null,24,null,null,null,null,null,null,24,null,null,null,24,null,null,null,null,null,null,24]
[null,null,25,null,null,null,null,null,null,25,null,null,null,25,null,null,null,null,null,null,25,null,null,null,25,null,null,null,null,null,null,25,null,null,null,25,null,null,null,null,null,null,25,null,null,null,25,null,null,null,null,null,null,25,null,null,null,25,null,null,null,null,null,null,25,null,null,null,25,null,null,null,null,null,null,25,null,null,null,25,null,null,null,null,null,null,25,null,null,null,25,null,null,null,null,null,null,25,null,null,null,25,null,null,null,null,null,null,25,null,null,null,25,null,null,null,null,null,null,25,null,null,null,25,null,null,null,null,null,null,25,null,null,null,25,null,null,null,null,null,null,25,null,null,null,25,null,null,null,null,null,null,25,null,null,null,25,null,null,null,null,null,null,25]
[null,null,26,null,null,null,null,null,null,26,null,null,null,26,null,null,null,null,null,null,26,null,null,null,26,null,null,null,null,null,null,26,null,null,null,26,null,null,null,null,null,null,26,null,null,null,26,null,null,null,null,null,null,26,null,null,null,26,null,null,null,null,null,null,26,null,null,null,26,null,null,null,null,null,null,26,null,null,null,26,null,null,null,null,null,null,26,null,null,null,26,null,null,null,null,null,null,26,null,null,null,26,null,null,null,null,null,null,26,null,null,null,26,null,null,null,null,null,null,26,null,null,null,26,null,null,null,null,null,null,26,null,null,null,26,null,null,null,null,null,null,26,null,null,null,26,null,null,null,null,null,null,26,null,null,null,26,null,null,null,null,null,null,26]
[null,null,27,null,null,null,null,null,null,27,null,null,null,27,null,null,null,null,null,null,27,null,null,null,27,null,null,null,null,null,null,27,null,null,null,27,null,null,null,null,null,null,27,null,null,null,27,null,null,null,null,null,null,27,null,null,null,27,null,null,null,null,null,null,27,null,null,null,27,null,null,null,null,null,null,27,null,null,null,27,null,null,null,null,null,null,27,null,null,null,27,null,null,null,null,null,null,27,null,null,null,27,null,null,null,null,null,null,27,null,null,null,27,null,null,null,null,null,null,27,null,null,null,27,null,null,null,null,null,null,27,null,null,null,27,null,null,null,null,null,null,27,null,null,null,27,null,null,null,null,null,null,27,null,null,null,27,null,null,null,null,null,null,27]
[null,null,28,null,null,null,null,null,null,28,null,null,null,28,null,null,null,null,null,null,28,null,null,null,28,null,null,null,null,null,null,28,null,null,null,28,null,null,null,null,null,null,28,null,null,null,28,null,null,null,null,null,null,28,null,null,null,28,null,null,null,null,null,null,28,null,null,null,28,null,null,null,null,null,null,28,null,null,null,28,null,null,null,null,null,null,28,null,null,null,28,null,null,null,null,null,null,28,null,null,null,28,null,null,null,null,null,null,28,null,null,null,28,null,null,null,null,null,null,28,null,null,null,28,null,null,null,null,null,null,28,null,null,null,28,null,null,null,null,null,null,28,null,null,null,28,null,null,null,null,null,null,28,null,null,null,28,null,null,null,null,null,null,28]
[null,null,29,null,null,null,null,null,null,29,null,null,null,29,null,null,null,null,null,null,29,null,null,null,29,null,null,null,null,null,null,29,null,null,null,29,null,null,null,null,null,null,29,null,null,null,29,null,null,null,null,null,null,29,null,null,null,29,null,null,null,null,null,null,29,null,null,null,29,null,null,null,null,null,null,29,null,null,null,29,null,null,null,null,null,null,29,null,null,null,29,null,null,null,null,null,null,29,null,null,null,29,null,null,null,null,null,null,29,null,null,null,29,null,null,null,null,null,null,29,null,null,null,29,null,null,null,null,null,null,29,null,null,null,29,null,null,null,null,null,null,29,null,null,null,29,null,null,null,null,null,null,29,null,null,null,29,null,null,null,null,null,null,29]
[null,null,30,null,null,null,null,null,null,30,null,null,null,30,null,null,null,null,null,null,30,null,null,null,30,null,null,null,null,null,null,30,null,null,null,30,null,null,null,null,null,null,30,null,null,null,30,null,null,null,null,null,null,30,null,null,null,30,null,null,null,null,null,null,30,null,null,null,30,null,null,null,null,null,null,30,null,null,null,30,null,null,null,null,null,null,30,null,null,null,30,null,null,null,null,null,null,30,null,null,null,30,null,null,null,null,null,null,30,null,null,null,30,null,null,null,null,null,null,30,null,null,null,30,null,null,null,null,null,null,30,null,null,null,30,null,null,null,null,null,null,30,null,null,null,30,null,null,null,null,null,null,30,null,null,null,30,null,null,null,null,null,null,30]
[null,null,31,null,null,null,null,null,null,{"$f":"C35","v":31},null,null,null,31,null,null,null,null,null,null,{"$f":"N35","v":31},null,null,null,31,null,null,null,null,null,null,{"$f":"Y35","v":31},null,null,null,31,null,null,null,null,null,null,{"$f":"AJ35","v":31},null,null,null,31,null,null,null,null,null,null,{"$f":"AU35","v":31},null,null,null,31,null,null,null,null,null,null,{"$f":"BF35","v":31},null,null,null,31,null,null,null,null,null,null,{"$f":"BQ35","v":31},null,null,null,31,null,null,null,null,null,null,{"$f":"CB35","v":31},null,null,null,31,null,null,null,null,null,null,{"$f":"CM35","v":31},null,null,null,31,null,null,null,null,null,null,{"$f":"CX35","v":31},null,null,null,31,null,null,null,null,null,null,{"$f":"DI35","v":31},null,null,null,31,null,null,null,null,null,null,{"$f":"DT35","v":31},null,null,null,31,null,null,null,null,null,null,{"$f":"EE35","v":31},null,null,null,31,null,null,null,null,null,null,{"$f":"EP35","v":31},null,null,null,31,null,null,null,null,null,null,{"$f":"FA35","v":31}]
[null,null,32,null,null,null,null,null,null,32,null,null,null,32,null,null,null,null,null,null,32,null,null,null,32,null,null,null,null,null,null,32,null,null,null,32,null,null,null,null,null,null,32,null,null,null,32,null,null,null,null,null,null,32,null,null,null,32,null,null,null,null,null,null,32,null,null,null,32,null,null,null,null,null,null,32,null,null,null,32,null,null,null,null,null,null,32,null,null,null,32,null,null,null,null,null,null,32,null,null,null,32,null,null,null,null,null,null,32,null,null,null,32,null,null,null,null,null,null,32,null,null,null,32,null,null,null,null,null,null,32,null,null,null,32,null,null,null,null,null,null,32,null,null,null,32,null,null,null,null,null,null,32,null,null,null,32,null,null,null,null,null,null,32]
[null,null,33,null,null,null,null,null,null,33,null,null,null,33,null,null,null,null,null,null,33,null,null,null,33,null,null,null,null,null,null,33,null,null,null,33,null,null,null,null,null,null,33,null,null,null,33,null,null,null,null,null,null,33,null,null,null,33,null,null,null,null,null,null,33,null,null,null,33,null,null,null,null,null,null,33,null,null,null,33,null,null,null,null,null,null,33,null,null,null,33,null,null,null,null,null,null,33,null,null,null,33,null,null,null,null,null,null,33,null,null,null,33,null,null,null,null,null,null,33,null,null,null,33,null,null,null,null,null,null,33,null,null,null,33,null,null,null,null,null,null,33,null,null,null,33,null,null,null,null,null,null,33,null,null,null,33,null,null,null,null,null,null,33]
[null,null,34,null,null,null,null,null,null,34,null,null,null,34,null,null,null,null,null,null,34,null,null,null,34,null,null,null,null,null,null,34,null,null,null,34,null,null,null,null,null,null,34,null,null,null,34,null,null,null,null,null,null,34,null,null,null,34,null,null,null,null,null,null,34,null,null,null,34,null,null,null,null,null,null,34,null,null,null,34,null,null,null,null,null,null,34,null,null,null,34,null,null,null,null,null,null,34,null,null,null,34,null,null,null,null,null,null,34,null,null,null,34,null,null,null,null,null,null,34,null,null,null,34,null,null,null,null,null,null,34,null,null,null,34,null,null,null,null,null,null,34,null,null,null,34,null,null,null,null,null,null,34,null,null,null,34,null,null,null,null,null,null,34]
[null,null,35,null,null,null,null,null,null,35,null,null,null,35,null,null,null,null,null,null,35,null,null,null,35,null,null,null,null,null,null,35,null,null,null,35,null,null,null,null,null,null,35,null,null,null,35,null,null,null,null,null,null,35,null,null,null,35,null,null,null,null,null,null,35,null,null,null,35,null,null,null,null,null,null,35,null,null,null,35,null,null,null,null,null,null,35,null,null,null,35,null,null,null,null,null,null,35,null,null,null,35,null,null,null,null,null,null,35,null,null,null,35,null,null,null,null,null,null,35,null,null,null,35,null,null,null,null,null,null,35,null,null,null,35,null,null,null,null,null,null,35,null,null,null,35,null,null,null,null,null,null,35,null,null,null,35,null,null,null,null,null,null,35]
[null,null,36,null,null,null,null,null,null,36,null,null,null,36,null,null,null,null,null,null,36,null,null,null,36,null,null,null,null,null,null,36,null,null,null,36,null,null,null,null,null,null,36,null,null,null,36,null,null,null,null,null,null,36,null,null,null,36,null,null,null,null,null,null,36,null,null,null,36,null,null,null,null,null,null,36,null,null,null,36,null,null,null,null,null,null,36,null,null,null,36,null,null,null,null,null,null,36,null,null,null,36,null,null,null,null,null,null,36,null,null,null,36,null,null,null,null,null,null,36,null,null,null,36,null,null,null,null,null,null,36,null,null,null,36,null,null,null,null,null,null,36,null,null,null,36,null,null,null,null,null,null,36,null,null,null,36,null,null,null,null,null,null,36]
[null,null,37,null,null,null,null,null,null,37,null,null,null,37,null,null,null,null,null,null,37,null,null,null,37,null,null,null,null,null,null,37,null,null,null,37,null,null,null,null,null,null,37,null,null,null,37,null,null,null,null,null,null,37,null,null,null,37,null,null,null,null,null,null,37,null,null,null,37,null,null,null,null,null,null,37,null,null,null,37,null,null,null,null,null,null,37,null,null,null,37,null,null,null,null,null,null,37,null,null,null,37,null,null,null,null,null,null,37,null,null,null,37,null,null,null,null,null,null,37,null,null,null,37,null,null,null,null,null,null,37,null,null,null,37,null,null,null,null,null,null,37,null,null,null,37,null,null,null,null,null,null,37,null,null,null,37,null,null,null,null,null,null,37]
[null,null,38,null,null,null,null,null,null,38,null,null,null,38,null,null,null,null,null,null,38,null,null,null,38,null,null,null,null,null,null,38,null,null,null,38,null,null,null,null,null,null,38,null,null,null,38,null,null,null,null,null,null,38,null,null,null,38,null,null,null,null,null,null,38,null,null,null,38,null,null,null,null,null,null,38,null,null,null,38,null,null,null,null,null,null,38,null,null,null,38,null,null,null,null,null,null,38,null,null,null,38,null,null,null,null,null,null,38,null,null,null,38,null,null,null,null,null,null,38,null,null,null,38,null,null,null,null,null,null,38,null,null,null,38,null,null,null,null,null,null,38,null,null,null,38,null,null,null,null,null,null,38,null,null,null,38,null,null,null,null,null,null,38]
[null,null,39,null,null,null,null,null,null,39,null,null,null,39,null,null,null,null,null,null,39,null,null,null,39,null,null,null,null,null,null,39,null,null,null,39,null,null,null,null,null,null,39,null,null,null,39,null,null,null,null,null,null,39,null,null,null,39,null,null,null,null,null,null,39,null,null,null,39,null,null,null,null,null,null,39,null,null,null,39,null,null,null,null,null,null,39,null,null,null,39,null,null,null,null,null,null,39,null,null,null,39,null,null,null,null,null,null,39,null,null,null,39,null,null,null,null,null,null,39,null,null,null,39,null,null,null,null,null,null,39,null,null,null,39,null,null,null,null,null,null,39,null,null,null,39,null,null,null,null,null,null,39,null,null,null,39,null,null,null,null,null,null,39]
[null,null,40,null,null,null,null,null,null,40,null,null,null,40,null,null,null,null,null,null,40,null,null,null,40,null,null,null,null,null,null,40,null,null,null,40,null,null,null,null,null,null,40,null,null,null,40,null,null,null,null,null,null,40,null,null,null,40,null,null,null,null,null,null,40,null,null,null,40,null,null,null,null,null,null,40,null,null,null,40,null,null,null,null,null,null,40,null,null,null,40,null,null,null,null,null,null,40,null,null,null,40,null,null,null,null,null,null,40,null,null,null,40,null,null,null,null,null,null,40,null,null,null,40,null,null,null,null,null,null,40,null,null,null,40,null,null,null,null,null,null,40,null,null,null,40,null,null,null,null,null,null,40,null,null,null,40,null,null,null,null,null,null,40]